{"text_format":"1","workbook":"xlsx","n_sheets":5,"sheets":["Instructions","Agencies","Object Codes","Cost per Day","Raw FY22 Spending Data"],"not_rendered":{"charts":0,"images":0,"macros":1,"external_links":0,"defined_names":3,"comments":0,"pivot_tables":1},"unopened":[],"bounds":{"document_bytes":16777216,"sheet_cells":100000,"rows_first":2000,"rows_last":500,"rows_between":2000,"halvings":0,"cell_chars":16384,"cell_head_chars":4096},"cells_cut":0,"cells_raw":0,"read":"whole","date_system":"1900"}

{"sheet":"Instructions","index":0,"n_rows":0,"n_cols":0,"rows_kept":0,"cut":false,"hidden":false,"merged":[]}

{"sheet":"Agencies","index":1,"n_rows":146,"n_cols":4,"rows_kept":146,"cut":false,"hidden":false,"merged":[]}
[]
[]
[]
[]
[]
[]
[]
["Agency Code","Mayoral Cabinet","Agency Name","Include?"]
["002","General Government","Mayoralty","Y"]
["003","General Government","Board of Elections","Y"]
["004","General Government","Campaign Finance Board","Y"]
["008","General Government","Office of the Actuary","Y"]
["010","General Government","President,Borough of Manhattan","Y"]
["011","General Government","President,Borough of the Bronx","Y"]
["012","General Government","President,Borough of Brooklyn","Y"]
["013","General Government","President,Borough of Queens","Y"]
["014","General Government","President,Borough of S.I.","Y"]
["015","General Government","Office of the Comptroller","Y"]
["017","Public Safety & Judicial","Dept. of Emergency Management","Y"]
["021","General Government","Office of Admin. Tax Appeals","Y"]
["025","General Government","Law Department","Y"]
["030","General Government","Department of City Planning","Y"]
["032","General Government","Department of Investigation","Y"]
["035","Libraries","NY Public Library - Research","Y"]
["037","Libraries","New York Public Library","Y"]
["038","Libraries","Brooklyn Public Library","Y"]
["039","Libraries","Queens Borough Public Library","Y"]
["040","Education","Department of Education","Y"]
["042","City University","City University","Y"]
["054","Public Safety & Judicial","Civilian Complaint Review Bd.","Y"]
["056","Public Safety & Judicial","Police Department","Y"]
["057","Public Safety & Judicial","Fire Department","Y"]
["063","General Government","Dept. of Veterans' Services","Y"]
["068","Social Services","Admin. for Children Services","Y"]
["069","Social Services","Department of Social Services","Y"]
["071","Social Services","Dept. of Homeless Services","Y"]
["072","Public Safety & Judicial","Department of Correction","Y"]
["073","Public Safety & Judicial","Board of Correction","Y"]
["095","Pensions","Citywide Pension Contributions","Y"]
["098","Miscellanous","Miscellaneous","Y"]
["099","Debt Service","Debt Service","Y"]
["101","General Government","Public Advocate","Y"]
["102","General Government","City Council","Y"]
["103","General Government","City Clerk","Y"]
["125","Social Services","Department for the Aging","Y"]
["126","Parks, Recreation and Cultural Activities","Department of Cultural Affairs","Y"]
["127","General Government","Financial Info. Serv. Agency","Y"]
["131","General Government","Office of Payroll Admin.","Y"]
["132","General Government","Independent Budget Office","Y"]
["133","General Government","Equal Employment Practices Com","Y"]
["134","General Government","Civil Service Commission","Y"]
["136","General Government","Landmarks Preservation Comm.","Y"]
["138","General Government","Districting Commission","Y"]
["156","Public Safety & Judicial","Taxi & Limousine Commission","Y"]
["226","General Government","Commission on Human Rights","Y"]
["260","General Government","Youth & Community Development","Y"]
["312","General Government","Conflicts of Interest Board","Y"]
["313","General Government","Office of Collective Barg.","Y"]
["341","General Government","Community Board","Y"]
["342","General Government","Community Board","Y"]
["343","General Government","Community Board","Y"]
["344","General Government","Community Board","Y"]
["345","General Government","Community Board","Y"]
["346","General Government","Community Board","Y"]
["347","General Government","Community Board","Y"]
["348","General Government","Community Board","Y"]
["349","General Government","Community Board","Y"]
["350","General Government","Community Board","Y"]
["351","General Government","Community Board","Y"]
["352","General Government","Community Board","Y"]
["381","General Government","Community Board","Y"]
["382","General Government","Community Board","Y"]
["383","General Government","Community Board","Y"]
["384","General Government","Community Board","Y"]
["385","General Government","Community Board","Y"]
["386","General Government","Community Board","Y"]
["387","General Government","Community Board","Y"]
["388","General Government","Community Board","Y"]
["389","General Government","Community Board","Y"]
["390","General Government","Community Board","Y"]
["391","General Government","Community Board","Y"]
["392","General Government","Community Board","Y"]
["431","General Government","Community Board","Y"]
["432","General Government","Community Board","Y"]
["433","General Government","Community Board","Y"]
["434","General Government","Community Board","Y"]
["435","General Government","Community Board","Y"]
["436","General Government","Community Board","Y"]
["437","General Government","Community Board","Y"]
["438","General Government","Community Board","Y"]
["439","General Government","Community Board","Y"]
["440","General Government","Community Board","Y"]
["441","General Government","Community Board","Y"]
["442","General Government","Community Board","Y"]
["443","General Government","Community Board","Y"]
["444","General Government","Community Board","Y"]
["471","General Government","Community Board","Y"]
["472","General Government","Community Board","Y"]
["473","General Government","Community Board","Y"]
["474","General Government","Community Board","Y"]
["475","General Government","Community Board","Y"]
["476","General Government","Community Board","Y"]
["477","General Government","Community Board","Y"]
["478","General Government","Community Board","Y"]
["479","General Government","Community Board","Y"]
["480","General Government","Community Board","Y"]
["481","General Government","Community Board","Y"]
["482","General Government","Community Board","Y"]
["483","General Government","Community Board","Y"]
["484","General Government","Community Board","Y"]
["485","General Government","Community Board","Y"]
["486","General Government","Community Board","Y"]
["487","General Government","Community Board","Y"]
["488","General Government","Community Board","Y"]
["491","General Government","Community Board","Y"]
["492","General Government","Community Board","Y"]
["493","General Government","Community Board","Y"]
["781","Public Safety & Judicial","Department of Probation","Y"]
["801","General Government","Dept. Small Business Services","Y"]
["806","Housing","Housing Preservation & Dev.","Y"]
["810","Housing","Department of Buildings","Y"]
["816","Health","Dept Health & Mental Hygiene","Y"]
["819","Health","Health and Hospitals Corp.","Y"]
["820","General Government","Office Admin Trials & Hearings","Y"]
["826","Environmental Protection","Dept of Environmental Prot.","Y"]
["827","Environmental Protection","Department of Sanitation","Y"]
["829","General Government","Business Integrity Commission","Y"]
["836","General Government","Department of Finance","Y"]
["841","Transportation Services","Department of Transportation","Y"]
["846","Parks, Recreation and Cultural Activities","Dept of Parks and Recreation","Y"]
["850","General Government","Dept. of Design & Construction","Y"]
["856","General Government","Dept of Citywide Admin Srvces","Y"]
["858","General Government","D.O.I.T.T.","Y"]
["860","General Government","Dept of Records & Info Serv.","Y"]
["866","General Government","Dept. Cnsmr. & Wkr. Prot.","Y"]
["901","Public Safety & Judicial","District Attorney - N.Y.","Y"]
["902","Public Safety & Judicial","District Attorney - Bronx","Y"]
["903","Public Safety & Judicial","District Attorney - Kings","Y"]
["904","Public Safety & Judicial","District Attorney - Queens","Y"]
["905","Public Safety & Judicial","District Attorney - Richmond","Y"]
["906","Public Safety & Judicial","Off. of Prosec. & Spec. Narc.","Y"]
["941","Public Safety & Judicial","Public Administrator - N.Y.","Y"]
["942","Public Safety & Judicial","Public Administrator - Bronx","Y"]
["943","Public Safety & Judicial","Public Administrator- Brooklyn","Y"]
["944","Public Safety & Judicial","Public Administrator - Queens","Y"]
["945","Public Safety & Judicial","Public Administrator -Richmond","Y"]

{"sheet":"Object Codes","index":2,"n_rows":510,"n_cols":9,"rows_kept":510,"cut":false,"hidden":false,"merged":[]}
[]
[]
[]
[]
[]
[]
[]
[]
[]
[]
[]
[]
[]
[]
[]
[]
["Object Class","Object Class Name","Object Class Description","Extended Description","Intra-City Status","Payroll Type","C/U/P/A","Category","Include"]
["001","FULL YEAR POSITIONS","Full Year Positions","FULL YEAR POSITIONS","Not Intra-City","Regular","C","PS - Regular","Y"]
["002","NEW POSITIONS","New Positions","NEW POSITIONS","Not Intra-City","Regular","C","PS - Regular","Y"]
["004","FULL TIME UNIFORMED PERSONNEL","Full-Time Uniformed Personnel","FULL TIME UNIFORMED PERSONNEL","Not Intra-City","Regular","U","PS - Regular","Y"]
["005","FULL TIME PEDAGOGICAL PRSONNEL","Full-Time Pedagogical Personnel","FULL TIME PEDAGOGICAL PRSONNEL","Not Intra-City","Regular","P","PS - Regular","Y"]
["009","REGULAR GROSS HOLDING CODE","Regular Gross Holding Code","REGULAR GROSS HOLDING CODE","Not Intra-City","Regular","C","PS - Regular","Y"]
["021","PART-TIME POSITIONS","Part-Time Positions","PART-TIME POSITIONS","Not Intra-City","Regular","C","PS - Regular","Y"]
["022","SEASONAL POSITIONS","Seasonal Positions","SEASONAL POSITIONS","Not Intra-City","Regular","C","PS - Regular","Y"]
["031","UNSALARIED","Hourly Positions","UNSALARIED","Not Intra-City","Regular","C","PS - Regular","Y"]
["032","DAILY","DAILY","DAILY","Not Intra-City","Regular","C","PS - Regular","Y"]
["033","WEEKLY","WEEKLY","WEEKLY","Not Intra-City","Regular","C","PS - Regular","Y"]
["034","MONTHLY","MONTHLY","MONTHLY","Not Intra-City","Regular","C","PS - Regular","Y"]
["035","CUSTODIAL ALLOWANCES","Custodial Allowances","CUSTODIAL ALLOWANCES","Not Intra-City","Regular","P","PS - Regular","Y"]
["039","HEALTH CLUB REIMBURSEMENT","Health Club Reimbursement","HEALTH CLUB REIMBURSEMENT","Not Intra-City","Additional Gross","A","PS - Additional Gross","Y"]
["040","EDUC AND LICENCE DIFFERENTIAL","Educational and License Differential","EDUC AND LICENCE DIFFERENTIAL","Not Intra-City","Additional Gross","A","PS - Additional Gross","Y"]
["041","ASSIGNMENT DIFFERENTIAL","Assignment Differential","ASSIGNMENT DIFFERENTIAL","Not Intra-City","Additional Gross","A","PS - Additional Gross","Y"]
["042","LONGEVITY DIFFERENTIAL","Longevity Differential","LONGEVITY DIFFERENTIAL","Not Intra-City","Additional Gross","A","PS - Additional Gross","Y"]
["043","SHIFT DIFFERENTIAL","Shift Differential","SHIFT DIFFERENTIAL","Not Intra-City","Additional Gross","A","PS - Additional Gross","Y"]
["044","SALARY DIFF IN EXCESS MAXIMUM","Salary Differential in Excess of Maximum","SALARY DIFF IN EXCESS MAXIMUM","Not Intra-City","Additional Gross","A","PS - Additional Gross","Y"]
["045","HOLIDAY PAY","Holiday Pay","HOLIDAY PAY","Not Intra-City","Additional Gross","A","PS - Additional Gross","Y"]
["046","TERMINAL LEAVE","Terminal Leave","TERMINAL LEAVE","Not Intra-City","Additional Gross","A","PS - Additional Gross","Y"]
["047","OVERTIME","Overtime","OVERTIME","Not Intra-City","Additional Gross","C","PS - Additional Gross","Y"]
["048","OVERTIME UNIFORM FORCES","Overtime-Uniformed Forces","OVERTIME UNIFORM FORCES","Not Intra-City","Additional Gross","U","PS - Additional Gross","Y"]
["049","BACKPAY - PRIOR YEARS","Backpay","BACKPAY - PRIOR YEARS","Not Intra-City","Additional Gross","A","PS - Additional Gross","Y"]
["050","PMTS TO BENEFIC DECSD EMPLOYES","Payments to Beneficiaries of Deceased Employees","PMTS TO BENEFIC DECSD EMPLOYES","Not Intra-City","Additional Gross","A","PS - Additional Gross","Y"]
["051","SALARY ADJUSTMENTS","Salary Adjustments","SALARY ADJUSTMENTS","Not Intra-City","Additional Gross","A","PS - Additional Gross","Y"]
["052","SEVERANCE PAYMENT","Severance Payments","SEVERANCE PAYMENT","Not Intra-City","Additional Gross","A","PS - Additional Gross","Y"]
["053","AMOUNT TO BE SCHEDULED-PS","Other Than Salary Adjustments","AMOUNT TO BE SCHEDULED-PS","Not Intra-City","Additional Gross","A","PS - Additional Gross","Y"]
["054","SALARY REVIEW ADJUSTMENTS","Salary Review Adjustments","SALARY REVIEW ADJUSTMENTS","Not Intra-City","Additional Gross","A","PS - Additional Gross","Y"]
["055","SALARY ADJUSTMENTS LABOR RSRVE","Salary Adjustments-Labor Reserve","SALARY ADJUSTMENTS LABOR RSRVE","Not Intra-City","Additional Gross","A","PS - Additional Gross","Y"]
["056","EARLY RET.TERMINAL LEAVE......","Early Retirement -Terminal Leave","EARLY RET.TERMINAL LEAVE......","Not Intra-City","Additional Gross","A","PS - Additional Gross","Y"]
["057","BONUS PAYMENTS","Bonus Payments","BONUS PAYMENTS","Not Intra-City","Additional Gross","A","PS - Additional Gross","Y"]
["058","NON-PENSIONABLE-PREPARATION PD","Non-Pensionable Preparation Period","NON-PENSIONABLE-PREPARATION PD","Not Intra-City","Additional Gross","A","PS - Additional Gross","Y"]
["059","PAYMENT OF DEFERRED WAGES","Payment of Deferred Wages","PAYMENT OF DEFERRED WAGES","Not Intra-City","Additional Gross","A","PS - Additional Gross","Y"]
["060","INT ON DEF WAGES/LATE WAGE ADJ","Interest on Deferred Wages / Late Wage Adjustments","INT ON DEF WAGES/LATE WAGE ADJ","Not Intra-City","Additional Gross","A","PS - Additional Gross","Y"]
["061","SUPPER MONEY","Supper Money","SUPPER MONEY","Not Intra-City","Additional Gross","A","PS - Additional Gross","Y"]
["062","HEALTH INSURANCE PLAN CITY EMP","Health Insurance Plan City Employees","HEALTH INSURANCE PLAN CITY EMP","Not Intra-City","Other","A","PS - Other","Y"]
["063","DISABILITY BENEFITS INSURANCE","Disability Benefits Insurance","DISABILITY BENEFITS INSURANCE","Not Intra-City","Other","A","PS - Other","Y"]
["064","ALLOWANCE FOR UNIFORMS","Allowance for Uniforms","ALLOWANCE FOR UNIFORMS","Not Intra-City","Other","A","PS - Other","Y"]
["065","SOCIAL SECURITY CONTRIBUTIONS","Social Security Contributions","SOCIAL SECURITY CONTRIBUTIONS","Not Intra-City","Other","A","PS - Other","Y"]
["066","UNEMPLOYMENT INSURANCE","Unemployment Insurance","UNEMPLOYMENT INSURANCE","Not Intra-City","Other","A","PS - Other","Y"]
["067","SUPPLEMENTAL EMPLOYEE WELF BEN","Supplemental Employee Welfare Benefits","SUPPLEMENTAL EMPLOYEE WELF BEN","Not Intra-City","Other","A","PS - Other","Y"]
["068","FACULTY WELFARE BENEFITS","Faculty Welfare Benefits","FACULTY WELFARE BENEFITS","Not Intra-City","Other","P","PS - Other","Y"]
["069","MUNI EMPLOYEES LEGAL SERVICES","MUNI EMPLOYEES LEGAL SERVICES","MUNI EMPLOYEES LEGAL SERVICES","Not Intra-City","Other","A","PS - Other","Y"]
["070","ACTUARIAL PENSION COSTS","Actuarial Pension Costs","ACTUARIAL PENSION COSTS","Not Intra-City","Other","A","PS - Other","Y"]
["071","NON-ACTUARIAL PENSION COSTS","Non-Actuarial Pension Costs","NON-ACTUARIAL PENSION COSTS","Not Intra-City","Other","A","PS - Other","Y"]
["072","CONTINGENT RESERVE FUND","New York City Employees' Retirement System Contingent Reserve Fund","CONTINGENT RESERVE FUND","Not Intra-City","Other","A","PS - Other","Y"]
["073","VOLUNTARY VACATION WORK","Voluntary Vacation Work","VOLUNTARY VACATION WORK","Not Intra-City","Additional Gross","A","PS - Additional Gross","Y"]
["074","EMPLOYEES NOT INC PENSION FUND","EMPLOYEES NOT INC PENSION FUND","EMPLOYEES NOT INC PENSION FUND","Not Intra-City","Other","A","PS - Other","Y"]
["075","SUPPLEMENTAL PENSION FUND","Supplemental Pension Fund","SUPPLEMENTAL PENSION FUND","Not Intra-City","Other","A","PS - Other","Y"]
["076","CULTURAL INSTITUT PENSION FUND","Cultural Institutions Pension Fund","CULTURAL INSTITUT PENSION FUND","Not Intra-City","Other","A","PS - Other","Y"]
["077","TEACH RET SYS PENS FND RES #2","Teachers' Retirement System Pension Fund Reserve No. 2","TEACH RET SYS PENS FND RES #2","Not Intra-City","Other","P","PS - Other","Y"]
["078","TEACH RET SYS SUPPLEMENTAL PEN","TEACH RET SYS SUPPLEMENTAL PEN","TEACH RET SYS SUPPLEMENTAL PEN","Not Intra-City","Other","P","PS - Other","Y"]
["079","TEACH RET SYS CONTINGNT RES SY","Teachers' Retirement System Contingent Reserve Fund","TEACH RET SYS CONTINGNT RES SY","Not Intra-City","Other","P","PS - Other","Y"]
["080","TIAA-COLLEGE RET EQUITY FUND","Teachers' Insurance Annuity Association - College Retirement Equities Fund","TIAA-COLLEGE RET EQUITY FUND","Not Intra-City","Other","P","PS - Other","Y"]
["081","ANNUITY CONTRIBUTIONS","Contribution Annuity","ANNUITY CONTRIBUTIONS","Not Intra-City","Other","A","PS - Other","Y"]
["082","POLICE ACTUARIAL PENSION FUND","Police Actuarial Pension Fund","POLICE ACTUARIAL PENSION FUND","Not Intra-City","Other","U","PS - Other","Y"]
["083","FIRE ACTUARIAL PENSION FUND","Fire Actuarial Pension Fund","FIRE ACTUARIAL PENSION FUND","Not Intra-City","Other","U","PS - Other","Y"]
["084","BOARD OF EDUCATION RETIRE. SYS","Department of Education Retirement System","BOARD OF EDUCATION RETIRE. SYS","Not Intra-City","Other","P","PS - Other","Y"]
["085","AWARDS/EXPENSES-WORKMENS COMP","Awards / Expenses - Workers' Compensation","AWARDS/EXPENSES-WORKMENS COMP","Not Intra-City","Other","A","PS - Other","Y"]
["086","WORKMAN'S COMPENSATION OTHER","Workers' Compensation - Other","WORKMAN'S COMPENSATION OTHER","Not Intra-City","Other","A","PS - Other","Y"]
["087","FRINGE BENEFITS-CETA","Fringe Benefits - CETA","FRINGE BENEFITS-CETA","Not Intra-City","Other","A","PS - Other","Y"]
["088","FRINGE BENEFITS-C.D.","FRINGE BENEFITS-C.D.","FRINGE BENEFITS-C.D.","Not Intra-City","Other","A","PS - Other","Y"]
["089","FRINGE BENEFITS-OTHER","Fringe Benefits - Other","FRINGE BENEFITS-OTHER","Not Intra-City","Other","A","PS - Other","Y"]
["090","UNRECOVERABLE PAYROLL EXPENSE","Unrecoverable Payroll Expense","UNRECOVERABLE PAYROLL EXPENSE","Not Intra-City","Additional Gross","A","PS - Additional Gross","Y"]
["091","PARAPROFESSIONAL PER SESSION","Payments Per Session","PARAPROFESSIONAL PER SESSION","Not Intra-City","Additional Gross","A","PS - Additional Gross","Y"]
["094","ADDITIONAL PENSION ACCRUAL","Additional Pension Accrual","ADDITIONAL PENSION ACCRUAL","Not Intra-City","Other","A","PS - Other","Y"]
["095","PAYROLL REFUND","Payroll Refunds","PAYROLL REFUND","Not Intra-City","Additional Gross","A","PS - Additional Gross","Y"]
["099","ADD GROSS(& FRINGES) HOLD CODE","Additional Gross (& Fringes) Holding Code","ADD GROSS(& FRINGES) HOLD CODE","Not Intra-City","Additional Gross","A","PS - Additional Gross","Y"]
["100","SUPPLIES + MATERIALS - GENERAL","Supplies and Materials - General","Charge to this account all supplies not specifically classified in any of the other supply accounts.","Not Intra-City","Not Applicable","A","Supplies & Materials","Y"]
["101","PRINTING SUPPLIES","Printing Supplies","Charge to this account all printing and printing related costs that are not contractual in nature.","Not Intra-City","Not Applicable","A","Supplies & Materials","Y"]
["102","TESTING MATERIALS - BOE ONLY","Testing Materials - Department of Education Only","TESTING MATERIALS - BOE ONLY","Not Intra-City","Not Applicable","P","Supplies & Materials","Y"]
["105","AUTOMOTIVE SUPPLIES & MATERIAL","Automotive Supplies and Materials","Charge to this account all expenditures for items and substances solely or primarily used in connection with the operation and maintenance of automotive equipment. Examples of automotive supplies includes tires, spark plugs, filters, motor oil, etc.","Not Intra-City","Not Applicable","A","Supplies & Materials","Y"]
["106","MOTOR VEHICLE FUEL","Motor Vehicle Fuel","Charge to this account all gasoline or alternative fuels related to operation of a motor vehicle.  Included in this account are costs associated with the operation of automobiles; motorcycles, scooters, helicopters, trucks, buses, boats, and other vehicles that are motor propelled.","Not Intra-City","Not Applicable","A","Supplies & Materials","Y"]
["107","MEDICAL,SURGICAL & LAB SUPPLY","Medical, Surgical and Laboratory Supplies","Charge to this account the cost of items the nature of which indicates that they are solely or primarily used in rendering medical, hospital, surgical, laboratory and veterinary services.","Not Intra-City","Not Applicable","A","Supplies & Materials","Y"]
["109","FUEL OIL","Fuel Oil","Charge to this account the cost of fuel oils which are consumed in the ordinary heating, lighting, cooking, and power operations in buildings, etc., excluding natural gas and electric services purchased from utilities (see object 423 Heat, Light, and Power).","Not Intra-City","Not Applicable","A","Supplies & Materials","Y"]
["10E","AUTOMOTIVE SUPPLIES & MATERIAL","AUTOMOTIVE SUPPLIES & MATERIAL","AUTOMOTIVE SUPPLIES & MATERIAL","Intra-City","Not Applicable","A","Supplies & Materials","Y"]
["10F","MOTOR VEHICLE FUEL","MOTOR VEHICLE FUEL","MOTOR VEHICLE FUEL","Intra-City","Not Applicable","A","Supplies & Materials","Y"]
["10G","MEDICAL,SURGICAL & LAB SUPPLY","MEDICAL,SURGICAL & LAB SUPPLY","MEDICAL,SURGICAL & LAB SUPPLY","Intra-City","Not Applicable","A","Supplies & Materials","Y"]
["10I","FUEL","FUEL","FUEL","Intra-City","Not Applicable","A","Supplies & Materials","Y"]
["10X","SUPPLIES + MATERIALS - GENERAL","SUPPLIES + MATERIALS - GENERAL","SUPPLIES + MATERIALS - GENERAL","Intra-City","Not Applicable","A","Supplies & Materials","Y"]
["110","FOOD & FORAGE SUPPLIES","Food and Forage Supplies","Charge to this account the cost of all provisions used for human and animal consumption.","Not Intra-City","Not Applicable","A","Supplies & Materials","Y"]
["111","AUDIO VISUAL SUPPLIES-BOE ONLY","Audio Visual Supplies-BOE ONLY","AUDIO VISUAL SUPPLIES-BOE ONLY","Not Intra-City","Not Applicable","P","Supplies & Materials","Y"]
["117","POSTAGE","Postage","Charge to this account payments for postal services in various forms, i.e. stamps, metered postage, postal cards, stamped value of stamped envelopes, registered mail, special delivery, overnight mail, and parcel post.","Not Intra-City","Not Applicable","A","Supplies & Materials","Y"]
["11X","FOOD & FORAGE SUPPLIES","FOOD & FORAGE SUPPLIES","FOOD & FORAGE SUPPLIES","Intra-City","Not Applicable","A","Supplies & Materials","Y"]
["130","INSTRUCTIONL SUPPLIES-BOE ONLY","Instructional Supplies","Charge to this account all supplies used in the direct instruction of children. This code includes, but is not limited to, such items as classroom supplies (chalk, crayons, maps, etc.), and other general instructional supplies (games, athletic supplies, library supplies not otherwise charged to object 338 and home economics supplies not otherwise charged to object 110).","Not Intra-City","Not Applicable","P","Supplies & Materials","Y"]
["132","EXPENSES RELATIVE TO COMMISRY","Expenditures Relative to Commissaries","Charge to this account purchases of supplies for the commissaries in the various City prison and shelter facilities.","Not Intra-City","Not Applicable","U","Supplies & Materials","Y"]
["133","EXPENSE RELA TO MANU INDUSTRY","Expenditures Relative to Manufacturing Industries","Charge to this account the purchase of raw materials which will be used in the manufacture of various goods by City prison inmates.","Not Intra-City","Not Applicable","U","Supplies & Materials","Y"]
["169","MAINTENANCE SUPPLIES","Maintenance Supplies","Charge to this account materials used in repair, replacement and maintenance of heating, plumbing and refrigeration systems; small tools and machine parts; lumber, glass and paint for building maintenance; electrical supplies and other items such as unlubricated metal sheets and bars.","Not Intra-City","Not Applicable","A","Supplies & Materials","Y"]
["170","CLEANING SUPPLIES","Cleaning Supplies","Charge to this account the purchase of custodial supplies (i.e., cleaning agents, waxes, polishes, sealers, sweeping compounds, sponges, disinfectants, mops, brooms, etc) .","Not Intra-City","Not Applicable","A","Supplies & Materials","Y"]
["182","MILK - BOE ONLY","MILK - BOE ONLY","MILK - BOE ONLY","Not Intra-City","Not Applicable","P","Supplies & Materials","Y"]
["187","KITCHEN UTENSILS","KITCHEN UTENSILS","KITCHEN UTENSILS","Not Intra-City","Not Applicable","A","Supplies & Materials","Y"]
["199","DATA PROCESSING SUPPLIES","Data Processing Supplies","Charge to this account all supplies associated with the operation of personal computers, printers, and data processing equipment (i.e., computer diskettes, computer books and manuals, printing ribbons, computer software, etc.).","Not Intra-City","Not Applicable","A","Supplies & Materials","Y"]
["19I","DATA PROCESSING SUPPLIES","DATA PROCESSING SUPPLIES","DATA PROCESSING SUPPLIES","Intra-City","Not Applicable","A","Supplies & Materials","Y"]
["201","DESIGN-CONSULTANT-LAND","DESIGN-CONSULTANT-LAND","DESIGN-CONSULTANT-LAND","Not Intra-City","Not Applicable",null,"Capital","Y"]
["202","LAND ACQUISITION","LAND ACQUISITION","LAND ACQUISITION","Not Intra-City","Not Applicable",null,"Capital","Y"]
["203","DEMOLITION","DEMOLITION","DEMOLITION","Not Intra-City","Not Applicable",null,"Capital","Y"]
["204","RELOCATION EXPENSES","RELOCATION EXPENSES","RELOCATION EXPENSES","Not Intra-City","Not Applicable",null,"Capital","Y"]
["205","RELOCATION PMTS TO INDIVIDUALS","RELOCATION PMTS TO INDIVIDUALS","RELOCATION PMTS TO INDIVIDUALS","Not Intra-City","Not Applicable",null,"Capital","Y"]
["210","DESIGN-CONSULTANT-BUILDINGS","DESIGN-CONSULTANT-BUILDINGS","DESIGN-CONSULTANT-BUILDINGS","Not Intra-City","Not Applicable",null,"Capital","Y"]
["211","CONSTRUCTION-BUILDINGS","CONSTRUCTION-BUILDINGS","CONSTRUCTION-BUILDINGS","Not Intra-City","Not Applicable",null,"Capital","Y"]
["212","BUILDING ACQUISITION","BUILDING ACQUISITION","BUILDING ACQUISITION","Not Intra-City","Not Applicable",null,"Capital","Y"]
["213","DESIGN-IFA-BUILDINGS","DESIGN-IFA-BUILDINGS","DESIGN-IFA-BUILDINGS","Not Intra-City","Not Applicable",null,"Capital","Y"]
["220","CAPITAL PURCHASED EQUIPMENT","CAPITAL PURCHASED EQUIPMENT","CAPITAL PURCHASED EQUIPMENT","Not Intra-City","Not Applicable",null,"Capital","Y"]
["221","CAPITAL ONLY FUNDED SBITA","CAPITAL ONLY FUNDED SUBSCRIPTION-BASED INFORMATION TECHNOLOGY ARRANGEMENT","This code is only to be used for Subscription-Based Information Technology Arrangement (SBITA), as defined by the Governmental Accounting Standards Board (GASB), which have been solely funded by Capital.","Not Intra-City","Not Applicable",null,"Capital","Y"]
["222","SPLIT FUNDED SBITA","SPLIT FUNDED SUBSCRIPTION-BASED INFORMATION TECHNOLOGY ARRANGEMENT","This code is only to be used for Subscription-Based Information Technology Arrangement (SBITA), as defined by the Governmental Accounting Standards Board (GASB), which have been split funded by both the Capital and Expense.","Not Intra-City","Not Applicable",null,"Capital","Y"]
["230","DESIGN-CONSULTANT-IOTB","DESIGN-CONSULTANT-IOTB","DESIGN-CONSULTANT-IOTB","Not Intra-City","Not Applicable",null,"Capital","Y"]
["231","IOTB SITE ACQUISITION","IOTB SITE ACQUISITION","IOTB SITE ACQUISITION","Not Intra-City","Not Applicable",null,"Capital","Y"]
["232","IOTB CONSTRUCTION","IOTB CONSTRUCTION","IOTB CONSTRUCTION","Not Intra-City","Not Applicable",null,"Capital","Y"]
["233","DESIGN-IFA-IOTB","DESIGN-IFA-IOTB","DESIGN-IFA-IOTB","Not Intra-City","Not Applicable",null,"Capital","Y"]
["240","DESIGN-CONSULTANT-LSEHOLD IMP.","DESIGN-CONSULTANT-LSEHOLD IMP.","DESIGN-CONSULTANT-LSEHOLD IMP.","Not Intra-City","Not Applicable",null,"Capital","Y"]
["241","LEASEHOLD IMP CONSTRUCTION","LEASEHOLD IMP CONSTRUCTION","LEASEHOLD IMP CONSTRUCTION","Not Intra-City","Not Applicable",null,"Capital","Y"]
["243","DESIGN-IFA-LEASEHOLD IMP.","DESIGN-IFA-LEASEHOLD IMP.","DESIGN-IFA-LEASEHOLD IMP.","Not Intra-City","Not Applicable",null,"Capital","Y"]
["250","CAPITAL-AMTS TO BE SCHEDULED","CAPITAL-AMTS TO BE SCHEDULED","CAPITAL-AMTS TO BE SCHEDULED","Not Intra-City","Not Applicable",null,"Capital","Y"]
["253","LEGAL SERVICES-IFA","LEGAL SERVICES-IFA","LEGAL SERVICES-IFA","Not Intra-City","Not Applicable",null,"Capital","Y"]
["260","ADMINISTRATIVE EXPENSES","ADMINISTRATIVE EXPENSES","ADMINISTRATIVE EXPENSES","Not Intra-City","Not Applicable",null,"Capital","Y"]
["261","ARCH/ENGINEERING FEES","ARCH/ENGINEERING FEES","ARCH/ENGINEERING FEES","Not Intra-City","Not Applicable",null,"Capital","Y"]
["262","OTHER ARCH/ENG FEES","OTHER ARCH/ENG FEES","OTHER ARCH/ENG FEES","Not Intra-City","Not Applicable",null,"Capital","Y"]
["263","PROJECT INSPECTION FEES","PROJECT INSPECTION FEES","PROJECT INSPECTION FEES","Not Intra-City","Not Applicable",null,"Capital","Y"]
["264","INCIDENTAL COSTS","INCIDENTAL COSTS","INCIDENTAL COSTS","Not Intra-City","Not Applicable",null,"Capital","Y"]
["265","CONSTRUCTION SECURITY SERVICES","CONSTRUCTION SECURITY SERVICES","CONSTRUCTION SECURITY SERVICES","Not Intra-City","Not Applicable",null,"Capital","Y"]
["270","LOSS ON SALE OF FIXED ASSETS","LOSS ON SALE OF FIXED ASSETS","LOSS ON SALE OF FIXED ASSETS","Not Intra-City","Not Applicable",null,"Capital","Y"]
["271","DESIGN-BUILD: BUILDINGS","DESIGN-BUILD: BUILDINGS (ONLY)","AUTHORIZED DESIGN-BUILD PROCUREMENTS: BUILDING","Not Intra-City","Not Applicable",null,"Capital","Y"]
["273","DESIGN-BUILD-IFA: BUILDINGS","DESIGN-BUILD-IFA: BUILDINGS (ONLY)","AUTHORIZED DESIGN-BUILD PROCUREMENTS-IFA: BUILDINGS","Not Intra-City","Not Applicable",null,"Capital","Y"]
["281","DESIGN-BUILD: INFRASTRUCTURE","DESIGN-BUILD: INFRASTRUCTURE (ONLY)","AUTHORIZED DESIGN-BUILD PROCUREMENTS: INFRASTRUCTURE","Not Intra-City","Not Applicable",null,"Capital","Y"]
["283","DESIGN-BUILD-IFA: INFRASTRUCTURE","DESIGN-BUILD-IFA: INFRASTRUCTURE (ONLY)","AUTHORIZED DESIGN-BUILD PROCUREMENTS-IFA: INFRASTRUCTURE","Not Intra-City","Not Applicable",null,"Capital","Y"]
["298","CAPITAL FUND BALANCE OFFSET","CAPITAL FUND BALANCE OFFSET","CAPITAL FUND BALANCE OFFSET","Not Intra-City","Not Applicable",null,"Capital","Y"]
["299","AMTS CONVERTED FM PRIOR SYSTEM","AMTS CONVERTED FM PRIOR SYSTEM","AMTS CONVERTED FM PRIOR SYSTEM","Not Intra-City","Not Applicable",null,"Capital","Y"]
["300","EQUIPMENT GENERAL","Equipment - General","Charge to this account all equipment not specifically classified in any of the other equipment accounts.","Not Intra-City","Not Applicable","A","Equipment","Y"]
["302","TELECOMMUNICATIONS EQUIPMENT","Telecommunications Equipment","Charge to this account the cost of purchasing telecommunications equipment; including telephones, answering machines, paging devices, fax machines, etc.","Not Intra-City","Not Applicable","A","Equipment","Y"]
["304","MOTOR VEHICLE EQUIPMENT","Motor Vehicle Equipment","Charge to this account the cost of engines, bodies and chassis when purchased as complete individual units, whether used for replacement or assembly purposes. Such items may be distinguished from purchases of material and parts because they comprise the major individual cost of the completed machine.","Not Intra-City","Not Applicable","A","Equipment","Y"]
["305","MOTOR VEHICLES","Motor Vehicles","Charge to this account the cost of all standard make and specially designed automobiles, buses, trucks and motorcycles, etc. of a self propelling nature.","Not Intra-City","Not Applicable","A","Equipment","Y"]
["307","MEDICAL,SURGICAL & LAB EQUIP","Medical, Surgical and Laboratory Equipment","Charge to this account the cost of machinery, apparatus, surgical instruments and appliances, and other equipment especially designed for use by professional medical persons in the treatment of patients or laboratory work at medical institutions or laboratories.","Not Intra-City","Not Applicable","A","Equipment","Y"]
["30E","MOTOR VEHICLES","MOTOR VEHICLES","MOTOR VEHICLES","Intra-City","Not Applicable","A","Equipment","Y"]
["312","IMPROVEMENTS OTHER THAN BLDGS","IMPROVEMENTS OTHER THAN BLDGS","Charge to this account the cost of improvements made to property other than buildings.","Not Intra-City","Not Applicable","A","Equipment","Y"]
["314","OFFICE FURITURE","Office Furniture","Charge to this account the cost of all metal and wood office furniture (i.e.,desks, chairs, tables, bookcases, file cabinets).","Not Intra-City","Not Applicable","A","Equipment","Y"]
["315","OFFICE EQUIPMENT","Office Equipment","Charge to this account the cost of office equipment (i.e., typewriters, calculators, fans, lamps, pencil sharpeners).","Not Intra-City","Not Applicable","A","Equipment","Y"]
["319","SECURITY EQUIPMENT","Security Equipment","Charge to this account all payments associated with the purchase or rental of security equipment, guard dogs, burglar and fire alarms and armored cars.","Not Intra-City","Not Applicable","A","Equipment","Y"]
["31I","SECURITY EQUIPMENT","SECURITY EQUIPMENT","SECURITY EQUIPMENT","Intra-City","Not Applicable","A","Equipment","Y"]
["330","INSTRUCTIONL EQUIPMNT-BOE ONLY","Instructional Equipment","Charge to this account the purchase of classroom and instructional furniture, audiovisual equipment, and athletic equipment.","Not Intra-City","Not Applicable","P","Equipment","Y"]
["332","PURCH DATA PROCESSING EQUIPT","Purchases of Data Processing Equipment","Charge to this account the cost of personal computers, video display terminals, printers, etc.","Not Intra-City","Not Applicable","A","Equipment","Y"]
["337","BOOKS-OTHER","Books - Other","Charge to this account the purchase of all textbooks and workbooks; also, periodicals, magazines, subscriptions, newspapers, etc. for other than library purposes.","Not Intra-City","Not Applicable","A","Equipment","Y"]
["338","LIBRARY BOOKS","Library Books","Charge to this account the purchase of all books, periodicals, magazines, etc. which are used for library purposes.","Not Intra-City","Not Applicable","A","Equipment","Y"]
["369","FOOD SERVICE EQUIPMENT","Food Service Equipment","Charge to this account the purchase of refrigerators, freezers, stoves, dishwashing equipment, food mixers, etc.","Not Intra-City","Not Applicable","A","Equipment","Y"]
["400","CONTRACTUAL SERVICES-GENERAL","Other Services and Charges - General","Charge to this account all contractual expenditures not otherwise classified under a specific contractual expenditures account.","Not Intra-City","Not Applicable",null,"Other Services and Charges - General","Y"]
["401","POSTAGE","POSTAGE","POSTAGE","Not Intra-City","Not Applicable",null,"Other Services and Charges - General","Y"]
["402","TELEPHONE & OTHER COMMUNICATNS","Telephone and Other Communications","Charge to this account the rental cost covering telephone systems, cellular phone systems, mobile phone systems, fax machines, dictagraphs, voice mail, answering machine services, paging devices, computer moderns and other telephone equipment.","Not Intra-City","Not Applicable",null,"Other Services and Charges - General","Y"]
["403","OFFICE SERVICES","Office Services","Charge to this account: 1. The cost of authorized membership dues and fees in technical associations and organizations; notary, recording, registration and searching fees 2. Rentals of safe-deposit boxes, post office boxes, and water coolers which, due to their distinctive office service nature; are classified hereunder 3. Inspection fees covering the cost of similar services with respect to buildings, structures, etc.\r\n\r\n","Not Intra-City","Not Applicable",null,"Other Services and Charges - General","Y"]
["404","TRAVELING EXPENSES","Traveling Expenses","TRAVELING EXPENSES","Not Intra-City","Not Applicable",null,"Other Services and Charges - General","Y"]
["405","NON-LOCAL TRAV EXP/MEAL ALLOW","NON-LOCAL TRAV EXP/MEAL ALLOW","NON-LOCAL TRAV EXP/MEAL ALLOW","Not Intra-City","Not Applicable",null,"Other Services and Charges - General","Y"]
["406","PROFESSIONAL SVCS CONTRACTUAL","Professional Services - Contractual","Charge to this account all payments for professional services to other than City employees: e.g., legal services, accounting services, architectural services, and consultant services, which are performed under contractual agreements.","Not Intra-City","Not Applicable",null,"Other Services and Charges - General","Y"]
["407","MAINT & REP OF MOTOR VEH EQUIP","Maintenance and Repairs - Motor Vehicle Equipment","Charge to this account all expenditures for repair of motor vehicle equipment purchased by City employees.","Not Intra-City","Not Applicable",null,"Other Services and Charges - General","Y"]
["408","MAINTENANCE REPAIRS - GENERAL","Maintenance Repairs - General","Charge to this account all maintenance and repair expenditures not otherwise classified under a specific maintenance and repair code.","Not Intra-City","Not Applicable",null,"Other Services and Charges - General","Y"]
["409","EMERGENCY REPAIR PROGRAM - HPD","EMERGENCY REPAIR PROGRAM - HPD","EMERGENCY REPAIR PROGRAM - HPD","Not Intra-City","Not Applicable",null,"Other Services and Charges - General","Y"]
["40A","POSTAGE","POSTAGE","POSTAGE","Intra-City","Not Applicable",null,"Other Services and Charges - General","Y"]
["40B","TELEPHONE & OTHER COMMUNICATNS","TELEPHONE & OTHER COMMUNICATNS","TELEPHONE & OTHER COMMUNICATNS","Intra-City","Not Applicable",null,"Other Services and Charges - General","Y"]
["40C","OFFICE SERVICES","OFFICE SERVICES","OFFICE SERVICES","Intra-City","Not Applicable",null,"Other Services and Charges - General","Y"]
["40G","MAINT & REP OF MOTOR VEH EQUIP","MAINT & REP OF MOTOR VEH EQUIP","MAINT & REP OF MOTOR VEH EQUIP","Intra-City","Not Applicable",null,"Other Services and Charges - General","Y"]
["40X","CONTRACTUAL SERVICES-GENERAL","CONTRACTUAL SERVICES-GENERAL","CONTRACTUAL SERVICES-GENERAL","Intra-City","Not Applicable",null,"Other Services and Charges - General","Y"]
["410","PROFESSIONAL SRV - INDPT CONTR","PROFESSIONAL SRV - INDPT CONTR","PROFESSIONAL SRV - INDPT CONTR","Not Intra-City","Not Applicable",null,"Other Services and Charges - General","Y"]
["411","GUARANTEE FEE O/S SERIAL BONDS","GUARANTEE FEE O/S SERIAL BONDS","GUARANTEE FEE O/S SERIAL BONDS","Not Intra-City","Not Applicable",null,"Other Services and Charges - General","Y"]
["412","RENTALS OF MISC.EQUIP","Rentals - Miscellaneous Equipment","Charge to this account all rental expenditures not otherwise classified under a specific rental code.","Not Intra-City","Not Applicable",null,"Other Services and Charges - General","Y"]
["413","RENTAL-DATA PROCESSING EQUIP","Rentals - Data Processing Equipment","Charge to this account the cost of rental of data processing equipment.","Not Intra-City","Not Applicable",null,"Other Services and Charges - General","Y"]
["414","RENTALS - LAND BLDGS & STRUCTS","Rentals - Land, Buildings and Structures","Charge to this account rental of land, buildings, stores, and offices etc. Where the rental charge includes miscellaneous items such as light, heat and power, water, repairs and janitor services, etc., these items are to be included in this account.","Not Intra-City","Not Applicable",null,"Leases","Y"]
["415","PRINTING CONTRACTS","Printing Contracts","PRINTING CONTRACTS","Not Intra-City","Not Applicable",null,"Other Services and Charges - General","Y"]
["416","COMMUNITY CONSULTANT CONTRACTS","Community Consultant Contracts","Community Consultant Contracts","Not Intra-City","Not Applicable",null,"Other Services and Charges - General","Y"]
["417","ADVERTISING","Advertising","Charge to this account all expenditures associated with advertising for such purposes as personnel recruitment, financial notices, legal notices, purchase and sale notices, examination notices and all other associated advertising items (see object 465 Obligatory County Expenditures).","Not Intra-City","Not Applicable",null,"Other Services and Charges - General","Y"]
["418","COST ASSO W/FINANCING","COST ASSO W/FINANCING","COST ASSO W/FINANCING","Not Intra-City","Not Applicable",null,"Other Services and Charges - General","Y"]
["419","SECURITY SERVICES","Security Services","SECURITY SERVICES","Not Intra-City","Not Applicable",null,"Other Services and Charges - General","Y"]
["41B","RENTALS OF MISC.EQUIP","RENTALS OF MISC.EQUIP","RENTALS OF MISC.EQUIP","Intra-City","Not Applicable",null,"Other Services and Charges - General","Y"]
["41D","RENTALS - LAND BLDGS & STRUCTS","RENTALS - LAND BLDGS & STRUCTS","RENTALS - LAND BLDGS & STRUCTS","Intra-City","Not Applicable",null,"Leases","Y"]
["420","EDUCATION RESEARCH & EVALU SRV","EDUCATION RESEARCH & EVALU SRV","EDUCATION RESEARCH & EVALU SRV","Not Intra-City","Not Applicable",null,"Other Services and Charges - General","Y"]
["421","EVALUATION SERVICES-PER DIEM","EVALUATION SERVICES-PER DIEM","EVALUATION SERVICES-PER DIEM","Not Intra-City","Not Applicable",null,"Other Services and Charges - General","Y"]
["422","TEMPORARY SERVICE","Temporary Service","TEMPORARY SERVICE","Not Intra-City","Not Applicable",null,"Other Services and Charges - General","Y"]
["423","HEAT LIGHT & POWER","Heat, Light and Power","Charge to this account expenditures for heat, light and power services purchased from a utility company. Include in this account all costs for heat, light, and power (electric, natural gas, steam) purchased for buildings and structures, as well as street and park lighting (see object 109 Fuel Oil).","Not Intra-City","Not Applicable",null,"Heat, Light, and Power","Y"]
["424","CLEANING SERVICES","Cleaning Services","CLEANING SERVICES","Not Intra-City","Not Applicable",null,"Other Services and Charges - General","Y"]
["425","PURCHASING SERVICES","PURCHASING SERVICES","PURCHASING SERVICES","Not Intra-City","Not Applicable",null,"Other Services and Charges - General","Y"]
["426","INVESTMENT COSTS","INVESTMENT COSTS","INVESTMENT COSTS","Not Intra-City","Not Applicable",null,"Other Services and Charges - General","Y"]
["427","DATA PROCESSING SERVICES","Data Processing Services","Charge to this account all data processing services performed by other City agencies.","Not Intra-City","Not Applicable",null,"Other Services and Charges - General","Y"]
["428","INSTALLMENT PURCHS.OFF.EQUPMNT","Installment Purchases - Office Equipment","INSTALLMENT PURCHS.OFF.EQUPMNT","Not Intra-City","Not Applicable",null,"Other Services and Charges - General","Y"]
["429","IN REM MAINTENANCE COSTS","IN REM MAINTENANCE COSTS","IN REM MAINTENANCE COSTS","Not Intra-City","Not Applicable",null,"Other Services and Charges - General","Y"]
["42C","HEAT LIGHT & POWER","HEAT LIGHT & POWER","HEAT LIGHT & POWER","Intra-City","Not Applicable",null,"Heat, Light, and Power","Y"]
["42G","DATA PROCESSING SERVICES","DATA PROCESSING SERVICES","DATA PROCESSING SERVICES","Intra-City","Not Applicable",null,"Other Services and Charges - General","Y"]
["430","MAINT OUTDOR LIGHT SIGNAL EQPT","MAINT OUTDOR LIGHT SIGNAL EQPT","MAINT OUTDOR LIGHT SIGNAL EQPT","Not Intra-City","Not Applicable",null,"Other Services and Charges - General","Y"]
["431","LEASING OF MISC EQUIP","Leasing of Miscellaneous Equipment","Charge to this account all equipment leasing expenditures not otherwise classified under a specific leasing code.","Not Intra-City","Not Applicable",null,"Other Services and Charges - General","Y"]
["432","LEASING OF DATA PROC EQUIP","Leasing of Data Processing Equipment","Charge to this account the cost of leasing of data processing equipment, personal computers and printers, and the servicing thereof, if part of the lease agreement (if not, see object 613  Data Processing Equipment Maintenance Contractual).","Not Intra-City","Not Applicable",null,"Other Services and Charges - General","Y"]
["433","EXPENSE FUNDED SBITA","Expense Funded Subscription- Based Information Technology Arrangement","This code is only to be used for Subscription-Based Information Technology Arrangement (SBITA), as defined by the Governmental Accounting Standards Board (GASB), which have been either split funded by both Capital and Expense or solely funded by Expense.","Not Intra-City","Not Applicable",null,"Other Services and Charges - General","Y"]
["435","PAYMENTS TO THE CITY RECORD","PAYMENTS TO THE CITY RECORD","PAYMENTS TO THE CITY RECORD","Not Intra-City","Not Applicable",null,"Other Services and Charges - General","Y"]
["439","PAY MANAGER FOR CY PARK GARAGE","PAY MANAGER FOR CY PARK GARAGE","PAY MANAGER FOR CY PARK GARAGE","Not Intra-City","Not Applicable",null,"Other Services and Charges - General","Y"]
["440","MENTAL HEALTH SERVICES - BOE","MENTAL HEALTH SERVICES - BOE","MENTAL HEALTH SERVICES - BOE","Not Intra-City","Not Applicable","P","Other Services and Charges - General","Y"]
["441","MENTAL HEALTH SERVICES - HHC","MENTAL HEALTH SERVICES - HHC","MENTAL HEALTH SERVICES - HHC","Not Intra-City","Not Applicable",null,"Other Services and Charges - General","Y"]
["442","MENTAL HEALTH SERVICES-HLTH DP","MENTAL HEALTH SERVICES-HLTH DP","MENTAL HEALTH SERVICES-HLTH DP","Not Intra-City","Not Applicable",null,"Other Services and Charges - General","Y"]
["443","MENTAL HEALTH SERVICES-FAM CT","MENTAL HEALTH SERVICES-FAM CT","MENTAL HEALTH SERVICES-FAM CT","Not Intra-City","Not Applicable",null,"Other Services and Charges - General","Y"]
["444","MENTAL HEALTH SVC-CRIMINAL CT","MENTAL HEALTH SVC-CRIMINAL CT","MENTAL HEALTH SVC-CRIMINAL CT","Not Intra-City","Not Applicable",null,"Other Services and Charges - General","Y"]
["445","MENTAL HEALTH SVC-UNCLASSIFIED","MENTAL HEALTH SVC-UNCLASSIFIED","MENTAL HEALTH SVC-UNCLASSIFIED","Not Intra-City","Not Applicable",null,"Other Services and Charges - General","Y"]
["446","CETA II/VI PAYMNTS.TO COURTS","CETA II/VI PAYMNTS.TO COURTS","CETA II/VI PAYMNTS.TO COURTS","Not Intra-City","Not Applicable",null,"Other Services and Charges - General","Y"]
["447","CETA II/VI PAYMNTS.TO NP/ST.AG","CETA II/VI PAYMNTS.TO NP/ST.AG","CETA II/VI PAYMNTS.TO NP/ST.AG","Not Intra-City","Not Applicable",null,"Other Services and Charges - General","Y"]
["448","CETA II/VI PYMTS TO HOUSE AUTH","CETA II/VI PYMTS TO HOUSE AUTH","CETA II/VI PYMTS TO HOUSE AUTH","Not Intra-City","Not Applicable",null,"Other Services and Charges - General","Y"]
["449","CETA II/VI PAYMNTS TO M.T.A.","CETA II/VI PAYMNTS TO M.T.A.","CETA II/VI PAYMNTS TO M.T.A.","Not Intra-City","Not Applicable",null,"Other Services and Charges - General","Y"]
["450","PAYMENTS TO WILDCAT SERV CORP","PAYMENTS TO WILDCAT SERV CORP","PAYMENTS TO WILDCAT SERV CORP","Not Intra-City","Not Applicable",null,"Other Services and Charges - General","Y"]
["451","NON OVERNIGHT TRVL EXP-GENERAL","Non Overnight Travel Expenditures - General","Charge to this account all authorized expenditures for in-City meal, transportation, and incidental expenses incurred for general business meetings (1998 Name was Local Travel Expenditures General).","Not Intra-City","Not Applicable",null,"Other Services and Charges - General","Y"]
["452","NON OVERNIGHT TRVL EXP-SPECIAL","Non Overnight Travel Expenditures - Special","Charge to this account all authorized expenditures for in City meal, transportation, registration, and incidental expenses incurred for education, training, professional/industry conferences and retreats (1998 Name was Local Travel Expenditures Special).","Not Intra-City","Not Applicable",null,"Other Services and Charges - General","Y"]
["453","OVERNIGHT TRVL EXP-GENERAL","Overnight Travel Expenditures - General","Charge to this account all authorized expenditures for out of City meal, transportation, lodging, and incidental expenses incurred for general business meetings (1998 Name was Non Local Travel Expenditures General).","Not Intra-City","Not Applicable",null,"Other Services and Charges - General","Y"]
["454","OVERNIGHT TRVL EXP-SPECIAL","Overnight Travel Expenditures - Special","Charge to this account all authorized expenditures for out of City meal, transportation, lodging, registration, and incidental expenses incurred for education, training, professional/industry conferences and retreats (1998 Name was Non Local Travel Expenditures Special).","Not Intra-City","Not Applicable",null,"Other Services and Charges - General","Y"]
["455","EDUCATION PENSION AGENCY","EDUCATION PENSION AGENCY","EDUCATION PENSION AGENCY","Not Intra-City","Not Applicable","P","Other Services and Charges - General","Y"]
["456","HIGHER ED STUDENT ASSISTANCE","Higher Education - Student Assistance","Charge to this account payments used for matching funds for federally funded student assistance.","Not Intra-City","Not Applicable","P","Other Services and Charges - General","Y"]
["459","STATE CHGS GEN WORK FOR CITY","STATE CHGS GEN WORK FOR CITY","STATE CHGS GEN WORK FOR CITY","Not Intra-City","Not Applicable",null,"Other Services and Charges - General","Y"]
["45B","NON OVERNIGHT TRVL EXP-SPECIAL","NON OVERNIGHT TRVL EXP-SPECIAL","NON OVERNIGHT TRVL EXP-SPECIAL","Intra-City","Not Applicable",null,"Other Services and Charges - General","Y"]
["460","SPECIAL EXPENSE","Special Expenditures","Charge to this account all special expenditures relative to elected officials and other criminal justice activities.","Not Intra-City","Not Applicable",null,"Other Services and Charges - General","Y"]
["461","ADMISSION FEES - BOE ONLY","ADMISSION FEES - BOE ONLY","ADMISSION FEES - BOE ONLY","Not Intra-City","Not Applicable","P","Other Services and Charges - General","Y"]
["463","MAINTENANCE OF CITY COURTS","MAINTENANCE OF CITY COURTS","MAINTENANCE OF CITY COURTS","Not Intra-City","Not Applicable",null,"Other Services and Charges - General","Y"]
["464","COURT COSTS DURING STATE TKOVR","Court Costs During Phased Takeover by State of New York","Charge to this account City share of court costs during phased takeover by State of New York.","Not Intra-City","Not Applicable",null,"Other Services and Charges - General","Y"]
["465","OBLIGATORY COUNTY EXPENSES","Obligatory County Expenditures","Mandatory county charges which are to be borne by the City pursuant to State statutes. Such as 1. Stenographer Fees, purchase of trial minutes for defendant's cases on appeal where defendant is unable to pay for same; 2. Temporary stenographers to Grand Jury and to County Courts; 3. Experts testifying in criminal actions; 4. Psychiatric Services for persons committed to institutions; 5. Printing of minutes for appeals; 6. Fees for material witnesses; 7. Services of referees appointed by Court to examine accounts; 8. Services of guardians of infants' property ordered paid by the Court; 9. Payments to state hospitals and institutions for commitment of the criminally insane to State institutions; 10.  Acting prison guards appointed by sheriff under the law on his declaration of an existing emergency; 11. Expenditures related to disbarment proceedings; 12. Allowances paid to upstate county judges assigned to NYC counties where local court calendars are crowded; 13. Advertising cost of juror & sheriff notices; 14. Premiums on Bonds Costs of premiums on insurance bonds for certain officials.","Not Intra-City","Not Applicable",null,"Other Services and Charges - General","Y"]
["466","CONTRIB TO MAINT LEGAL AID SOC","CONTRIB TO MAINT LEGAL AID SOC","CONTRIB TO MAINT LEGAL AID SOC","Not Intra-City","Not Applicable",null,"Other Services and Charges - General","Y"]
["467","LEGAL AID SOC EMERG FELONY PRG","LEGAL AID SOC EMERG FELONY PRG","LEGAL AID SOC EMERG FELONY PRG","Not Intra-City","Not Applicable",null,"Other Services and Charges - General","Y"]
["469","LEGAL AID SPEC NARCOTICS CORTS","LEGAL AID SPEC NARCOTICS CORTS","LEGAL AID SPEC NARCOTICS CORTS","Not Intra-City","Not Applicable",null,"Other Services and Charges - General","Y"]
["46E","OBLIGATORY COUNTY EXPENSES","OBLIGATORY COUNTY EXPENSES","OBLIGATORY COUNTY EXPENSES","Intra-City","Not Applicable",null,"Other Services and Charges - General","Y"]
["46X","SPECIAL EXPENSE","SPECIAL EXPENSE","SPECIAL EXPENSE","Intra-City","Not Applicable",null,"Other Services and Charges - General","Y"]
["470","PYMT TO THE STATE DIV OF YOUTH","Payments to State Division of Youth","Charge to this account payments made to the New York State Division of Youth for all incarceration costs incurred by the detention of New York City juvenile offenders and juvenile delinquents in New York State facilities.","Not Intra-City","Not Applicable",null,"Other Services and Charges - General","Y"]
["472","SNOW REMOVAL CONTRACT-PRV VNDS","SNOW REMOVAL CONTRACT-PRV VNDS","SNOW REMOVAL CONTRACT-PRV VNDS","Not Intra-City","Not Applicable",null,"Other Services and Charges - General","Y"]
["473","SNOW REMOVAL SERVICES","Snow Removal Services","Charge to this account all costs associated with snow removal.","Not Intra-City","Not Applicable",null,"Other Services and Charges - General","Y"]
["474","WATER POLL CONT-PAY AS YOU GO","WATER POLL CONT-PAY AS YOU GO","WATER POLL CONT-PAY AS YOU GO","Not Intra-City","Not Applicable",null,"Other Services and Charges - General","Y"]
["476","MAINTAINANCE & OPERATIONS BLDG","MAINTAINANCE & OPERATIONS BLDG","MAINTAINANCE & OPERATIONS BLDG","Not Intra-City","Not Applicable",null,"Other Services and Charges - General","Y"]
["478","PAYMENTS TO DELEGATE AGENCIES","PAYMENTS TO DELEGATE AGENCIES","PAYMENTS TO DELEGATE AGENCIES","Not Intra-City","Not Applicable",null,"Other Services and Charges - General","Y"]
["484","BANK FEES","BANK FEES","Charge to this account transaction fees paid to banks for the disbursement of public assistance and food stamp payments.","Not Intra-City","Not Applicable",null,"Other Services and Charges - General","Y"]
["485","TUITION EXPENSES - BOE ONLY","TUITION EXPENSES - BOE ONLY","TUITION EXPENSES - BOE ONLY","Not Intra-City","Not Applicable","P","Other Services and Charges - General","Y"]
["486","CONTRIBUTIONS NYC NATION SHRIN","Contributions to New York City National Shrines Association, Inc","Charge to this account all payments to the New York City National Shrines Association.","Not Intra-City","Not Applicable",null,"Other Services and Charges - General","Y"]
["488","BANK CHARGES-PUB ASST ACCOUNTS","Bank Charges - Public Assistance Accounts","BANK CHARGES-PUB ASST ACCOUNTS","Not Intra-City","Not Applicable",null,"Other Services and Charges - General","Y"]
["489","PARENTAL ACTIVITY FUND - BOE","PARENTAL ACTIVITY FUND - BOE","PARENTAL ACTIVITY FUND - BOE","Not Intra-City","Not Applicable","P","Other Services and Charges - General","Y"]
["490","SPECIAL SERVICES","Special Services","SPECIAL SERVICES","Not Intra-City","Not Applicable",null,"Other Services and Charges - General","Y"]
["491","COST SNACKS BREAKFAST-LUNCH PG","Cost Snacks Breakfast-Lunch PG","COST SNACKS BREAKFAST-LUNCH PG","Not Intra-City","Not Applicable",null,"Other Services and Charges - General","Y"]
["492","PROMOTION & CELEBRATION EXPENS","Promotion & Celebration Expenses","PROMOTION & CELEBRATION EXPENS","Not Intra-City","Not Applicable",null,"Other Services and Charges - General","Y"]
["493","FINAN ASSIST COLLEGE STUDENTS","Financial Assistance - College Students","Charge to this account payments under various programs for aid to college students","Not Intra-City","Not Applicable","P","Other Services and Charges - General","Y"]
["494","PMNTS STUDNTS COM COLL OUT CTY","Payments for Students Attending Community Colleges Outside the City","Charge to this account payments for students who are New York City residents attending community colleges outside the City.","Not Intra-City","Not Applicable","P","Other Services and Charges - General","Y"]
["495","ED/RECREAT EXP YOUTH PROGRAM","Ed/Recreation Exp Youth Program","ED/RECREAT EXP YOUTH PROGRAM","Not Intra-City","Not Applicable",null,"Other Services and Charges - General","Y"]
["496","ALLOWANCES TO PARTICIPANTS","Allowances to Participants","Charge to this account allowances to participants such as stipends for participants in programs","Not Intra-City","Not Applicable",null,"Other Services and Charges - General","Y"]
["497","STATE BUILDING AID","State Building Aid","State Building Aid","Not Intra-City","Not Applicable",null,"Other Services and Charges - General","Y"]
["498","OPERATION OF RECREATION AREAS","OPERATION OF RECREATION AREAS","OPERATION OF RECREATION AREAS","Not Intra-City","Not Applicable",null,"Other Services and Charges - General","Y"]
["499","OTHER EXPENSES - GENERAL","Other Expenditures - General","This account cannot be charged directly. This is to be used as a holding account only","Not Intra-City","Not Applicable",null,"Other Services and Charges - General","Y"]
["49F","ALLOWANCES TO PARTICIPANTS","ALLOWANCES TO PARTICIPANTS","ALLOWANCES TO PARTICIPANTS","Intra-City","Not Applicable",null,"Other Services and Charges - General","Y"]
["49I","OTHER EXPENSES - GENERAL","OTHER EXPENSES - GENERAL","OTHER EXPENSES - GENERAL","Intra-City","Not Applicable",null,"Other Services and Charges - General","Y"]
["500","SOCIAL SERVICES - GENERAL","Social Services - General","Charge to this account all social service payments to providers not otherwise classified under a specific social services object code","Not Intra-City","Not Applicable",null,"Social Services","Y"]
["501","CHARITABLE INSTIT - HOSPITALS","Charitable Institutions - Hospitals","Charge to this account all payments made to hospitals for the care, support, and treatment of Medicaid eligible individuals at voluntary  hospitals","Not Intra-City","Not Applicable",null,"Social Services","Y"]
["502","CHILDREN'S CHARITABLE INST'S","Children's Charitable Institutions","Charge to this account payments made through agreements with other City agencies to providers for per diem maintenance and miscellaneous payments for children in a variety of foster care placements. Also included in this account is an allocation for adoption fees and costs incidental to adoption procedures, such as legal fees","Not Intra-City","Not Applicable",null,"Social Services","Y"]
["503","CHILD WELFARE SERVICES","Child Welfare Services","CHILD WELFARE SERVICES","Not Intra-City","Not Applicable",null,"Social Services","Y"]
["504","DIRECT FOSTER CARE OF CHILDREN","Direct Foster Care of Children","Charge to this account payments to providers relating to children the direct care of the Child Welfare Administration, whether in Foster Boarding Home or Congregate Care settings. This includes board payments to foster parents, as well as payments for medical expenditures, client related expenditures, expenditures associated with operating congregate care facilities, and miscellaneous expenditures to meet the children's needs while they are being processed in field offices","Not Intra-City","Not Applicable",null,"Social Services","Y"]
["505","SUBSIDIZED ADOPTION","Subsidized Adoption","Charge to this account all monthly subsidy payments made to eligible families who adopt hard to place children","Not Intra-City","Not Applicable",null,"Social Services","Y"]
["506","DEPT OF HEALTH SPECIAL GR ST","DEPT OF HEALTH SPECIAL GR ST","DEPT OF HEALTH SPECIAL GR ST","Not Intra-City","Not Applicable",null,"Social Services","Y"]
["507","HOME CARE SERVICES","HOME CARE SERVICES","HOME CARE SERVICES","Not Intra-City","Not Applicable",null,"Social Services","Y"]
["508","HOMEMAKING SERVICES","HOMEMAKING SERVICES","HOMEMAKING SERVICES","Not Intra-City","Not Applicable",null,"Social Services","Y"]
["509","NON-GRANT CHARGES","Non-Grant Charges","Charge to this account payments to providers made for services that are subsidiary to the Public Assistance program, but separate from the base grant. These services include eviction prevention programs, residential  drug and alcohol treatment programs, funds for burial assistance and medical examinations for public assistance applicants and recipients to determine eligibility or disability","Not Intra-City","Not Applicable",null,"Social Services","Y"]
["50D","DIRECT FOSTER CARE OF CHILDREN","DIRECT FOSTER CARE OF CHILDREN","DIRECT FOSTER CARE OF CHILDREN","Intra-City","Not Applicable",null,"Social Services","Y"]
["50I","NON-GRANT CHARGES","NON-GRANT CHARGES","NON-GRANT CHARGES","Intra-City","Not Applicable",null,"Social Services","Y"]
["50X","SOCIAL SERVICES - GENERAL","SOCIAL SERVICES - GENERAL","SOCIAL SERVICES - GENERAL","Intra-City","Not Applicable",null,"Social Services","Y"]
["510","HOMELESS FAMILY SERVICES","Homeless Family Services","Charge to this account payments made through agreements with other City agencies to providers for all expenditures incurred while providing resources such as food, security, m9dical services and other miscellaneous support items to homeless families residing in emergency or transitional settings.","Not Intra-City","Not Applicable",null,"Social Services","Y"]
["511","AIDS SERVICES","AIDS Services","Charge to this account payments made through agreements with other City agencies to providers for housing, counseling, testing, education, social services and other miscellaneous items relevant to serving persons with AIDS and HIV illness.","Not Intra-City","Not Applicable",null,"Social Services","Y"]
["512","EMPLOYMENT SERVICES","Employment Services","Charge to this account payments made through agreements with other City agencies to providers for assisting Public Assistance recipients finding employment and reducing their welfare dependency through job placement, job training, work experience programs, provision of children's day care and other related services","Not Intra-City","Not Applicable",null,"Social Services","Y"]
["513","HOME ENERGY ASSISTANCE PROGRAM","Home Energy Assistance Program","Charge to this account all direct payments made under the \"Home Energy Assistance Program\" to eligible households for the purpose of meeting energy and related bills.","Not Intra-City","Not Applicable",null,"Social Services","Y"]
["514","AID TO DEPENDENT CHILDREN","Aid to Dependent Children","Charge to this account all direct payments made to or for the benefit of persons certified by the Department of Social Services as eligible for Aid to Dependent Children (ADC), as defined by the Social Welfare Law.","Not Intra-City","Not Applicable",null,"Social Services","Y"]
["515","PAYMTS FOR TUBERCULOSIS TRTMNT","Payments for Tuberculosis Treatment","Charge to this account all payments made to hospitals for the prevention, care, support and treatment of tuberculosis","Not Intra-City","Not Applicable",null,"Social Services","Y"]
["516","PAYMENTS FOR HOME RELIEF","Payments for Home Relief","Charge to this account all payments made to or for the benefit of persons certified by the Department of Social Services as eligible for Home Relief, as defined by the Social Welfare Law.","Not Intra-City","Not Applicable",null,"Social Services","Y"]
["518","MEDICAL ASSISTANCE","Medical Assistance","Charge to this account all payments to providers made for hospitalization, lab fees, dental work, and all other medical assistance needed by those persons found eligible for such relief","Not Intra-City","Not Applicable",null,"Social Services","Y"]
["519","CHILDREN'S VOL AGENCY MEDICAID","Children's Voluntary Agency Medicaid","Charge to this account all payments to providers made in the form of per diem rates set by New York State for Medicaid eligible children in voluntary agency placements.","Not Intra-City","Not Applicable",null,"Social Services","Y"]
["51A","AIDS SERVICES","AIDS SERVICES","AIDS SERVICES","Intra-City","Not Applicable",null,"Social Services","Y"]
["51B","EMPLOYMENT SERVICES","EMPLOYMENT SERVICES","EMPLOYMENT SERVICES","Intra-City","Not Applicable",null,"Social Services","Y"]
["51D","AID TO DEPENDENT CHILDREN-FAMILY ASSIST.","AID TO DEPENDENT CHILDREN-FAMILY ASSIST.","AID TO DEPENDENT CHILDREN-FAMILY ASSIST.","Intra-City","Not Applicable",null,"Social Services","Y"]
["51F","PAYMENTS FOR HOME RELIEF-SAFETY NET","PAYMENTS FOR HOME RELIEF-SAFETY NET","PAYMENTS FOR HOME RELIEF-SAFETY NET","Intra-City","Not Applicable",null,"Social Services","Y"]
["51H","MEDICAL ASSISTANCE","MEDICAL ASSISTANCE","MEDICAL ASSISTANCE","Intra-City","Not Applicable",null,"Social Services","Y"]
["51X","HOMELESS FAMILY SERVICES","HOMELESS FAMILY SERVICES","HOMELESS FAMILY SERVICES","Intra-City","Not Applicable",null,"Social Services","Y"]
["530","MENTAL HYGIENE SERVICES","MENTAL HYGIENE SERVICES","MENTAL HYGIENE SERVICES","Not Intra-City","Not Applicable",null,"Social Services","Y"]
["531","MENTAL HEALTH SERVICES-BOE","MENTAL HEALTH SERVICES-BOE","MENTAL HEALTH SERVICES-BOE","Not Intra-City","Not Applicable",null,"Social Services","Y"]
["532","MENTAL HEALTH SERVICES HHC","Mental Health Services - Health and Hospitals Corporation","Charge to this account all payments to Health & Hospitals Corporation made while providing inpatient and outpatient community mental health services","Not Intra-City","Not Applicable",null,"Social Services","Y"]
["533","MENTAL HEALTH SERVICES DOH","MENTAL HEALTH SERVICES DOH","Charge to this account all payments to providers for mental health services to prison inmates.","Not Intra-City","Not Applicable",null,"Social Services","Y"]
["53B","MENTAL HEALTH SERVICES HHC","MENTAL HEALTH SERVICES HHC","MENTAL HEALTH SERVICES HHC","Intra-City","Not Applicable",null,"Social Services","Y"]
["53C","MENTAL HEALTH SERVICES DOH","MENTAL HEALTH SERVICES DOH","MENTAL HEALTH SERVICES DOH","Intra-City","Not Applicable",null,"Social Services","Y"]
["543","SPEC ED FACIL INST FOST CARE","Special Educational Facilities for the Institutionalized and Foster Care","Charge to this account payments to educational facilities for the benefit of foster care children and the institutionalized, whose placements primarily preclude attendance in New York City schools, as well as having special educational needs requiring enhanced services","Not Intra-City","Not Applicable",null,"Social Services","Y"]
["552","DAY CARE OF CHILDREN","Day Care of Children","Charge to this account payments made through agreements with other City agencies to providers for the day care services for children where the parents or guardians are unavailable or unable to care for the child during the day or a portion of the day, as well as payments made for rent and utility costs at directly based sites, centrally purchased  insurance  costs, program related audits and infrastructure upkeep of day care centers.","Not Intra-City","Not Applicable",null,"Social Services","Y"]
["553","HEAD START","HEAD START","HEAD START","Not Intra-City","Not Applicable",null,"Social Services","Y"]
["55B","DAY CARE OF CHILDREN","DAY CARE OF CHILDREN","DAY CARE OF CHILDREN","Intra-City","Not Applicable",null,"Social Services","Y"]
["560","CAP VERSATILE PROGRAM","CAP VERSATILE PROGRAM","CAP VERSATILE PROGRAM","Not Intra-City","Not Applicable",null,"Social Services","Y"]
["571","DONAT PAT INMATE & DISCHG PRIS","Donations to Patients, Inmates and Discharged Prisoners","Charge to this account all allowances for clothing, etc., and  cash donations given to patients, inmates and discharged prisoners at the various institutions. Also include in this account donations of meal money to suspects in custody of the police.","Not Intra-City","Not Applicable",null,"Social Services","Y"]
["575","MEDICAL RESEARCH HEALTH ASSOC","MEDICAL RESEARCH HEALTH ASSOC","MEDICAL RESEARCH HEALTH ASSOC","Not Intra-City","Not Applicable",null,"Social Services","Y"]
["576","HOSPITAL CONTRACTS","HOSPITAL CONTRACTS","HOSPITAL CONTRACTS","Not Intra-City","Not Applicable",null,"Social Services","Y"]
["577","SPECIAL CLINICAL SERVICES","SPECIAL CLINICAL SERVICES","SPECIAL CLINICAL SERVICES","Not Intra-City","Not Applicable",null,"Social Services","Y"]
["582","PURCHASE OF ADULT SOCIAL SERV","PURCHASE OF ADULT SOCIAL SERV","PURCHASE OF ADULT SOCIAL SERV","Not Intra-City","Not Applicable",null,"Social Services","Y"]
["583","EMERGENCY ASSISTANCE TO ADULTS","EMERGENCY ASSISTANCE TO ADULTS","EMERGENCY ASSISTANCE TO ADULTS","Not Intra-City","Not Applicable",null,"Social Services","Y"]
["584","HOMELESS INDIVIDUAL SERVICES","HOMELESS INDIVIDUAL SERVICES","Charge to this account payments made through agreements with other City agencies to providers made for services to homeless individuals including emergency housing, outreach, food, counseling, medical services and other support services.","Not Intra-City","Not Applicable",null,"Social Services","Y"]
["58D","HOMELESS INDIVIDUAL SERVICES","HOMELESS INDIVIDUAL SERVICES","HOMELESS INDIVIDUAL SERVICES","Intra-City","Not Applicable",null,"Social Services","Y"]
["600","CONTRACTUAL SERVICES GENERAL","Contractual Services - General","Charge to this account all expenditures  that are personal services or technical in nature not otherwise classified under a specific contractual services account","Not Intra-City","Not Applicable",null,"Contractual Services","Y"]
["602","TELECOMMUNICATIONS MAINT","Telecommunications Maintenance - Contractual","1. Expenditures for telephone installation charges; service and maintenance of telecommunication equipment and systems (voice and data), i.e. telephone systems, cellular phone systems, mobile phone systems, fax machines, dictagraphs, voice mail, answering machine services, paging devices, computer modems and other telephone equipment; 2. The cost of rentals of time from broadcasting companies for communication activities.","Not Intra-City","Not Applicable",null,"Contractual Services","Y"]
["603","EXPENSE FUNDED SBITA","EXPENSE FUNDED SUBSCRIPTION- BASED INFORMATION TECHNOLOGY ARRANGEMENT","This code is only to be used for Subscription-Based Information Technology Arrangement (SBITA), as defined by the Governmental Accounting Standards Board (GASB), which have been either split funded by both Capital and Expense or solely funded by Expense.","Not Intra-City","Not Applicable",null,"Contractual Services","Y"]
["607","MAINT & REP MOTOR VEH EQUIP","Maintenance and Repairs - Motor Vehicle Equipment - Contractual","Charge to this account all expenditures for repair of motor vehicle equipment performed by other than City employees","Not Intra-City","Not Applicable",null,"Contractual Services","Y"]
["608","MAINT & REP GENERAL","Maintenance and Repairs - General - Contractual","Charge to this account all maintenance and repair expenditures not otherwise classified under a specific maintenance and repair code","Not Intra-City","Not Applicable",null,"Contractual Services","Y"]
["612","OFFICE EQUIPMENT MAINTENANCE","Office Equipment Maintenance - Contractual","Charge to this account all expenditures for the maintenance and repair of all office equipment, i.e. calculators, office furniture, photocopying machines, typewriting machines, etc","Not Intra-City","Not Applicable",null,"Contractual Services","Y"]
["613","DATA PROCESSING EQUIPMENT","Data Processing Equipment Maintenance - Contractual","Charge to this account all expenditures for the maintenance and repair of all data processing equipment","Not Intra-City","Not Applicable",null,"Contractual Services","Y"]
["615","PRINTING CONTRACTS","Printing Services - Contractual","Charge to this account all contractual printing and printing related costs other than printing supplies (see object 101 Printing Supplies) including stationery, forms, bulletins, manuals, pamphlets, etc .","Not Intra-City","Not Applicable",null,"Contractual Services","Y"]
["616","COMMUNITY CONSULTANT CONTRACTS","Community Consultants - Contractual","Charge to this account contracts with community based not for profit organizations providing technical assistance to low and middle income clientele","Not Intra-City","Not Applicable",null,"Contractual Services","Y"]
["617","PAYMENTS TO COUNTERPARTIES","Payments to Counterparties - Contractual","Charge to this account expenditures associated with the support of the City's financing program.  This includes all payments to counterparties of interest rate exchange agreements.","Not Intra-City","Not Applicable",null,"Contractual Services","Y"]
["618","COSTS ASSOC WITH FINANCING","Financing Costs - Contractual","Charge to this account expenditures associated with the support of the City's financing program. This includes all payments to financial advisors, board and disclosure counsel, fees paid to credit-rating agencies, and all other costs","Not Intra-City","Not Applicable",null,"Contractual Services","Y"]
["619","SECURITY SERVICES","Security Services - Contractual","Charge to this account all payments associated with the employment of non city employed security guards and correction officers","Not Intra-City","Not Applicable",null,"Contractual Services","Y"]
["620","WASTE DISPOSAL","Municipal Waste Export - Contractual","Charge to this account all payments made to handle the private exporting of municipal waste on behalf of the City of New York Department of Sanitation.","Not Intra-City","Not Applicable",null,"Contractual Services","Y"]
["622","TEMPORARY SERVICES","Temporary Services - Contractual","Charge to this account all payments, fees, and commissions associated with outside services for receptionist, secretarial, stenographic, typing, clerical, keypunch, messengers (including Wildcat Service Corp.), court reporting and transcribing, handy persons, etc., and any other services of a temporary nature (excluding professional services).","Not Intra-City","Not Applicable",null,"Contractual Services","Y"]
["624","CLEANING SERVICES","Cleaning Services - Contractual","Charge to this account the cost of cleaning services provided by outside contractors for rubbish removal, janitorial services, waxing and washing floors, window cleaning, cleaning of curtains, rugs, drapes, disinfecting and exterminating","Not Intra-City","Not Applicable",null,"Contractual Services","Y"]
["626","INVESTMENT COSTS","Investment Costs - Contractual","Charge to this account all expenditures associated with the support of the City's investment program. This includes all payments, fees and commissions to investment advisors, managers and custodians, and consultants for the various retirement system pension funds.","Not Intra-City","Not Applicable",null,"Contractual Services","Y"]
["629","IN REM MAINTENANCE COSTS","In-Rem Maintenance Costs - Contractual","Charge to this account the cost of contracts entered into with handypersons, building superintendents, and other workers to perform maintenance work for in-Rem property management programs","Not Intra-City","Not Applicable",null,"Contractual Services","Y"]
["633","TRANSPORTATION EXPENDITURES","Transportation Services - Contractual","Charge to this account all authorized expenditures for the transportation of pupils, the elderly, the disabled, inmates, and any car service contracts. Includes moving expenses, and the unpacking, trucking, assembling, and dismantling of voting machines","Not Intra-City","Not Applicable",null,"Contractual Services","Y"]
["640","SOCIAL SERVICES GENERAL","Social Services - General - Contractual","Charge to this account all social service payments to providers not otherwise classified under a specific social services object code","Not Intra-City","Not Applicable",null,"Contractual Services","Y"]
["641","PROTECTIVE SERVICES FOR ADULTS","Protective Services for Adults - Contractual","Charge to this account payments to providers for services related to the care and maintenance of adults who are at risk of neglect, abuse or exploitation and .are unable to protect themselves due to either mental or physical disability","Not Intra-City","Not Applicable",null,"Contractual Services","Y"]
["642","CHILDRENS CHARITABLE INSTITUTN","Children's Charitable Institutions - Contractual","Charge to this account payments to providers for per diem maintenance and miscellaneous payments for children in a variety of foster care placements. These placements are purchased on a contractual basis by the Child Welfare Administration from voluntary child care agencies. Also included in this code is an allocation for adoption fees and costs incidental to adoption procedures, such as legal fees","Not Intra-City","Not Applicable",null,"Contractual Services","Y"]
["643","CHILD WELFARE SERVICES","Child Welfare Services - Contractual","Charges to this account include contracts with voluntary child care agencies providing services to families with children deemed at risk of foster care placement. Services include family counseling, intensive case management, and drug treatment. Other services chargeable to this code include training of child social workers,  and adoption counseling.\r\nThis code also includes payments to providers for the care and maintenance of non foster care handicapped children in need of special education and treatment facilities, and disabled or handicapped foster children whose problems preclude placement with the voluntary agencies.\r\n","Not Intra-City","Not Applicable",null,"Contractual Services","Y"]
["644","DIRECT FOSTER CARE OF CHILDREN","DIRECT FOSTER CARE OF CHILDREN","Charge to this account payments to providers relating to children in the direct care of the Child Welfare Administration. This includes board payments to foster parents, as well as payments for medical expenditures, client-related expenditures, housing subsidies, and miscellaneous expenditures to meet the children's needs while they are being processed in field offices\r\n","Not Intra-City","Not Applicable",null,"Contractual Services","Y"]
["647","HOME CARE SERVICES","Home Care Services - Contractual","Charge to this account payments to providers for personal home care services to elderly and disabled individuals.  Also charge the costs of insurance, auditing and other costs associated with companies that deliver these services.","Not Intra-City","Not Applicable",null,"Contractual Services","Y"]
["648","HOMEMAKING SERVICES","Homemaking Services - Contractual","Charge to this account payments to providers for personal homemaking services primarily to families, that may include aged, blind and disabled adults in order to strengthen and safeguard their functioning in their own homes. Services also include the teaching of independent living skills so clients may eventually function without the benefit of this service and the care of children in their own homes due to illness, incapacity or absence of parents or guardians.","Not Intra-City","Not Applicable",null,"Contractual Services","Y"]
["649","NON GRANT CHARGES","Non-Grant Charges - Contractual","Charge to this account payments to providers made for services that are subsidiary to the Public Assistance program, but separate from the base grant. These services include eviction prevention programs, residential drug and alcohol treatment programs, funds for burial assistance and medical examinations for public assistance applicants and recipients to determine eligibility or disability","Not Intra-City","Not Applicable",null,"Contractual Services","Y"]
["650","HOMELESS FAMILY SERVICES","Homeless Family Services - Contractual","Charge to this account payments to providers for all expenditures incurred while providing resources such as food, security, medical services and other miscellaneous support items to homeless families residing in emergency or transitional settings","Not Intra-City","Not Applicable",null,"Contractual Services","Y"]
["651","AIDS SERVICES","AIDS Services - Contractual","Charge to this account payments to providers for housing, counseling, testing, education, social services and other miscellaneous items relevant to serving persons with AIDS and HIV illness","Not Intra-City","Not Applicable",null,"Contractual Services","Y"]
["652","DAY CARE OF CHILDREN","Day Care of Children - Contractual","Charge to this account payments to providers for day care services for children where the parents or guardians are unavailable or unable to care for the child during the day or a portion of the day, as well as payments made for rent and utility  costs at directly  based  sites,  centrally  purchased insurance costs, program related audits and infrastructure upkeep of day care centers","Not Intra-City","Not Applicable",null,"Contractual Services","Y"]
["653","HEAD START","Head Start - Contractual","Charge to this account payments to providers relating to the Head Start Program, which provide comprehensive health nutritional, educational, social and other services to eligible preschool children. In addition to the direct provision of day care services, this code may accommodate centrally purchased insurance costs, pension costs, program related audits and infrastructure upkeep of day care centers","Not Intra-City","Not Applicable",null,"Contractual Services","Y"]
["655","MENTAL HYGIENE SERVICES","Mental Hygiene Services - Contractual","Charge to this account all payments to providers made to fulfill voluntary contractual services for outpatient and inpatient clinics, as well as psychiatric evaluation diagnosis and treatment services","Not Intra-City","Not Applicable",null,"Contractual Services","Y"]
["656","MED AND HEALTH RESRCH ASSOC-GEN","MED AND HEALTH RESRCH ASSOC-GEN","Charge to this account all payments to providers made while fulfilling obligations to provide maternal and child welfare health care","Not Intra-City","Not Applicable",null,"Contractual Services","Y"]
["657","HOSPITALS CONTRACTS","Hospitals Contracts - Contractual","Charge to this account all expenditures incurred while fulfilling contractual obligations with Montefiore and St. Vincent's hospitals to provide health care for prisoners","Not Intra-City","Not Applicable",null,"Contractual Services","Y"]
["658","SPECIAL CLINICAL SERVICES","Veterinary Services - Contractual","Charge to this account all expenditures incurred while fulfilling contractual obligations for the care, support and treatment provided by the Center for Animal Control","Not Intra-City","Not Applicable",null,"Contractual Services","Y"]
["659","HOMELESS INDIVIDUAL SERVICES","Homeless Individual Services - Contractual","Charge to this account all payments to providers made for services to homeless individuals including emergency housing, outreach, food, counseling, medical services and other support services","Not Intra-City","Not Applicable",null,"Contractual Services","Y"]
["660","ECONOMIC DEVELOPMENT","Economic Development - Contractual","Charge to this account all payments made for economic development related services","Not Intra-City","Not Applicable",null,"Authorities & External Institutions - EDC","Y"]
["662","EMPLOYMENT SERVICES","Employment Services - Contractual","Charge to this account payments to providers for assisting Public Assistance recipients in finding employment and reducing their welfare dependency through job placement, job training, work experience programs, provision of children's day care and other related services","Not Intra-City","Not Applicable",null,"Contractual Services","Y"]
["665","LEGAL AID SOCIETY","Legal Aid Society - Contractual","Charge to this account all payments incurred by or in association with the Legal Aid Society. Such payments shall include but not be limited to the maintenance of the Legal Aid Society, Emergency Felony Case Processing Programming, and the Special Narcotics Case Program","Not Intra-City","Not Applicable",null,"Contractual Services","Y"]
["667","PAY TO CULTURAL INSTITUTIONS","Payments to Cultural Institutions - Contractual","Charge to this account payments made by Cultural Institutions to various cultural contractors","Not Intra-City","Not Applicable",null,"Contractual Services","Y"]
["668","BUS TRANSP REIMBURSABLE PRGMS","Bus Transportation for Reimbursable Programs - Contractual","Charge to this account all payments for bus transportation provided for Federal, State or other funded programs","Not Intra-City","Not Applicable",null,"Contractual Services","Y"]
["669","TRANSPORTATION OF PUPILS","Transportation of Pupils - Contractual","Charge to this account payments made by the Board of Education to the New York City Transit Authority or to private bus lines under contract for the transportation of pupils to and from public and non public schools","Not Intra-City","Not Applicable",null,"Contractual Services","Y"]
["670","PMTS CONTRACT/CORPORAT SCHOOL","Payments to Contract Schools and Corporate Schools for Handicapped Children-Contractual","Charge to this account all payments to contract schools for services to handicapped children where the Board of Education does not have adequate facilities","Not Intra-City","Not Applicable",null,"Contractual Services","Y"]
["671","TRAINING PRGM CITY EMPLOYEES","Training Program for City Employees - Contractual","Charge to this account all expenditures in connection with the training of City employees in the performance of their duties by other than City employees","Not Intra-City","Not Applicable",null,"Contractual Services","Y"]
["672","CHARTER SCHOOLS","Charter Schools","Charge to this account all payments made to charter schools under contract with the Department of Education.","Not Intra-City","Not Applicable",null,"Contractual Services","Y"]
["676","MAINT & OPER OF INFRASTRUCTURE","Maintenance and Operation of Infrastructure - Contractual","Include all expenditures for maintenance, operation, repairs, replacements and alterations to all property, including but not limited to parks and recreational facilities, buildings, outdoor lighting and traffic signal equipment","Not Intra-City","Not Applicable",null,"Contractual Services","Y"]
["678","PAYMENTS TO DELEGATE AGENCIES","Payments to Delegate Agencies - Contractual","Charge to this account payments under the Federal Governments Economic Opportunity Program for programs such as Head Start, Medicare, etc","Not Intra-City","Not Applicable",null,"Contractual Services","Y"]
["681","PROF SERV ACCTING & AUDITING","Professional Services - Accounting, Auditing and Actuarial Services -Contractual","Charge to this account all payments for professional accounting, auditing or actuarial services performed by other than City employees","Not Intra-City","Not Applicable",null,"Contractual Services","Y"]
["682","PROF SERV LEGAL SERVICES","Professional Services - Legal Services - Contractual","Charge to this account all payments for professional legal services performed by other than City employees (except Legal Aid).","Not Intra-City","Not Applicable",null,"Contractual Services","Y"]
["683","PROF SERV ENGINEER & ARCHITECT","Professional Services  Engineering and Architectural Services - Contractual","Charge to this account all payments for professional engineering or architectural services performed by other than City employees.","Not Intra-City","Not Applicable",null,"Contractual Services","Y"]
["684","PROF SERV COMPUTER SERVICES","Professional Services - Computer Services - Contractual","Charge to this account all payments for professional computer related services performed by other than City employees.","Not Intra-City","Not Applicable",null,"Contractual Services","Y"]
["685","PROF SERV DIRECT EDUC SERV","Professional Services - Direct Educational Services to Students - Contractual","Charge to this account all payments for professional educational related services performed by other than City employees","Not Intra-City","Not Applicable",null,"Contractual Services","Y"]
["686","PROF SERV OTHER","Professional Services - Other - Contractual","Charge to this account all payments for all other professional services such as management analysis, special studies and other advisory services, etc., performed by other than City employees that are not otherwise classified under a specific professional service code","Not Intra-City","Not Applicable",null,"Contractual Services","Y"]
["688","BANK CHARGES PUBLIC ASST ACCT","Bank Charges - Public Assistance Accounts - Contractual","Charge to this account the cost of contracts entered into with banks for check writing fees, stop payment fees, reimbursement to vendor fees, and any other fees associated with the cost of maintaining accounts","Not Intra-City","Not Applicable",null,"Contractual Services","Y"]
["689","PROF SERV CURRIC & PROF DEVEL","Professional Services - Curriculum and Professional Development - Contractual","Charge to this account payments to providers for indirect services and services to staff such as professional and curriculum development","Not Intra-City","Not Applicable",null,"Contractual Services","Y"]
["695","EDUCATION & REC FOR YOUTH PRGM","Educational and Recreational Expenditures for Youth Programs - Contractual","Charge to this account payments to providers for educational and recreational activities for youth programs","Not Intra-City","Not Applicable",null,"Contractual Services","Y"]
["700","FIXED CHARGES - GENERAL","Fixed Charges - General","Charge to this account all charges not otherwise classified under a specific fixed charges object code.","Not Intra-City","Not Applicable",null,"Fixed Charges","Y"]
["701","TAXES AND LICENSES","Taxes and Licenses","Charge to this account all payments made for real estate taxes and assessments, water taxes, automobile registration fees, and other miscellaneous licenses and fees pertinent to City business.","Not Intra-City","Not Applicable",null,"Fixed Charges","Y"]
["702","PMYT STATEN IS RAPID TRNS SYS","Payments to Staten Island Rapid Transit Operating Authority","Charge to this account all operating assistance payments made in connection with the operation of the Staten Island Rapid Transit System","Not Intra-City","Not Applicable",null,"Fixed Charges","Y"]
["703","ADV TO STNY FR CUNY SR COL EXP","Advance to State of New York for CUNY Senior College Expenditures","Charge to this account reimbursable payments made by the City for the funding of State education at the Senior College level. These payments encompass all spending and facets deemed as necessary college expenditures","Not Intra-City","Not Applicable",null,"Fixed Charges","Y"]
["704","PAY FOR SURETY BOND/INSUR PREM","Payments for Surety Bonds and Insurance Premiums","Charge to this account premium payments for surety bonds and other insurance policies,","Not Intra-City","Not Applicable",null,"Fixed Charges","Y"]
["705","INTEREST ON TAX REFUNDS","INTEREST ON TAX REFUNDS","INTEREST ON TAX REFUNDS","Not Intra-City","Not Applicable",null,"Fixed Charges","Y"]
["706","PROMPT PAYMENT INTEREST","Prompt Payments Interest","This account cannot be charged directly. Late vendor payments for certain payment voucher types and specified objects automatically generate interest payments which are coded to this account.","Not Intra-City","Not Applicable",null,"Fixed Charges","Y"]
["707","CRIME PREVENTION INJURY AWARD","Crime Prevention Injury Award","Charge to this account awards made to persons other than peace officers for the death of or injury to, which was caused while such person was engaged on streets or on a City owned and publicly operated transit facility in attempting to prevent the commission of a crime against the person or property of another, preserve the peace or prevent public disturbances.","Not Intra-City","Not Applicable",null,"Fixed Charges","Y"]
["708","AWARDS WIDOW/OTH DEPND EMP KLD","Awards to Widows or Other Dependents of the NYC Uniformed Forces Killed in the Performance of Duty","Charge to this account awards made to widows or dependents of police officers, firefighters, etc. killed in the performance of duty","Not Intra-City","Not Applicable",null,"Fixed Charges","Y"]
["709","AWARD TO BEN OF POLICE/FIREMEN","Awards to Beneficiaries of City Employees Other Than Uniformed Forces Killed in the Performance of","Charge to this account awards made to beneficiaries of City employees other than uniformed forces killed in the performance of duties","Not Intra-City","Not Applicable",null,"Fixed Charges","Y"]
["710","JUDGMNTS/CLAIMS FOR PERSON INJ","JUDGMNTS/CLAIMS FOR PERSON INJ","JUDGMNTS/CLAIMS FOR PERSON INJ","Not Intra-City","Not Applicable",null,"Fixed Charges","Y"]
["711","JUDGMNTS/CLAIMS FOR DAMAG PROP","JUDGMNTS/CLAIMS FOR DAMAG PROP","JUDGMNTS/CLAIMS FOR DAMAG PROP","Not Intra-City","Not Applicable",null,"Fixed Charges","Y"]
["712","HEALTH INSURANCE PAYMENTS","Health Insurance - Libraries/Cultural Institutions","Charge to this account payments made for health insurance on behalf of the libraries and certain cultural institutions","Not Intra-City","Not Applicable",null,"Fixed Charges","Y"]
["713","MCT MOBILITY TAX","MTA Payroll Tax","MCT MOBILITY TAX","Not Intra-City","Not Applicable",null,"Authorities & External Institutions - MTA","Y"]
["714","PAYMENTS TO HHC","Payments to New York City Health and Hospitals Corporation","Charge to this account lump sum payments to Health and Hospitals Corporation (HHC) (or hospital care services, and various expenditures applicable to HHC operations including Job Training Partnership Act expenditures, employee fringe benefits, debt service and water charges).","Not Intra-City","Not Applicable",null,"Authorities & External Institutions - HHC","Y"]
["715","PAYMENTS TO CULTURAL INSTITUTN","Payments to Cultural Institutions","Charge to this account payments made by the City to subsidize various cultural institutions.","Not Intra-City","Not Applicable",null,"Fixed Charges","Y"]
["716","PAYMENTS TO LIBRARIES","Payments to Libraries","Charge to this account payments made by the City to subsidize the libraries","Not Intra-City","Not Applicable",null,"Authorities & External Institutions - Libraries","Y"]
["717","PENSIONS- HEAD START","Pensions - Head Start","Charge to this account all payments made in association with the Head Start Pension Program to those delegate or not for profit institutions which are licensed providers of day care services.","Not Intra-City","Not Applicable",null,"Fixed Charges","Y"]
["718","PMNT SPEC SCHOOL HANDICAP CHLD","Payments for Special Schooling -Handicapped Children","Charge to this account payments made to other school districts and institutions for the special schooling of handicapped children","Not Intra-City","Not Applicable",null,"Fixed Charges","Y"]
["719","JUDGEMENTS AND CLAIMS","Judgments and Claims","Charge to this account all payments made to claimants, other than City employees, as settlement of claims before suit, or for judgments rendered on account of personal injuries, property damage or those arising out of legal disputes with the City. and no fault automobile accidents caused by the City or its employees while engaged in performing official duties","Not Intra-City","Not Applicable",null,"Fixed Charges","Y"]
["720","MISCELLANEOUS AWARDS","MISCELLANEOUS AWARDS","MISCELLANEOUS AWARDS","Not Intra-City","Not Applicable",null,"Fixed Charges","Y"]
["721","PAYMENTS TO CUNY","PAYMENTS TO CUNY","PAYMENTS TO CUNY","Not Intra-City","Not Applicable",null,"Fixed Charges","Y"]
["722","PAY TO CUNY CONSTRUCTION FUND","PAY TO CUNY CONSTRUCTION FUND","PAY TO CUNY CONSTRUCTION FUND","Not Intra-City","Not Applicable",null,"Fixed Charges","Y"]
["723","PAYMENTS TO EDUC CONSTRUCT FND","PAYMENTS TO EDUC CONSTRUCT FND","PAYMENTS TO EDUC CONSTRUCT FND","Not Intra-City","Not Applicable",null,"Fixed Charges","Y"]
["724","JTPA-WAGES","Job Training Partnership Act - Wages","Charge to this account all payments made to those persons who are eligible and participate in the summer youth program, as well as those who are eligible for stipends under the job training program","Not Intra-City","Not Applicable",null,"Fixed Charges","Y"]
["725","JTPA-FRINGES","Job Training Partnership Act - Fringe Benefits","Charge to this account all payments for fringe benefits, i.e., worker's compensation, social security, etc., for those who are eligible and participate in the summer youth and job training programs.","Not Intra-City","Not Applicable",null,"Fixed Charges","Y"]
["726","CETA WAGES FRINGE-LUMP SUM AG","CETA WAGES FRINGE-LUMP SUM AG","CETA WAGES FRINGE-LUMP SUM AG","Not Intra-City","Not Applicable",null,"Fixed Charges","Y"]
["727","OFF OF AGING FRINGES-LMP SUM","OFF OF AGING FRINGES-LMP SUM","OFF OF AGING FRINGES-LMP SUM","Not Intra-City","Not Applicable",null,"Fixed Charges","Y"]
["728","PAYMENTS TO TRS-HIGHER EDUCATN","PAYMENTS TO TRS-HIGHER EDUCATN","PAYMENTS TO TRS-HIGHER EDUCATN","Not Intra-City","Not Applicable",null,"Fixed Charges","Y"]
["729","PAYMENTS TO TIAA-HIGHER EDUCTN","PAYMENTS TO TIAA-HIGHER EDUCTN","PAYMENTS TO TIAA-HIGHER EDUCTN","Not Intra-City","Not Applicable",null,"Fixed Charges","Y"]
["730","TUITION PAYMNT OUT CTY FOST CR","Tuition Payments for Out-of-City Foster Care","Charge to this account tuition payments for New York City resident pupils under foster care in locations outside of New York City","Not Intra-City","Not Applicable",null,"Fixed Charges","Y"]
["731","HEALTH SERV CHRGS OUT CTY CARE","Health Service Charges for Out-of-City Care","Charge to this account payments for speech, psychological, welfare, and health costs for New York City pupils attending non public schools outside of New York City","Not Intra-City","Not Applicable",null,"Fixed Charges","Y"]
["732","MISCELLANEOUS AWARDS","Miscellaneous Awards","Charge to this account payments made to City employees for suggestions and other awards, as well as those miscellaneous awards not otherwise classified under a specific object code","Not Intra-City","Not Applicable",null,"Fixed Charges","Y"]
["733","PAYMENTS TO H.H.C.- MEDICAID","PAYMENTS TO H.H.C.- MEDICAID","PAYMENTS TO H.H.C.- MEDICAID","Not Intra-City","Not Applicable",null,"Authorities & External Institutions - HHC","Y"]
["734","PAYMENTS TO CULTURL INSTS","PAYMENTS TO CULTURL INSTS","PAYMENTS TO CULTURL INSTS","Not Intra-City","Not Applicable",null,"Fixed Charges","Y"]
["735","PAYMTS FR CULT PROGS /SERVICES","Payments for Cultural Programs/Services","Charge to this account all expenditures incurred while fulfilling contractual obligations for cultural programs and services","Not Intra-City","Not Applicable",null,"Fixed Charges","Y"]
["736","PAYMENTS FOR WATER SEWER USAGE","Payments for Water/ Sewer Usage","Charge to this account all payments made for New York City water and sewer usage","Not Intra-City","Not Applicable",null,"Fixed Charges","Y"]
["739","POLLUTION REMEDIATION COST","Pollution Remediation Cost","Charge to this account expenditures that meet the GASB Statement no. 49 description of pollution remediation.","Not Intra-City","Not Applicable",null,"Fixed Charges","Y"]
["740","PAYMENTS TO PROPERTY OWNERS","Payments To Property Owners","Charge to this account reimbursements made to property owners who used personal funds to repair eligible Hurricane Sandy damage to their homes or rental property, as provided by the Build It Back program.","Not Intra-City","Not Applicable",null,"Fixed Charges","Y"]
["741","PAYMENTS TO CONTRACTORS","Payments To Contractors","Charge to this account payments made to City selected contractors to rebuild demolished or destroyed homes caused by Hurricane Sandy, as provided by the Build It Back program.                ","Not Intra-City","Not Applicable",null,"Fixed Charges","Y"]
["745","IRT RELIEF/LIRR GRADE CROSSNGS","IRT Relief/LIRR Grade Crossings / Roosevelt Island","IRT RELIEF/LIRR GRADE CROSSNGS","Not Intra-City","Not Applicable",null,"Fixed Charges","Y"]
["746","REPUR PENSION SYST IN REM MORT","REPUR PENSION SYST IN REM MORT","REPUR PENSION SYST IN REM MORT","Not Intra-City","Not Applicable",null,"Fixed Charges","Y"]
["751","REDUCED FARES FOR SCHOOL CHILD","REDUCED FARES FOR SCHOOL CHILD","REDUCED FARES FOR SCHOOL CHILD","Not Intra-City","Not Applicable",null,"Fixed Charges","Y"]
["758","FED SEC 8 RENT SUBSIDY","Federal Section 8 Rent Subsidy","Charge to this account subsidy payments made to owners of multiple dwellings and/or individual tenants in order to reduce housing rentals, as provided in Section 8 of the Housing Assistance Program and similar programs","Not Intra-City","Not Applicable",null,"Fixed Charges","Y"]
["759","BUS TRANS FOR REIMBURSE PROGMS","BUS TRANS FOR REIMBURSE PROGMS","BUS TRANS FOR REIMBURSE PROGMS","Not Intra-City","Not Applicable",null,"Fixed Charges","Y"]
["760","REDUCED FARES FOR THE ELDERLY","Reduced Fares for the Elderly","Charge to this account all payments made to the Transit Authority and private bus companies in connection with the reduced fares for the elderly program","Not Intra-City","Not Applicable",null,"Fixed Charges","Y"]
["761","PRIV BUS CO REDUC FRS ELDERLY","PRIV BUS CO REDUC FRS ELDERLY","PRIV BUS CO REDUC FRS ELDERLY","Not Intra-City","Not Applicable",null,"Fixed Charges","Y"]
["762","SUBSIDY PRIVATE BUS COMPANIES","Subsidy to Private Bus Companies","Charge to this account subsidies paid to private bus companies","Not Intra-City","Not Applicable",null,"Fixed Charges","Y"]
["763","MTA FOR STATION MAINTENANCE","Payments to the MTA for Maintenance of Stations","Charge to this account all payments made to the Metropolitan Transportation Authority for maintenance of stations","Not Intra-City","Not Applicable",null,"Authorities & External Institutions - MTA","Y"]
["766","ENGINEERING EXP-TRANSIT PROJ","ENGINEERING EXP-TRANSIT PROJ","ENGINEERING EXP-TRANSIT PROJ","Not Intra-City","Not Applicable",null,"Authorities & External Institutions - MTA","Y"]
["767","TA OPERATING ASSISTANCE 18B","TA Operating Assistance - 18B","Charge to this account all payments made to the Transit. Authority  to fulfill  obligations and terms  of  the  Operating Assistance Match as required by State Finance Section 1Bb","Not Intra-City","Not Applicable",null,"Authorities & External Institutions - MTA","Y"]
["769","GEN REV SHARNG FNDS TRNST AUTH","GEN REV SHARNG FNDS TRNST AUTH","GEN REV SHARNG FNDS TRNST AUTH","Not Intra-City","Not Applicable",null,"Authorities & External Institutions - MTA","Y"]
["770","PAY TO NYC HOUSING AUTHORITY","Payments to New York City Housing Authority","Charge to this account subsidy payments made to the New York City Housing Authority for operational needs in the housing projects.","Not Intra-City","Not Applicable",null,"Authorities & External Institutions - NYCHA","Y"]
["771","PAYMENTS TO MILITARY AND OTHER","Payments to Military and Other Units","Charge to this account all payments made for the purchase of flags and other veteran related items and activities","Not Intra-City","Not Applicable",null,"Fixed Charges","Y"]
["772","NYC TRNST AUTH RED FR SCHL CHD","New York City Transit Authority - Reduced Fares for Schoolchildren","Charge to this account payments made to the New York City Transit Authority for transportation of pupils to and from public and non public schools in carriers operated by the Transit Authority. Payment in this code represents the difference between the total cost of transportation and the amount the pupil pays toward the total cost","Not Intra-City","Not Applicable",null,"Authorities & External Institutions - MTA","Y"]
["773","PRIV BUS COMP RED FR SCHL CHLD","Private Bus Companies - Reduced Fares for Schoolchildren","Charge to this account payments made to private bus lines for transportation of pupils to and from public and non public schools in carriers operated by private transportation companies. Payment in this code represents the difference between the total cost of transportation and the amount the pupil pays toward the total cost","Not Intra-City","Not Applicable",null,"Fixed Charges","Y"]
["774","TRANSIT POLICE","TRANSIT POLICE","TRANSIT POLICE","Not Intra-City","Not Applicable",null,"Authorities & External Institutions - MTA","Y"]
["775","HOUSING AUTHORITY POLICE","HOUSING AUTHORITY POLICE","HOUSING AUTHORITY POLICE","Not Intra-City","Not Applicable",null,"Authorities & External Institutions - NYCHA","Y"]
["776","PAY TO METRO TRANSPORT AUTHOR","Payments to Metropolitan Transportation Authority","Charge to this account payments made to the Metropolitan Transportation Authority to fulfill terms of the Commuter Railroad Operating Assistance Match","Not Intra-City","Not Applicable",null,"Authorities & External Institutions - MTA","Y"]
["778","PAYMNTS PRIVATE BUS COMPANIES","Payments to Private Bus Companies","PAYMNTS PRIVATE BUS COMPANIES","Not Intra-City","Not Applicable",null,"Fixed Charges","Y"]
["779","TRANSPORTATION OF PUPILS","TRANSPORTATION OF PUPILS","Charge to this account payments made by the Board of Education to other City Agencies under contract for the transportation of pupils to and from public and non public schools","Not Intra-City","Not Applicable",null,"Fixed Charges","Y"]
["77I","TRANSPORTATION OF PUPILS","TRANSPORTATION OF PUPILS","TRANSPORTATION OF PUPILS","Intra-City","Not Applicable",null,"Fixed Charges","Y"]
["780","CAMPAIGN FINANCES","Campaign Finances","Charge to this account all payments made to those persons enrolled in the campaign finance program and who are running for Citywide public office","Not Intra-City","Not Applicable",null,"Fixed Charges","Y"]
["782","UNALLOCATED CONTINGENCY RESER","Unallocated Contingency Reserve","Funds are appropriated to this account as a reserve for unanticipated revenue shortfalls or expenditure overruns during the course of the fiscal year. This account cannot be charged directly","Not Intra-City","Not Applicable",null,"Fixed Charges","Y"]
["786","DEPRECIATION EXPENSE","DEPRECIATION EXPENSE","DEPRECIATION EXPENSE","Not Intra-City","Not Applicable",null,"Fixed Charges","Y"]
["789","TRANSFERS TO CAPTAL PRJCTS FND","TRANSFERS TO CAPTAL PRJCTS FND","TRANSFERS TO CAPTAL PRJCTS FND","Not Intra-City","Not Applicable",null,"Fixed Charges","Y"]
["790","TRANSFERS TO OTHER FUNDS","Transfers to Other Funds","Charge this account with monies transferred to another fund to either pay the disbursing fund's portion of costs, or to subsidize another fund where no repayment is expected (e.g., General Fund transfer to the Capital Projects Fund for its share of the Capital Projects Fund costs).","Not Intra-City","Not Applicable",null,"Fixed Charges","Y"]
["791","TUITION TO OTHER SCHOOL DISTRT","Tuition Payments to Other School Districts","Charge to this account payments made by the Board of Education to other school systems for tuition costs of pupils who are legal residents of New York City","Not Intra-City","Not Applicable",null,"Fixed Charges","Y"]
["792","PMNTS CONTRACT/CORPORAT SCHOOL","PMNTS CONTRACT/CORPORAT SCHOOL","PMNTS CONTRACT/CORPORAT SCHOOL","Not Intra-City","Not Applicable",null,"Fixed Charges","Y"]
["793","PMNTS FASHION INSTITUT TECHNOL","Payments to Fashion Institute of Technology","Charge to this account  payments  made  by the Board  of Education as sponsoring agent  on behalf  of  the  Fashion : Institute of Technology","Not Intra-City","Not Applicable",null,"Fixed Charges","Y"]
["794","TRAINING CITY EMPLOYEES","Training Program for City Employees","Charge to this account all expenditures in connection with the training of City employees in the performance of their duties by City employees","Not Intra-City","Not Applicable",null,"Fixed Charges","Y"]
["795","BAD DEBT EXPENSE","Bad Debt Expense","BAD DEBT EXPENSE","Not Intra-City","Not Applicable",null,"Fixed Charges","Y"]
["796","PMTS DEPUTY STATE COMPTROLLER","Sales Tax Revenues Allocated to OSDC","PMTS DEPUTY STATE COMPTROLLER","Not Intra-City","Not Applicable",null,"Fixed Charges","Y"]
["797","SALES TAX  REVENUES ALLOCATED TO FCB","Sales Tax Revenues Allocated to FCB","SALES TAX  REVENUES ALLOCATED TO FCB","Not Intra-City","Not Applicable",null,"Fixed Charges","Y"]
["798","SALES TAX  REVENUES ALLOCATED TO STARC","Sales Tax Revenues Allocated to STARC","SALES TAX  REVENUES ALLOCATED TO STARC","Not Intra-City","Not Applicable",null,"Fixed Charges","Y"]
["799","RESTRICTED FUND ACTIVITY","Restricted Fund Activity","RESTRICTED FUND ACTIVITY","Not Intra-City","Not Applicable",null,"Fixed Charges","Y"]
["79D","TRAINING CITY EMPLOYEES","TRAINING CITY EMPLOYEES","TRAINING CITY EMPLOYEES","Intra-City","Not Applicable",null,"Fixed Charges","Y"]
["801","SALES TAX ALLOCATED TO MAC","SALES TAX ALLOCATED TO MAC","Charge to this account sales tax revenues, stock transfer tax revenues and New York State per capita aid paid over to the Municipal Assistance Corporation (MAC) to meet MAC's debt service requirements.","Not Intra-City","Not Applicable",null,"Interest & Other","Y"]
["802","OPERATION EXPENDITURES MAC","OPERATION EXPENDITURES MAC","OPERATION EXPENDITURES MAC","Not Intra-City","Not Applicable",null,"Interest & Other","Y"]
["803","INT/REDEMPTION ST DEBT-MAC","INT/REDEMPTION ST DEBT-MAC","INT/REDEMPTION ST DEBT-MAC","Not Intra-City","Not Applicable",null,"Interest & Other","Y"]
["810","INTEREST ON BONDS - GENERAL","Interest on Bonds - General","Charge to this account amounts transferred to the Debt Service Fund for the payment of interest on general obligation bonds for purposes other than those in accounts 811, 812, 813 and 814.","Not Intra-City","Not Applicable",null,"Interest & Other","Y"]
["811","INTEREST ON BONDS - EDUCATION","INTEREST ON BONDS - EDUCATION","Charge to this account amounts transferred to the Debt Service Fund for the payment of interest on general obligation bonds for education purposes","Not Intra-City","Not Applicable",null,"Interest & Other","Y"]
["812","INTEREST ON BONDS - TRANSIT","INTEREST ON BONDS - TRANSIT","Charge to this account amounts transferred to the Debt Service Fund for the payment of interest on general obligation bonds for transit purposes","Not Intra-City","Not Applicable",null,"Interest & Other","Y"]
["813","INTEREST ON BONDS-HLTH/HOSP CO","INTEREST ON BONDS-HLTH/HOSP CO","Charge to this account amounts transferred to the Debt Service Fund for the payment of interest on general obligation bonds issued for the Health and Hospitals Corporation","Not Intra-City","Not Applicable",null,"Interest & Other","Y"]
["814","INT BONDS WATER POLLUT CONTRL","INT BONDS WATER POLLUT CONTRL","Charge to this account amounts transferred to the Debt Service Fund for the payment of interest on general obligation bonds for water pollution control","Not Intra-City","Not Applicable",null,"Interest & Other","Y"]
["815","INTEREST ON NOTES-FUNDED DEBT","INTEREST ON NOTES-FUNDED DEBT","INTEREST ON NOTES-FUNDED DEBT","Not Intra-City","Not Applicable",null,"Interest & Other","Y"]
["816","AMORTIZATION OF INVSTMT PREM.","AMORTIZATION OF INVSTMT PREM.","AMORTIZATION OF INVSTMT PREM.","Not Intra-City","Not Applicable",null,"Interest & Other","Y"]
["817","AMORTIZATION OF BONDS PAY.DISC","AMORTIZATION OF BONDS PAY.DISC","AMORTIZATION OF BONDS PAY.DISC","Not Intra-City","Not Applicable",null,"Interest & Other","Y"]
["820","DSF Redemptions","DSF Redemptions","DSF Redemptions","Not Intra-City","Not Applicable",null,"Interest & Other","Y"]
["821","DSF Interest Expenses","DSF Interest Expenses","DSF Interest Expenses","Not Intra-City","Not Applicable",null,"Interest & Other","Y"]
["822","DSF Payment to Bond Escrow Holder","DSF Payment to Bond Escrow Holder","DSF Payment to Bond Escrow Holder","Not Intra-City","Not Applicable",null,"Interest & Other","Y"]
["823","DSF Equity Contribution Expenses","DSF Equity Contribution Expenses","DSF Equity Contribution Expenses","Not Intra-City","Not Applicable",null,"Interest & Other","Y"]
["824","DSF Gross of Swap Interest Payments","DSF Gross of Swap Interest Payments","DSF Gross of Swap Interest Payments","Not Intra-City","Not Applicable",null,"Interest & Other","Y"]
["825","DSF Underwriter's Compensation","DSF Underwriter's Compensation","DSF Underwriter's Compensation","Not Intra-City","Not Applicable",null,"Interest & Other","Y"]
["826","DSF Other Financing Expenses","DSF Other Financing Expenses","DSF Other Financing Expenses","Not Intra-City","Not Applicable",null,"Interest & Other","Y"]
["830","INTEREST ON NOTES-FUNDED DEBT","Interest on Notes - Funded debt","Charge to this account amounts transferred to the Debt Service Fund for the payment of interest on short term obligations issued within the 2.5 percent tax limitation","Not Intra-City","Not Applicable",null,"Interest & Other","Y"]
["831","LOSS ON SALE OF INVESTMENT","LOSS ON SALE OF INVESTMENT","LOSS ON SALE OF INVESTMENT","Not Intra-City","Not Applicable",null,"Interest & Other","Y"]
["835","INTEREST ON STATE SUPER ADVANC","INTEREST ON STATE SUPER ADVANC","INTEREST ON STATE SUPER ADVANC","Not Intra-City","Not Applicable",null,"Interest & Other","Y"]
["840","REDEMPTION OF CAPITAL NOTES","REDEMPTION OF CAPITAL NOTES","REDEMPTION OF CAPITAL NOTES","Not Intra-City","Not Applicable",null,"Interest & Other","Y"]
["842","REDEMPTION TAX ANTICIPATN NOTE","REDEMPTION TAX ANTICIPATN NOTE","REDEMPTION TAX ANTICIPATN NOTE","Not Intra-City","Not Applicable",null,"Interest & Other","Y"]
["843","REDEMPTION REV ANTICIPATN NOTE","REDEMPTION REV ANTICIPATN NOTE","REDEMPTION REV ANTICIPATN NOTE","Not Intra-City","Not Applicable",null,"Interest & Other","Y"]
["844","REDEMPTION BND ANTICIPATN NOTE","REDEMPTION BND ANTICIPATN NOTE","REDEMPTION BND ANTICIPATN NOTE","Not Intra-City","Not Applicable",null,"Interest & Other","Y"]
["846","REDEMPTION URBAN RENEWAL NOTES","REDEMPTION URBAN RENEWAL NOTES","REDEMPTION URBAN RENEWAL NOTES","Not Intra-City","Not Applicable",null,"Interest & Other","Y"]
["848","REDEMPTION SERIAL BONDS-ED","REDEMPTION SERIAL BONDS-ED","Charge to this account amounts transferred to the Debt Service Fund to redeem general obligation bonds issued for education purposes.","Not Intra-City","Not Applicable",null,"Interest & Other","Y"]
["849","REDEMPTION SERIAL BONDS-HHC","REDEMPTION SERIAL BONDS-HHC","Charge to this account amounts transferred to the Debt Service Fund to redeem general obligation bonds issued for the Health and Hospitals Corporation","Not Intra-City","Not Applicable",null,"Interest & Other","Y"]
["850","REDEMPTION SERIAL BONDS GENERL","Redemption of General Obligation Bonds - General","Charge to this account amounts transferred to the Debt Service Fund to redeem general obligation bonds issued for purposes other than those specified in accounts 848, 849, 852 and 854","Not Intra-City","Not Applicable",null,"Interest & Other","Y"]
["852","REDEMPTION SERIAL BONDS TRANST","REDEMPTION SERIAL BONDS TRANST","Charge to this account amounts transferred to the Debt Service Fund to redeem general obligation bonds for transit purposes","Not Intra-City","Not Applicable",null,"Interest & Other","Y"]
["854","REDEMPTION BONDS WATER POLLUTN","REDEMPTION BONDS WATER POLLUTN","Charge to this account amounts transferred to the Debt Service Fund to redeem general obligation bonds for water pollution control","Not Intra-City","Not Applicable",null,"Interest & Other","Y"]
["859","AMORT INSTALL GEN SINKING FUND","AMORT INSTALL GEN SINKING FUND","AMORT INSTALL GEN SINKING FUND","Not Intra-City","Not Applicable",null,"Interest & Other","Y"]
["860","REBATE ON INTEREST EARNINGS","REBATE ON INTEREST EARNINGS","Charge to this account amounts required to  pay rebatable arbitrage","Not Intra-City","Not Applicable",null,"Interest & Other","Y"]
["861","AMORT INSTALL WAT SINKING FNDS","AMORT INSTALL WAT SINKING FNDS","AMORT INSTALL WAT SINKING FNDS","Not Intra-City","Not Applicable",null,"Interest & Other","Y"]
["862","AMORT INSTALL TRNST SINKNG FND","AMORT INSTALL TRNST SINKNG FND","AMORT INSTALL TRNST SINKNG FND","Not Intra-City","Not Applicable",null,"Interest & Other","Y"]
["863","TRANSFER FOR FUTURE DEBT SRVCE","TRANSFER FOR FUTURE DEBT SRVCE","Charge  to  this  account  amounts  transferred  to  the  Debt Service Fund for future debt service payments","Not Intra-City","Not Applicable",null,"Interest & Other","Y"]
["865","COMMITMENT FEE -SEASONAL LOANS","COMMITMENT FEE -SEASONAL LOANS","COMMITMENT FEE -SEASONAL LOANS","Not Intra-City","Not Applicable",null,"Interest & Other","Y"]
["870","BLENDED COMPONENT UNITS","Blended Component Units","Charge to  this account  amounts  required  to  pay  lease payments to blended component units","Not Intra-City","Not Applicable",null,"Interest & Other","Y"]
["880","PAYMENTS TO DORM.AUTH ADM.","PAYMENTS TO DORM.AUTH ADM.","PAYMENTS TO DORM.AUTH ADM.","Not Intra-City","Not Applicable",null,"Authorities & External Institutions - DASNY","Y"]
["881","PAYMENTS TO DORM.AUTH.DBT.SVCE","PAYMENTS TO DORM.AUTH.DBT.SVCE","PAYMENTS TO DORM.AUTH.DBT.SVCE","Not Intra-City","Not Applicable",null,"Authorities & External Institutions - DASNY","Y"]
["898","AUDIT SAVINGS-OTPS","AUDIT SAVINGS-OTPS","AUDIT SAVINGS-OTPS","Not Intra-City","Not Applicable",null,"Interest & Other","Y"]
["899","BALANCE UNASSIGNED-OTPS","BALANCE UNASSIGNED-OTPS","This account is reserved for Office of Management and Budget oversight use","Not Intra-City","Not Applicable",null,"Interest & Other","Y"]
["999","OTPS HOLDING CODE","OTPS HOLDING CODE","OTPS HOLDING CODE","Not Intra-City","Not Applicable",null,"Interest & Other","Y"]
["AAR","FUNDING FOR THE ARTS","FUNDING FOR THE ARTS","FUNDING FOR THE ARTS","Not Intra-City","Not Applicable",null,"Capital","Y"]
["ACL","MASTER CLOSING OBJECT CODE","MASTER CLOSING OBJECT CODE","MASTER CLOSING OBJECT CODE","Not Intra-City","Not Applicable",null,"Capital","Y"]
["CGY","CONTINGENCY","CONTINGENCY","CONTINGENCY","Not Intra-City","Not Applicable",null,"Capital","Y"]
["CHN","CHANGE ORDERS","CHANGE ORDERS","CHANGE ORDERS","Not Intra-City","Not Applicable",null,"Capital","Y"]
["CLA","CLAIMS","CLAIMS","CLAIMS","Not Intra-City","Not Applicable",null,"Capital","Y"]
["CNS","CONSTRUCTION SUPERVISION","CONSTRUCTION SUPERVISION","CONSTRUCTION SUPERVISION","Not Intra-City","Not Applicable",null,"Capital","Y"]
["CON","CONSTRUCTION","CONSTRUCTION","CONSTRUCTION","Not Intra-City","Not Applicable",null,"Capital","Y"]
["DSG","DESIGN","DESIGN","DESIGN","Not Intra-City","Not Applicable",null,"Capital","Y"]
["EQF","EQUIPMENT AND FURNITURE","EQUIPMENT AND FURNITURE","EQUIPMENT AND FURNITURE","Not Intra-City","Not Applicable",null,"Capital","Y"]
["EQV","EQUIPMENT - VEHICLES","EQUIPMENT - VEHICLES","EQUIPMENT - VEHICLES","Not Intra-City","Not Applicable",null,"Capital","Y"]
["IFD","IFA DESIGN","IFA DESIGN","IFA DESIGN","Not Intra-City","Not Applicable",null,"Capital","Y"]
["IFH","HHC IFA","HHC IFA","HHC IFA","Not Intra-City","Not Applicable",null,"Capital","Y"]
["IFO","IFA OTHER TECHNICAL SERVICES","IFA OTHER TECHNICAL SERVICES","IFA OTHER TECHNICAL SERVICES","Not Intra-City","Not Applicable",null,"Capital","Y"]
["IFS","IFA CONSTRUCTION SUPERVISION","IFA CONSTRUCTION SUPERVISION","IFA CONSTRUCTION SUPERVISION","Not Intra-City","Not Applicable",null,"Capital","Y"]
["LEG","LEGAL SERVICES","LEGAL SERVICES","LEGAL SERVICES","Not Intra-City","Not Applicable",null,"Capital","Y"]
["OTH","OTHER","OTHER","OTHER","Not Intra-City","Not Applicable",null,"Capital","Y"]
["SIT","SITE","SITE","SITE","Not Intra-City","Not Applicable",null,"Capital","Y"]
["SVC","SERVICES","SERVICES","SERVICES","Not Intra-City","Not Applicable",null,"Capital","Y"]
["TYP","TEN  YEAR PLAN","TEN  YEAR PLAN","TEN  YEAR PLAN","Not Intra-City","Not Applicable",null,"Capital","Y"]
["X41","PY ASSIGNMENT DIFFERENTIAL","PY ASSIGNMENT DIFFERENTIAL","PY ASSIGNMENT DIFFERENTIAL","Not Intra-City","Additional Gross","A","PS - Additional Gross","Y"]
["X42","PY LONGEVITY DIFFERENTIAL","PY LONGEVITY DIFFERENTIAL","PY LONGEVITY DIFFERENTIAL","Not Intra-City","Additional Gross","A","PS - Additional Gross","Y"]
["X43","PY SHIFT DIFFERENTIAL","PY SHIFT DIFFERENTIAL","PY SHIFT DIFFERENTIAL","Not Intra-City","Additional Gross","A","PS - Additional Gross","Y"]
["X45","PY HOLIDAY PAY","PY HOLIDAY PAY","PY HOLIDAY PAY","Not Intra-City","Additional Gross","A","PS - Additional Gross","Y"]
["X46","PY TERMINAL LEAVE","PY TERMINAL LEAVE","PY TERMINAL LEAVE","Not Intra-City","Additional Gross","A","PS - Additional Gross","Y"]
["X47","PY OVERTIME","PY OVERTIME","PY OVERTIME","Not Intra-City","Additional Gross","A","PS - Additional Gross","Y"]
["X48","PY OVERTIME UNIFORM FORCES","PY OVERTIME UNIFORM FORCES","PY OVERTIME UNIFORM FORCES","Not Intra-City","Additional Gross","U","PS - Additional Gross","Y"]
["X52","PY SALARY ADJUSTMENT","PY SALARY ADJUSTMENT","PY SALARY ADJUSTMENT","Not Intra-City","Additional Gross","A","PS - Additional Gross","Y"]
["X54","P.Y. SALARY REVIEW ADJUSTMENTS","P.Y. SALARY REVIEW ADJUSTMENTS","P.Y. SALARY REVIEW ADJUSTMENTS","Not Intra-City","Additional Gross","A","PS - Additional Gross","Y"]
["X56","PY EARLY RET. TERMINAL LEAVE..","PY EARLY RET. TERMINAL LEAVE..","PY EARLY RET. TERMINAL LEAVE..","Not Intra-City","Additional Gross","A","PS - Additional Gross","Y"]
["X57","BONUS- NONPENSIONABLE","BONUS- NONPENSIONABLE","BONUS- NONPENSIONABLE","Not Intra-City","Additional Gross","A","PS - Additional Gross","Y"]
["X98","OTHER ADDTNL GRSS CHARGBL FY78","OTHER ADDTNL GRSS CHARGBL FY78","OTHER ADDTNL GRSS CHARGBL FY78","Not Intra-City","Additional Gross","A","PS - Additional Gross","Y"]

{"sheet":"Cost per Day","index":3,"n_rows":93,"n_cols":5,"rows_kept":93,"cut":false,"hidden":false,"merged":[]}
[]
[]
[]
[]
[]
[]
[]
["Total Cost of a Day",{"$f":"GETPIVOTDATA(\"Daily cost\",$A$12)","v":299928926.52454776}]
[]
["Include","Y"]
[]
["Mayoral Cabinet","Agency Name","Category","Obj Description","Sum of Daily cost"]
["City University","City University",null,null,3374579.2521917839]
["Debt Service","Debt Service",null,null,17246592.135863014]
["Education","Department of Education",null,null,86460302.190712169]
["Environmental Protection","Department of Sanitation",null,null,5589948.3002191754]
["Environmental Protection","Dept of Environmental Prot.",null,null,3972347.0929315025]
["General Government","Board of Elections",null,null,608786.32769862993]
["General Government","Business Integrity Commission",null,null,23942.594301369874]
["General Government","Campaign Finance Board",null,null,123494.93364383563]
["General Government","City Clerk",null,null,15725.651917808222]
["General Government","City Council",null,null,202614.4918082192]
["General Government","Civil Service Commission",null,null,2655.5587397260274]
["General Government","Commission on Human Rights",null,null,30719.558602739733]
["General Government","Community Board",null,null,48013.603726027388]
["General Government","Conflicts of Interest Board",null,null,6750.8815616438342]
["General Government","D.O.I.T.T.",null,null,2532820.1507397257]
["General Government","Department of City Planning",null,null,99851.887780821911]
["General Government","Department of Finance",null,null,825240.70983561629]
["General Government","Department of Investigation",null,null,136668.86512328775]
["General Government","Dept of Citywide Admin Srvces",null,null,4199211.1869041119]
["General Government","Dept of Records & Info Serv.",null,null,34080.345808219165]
["General Government","Dept. Cnsmr. & Wkr. Prot.",null,null,162803.81934246572]
["General Government","Dept. of Design & Construction",null,null,552193.52054794587]
["General Government","Dept. of Veterans' Services",null,null,15662.976383561643]
["General Government","Dept. Small Business Services",null,null,1406026.9002739731]
["General Government","Districting Commission",null,null,446.19238356164385]
["General Government","Equal Employment Practices Com",null,null,2900.5247397260273]
["General Government","Financial Info. Serv. Agency",null,null,314993.43794520543]
["General Government","Independent Budget Office",null,null,13242.69583561644]
["General Government","Landmarks Preservation Comm.",null,null,17934.30172602741]
["General Government","Law Department",null,null,725054.02180821938]
["General Government","Mayoralty",null,null,457799.89104109589]
["General Government","Office Admin Trials & Hearings",null,null,122406.65564383559]
["General Government","Office of Admin. Tax Appeals",null,null,16269.108465753427]
["General Government","Office of Collective Barg.",null,null,6457.7623013698603]
["General Government","Office of Payroll Admin.",null,null,41376.529890410966]
["General Government","Office of the Actuary",null,null,18240.54071232877]
["General Government","Office of the Comptroller",null,null,274293.43687671231]
["General Government","President,Borough of Brooklyn",null,null,23549.3644109589]
["General Government","President,Borough of Manhattan",null,null,15232.726958904113]
["General Government","President,Borough of Queens",null,null,19386.616712328767]
["General Government","President,Borough of S.I.",null,null,15364.92139726027]
["General Government","President,Borough of the Bronx",null,null,14734.785780821918]
["General Government","Public Advocate",null,null,12953.91797260274]
["General Government","Youth & Community Development",null,null,2661830.0669041122]
["Health","Dept Health & Mental Hygiene",null,null,7159325.4058904182]
["Health","Health and Hospitals Corp.",null,null,6218209.7361369859]
["Housing","Department of Buildings",null,null,538147.58312328695]
["Housing","Housing Preservation & Dev.",null,null,3272366.9880547952]
["Libraries","Brooklyn Public Library",null,null,324356.50958904112]
["Libraries","New York Public Library",null,null,438060.62402739725]
["Libraries","NY Public Library - Research",null,null,83978.81534246575]
["Libraries","Queens Borough Public Library",null,null,334496.76986301364]
["Miscellanous","Miscellaneous",null,null,40186157.238602743]
["Parks, Recreation and Cultural Activities","Department of Cultural Affairs",null,null,629596.89213698637]
["Parks, Recreation and Cultural Activities","Dept of Parks and Recreation",null,null,1611483.4076164397]
["Pensions","Citywide Pension Contributions",null,null,26606509.531945206]
["Public Safety & Judicial","Board of Correction",null,null,6103.8929589041109]
["Public Safety & Judicial","Civilian Complaint Review Bd.",null,null,59002.877780821909]
["Public Safety & Judicial","Department of Correction",null,null,3813227.2903835615]
["Public Safety & Judicial","Department of Probation",null,null,309764.95372602728]
["Public Safety & Judicial","Dept. of Emergency Management",null,null,1850216.8294246581]
["Public Safety & Judicial","District Attorney - Bronx",null,null,267697.70775342471]
["Public Safety & Judicial","District Attorney - Kings",null,null,341579.93947945209]
["Public Safety & Judicial","District Attorney - N.Y.",null,null,418275.51726027409]
["Public Safety & Judicial","District Attorney - Queens",null,null,230912.90471232877]
["Public Safety & Judicial","District Attorney - Richmond",null,null,59848.768301369884]
["Public Safety & Judicial","Fire Department",null,null,6811011.8518356187]
["Public Safety & Judicial","Off. of Prosec. & Spec. Narc.",null,null,70690.867534246601]
["Public Safety & Judicial","Police Department",null,null,16113167.473479476]
["Public Safety & Judicial","Public Administrator - Bronx",null,null,1886.4229589041095]
["Public Safety & Judicial","Public Administrator - N.Y.",null,null,2724.4086027397266]
["Public Safety & Judicial","Public Administrator - Queens",null,null,1657.0495890410959]
["Public Safety & Judicial","Public Administrator- Brooklyn",null,null,2263.223068493151]
["Public Safety & Judicial","Public Administrator -Richmond",null,null,1624.2383835616438]
["Public Safety & Judicial","Taxi & Limousine Commission",null,null,177826.0875890411]
["Social Services","Admin. for Children Services",null,null,7251594.2454246664]
["Social Services","Department for the Aging",null,null,1376942.1843013701]
["Social Services","Department of Social Services",null,null,30041075.70756159]
["Social Services","Dept. of Homeless Services",null,null,7487036.9128767084]
["Transportation Services","Department of Transportation",null,null,3384605.2310684971]
["Grand Total",null,null,null,299928926.52454776]

{"sheet":"Raw FY22 Spending Data","index":4,"n_rows":47932,"n_cols":33,"rows_kept":2250,"cut":true,"hidden":false,"merged":[],"bounds":{"rows_first":1000,"rows_last":250,"rows_between":1000,"halvings":1}}
[]
[]
[]
[]
[]
[]
["Acct Line Dept","BFY","Fund Class","Appr","Budget Code","Object Class","Pending # Pos","Adopted # Pos","Curr # Pos","Adopted Budget Amt","Current Mod Budget","Pending MN Amt","Budget Reserve","Post Closing Adj","Pre-Encum","Encumb","Cash Expenses","Accrued Expense","Expenses + Post Closing Adj","Obligations","Unobligated Balance","Commitments","Uncommitted Balance","Fiscal YTD Expenses (Cash + Accrued)","Fiscal YTD Obligations","Fiscal YTD Unobligated Bal","Category","CUPA","Mayoral Cabinet","Include","Obj Description","Agency Name","Daily cost"]
["002",2022,"001","020","0210","046",0,0,0,0,0,0,0,0,0,0,193694.38,0,193694.38,193694.38,-193694.38,193694.38,-193694.38,193694.38,193694.38,-193694.38,{"$f":"_xlfn.XLOOKUP(F8,'Object Codes'!$A$18:$A$510,'Object Codes'!$H$18:$H$510)","v":"PS - Additional Gross"},{"$f":"_xlfn.XLOOKUP(F8,'Object Codes'!$A$18:$A$510,'Object Codes'!$G$18:$G$510)","v":"A"},{"$f":"_xlfn.XLOOKUP(A8,Agencies!$A$9:$A$146,Agencies!$B$9:$B$146)","v":"General Government"},{"$f":"IF(_xlfn.XLOOKUP(A8,Agencies!A:A,Agencies!D:D)=\"Y\",IF(_xlfn.XLOOKUP(F8,'Object Codes'!A:A,'Object Codes'!I:I)=\"Y\",\"Y\",\"N\"),\"N\")","v":"Y"},{"$f":"VLOOKUP(F8,'Object Codes'!$A:$C,3,0)","v":"Terminal Leave"},{"$f":"VLOOKUP(A8,Agencies!A:C,3,0)","v":"Mayoralty"},{"$f":"S8/365","v":530.66953424657538}]
["002",2022,"001","020","0210","095",0,0,0,0,0,0,0,0,0,0,492.5,0,492.5,492.5,-492.5,492.5,-492.5,492.5,492.5,-492.5,{"$f":"_xlfn.XLOOKUP(F9,'Object Codes'!$A$18:$A$510,'Object Codes'!$H$18:$H$510)","v":"PS - Additional Gross"},{"$f":"_xlfn.XLOOKUP(F9,'Object Codes'!$A$18:$A$510,'Object Codes'!$G$18:$G$510)","v":"A"},{"$f":"_xlfn.XLOOKUP(A9,Agencies!$A$9:$A$146,Agencies!$B$9:$B$146)","v":"General Government"},{"$f":"IF(_xlfn.XLOOKUP(A9,Agencies!A:A,Agencies!D:D)=\"Y\",IF(_xlfn.XLOOKUP(F9,'Object Codes'!A:A,'Object Codes'!I:I)=\"Y\",\"Y\",\"N\"),\"N\")","v":"Y"},{"$f":"VLOOKUP(F9,'Object Codes'!$A:$C,3,0)","v":"Payroll Refunds"},{"$f":"VLOOKUP(A9,Agencies!A:C,3,0)","v":"Mayoralty"},{"$f":"S9/365","v":1.3493150684931507}]
["002",2022,"001","020","0211","001",0,112,114,10885196,9902479,0,0,0,0,0,9073383.1400000006,0,9073383.1400000006,9073383.1400000006,829095.86,9073383.1400000006,829095.86,9073383.1400000006,9073383.1400000006,829095.86,{"$f":"_xlfn.XLOOKUP(F10,'Object Codes'!$A$18:$A$510,'Object Codes'!$H$18:$H$510)","v":"PS - Regular"},{"$f":"_xlfn.XLOOKUP(F10,'Object Codes'!$A$18:$A$510,'Object Codes'!$G$18:$G$510)","v":"C"},{"$f":"_xlfn.XLOOKUP(A10,Agencies!$A$9:$A$146,Agencies!$B$9:$B$146)","v":"General Government"},{"$f":"IF(_xlfn.XLOOKUP(A10,Agencies!A:A,Agencies!D:D)=\"Y\",IF(_xlfn.XLOOKUP(F10,'Object Codes'!A:A,'Object Codes'!I:I)=\"Y\",\"Y\",\"N\"),\"N\")","v":"Y"},{"$f":"VLOOKUP(F10,'Object Codes'!$A:$C,3,0)","v":"Full Year Positions"},{"$f":"VLOOKUP(A10,Agencies!A:C,3,0)","v":"Mayoralty"},24858.583945205482]
["002",2022,"001","020","0211","031",0,0,0,36263,36263,0,0,0,0,0,255215.68,0,255215.68,255215.68,-218952.68,255215.68,-218952.68,255215.68,255215.68,-218952.68,{"$f":"_xlfn.XLOOKUP(F11,'Object Codes'!$A$18:$A$510,'Object Codes'!$H$18:$H$510)","v":"PS - Regular"},{"$f":"_xlfn.XLOOKUP(F11,'Object Codes'!$A$18:$A$510,'Object Codes'!$G$18:$G$510)","v":"C"},{"$f":"_xlfn.XLOOKUP(A11,Agencies!$A$9:$A$146,Agencies!$B$9:$B$146)","v":"General Government"},{"$f":"IF(_xlfn.XLOOKUP(A11,Agencies!A:A,Agencies!D:D)=\"Y\",IF(_xlfn.XLOOKUP(F11,'Object Codes'!A:A,'Object Codes'!I:I)=\"Y\",\"Y\",\"N\"),\"N\")","v":"Y"},{"$f":"VLOOKUP(F11,'Object Codes'!$A:$C,3,0)","v":"Hourly Positions"},{"$f":"VLOOKUP(A11,Agencies!A:C,3,0)","v":"Mayoralty"},699.22104109589043]
["002",2022,"001","020","0211","045",0,0,0,1189,1189,0,0,0,0,0,5180.8900000000003,0,5180.8900000000003,5180.8900000000003,-3991.89,5180.8900000000003,-3991.89,5180.8900000000003,5180.8900000000003,-3991.89,{"$f":"_xlfn.XLOOKUP(F12,'Object Codes'!$A$18:$A$510,'Object Codes'!$H$18:$H$510)","v":"PS - Additional Gross"},{"$f":"_xlfn.XLOOKUP(F12,'Object Codes'!$A$18:$A$510,'Object Codes'!$G$18:$G$510)","v":"A"},{"$f":"_xlfn.XLOOKUP(A12,Agencies!$A$9:$A$146,Agencies!$B$9:$B$146)","v":"General Government"},{"$f":"IF(_xlfn.XLOOKUP(A12,Agencies!A:A,Agencies!D:D)=\"Y\",IF(_xlfn.XLOOKUP(F12,'Object Codes'!A:A,'Object Codes'!I:I)=\"Y\",\"Y\",\"N\"),\"N\")","v":"Y"},{"$f":"VLOOKUP(F12,'Object Codes'!$A:$C,3,0)","v":"Holiday Pay"},{"$f":"VLOOKUP(A12,Agencies!A:C,3,0)","v":"Mayoralty"},14.194219178082193]
["002",2022,"001","020","0211","046",0,0,0,0,0,0,0,0,0,0,251698.81,29754.05,281452.86,281452.86,-281452.86,281452.86,-281452.86,281452.86,281452.86,-281452.86,{"$f":"_xlfn.XLOOKUP(F13,'Object Codes'!$A$18:$A$510,'Object Codes'!$H$18:$H$510)","v":"PS - Additional Gross"},{"$f":"_xlfn.XLOOKUP(F13,'Object Codes'!$A$18:$A$510,'Object Codes'!$G$18:$G$510)","v":"A"},{"$f":"_xlfn.XLOOKUP(A13,Agencies!$A$9:$A$146,Agencies!$B$9:$B$146)","v":"General Government"},{"$f":"IF(_xlfn.XLOOKUP(A13,Agencies!A:A,Agencies!D:D)=\"Y\",IF(_xlfn.XLOOKUP(F13,'Object Codes'!A:A,'Object Codes'!I:I)=\"Y\",\"Y\",\"N\"),\"N\")","v":"Y"},{"$f":"VLOOKUP(F13,'Object Codes'!$A:$C,3,0)","v":"Terminal Leave"},{"$f":"VLOOKUP(A13,Agencies!A:C,3,0)","v":"Mayoralty"},771.10372602739722]
["002",2022,"001","020","0211","047",0,0,0,0,0,0,0,0,0,0,9738.24,0,9738.24,9738.24,-9738.24,9738.24,-9738.24,9738.24,9738.24,-9738.24,{"$f":"_xlfn.XLOOKUP(F14,'Object Codes'!$A$18:$A$510,'Object Codes'!$H$18:$H$510)","v":"PS - Additional Gross"},{"$f":"_xlfn.XLOOKUP(F14,'Object Codes'!$A$18:$A$510,'Object Codes'!$G$18:$G$510)","v":"C"},{"$f":"_xlfn.XLOOKUP(A14,Agencies!$A$9:$A$146,Agencies!$B$9:$B$146)","v":"General Government"},{"$f":"IF(_xlfn.XLOOKUP(A14,Agencies!A:A,Agencies!D:D)=\"Y\",IF(_xlfn.XLOOKUP(F14,'Object Codes'!A:A,'Object Codes'!I:I)=\"Y\",\"Y\",\"N\"),\"N\")","v":"Y"},{"$f":"VLOOKUP(F14,'Object Codes'!$A:$C,3,0)","v":"Overtime"},{"$f":"VLOOKUP(A14,Agencies!A:C,3,0)","v":"Mayoralty"},26.680109589041095]
["002",2022,"001","020","0211","049",0,0,0,0,0,0,0,0,0,0,97.11,0,97.11,97.11,-97.11,97.11,-97.11,97.11,97.11,-97.11,{"$f":"_xlfn.XLOOKUP(F15,'Object Codes'!$A$18:$A$510,'Object Codes'!$H$18:$H$510)","v":"PS - Additional Gross"},{"$f":"_xlfn.XLOOKUP(F15,'Object Codes'!$A$18:$A$510,'Object Codes'!$G$18:$G$510)","v":"A"},{"$f":"_xlfn.XLOOKUP(A15,Agencies!$A$9:$A$146,Agencies!$B$9:$B$146)","v":"General Government"},{"$f":"IF(_xlfn.XLOOKUP(A15,Agencies!A:A,Agencies!D:D)=\"Y\",IF(_xlfn.XLOOKUP(F15,'Object Codes'!A:A,'Object Codes'!I:I)=\"Y\",\"Y\",\"N\"),\"N\")","v":"Y"},{"$f":"VLOOKUP(F15,'Object Codes'!$A:$C,3,0)","v":"Backpay"},{"$f":"VLOOKUP(A15,Agencies!A:C,3,0)","v":"Mayoralty"},0.26605479452054792]
["002",2022,"001","020","0211","051",0,0,0,4990,4990,0,0,0,0,0,0,0,0,0,4990,0,4990,0,0,4990,{"$f":"_xlfn.XLOOKUP(F16,'Object Codes'!$A$18:$A$510,'Object Codes'!$H$18:$H$510)","v":"PS - Additional Gross"},{"$f":"_xlfn.XLOOKUP(F16,'Object Codes'!$A$18:$A$510,'Object Codes'!$G$18:$G$510)","v":"A"},{"$f":"_xlfn.XLOOKUP(A16,Agencies!$A$9:$A$146,Agencies!$B$9:$B$146)","v":"General Government"},{"$f":"IF(_xlfn.XLOOKUP(A16,Agencies!A:A,Agencies!D:D)=\"Y\",IF(_xlfn.XLOOKUP(F16,'Object Codes'!A:A,'Object Codes'!I:I)=\"Y\",\"Y\",\"N\"),\"N\")","v":"Y"},{"$f":"VLOOKUP(F16,'Object Codes'!$A:$C,3,0)","v":"Salary Adjustments"},{"$f":"VLOOKUP(A16,Agencies!A:C,3,0)","v":"Mayoralty"},0]
["002",2022,"001","020","0211","053",0,0,0,1250000,1250000,0,0,0,0,0,0,0,0,0,1250000,0,1250000,0,0,1250000,{"$f":"_xlfn.XLOOKUP(F17,'Object Codes'!$A$18:$A$510,'Object Codes'!$H$18:$H$510)","v":"PS - Additional Gross"},{"$f":"_xlfn.XLOOKUP(F17,'Object Codes'!$A$18:$A$510,'Object Codes'!$G$18:$G$510)","v":"A"},{"$f":"_xlfn.XLOOKUP(A17,Agencies!$A$9:$A$146,Agencies!$B$9:$B$146)","v":"General Government"},{"$f":"IF(_xlfn.XLOOKUP(A17,Agencies!A:A,Agencies!D:D)=\"Y\",IF(_xlfn.XLOOKUP(F17,'Object Codes'!A:A,'Object Codes'!I:I)=\"Y\",\"Y\",\"N\"),\"N\")","v":"Y"},{"$f":"VLOOKUP(F17,'Object Codes'!$A:$C,3,0)","v":"Other Than Salary Adjustments"},{"$f":"VLOOKUP(A17,Agencies!A:C,3,0)","v":"Mayoralty"},0]
["002",2022,"001","020","0211","057",0,0,0,0,2500,0,0,0,0,0,2500,0,2500,2500,0,2500,0,2500,2500,0,{"$f":"_xlfn.XLOOKUP(F18,'Object Codes'!$A$18:$A$510,'Object Codes'!$H$18:$H$510)","v":"PS - Additional Gross"},{"$f":"_xlfn.XLOOKUP(F18,'Object Codes'!$A$18:$A$510,'Object Codes'!$G$18:$G$510)","v":"A"},{"$f":"_xlfn.XLOOKUP(A18,Agencies!$A$9:$A$146,Agencies!$B$9:$B$146)","v":"General Government"},{"$f":"IF(_xlfn.XLOOKUP(A18,Agencies!A:A,Agencies!D:D)=\"Y\",IF(_xlfn.XLOOKUP(F18,'Object Codes'!A:A,'Object Codes'!I:I)=\"Y\",\"Y\",\"N\"),\"N\")","v":"Y"},{"$f":"VLOOKUP(F18,'Object Codes'!$A:$C,3,0)","v":"Bonus Payments"},{"$f":"VLOOKUP(A18,Agencies!A:C,3,0)","v":"Mayoralty"},6.8493150684931505]
["002",2022,"001","020","0211","061",0,0,0,1000,1000,0,0,0,0,0,0,0,0,0,1000,0,1000,0,0,1000,{"$f":"_xlfn.XLOOKUP(F19,'Object Codes'!$A$18:$A$510,'Object Codes'!$H$18:$H$510)","v":"PS - Additional Gross"},{"$f":"_xlfn.XLOOKUP(F19,'Object Codes'!$A$18:$A$510,'Object Codes'!$G$18:$G$510)","v":"A"},{"$f":"_xlfn.XLOOKUP(A19,Agencies!$A$9:$A$146,Agencies!$B$9:$B$146)","v":"General Government"},{"$f":"IF(_xlfn.XLOOKUP(A19,Agencies!A:A,Agencies!D:D)=\"Y\",IF(_xlfn.XLOOKUP(F19,'Object Codes'!A:A,'Object Codes'!I:I)=\"Y\",\"Y\",\"N\"),\"N\")","v":"Y"},{"$f":"VLOOKUP(F19,'Object Codes'!$A:$C,3,0)","v":"Supper Money"},{"$f":"VLOOKUP(A19,Agencies!A:C,3,0)","v":"Mayoralty"},0]
["002",2022,"001","020","0211","X46",0,0,0,0,0,0,0,0,0,0,83073.13,0,83073.13,83073.13,-83073.13,83073.13,-83073.13,83073.13,83073.13,-83073.13,{"$f":"_xlfn.XLOOKUP(F20,'Object Codes'!$A$18:$A$510,'Object Codes'!$H$18:$H$510)","v":"PS - Additional Gross"},{"$f":"_xlfn.XLOOKUP(F20,'Object Codes'!$A$18:$A$510,'Object Codes'!$G$18:$G$510)","v":"A"},{"$f":"_xlfn.XLOOKUP(A20,Agencies!$A$9:$A$146,Agencies!$B$9:$B$146)","v":"General Government"},{"$f":"IF(_xlfn.XLOOKUP(A20,Agencies!A:A,Agencies!D:D)=\"Y\",IF(_xlfn.XLOOKUP(F20,'Object Codes'!A:A,'Object Codes'!I:I)=\"Y\",\"Y\",\"N\"),\"N\")","v":"Y"},{"$f":"VLOOKUP(F20,'Object Codes'!$A:$C,3,0)","v":"PY TERMINAL LEAVE"},{"$f":"VLOOKUP(A20,Agencies!A:C,3,0)","v":"Mayoralty"},227.59761643835617]
["002",2022,"001","020","0213","001",0,2,2,463320,463320,0,0,0,0,0,284224.03999999998,0,284224.03999999998,284224.03999999998,179095.96,284224.03999999998,179095.96,284224.03999999998,284224.03999999998,179095.96,{"$f":"_xlfn.XLOOKUP(F21,'Object Codes'!$A$18:$A$510,'Object Codes'!$H$18:$H$510)","v":"PS - Regular"},{"$f":"_xlfn.XLOOKUP(F21,'Object Codes'!$A$18:$A$510,'Object Codes'!$G$18:$G$510)","v":"C"},{"$f":"_xlfn.XLOOKUP(A21,Agencies!$A$9:$A$146,Agencies!$B$9:$B$146)","v":"General Government"},{"$f":"IF(_xlfn.XLOOKUP(A21,Agencies!A:A,Agencies!D:D)=\"Y\",IF(_xlfn.XLOOKUP(F21,'Object Codes'!A:A,'Object Codes'!I:I)=\"Y\",\"Y\",\"N\"),\"N\")","v":"Y"},{"$f":"VLOOKUP(F21,'Object Codes'!$A:$C,3,0)","v":"Full Year Positions"},{"$f":"VLOOKUP(A21,Agencies!A:C,3,0)","v":"Mayoralty"},778.69599999999991]
["002",2022,"001","020","0213","046",0,0,0,0,0,0,0,0,0,0,62473.24,0,62473.24,62473.24,-62473.24,62473.24,-62473.24,62473.24,62473.24,-62473.24,{"$f":"_xlfn.XLOOKUP(F22,'Object Codes'!$A$18:$A$510,'Object Codes'!$H$18:$H$510)","v":"PS - Additional Gross"},{"$f":"_xlfn.XLOOKUP(F22,'Object Codes'!$A$18:$A$510,'Object Codes'!$G$18:$G$510)","v":"A"},{"$f":"_xlfn.XLOOKUP(A22,Agencies!$A$9:$A$146,Agencies!$B$9:$B$146)","v":"General Government"},{"$f":"IF(_xlfn.XLOOKUP(A22,Agencies!A:A,Agencies!D:D)=\"Y\",IF(_xlfn.XLOOKUP(F22,'Object Codes'!A:A,'Object Codes'!I:I)=\"Y\",\"Y\",\"N\"),\"N\")","v":"Y"},{"$f":"VLOOKUP(F22,'Object Codes'!$A:$C,3,0)","v":"Terminal Leave"},{"$f":"VLOOKUP(A22,Agencies!A:C,3,0)","v":"Mayoralty"},171.15956164383562]
["002",2022,"001","020","0214","001",0,8,8,1270334,1270334,0,0,0,0,0,1483125.24,0,1483125.24,1483125.24,-212791.24,1483125.24,-212791.24,1483125.24,1483125.24,-212791.24,{"$f":"_xlfn.XLOOKUP(F23,'Object Codes'!$A$18:$A$510,'Object Codes'!$H$18:$H$510)","v":"PS - Regular"},{"$f":"_xlfn.XLOOKUP(F23,'Object Codes'!$A$18:$A$510,'Object Codes'!$G$18:$G$510)","v":"C"},{"$f":"_xlfn.XLOOKUP(A23,Agencies!$A$9:$A$146,Agencies!$B$9:$B$146)","v":"General Government"},{"$f":"IF(_xlfn.XLOOKUP(A23,Agencies!A:A,Agencies!D:D)=\"Y\",IF(_xlfn.XLOOKUP(F23,'Object Codes'!A:A,'Object Codes'!I:I)=\"Y\",\"Y\",\"N\"),\"N\")","v":"Y"},{"$f":"VLOOKUP(F23,'Object Codes'!$A:$C,3,0)","v":"Full Year Positions"},{"$f":"VLOOKUP(A23,Agencies!A:C,3,0)","v":"Mayoralty"},4063.3568219178082]
["002",2022,"001","020","0214","046",0,0,0,0,0,0,0,0,0,0,134767.54,7951.86,142719.4,142719.4,-142719.4,142719.4,-142719.4,142719.4,142719.4,-142719.4,{"$f":"_xlfn.XLOOKUP(F24,'Object Codes'!$A$18:$A$510,'Object Codes'!$H$18:$H$510)","v":"PS - Additional Gross"},{"$f":"_xlfn.XLOOKUP(F24,'Object Codes'!$A$18:$A$510,'Object Codes'!$G$18:$G$510)","v":"A"},{"$f":"_xlfn.XLOOKUP(A24,Agencies!$A$9:$A$146,Agencies!$B$9:$B$146)","v":"General Government"},{"$f":"IF(_xlfn.XLOOKUP(A24,Agencies!A:A,Agencies!D:D)=\"Y\",IF(_xlfn.XLOOKUP(F24,'Object Codes'!A:A,'Object Codes'!I:I)=\"Y\",\"Y\",\"N\"),\"N\")","v":"Y"},{"$f":"VLOOKUP(F24,'Object Codes'!$A:$C,3,0)","v":"Terminal Leave"},{"$f":"VLOOKUP(A24,Agencies!A:C,3,0)","v":"Mayoralty"},391.01205479452051]
["002",2022,"001","020","0214","X46",0,0,0,0,0,0,0,0,0,0,28959.32,0,28959.32,28959.32,-28959.32,28959.32,-28959.32,28959.32,28959.32,-28959.32,{"$f":"_xlfn.XLOOKUP(F25,'Object Codes'!$A$18:$A$510,'Object Codes'!$H$18:$H$510)","v":"PS - Additional Gross"},{"$f":"_xlfn.XLOOKUP(F25,'Object Codes'!$A$18:$A$510,'Object Codes'!$G$18:$G$510)","v":"A"},{"$f":"_xlfn.XLOOKUP(A25,Agencies!$A$9:$A$146,Agencies!$B$9:$B$146)","v":"General Government"},{"$f":"IF(_xlfn.XLOOKUP(A25,Agencies!A:A,Agencies!D:D)=\"Y\",IF(_xlfn.XLOOKUP(F25,'Object Codes'!A:A,'Object Codes'!I:I)=\"Y\",\"Y\",\"N\"),\"N\")","v":"Y"},{"$f":"VLOOKUP(F25,'Object Codes'!$A:$C,3,0)","v":"PY TERMINAL LEAVE"},{"$f":"VLOOKUP(A25,Agencies!A:C,3,0)","v":"Mayoralty"},79.340602739726023]
["002",2022,"001","020","0217","001",0,10,10,1666325,1666325,0,0,0,0,0,1094411.28,0,1094411.28,1094411.28,571913.72,1094411.28,571913.72,1094411.28,1094411.28,571913.72,{"$f":"_xlfn.XLOOKUP(F26,'Object Codes'!$A$18:$A$510,'Object Codes'!$H$18:$H$510)","v":"PS - Regular"},{"$f":"_xlfn.XLOOKUP(F26,'Object Codes'!$A$18:$A$510,'Object Codes'!$G$18:$G$510)","v":"C"},{"$f":"_xlfn.XLOOKUP(A26,Agencies!$A$9:$A$146,Agencies!$B$9:$B$146)","v":"General Government"},{"$f":"IF(_xlfn.XLOOKUP(A26,Agencies!A:A,Agencies!D:D)=\"Y\",IF(_xlfn.XLOOKUP(F26,'Object Codes'!A:A,'Object Codes'!I:I)=\"Y\",\"Y\",\"N\"),\"N\")","v":"Y"},{"$f":"VLOOKUP(F26,'Object Codes'!$A:$C,3,0)","v":"Full Year Positions"},{"$f":"VLOOKUP(A26,Agencies!A:C,3,0)","v":"Mayoralty"},2998.3870684931508]
["002",2022,"001","020","0217","046",0,0,0,0,0,0,0,0,0,0,94895.75,0,94895.75,94895.75,-94895.75,94895.75,-94895.75,94895.75,94895.75,-94895.75,{"$f":"_xlfn.XLOOKUP(F27,'Object Codes'!$A$18:$A$510,'Object Codes'!$H$18:$H$510)","v":"PS - Additional Gross"},{"$f":"_xlfn.XLOOKUP(F27,'Object Codes'!$A$18:$A$510,'Object Codes'!$G$18:$G$510)","v":"A"},{"$f":"_xlfn.XLOOKUP(A27,Agencies!$A$9:$A$146,Agencies!$B$9:$B$146)","v":"General Government"},{"$f":"IF(_xlfn.XLOOKUP(A27,Agencies!A:A,Agencies!D:D)=\"Y\",IF(_xlfn.XLOOKUP(F27,'Object Codes'!A:A,'Object Codes'!I:I)=\"Y\",\"Y\",\"N\"),\"N\")","v":"Y"},{"$f":"VLOOKUP(F27,'Object Codes'!$A:$C,3,0)","v":"Terminal Leave"},{"$f":"VLOOKUP(A27,Agencies!A:C,3,0)","v":"Mayoralty"},259.98835616438356]
["002",2022,"001","020","0217","X46",0,0,0,0,0,0,0,0,0,0,2931.02,0,2931.02,2931.02,-2931.02,2931.02,-2931.02,2931.02,2931.02,-2931.02,{"$f":"_xlfn.XLOOKUP(F28,'Object Codes'!$A$18:$A$510,'Object Codes'!$H$18:$H$510)","v":"PS - Additional Gross"},{"$f":"_xlfn.XLOOKUP(F28,'Object Codes'!$A$18:$A$510,'Object Codes'!$G$18:$G$510)","v":"A"},{"$f":"_xlfn.XLOOKUP(A28,Agencies!$A$9:$A$146,Agencies!$B$9:$B$146)","v":"General Government"},{"$f":"IF(_xlfn.XLOOKUP(A28,Agencies!A:A,Agencies!D:D)=\"Y\",IF(_xlfn.XLOOKUP(F28,'Object Codes'!A:A,'Object Codes'!I:I)=\"Y\",\"Y\",\"N\"),\"N\")","v":"Y"},{"$f":"VLOOKUP(F28,'Object Codes'!$A:$C,3,0)","v":"PY TERMINAL LEAVE"},{"$f":"VLOOKUP(A28,Agencies!A:C,3,0)","v":"Mayoralty"},8.0301917808219176]
["002",2022,"001","020","0218","001",0,24,24,2066025,2066025,0,0,0,0,0,1671068.13,0,1671068.13,1671068.13,394956.87,1671068.13,394956.87,1671068.13,1671068.13,394956.87,{"$f":"_xlfn.XLOOKUP(F29,'Object Codes'!$A$18:$A$510,'Object Codes'!$H$18:$H$510)","v":"PS - Regular"},{"$f":"_xlfn.XLOOKUP(F29,'Object Codes'!$A$18:$A$510,'Object Codes'!$G$18:$G$510)","v":"C"},{"$f":"_xlfn.XLOOKUP(A29,Agencies!$A$9:$A$146,Agencies!$B$9:$B$146)","v":"General Government"},{"$f":"IF(_xlfn.XLOOKUP(A29,Agencies!A:A,Agencies!D:D)=\"Y\",IF(_xlfn.XLOOKUP(F29,'Object Codes'!A:A,'Object Codes'!I:I)=\"Y\",\"Y\",\"N\"),\"N\")","v":"Y"},{"$f":"VLOOKUP(F29,'Object Codes'!$A:$C,3,0)","v":"Full Year Positions"},{"$f":"VLOOKUP(A29,Agencies!A:C,3,0)","v":"Mayoralty"},4578.2688493150681]
["002",2022,"001","020","0218","031",0,0,0,50848,50848,0,0,0,0,0,0,0,0,0,50848,0,50848,0,0,50848,{"$f":"_xlfn.XLOOKUP(F30,'Object Codes'!$A$18:$A$510,'Object Codes'!$H$18:$H$510)","v":"PS - Regular"},{"$f":"_xlfn.XLOOKUP(F30,'Object Codes'!$A$18:$A$510,'Object Codes'!$G$18:$G$510)","v":"C"},{"$f":"_xlfn.XLOOKUP(A30,Agencies!$A$9:$A$146,Agencies!$B$9:$B$146)","v":"General Government"},{"$f":"IF(_xlfn.XLOOKUP(A30,Agencies!A:A,Agencies!D:D)=\"Y\",IF(_xlfn.XLOOKUP(F30,'Object Codes'!A:A,'Object Codes'!I:I)=\"Y\",\"Y\",\"N\"),\"N\")","v":"Y"},{"$f":"VLOOKUP(F30,'Object Codes'!$A:$C,3,0)","v":"Hourly Positions"},{"$f":"VLOOKUP(A30,Agencies!A:C,3,0)","v":"Mayoralty"},0]
["002",2022,"001","020","0218","046",0,0,0,0,0,0,0,0,0,0,109276.36,13602.15,122878.51,122878.51,-122878.51,122878.51,-122878.51,122878.51,122878.51,-122878.51,{"$f":"_xlfn.XLOOKUP(F31,'Object Codes'!$A$18:$A$510,'Object Codes'!$H$18:$H$510)","v":"PS - Additional Gross"},{"$f":"_xlfn.XLOOKUP(F31,'Object Codes'!$A$18:$A$510,'Object Codes'!$G$18:$G$510)","v":"A"},{"$f":"_xlfn.XLOOKUP(A31,Agencies!$A$9:$A$146,Agencies!$B$9:$B$146)","v":"General Government"},{"$f":"IF(_xlfn.XLOOKUP(A31,Agencies!A:A,Agencies!D:D)=\"Y\",IF(_xlfn.XLOOKUP(F31,'Object Codes'!A:A,'Object Codes'!I:I)=\"Y\",\"Y\",\"N\"),\"N\")","v":"Y"},{"$f":"VLOOKUP(F31,'Object Codes'!$A:$C,3,0)","v":"Terminal Leave"},{"$f":"VLOOKUP(A31,Agencies!A:C,3,0)","v":"Mayoralty"},336.65345205479451]
["002",2022,"001","020","0218","047",0,0,0,0,0,0,0,0,0,0,11631.33,0,11631.33,11631.33,-11631.33,11631.33,-11631.33,11631.33,11631.33,-11631.33,{"$f":"_xlfn.XLOOKUP(F32,'Object Codes'!$A$18:$A$510,'Object Codes'!$H$18:$H$510)","v":"PS - Additional Gross"},{"$f":"_xlfn.XLOOKUP(F32,'Object Codes'!$A$18:$A$510,'Object Codes'!$G$18:$G$510)","v":"C"},{"$f":"_xlfn.XLOOKUP(A32,Agencies!$A$9:$A$146,Agencies!$B$9:$B$146)","v":"General Government"},{"$f":"IF(_xlfn.XLOOKUP(A32,Agencies!A:A,Agencies!D:D)=\"Y\",IF(_xlfn.XLOOKUP(F32,'Object Codes'!A:A,'Object Codes'!I:I)=\"Y\",\"Y\",\"N\"),\"N\")","v":"Y"},{"$f":"VLOOKUP(F32,'Object Codes'!$A:$C,3,0)","v":"Overtime"},{"$f":"VLOOKUP(A32,Agencies!A:C,3,0)","v":"Mayoralty"},31.866657534246574]
["002",2022,"001","020","0218","051",0,0,0,3526,3526,0,0,0,0,0,0,0,0,0,3526,0,3526,0,0,3526,{"$f":"_xlfn.XLOOKUP(F33,'Object Codes'!$A$18:$A$510,'Object Codes'!$H$18:$H$510)","v":"PS - Additional Gross"},{"$f":"_xlfn.XLOOKUP(F33,'Object Codes'!$A$18:$A$510,'Object Codes'!$G$18:$G$510)","v":"A"},{"$f":"_xlfn.XLOOKUP(A33,Agencies!$A$9:$A$146,Agencies!$B$9:$B$146)","v":"General Government"},{"$f":"IF(_xlfn.XLOOKUP(A33,Agencies!A:A,Agencies!D:D)=\"Y\",IF(_xlfn.XLOOKUP(F33,'Object Codes'!A:A,'Object Codes'!I:I)=\"Y\",\"Y\",\"N\"),\"N\")","v":"Y"},{"$f":"VLOOKUP(F33,'Object Codes'!$A:$C,3,0)","v":"Salary Adjustments"},{"$f":"VLOOKUP(A33,Agencies!A:C,3,0)","v":"Mayoralty"},0]
["002",2022,"001","020","0218","X47",0,0,0,0,0,0,0,0,0,0,153.72,0,153.72,153.72,-153.72,153.72,-153.72,153.72,153.72,-153.72,{"$f":"_xlfn.XLOOKUP(F34,'Object Codes'!$A$18:$A$510,'Object Codes'!$H$18:$H$510)","v":"PS - Additional Gross"},{"$f":"_xlfn.XLOOKUP(F34,'Object Codes'!$A$18:$A$510,'Object Codes'!$G$18:$G$510)","v":"A"},{"$f":"_xlfn.XLOOKUP(A34,Agencies!$A$9:$A$146,Agencies!$B$9:$B$146)","v":"General Government"},{"$f":"IF(_xlfn.XLOOKUP(A34,Agencies!A:A,Agencies!D:D)=\"Y\",IF(_xlfn.XLOOKUP(F34,'Object Codes'!A:A,'Object Codes'!I:I)=\"Y\",\"Y\",\"N\"),\"N\")","v":"Y"},{"$f":"VLOOKUP(F34,'Object Codes'!$A:$C,3,0)","v":"PY OVERTIME"},{"$f":"VLOOKUP(A34,Agencies!A:C,3,0)","v":"Mayoralty"},0.42115068493150687]
["002",2022,"001","020","0219","001",0,0,7,0,200000,0,0,0,0,0,209036.88,0,209036.88,209036.88,-9036.8799999999992,209036.88,-9036.8799999999992,209036.88,209036.88,-9036.8799999999992,{"$f":"_xlfn.XLOOKUP(F35,'Object Codes'!$A$18:$A$510,'Object Codes'!$H$18:$H$510)","v":"PS - Regular"},{"$f":"_xlfn.XLOOKUP(F35,'Object Codes'!$A$18:$A$510,'Object Codes'!$G$18:$G$510)","v":"C"},{"$f":"_xlfn.XLOOKUP(A35,Agencies!$A$9:$A$146,Agencies!$B$9:$B$146)","v":"General Government"},{"$f":"IF(_xlfn.XLOOKUP(A35,Agencies!A:A,Agencies!D:D)=\"Y\",IF(_xlfn.XLOOKUP(F35,'Object Codes'!A:A,'Object Codes'!I:I)=\"Y\",\"Y\",\"N\"),\"N\")","v":"Y"},{"$f":"VLOOKUP(F35,'Object Codes'!$A:$C,3,0)","v":"Full Year Positions"},{"$f":"VLOOKUP(A35,Agencies!A:C,3,0)","v":"Mayoralty"},572.7037808219178]
["002",2022,"001","020","0219","046",0,0,0,0,0,0,0,0,0,0,0,4086.11,4086.11,4086.11,-4086.11,4086.11,-4086.11,4086.11,4086.11,-4086.11,{"$f":"_xlfn.XLOOKUP(F36,'Object Codes'!$A$18:$A$510,'Object Codes'!$H$18:$H$510)","v":"PS - Additional Gross"},{"$f":"_xlfn.XLOOKUP(F36,'Object Codes'!$A$18:$A$510,'Object Codes'!$G$18:$G$510)","v":"A"},{"$f":"_xlfn.XLOOKUP(A36,Agencies!$A$9:$A$146,Agencies!$B$9:$B$146)","v":"General Government"},{"$f":"IF(_xlfn.XLOOKUP(A36,Agencies!A:A,Agencies!D:D)=\"Y\",IF(_xlfn.XLOOKUP(F36,'Object Codes'!A:A,'Object Codes'!I:I)=\"Y\",\"Y\",\"N\"),\"N\")","v":"Y"},{"$f":"VLOOKUP(F36,'Object Codes'!$A:$C,3,0)","v":"Terminal Leave"},{"$f":"VLOOKUP(A36,Agencies!A:C,3,0)","v":"Mayoralty"},11.19482191780822]
["002",2022,"001","020","0220","001",0,31,31,3636116,3136116,0,0,0,0,0,2138386.62,0,2138386.62,2138386.62,997729.38,2138386.62,997729.38,2138386.62,2138386.62,997729.38,{"$f":"_xlfn.XLOOKUP(F37,'Object Codes'!$A$18:$A$510,'Object Codes'!$H$18:$H$510)","v":"PS - Regular"},{"$f":"_xlfn.XLOOKUP(F37,'Object Codes'!$A$18:$A$510,'Object Codes'!$G$18:$G$510)","v":"C"},{"$f":"_xlfn.XLOOKUP(A37,Agencies!$A$9:$A$146,Agencies!$B$9:$B$146)","v":"General Government"},{"$f":"IF(_xlfn.XLOOKUP(A37,Agencies!A:A,Agencies!D:D)=\"Y\",IF(_xlfn.XLOOKUP(F37,'Object Codes'!A:A,'Object Codes'!I:I)=\"Y\",\"Y\",\"N\"),\"N\")","v":"Y"},{"$f":"VLOOKUP(F37,'Object Codes'!$A:$C,3,0)","v":"Full Year Positions"},{"$f":"VLOOKUP(A37,Agencies!A:C,3,0)","v":"Mayoralty"},5858.5934794520554]
["002",2022,"001","020","0220","046",0,0,0,0,0,0,0,0,0,0,88277.64,32785.79,121063.43,121063.43,-121063.43,121063.43,-121063.43,121063.43,121063.43,-121063.43,{"$f":"_xlfn.XLOOKUP(F38,'Object Codes'!$A$18:$A$510,'Object Codes'!$H$18:$H$510)","v":"PS - Additional Gross"},{"$f":"_xlfn.XLOOKUP(F38,'Object Codes'!$A$18:$A$510,'Object Codes'!$G$18:$G$510)","v":"A"},{"$f":"_xlfn.XLOOKUP(A38,Agencies!$A$9:$A$146,Agencies!$B$9:$B$146)","v":"General Government"},{"$f":"IF(_xlfn.XLOOKUP(A38,Agencies!A:A,Agencies!D:D)=\"Y\",IF(_xlfn.XLOOKUP(F38,'Object Codes'!A:A,'Object Codes'!I:I)=\"Y\",\"Y\",\"N\"),\"N\")","v":"Y"},{"$f":"VLOOKUP(F38,'Object Codes'!$A:$C,3,0)","v":"Terminal Leave"},{"$f":"VLOOKUP(A38,Agencies!A:C,3,0)","v":"Mayoralty"},331.68063013698628]
["002",2022,"001","020","0220","047",0,0,0,0,0,0,0,0,0,0,4843.3999999999996,0,4843.3999999999996,4843.3999999999996,-4843.3999999999996,4843.3999999999996,-4843.3999999999996,4843.3999999999996,4843.3999999999996,-4843.3999999999996,{"$f":"_xlfn.XLOOKUP(F39,'Object Codes'!$A$18:$A$510,'Object Codes'!$H$18:$H$510)","v":"PS - Additional Gross"},{"$f":"_xlfn.XLOOKUP(F39,'Object Codes'!$A$18:$A$510,'Object Codes'!$G$18:$G$510)","v":"C"},{"$f":"_xlfn.XLOOKUP(A39,Agencies!$A$9:$A$146,Agencies!$B$9:$B$146)","v":"General Government"},{"$f":"IF(_xlfn.XLOOKUP(A39,Agencies!A:A,Agencies!D:D)=\"Y\",IF(_xlfn.XLOOKUP(F39,'Object Codes'!A:A,'Object Codes'!I:I)=\"Y\",\"Y\",\"N\"),\"N\")","v":"Y"},{"$f":"VLOOKUP(F39,'Object Codes'!$A:$C,3,0)","v":"Overtime"},{"$f":"VLOOKUP(A39,Agencies!A:C,3,0)","v":"Mayoralty"},13.269589041095889]
["002",2022,"001","020","0220","049",0,0,0,0,0,0,0,0,0,0,119.2,0,119.2,119.2,-119.2,119.2,-119.2,119.2,119.2,-119.2,{"$f":"_xlfn.XLOOKUP(F40,'Object Codes'!$A$18:$A$510,'Object Codes'!$H$18:$H$510)","v":"PS - Additional Gross"},{"$f":"_xlfn.XLOOKUP(F40,'Object Codes'!$A$18:$A$510,'Object Codes'!$G$18:$G$510)","v":"A"},{"$f":"_xlfn.XLOOKUP(A40,Agencies!$A$9:$A$146,Agencies!$B$9:$B$146)","v":"General Government"},{"$f":"IF(_xlfn.XLOOKUP(A40,Agencies!A:A,Agencies!D:D)=\"Y\",IF(_xlfn.XLOOKUP(F40,'Object Codes'!A:A,'Object Codes'!I:I)=\"Y\",\"Y\",\"N\"),\"N\")","v":"Y"},{"$f":"VLOOKUP(F40,'Object Codes'!$A:$C,3,0)","v":"Backpay"},{"$f":"VLOOKUP(A40,Agencies!A:C,3,0)","v":"Mayoralty"},0.32657534246575343]
["002",2022,"001","020","0220","X46",0,0,0,0,0,0,0,0,0,0,67984.289999999994,0,67984.289999999994,67984.289999999994,-67984.289999999994,67984.289999999994,-67984.289999999994,67984.289999999994,67984.289999999994,-67984.289999999994,{"$f":"_xlfn.XLOOKUP(F41,'Object Codes'!$A$18:$A$510,'Object Codes'!$H$18:$H$510)","v":"PS - Additional Gross"},{"$f":"_xlfn.XLOOKUP(F41,'Object Codes'!$A$18:$A$510,'Object Codes'!$G$18:$G$510)","v":"A"},{"$f":"_xlfn.XLOOKUP(A41,Agencies!$A$9:$A$146,Agencies!$B$9:$B$146)","v":"General Government"},{"$f":"IF(_xlfn.XLOOKUP(A41,Agencies!A:A,Agencies!D:D)=\"Y\",IF(_xlfn.XLOOKUP(F41,'Object Codes'!A:A,'Object Codes'!I:I)=\"Y\",\"Y\",\"N\"),\"N\")","v":"Y"},{"$f":"VLOOKUP(F41,'Object Codes'!$A:$C,3,0)","v":"PY TERMINAL LEAVE"},{"$f":"VLOOKUP(A41,Agencies!A:C,3,0)","v":"Mayoralty"},186.25832876712326]
["002",2022,"001","020","0222","001",0,12,12,1597815,1597815,0,0,0,0,0,1545617.57,0,1545617.57,1545617.57,52197.43,1545617.57,52197.43,1545617.57,1545617.57,52197.43,{"$f":"_xlfn.XLOOKUP(F42,'Object Codes'!$A$18:$A$510,'Object Codes'!$H$18:$H$510)","v":"PS - Regular"},{"$f":"_xlfn.XLOOKUP(F42,'Object Codes'!$A$18:$A$510,'Object Codes'!$G$18:$G$510)","v":"C"},{"$f":"_xlfn.XLOOKUP(A42,Agencies!$A$9:$A$146,Agencies!$B$9:$B$146)","v":"General Government"},{"$f":"IF(_xlfn.XLOOKUP(A42,Agencies!A:A,Agencies!D:D)=\"Y\",IF(_xlfn.XLOOKUP(F42,'Object Codes'!A:A,'Object Codes'!I:I)=\"Y\",\"Y\",\"N\"),\"N\")","v":"Y"},{"$f":"VLOOKUP(F42,'Object Codes'!$A:$C,3,0)","v":"Full Year Positions"},{"$f":"VLOOKUP(A42,Agencies!A:C,3,0)","v":"Mayoralty"},4234.5686849315071]
["002",2022,"001","020","0222","046",0,0,0,0,0,0,0,0,0,0,45663.18,2612.04,48275.22,48275.22,-48275.22,48275.22,-48275.22,48275.22,48275.22,-48275.22,{"$f":"_xlfn.XLOOKUP(F43,'Object Codes'!$A$18:$A$510,'Object Codes'!$H$18:$H$510)","v":"PS - Additional Gross"},{"$f":"_xlfn.XLOOKUP(F43,'Object Codes'!$A$18:$A$510,'Object Codes'!$G$18:$G$510)","v":"A"},{"$f":"_xlfn.XLOOKUP(A43,Agencies!$A$9:$A$146,Agencies!$B$9:$B$146)","v":"General Government"},{"$f":"IF(_xlfn.XLOOKUP(A43,Agencies!A:A,Agencies!D:D)=\"Y\",IF(_xlfn.XLOOKUP(F43,'Object Codes'!A:A,'Object Codes'!I:I)=\"Y\",\"Y\",\"N\"),\"N\")","v":"Y"},{"$f":"VLOOKUP(F43,'Object Codes'!$A:$C,3,0)","v":"Terminal Leave"},{"$f":"VLOOKUP(A43,Agencies!A:C,3,0)","v":"Mayoralty"},132.26087671232878]
["002",2022,"001","020","0225","001",0,0,0,0,0,0,0,0,0,0,280522.13,0,280522.13,280522.13,-280522.13,280522.13,-280522.13,280522.13,280522.13,-280522.13,{"$f":"_xlfn.XLOOKUP(F44,'Object Codes'!$A$18:$A$510,'Object Codes'!$H$18:$H$510)","v":"PS - Regular"},{"$f":"_xlfn.XLOOKUP(F44,'Object Codes'!$A$18:$A$510,'Object Codes'!$G$18:$G$510)","v":"C"},{"$f":"_xlfn.XLOOKUP(A44,Agencies!$A$9:$A$146,Agencies!$B$9:$B$146)","v":"General Government"},{"$f":"IF(_xlfn.XLOOKUP(A44,Agencies!A:A,Agencies!D:D)=\"Y\",IF(_xlfn.XLOOKUP(F44,'Object Codes'!A:A,'Object Codes'!I:I)=\"Y\",\"Y\",\"N\"),\"N\")","v":"Y"},{"$f":"VLOOKUP(F44,'Object Codes'!$A:$C,3,0)","v":"Full Year Positions"},{"$f":"VLOOKUP(A44,Agencies!A:C,3,0)","v":"Mayoralty"},768.55378082191783]
["002",2022,"001","020","0226","001",0,4,4,560744,560744,0,0,0,0,0,360368.7,0,360368.7,360368.7,200375.3,360368.7,200375.3,360368.7,360368.7,200375.3,{"$f":"_xlfn.XLOOKUP(F45,'Object Codes'!$A$18:$A$510,'Object Codes'!$H$18:$H$510)","v":"PS - Regular"},{"$f":"_xlfn.XLOOKUP(F45,'Object Codes'!$A$18:$A$510,'Object Codes'!$G$18:$G$510)","v":"C"},{"$f":"_xlfn.XLOOKUP(A45,Agencies!$A$9:$A$146,Agencies!$B$9:$B$146)","v":"General Government"},{"$f":"IF(_xlfn.XLOOKUP(A45,Agencies!A:A,Agencies!D:D)=\"Y\",IF(_xlfn.XLOOKUP(F45,'Object Codes'!A:A,'Object Codes'!I:I)=\"Y\",\"Y\",\"N\"),\"N\")","v":"Y"},{"$f":"VLOOKUP(F45,'Object Codes'!$A:$C,3,0)","v":"Full Year Positions"},{"$f":"VLOOKUP(A45,Agencies!A:C,3,0)","v":"Mayoralty"},987.31150684931515]
["002",2022,"001","020","0226","031",0,0,0,1676,1676,0,0,0,0,0,24648.3,0,24648.3,24648.3,-22972.3,24648.3,-22972.3,24648.3,24648.3,-22972.3,{"$f":"_xlfn.XLOOKUP(F46,'Object Codes'!$A$18:$A$510,'Object Codes'!$H$18:$H$510)","v":"PS - Regular"},{"$f":"_xlfn.XLOOKUP(F46,'Object Codes'!$A$18:$A$510,'Object Codes'!$G$18:$G$510)","v":"C"},{"$f":"_xlfn.XLOOKUP(A46,Agencies!$A$9:$A$146,Agencies!$B$9:$B$146)","v":"General Government"},{"$f":"IF(_xlfn.XLOOKUP(A46,Agencies!A:A,Agencies!D:D)=\"Y\",IF(_xlfn.XLOOKUP(F46,'Object Codes'!A:A,'Object Codes'!I:I)=\"Y\",\"Y\",\"N\"),\"N\")","v":"Y"},{"$f":"VLOOKUP(F46,'Object Codes'!$A:$C,3,0)","v":"Hourly Positions"},{"$f":"VLOOKUP(A46,Agencies!A:C,3,0)","v":"Mayoralty"},67.529589041095889]
["002",2022,"001","020","0226","045",0,0,0,0,0,0,0,0,0,0,84.5,0,84.5,84.5,-84.5,84.5,-84.5,84.5,84.5,-84.5,{"$f":"_xlfn.XLOOKUP(F47,'Object Codes'!$A$18:$A$510,'Object Codes'!$H$18:$H$510)","v":"PS - Additional Gross"},{"$f":"_xlfn.XLOOKUP(F47,'Object Codes'!$A$18:$A$510,'Object Codes'!$G$18:$G$510)","v":"A"},{"$f":"_xlfn.XLOOKUP(A47,Agencies!$A$9:$A$146,Agencies!$B$9:$B$146)","v":"General Government"},{"$f":"IF(_xlfn.XLOOKUP(A47,Agencies!A:A,Agencies!D:D)=\"Y\",IF(_xlfn.XLOOKUP(F47,'Object Codes'!A:A,'Object Codes'!I:I)=\"Y\",\"Y\",\"N\"),\"N\")","v":"Y"},{"$f":"VLOOKUP(F47,'Object Codes'!$A:$C,3,0)","v":"Holiday Pay"},{"$f":"VLOOKUP(A47,Agencies!A:C,3,0)","v":"Mayoralty"},0.23150684931506849]
["002",2022,"001","020","0226","046",0,0,0,0,0,0,0,0,0,0,0,26751.51,26751.51,26751.51,-26751.51,26751.51,-26751.51,26751.51,26751.51,-26751.51,{"$f":"_xlfn.XLOOKUP(F48,'Object Codes'!$A$18:$A$510,'Object Codes'!$H$18:$H$510)","v":"PS - Additional Gross"},{"$f":"_xlfn.XLOOKUP(F48,'Object Codes'!$A$18:$A$510,'Object Codes'!$G$18:$G$510)","v":"A"},{"$f":"_xlfn.XLOOKUP(A48,Agencies!$A$9:$A$146,Agencies!$B$9:$B$146)","v":"General Government"},{"$f":"IF(_xlfn.XLOOKUP(A48,Agencies!A:A,Agencies!D:D)=\"Y\",IF(_xlfn.XLOOKUP(F48,'Object Codes'!A:A,'Object Codes'!I:I)=\"Y\",\"Y\",\"N\"),\"N\")","v":"Y"},{"$f":"VLOOKUP(F48,'Object Codes'!$A:$C,3,0)","v":"Terminal Leave"},{"$f":"VLOOKUP(A48,Agencies!A:C,3,0)","v":"Mayoralty"},73.29180821917808]
["002",2022,"001","020","0226","047",0,0,0,0,0,0,0,0,0,0,3522.99,0,3522.99,3522.99,-3522.99,3522.99,-3522.99,3522.99,3522.99,-3522.99,{"$f":"_xlfn.XLOOKUP(F49,'Object Codes'!$A$18:$A$510,'Object Codes'!$H$18:$H$510)","v":"PS - Additional Gross"},{"$f":"_xlfn.XLOOKUP(F49,'Object Codes'!$A$18:$A$510,'Object Codes'!$G$18:$G$510)","v":"C"},{"$f":"_xlfn.XLOOKUP(A49,Agencies!$A$9:$A$146,Agencies!$B$9:$B$146)","v":"General Government"},{"$f":"IF(_xlfn.XLOOKUP(A49,Agencies!A:A,Agencies!D:D)=\"Y\",IF(_xlfn.XLOOKUP(F49,'Object Codes'!A:A,'Object Codes'!I:I)=\"Y\",\"Y\",\"N\"),\"N\")","v":"Y"},{"$f":"VLOOKUP(F49,'Object Codes'!$A:$C,3,0)","v":"Overtime"},{"$f":"VLOOKUP(A49,Agencies!A:C,3,0)","v":"Mayoralty"},9.652027397260273]
["002",2022,"001","020","0226","X46",0,0,0,0,0,0,0,0,0,0,10710.65,0,10710.65,10710.65,-10710.65,10710.65,-10710.65,10710.65,10710.65,-10710.65,{"$f":"_xlfn.XLOOKUP(F50,'Object Codes'!$A$18:$A$510,'Object Codes'!$H$18:$H$510)","v":"PS - Additional Gross"},{"$f":"_xlfn.XLOOKUP(F50,'Object Codes'!$A$18:$A$510,'Object Codes'!$G$18:$G$510)","v":"A"},{"$f":"_xlfn.XLOOKUP(A50,Agencies!$A$9:$A$146,Agencies!$B$9:$B$146)","v":"General Government"},{"$f":"IF(_xlfn.XLOOKUP(A50,Agencies!A:A,Agencies!D:D)=\"Y\",IF(_xlfn.XLOOKUP(F50,'Object Codes'!A:A,'Object Codes'!I:I)=\"Y\",\"Y\",\"N\"),\"N\")","v":"Y"},{"$f":"VLOOKUP(F50,'Object Codes'!$A:$C,3,0)","v":"PY TERMINAL LEAVE"},{"$f":"VLOOKUP(A50,Agencies!A:C,3,0)","v":"Mayoralty"},29.344246575342464]
["002",2022,"001","020","0228","001",0,5,5,390000,390000,0,0,0,0,0,356464.67,0,356464.67,356464.67,33535.33,356464.67,33535.33,356464.67,356464.67,33535.33,{"$f":"_xlfn.XLOOKUP(F51,'Object Codes'!$A$18:$A$510,'Object Codes'!$H$18:$H$510)","v":"PS - Regular"},{"$f":"_xlfn.XLOOKUP(F51,'Object Codes'!$A$18:$A$510,'Object Codes'!$G$18:$G$510)","v":"C"},{"$f":"_xlfn.XLOOKUP(A51,Agencies!$A$9:$A$146,Agencies!$B$9:$B$146)","v":"General Government"},{"$f":"IF(_xlfn.XLOOKUP(A51,Agencies!A:A,Agencies!D:D)=\"Y\",IF(_xlfn.XLOOKUP(F51,'Object Codes'!A:A,'Object Codes'!I:I)=\"Y\",\"Y\",\"N\"),\"N\")","v":"Y"},{"$f":"VLOOKUP(F51,'Object Codes'!$A:$C,3,0)","v":"Full Year Positions"},{"$f":"VLOOKUP(A51,Agencies!A:C,3,0)","v":"Mayoralty"},976.61553424657529]
["002",2022,"001","020","0228","046",0,0,0,0,0,0,0,0,0,0,54608.03,13983.2,68591.23,68591.23,-68591.23,68591.23,-68591.23,68591.23,68591.23,-68591.23,{"$f":"_xlfn.XLOOKUP(F52,'Object Codes'!$A$18:$A$510,'Object Codes'!$H$18:$H$510)","v":"PS - Additional Gross"},{"$f":"_xlfn.XLOOKUP(F52,'Object Codes'!$A$18:$A$510,'Object Codes'!$G$18:$G$510)","v":"A"},{"$f":"_xlfn.XLOOKUP(A52,Agencies!$A$9:$A$146,Agencies!$B$9:$B$146)","v":"General Government"},{"$f":"IF(_xlfn.XLOOKUP(A52,Agencies!A:A,Agencies!D:D)=\"Y\",IF(_xlfn.XLOOKUP(F52,'Object Codes'!A:A,'Object Codes'!I:I)=\"Y\",\"Y\",\"N\"),\"N\")","v":"Y"},{"$f":"VLOOKUP(F52,'Object Codes'!$A:$C,3,0)","v":"Terminal Leave"},{"$f":"VLOOKUP(A52,Agencies!A:C,3,0)","v":"Mayoralty"},187.92117808219177]
["002",2022,"001","020","0228","047",0,0,0,0,0,0,0,0,0,0,169.13,0,169.13,169.13,-169.13,169.13,-169.13,169.13,169.13,-169.13,{"$f":"_xlfn.XLOOKUP(F53,'Object Codes'!$A$18:$A$510,'Object Codes'!$H$18:$H$510)","v":"PS - Additional Gross"},{"$f":"_xlfn.XLOOKUP(F53,'Object Codes'!$A$18:$A$510,'Object Codes'!$G$18:$G$510)","v":"C"},{"$f":"_xlfn.XLOOKUP(A53,Agencies!$A$9:$A$146,Agencies!$B$9:$B$146)","v":"General Government"},{"$f":"IF(_xlfn.XLOOKUP(A53,Agencies!A:A,Agencies!D:D)=\"Y\",IF(_xlfn.XLOOKUP(F53,'Object Codes'!A:A,'Object Codes'!I:I)=\"Y\",\"Y\",\"N\"),\"N\")","v":"Y"},{"$f":"VLOOKUP(F53,'Object Codes'!$A:$C,3,0)","v":"Overtime"},{"$f":"VLOOKUP(A53,Agencies!A:C,3,0)","v":"Mayoralty"},0.46336986301369859]
["002",2022,"001","020","0229","001",0,8,8,1063418,1063418,0,0,0,0,0,1125098.7,0,1125098.7,1125098.7,-61680.7,1125098.7,-61680.7,1125098.7,1125098.7,-61680.7,{"$f":"_xlfn.XLOOKUP(F54,'Object Codes'!$A$18:$A$510,'Object Codes'!$H$18:$H$510)","v":"PS - Regular"},{"$f":"_xlfn.XLOOKUP(F54,'Object Codes'!$A$18:$A$510,'Object Codes'!$G$18:$G$510)","v":"C"},{"$f":"_xlfn.XLOOKUP(A54,Agencies!$A$9:$A$146,Agencies!$B$9:$B$146)","v":"General Government"},{"$f":"IF(_xlfn.XLOOKUP(A54,Agencies!A:A,Agencies!D:D)=\"Y\",IF(_xlfn.XLOOKUP(F54,'Object Codes'!A:A,'Object Codes'!I:I)=\"Y\",\"Y\",\"N\"),\"N\")","v":"Y"},{"$f":"VLOOKUP(F54,'Object Codes'!$A:$C,3,0)","v":"Full Year Positions"},{"$f":"VLOOKUP(A54,Agencies!A:C,3,0)","v":"Mayoralty"},3082.4621917808217]
["002",2022,"001","020","0229","046",0,0,0,0,0,0,0,0,0,0,73450.259999999995,0,73450.259999999995,73450.259999999995,-73450.259999999995,73450.259999999995,-73450.259999999995,73450.259999999995,73450.259999999995,-73450.259999999995,{"$f":"_xlfn.XLOOKUP(F55,'Object Codes'!$A$18:$A$510,'Object Codes'!$H$18:$H$510)","v":"PS - Additional Gross"},{"$f":"_xlfn.XLOOKUP(F55,'Object Codes'!$A$18:$A$510,'Object Codes'!$G$18:$G$510)","v":"A"},{"$f":"_xlfn.XLOOKUP(A55,Agencies!$A$9:$A$146,Agencies!$B$9:$B$146)","v":"General Government"},{"$f":"IF(_xlfn.XLOOKUP(A55,Agencies!A:A,Agencies!D:D)=\"Y\",IF(_xlfn.XLOOKUP(F55,'Object Codes'!A:A,'Object Codes'!I:I)=\"Y\",\"Y\",\"N\"),\"N\")","v":"Y"},{"$f":"VLOOKUP(F55,'Object Codes'!$A:$C,3,0)","v":"Terminal Leave"},{"$f":"VLOOKUP(A55,Agencies!A:C,3,0)","v":"Mayoralty"},201.23358904109588]
["002",2022,"001","020","0230","001",0,1,1,208205,208205,0,0,0,0,0,144706.73000000001,0,144706.73000000001,144706.73000000001,63498.27,144706.73000000001,63498.27,144706.73000000001,144706.73000000001,63498.27,{"$f":"_xlfn.XLOOKUP(F56,'Object Codes'!$A$18:$A$510,'Object Codes'!$H$18:$H$510)","v":"PS - Regular"},{"$f":"_xlfn.XLOOKUP(F56,'Object Codes'!$A$18:$A$510,'Object Codes'!$G$18:$G$510)","v":"C"},{"$f":"_xlfn.XLOOKUP(A56,Agencies!$A$9:$A$146,Agencies!$B$9:$B$146)","v":"General Government"},{"$f":"IF(_xlfn.XLOOKUP(A56,Agencies!A:A,Agencies!D:D)=\"Y\",IF(_xlfn.XLOOKUP(F56,'Object Codes'!A:A,'Object Codes'!I:I)=\"Y\",\"Y\",\"N\"),\"N\")","v":"Y"},{"$f":"VLOOKUP(F56,'Object Codes'!$A:$C,3,0)","v":"Full Year Positions"},{"$f":"VLOOKUP(A56,Agencies!A:C,3,0)","v":"Mayoralty"},396.45679452054799]
["002",2022,"001","020","0231","001",0,0,1,9678,144678,0,0,0,0,0,124398.42,0,124398.42,124398.42,20279.580000000002,124398.42,20279.580000000002,124398.42,124398.42,20279.580000000002,{"$f":"_xlfn.XLOOKUP(F57,'Object Codes'!$A$18:$A$510,'Object Codes'!$H$18:$H$510)","v":"PS - Regular"},{"$f":"_xlfn.XLOOKUP(F57,'Object Codes'!$A$18:$A$510,'Object Codes'!$G$18:$G$510)","v":"C"},{"$f":"_xlfn.XLOOKUP(A57,Agencies!$A$9:$A$146,Agencies!$B$9:$B$146)","v":"General Government"},{"$f":"IF(_xlfn.XLOOKUP(A57,Agencies!A:A,Agencies!D:D)=\"Y\",IF(_xlfn.XLOOKUP(F57,'Object Codes'!A:A,'Object Codes'!I:I)=\"Y\",\"Y\",\"N\"),\"N\")","v":"Y"},{"$f":"VLOOKUP(F57,'Object Codes'!$A:$C,3,0)","v":"Full Year Positions"},{"$f":"VLOOKUP(A57,Agencies!A:C,3,0)","v":"Mayoralty"},340.81758904109586]
["002",2022,"001","020","0231","046",0,0,0,0,0,0,0,0,0,0,1840,0,1840,1840,-1840,1840,-1840,1840,1840,-1840,{"$f":"_xlfn.XLOOKUP(F58,'Object Codes'!$A$18:$A$510,'Object Codes'!$H$18:$H$510)","v":"PS - Additional Gross"},{"$f":"_xlfn.XLOOKUP(F58,'Object Codes'!$A$18:$A$510,'Object Codes'!$G$18:$G$510)","v":"A"},{"$f":"_xlfn.XLOOKUP(A58,Agencies!$A$9:$A$146,Agencies!$B$9:$B$146)","v":"General Government"},{"$f":"IF(_xlfn.XLOOKUP(A58,Agencies!A:A,Agencies!D:D)=\"Y\",IF(_xlfn.XLOOKUP(F58,'Object Codes'!A:A,'Object Codes'!I:I)=\"Y\",\"Y\",\"N\"),\"N\")","v":"Y"},{"$f":"VLOOKUP(F58,'Object Codes'!$A:$C,3,0)","v":"Terminal Leave"},{"$f":"VLOOKUP(A58,Agencies!A:C,3,0)","v":"Mayoralty"},5.0410958904109586]
["002",2022,"001","020","0235","001",0,3,3,522155,522155,0,0,0,0,0,1225986.67,0,1225986.67,1225986.67,-703831.67,1225986.67,-703831.67,1225986.67,1225986.67,-703831.67,{"$f":"_xlfn.XLOOKUP(F59,'Object Codes'!$A$18:$A$510,'Object Codes'!$H$18:$H$510)","v":"PS - Regular"},{"$f":"_xlfn.XLOOKUP(F59,'Object Codes'!$A$18:$A$510,'Object Codes'!$G$18:$G$510)","v":"C"},{"$f":"_xlfn.XLOOKUP(A59,Agencies!$A$9:$A$146,Agencies!$B$9:$B$146)","v":"General Government"},{"$f":"IF(_xlfn.XLOOKUP(A59,Agencies!A:A,Agencies!D:D)=\"Y\",IF(_xlfn.XLOOKUP(F59,'Object Codes'!A:A,'Object Codes'!I:I)=\"Y\",\"Y\",\"N\"),\"N\")","v":"Y"},{"$f":"VLOOKUP(F59,'Object Codes'!$A:$C,3,0)","v":"Full Year Positions"},{"$f":"VLOOKUP(A59,Agencies!A:C,3,0)","v":"Mayoralty"},3358.8675890410955]
["002",2022,"001","020","0235","046",0,0,0,0,0,0,0,0,0,0,103921.62,0,103921.62,103921.62,-103921.62,103921.62,-103921.62,103921.62,103921.62,-103921.62,{"$f":"_xlfn.XLOOKUP(F60,'Object Codes'!$A$18:$A$510,'Object Codes'!$H$18:$H$510)","v":"PS - Additional Gross"},{"$f":"_xlfn.XLOOKUP(F60,'Object Codes'!$A$18:$A$510,'Object Codes'!$G$18:$G$510)","v":"A"},{"$f":"_xlfn.XLOOKUP(A60,Agencies!$A$9:$A$146,Agencies!$B$9:$B$146)","v":"General Government"},{"$f":"IF(_xlfn.XLOOKUP(A60,Agencies!A:A,Agencies!D:D)=\"Y\",IF(_xlfn.XLOOKUP(F60,'Object Codes'!A:A,'Object Codes'!I:I)=\"Y\",\"Y\",\"N\"),\"N\")","v":"Y"},{"$f":"VLOOKUP(F60,'Object Codes'!$A:$C,3,0)","v":"Terminal Leave"},{"$f":"VLOOKUP(A60,Agencies!A:C,3,0)","v":"Mayoralty"},284.71676712328764]
["002",2022,"001","020","0235","047",0,0,0,0,0,0,0,0,0,0,5840.05,0,5840.05,5840.05,-5840.05,5840.05,-5840.05,5840.05,5840.05,-5840.05,{"$f":"_xlfn.XLOOKUP(F61,'Object Codes'!$A$18:$A$510,'Object Codes'!$H$18:$H$510)","v":"PS - Additional Gross"},{"$f":"_xlfn.XLOOKUP(F61,'Object Codes'!$A$18:$A$510,'Object Codes'!$G$18:$G$510)","v":"C"},{"$f":"_xlfn.XLOOKUP(A61,Agencies!$A$9:$A$146,Agencies!$B$9:$B$146)","v":"General Government"},{"$f":"IF(_xlfn.XLOOKUP(A61,Agencies!A:A,Agencies!D:D)=\"Y\",IF(_xlfn.XLOOKUP(F61,'Object Codes'!A:A,'Object Codes'!I:I)=\"Y\",\"Y\",\"N\"),\"N\")","v":"Y"},{"$f":"VLOOKUP(F61,'Object Codes'!$A:$C,3,0)","v":"Overtime"},{"$f":"VLOOKUP(A61,Agencies!A:C,3,0)","v":"Mayoralty"},16.000136986301371]
["002",2022,"001","020","0235","057",0,0,0,0,500,0,0,0,0,0,500,0,500,500,0,500,0,500,500,0,{"$f":"_xlfn.XLOOKUP(F62,'Object Codes'!$A$18:$A$510,'Object Codes'!$H$18:$H$510)","v":"PS - Additional Gross"},{"$f":"_xlfn.XLOOKUP(F62,'Object Codes'!$A$18:$A$510,'Object Codes'!$G$18:$G$510)","v":"A"},{"$f":"_xlfn.XLOOKUP(A62,Agencies!$A$9:$A$146,Agencies!$B$9:$B$146)","v":"General Government"},{"$f":"IF(_xlfn.XLOOKUP(A62,Agencies!A:A,Agencies!D:D)=\"Y\",IF(_xlfn.XLOOKUP(F62,'Object Codes'!A:A,'Object Codes'!I:I)=\"Y\",\"Y\",\"N\"),\"N\")","v":"Y"},{"$f":"VLOOKUP(F62,'Object Codes'!$A:$C,3,0)","v":"Bonus Payments"},{"$f":"VLOOKUP(A62,Agencies!A:C,3,0)","v":"Mayoralty"},1.3698630136986301]
["002",2022,"001","020","0243","001",0,11,11,1429501,1429501,0,0,0,0,0,1050460.56,0,1050460.56,1050460.56,379040.44,1050460.56,379040.44,1050460.56,1050460.56,379040.44,{"$f":"_xlfn.XLOOKUP(F63,'Object Codes'!$A$18:$A$510,'Object Codes'!$H$18:$H$510)","v":"PS - Regular"},{"$f":"_xlfn.XLOOKUP(F63,'Object Codes'!$A$18:$A$510,'Object Codes'!$G$18:$G$510)","v":"C"},{"$f":"_xlfn.XLOOKUP(A63,Agencies!$A$9:$A$146,Agencies!$B$9:$B$146)","v":"General Government"},{"$f":"IF(_xlfn.XLOOKUP(A63,Agencies!A:A,Agencies!D:D)=\"Y\",IF(_xlfn.XLOOKUP(F63,'Object Codes'!A:A,'Object Codes'!I:I)=\"Y\",\"Y\",\"N\"),\"N\")","v":"Y"},{"$f":"VLOOKUP(F63,'Object Codes'!$A:$C,3,0)","v":"Full Year Positions"},{"$f":"VLOOKUP(A63,Agencies!A:C,3,0)","v":"Mayoralty"},2877.9741369863013]
["002",2022,"001","020","0243","046",0,0,0,0,0,0,0,0,0,0,52067.7,18919.45,70987.149999999994,70987.149999999994,-70987.149999999994,70987.149999999994,-70987.149999999994,70987.149999999994,70987.149999999994,-70987.149999999994,{"$f":"_xlfn.XLOOKUP(F64,'Object Codes'!$A$18:$A$510,'Object Codes'!$H$18:$H$510)","v":"PS - Additional Gross"},{"$f":"_xlfn.XLOOKUP(F64,'Object Codes'!$A$18:$A$510,'Object Codes'!$G$18:$G$510)","v":"A"},{"$f":"_xlfn.XLOOKUP(A64,Agencies!$A$9:$A$146,Agencies!$B$9:$B$146)","v":"General Government"},{"$f":"IF(_xlfn.XLOOKUP(A64,Agencies!A:A,Agencies!D:D)=\"Y\",IF(_xlfn.XLOOKUP(F64,'Object Codes'!A:A,'Object Codes'!I:I)=\"Y\",\"Y\",\"N\"),\"N\")","v":"Y"},{"$f":"VLOOKUP(F64,'Object Codes'!$A:$C,3,0)","v":"Terminal Leave"},{"$f":"VLOOKUP(A64,Agencies!A:C,3,0)","v":"Mayoralty"},194.4853424657534]
["002",2022,"001","020","0245","001",0,13,13,1371380,1371380,0,0,0,0,0,1151295.04,0,1151295.04,1151295.04,220084.96,1151295.04,220084.96,1151295.04,1151295.04,220084.96,{"$f":"_xlfn.XLOOKUP(F65,'Object Codes'!$A$18:$A$510,'Object Codes'!$H$18:$H$510)","v":"PS - Regular"},{"$f":"_xlfn.XLOOKUP(F65,'Object Codes'!$A$18:$A$510,'Object Codes'!$G$18:$G$510)","v":"C"},{"$f":"_xlfn.XLOOKUP(A65,Agencies!$A$9:$A$146,Agencies!$B$9:$B$146)","v":"General Government"},{"$f":"IF(_xlfn.XLOOKUP(A65,Agencies!A:A,Agencies!D:D)=\"Y\",IF(_xlfn.XLOOKUP(F65,'Object Codes'!A:A,'Object Codes'!I:I)=\"Y\",\"Y\",\"N\"),\"N\")","v":"Y"},{"$f":"VLOOKUP(F65,'Object Codes'!$A:$C,3,0)","v":"Full Year Positions"},{"$f":"VLOOKUP(A65,Agencies!A:C,3,0)","v":"Mayoralty"},3154.2329863013701]
["002",2022,"001","020","0245","046",0,0,0,0,0,0,0,0,0,0,0,17458.849999999999,17458.849999999999,17458.849999999999,-17458.849999999999,17458.849999999999,-17458.849999999999,17458.849999999999,17458.849999999999,-17458.849999999999,{"$f":"_xlfn.XLOOKUP(F66,'Object Codes'!$A$18:$A$510,'Object Codes'!$H$18:$H$510)","v":"PS - Additional Gross"},{"$f":"_xlfn.XLOOKUP(F66,'Object Codes'!$A$18:$A$510,'Object Codes'!$G$18:$G$510)","v":"A"},{"$f":"_xlfn.XLOOKUP(A66,Agencies!$A$9:$A$146,Agencies!$B$9:$B$146)","v":"General Government"},{"$f":"IF(_xlfn.XLOOKUP(A66,Agencies!A:A,Agencies!D:D)=\"Y\",IF(_xlfn.XLOOKUP(F66,'Object Codes'!A:A,'Object Codes'!I:I)=\"Y\",\"Y\",\"N\"),\"N\")","v":"Y"},{"$f":"VLOOKUP(F66,'Object Codes'!$A:$C,3,0)","v":"Terminal Leave"},{"$f":"VLOOKUP(A66,Agencies!A:C,3,0)","v":"Mayoralty"},47.832465753424657]
["002",2022,"001","020","0246","001",0,4,2,438931,271878,0,0,0,0,0,238453.38,0,238453.38,238453.38,33424.620000000003,238453.38,33424.620000000003,238453.38,238453.38,33424.620000000003,{"$f":"_xlfn.XLOOKUP(F67,'Object Codes'!$A$18:$A$510,'Object Codes'!$H$18:$H$510)","v":"PS - Regular"},{"$f":"_xlfn.XLOOKUP(F67,'Object Codes'!$A$18:$A$510,'Object Codes'!$G$18:$G$510)","v":"C"},{"$f":"_xlfn.XLOOKUP(A67,Agencies!$A$9:$A$146,Agencies!$B$9:$B$146)","v":"General Government"},{"$f":"IF(_xlfn.XLOOKUP(A67,Agencies!A:A,Agencies!D:D)=\"Y\",IF(_xlfn.XLOOKUP(F67,'Object Codes'!A:A,'Object Codes'!I:I)=\"Y\",\"Y\",\"N\"),\"N\")","v":"Y"},{"$f":"VLOOKUP(F67,'Object Codes'!$A:$C,3,0)","v":"Full Year Positions"},{"$f":"VLOOKUP(A67,Agencies!A:C,3,0)","v":"Mayoralty"},653.29693150684932]
["002",2022,"001","020","0248","001",0,7,7,680209,680209,0,0,0,0,0,605673.86,0,605673.86,605673.86,74535.14,605673.86,74535.14,605673.86,605673.86,74535.14,{"$f":"_xlfn.XLOOKUP(F68,'Object Codes'!$A$18:$A$510,'Object Codes'!$H$18:$H$510)","v":"PS - Regular"},{"$f":"_xlfn.XLOOKUP(F68,'Object Codes'!$A$18:$A$510,'Object Codes'!$G$18:$G$510)","v":"C"},{"$f":"_xlfn.XLOOKUP(A68,Agencies!$A$9:$A$146,Agencies!$B$9:$B$146)","v":"General Government"},{"$f":"IF(_xlfn.XLOOKUP(A68,Agencies!A:A,Agencies!D:D)=\"Y\",IF(_xlfn.XLOOKUP(F68,'Object Codes'!A:A,'Object Codes'!I:I)=\"Y\",\"Y\",\"N\"),\"N\")","v":"Y"},{"$f":"VLOOKUP(F68,'Object Codes'!$A:$C,3,0)","v":"Full Year Positions"},{"$f":"VLOOKUP(A68,Agencies!A:C,3,0)","v":"Mayoralty"},1659.3804383561644]
["002",2022,"001","020","0248","046",0,0,0,0,0,0,0,0,0,0,0,69262.559999999998,69262.559999999998,69262.559999999998,-69262.559999999998,69262.559999999998,-69262.559999999998,69262.559999999998,69262.559999999998,-69262.559999999998,{"$f":"_xlfn.XLOOKUP(F69,'Object Codes'!$A$18:$A$510,'Object Codes'!$H$18:$H$510)","v":"PS - Additional Gross"},{"$f":"_xlfn.XLOOKUP(F69,'Object Codes'!$A$18:$A$510,'Object Codes'!$G$18:$G$510)","v":"A"},{"$f":"_xlfn.XLOOKUP(A69,Agencies!$A$9:$A$146,Agencies!$B$9:$B$146)","v":"General Government"},{"$f":"IF(_xlfn.XLOOKUP(A69,Agencies!A:A,Agencies!D:D)=\"Y\",IF(_xlfn.XLOOKUP(F69,'Object Codes'!A:A,'Object Codes'!I:I)=\"Y\",\"Y\",\"N\"),\"N\")","v":"Y"},{"$f":"VLOOKUP(F69,'Object Codes'!$A:$C,3,0)","v":"Terminal Leave"},{"$f":"VLOOKUP(A69,Agencies!A:C,3,0)","v":"Mayoralty"},189.76043835616437]
["002",2022,"001","020","0250","001",0,7,7,814886,814886,0,0,0,0,0,512831.37,0,512831.37,512831.37,302054.63,512831.37,302054.63,512831.37,512831.37,302054.63,{"$f":"_xlfn.XLOOKUP(F70,'Object Codes'!$A$18:$A$510,'Object Codes'!$H$18:$H$510)","v":"PS - Regular"},{"$f":"_xlfn.XLOOKUP(F70,'Object Codes'!$A$18:$A$510,'Object Codes'!$G$18:$G$510)","v":"C"},{"$f":"_xlfn.XLOOKUP(A70,Agencies!$A$9:$A$146,Agencies!$B$9:$B$146)","v":"General Government"},{"$f":"IF(_xlfn.XLOOKUP(A70,Agencies!A:A,Agencies!D:D)=\"Y\",IF(_xlfn.XLOOKUP(F70,'Object Codes'!A:A,'Object Codes'!I:I)=\"Y\",\"Y\",\"N\"),\"N\")","v":"Y"},{"$f":"VLOOKUP(F70,'Object Codes'!$A:$C,3,0)","v":"Full Year Positions"},{"$f":"VLOOKUP(A70,Agencies!A:C,3,0)","v":"Mayoralty"},1405.0174520547946]
["002",2022,"001","020","0250","046",0,0,0,0,0,0,0,0,0,0,19327.16,0,19327.16,19327.16,-19327.16,19327.16,-19327.16,19327.16,19327.16,-19327.16,{"$f":"_xlfn.XLOOKUP(F71,'Object Codes'!$A$18:$A$510,'Object Codes'!$H$18:$H$510)","v":"PS - Additional Gross"},{"$f":"_xlfn.XLOOKUP(F71,'Object Codes'!$A$18:$A$510,'Object Codes'!$G$18:$G$510)","v":"A"},{"$f":"_xlfn.XLOOKUP(A71,Agencies!$A$9:$A$146,Agencies!$B$9:$B$146)","v":"General Government"},{"$f":"IF(_xlfn.XLOOKUP(A71,Agencies!A:A,Agencies!D:D)=\"Y\",IF(_xlfn.XLOOKUP(F71,'Object Codes'!A:A,'Object Codes'!I:I)=\"Y\",\"Y\",\"N\"),\"N\")","v":"Y"},{"$f":"VLOOKUP(F71,'Object Codes'!$A:$C,3,0)","v":"Terminal Leave"},{"$f":"VLOOKUP(A71,Agencies!A:C,3,0)","v":"Mayoralty"},52.95112328767123]
["002",2022,"001","020","0250","X46",0,0,0,0,0,0,0,0,0,0,62699.3,0,62699.3,62699.3,-62699.3,62699.3,-62699.3,62699.3,62699.3,-62699.3,{"$f":"_xlfn.XLOOKUP(F72,'Object Codes'!$A$18:$A$510,'Object Codes'!$H$18:$H$510)","v":"PS - Additional Gross"},{"$f":"_xlfn.XLOOKUP(F72,'Object Codes'!$A$18:$A$510,'Object Codes'!$G$18:$G$510)","v":"A"},{"$f":"_xlfn.XLOOKUP(A72,Agencies!$A$9:$A$146,Agencies!$B$9:$B$146)","v":"General Government"},{"$f":"IF(_xlfn.XLOOKUP(A72,Agencies!A:A,Agencies!D:D)=\"Y\",IF(_xlfn.XLOOKUP(F72,'Object Codes'!A:A,'Object Codes'!I:I)=\"Y\",\"Y\",\"N\"),\"N\")","v":"Y"},{"$f":"VLOOKUP(F72,'Object Codes'!$A:$C,3,0)","v":"PY TERMINAL LEAVE"},{"$f":"VLOOKUP(A72,Agencies!A:C,3,0)","v":"Mayoralty"},171.77890410958904]
["002",2022,"001","020","0253","001",0,4,4,443096,443096,0,0,0,0,0,117305.2,0,117305.2,117305.2,325790.8,117305.2,325790.8,117305.2,117305.2,325790.8,{"$f":"_xlfn.XLOOKUP(F73,'Object Codes'!$A$18:$A$510,'Object Codes'!$H$18:$H$510)","v":"PS - Regular"},{"$f":"_xlfn.XLOOKUP(F73,'Object Codes'!$A$18:$A$510,'Object Codes'!$G$18:$G$510)","v":"C"},{"$f":"_xlfn.XLOOKUP(A73,Agencies!$A$9:$A$146,Agencies!$B$9:$B$146)","v":"General Government"},{"$f":"IF(_xlfn.XLOOKUP(A73,Agencies!A:A,Agencies!D:D)=\"Y\",IF(_xlfn.XLOOKUP(F73,'Object Codes'!A:A,'Object Codes'!I:I)=\"Y\",\"Y\",\"N\"),\"N\")","v":"Y"},{"$f":"VLOOKUP(F73,'Object Codes'!$A:$C,3,0)","v":"Full Year Positions"},{"$f":"VLOOKUP(A73,Agencies!A:C,3,0)","v":"Mayoralty"},{"$f":"S73/365","v":321.38410958904109}]
["002",2022,"001","020","0253","046",0,0,0,0,0,0,0,0,0,0,2641.84,17768.259999999998,20410.099999999999,20410.099999999999,-20410.099999999999,20410.099999999999,-20410.099999999999,20410.099999999999,20410.099999999999,-20410.099999999999,{"$f":"_xlfn.XLOOKUP(F74,'Object Codes'!$A$18:$A$510,'Object Codes'!$H$18:$H$510)","v":"PS - Additional Gross"},{"$f":"_xlfn.XLOOKUP(F74,'Object Codes'!$A$18:$A$510,'Object Codes'!$G$18:$G$510)","v":"A"},{"$f":"_xlfn.XLOOKUP(A74,Agencies!$A$9:$A$146,Agencies!$B$9:$B$146)","v":"General Government"},{"$f":"IF(_xlfn.XLOOKUP(A74,Agencies!A:A,Agencies!D:D)=\"Y\",IF(_xlfn.XLOOKUP(F74,'Object Codes'!A:A,'Object Codes'!I:I)=\"Y\",\"Y\",\"N\"),\"N\")","v":"Y"},{"$f":"VLOOKUP(F74,'Object Codes'!$A:$C,3,0)","v":"Terminal Leave"},{"$f":"VLOOKUP(A74,Agencies!A:C,3,0)","v":"Mayoralty"},55.918082191780819]
["002",2022,"001","020","0253","X46",0,0,0,0,0,0,0,0,0,0,3819.77,0,3819.77,3819.77,-3819.77,3819.77,-3819.77,3819.77,3819.77,-3819.77,{"$f":"_xlfn.XLOOKUP(F75,'Object Codes'!$A$18:$A$510,'Object Codes'!$H$18:$H$510)","v":"PS - Additional Gross"},{"$f":"_xlfn.XLOOKUP(F75,'Object Codes'!$A$18:$A$510,'Object Codes'!$G$18:$G$510)","v":"A"},{"$f":"_xlfn.XLOOKUP(A75,Agencies!$A$9:$A$146,Agencies!$B$9:$B$146)","v":"General Government"},{"$f":"IF(_xlfn.XLOOKUP(A75,Agencies!A:A,Agencies!D:D)=\"Y\",IF(_xlfn.XLOOKUP(F75,'Object Codes'!A:A,'Object Codes'!I:I)=\"Y\",\"Y\",\"N\"),\"N\")","v":"Y"},{"$f":"VLOOKUP(F75,'Object Codes'!$A:$C,3,0)","v":"PY TERMINAL LEAVE"},{"$f":"VLOOKUP(A75,Agencies!A:C,3,0)","v":"Mayoralty"},10.465123287671233]
["002",2022,"001","020","0264","001",0,12,12,1082916,1082916,0,0,0,0,0,703393.36,0,703393.36,703393.36,379522.64,703393.36,379522.64,703393.36,703393.36,379522.64,{"$f":"_xlfn.XLOOKUP(F76,'Object Codes'!$A$18:$A$510,'Object Codes'!$H$18:$H$510)","v":"PS - Regular"},{"$f":"_xlfn.XLOOKUP(F76,'Object Codes'!$A$18:$A$510,'Object Codes'!$G$18:$G$510)","v":"C"},{"$f":"_xlfn.XLOOKUP(A76,Agencies!$A$9:$A$146,Agencies!$B$9:$B$146)","v":"General Government"},{"$f":"IF(_xlfn.XLOOKUP(A76,Agencies!A:A,Agencies!D:D)=\"Y\",IF(_xlfn.XLOOKUP(F76,'Object Codes'!A:A,'Object Codes'!I:I)=\"Y\",\"Y\",\"N\"),\"N\")","v":"Y"},{"$f":"VLOOKUP(F76,'Object Codes'!$A:$C,3,0)","v":"Full Year Positions"},{"$f":"VLOOKUP(A76,Agencies!A:C,3,0)","v":"Mayoralty"},1927.1050958904109]
["002",2022,"001","020","0264","046",0,0,0,0,0,0,0,0,0,0,37857.4,12412.8,50270.2,50270.2,-50270.2,50270.2,-50270.2,50270.2,50270.2,-50270.2,{"$f":"_xlfn.XLOOKUP(F77,'Object Codes'!$A$18:$A$510,'Object Codes'!$H$18:$H$510)","v":"PS - Additional Gross"},{"$f":"_xlfn.XLOOKUP(F77,'Object Codes'!$A$18:$A$510,'Object Codes'!$G$18:$G$510)","v":"A"},{"$f":"_xlfn.XLOOKUP(A77,Agencies!$A$9:$A$146,Agencies!$B$9:$B$146)","v":"General Government"},{"$f":"IF(_xlfn.XLOOKUP(A77,Agencies!A:A,Agencies!D:D)=\"Y\",IF(_xlfn.XLOOKUP(F77,'Object Codes'!A:A,'Object Codes'!I:I)=\"Y\",\"Y\",\"N\"),\"N\")","v":"Y"},{"$f":"VLOOKUP(F77,'Object Codes'!$A:$C,3,0)","v":"Terminal Leave"},{"$f":"VLOOKUP(A77,Agencies!A:C,3,0)","v":"Mayoralty"},137.72657534246574]
["002",2022,"001","020","0264","049",0,0,0,0,0,0,0,0,0,0,242.9,0,242.9,242.9,-242.9,242.9,-242.9,242.9,242.9,-242.9,{"$f":"_xlfn.XLOOKUP(F78,'Object Codes'!$A$18:$A$510,'Object Codes'!$H$18:$H$510)","v":"PS - Additional Gross"},{"$f":"_xlfn.XLOOKUP(F78,'Object Codes'!$A$18:$A$510,'Object Codes'!$G$18:$G$510)","v":"A"},{"$f":"_xlfn.XLOOKUP(A78,Agencies!$A$9:$A$146,Agencies!$B$9:$B$146)","v":"General Government"},{"$f":"IF(_xlfn.XLOOKUP(A78,Agencies!A:A,Agencies!D:D)=\"Y\",IF(_xlfn.XLOOKUP(F78,'Object Codes'!A:A,'Object Codes'!I:I)=\"Y\",\"Y\",\"N\"),\"N\")","v":"Y"},{"$f":"VLOOKUP(F78,'Object Codes'!$A:$C,3,0)","v":"Backpay"},{"$f":"VLOOKUP(A78,Agencies!A:C,3,0)","v":"Mayoralty"},0.66547945205479453]
["002",2022,"001","020","0274","001",0,19,19,1568682,1568682,0,0,0,0,0,1578947.36,0,1578947.36,1578947.36,-10265.36,1578947.36,-10265.36,1578947.36,1578947.36,-10265.36,{"$f":"_xlfn.XLOOKUP(F79,'Object Codes'!$A$18:$A$510,'Object Codes'!$H$18:$H$510)","v":"PS - Regular"},{"$f":"_xlfn.XLOOKUP(F79,'Object Codes'!$A$18:$A$510,'Object Codes'!$G$18:$G$510)","v":"C"},{"$f":"_xlfn.XLOOKUP(A79,Agencies!$A$9:$A$146,Agencies!$B$9:$B$146)","v":"General Government"},{"$f":"IF(_xlfn.XLOOKUP(A79,Agencies!A:A,Agencies!D:D)=\"Y\",IF(_xlfn.XLOOKUP(F79,'Object Codes'!A:A,'Object Codes'!I:I)=\"Y\",\"Y\",\"N\"),\"N\")","v":"Y"},{"$f":"VLOOKUP(F79,'Object Codes'!$A:$C,3,0)","v":"Full Year Positions"},{"$f":"VLOOKUP(A79,Agencies!A:C,3,0)","v":"Mayoralty"},4325.883178082192]
["002",2022,"001","020","0274","057",0,0,0,0,500,0,0,0,0,0,500,0,500,500,0,500,0,500,500,0,{"$f":"_xlfn.XLOOKUP(F80,'Object Codes'!$A$18:$A$510,'Object Codes'!$H$18:$H$510)","v":"PS - Additional Gross"},{"$f":"_xlfn.XLOOKUP(F80,'Object Codes'!$A$18:$A$510,'Object Codes'!$G$18:$G$510)","v":"A"},{"$f":"_xlfn.XLOOKUP(A80,Agencies!$A$9:$A$146,Agencies!$B$9:$B$146)","v":"General Government"},{"$f":"IF(_xlfn.XLOOKUP(A80,Agencies!A:A,Agencies!D:D)=\"Y\",IF(_xlfn.XLOOKUP(F80,'Object Codes'!A:A,'Object Codes'!I:I)=\"Y\",\"Y\",\"N\"),\"N\")","v":"Y"},{"$f":"VLOOKUP(F80,'Object Codes'!$A:$C,3,0)","v":"Bonus Payments"},{"$f":"VLOOKUP(A80,Agencies!A:C,3,0)","v":"Mayoralty"},1.3698630136986301]
["002",2022,"001","020","0274","X46",0,0,0,0,0,0,0,0,0,0,22928.29,0,22928.29,22928.29,-22928.29,22928.29,-22928.29,22928.29,22928.29,-22928.29,{"$f":"_xlfn.XLOOKUP(F81,'Object Codes'!$A$18:$A$510,'Object Codes'!$H$18:$H$510)","v":"PS - Additional Gross"},{"$f":"_xlfn.XLOOKUP(F81,'Object Codes'!$A$18:$A$510,'Object Codes'!$G$18:$G$510)","v":"A"},{"$f":"_xlfn.XLOOKUP(A81,Agencies!$A$9:$A$146,Agencies!$B$9:$B$146)","v":"General Government"},{"$f":"IF(_xlfn.XLOOKUP(A81,Agencies!A:A,Agencies!D:D)=\"Y\",IF(_xlfn.XLOOKUP(F81,'Object Codes'!A:A,'Object Codes'!I:I)=\"Y\",\"Y\",\"N\"),\"N\")","v":"Y"},{"$f":"VLOOKUP(F81,'Object Codes'!$A:$C,3,0)","v":"PY TERMINAL LEAVE"},{"$f":"VLOOKUP(A81,Agencies!A:C,3,0)","v":"Mayoralty"},62.817232876712332]
["002",2022,"001","020","0277","001",0,36,36,4012422,3512422,0,0,0,0,0,2356015.98,0,2356015.98,2356015.98,1156406.02,2356015.98,1156406.02,2356015.98,2356015.98,1156406.02,{"$f":"_xlfn.XLOOKUP(F82,'Object Codes'!$A$18:$A$510,'Object Codes'!$H$18:$H$510)","v":"PS - Regular"},{"$f":"_xlfn.XLOOKUP(F82,'Object Codes'!$A$18:$A$510,'Object Codes'!$G$18:$G$510)","v":"C"},{"$f":"_xlfn.XLOOKUP(A82,Agencies!$A$9:$A$146,Agencies!$B$9:$B$146)","v":"General Government"},{"$f":"IF(_xlfn.XLOOKUP(A82,Agencies!A:A,Agencies!D:D)=\"Y\",IF(_xlfn.XLOOKUP(F82,'Object Codes'!A:A,'Object Codes'!I:I)=\"Y\",\"Y\",\"N\"),\"N\")","v":"Y"},{"$f":"VLOOKUP(F82,'Object Codes'!$A:$C,3,0)","v":"Full Year Positions"},{"$f":"VLOOKUP(A82,Agencies!A:C,3,0)","v":"Mayoralty"},6454.8383013698631]
["002",2022,"001","020","0277","031",0,0,0,85703,85703,0,0,0,0,0,0,0,0,0,85703,0,85703,0,0,85703,{"$f":"_xlfn.XLOOKUP(F83,'Object Codes'!$A$18:$A$510,'Object Codes'!$H$18:$H$510)","v":"PS - Regular"},{"$f":"_xlfn.XLOOKUP(F83,'Object Codes'!$A$18:$A$510,'Object Codes'!$G$18:$G$510)","v":"C"},{"$f":"_xlfn.XLOOKUP(A83,Agencies!$A$9:$A$146,Agencies!$B$9:$B$146)","v":"General Government"},{"$f":"IF(_xlfn.XLOOKUP(A83,Agencies!A:A,Agencies!D:D)=\"Y\",IF(_xlfn.XLOOKUP(F83,'Object Codes'!A:A,'Object Codes'!I:I)=\"Y\",\"Y\",\"N\"),\"N\")","v":"Y"},{"$f":"VLOOKUP(F83,'Object Codes'!$A:$C,3,0)","v":"Hourly Positions"},{"$f":"VLOOKUP(A83,Agencies!A:C,3,0)","v":"Mayoralty"},0]
["002",2022,"001","020","0277","045",0,0,0,0,0,0,0,0,0,0,862.31,0,862.31,862.31,-862.31,862.31,-862.31,862.31,862.31,-862.31,{"$f":"_xlfn.XLOOKUP(F84,'Object Codes'!$A$18:$A$510,'Object Codes'!$H$18:$H$510)","v":"PS - Additional Gross"},{"$f":"_xlfn.XLOOKUP(F84,'Object Codes'!$A$18:$A$510,'Object Codes'!$G$18:$G$510)","v":"A"},{"$f":"_xlfn.XLOOKUP(A84,Agencies!$A$9:$A$146,Agencies!$B$9:$B$146)","v":"General Government"},{"$f":"IF(_xlfn.XLOOKUP(A84,Agencies!A:A,Agencies!D:D)=\"Y\",IF(_xlfn.XLOOKUP(F84,'Object Codes'!A:A,'Object Codes'!I:I)=\"Y\",\"Y\",\"N\"),\"N\")","v":"Y"},{"$f":"VLOOKUP(F84,'Object Codes'!$A:$C,3,0)","v":"Holiday Pay"},{"$f":"VLOOKUP(A84,Agencies!A:C,3,0)","v":"Mayoralty"},2.3624931506849314]
["002",2022,"001","020","0277","046",0,0,0,0,0,0,0,0,0,0,138105.54,30476.9,168582.44,168582.44,-168582.44,168582.44,-168582.44,168582.44,168582.44,-168582.44,{"$f":"_xlfn.XLOOKUP(F85,'Object Codes'!$A$18:$A$510,'Object Codes'!$H$18:$H$510)","v":"PS - Additional Gross"},{"$f":"_xlfn.XLOOKUP(F85,'Object Codes'!$A$18:$A$510,'Object Codes'!$G$18:$G$510)","v":"A"},{"$f":"_xlfn.XLOOKUP(A85,Agencies!$A$9:$A$146,Agencies!$B$9:$B$146)","v":"General Government"},{"$f":"IF(_xlfn.XLOOKUP(A85,Agencies!A:A,Agencies!D:D)=\"Y\",IF(_xlfn.XLOOKUP(F85,'Object Codes'!A:A,'Object Codes'!I:I)=\"Y\",\"Y\",\"N\"),\"N\")","v":"Y"},{"$f":"VLOOKUP(F85,'Object Codes'!$A:$C,3,0)","v":"Terminal Leave"},{"$f":"VLOOKUP(A85,Agencies!A:C,3,0)","v":"Mayoralty"},461.86969863013701]
["002",2022,"001","020","0277","047",0,0,0,0,0,0,0,0,0,0,9983.77,0,9983.77,9983.77,-9983.77,9983.77,-9983.77,9983.77,9983.77,-9983.77,{"$f":"_xlfn.XLOOKUP(F86,'Object Codes'!$A$18:$A$510,'Object Codes'!$H$18:$H$510)","v":"PS - Additional Gross"},{"$f":"_xlfn.XLOOKUP(F86,'Object Codes'!$A$18:$A$510,'Object Codes'!$G$18:$G$510)","v":"C"},{"$f":"_xlfn.XLOOKUP(A86,Agencies!$A$9:$A$146,Agencies!$B$9:$B$146)","v":"General Government"},{"$f":"IF(_xlfn.XLOOKUP(A86,Agencies!A:A,Agencies!D:D)=\"Y\",IF(_xlfn.XLOOKUP(F86,'Object Codes'!A:A,'Object Codes'!I:I)=\"Y\",\"Y\",\"N\"),\"N\")","v":"Y"},{"$f":"VLOOKUP(F86,'Object Codes'!$A:$C,3,0)","v":"Overtime"},{"$f":"VLOOKUP(A86,Agencies!A:C,3,0)","v":"Mayoralty"},27.352794520547945]
["002",2022,"001","020","0277","051",0,0,0,9587,9587,0,0,0,0,0,0,0,0,0,9587,0,9587,0,0,9587,{"$f":"_xlfn.XLOOKUP(F87,'Object Codes'!$A$18:$A$510,'Object Codes'!$H$18:$H$510)","v":"PS - Additional Gross"},{"$f":"_xlfn.XLOOKUP(F87,'Object Codes'!$A$18:$A$510,'Object Codes'!$G$18:$G$510)","v":"A"},{"$f":"_xlfn.XLOOKUP(A87,Agencies!$A$9:$A$146,Agencies!$B$9:$B$146)","v":"General Government"},{"$f":"IF(_xlfn.XLOOKUP(A87,Agencies!A:A,Agencies!D:D)=\"Y\",IF(_xlfn.XLOOKUP(F87,'Object Codes'!A:A,'Object Codes'!I:I)=\"Y\",\"Y\",\"N\"),\"N\")","v":"Y"},{"$f":"VLOOKUP(F87,'Object Codes'!$A:$C,3,0)","v":"Salary Adjustments"},{"$f":"VLOOKUP(A87,Agencies!A:C,3,0)","v":"Mayoralty"},0]
["002",2022,"001","020","0277","X46",0,0,0,0,0,0,0,0,0,0,34220.769999999997,0,34220.769999999997,34220.769999999997,-34220.769999999997,34220.769999999997,-34220.769999999997,34220.769999999997,34220.769999999997,-34220.769999999997,{"$f":"_xlfn.XLOOKUP(F88,'Object Codes'!$A$18:$A$510,'Object Codes'!$H$18:$H$510)","v":"PS - Additional Gross"},{"$f":"_xlfn.XLOOKUP(F88,'Object Codes'!$A$18:$A$510,'Object Codes'!$G$18:$G$510)","v":"A"},{"$f":"_xlfn.XLOOKUP(A88,Agencies!$A$9:$A$146,Agencies!$B$9:$B$146)","v":"General Government"},{"$f":"IF(_xlfn.XLOOKUP(A88,Agencies!A:A,Agencies!D:D)=\"Y\",IF(_xlfn.XLOOKUP(F88,'Object Codes'!A:A,'Object Codes'!I:I)=\"Y\",\"Y\",\"N\"),\"N\")","v":"Y"},{"$f":"VLOOKUP(F88,'Object Codes'!$A:$C,3,0)","v":"PY TERMINAL LEAVE"},{"$f":"VLOOKUP(A88,Agencies!A:C,3,0)","v":"Mayoralty"},93.755534246575337]
["002",2022,"001","020","0289","001",0,0,1,12249,189499,0,0,0,0,0,81680.179999999993,0,81680.179999999993,81680.179999999993,107818.82,81680.179999999993,107818.82,81680.179999999993,81680.179999999993,107818.82,{"$f":"_xlfn.XLOOKUP(F89,'Object Codes'!$A$18:$A$510,'Object Codes'!$H$18:$H$510)","v":"PS - Regular"},{"$f":"_xlfn.XLOOKUP(F89,'Object Codes'!$A$18:$A$510,'Object Codes'!$G$18:$G$510)","v":"C"},{"$f":"_xlfn.XLOOKUP(A89,Agencies!$A$9:$A$146,Agencies!$B$9:$B$146)","v":"General Government"},{"$f":"IF(_xlfn.XLOOKUP(A89,Agencies!A:A,Agencies!D:D)=\"Y\",IF(_xlfn.XLOOKUP(F89,'Object Codes'!A:A,'Object Codes'!I:I)=\"Y\",\"Y\",\"N\"),\"N\")","v":"Y"},{"$f":"VLOOKUP(F89,'Object Codes'!$A:$C,3,0)","v":"Full Year Positions"},{"$f":"VLOOKUP(A89,Agencies!A:C,3,0)","v":"Mayoralty"},223.78131506849314]
["002",2022,"001","020","0289","046",0,0,0,0,0,0,0,0,0,0,40464.559999999998,0,40464.559999999998,40464.559999999998,-40464.559999999998,40464.559999999998,-40464.559999999998,40464.559999999998,40464.559999999998,-40464.559999999998,{"$f":"_xlfn.XLOOKUP(F90,'Object Codes'!$A$18:$A$510,'Object Codes'!$H$18:$H$510)","v":"PS - Additional Gross"},{"$f":"_xlfn.XLOOKUP(F90,'Object Codes'!$A$18:$A$510,'Object Codes'!$G$18:$G$510)","v":"A"},{"$f":"_xlfn.XLOOKUP(A90,Agencies!$A$9:$A$146,Agencies!$B$9:$B$146)","v":"General Government"},{"$f":"IF(_xlfn.XLOOKUP(A90,Agencies!A:A,Agencies!D:D)=\"Y\",IF(_xlfn.XLOOKUP(F90,'Object Codes'!A:A,'Object Codes'!I:I)=\"Y\",\"Y\",\"N\"),\"N\")","v":"Y"},{"$f":"VLOOKUP(F90,'Object Codes'!$A:$C,3,0)","v":"Terminal Leave"},{"$f":"VLOOKUP(A90,Agencies!A:C,3,0)","v":"Mayoralty"},110.86180821917807]
["002",2022,"001","020","0298","031",0,0,0,712,7362,0,0,0,0,0,0,0,0,0,7362,0,7362,0,0,7362,{"$f":"_xlfn.XLOOKUP(F91,'Object Codes'!$A$18:$A$510,'Object Codes'!$H$18:$H$510)","v":"PS - Regular"},{"$f":"_xlfn.XLOOKUP(F91,'Object Codes'!$A$18:$A$510,'Object Codes'!$G$18:$G$510)","v":"C"},{"$f":"_xlfn.XLOOKUP(A91,Agencies!$A$9:$A$146,Agencies!$B$9:$B$146)","v":"General Government"},{"$f":"IF(_xlfn.XLOOKUP(A91,Agencies!A:A,Agencies!D:D)=\"Y\",IF(_xlfn.XLOOKUP(F91,'Object Codes'!A:A,'Object Codes'!I:I)=\"Y\",\"Y\",\"N\"),\"N\")","v":"Y"},{"$f":"VLOOKUP(F91,'Object Codes'!$A:$C,3,0)","v":"Hourly Positions"},{"$f":"VLOOKUP(A91,Agencies!A:C,3,0)","v":"Mayoralty"},0]
["002",2022,"001","020","CR03","001",0,13,13,2703938,2503938,0,0,0,0,0,280720.59999999998,0,280720.59999999998,280720.59999999998,2223217.4,280720.59999999998,2223217.4,280720.59999999998,280720.59999999998,2223217.4,{"$f":"_xlfn.XLOOKUP(F92,'Object Codes'!$A$18:$A$510,'Object Codes'!$H$18:$H$510)","v":"PS - Regular"},{"$f":"_xlfn.XLOOKUP(F92,'Object Codes'!$A$18:$A$510,'Object Codes'!$G$18:$G$510)","v":"C"},{"$f":"_xlfn.XLOOKUP(A92,Agencies!$A$9:$A$146,Agencies!$B$9:$B$146)","v":"General Government"},{"$f":"IF(_xlfn.XLOOKUP(A92,Agencies!A:A,Agencies!D:D)=\"Y\",IF(_xlfn.XLOOKUP(F92,'Object Codes'!A:A,'Object Codes'!I:I)=\"Y\",\"Y\",\"N\"),\"N\")","v":"Y"},{"$f":"VLOOKUP(F92,'Object Codes'!$A:$C,3,0)","v":"Full Year Positions"},{"$f":"VLOOKUP(A92,Agencies!A:C,3,0)","v":"Mayoralty"},769.09753424657526]
["002",2022,"001","020","P020","001",0,-13,-33,-2703938,-4628938,0,0,0,0,0,0,0,0,0,-4628938,0,-4628938,0,0,-4628938,{"$f":"_xlfn.XLOOKUP(F93,'Object Codes'!$A$18:$A$510,'Object Codes'!$H$18:$H$510)","v":"PS - Regular"},{"$f":"_xlfn.XLOOKUP(F93,'Object Codes'!$A$18:$A$510,'Object Codes'!$G$18:$G$510)","v":"C"},{"$f":"_xlfn.XLOOKUP(A93,Agencies!$A$9:$A$146,Agencies!$B$9:$B$146)","v":"General Government"},{"$f":"IF(_xlfn.XLOOKUP(A93,Agencies!A:A,Agencies!D:D)=\"Y\",IF(_xlfn.XLOOKUP(F93,'Object Codes'!A:A,'Object Codes'!I:I)=\"Y\",\"Y\",\"N\"),\"N\")","v":"Y"},{"$f":"VLOOKUP(F93,'Object Codes'!$A:$C,3,0)","v":"Full Year Positions"},{"$f":"VLOOKUP(A93,Agencies!A:C,3,0)","v":"Mayoralty"},0]
["002",2022,"001","021","0211","100",0,0,0,665655,196385,0,0,0,0,0,127909.01,0,127909.01,127909.01,68475.990000000005,127909.01,68475.990000000005,127909.01,127909.01,68475.990000000005,{"$f":"_xlfn.XLOOKUP(F94,'Object Codes'!$A$18:$A$510,'Object Codes'!$H$18:$H$510)","v":"Supplies & Materials"},{"$f":"_xlfn.XLOOKUP(F94,'Object Codes'!$A$18:$A$510,'Object Codes'!$G$18:$G$510)","v":"A"},{"$f":"_xlfn.XLOOKUP(A94,Agencies!$A$9:$A$146,Agencies!$B$9:$B$146)","v":"General Government"},{"$f":"IF(_xlfn.XLOOKUP(A94,Agencies!A:A,Agencies!D:D)=\"Y\",IF(_xlfn.XLOOKUP(F94,'Object Codes'!A:A,'Object Codes'!I:I)=\"Y\",\"Y\",\"N\"),\"N\")","v":"Y"},{"$f":"VLOOKUP(F94,'Object Codes'!$A:$C,3,0)","v":"Supplies and Materials - General"},{"$f":"VLOOKUP(A94,Agencies!A:C,3,0)","v":"Mayoralty"},350.43564383561642]
["002",2022,"001","021","0211","101",0,0,0,5000,33212,0,0,0,0,0,26972.79,0,26972.79,26972.79,6239.21,26972.79,6239.21,26972.79,26972.79,6239.21,{"$f":"_xlfn.XLOOKUP(F95,'Object Codes'!$A$18:$A$510,'Object Codes'!$H$18:$H$510)","v":"Supplies & Materials"},{"$f":"_xlfn.XLOOKUP(F95,'Object Codes'!$A$18:$A$510,'Object Codes'!$G$18:$G$510)","v":"A"},{"$f":"_xlfn.XLOOKUP(A95,Agencies!$A$9:$A$146,Agencies!$B$9:$B$146)","v":"General Government"},{"$f":"IF(_xlfn.XLOOKUP(A95,Agencies!A:A,Agencies!D:D)=\"Y\",IF(_xlfn.XLOOKUP(F95,'Object Codes'!A:A,'Object Codes'!I:I)=\"Y\",\"Y\",\"N\"),\"N\")","v":"Y"},{"$f":"VLOOKUP(F95,'Object Codes'!$A:$C,3,0)","v":"Printing Supplies"},{"$f":"VLOOKUP(A95,Agencies!A:C,3,0)","v":"Mayoralty"},73.898054794520547]
["002",2022,"001","021","0211","10X",0,0,0,18000,18000,0,0,0,0,0,7552.58,0,7552.58,7552.58,10447.42,7552.58,10447.42,7552.58,7552.58,10447.42,{"$f":"_xlfn.XLOOKUP(F96,'Object Codes'!$A$18:$A$510,'Object Codes'!$H$18:$H$510)","v":"Supplies & Materials"},{"$f":"_xlfn.XLOOKUP(F96,'Object Codes'!$A$18:$A$510,'Object Codes'!$G$18:$G$510)","v":"A"},{"$f":"_xlfn.XLOOKUP(A96,Agencies!$A$9:$A$146,Agencies!$B$9:$B$146)","v":"General Government"},{"$f":"IF(_xlfn.XLOOKUP(A96,Agencies!A:A,Agencies!D:D)=\"Y\",IF(_xlfn.XLOOKUP(F96,'Object Codes'!A:A,'Object Codes'!I:I)=\"Y\",\"Y\",\"N\"),\"N\")","v":"Y"},{"$f":"VLOOKUP(F96,'Object Codes'!$A:$C,3,0)","v":"SUPPLIES + MATERIALS - GENERAL"},{"$f":"VLOOKUP(A96,Agencies!A:C,3,0)","v":"Mayoralty"},20.692]
["002",2022,"001","021","0211","110",0,0,0,5000,15300,0,0,0,0,0,12582.94,0,12582.94,12582.94,2717.06,12582.94,2717.06,12582.94,12582.94,2717.06,{"$f":"_xlfn.XLOOKUP(F97,'Object Codes'!$A$18:$A$510,'Object Codes'!$H$18:$H$510)","v":"Supplies & Materials"},{"$f":"_xlfn.XLOOKUP(F97,'Object Codes'!$A$18:$A$510,'Object Codes'!$G$18:$G$510)","v":"A"},{"$f":"_xlfn.XLOOKUP(A97,Agencies!$A$9:$A$146,Agencies!$B$9:$B$146)","v":"General Government"},{"$f":"IF(_xlfn.XLOOKUP(A97,Agencies!A:A,Agencies!D:D)=\"Y\",IF(_xlfn.XLOOKUP(F97,'Object Codes'!A:A,'Object Codes'!I:I)=\"Y\",\"Y\",\"N\"),\"N\")","v":"Y"},{"$f":"VLOOKUP(F97,'Object Codes'!$A:$C,3,0)","v":"Food and Forage Supplies"},{"$f":"VLOOKUP(A97,Agencies!A:C,3,0)","v":"Mayoralty"},34.473808219178082]
["002",2022,"001","021","0211","117",0,0,0,5000,20500,0,0,0,0,0,19522.29,0,19522.29,19522.29,977.71,19522.29,977.71,19522.29,19522.29,977.71,{"$f":"_xlfn.XLOOKUP(F98,'Object Codes'!$A$18:$A$510,'Object Codes'!$H$18:$H$510)","v":"Supplies & Materials"},{"$f":"_xlfn.XLOOKUP(F98,'Object Codes'!$A$18:$A$510,'Object Codes'!$G$18:$G$510)","v":"A"},{"$f":"_xlfn.XLOOKUP(A98,Agencies!$A$9:$A$146,Agencies!$B$9:$B$146)","v":"General Government"},{"$f":"IF(_xlfn.XLOOKUP(A98,Agencies!A:A,Agencies!D:D)=\"Y\",IF(_xlfn.XLOOKUP(F98,'Object Codes'!A:A,'Object Codes'!I:I)=\"Y\",\"Y\",\"N\"),\"N\")","v":"Y"},{"$f":"VLOOKUP(F98,'Object Codes'!$A:$C,3,0)","v":"Postage"},{"$f":"VLOOKUP(A98,Agencies!A:C,3,0)","v":"Mayoralty"},53.485726027397263]
["002",2022,"001","021","0211","199",0,0,0,11500,48900,0,0,0,0,0,47167.69,0,47167.69,47167.69,1732.31,47167.69,1732.31,47167.69,47167.69,1732.31,{"$f":"_xlfn.XLOOKUP(F99,'Object Codes'!$A$18:$A$510,'Object Codes'!$H$18:$H$510)","v":"Supplies & Materials"},{"$f":"_xlfn.XLOOKUP(F99,'Object Codes'!$A$18:$A$510,'Object Codes'!$G$18:$G$510)","v":"A"},{"$f":"_xlfn.XLOOKUP(A99,Agencies!$A$9:$A$146,Agencies!$B$9:$B$146)","v":"General Government"},{"$f":"IF(_xlfn.XLOOKUP(A99,Agencies!A:A,Agencies!D:D)=\"Y\",IF(_xlfn.XLOOKUP(F99,'Object Codes'!A:A,'Object Codes'!I:I)=\"Y\",\"Y\",\"N\"),\"N\")","v":"Y"},{"$f":"VLOOKUP(F99,'Object Codes'!$A:$C,3,0)","v":"Data Processing Supplies"},{"$f":"VLOOKUP(A99,Agencies!A:C,3,0)","v":"Mayoralty"},129.22654794520548]
["002",2022,"001","021","0211","300",0,0,0,0,97600,0,0,0,0,0,96323.21,0,96323.21,96323.21,1276.79,96323.21,1276.79,96323.21,96323.21,1276.79,{"$f":"_xlfn.XLOOKUP(F100,'Object Codes'!$A$18:$A$510,'Object Codes'!$H$18:$H$510)","v":"Equipment"},{"$f":"_xlfn.XLOOKUP(F100,'Object Codes'!$A$18:$A$510,'Object Codes'!$G$18:$G$510)","v":"A"},{"$f":"_xlfn.XLOOKUP(A100,Agencies!$A$9:$A$146,Agencies!$B$9:$B$146)","v":"General Government"},{"$f":"IF(_xlfn.XLOOKUP(A100,Agencies!A:A,Agencies!D:D)=\"Y\",IF(_xlfn.XLOOKUP(F100,'Object Codes'!A:A,'Object Codes'!I:I)=\"Y\",\"Y\",\"N\"),\"N\")","v":"Y"},{"$f":"VLOOKUP(F100,'Object Codes'!$A:$C,3,0)","v":"Equipment - General"},{"$f":"VLOOKUP(A100,Agencies!A:C,3,0)","v":"Mayoralty"},263.89920547945206]
["002",2022,"001","021","0211","302",0,0,0,0,1100,0,0,0,0,0,1100,0,1100,1100,0,1100,0,1100,1100,0,{"$f":"_xlfn.XLOOKUP(F101,'Object Codes'!$A$18:$A$510,'Object Codes'!$H$18:$H$510)","v":"Equipment"},{"$f":"_xlfn.XLOOKUP(F101,'Object Codes'!$A$18:$A$510,'Object Codes'!$G$18:$G$510)","v":"A"},{"$f":"_xlfn.XLOOKUP(A101,Agencies!$A$9:$A$146,Agencies!$B$9:$B$146)","v":"General Government"},{"$f":"IF(_xlfn.XLOOKUP(A101,Agencies!A:A,Agencies!D:D)=\"Y\",IF(_xlfn.XLOOKUP(F101,'Object Codes'!A:A,'Object Codes'!I:I)=\"Y\",\"Y\",\"N\"),\"N\")","v":"Y"},{"$f":"VLOOKUP(F101,'Object Codes'!$A:$C,3,0)","v":"Telecommunications Equipment"},{"$f":"VLOOKUP(A101,Agencies!A:C,3,0)","v":"Mayoralty"},3.0136986301369864]
["002",2022,"001","021","0211","315",0,0,0,3500,1500,0,0,0,0,0,613.99,0,613.99,613.99,886.01,613.99,886.01,613.99,613.99,886.01,{"$f":"_xlfn.XLOOKUP(F102,'Object Codes'!$A$18:$A$510,'Object Codes'!$H$18:$H$510)","v":"Equipment"},{"$f":"_xlfn.XLOOKUP(F102,'Object Codes'!$A$18:$A$510,'Object Codes'!$G$18:$G$510)","v":"A"},{"$f":"_xlfn.XLOOKUP(A102,Agencies!$A$9:$A$146,Agencies!$B$9:$B$146)","v":"General Government"},{"$f":"IF(_xlfn.XLOOKUP(A102,Agencies!A:A,Agencies!D:D)=\"Y\",IF(_xlfn.XLOOKUP(F102,'Object Codes'!A:A,'Object Codes'!I:I)=\"Y\",\"Y\",\"N\"),\"N\")","v":"Y"},{"$f":"VLOOKUP(F102,'Object Codes'!$A:$C,3,0)","v":"Office Equipment"},{"$f":"VLOOKUP(A102,Agencies!A:C,3,0)","v":"Mayoralty"},1.6821643835616438]
["002",2022,"001","021","0211","319",0,0,0,0,19500,0,0,0,0,0,9351.65,4795.54,14147.19,14147.19,5352.81,14147.19,5352.81,14147.19,14147.19,5352.81,{"$f":"_xlfn.XLOOKUP(F103,'Object Codes'!$A$18:$A$510,'Object Codes'!$H$18:$H$510)","v":"Equipment"},{"$f":"_xlfn.XLOOKUP(F103,'Object Codes'!$A$18:$A$510,'Object Codes'!$G$18:$G$510)","v":"A"},{"$f":"_xlfn.XLOOKUP(A103,Agencies!$A$9:$A$146,Agencies!$B$9:$B$146)","v":"General Government"},{"$f":"IF(_xlfn.XLOOKUP(A103,Agencies!A:A,Agencies!D:D)=\"Y\",IF(_xlfn.XLOOKUP(F103,'Object Codes'!A:A,'Object Codes'!I:I)=\"Y\",\"Y\",\"N\"),\"N\")","v":"Y"},{"$f":"VLOOKUP(F103,'Object Codes'!$A:$C,3,0)","v":"Security Equipment"},{"$f":"VLOOKUP(A103,Agencies!A:C,3,0)","v":"Mayoralty"},38.759424657534247]
["002",2022,"001","021","0211","332",0,0,0,10000,240200,0,0,0,0,0,225305.79,0,225305.79,225305.79,14894.21,225305.79,14894.21,225305.79,225305.79,14894.21,{"$f":"_xlfn.XLOOKUP(F104,'Object Codes'!$A$18:$A$510,'Object Codes'!$H$18:$H$510)","v":"Equipment"},{"$f":"_xlfn.XLOOKUP(F104,'Object Codes'!$A$18:$A$510,'Object Codes'!$G$18:$G$510)","v":"A"},{"$f":"_xlfn.XLOOKUP(A104,Agencies!$A$9:$A$146,Agencies!$B$9:$B$146)","v":"General Government"},{"$f":"IF(_xlfn.XLOOKUP(A104,Agencies!A:A,Agencies!D:D)=\"Y\",IF(_xlfn.XLOOKUP(F104,'Object Codes'!A:A,'Object Codes'!I:I)=\"Y\",\"Y\",\"N\"),\"N\")","v":"Y"},{"$f":"VLOOKUP(F104,'Object Codes'!$A:$C,3,0)","v":"Purchases of Data Processing Equipment"},{"$f":"VLOOKUP(A104,Agencies!A:C,3,0)","v":"Mayoralty"},617.27613698630137]
["002",2022,"001","021","0211","337",0,0,0,75000,56000,0,0,0,0,0,52181.69,0,52181.69,52181.69,3818.31,52181.69,3818.31,52181.69,52181.69,3818.31,{"$f":"_xlfn.XLOOKUP(F105,'Object Codes'!$A$18:$A$510,'Object Codes'!$H$18:$H$510)","v":"Equipment"},{"$f":"_xlfn.XLOOKUP(F105,'Object Codes'!$A$18:$A$510,'Object Codes'!$G$18:$G$510)","v":"A"},{"$f":"_xlfn.XLOOKUP(A105,Agencies!$A$9:$A$146,Agencies!$B$9:$B$146)","v":"General Government"},{"$f":"IF(_xlfn.XLOOKUP(A105,Agencies!A:A,Agencies!D:D)=\"Y\",IF(_xlfn.XLOOKUP(F105,'Object Codes'!A:A,'Object Codes'!I:I)=\"Y\",\"Y\",\"N\"),\"N\")","v":"Y"},{"$f":"VLOOKUP(F105,'Object Codes'!$A:$C,3,0)","v":"Books - Other"},{"$f":"VLOOKUP(A105,Agencies!A:C,3,0)","v":"Mayoralty"},142.96353424657534]
["002",2022,"001","021","0211","400",0,0,0,0,11200,0,0,0,0,0,11031.77,0,11031.77,11031.77,168.23,11031.77,168.23,11031.77,11031.77,168.23,{"$f":"_xlfn.XLOOKUP(F106,'Object Codes'!$A$18:$A$510,'Object Codes'!$H$18:$H$510)","v":"Other Services and Charges - General"},{"$f":"_xlfn.XLOOKUP(F106,'Object Codes'!$A$18:$A$510,'Object Codes'!$G$18:$G$510)","v":0},{"$f":"_xlfn.XLOOKUP(A106,Agencies!$A$9:$A$146,Agencies!$B$9:$B$146)","v":"General Government"},{"$f":"IF(_xlfn.XLOOKUP(A106,Agencies!A:A,Agencies!D:D)=\"Y\",IF(_xlfn.XLOOKUP(F106,'Object Codes'!A:A,'Object Codes'!I:I)=\"Y\",\"Y\",\"N\"),\"N\")","v":"Y"},{"$f":"VLOOKUP(F106,'Object Codes'!$A:$C,3,0)","v":"Other Services and Charges - General"},{"$f":"VLOOKUP(A106,Agencies!A:C,3,0)","v":"Mayoralty"},30.224027397260276]
["002",2022,"001","021","0211","402",0,0,0,0,0,0,0,0,0,0,-913.3,0,-913.3,-913.3,913.3,-913.3,913.3,-913.3,-913.3,913.3,{"$f":"_xlfn.XLOOKUP(F107,'Object Codes'!$A$18:$A$510,'Object Codes'!$H$18:$H$510)","v":"Other Services and Charges - General"},{"$f":"_xlfn.XLOOKUP(F107,'Object Codes'!$A$18:$A$510,'Object Codes'!$G$18:$G$510)","v":0},{"$f":"_xlfn.XLOOKUP(A107,Agencies!$A$9:$A$146,Agencies!$B$9:$B$146)","v":"General Government"},{"$f":"IF(_xlfn.XLOOKUP(A107,Agencies!A:A,Agencies!D:D)=\"Y\",IF(_xlfn.XLOOKUP(F107,'Object Codes'!A:A,'Object Codes'!I:I)=\"Y\",\"Y\",\"N\"),\"N\")","v":"Y"},{"$f":"VLOOKUP(F107,'Object Codes'!$A:$C,3,0)","v":"Telephone and Other Communications"},{"$f":"VLOOKUP(A107,Agencies!A:C,3,0)","v":"Mayoralty"},-2.5021917808219176]
["002",2022,"001","021","0211","403",0,0,0,0,30680,0,0,0,0,0,28763.88,0,28763.88,28763.88,1916.12,28763.88,1916.12,28763.88,28763.88,1916.12,{"$f":"_xlfn.XLOOKUP(F108,'Object Codes'!$A$18:$A$510,'Object Codes'!$H$18:$H$510)","v":"Other Services and Charges - General"},{"$f":"_xlfn.XLOOKUP(F108,'Object Codes'!$A$18:$A$510,'Object Codes'!$G$18:$G$510)","v":0},{"$f":"_xlfn.XLOOKUP(A108,Agencies!$A$9:$A$146,Agencies!$B$9:$B$146)","v":"General Government"},{"$f":"IF(_xlfn.XLOOKUP(A108,Agencies!A:A,Agencies!D:D)=\"Y\",IF(_xlfn.XLOOKUP(F108,'Object Codes'!A:A,'Object Codes'!I:I)=\"Y\",\"Y\",\"N\"),\"N\")","v":"Y"},{"$f":"VLOOKUP(F108,'Object Codes'!$A:$C,3,0)","v":"Office Services"},{"$f":"VLOOKUP(A108,Agencies!A:C,3,0)","v":"Mayoralty"},78.805150684931505]
["002",2022,"001","021","0211","40B",0,0,0,730320,730320,0,0,0,0,0,730320,0,730320,730320,0,730320,0,730320,730320,0,{"$f":"_xlfn.XLOOKUP(F109,'Object Codes'!$A$18:$A$510,'Object Codes'!$H$18:$H$510)","v":"Other Services and Charges - General"},{"$f":"_xlfn.XLOOKUP(F109,'Object Codes'!$A$18:$A$510,'Object Codes'!$G$18:$G$510)","v":0},{"$f":"_xlfn.XLOOKUP(A109,Agencies!$A$9:$A$146,Agencies!$B$9:$B$146)","v":"General Government"},{"$f":"IF(_xlfn.XLOOKUP(A109,Agencies!A:A,Agencies!D:D)=\"Y\",IF(_xlfn.XLOOKUP(F109,'Object Codes'!A:A,'Object Codes'!I:I)=\"Y\",\"Y\",\"N\"),\"N\")","v":"Y"},{"$f":"VLOOKUP(F109,'Object Codes'!$A:$C,3,0)","v":"TELEPHONE & OTHER COMMUNICATNS"},{"$f":"VLOOKUP(A109,Agencies!A:C,3,0)","v":"Mayoralty"},2000.8767123287671]
["002",2022,"001","021","0211","412",0,0,0,250000,77500,0,0,0,0,0,69132.429999999993,30000,99132.43,99132.43,-21632.43,99132.43,-21632.43,99132.43,99132.43,-21632.43,{"$f":"_xlfn.XLOOKUP(F110,'Object Codes'!$A$18:$A$510,'Object Codes'!$H$18:$H$510)","v":"Other Services and Charges - General"},{"$f":"_xlfn.XLOOKUP(F110,'Object Codes'!$A$18:$A$510,'Object Codes'!$G$18:$G$510)","v":0},{"$f":"_xlfn.XLOOKUP(A110,Agencies!$A$9:$A$146,Agencies!$B$9:$B$146)","v":"General Government"},{"$f":"IF(_xlfn.XLOOKUP(A110,Agencies!A:A,Agencies!D:D)=\"Y\",IF(_xlfn.XLOOKUP(F110,'Object Codes'!A:A,'Object Codes'!I:I)=\"Y\",\"Y\",\"N\"),\"N\")","v":"Y"},{"$f":"VLOOKUP(F110,'Object Codes'!$A:$C,3,0)","v":"Rentals - Miscellaneous Equipment"},{"$f":"VLOOKUP(A110,Agencies!A:C,3,0)","v":"Mayoralty"},271.59569863013695]
["002",2022,"001","021","0211","417",0,0,0,0,68800,0,0,0,0,0,61114.31,0,61114.31,61114.31,7685.69,61114.31,7685.69,61114.31,61114.31,7685.69,{"$f":"_xlfn.XLOOKUP(F111,'Object Codes'!$A$18:$A$510,'Object Codes'!$H$18:$H$510)","v":"Other Services and Charges - General"},{"$f":"_xlfn.XLOOKUP(F111,'Object Codes'!$A$18:$A$510,'Object Codes'!$G$18:$G$510)","v":0},{"$f":"_xlfn.XLOOKUP(A111,Agencies!$A$9:$A$146,Agencies!$B$9:$B$146)","v":"General Government"},{"$f":"IF(_xlfn.XLOOKUP(A111,Agencies!A:A,Agencies!D:D)=\"Y\",IF(_xlfn.XLOOKUP(F111,'Object Codes'!A:A,'Object Codes'!I:I)=\"Y\",\"Y\",\"N\"),\"N\")","v":"Y"},{"$f":"VLOOKUP(F111,'Object Codes'!$A:$C,3,0)","v":"Advertising"},{"$f":"VLOOKUP(A111,Agencies!A:C,3,0)","v":"Mayoralty"},167.43646575342464]
["002",2022,"001","021","0211","42C",0,0,0,877694,1144734,0,0,0,0,0,970345.07,0,970345.07,970345.07,174388.93,970345.07,174388.93,970345.07,970345.07,174388.93,{"$f":"_xlfn.XLOOKUP(F112,'Object Codes'!$A$18:$A$510,'Object Codes'!$H$18:$H$510)","v":"Heat, Light, and Power"},{"$f":"_xlfn.XLOOKUP(F112,'Object Codes'!$A$18:$A$510,'Object Codes'!$G$18:$G$510)","v":0},{"$f":"_xlfn.XLOOKUP(A112,Agencies!$A$9:$A$146,Agencies!$B$9:$B$146)","v":"General Government"},{"$f":"IF(_xlfn.XLOOKUP(A112,Agencies!A:A,Agencies!D:D)=\"Y\",IF(_xlfn.XLOOKUP(F112,'Object Codes'!A:A,'Object Codes'!I:I)=\"Y\",\"Y\",\"N\"),\"N\")","v":"Y"},{"$f":"VLOOKUP(F112,'Object Codes'!$A:$C,3,0)","v":"HEAT LIGHT & POWER"},{"$f":"VLOOKUP(A112,Agencies!A:C,3,0)","v":"Mayoralty"},2658.4796438356161]
["002",2022,"001","021","0211","451",0,0,0,5000,26200,0,0,0,0,0,25081.01,500,25581.01,25581.01,618.99,25581.01,618.99,25581.01,25581.01,618.99,{"$f":"_xlfn.XLOOKUP(F113,'Object Codes'!$A$18:$A$510,'Object Codes'!$H$18:$H$510)","v":"Other Services and Charges - General"},{"$f":"_xlfn.XLOOKUP(F113,'Object Codes'!$A$18:$A$510,'Object Codes'!$G$18:$G$510)","v":0},{"$f":"_xlfn.XLOOKUP(A113,Agencies!$A$9:$A$146,Agencies!$B$9:$B$146)","v":"General Government"},{"$f":"IF(_xlfn.XLOOKUP(A113,Agencies!A:A,Agencies!D:D)=\"Y\",IF(_xlfn.XLOOKUP(F113,'Object Codes'!A:A,'Object Codes'!I:I)=\"Y\",\"Y\",\"N\"),\"N\")","v":"Y"},{"$f":"VLOOKUP(F113,'Object Codes'!$A:$C,3,0)","v":"Non Overnight Travel Expenditures - General"},{"$f":"VLOOKUP(A113,Agencies!A:C,3,0)","v":"Mayoralty"},70.084958904109584]
["002",2022,"001","021","0211","453",0,0,0,50000,52400,0,0,0,0,0,28507.91,158.32,28666.23,28666.23,23733.77,28666.23,23733.77,28666.23,28666.23,23733.77,{"$f":"_xlfn.XLOOKUP(F114,'Object Codes'!$A$18:$A$510,'Object Codes'!$H$18:$H$510)","v":"Other Services and Charges - General"},{"$f":"_xlfn.XLOOKUP(F114,'Object Codes'!$A$18:$A$510,'Object Codes'!$G$18:$G$510)","v":0},{"$f":"_xlfn.XLOOKUP(A114,Agencies!$A$9:$A$146,Agencies!$B$9:$B$146)","v":"General Government"},{"$f":"IF(_xlfn.XLOOKUP(A114,Agencies!A:A,Agencies!D:D)=\"Y\",IF(_xlfn.XLOOKUP(F114,'Object Codes'!A:A,'Object Codes'!I:I)=\"Y\",\"Y\",\"N\"),\"N\")","v":"Y"},{"$f":"VLOOKUP(F114,'Object Codes'!$A:$C,3,0)","v":"Overnight Travel Expenditures - General"},{"$f":"VLOOKUP(A114,Agencies!A:C,3,0)","v":"Mayoralty"},78.537616438356167]
["002",2022,"001","021","0211","454",0,0,0,2000,28500,0,0,0,0,0,26991.77,0,26991.77,26991.77,1508.23,26991.77,1508.23,26991.77,26991.77,1508.23,{"$f":"_xlfn.XLOOKUP(F115,'Object Codes'!$A$18:$A$510,'Object Codes'!$H$18:$H$510)","v":"Other Services and Charges - General"},{"$f":"_xlfn.XLOOKUP(F115,'Object Codes'!$A$18:$A$510,'Object Codes'!$G$18:$G$510)","v":0},{"$f":"_xlfn.XLOOKUP(A115,Agencies!$A$9:$A$146,Agencies!$B$9:$B$146)","v":"General Government"},{"$f":"IF(_xlfn.XLOOKUP(A115,Agencies!A:A,Agencies!D:D)=\"Y\",IF(_xlfn.XLOOKUP(F115,'Object Codes'!A:A,'Object Codes'!I:I)=\"Y\",\"Y\",\"N\"),\"N\")","v":"Y"},{"$f":"VLOOKUP(F115,'Object Codes'!$A:$C,3,0)","v":"Overnight Travel Expenditures - Special"},{"$f":"VLOOKUP(A115,Agencies!A:C,3,0)","v":"Mayoralty"},73.950054794520554]
["002",2022,"001","021","0211","600",0,0,0,0,20750,0,0,0,0,0,7884.31,153.69,8038,8038,12712,8038,12712,8038,8038,12712,{"$f":"_xlfn.XLOOKUP(F116,'Object Codes'!$A$18:$A$510,'Object Codes'!$H$18:$H$510)","v":"Contractual Services"},{"$f":"_xlfn.XLOOKUP(F116,'Object Codes'!$A$18:$A$510,'Object Codes'!$G$18:$G$510)","v":0},{"$f":"_xlfn.XLOOKUP(A116,Agencies!$A$9:$A$146,Agencies!$B$9:$B$146)","v":"General Government"},{"$f":"IF(_xlfn.XLOOKUP(A116,Agencies!A:A,Agencies!D:D)=\"Y\",IF(_xlfn.XLOOKUP(F116,'Object Codes'!A:A,'Object Codes'!I:I)=\"Y\",\"Y\",\"N\"),\"N\")","v":"Y"},{"$f":"VLOOKUP(F116,'Object Codes'!$A:$C,3,0)","v":"Contractual Services - General"},{"$f":"VLOOKUP(A116,Agencies!A:C,3,0)","v":"Mayoralty"},22.021917808219179]
["002",2022,"001","021","0211","608",0,0,0,0,4000,0,0,0,0,0,3084.69,0,3084.69,3084.69,915.31,3084.69,915.31,3084.69,3084.69,915.31,{"$f":"_xlfn.XLOOKUP(F117,'Object Codes'!$A$18:$A$510,'Object Codes'!$H$18:$H$510)","v":"Contractual Services"},{"$f":"_xlfn.XLOOKUP(F117,'Object Codes'!$A$18:$A$510,'Object Codes'!$G$18:$G$510)","v":0},{"$f":"_xlfn.XLOOKUP(A117,Agencies!$A$9:$A$146,Agencies!$B$9:$B$146)","v":"General Government"},{"$f":"IF(_xlfn.XLOOKUP(A117,Agencies!A:A,Agencies!D:D)=\"Y\",IF(_xlfn.XLOOKUP(F117,'Object Codes'!A:A,'Object Codes'!I:I)=\"Y\",\"Y\",\"N\"),\"N\")","v":"Y"},{"$f":"VLOOKUP(F117,'Object Codes'!$A:$C,3,0)","v":"Maintenance and Repairs - General - Contractual"},{"$f":"VLOOKUP(A117,Agencies!A:C,3,0)","v":"Mayoralty"},8.4512054794520548]
["002",2022,"001","021","0211","612",0,0,0,10000,1100,0,0,0,0,0,0,0,0,0,1100,0,1100,0,0,1100,{"$f":"_xlfn.XLOOKUP(F118,'Object Codes'!$A$18:$A$510,'Object Codes'!$H$18:$H$510)","v":"Contractual Services"},{"$f":"_xlfn.XLOOKUP(F118,'Object Codes'!$A$18:$A$510,'Object Codes'!$G$18:$G$510)","v":0},{"$f":"_xlfn.XLOOKUP(A118,Agencies!$A$9:$A$146,Agencies!$B$9:$B$146)","v":"General Government"},{"$f":"IF(_xlfn.XLOOKUP(A118,Agencies!A:A,Agencies!D:D)=\"Y\",IF(_xlfn.XLOOKUP(F118,'Object Codes'!A:A,'Object Codes'!I:I)=\"Y\",\"Y\",\"N\"),\"N\")","v":"Y"},{"$f":"VLOOKUP(F118,'Object Codes'!$A:$C,3,0)","v":"Office Equipment Maintenance - Contractual"},{"$f":"VLOOKUP(A118,Agencies!A:C,3,0)","v":"Mayoralty"},0]
["002",2022,"001","021","0211","613",0,0,0,0,369650,0,0,0,0,0,343655.42,0,343655.42,343655.42,25994.58,343655.42,25994.58,343655.42,343655.42,25994.58,{"$f":"_xlfn.XLOOKUP(F119,'Object Codes'!$A$18:$A$510,'Object Codes'!$H$18:$H$510)","v":"Contractual Services"},{"$f":"_xlfn.XLOOKUP(F119,'Object Codes'!$A$18:$A$510,'Object Codes'!$G$18:$G$510)","v":0},{"$f":"_xlfn.XLOOKUP(A119,Agencies!$A$9:$A$146,Agencies!$B$9:$B$146)","v":"General Government"},{"$f":"IF(_xlfn.XLOOKUP(A119,Agencies!A:A,Agencies!D:D)=\"Y\",IF(_xlfn.XLOOKUP(F119,'Object Codes'!A:A,'Object Codes'!I:I)=\"Y\",\"Y\",\"N\"),\"N\")","v":"Y"},{"$f":"VLOOKUP(F119,'Object Codes'!$A:$C,3,0)","v":"Data Processing Equipment Maintenance - Contractual"},{"$f":"VLOOKUP(A119,Agencies!A:C,3,0)","v":"Mayoralty"},941.52169863013694]
["002",2022,"001","021","0211","615",0,0,0,0,5500,0,0,0,0,0,3294.18,0,3294.18,3294.18,2205.8200000000002,3294.18,2205.8200000000002,3294.18,3294.18,2205.8200000000002,{"$f":"_xlfn.XLOOKUP(F120,'Object Codes'!$A$18:$A$510,'Object Codes'!$H$18:$H$510)","v":"Contractual Services"},{"$f":"_xlfn.XLOOKUP(F120,'Object Codes'!$A$18:$A$510,'Object Codes'!$G$18:$G$510)","v":0},{"$f":"_xlfn.XLOOKUP(A120,Agencies!$A$9:$A$146,Agencies!$B$9:$B$146)","v":"General Government"},{"$f":"IF(_xlfn.XLOOKUP(A120,Agencies!A:A,Agencies!D:D)=\"Y\",IF(_xlfn.XLOOKUP(F120,'Object Codes'!A:A,'Object Codes'!I:I)=\"Y\",\"Y\",\"N\"),\"N\")","v":"Y"},{"$f":"VLOOKUP(F120,'Object Codes'!$A:$C,3,0)","v":"Printing Services - Contractual"},{"$f":"VLOOKUP(A120,Agencies!A:C,3,0)","v":"Mayoralty"},9.0251506849315071]
["002",2022,"001","021","0211","622",0,0,0,29750,32250,0,0,0,0,0,24879,0,24879,24879,7371,24879,7371,24879,24879,7371,{"$f":"_xlfn.XLOOKUP(F121,'Object Codes'!$A$18:$A$510,'Object Codes'!$H$18:$H$510)","v":"Contractual Services"},{"$f":"_xlfn.XLOOKUP(F121,'Object Codes'!$A$18:$A$510,'Object Codes'!$G$18:$G$510)","v":0},{"$f":"_xlfn.XLOOKUP(A121,Agencies!$A$9:$A$146,Agencies!$B$9:$B$146)","v":"General Government"},{"$f":"IF(_xlfn.XLOOKUP(A121,Agencies!A:A,Agencies!D:D)=\"Y\",IF(_xlfn.XLOOKUP(F121,'Object Codes'!A:A,'Object Codes'!I:I)=\"Y\",\"Y\",\"N\"),\"N\")","v":"Y"},{"$f":"VLOOKUP(F121,'Object Codes'!$A:$C,3,0)","v":"Temporary Services - Contractual"},{"$f":"VLOOKUP(A121,Agencies!A:C,3,0)","v":"Mayoralty"},68.161643835616445]
["002",2022,"001","021","0211","624",0,0,0,0,10000,0,0,0,0,0,9100,0,9100,9100,900,9100,900,9100,9100,900,{"$f":"_xlfn.XLOOKUP(F122,'Object Codes'!$A$18:$A$510,'Object Codes'!$H$18:$H$510)","v":"Contractual Services"},{"$f":"_xlfn.XLOOKUP(F122,'Object Codes'!$A$18:$A$510,'Object Codes'!$G$18:$G$510)","v":0},{"$f":"_xlfn.XLOOKUP(A122,Agencies!$A$9:$A$146,Agencies!$B$9:$B$146)","v":"General Government"},{"$f":"IF(_xlfn.XLOOKUP(A122,Agencies!A:A,Agencies!D:D)=\"Y\",IF(_xlfn.XLOOKUP(F122,'Object Codes'!A:A,'Object Codes'!I:I)=\"Y\",\"Y\",\"N\"),\"N\")","v":"Y"},{"$f":"VLOOKUP(F122,'Object Codes'!$A:$C,3,0)","v":"Cleaning Services - Contractual"},{"$f":"VLOOKUP(A122,Agencies!A:C,3,0)","v":"Mayoralty"},24.931506849315067]
["002",2022,"001","021","0211","684",0,0,0,0,120000,0,0,0,0,0,20000,0,20000,20000,100000,20000,100000,20000,20000,100000,{"$f":"_xlfn.XLOOKUP(F123,'Object Codes'!$A$18:$A$510,'Object Codes'!$H$18:$H$510)","v":"Contractual Services"},{"$f":"_xlfn.XLOOKUP(F123,'Object Codes'!$A$18:$A$510,'Object Codes'!$G$18:$G$510)","v":0},{"$f":"_xlfn.XLOOKUP(A123,Agencies!$A$9:$A$146,Agencies!$B$9:$B$146)","v":"General Government"},{"$f":"IF(_xlfn.XLOOKUP(A123,Agencies!A:A,Agencies!D:D)=\"Y\",IF(_xlfn.XLOOKUP(F123,'Object Codes'!A:A,'Object Codes'!I:I)=\"Y\",\"Y\",\"N\"),\"N\")","v":"Y"},{"$f":"VLOOKUP(F123,'Object Codes'!$A:$C,3,0)","v":"Professional Services - Computer Services - Contractual"},{"$f":"VLOOKUP(A123,Agencies!A:C,3,0)","v":"Mayoralty"},54.794520547945204]
["002",2022,"001","021","0211","686",0,0,0,0,1000,0,0,0,0,0,-13393.63,0,-13393.63,-13393.63,14393.63,-13393.63,14393.63,-13393.63,-13393.63,14393.63,{"$f":"_xlfn.XLOOKUP(F124,'Object Codes'!$A$18:$A$510,'Object Codes'!$H$18:$H$510)","v":"Contractual Services"},{"$f":"_xlfn.XLOOKUP(F124,'Object Codes'!$A$18:$A$510,'Object Codes'!$G$18:$G$510)","v":0},{"$f":"_xlfn.XLOOKUP(A124,Agencies!$A$9:$A$146,Agencies!$B$9:$B$146)","v":"General Government"},{"$f":"IF(_xlfn.XLOOKUP(A124,Agencies!A:A,Agencies!D:D)=\"Y\",IF(_xlfn.XLOOKUP(F124,'Object Codes'!A:A,'Object Codes'!I:I)=\"Y\",\"Y\",\"N\"),\"N\")","v":"Y"},{"$f":"VLOOKUP(F124,'Object Codes'!$A:$C,3,0)","v":"Professional Services - Other - Contractual"},{"$f":"VLOOKUP(A124,Agencies!A:C,3,0)","v":"Mayoralty"},-36.694876712328764]
["002",2022,"001","021","0211","79D",0,0,0,0,1788,0,0,0,0,0,1788,0,1788,1788,0,1788,0,1788,1788,0,{"$f":"_xlfn.XLOOKUP(F125,'Object Codes'!$A$18:$A$510,'Object Codes'!$H$18:$H$510)","v":"Fixed Charges"},{"$f":"_xlfn.XLOOKUP(F125,'Object Codes'!$A$18:$A$510,'Object Codes'!$G$18:$G$510)","v":0},{"$f":"_xlfn.XLOOKUP(A125,Agencies!$A$9:$A$146,Agencies!$B$9:$B$146)","v":"General Government"},{"$f":"IF(_xlfn.XLOOKUP(A125,Agencies!A:A,Agencies!D:D)=\"Y\",IF(_xlfn.XLOOKUP(F125,'Object Codes'!A:A,'Object Codes'!I:I)=\"Y\",\"Y\",\"N\"),\"N\")","v":"Y"},{"$f":"VLOOKUP(F125,'Object Codes'!$A:$C,3,0)","v":"TRAINING CITY EMPLOYEES"},{"$f":"VLOOKUP(A125,Agencies!A:C,3,0)","v":"Mayoralty"},4.8986301369863012]
["002",2022,"001","021","0214","100",0,0,0,10000,200,0,0,0,0,0,126,0,126,126,74,126,74,126,126,74,{"$f":"_xlfn.XLOOKUP(F126,'Object Codes'!$A$18:$A$510,'Object Codes'!$H$18:$H$510)","v":"Supplies & Materials"},{"$f":"_xlfn.XLOOKUP(F126,'Object Codes'!$A$18:$A$510,'Object Codes'!$G$18:$G$510)","v":"A"},{"$f":"_xlfn.XLOOKUP(A126,Agencies!$A$9:$A$146,Agencies!$B$9:$B$146)","v":"General Government"},{"$f":"IF(_xlfn.XLOOKUP(A126,Agencies!A:A,Agencies!D:D)=\"Y\",IF(_xlfn.XLOOKUP(F126,'Object Codes'!A:A,'Object Codes'!I:I)=\"Y\",\"Y\",\"N\"),\"N\")","v":"Y"},{"$f":"VLOOKUP(F126,'Object Codes'!$A:$C,3,0)","v":"Supplies and Materials - General"},{"$f":"VLOOKUP(A126,Agencies!A:C,3,0)","v":"Mayoralty"},0.34520547945205482]
["002",2022,"001","021","0214","337",0,0,0,0,3600,0,0,0,0,0,3600,0,3600,3600,0,3600,0,3600,3600,0,{"$f":"_xlfn.XLOOKUP(F127,'Object Codes'!$A$18:$A$510,'Object Codes'!$H$18:$H$510)","v":"Equipment"},{"$f":"_xlfn.XLOOKUP(F127,'Object Codes'!$A$18:$A$510,'Object Codes'!$G$18:$G$510)","v":"A"},{"$f":"_xlfn.XLOOKUP(A127,Agencies!$A$9:$A$146,Agencies!$B$9:$B$146)","v":"General Government"},{"$f":"IF(_xlfn.XLOOKUP(A127,Agencies!A:A,Agencies!D:D)=\"Y\",IF(_xlfn.XLOOKUP(F127,'Object Codes'!A:A,'Object Codes'!I:I)=\"Y\",\"Y\",\"N\"),\"N\")","v":"Y"},{"$f":"VLOOKUP(F127,'Object Codes'!$A:$C,3,0)","v":"Books - Other"},{"$f":"VLOOKUP(A127,Agencies!A:C,3,0)","v":"Mayoralty"},9.8630136986301373]
["002",2022,"001","021","0214","453",0,0,0,0,9050,0,0,0,0,0,5388.27,0,5388.27,5388.27,3661.73,5388.27,3661.73,5388.27,5388.27,3661.73,{"$f":"_xlfn.XLOOKUP(F128,'Object Codes'!$A$18:$A$510,'Object Codes'!$H$18:$H$510)","v":"Other Services and Charges - General"},{"$f":"_xlfn.XLOOKUP(F128,'Object Codes'!$A$18:$A$510,'Object Codes'!$G$18:$G$510)","v":0},{"$f":"_xlfn.XLOOKUP(A128,Agencies!$A$9:$A$146,Agencies!$B$9:$B$146)","v":"General Government"},{"$f":"IF(_xlfn.XLOOKUP(A128,Agencies!A:A,Agencies!D:D)=\"Y\",IF(_xlfn.XLOOKUP(F128,'Object Codes'!A:A,'Object Codes'!I:I)=\"Y\",\"Y\",\"N\"),\"N\")","v":"Y"},{"$f":"VLOOKUP(F128,'Object Codes'!$A:$C,3,0)","v":"Overnight Travel Expenditures - General"},{"$f":"VLOOKUP(A128,Agencies!A:C,3,0)","v":"Mayoralty"},14.762383561643837]
["002",2022,"001","021","0214","454",0,0,0,0,6830,0,0,0,0,0,2687.32,0,2687.32,2687.32,4142.68,2687.32,4142.68,2687.32,2687.32,4142.68,{"$f":"_xlfn.XLOOKUP(F129,'Object Codes'!$A$18:$A$510,'Object Codes'!$H$18:$H$510)","v":"Other Services and Charges - General"},{"$f":"_xlfn.XLOOKUP(F129,'Object Codes'!$A$18:$A$510,'Object Codes'!$G$18:$G$510)","v":0},{"$f":"_xlfn.XLOOKUP(A129,Agencies!$A$9:$A$146,Agencies!$B$9:$B$146)","v":"General Government"},{"$f":"IF(_xlfn.XLOOKUP(A129,Agencies!A:A,Agencies!D:D)=\"Y\",IF(_xlfn.XLOOKUP(F129,'Object Codes'!A:A,'Object Codes'!I:I)=\"Y\",\"Y\",\"N\"),\"N\")","v":"Y"},{"$f":"VLOOKUP(F129,'Object Codes'!$A:$C,3,0)","v":"Overnight Travel Expenditures - Special"},{"$f":"VLOOKUP(A129,Agencies!A:C,3,0)","v":"Mayoralty"},7.3625205479452056]
["002",2022,"001","021","0217","100",0,0,0,10000,0,0,0,0,0,0,0,0,0,0,0,0,0,0,0,0,{"$f":"_xlfn.XLOOKUP(F130,'Object Codes'!$A$18:$A$510,'Object Codes'!$H$18:$H$510)","v":"Supplies & Materials"},{"$f":"_xlfn.XLOOKUP(F130,'Object Codes'!$A$18:$A$510,'Object Codes'!$G$18:$G$510)","v":"A"},{"$f":"_xlfn.XLOOKUP(A130,Agencies!$A$9:$A$146,Agencies!$B$9:$B$146)","v":"General Government"},{"$f":"IF(_xlfn.XLOOKUP(A130,Agencies!A:A,Agencies!D:D)=\"Y\",IF(_xlfn.XLOOKUP(F130,'Object Codes'!A:A,'Object Codes'!I:I)=\"Y\",\"Y\",\"N\"),\"N\")","v":"Y"},{"$f":"VLOOKUP(F130,'Object Codes'!$A:$C,3,0)","v":"Supplies and Materials - General"},{"$f":"VLOOKUP(A130,Agencies!A:C,3,0)","v":"Mayoralty"},0]
["002",2022,"001","021","0217","337",0,0,0,0,650,0,0,0,0,0,0,0,0,0,650,0,650,0,0,650,{"$f":"_xlfn.XLOOKUP(F131,'Object Codes'!$A$18:$A$510,'Object Codes'!$H$18:$H$510)","v":"Equipment"},{"$f":"_xlfn.XLOOKUP(F131,'Object Codes'!$A$18:$A$510,'Object Codes'!$G$18:$G$510)","v":"A"},{"$f":"_xlfn.XLOOKUP(A131,Agencies!$A$9:$A$146,Agencies!$B$9:$B$146)","v":"General Government"},{"$f":"IF(_xlfn.XLOOKUP(A131,Agencies!A:A,Agencies!D:D)=\"Y\",IF(_xlfn.XLOOKUP(F131,'Object Codes'!A:A,'Object Codes'!I:I)=\"Y\",\"Y\",\"N\"),\"N\")","v":"Y"},{"$f":"VLOOKUP(F131,'Object Codes'!$A:$C,3,0)","v":"Books - Other"},{"$f":"VLOOKUP(A131,Agencies!A:C,3,0)","v":"Mayoralty"},0]
["002",2022,"001","021","0218","100",0,0,0,10000,10730,0,0,0,0,0,7737.31,0,7737.31,7737.31,2992.69,7737.31,2992.69,7737.31,7737.31,2992.69,{"$f":"_xlfn.XLOOKUP(F132,'Object Codes'!$A$18:$A$510,'Object Codes'!$H$18:$H$510)","v":"Supplies & Materials"},{"$f":"_xlfn.XLOOKUP(F132,'Object Codes'!$A$18:$A$510,'Object Codes'!$G$18:$G$510)","v":"A"},{"$f":"_xlfn.XLOOKUP(A132,Agencies!$A$9:$A$146,Agencies!$B$9:$B$146)","v":"General Government"},{"$f":"IF(_xlfn.XLOOKUP(A132,Agencies!A:A,Agencies!D:D)=\"Y\",IF(_xlfn.XLOOKUP(F132,'Object Codes'!A:A,'Object Codes'!I:I)=\"Y\",\"Y\",\"N\"),\"N\")","v":"Y"},{"$f":"VLOOKUP(F132,'Object Codes'!$A:$C,3,0)","v":"Supplies and Materials - General"},{"$f":"VLOOKUP(A132,Agencies!A:C,3,0)","v":"Mayoralty"},21.198109589041096]
["002",2022,"001","021","0218","109",0,0,0,0,4500,0,0,0,0,0,3517,0,3517,3517,983,3517,983,3517,3517,983,{"$f":"_xlfn.XLOOKUP(F133,'Object Codes'!$A$18:$A$510,'Object Codes'!$H$18:$H$510)","v":"Supplies & Materials"},{"$f":"_xlfn.XLOOKUP(F133,'Object Codes'!$A$18:$A$510,'Object Codes'!$G$18:$G$510)","v":"A"},{"$f":"_xlfn.XLOOKUP(A133,Agencies!$A$9:$A$146,Agencies!$B$9:$B$146)","v":"General Government"},{"$f":"IF(_xlfn.XLOOKUP(A133,Agencies!A:A,Agencies!D:D)=\"Y\",IF(_xlfn.XLOOKUP(F133,'Object Codes'!A:A,'Object Codes'!I:I)=\"Y\",\"Y\",\"N\"),\"N\")","v":"Y"},{"$f":"VLOOKUP(F133,'Object Codes'!$A:$C,3,0)","v":"Fuel Oil"},{"$f":"VLOOKUP(A133,Agencies!A:C,3,0)","v":"Mayoralty"},9.6356164383561644]
["002",2022,"001","021","0218","110",0,0,0,75000,91510,0,0,0,0,0,64349.74,2152.98,66502.720000000001,66502.720000000001,25007.279999999999,66502.720000000001,25007.279999999999,66502.720000000001,66502.720000000001,25007.279999999999,{"$f":"_xlfn.XLOOKUP(F134,'Object Codes'!$A$18:$A$510,'Object Codes'!$H$18:$H$510)","v":"Supplies & Materials"},{"$f":"_xlfn.XLOOKUP(F134,'Object Codes'!$A$18:$A$510,'Object Codes'!$G$18:$G$510)","v":"A"},{"$f":"_xlfn.XLOOKUP(A134,Agencies!$A$9:$A$146,Agencies!$B$9:$B$146)","v":"General Government"},{"$f":"IF(_xlfn.XLOOKUP(A134,Agencies!A:A,Agencies!D:D)=\"Y\",IF(_xlfn.XLOOKUP(F134,'Object Codes'!A:A,'Object Codes'!I:I)=\"Y\",\"Y\",\"N\"),\"N\")","v":"Y"},{"$f":"VLOOKUP(F134,'Object Codes'!$A:$C,3,0)","v":"Food and Forage Supplies"},{"$f":"VLOOKUP(A134,Agencies!A:C,3,0)","v":"Mayoralty"},182.19923287671233]
["002",2022,"001","021","0218","117",0,0,0,0,150,0,0,0,0,0,145.19999999999999,0,145.19999999999999,145.19999999999999,4.8,145.19999999999999,4.8,145.19999999999999,145.19999999999999,4.8,{"$f":"_xlfn.XLOOKUP(F135,'Object Codes'!$A$18:$A$510,'Object Codes'!$H$18:$H$510)","v":"Supplies & Materials"},{"$f":"_xlfn.XLOOKUP(F135,'Object Codes'!$A$18:$A$510,'Object Codes'!$G$18:$G$510)","v":"A"},{"$f":"_xlfn.XLOOKUP(A135,Agencies!$A$9:$A$146,Agencies!$B$9:$B$146)","v":"General Government"},{"$f":"IF(_xlfn.XLOOKUP(A135,Agencies!A:A,Agencies!D:D)=\"Y\",IF(_xlfn.XLOOKUP(F135,'Object Codes'!A:A,'Object Codes'!I:I)=\"Y\",\"Y\",\"N\"),\"N\")","v":"Y"},{"$f":"VLOOKUP(F135,'Object Codes'!$A:$C,3,0)","v":"Postage"},{"$f":"VLOOKUP(A135,Agencies!A:C,3,0)","v":"Mayoralty"},0.39780821917808218]
["002",2022,"001","021","0218","337",0,0,0,0,300,0,0,0,0,0,218.05,0,218.05,218.05,81.95,218.05,81.95,218.05,218.05,81.95,{"$f":"_xlfn.XLOOKUP(F136,'Object Codes'!$A$18:$A$510,'Object Codes'!$H$18:$H$510)","v":"Equipment"},{"$f":"_xlfn.XLOOKUP(F136,'Object Codes'!$A$18:$A$510,'Object Codes'!$G$18:$G$510)","v":"A"},{"$f":"_xlfn.XLOOKUP(A136,Agencies!$A$9:$A$146,Agencies!$B$9:$B$146)","v":"General Government"},{"$f":"IF(_xlfn.XLOOKUP(A136,Agencies!A:A,Agencies!D:D)=\"Y\",IF(_xlfn.XLOOKUP(F136,'Object Codes'!A:A,'Object Codes'!I:I)=\"Y\",\"Y\",\"N\"),\"N\")","v":"Y"},{"$f":"VLOOKUP(F136,'Object Codes'!$A:$C,3,0)","v":"Books - Other"},{"$f":"VLOOKUP(A136,Agencies!A:C,3,0)","v":"Mayoralty"},0.59739726027397266]
["002",2022,"001","021","0218","400",0,0,0,0,1000,0,0,0,0,0,0,0,0,0,1000,0,1000,0,0,1000,{"$f":"_xlfn.XLOOKUP(F137,'Object Codes'!$A$18:$A$510,'Object Codes'!$H$18:$H$510)","v":"Other Services and Charges - General"},{"$f":"_xlfn.XLOOKUP(F137,'Object Codes'!$A$18:$A$510,'Object Codes'!$G$18:$G$510)","v":0},{"$f":"_xlfn.XLOOKUP(A137,Agencies!$A$9:$A$146,Agencies!$B$9:$B$146)","v":"General Government"},{"$f":"IF(_xlfn.XLOOKUP(A137,Agencies!A:A,Agencies!D:D)=\"Y\",IF(_xlfn.XLOOKUP(F137,'Object Codes'!A:A,'Object Codes'!I:I)=\"Y\",\"Y\",\"N\"),\"N\")","v":"Y"},{"$f":"VLOOKUP(F137,'Object Codes'!$A:$C,3,0)","v":"Other Services and Charges - General"},{"$f":"VLOOKUP(A137,Agencies!A:C,3,0)","v":"Mayoralty"},{"$f":"S137/365","v":0}]
["002",2022,"001","021","0218","412",0,0,0,50000,37900,0,0,0,0,0,17833.11,12130,29963.11,29963.11,7936.89,29963.11,7936.89,29963.11,29963.11,7936.89,{"$f":"_xlfn.XLOOKUP(F138,'Object Codes'!$A$18:$A$510,'Object Codes'!$H$18:$H$510)","v":"Other Services and Charges - General"},{"$f":"_xlfn.XLOOKUP(F138,'Object Codes'!$A$18:$A$510,'Object Codes'!$G$18:$G$510)","v":0},{"$f":"_xlfn.XLOOKUP(A138,Agencies!$A$9:$A$146,Agencies!$B$9:$B$146)","v":"General Government"},{"$f":"IF(_xlfn.XLOOKUP(A138,Agencies!A:A,Agencies!D:D)=\"Y\",IF(_xlfn.XLOOKUP(F138,'Object Codes'!A:A,'Object Codes'!I:I)=\"Y\",\"Y\",\"N\"),\"N\")","v":"Y"},{"$f":"VLOOKUP(F138,'Object Codes'!$A:$C,3,0)","v":"Rentals - Miscellaneous Equipment"},{"$f":"VLOOKUP(A138,Agencies!A:C,3,0)","v":"Mayoralty"},82.090712328767125]
["002",2022,"001","021","0218","451",0,0,0,0,6300,0,0,0,0,0,5647.59,0,5647.59,5647.59,652.41,5647.59,652.41,5647.59,5647.59,652.41,{"$f":"_xlfn.XLOOKUP(F139,'Object Codes'!$A$18:$A$510,'Object Codes'!$H$18:$H$510)","v":"Other Services and Charges - General"},{"$f":"_xlfn.XLOOKUP(F139,'Object Codes'!$A$18:$A$510,'Object Codes'!$G$18:$G$510)","v":0},{"$f":"_xlfn.XLOOKUP(A139,Agencies!$A$9:$A$146,Agencies!$B$9:$B$146)","v":"General Government"},{"$f":"IF(_xlfn.XLOOKUP(A139,Agencies!A:A,Agencies!D:D)=\"Y\",IF(_xlfn.XLOOKUP(F139,'Object Codes'!A:A,'Object Codes'!I:I)=\"Y\",\"Y\",\"N\"),\"N\")","v":"Y"},{"$f":"VLOOKUP(F139,'Object Codes'!$A:$C,3,0)","v":"Non Overnight Travel Expenditures - General"},{"$f":"VLOOKUP(A139,Agencies!A:C,3,0)","v":"Mayoralty"},15.472849315068494]
["002",2022,"001","021","0218","454",0,0,0,0,2040,0,0,0,0,0,2000.32,0,2000.32,2000.32,39.68,2000.32,39.68,2000.32,2000.32,39.68,{"$f":"_xlfn.XLOOKUP(F140,'Object Codes'!$A$18:$A$510,'Object Codes'!$H$18:$H$510)","v":"Other Services and Charges - General"},{"$f":"_xlfn.XLOOKUP(F140,'Object Codes'!$A$18:$A$510,'Object Codes'!$G$18:$G$510)","v":0},{"$f":"_xlfn.XLOOKUP(A140,Agencies!$A$9:$A$146,Agencies!$B$9:$B$146)","v":"General Government"},{"$f":"IF(_xlfn.XLOOKUP(A140,Agencies!A:A,Agencies!D:D)=\"Y\",IF(_xlfn.XLOOKUP(F140,'Object Codes'!A:A,'Object Codes'!I:I)=\"Y\",\"Y\",\"N\"),\"N\")","v":"Y"},{"$f":"VLOOKUP(F140,'Object Codes'!$A:$C,3,0)","v":"Overnight Travel Expenditures - Special"},{"$f":"VLOOKUP(A140,Agencies!A:C,3,0)","v":"Mayoralty"},5.4803287671232876]
["002",2022,"001","021","0218","608",0,0,0,0,500,0,0,0,0,0,0,0,0,0,500,0,500,0,0,500,{"$f":"_xlfn.XLOOKUP(F141,'Object Codes'!$A$18:$A$510,'Object Codes'!$H$18:$H$510)","v":"Contractual Services"},{"$f":"_xlfn.XLOOKUP(F141,'Object Codes'!$A$18:$A$510,'Object Codes'!$G$18:$G$510)","v":0},{"$f":"_xlfn.XLOOKUP(A141,Agencies!$A$9:$A$146,Agencies!$B$9:$B$146)","v":"General Government"},{"$f":"IF(_xlfn.XLOOKUP(A141,Agencies!A:A,Agencies!D:D)=\"Y\",IF(_xlfn.XLOOKUP(F141,'Object Codes'!A:A,'Object Codes'!I:I)=\"Y\",\"Y\",\"N\"),\"N\")","v":"Y"},{"$f":"VLOOKUP(F141,'Object Codes'!$A:$C,3,0)","v":"Maintenance and Repairs - General - Contractual"},{"$f":"VLOOKUP(A141,Agencies!A:C,3,0)","v":"Mayoralty"},0]
["002",2022,"001","021","0218","622",0,0,0,165000,226370,0,0,0,0,0,201317.72,0,201317.72,201317.72,25052.28,201317.72,25052.28,201317.72,201317.72,25052.28,{"$f":"_xlfn.XLOOKUP(F142,'Object Codes'!$A$18:$A$510,'Object Codes'!$H$18:$H$510)","v":"Contractual Services"},{"$f":"_xlfn.XLOOKUP(F142,'Object Codes'!$A$18:$A$510,'Object Codes'!$G$18:$G$510)","v":0},{"$f":"_xlfn.XLOOKUP(A142,Agencies!$A$9:$A$146,Agencies!$B$9:$B$146)","v":"General Government"},{"$f":"IF(_xlfn.XLOOKUP(A142,Agencies!A:A,Agencies!D:D)=\"Y\",IF(_xlfn.XLOOKUP(F142,'Object Codes'!A:A,'Object Codes'!I:I)=\"Y\",\"Y\",\"N\"),\"N\")","v":"Y"},{"$f":"VLOOKUP(F142,'Object Codes'!$A:$C,3,0)","v":"Temporary Services - Contractual"},{"$f":"VLOOKUP(A142,Agencies!A:C,3,0)","v":"Mayoralty"},551.55539726027393]
["002",2022,"001","021","0218","624",0,0,0,0,13200,0,0,0,0,0,12555.1,0,12555.1,12555.1,644.9,12555.1,644.9,12555.1,12555.1,644.9,{"$f":"_xlfn.XLOOKUP(F143,'Object Codes'!$A$18:$A$510,'Object Codes'!$H$18:$H$510)","v":"Contractual Services"},{"$f":"_xlfn.XLOOKUP(F143,'Object Codes'!$A$18:$A$510,'Object Codes'!$G$18:$G$510)","v":0},{"$f":"_xlfn.XLOOKUP(A143,Agencies!$A$9:$A$146,Agencies!$B$9:$B$146)","v":"General Government"},{"$f":"IF(_xlfn.XLOOKUP(A143,Agencies!A:A,Agencies!D:D)=\"Y\",IF(_xlfn.XLOOKUP(F143,'Object Codes'!A:A,'Object Codes'!I:I)=\"Y\",\"Y\",\"N\"),\"N\")","v":"Y"},{"$f":"VLOOKUP(F143,'Object Codes'!$A:$C,3,0)","v":"Cleaning Services - Contractual"},{"$f":"VLOOKUP(A143,Agencies!A:C,3,0)","v":"Mayoralty"},34.39753424657534]
["002",2022,"001","021","0219","100",0,0,0,0,323680,0,0,0,0,0,2717.5,0,2717.5,2717.5,320962.5,2717.5,320962.5,2717.5,2717.5,320962.5,{"$f":"_xlfn.XLOOKUP(F144,'Object Codes'!$A$18:$A$510,'Object Codes'!$H$18:$H$510)","v":"Supplies & Materials"},{"$f":"_xlfn.XLOOKUP(F144,'Object Codes'!$A$18:$A$510,'Object Codes'!$G$18:$G$510)","v":"A"},{"$f":"_xlfn.XLOOKUP(A144,Agencies!$A$9:$A$146,Agencies!$B$9:$B$146)","v":"General Government"},{"$f":"IF(_xlfn.XLOOKUP(A144,Agencies!A:A,Agencies!D:D)=\"Y\",IF(_xlfn.XLOOKUP(F144,'Object Codes'!A:A,'Object Codes'!I:I)=\"Y\",\"Y\",\"N\"),\"N\")","v":"Y"},{"$f":"VLOOKUP(F144,'Object Codes'!$A:$C,3,0)","v":"Supplies and Materials - General"},{"$f":"VLOOKUP(A144,Agencies!A:C,3,0)","v":"Mayoralty"},7.4452054794520546]
["002",2022,"001","021","0219","110",0,0,0,0,400,0,0,0,0,0,400,0,400,400,0,400,0,400,400,0,{"$f":"_xlfn.XLOOKUP(F145,'Object Codes'!$A$18:$A$510,'Object Codes'!$H$18:$H$510)","v":"Supplies & Materials"},{"$f":"_xlfn.XLOOKUP(F145,'Object Codes'!$A$18:$A$510,'Object Codes'!$G$18:$G$510)","v":"A"},{"$f":"_xlfn.XLOOKUP(A145,Agencies!$A$9:$A$146,Agencies!$B$9:$B$146)","v":"General Government"},{"$f":"IF(_xlfn.XLOOKUP(A145,Agencies!A:A,Agencies!D:D)=\"Y\",IF(_xlfn.XLOOKUP(F145,'Object Codes'!A:A,'Object Codes'!I:I)=\"Y\",\"Y\",\"N\"),\"N\")","v":"Y"},{"$f":"VLOOKUP(F145,'Object Codes'!$A:$C,3,0)","v":"Food and Forage Supplies"},{"$f":"VLOOKUP(A145,Agencies!A:C,3,0)","v":"Mayoralty"},1.095890410958904]
["002",2022,"001","021","0219","400",0,0,0,0,1000,0,0,0,0,0,400,0,400,400,600,400,600,400,400,600,{"$f":"_xlfn.XLOOKUP(F146,'Object Codes'!$A$18:$A$510,'Object Codes'!$H$18:$H$510)","v":"Other Services and Charges - General"},{"$f":"_xlfn.XLOOKUP(F146,'Object Codes'!$A$18:$A$510,'Object Codes'!$G$18:$G$510)","v":0},{"$f":"_xlfn.XLOOKUP(A146,Agencies!$A$9:$A$146,Agencies!$B$9:$B$146)","v":"General Government"},{"$f":"IF(_xlfn.XLOOKUP(A146,Agencies!A:A,Agencies!D:D)=\"Y\",IF(_xlfn.XLOOKUP(F146,'Object Codes'!A:A,'Object Codes'!I:I)=\"Y\",\"Y\",\"N\"),\"N\")","v":"Y"},{"$f":"VLOOKUP(F146,'Object Codes'!$A:$C,3,0)","v":"Other Services and Charges - General"},{"$f":"VLOOKUP(A146,Agencies!A:C,3,0)","v":"Mayoralty"},1.095890410958904]
["002",2022,"001","021","0219","615",0,0,0,0,3000,0,0,0,0,0,2025,0,2025,2025,975,2025,975,2025,2025,975,{"$f":"_xlfn.XLOOKUP(F147,'Object Codes'!$A$18:$A$510,'Object Codes'!$H$18:$H$510)","v":"Contractual Services"},{"$f":"_xlfn.XLOOKUP(F147,'Object Codes'!$A$18:$A$510,'Object Codes'!$G$18:$G$510)","v":0},{"$f":"_xlfn.XLOOKUP(A147,Agencies!$A$9:$A$146,Agencies!$B$9:$B$146)","v":"General Government"},{"$f":"IF(_xlfn.XLOOKUP(A147,Agencies!A:A,Agencies!D:D)=\"Y\",IF(_xlfn.XLOOKUP(F147,'Object Codes'!A:A,'Object Codes'!I:I)=\"Y\",\"Y\",\"N\"),\"N\")","v":"Y"},{"$f":"VLOOKUP(F147,'Object Codes'!$A:$C,3,0)","v":"Printing Services - Contractual"},{"$f":"VLOOKUP(A147,Agencies!A:C,3,0)","v":"Mayoralty"},5.5479452054794525]
["002",2022,"001","021","0220","100",0,0,0,11719,659,0,0,0,0,0,586.98,0,586.98,586.98,72.02,586.98,72.02,586.98,586.98,72.02,{"$f":"_xlfn.XLOOKUP(F148,'Object Codes'!$A$18:$A$510,'Object Codes'!$H$18:$H$510)","v":"Supplies & Materials"},{"$f":"_xlfn.XLOOKUP(F148,'Object Codes'!$A$18:$A$510,'Object Codes'!$G$18:$G$510)","v":"A"},{"$f":"_xlfn.XLOOKUP(A148,Agencies!$A$9:$A$146,Agencies!$B$9:$B$146)","v":"General Government"},{"$f":"IF(_xlfn.XLOOKUP(A148,Agencies!A:A,Agencies!D:D)=\"Y\",IF(_xlfn.XLOOKUP(F148,'Object Codes'!A:A,'Object Codes'!I:I)=\"Y\",\"Y\",\"N\"),\"N\")","v":"Y"},{"$f":"VLOOKUP(F148,'Object Codes'!$A:$C,3,0)","v":"Supplies and Materials - General"},{"$f":"VLOOKUP(A148,Agencies!A:C,3,0)","v":"Mayoralty"},1.6081643835616439]
["002",2022,"001","021","0220","110",0,0,0,0,1500,0,0,0,0,0,672.28,0,672.28,672.28,827.72,672.28,827.72,672.28,672.28,827.72,{"$f":"_xlfn.XLOOKUP(F149,'Object Codes'!$A$18:$A$510,'Object Codes'!$H$18:$H$510)","v":"Supplies & Materials"},{"$f":"_xlfn.XLOOKUP(F149,'Object Codes'!$A$18:$A$510,'Object Codes'!$G$18:$G$510)","v":"A"},{"$f":"_xlfn.XLOOKUP(A149,Agencies!$A$9:$A$146,Agencies!$B$9:$B$146)","v":"General Government"},{"$f":"IF(_xlfn.XLOOKUP(A149,Agencies!A:A,Agencies!D:D)=\"Y\",IF(_xlfn.XLOOKUP(F149,'Object Codes'!A:A,'Object Codes'!I:I)=\"Y\",\"Y\",\"N\"),\"N\")","v":"Y"},{"$f":"VLOOKUP(F149,'Object Codes'!$A:$C,3,0)","v":"Food and Forage Supplies"},{"$f":"VLOOKUP(A149,Agencies!A:C,3,0)","v":"Mayoralty"},1.84186301369863]
["002",2022,"001","021","0220","117",0,0,0,3000,400,0,0,0,0,0,69.33,0,69.33,69.33,330.67,69.33,330.67,69.33,69.33,330.67,{"$f":"_xlfn.XLOOKUP(F150,'Object Codes'!$A$18:$A$510,'Object Codes'!$H$18:$H$510)","v":"Supplies & Materials"},{"$f":"_xlfn.XLOOKUP(F150,'Object Codes'!$A$18:$A$510,'Object Codes'!$G$18:$G$510)","v":"A"},{"$f":"_xlfn.XLOOKUP(A150,Agencies!$A$9:$A$146,Agencies!$B$9:$B$146)","v":"General Government"},{"$f":"IF(_xlfn.XLOOKUP(A150,Agencies!A:A,Agencies!D:D)=\"Y\",IF(_xlfn.XLOOKUP(F150,'Object Codes'!A:A,'Object Codes'!I:I)=\"Y\",\"Y\",\"N\"),\"N\")","v":"Y"},{"$f":"VLOOKUP(F150,'Object Codes'!$A:$C,3,0)","v":"Postage"},{"$f":"VLOOKUP(A150,Agencies!A:C,3,0)","v":"Mayoralty"},0.18994520547945204]
["002",2022,"001","021","0220","337",0,0,0,10000,71520,0,0,0,0,0,70092.800000000003,0,70092.800000000003,70092.800000000003,1427.2,70092.800000000003,1427.2,70092.800000000003,70092.800000000003,1427.2,{"$f":"_xlfn.XLOOKUP(F151,'Object Codes'!$A$18:$A$510,'Object Codes'!$H$18:$H$510)","v":"Equipment"},{"$f":"_xlfn.XLOOKUP(F151,'Object Codes'!$A$18:$A$510,'Object Codes'!$G$18:$G$510)","v":"A"},{"$f":"_xlfn.XLOOKUP(A151,Agencies!$A$9:$A$146,Agencies!$B$9:$B$146)","v":"General Government"},{"$f":"IF(_xlfn.XLOOKUP(A151,Agencies!A:A,Agencies!D:D)=\"Y\",IF(_xlfn.XLOOKUP(F151,'Object Codes'!A:A,'Object Codes'!I:I)=\"Y\",\"Y\",\"N\"),\"N\")","v":"Y"},{"$f":"VLOOKUP(F151,'Object Codes'!$A:$C,3,0)","v":"Books - Other"},{"$f":"VLOOKUP(A151,Agencies!A:C,3,0)","v":"Mayoralty"},192.0350684931507]
["002",2022,"001","021","0220","400",0,0,0,0,2400,0,0,0,0,0,2373.33,0,2373.33,2373.33,26.67,2373.33,26.67,2373.33,2373.33,26.67,{"$f":"_xlfn.XLOOKUP(F152,'Object Codes'!$A$18:$A$510,'Object Codes'!$H$18:$H$510)","v":"Other Services and Charges - General"},{"$f":"_xlfn.XLOOKUP(F152,'Object Codes'!$A$18:$A$510,'Object Codes'!$G$18:$G$510)","v":0},{"$f":"_xlfn.XLOOKUP(A152,Agencies!$A$9:$A$146,Agencies!$B$9:$B$146)","v":"General Government"},{"$f":"IF(_xlfn.XLOOKUP(A152,Agencies!A:A,Agencies!D:D)=\"Y\",IF(_xlfn.XLOOKUP(F152,'Object Codes'!A:A,'Object Codes'!I:I)=\"Y\",\"Y\",\"N\"),\"N\")","v":"Y"},{"$f":"VLOOKUP(F152,'Object Codes'!$A:$C,3,0)","v":"Other Services and Charges - General"},{"$f":"VLOOKUP(A152,Agencies!A:C,3,0)","v":"Mayoralty"},6.5022739726027394]
["002",2022,"001","021","0220","403",0,0,0,219439,269439,0,0,0,0,0,269423,0,269423,269423,16,269423,16,269423,269423,16,{"$f":"_xlfn.XLOOKUP(F153,'Object Codes'!$A$18:$A$510,'Object Codes'!$H$18:$H$510)","v":"Other Services and Charges - General"},{"$f":"_xlfn.XLOOKUP(F153,'Object Codes'!$A$18:$A$510,'Object Codes'!$G$18:$G$510)","v":0},{"$f":"_xlfn.XLOOKUP(A153,Agencies!$A$9:$A$146,Agencies!$B$9:$B$146)","v":"General Government"},{"$f":"IF(_xlfn.XLOOKUP(A153,Agencies!A:A,Agencies!D:D)=\"Y\",IF(_xlfn.XLOOKUP(F153,'Object Codes'!A:A,'Object Codes'!I:I)=\"Y\",\"Y\",\"N\"),\"N\")","v":"Y"},{"$f":"VLOOKUP(F153,'Object Codes'!$A:$C,3,0)","v":"Office Services"},{"$f":"VLOOKUP(A153,Agencies!A:C,3,0)","v":"Mayoralty"},738.1452054794521]
["002",2022,"001","021","0220","412",0,0,0,3071,271,0,0,0,0,0,143.4,0,143.4,143.4,127.6,143.4,127.6,143.4,143.4,127.6,{"$f":"_xlfn.XLOOKUP(F154,'Object Codes'!$A$18:$A$510,'Object Codes'!$H$18:$H$510)","v":"Other Services and Charges - General"},{"$f":"_xlfn.XLOOKUP(F154,'Object Codes'!$A$18:$A$510,'Object Codes'!$G$18:$G$510)","v":0},{"$f":"_xlfn.XLOOKUP(A154,Agencies!$A$9:$A$146,Agencies!$B$9:$B$146)","v":"General Government"},{"$f":"IF(_xlfn.XLOOKUP(A154,Agencies!A:A,Agencies!D:D)=\"Y\",IF(_xlfn.XLOOKUP(F154,'Object Codes'!A:A,'Object Codes'!I:I)=\"Y\",\"Y\",\"N\"),\"N\")","v":"Y"},{"$f":"VLOOKUP(F154,'Object Codes'!$A:$C,3,0)","v":"Rentals - Miscellaneous Equipment"},{"$f":"VLOOKUP(A154,Agencies!A:C,3,0)","v":"Mayoralty"},0.39287671232876714]
["002",2022,"001","021","0220","414",0,0,0,286173,286173,0,0,0,0,0,246019.92,0,246019.92,246019.92,40153.08,246019.92,40153.08,246019.92,246019.92,40153.08,{"$f":"_xlfn.XLOOKUP(F155,'Object Codes'!$A$18:$A$510,'Object Codes'!$H$18:$H$510)","v":"Leases"},{"$f":"_xlfn.XLOOKUP(F155,'Object Codes'!$A$18:$A$510,'Object Codes'!$G$18:$G$510)","v":0},{"$f":"_xlfn.XLOOKUP(A155,Agencies!$A$9:$A$146,Agencies!$B$9:$B$146)","v":"General Government"},{"$f":"IF(_xlfn.XLOOKUP(A155,Agencies!A:A,Agencies!D:D)=\"Y\",IF(_xlfn.XLOOKUP(F155,'Object Codes'!A:A,'Object Codes'!I:I)=\"Y\",\"Y\",\"N\"),\"N\")","v":"Y"},{"$f":"VLOOKUP(F155,'Object Codes'!$A:$C,3,0)","v":"Rentals - Land, Buildings and Structures"},{"$f":"VLOOKUP(A155,Agencies!A:C,3,0)","v":"Mayoralty"},674.02717808219177]
["002",2022,"001","021","0220","417",0,0,0,32000,10000,0,0,0,0,0,4832.38,0,4832.38,4832.38,5167.62,4832.38,5167.62,4832.38,4832.38,5167.62,{"$f":"_xlfn.XLOOKUP(F156,'Object Codes'!$A$18:$A$510,'Object Codes'!$H$18:$H$510)","v":"Other Services and Charges - General"},{"$f":"_xlfn.XLOOKUP(F156,'Object Codes'!$A$18:$A$510,'Object Codes'!$G$18:$G$510)","v":0},{"$f":"_xlfn.XLOOKUP(A156,Agencies!$A$9:$A$146,Agencies!$B$9:$B$146)","v":"General Government"},{"$f":"IF(_xlfn.XLOOKUP(A156,Agencies!A:A,Agencies!D:D)=\"Y\",IF(_xlfn.XLOOKUP(F156,'Object Codes'!A:A,'Object Codes'!I:I)=\"Y\",\"Y\",\"N\"),\"N\")","v":"Y"},{"$f":"VLOOKUP(F156,'Object Codes'!$A:$C,3,0)","v":"Advertising"},{"$f":"VLOOKUP(A156,Agencies!A:C,3,0)","v":"Mayoralty"},13.239397260273973]
["002",2022,"001","021","0220","451",0,0,0,4400,2400,0,0,0,0,0,2358.9899999999998,500,2858.99,2858.99,-458.99,2858.99,-458.99,2858.99,2858.99,-458.99,{"$f":"_xlfn.XLOOKUP(F157,'Object Codes'!$A$18:$A$510,'Object Codes'!$H$18:$H$510)","v":"Other Services and Charges - General"},{"$f":"_xlfn.XLOOKUP(F157,'Object Codes'!$A$18:$A$510,'Object Codes'!$G$18:$G$510)","v":0},{"$f":"_xlfn.XLOOKUP(A157,Agencies!$A$9:$A$146,Agencies!$B$9:$B$146)","v":"General Government"},{"$f":"IF(_xlfn.XLOOKUP(A157,Agencies!A:A,Agencies!D:D)=\"Y\",IF(_xlfn.XLOOKUP(F157,'Object Codes'!A:A,'Object Codes'!I:I)=\"Y\",\"Y\",\"N\"),\"N\")","v":"Y"},{"$f":"VLOOKUP(F157,'Object Codes'!$A:$C,3,0)","v":"Non Overnight Travel Expenditures - General"},{"$f":"VLOOKUP(A157,Agencies!A:C,3,0)","v":"Mayoralty"},7.8328493150684926]
["002",2022,"001","021","0220","453",0,0,0,28700,27740,0,0,0,0,0,22924.23,0,22924.23,22924.23,4815.7700000000004,22924.23,4815.7700000000004,22924.23,22924.23,4815.7700000000004,{"$f":"_xlfn.XLOOKUP(F158,'Object Codes'!$A$18:$A$510,'Object Codes'!$H$18:$H$510)","v":"Other Services and Charges - General"},{"$f":"_xlfn.XLOOKUP(F158,'Object Codes'!$A$18:$A$510,'Object Codes'!$G$18:$G$510)","v":0},{"$f":"_xlfn.XLOOKUP(A158,Agencies!$A$9:$A$146,Agencies!$B$9:$B$146)","v":"General Government"},{"$f":"IF(_xlfn.XLOOKUP(A158,Agencies!A:A,Agencies!D:D)=\"Y\",IF(_xlfn.XLOOKUP(F158,'Object Codes'!A:A,'Object Codes'!I:I)=\"Y\",\"Y\",\"N\"),\"N\")","v":"Y"},{"$f":"VLOOKUP(F158,'Object Codes'!$A:$C,3,0)","v":"Overnight Travel Expenditures - General"},{"$f":"VLOOKUP(A158,Agencies!A:C,3,0)","v":"Mayoralty"},62.806109589041093]
["002",2022,"001","021","0220","454",0,0,0,5000,6800,0,0,0,0,0,6678.35,0,6678.35,6678.35,121.65,6678.35,121.65,6678.35,6678.35,121.65,{"$f":"_xlfn.XLOOKUP(F159,'Object Codes'!$A$18:$A$510,'Object Codes'!$H$18:$H$510)","v":"Other Services and Charges - General"},{"$f":"_xlfn.XLOOKUP(F159,'Object Codes'!$A$18:$A$510,'Object Codes'!$G$18:$G$510)","v":0},{"$f":"_xlfn.XLOOKUP(A159,Agencies!$A$9:$A$146,Agencies!$B$9:$B$146)","v":"General Government"},{"$f":"IF(_xlfn.XLOOKUP(A159,Agencies!A:A,Agencies!D:D)=\"Y\",IF(_xlfn.XLOOKUP(F159,'Object Codes'!A:A,'Object Codes'!I:I)=\"Y\",\"Y\",\"N\"),\"N\")","v":"Y"},{"$f":"VLOOKUP(F159,'Object Codes'!$A:$C,3,0)","v":"Overnight Travel Expenditures - Special"},{"$f":"VLOOKUP(A159,Agencies!A:C,3,0)","v":"Mayoralty"},18.296849315068496]
["002",2022,"001","021","0220","600",0,0,0,0,1000,0,0,0,0,0,655.08000000000004,0,655.08000000000004,655.08000000000004,344.92,655.08000000000004,344.92,655.08000000000004,655.08000000000004,344.92,{"$f":"_xlfn.XLOOKUP(F160,'Object Codes'!$A$18:$A$510,'Object Codes'!$H$18:$H$510)","v":"Contractual Services"},{"$f":"_xlfn.XLOOKUP(F160,'Object Codes'!$A$18:$A$510,'Object Codes'!$G$18:$G$510)","v":0},{"$f":"_xlfn.XLOOKUP(A160,Agencies!$A$9:$A$146,Agencies!$B$9:$B$146)","v":"General Government"},{"$f":"IF(_xlfn.XLOOKUP(A160,Agencies!A:A,Agencies!D:D)=\"Y\",IF(_xlfn.XLOOKUP(F160,'Object Codes'!A:A,'Object Codes'!I:I)=\"Y\",\"Y\",\"N\"),\"N\")","v":"Y"},{"$f":"VLOOKUP(F160,'Object Codes'!$A:$C,3,0)","v":"Contractual Services - General"},{"$f":"VLOOKUP(A160,Agencies!A:C,3,0)","v":"Mayoralty"},1.7947397260273974]
["002",2022,"001","021","0220","615",0,0,0,540,7340,0,0,0,0,0,5686.4,0,5686.4,5686.4,1653.6,5686.4,1653.6,5686.4,5686.4,1653.6,{"$f":"_xlfn.XLOOKUP(F161,'Object Codes'!$A$18:$A$510,'Object Codes'!$H$18:$H$510)","v":"Contractual Services"},{"$f":"_xlfn.XLOOKUP(F161,'Object Codes'!$A$18:$A$510,'Object Codes'!$G$18:$G$510)","v":0},{"$f":"_xlfn.XLOOKUP(A161,Agencies!$A$9:$A$146,Agencies!$B$9:$B$146)","v":"General Government"},{"$f":"IF(_xlfn.XLOOKUP(A161,Agencies!A:A,Agencies!D:D)=\"Y\",IF(_xlfn.XLOOKUP(F161,'Object Codes'!A:A,'Object Codes'!I:I)=\"Y\",\"Y\",\"N\"),\"N\")","v":"Y"},{"$f":"VLOOKUP(F161,'Object Codes'!$A:$C,3,0)","v":"Printing Services - Contractual"},{"$f":"VLOOKUP(A161,Agencies!A:C,3,0)","v":"Mayoralty"},15.579178082191779]
["002",2022,"001","021","0220","622",0,0,0,0,1400,0,0,0,0,0,1370,0,1370,1370,30,1370,30,1370,1370,30,{"$f":"_xlfn.XLOOKUP(F162,'Object Codes'!$A$18:$A$510,'Object Codes'!$H$18:$H$510)","v":"Contractual Services"},{"$f":"_xlfn.XLOOKUP(F162,'Object Codes'!$A$18:$A$510,'Object Codes'!$G$18:$G$510)","v":0},{"$f":"_xlfn.XLOOKUP(A162,Agencies!$A$9:$A$146,Agencies!$B$9:$B$146)","v":"General Government"},{"$f":"IF(_xlfn.XLOOKUP(A162,Agencies!A:A,Agencies!D:D)=\"Y\",IF(_xlfn.XLOOKUP(F162,'Object Codes'!A:A,'Object Codes'!I:I)=\"Y\",\"Y\",\"N\"),\"N\")","v":"Y"},{"$f":"VLOOKUP(F162,'Object Codes'!$A:$C,3,0)","v":"Temporary Services - Contractual"},{"$f":"VLOOKUP(A162,Agencies!A:C,3,0)","v":"Mayoralty"},3.7534246575342465]
["002",2022,"001","021","0222","100",0,0,0,5000,0,0,0,0,0,0,0,0,0,0,0,0,0,0,0,0,{"$f":"_xlfn.XLOOKUP(F163,'Object Codes'!$A$18:$A$510,'Object Codes'!$H$18:$H$510)","v":"Supplies & Materials"},{"$f":"_xlfn.XLOOKUP(F163,'Object Codes'!$A$18:$A$510,'Object Codes'!$G$18:$G$510)","v":"A"},{"$f":"_xlfn.XLOOKUP(A163,Agencies!$A$9:$A$146,Agencies!$B$9:$B$146)","v":"General Government"},{"$f":"IF(_xlfn.XLOOKUP(A163,Agencies!A:A,Agencies!D:D)=\"Y\",IF(_xlfn.XLOOKUP(F163,'Object Codes'!A:A,'Object Codes'!I:I)=\"Y\",\"Y\",\"N\"),\"N\")","v":"Y"},{"$f":"VLOOKUP(F163,'Object Codes'!$A:$C,3,0)","v":"Supplies and Materials - General"},{"$f":"VLOOKUP(A163,Agencies!A:C,3,0)","v":"Mayoralty"},0]
["002",2022,"001","021","0222","337",0,0,0,0,2100,0,0,0,0,0,1341.08,0,1341.08,1341.08,758.92,1341.08,758.92,1341.08,1341.08,758.92,{"$f":"_xlfn.XLOOKUP(F164,'Object Codes'!$A$18:$A$510,'Object Codes'!$H$18:$H$510)","v":"Equipment"},{"$f":"_xlfn.XLOOKUP(F164,'Object Codes'!$A$18:$A$510,'Object Codes'!$G$18:$G$510)","v":"A"},{"$f":"_xlfn.XLOOKUP(A164,Agencies!$A$9:$A$146,Agencies!$B$9:$B$146)","v":"General Government"},{"$f":"IF(_xlfn.XLOOKUP(A164,Agencies!A:A,Agencies!D:D)=\"Y\",IF(_xlfn.XLOOKUP(F164,'Object Codes'!A:A,'Object Codes'!I:I)=\"Y\",\"Y\",\"N\"),\"N\")","v":"Y"},{"$f":"VLOOKUP(F164,'Object Codes'!$A:$C,3,0)","v":"Books - Other"},{"$f":"VLOOKUP(A164,Agencies!A:C,3,0)","v":"Mayoralty"},3.6741917808219178]
["002",2022,"001","021","0222","451",0,0,0,0,500,0,0,0,0,0,305.20999999999998,0,305.20999999999998,305.20999999999998,194.79,305.20999999999998,194.79,305.20999999999998,305.20999999999998,194.79,{"$f":"_xlfn.XLOOKUP(F165,'Object Codes'!$A$18:$A$510,'Object Codes'!$H$18:$H$510)","v":"Other Services and Charges - General"},{"$f":"_xlfn.XLOOKUP(F165,'Object Codes'!$A$18:$A$510,'Object Codes'!$G$18:$G$510)","v":0},{"$f":"_xlfn.XLOOKUP(A165,Agencies!$A$9:$A$146,Agencies!$B$9:$B$146)","v":"General Government"},{"$f":"IF(_xlfn.XLOOKUP(A165,Agencies!A:A,Agencies!D:D)=\"Y\",IF(_xlfn.XLOOKUP(F165,'Object Codes'!A:A,'Object Codes'!I:I)=\"Y\",\"Y\",\"N\"),\"N\")","v":"Y"},{"$f":"VLOOKUP(F165,'Object Codes'!$A:$C,3,0)","v":"Non Overnight Travel Expenditures - General"},{"$f":"VLOOKUP(A165,Agencies!A:C,3,0)","v":"Mayoralty"},0.83619178082191781]
["002",2022,"001","021","0222","453",0,0,0,5000,1160,0,0,0,0,0,609.1,475,1084.0999999999999,1084.0999999999999,75.900000000000006,1084.0999999999999,75.900000000000006,1084.0999999999999,1084.0999999999999,75.900000000000006,{"$f":"_xlfn.XLOOKUP(F166,'Object Codes'!$A$18:$A$510,'Object Codes'!$H$18:$H$510)","v":"Other Services and Charges - General"},{"$f":"_xlfn.XLOOKUP(F166,'Object Codes'!$A$18:$A$510,'Object Codes'!$G$18:$G$510)","v":0},{"$f":"_xlfn.XLOOKUP(A166,Agencies!$A$9:$A$146,Agencies!$B$9:$B$146)","v":"General Government"},{"$f":"IF(_xlfn.XLOOKUP(A166,Agencies!A:A,Agencies!D:D)=\"Y\",IF(_xlfn.XLOOKUP(F166,'Object Codes'!A:A,'Object Codes'!I:I)=\"Y\",\"Y\",\"N\"),\"N\")","v":"Y"},{"$f":"VLOOKUP(F166,'Object Codes'!$A:$C,3,0)","v":"Overnight Travel Expenditures - General"},{"$f":"VLOOKUP(A166,Agencies!A:C,3,0)","v":"Mayoralty"},2.9701369863013696]
["002",2022,"001","021","0222","454",0,0,0,0,1200,0,0,0,0,0,523.11,0,523.11,523.11,676.89,523.11,676.89,523.11,523.11,676.89,{"$f":"_xlfn.XLOOKUP(F167,'Object Codes'!$A$18:$A$510,'Object Codes'!$H$18:$H$510)","v":"Other Services and Charges - General"},{"$f":"_xlfn.XLOOKUP(F167,'Object Codes'!$A$18:$A$510,'Object Codes'!$G$18:$G$510)","v":0},{"$f":"_xlfn.XLOOKUP(A167,Agencies!$A$9:$A$146,Agencies!$B$9:$B$146)","v":"General Government"},{"$f":"IF(_xlfn.XLOOKUP(A167,Agencies!A:A,Agencies!D:D)=\"Y\",IF(_xlfn.XLOOKUP(F167,'Object Codes'!A:A,'Object Codes'!I:I)=\"Y\",\"Y\",\"N\"),\"N\")","v":"Y"},{"$f":"VLOOKUP(F167,'Object Codes'!$A:$C,3,0)","v":"Overnight Travel Expenditures - Special"},{"$f":"VLOOKUP(A167,Agencies!A:C,3,0)","v":"Mayoralty"},1.4331780821917808]
["002",2022,"001","021","0222","686",0,0,0,0,57040,0,0,0,0,0,62000,0,62000,62000,-4960,62000,-4960,62000,62000,-4960,{"$f":"_xlfn.XLOOKUP(F168,'Object Codes'!$A$18:$A$510,'Object Codes'!$H$18:$H$510)","v":"Contractual Services"},{"$f":"_xlfn.XLOOKUP(F168,'Object Codes'!$A$18:$A$510,'Object Codes'!$G$18:$G$510)","v":0},{"$f":"_xlfn.XLOOKUP(A168,Agencies!$A$9:$A$146,Agencies!$B$9:$B$146)","v":"General Government"},{"$f":"IF(_xlfn.XLOOKUP(A168,Agencies!A:A,Agencies!D:D)=\"Y\",IF(_xlfn.XLOOKUP(F168,'Object Codes'!A:A,'Object Codes'!I:I)=\"Y\",\"Y\",\"N\"),\"N\")","v":"Y"},{"$f":"VLOOKUP(F168,'Object Codes'!$A:$C,3,0)","v":"Professional Services - Other - Contractual"},{"$f":"VLOOKUP(A168,Agencies!A:C,3,0)","v":"Mayoralty"},169.86301369863014]
["002",2022,"001","021","0225","453",0,0,0,0,5200,0,0,0,0,0,3413.82,0,3413.82,3413.82,1786.18,3413.82,1786.18,3413.82,3413.82,1786.18,{"$f":"_xlfn.XLOOKUP(F169,'Object Codes'!$A$18:$A$510,'Object Codes'!$H$18:$H$510)","v":"Other Services and Charges - General"},{"$f":"_xlfn.XLOOKUP(F169,'Object Codes'!$A$18:$A$510,'Object Codes'!$G$18:$G$510)","v":0},{"$f":"_xlfn.XLOOKUP(A169,Agencies!$A$9:$A$146,Agencies!$B$9:$B$146)","v":"General Government"},{"$f":"IF(_xlfn.XLOOKUP(A169,Agencies!A:A,Agencies!D:D)=\"Y\",IF(_xlfn.XLOOKUP(F169,'Object Codes'!A:A,'Object Codes'!I:I)=\"Y\",\"Y\",\"N\"),\"N\")","v":"Y"},{"$f":"VLOOKUP(F169,'Object Codes'!$A:$C,3,0)","v":"Overnight Travel Expenditures - General"},{"$f":"VLOOKUP(A169,Agencies!A:C,3,0)","v":"Mayoralty"},9.3529315068493162]
["002",2022,"001","021","0225","454",0,0,0,0,7700,0,0,0,0,0,4177.24,0,4177.24,4177.24,3522.76,4177.24,3522.76,4177.24,4177.24,3522.76,{"$f":"_xlfn.XLOOKUP(F170,'Object Codes'!$A$18:$A$510,'Object Codes'!$H$18:$H$510)","v":"Other Services and Charges - General"},{"$f":"_xlfn.XLOOKUP(F170,'Object Codes'!$A$18:$A$510,'Object Codes'!$G$18:$G$510)","v":0},{"$f":"_xlfn.XLOOKUP(A170,Agencies!$A$9:$A$146,Agencies!$B$9:$B$146)","v":"General Government"},{"$f":"IF(_xlfn.XLOOKUP(A170,Agencies!A:A,Agencies!D:D)=\"Y\",IF(_xlfn.XLOOKUP(F170,'Object Codes'!A:A,'Object Codes'!I:I)=\"Y\",\"Y\",\"N\"),\"N\")","v":"Y"},{"$f":"VLOOKUP(F170,'Object Codes'!$A:$C,3,0)","v":"Overnight Travel Expenditures - Special"},{"$f":"VLOOKUP(A170,Agencies!A:C,3,0)","v":"Mayoralty"},11.444493150684931]
["002",2022,"001","021","0226","100",0,0,0,4135,1335,0,0,0,0,0,0,0,0,0,1335,0,1335,0,0,1335,{"$f":"_xlfn.XLOOKUP(F171,'Object Codes'!$A$18:$A$510,'Object Codes'!$H$18:$H$510)","v":"Supplies & Materials"},{"$f":"_xlfn.XLOOKUP(F171,'Object Codes'!$A$18:$A$510,'Object Codes'!$G$18:$G$510)","v":"A"},{"$f":"_xlfn.XLOOKUP(A171,Agencies!$A$9:$A$146,Agencies!$B$9:$B$146)","v":"General Government"},{"$f":"IF(_xlfn.XLOOKUP(A171,Agencies!A:A,Agencies!D:D)=\"Y\",IF(_xlfn.XLOOKUP(F171,'Object Codes'!A:A,'Object Codes'!I:I)=\"Y\",\"Y\",\"N\"),\"N\")","v":"Y"},{"$f":"VLOOKUP(F171,'Object Codes'!$A:$C,3,0)","v":"Supplies and Materials - General"},{"$f":"VLOOKUP(A171,Agencies!A:C,3,0)","v":"Mayoralty"},0]
["002",2022,"001","021","0226","300",0,0,0,0,21200,0,0,0,0,0,14275.09,0,14275.09,14275.09,6924.91,14275.09,6924.91,14275.09,14275.09,6924.91,{"$f":"_xlfn.XLOOKUP(F172,'Object Codes'!$A$18:$A$510,'Object Codes'!$H$18:$H$510)","v":"Equipment"},{"$f":"_xlfn.XLOOKUP(F172,'Object Codes'!$A$18:$A$510,'Object Codes'!$G$18:$G$510)","v":"A"},{"$f":"_xlfn.XLOOKUP(A172,Agencies!$A$9:$A$146,Agencies!$B$9:$B$146)","v":"General Government"},{"$f":"IF(_xlfn.XLOOKUP(A172,Agencies!A:A,Agencies!D:D)=\"Y\",IF(_xlfn.XLOOKUP(F172,'Object Codes'!A:A,'Object Codes'!I:I)=\"Y\",\"Y\",\"N\"),\"N\")","v":"Y"},{"$f":"VLOOKUP(F172,'Object Codes'!$A:$C,3,0)","v":"Equipment - General"},{"$f":"VLOOKUP(A172,Agencies!A:C,3,0)","v":"Mayoralty"},39.109835616438353]
["002",2022,"001","021","0226","337",0,0,0,0,700,0,0,0,0,0,635.34,0,635.34,635.34,64.66,635.34,64.66,635.34,635.34,64.66,{"$f":"_xlfn.XLOOKUP(F173,'Object Codes'!$A$18:$A$510,'Object Codes'!$H$18:$H$510)","v":"Equipment"},{"$f":"_xlfn.XLOOKUP(F173,'Object Codes'!$A$18:$A$510,'Object Codes'!$G$18:$G$510)","v":"A"},{"$f":"_xlfn.XLOOKUP(A173,Agencies!$A$9:$A$146,Agencies!$B$9:$B$146)","v":"General Government"},{"$f":"IF(_xlfn.XLOOKUP(A173,Agencies!A:A,Agencies!D:D)=\"Y\",IF(_xlfn.XLOOKUP(F173,'Object Codes'!A:A,'Object Codes'!I:I)=\"Y\",\"Y\",\"N\"),\"N\")","v":"Y"},{"$f":"VLOOKUP(F173,'Object Codes'!$A:$C,3,0)","v":"Books - Other"},{"$f":"VLOOKUP(A173,Agencies!A:C,3,0)","v":"Mayoralty"},1.7406575342465753]
["002",2022,"001","021","0226","451",0,0,0,0,2000,0,0,0,0,0,70.67,0,70.67,70.67,1929.33,70.67,1929.33,70.67,70.67,1929.33,{"$f":"_xlfn.XLOOKUP(F174,'Object Codes'!$A$18:$A$510,'Object Codes'!$H$18:$H$510)","v":"Other Services and Charges - General"},{"$f":"_xlfn.XLOOKUP(F174,'Object Codes'!$A$18:$A$510,'Object Codes'!$G$18:$G$510)","v":0},{"$f":"_xlfn.XLOOKUP(A174,Agencies!$A$9:$A$146,Agencies!$B$9:$B$146)","v":"General Government"},{"$f":"IF(_xlfn.XLOOKUP(A174,Agencies!A:A,Agencies!D:D)=\"Y\",IF(_xlfn.XLOOKUP(F174,'Object Codes'!A:A,'Object Codes'!I:I)=\"Y\",\"Y\",\"N\"),\"N\")","v":"Y"},{"$f":"VLOOKUP(F174,'Object Codes'!$A:$C,3,0)","v":"Non Overnight Travel Expenditures - General"},{"$f":"VLOOKUP(A174,Agencies!A:C,3,0)","v":"Mayoralty"},0.19361643835616438]
["002",2022,"001","021","0226","453",0,0,0,5865,65,0,0,0,0,0,0,0,0,0,65,0,65,0,0,65,{"$f":"_xlfn.XLOOKUP(F175,'Object Codes'!$A$18:$A$510,'Object Codes'!$H$18:$H$510)","v":"Other Services and Charges - General"},{"$f":"_xlfn.XLOOKUP(F175,'Object Codes'!$A$18:$A$510,'Object Codes'!$G$18:$G$510)","v":0},{"$f":"_xlfn.XLOOKUP(A175,Agencies!$A$9:$A$146,Agencies!$B$9:$B$146)","v":"General Government"},{"$f":"IF(_xlfn.XLOOKUP(A175,Agencies!A:A,Agencies!D:D)=\"Y\",IF(_xlfn.XLOOKUP(F175,'Object Codes'!A:A,'Object Codes'!I:I)=\"Y\",\"Y\",\"N\"),\"N\")","v":"Y"},{"$f":"VLOOKUP(F175,'Object Codes'!$A:$C,3,0)","v":"Overnight Travel Expenditures - General"},{"$f":"VLOOKUP(A175,Agencies!A:C,3,0)","v":"Mayoralty"},0]
["002",2022,"001","021","0226","454",0,0,0,0,3000,0,0,0,0,0,2202.1,0,2202.1,2202.1,797.9,2202.1,797.9,2202.1,2202.1,797.9,{"$f":"_xlfn.XLOOKUP(F176,'Object Codes'!$A$18:$A$510,'Object Codes'!$H$18:$H$510)","v":"Other Services and Charges - General"},{"$f":"_xlfn.XLOOKUP(F176,'Object Codes'!$A$18:$A$510,'Object Codes'!$G$18:$G$510)","v":0},{"$f":"_xlfn.XLOOKUP(A176,Agencies!$A$9:$A$146,Agencies!$B$9:$B$146)","v":"General Government"},{"$f":"IF(_xlfn.XLOOKUP(A176,Agencies!A:A,Agencies!D:D)=\"Y\",IF(_xlfn.XLOOKUP(F176,'Object Codes'!A:A,'Object Codes'!I:I)=\"Y\",\"Y\",\"N\"),\"N\")","v":"Y"},{"$f":"VLOOKUP(F176,'Object Codes'!$A:$C,3,0)","v":"Overnight Travel Expenditures - Special"},{"$f":"VLOOKUP(A176,Agencies!A:C,3,0)","v":"Mayoralty"},6.0331506849315062]
["002",2022,"001","021","0228","117",0,0,0,0,35000,0,0,0,0,0,34416.080000000002,0,34416.080000000002,34416.080000000002,583.91999999999996,34416.080000000002,583.91999999999996,34416.080000000002,34416.080000000002,583.91999999999996,{"$f":"_xlfn.XLOOKUP(F177,'Object Codes'!$A$18:$A$510,'Object Codes'!$H$18:$H$510)","v":"Supplies & Materials"},{"$f":"_xlfn.XLOOKUP(F177,'Object Codes'!$A$18:$A$510,'Object Codes'!$G$18:$G$510)","v":"A"},{"$f":"_xlfn.XLOOKUP(A177,Agencies!$A$9:$A$146,Agencies!$B$9:$B$146)","v":"General Government"},{"$f":"IF(_xlfn.XLOOKUP(A177,Agencies!A:A,Agencies!D:D)=\"Y\",IF(_xlfn.XLOOKUP(F177,'Object Codes'!A:A,'Object Codes'!I:I)=\"Y\",\"Y\",\"N\"),\"N\")","v":"Y"},{"$f":"VLOOKUP(F177,'Object Codes'!$A:$C,3,0)","v":"Postage"},{"$f":"VLOOKUP(A177,Agencies!A:C,3,0)","v":"Mayoralty"},94.290630136986309]
["002",2022,"001","021","0228","300",0,0,0,110000,43920,0,0,0,0,0,0,0,0,0,43920,0,43920,0,0,43920,{"$f":"_xlfn.XLOOKUP(F178,'Object Codes'!$A$18:$A$510,'Object Codes'!$H$18:$H$510)","v":"Equipment"},{"$f":"_xlfn.XLOOKUP(F178,'Object Codes'!$A$18:$A$510,'Object Codes'!$G$18:$G$510)","v":"A"},{"$f":"_xlfn.XLOOKUP(A178,Agencies!$A$9:$A$146,Agencies!$B$9:$B$146)","v":"General Government"},{"$f":"IF(_xlfn.XLOOKUP(A178,Agencies!A:A,Agencies!D:D)=\"Y\",IF(_xlfn.XLOOKUP(F178,'Object Codes'!A:A,'Object Codes'!I:I)=\"Y\",\"Y\",\"N\"),\"N\")","v":"Y"},{"$f":"VLOOKUP(F178,'Object Codes'!$A:$C,3,0)","v":"Equipment - General"},{"$f":"VLOOKUP(A178,Agencies!A:C,3,0)","v":"Mayoralty"},0]
["002",2022,"001","021","0228","451",0,0,0,0,1000,0,0,0,0,0,0,0,0,0,1000,0,1000,0,0,1000,{"$f":"_xlfn.XLOOKUP(F179,'Object Codes'!$A$18:$A$510,'Object Codes'!$H$18:$H$510)","v":"Other Services and Charges - General"},{"$f":"_xlfn.XLOOKUP(F179,'Object Codes'!$A$18:$A$510,'Object Codes'!$G$18:$G$510)","v":0},{"$f":"_xlfn.XLOOKUP(A179,Agencies!$A$9:$A$146,Agencies!$B$9:$B$146)","v":"General Government"},{"$f":"IF(_xlfn.XLOOKUP(A179,Agencies!A:A,Agencies!D:D)=\"Y\",IF(_xlfn.XLOOKUP(F179,'Object Codes'!A:A,'Object Codes'!I:I)=\"Y\",\"Y\",\"N\"),\"N\")","v":"Y"},{"$f":"VLOOKUP(F179,'Object Codes'!$A:$C,3,0)","v":"Non Overnight Travel Expenditures - General"},{"$f":"VLOOKUP(A179,Agencies!A:C,3,0)","v":"Mayoralty"},0]
["002",2022,"001","021","0228","454",0,0,0,0,1000,0,0,0,0,0,670.56,0,670.56,670.56,329.44,670.56,329.44,670.56,670.56,329.44,{"$f":"_xlfn.XLOOKUP(F180,'Object Codes'!$A$18:$A$510,'Object Codes'!$H$18:$H$510)","v":"Other Services and Charges - General"},{"$f":"_xlfn.XLOOKUP(F180,'Object Codes'!$A$18:$A$510,'Object Codes'!$G$18:$G$510)","v":0},{"$f":"_xlfn.XLOOKUP(A180,Agencies!$A$9:$A$146,Agencies!$B$9:$B$146)","v":"General Government"},{"$f":"IF(_xlfn.XLOOKUP(A180,Agencies!A:A,Agencies!D:D)=\"Y\",IF(_xlfn.XLOOKUP(F180,'Object Codes'!A:A,'Object Codes'!I:I)=\"Y\",\"Y\",\"N\"),\"N\")","v":"Y"},{"$f":"VLOOKUP(F180,'Object Codes'!$A:$C,3,0)","v":"Overnight Travel Expenditures - Special"},{"$f":"VLOOKUP(A180,Agencies!A:C,3,0)","v":"Mayoralty"},1.8371506849315067]
["002",2022,"001","021","0228","600",0,0,0,0,12000,0,0,0,0,0,10600,0,10600,10600,1400,10600,1400,10600,10600,1400,{"$f":"_xlfn.XLOOKUP(F181,'Object Codes'!$A$18:$A$510,'Object Codes'!$H$18:$H$510)","v":"Contractual Services"},{"$f":"_xlfn.XLOOKUP(F181,'Object Codes'!$A$18:$A$510,'Object Codes'!$G$18:$G$510)","v":0},{"$f":"_xlfn.XLOOKUP(A181,Agencies!$A$9:$A$146,Agencies!$B$9:$B$146)","v":"General Government"},{"$f":"IF(_xlfn.XLOOKUP(A181,Agencies!A:A,Agencies!D:D)=\"Y\",IF(_xlfn.XLOOKUP(F181,'Object Codes'!A:A,'Object Codes'!I:I)=\"Y\",\"Y\",\"N\"),\"N\")","v":"Y"},{"$f":"VLOOKUP(F181,'Object Codes'!$A:$C,3,0)","v":"Contractual Services - General"},{"$f":"VLOOKUP(A181,Agencies!A:C,3,0)","v":"Mayoralty"},29.041095890410958]
["002",2022,"001","021","0228","615",0,0,0,0,7080,0,0,0,0,0,6493.6,0,6493.6,6493.6,586.4,6493.6,586.4,6493.6,6493.6,586.4,{"$f":"_xlfn.XLOOKUP(F182,'Object Codes'!$A$18:$A$510,'Object Codes'!$H$18:$H$510)","v":"Contractual Services"},{"$f":"_xlfn.XLOOKUP(F182,'Object Codes'!$A$18:$A$510,'Object Codes'!$G$18:$G$510)","v":0},{"$f":"_xlfn.XLOOKUP(A182,Agencies!$A$9:$A$146,Agencies!$B$9:$B$146)","v":"General Government"},{"$f":"IF(_xlfn.XLOOKUP(A182,Agencies!A:A,Agencies!D:D)=\"Y\",IF(_xlfn.XLOOKUP(F182,'Object Codes'!A:A,'Object Codes'!I:I)=\"Y\",\"Y\",\"N\"),\"N\")","v":"Y"},{"$f":"VLOOKUP(F182,'Object Codes'!$A:$C,3,0)","v":"Printing Services - Contractual"},{"$f":"VLOOKUP(A182,Agencies!A:C,3,0)","v":"Mayoralty"},17.790684931506849]
["002",2022,"001","021","0229","100",0,0,0,5000,30,0,0,0,0,0,5.99,0,5.99,5.99,24.01,5.99,24.01,5.99,5.99,24.01,{"$f":"_xlfn.XLOOKUP(F183,'Object Codes'!$A$18:$A$510,'Object Codes'!$H$18:$H$510)","v":"Supplies & Materials"},{"$f":"_xlfn.XLOOKUP(F183,'Object Codes'!$A$18:$A$510,'Object Codes'!$G$18:$G$510)","v":"A"},{"$f":"_xlfn.XLOOKUP(A183,Agencies!$A$9:$A$146,Agencies!$B$9:$B$146)","v":"General Government"},{"$f":"IF(_xlfn.XLOOKUP(A183,Agencies!A:A,Agencies!D:D)=\"Y\",IF(_xlfn.XLOOKUP(F183,'Object Codes'!A:A,'Object Codes'!I:I)=\"Y\",\"Y\",\"N\"),\"N\")","v":"Y"},{"$f":"VLOOKUP(F183,'Object Codes'!$A:$C,3,0)","v":"Supplies and Materials - General"},{"$f":"VLOOKUP(A183,Agencies!A:C,3,0)","v":"Mayoralty"},1.6410958904109589E-2]
["002",2022,"001","021","0229","337",0,0,0,0,9080,0,0,0,0,0,8981.32,0,8981.32,8981.32,98.68,8981.32,98.68,8981.32,8981.32,98.68,{"$f":"_xlfn.XLOOKUP(F184,'Object Codes'!$A$18:$A$510,'Object Codes'!$H$18:$H$510)","v":"Equipment"},{"$f":"_xlfn.XLOOKUP(F184,'Object Codes'!$A$18:$A$510,'Object Codes'!$G$18:$G$510)","v":"A"},{"$f":"_xlfn.XLOOKUP(A184,Agencies!$A$9:$A$146,Agencies!$B$9:$B$146)","v":"General Government"},{"$f":"IF(_xlfn.XLOOKUP(A184,Agencies!A:A,Agencies!D:D)=\"Y\",IF(_xlfn.XLOOKUP(F184,'Object Codes'!A:A,'Object Codes'!I:I)=\"Y\",\"Y\",\"N\"),\"N\")","v":"Y"},{"$f":"VLOOKUP(F184,'Object Codes'!$A:$C,3,0)","v":"Books - Other"},{"$f":"VLOOKUP(A184,Agencies!A:C,3,0)","v":"Mayoralty"},24.606356164383559]
["002",2022,"001","021","0229","403",0,0,0,0,1020,0,0,0,0,0,750,0,750,750,270,750,270,750,750,270,{"$f":"_xlfn.XLOOKUP(F185,'Object Codes'!$A$18:$A$510,'Object Codes'!$H$18:$H$510)","v":"Other Services and Charges - General"},{"$f":"_xlfn.XLOOKUP(F185,'Object Codes'!$A$18:$A$510,'Object Codes'!$G$18:$G$510)","v":0},{"$f":"_xlfn.XLOOKUP(A185,Agencies!$A$9:$A$146,Agencies!$B$9:$B$146)","v":"General Government"},{"$f":"IF(_xlfn.XLOOKUP(A185,Agencies!A:A,Agencies!D:D)=\"Y\",IF(_xlfn.XLOOKUP(F185,'Object Codes'!A:A,'Object Codes'!I:I)=\"Y\",\"Y\",\"N\"),\"N\")","v":"Y"},{"$f":"VLOOKUP(F185,'Object Codes'!$A:$C,3,0)","v":"Office Services"},{"$f":"VLOOKUP(A185,Agencies!A:C,3,0)","v":"Mayoralty"},2.0547945205479454]
["002",2022,"001","021","0229","417",0,0,0,0,1100,0,0,0,0,0,1095,0,1095,1095,5,1095,5,1095,1095,5,{"$f":"_xlfn.XLOOKUP(F186,'Object Codes'!$A$18:$A$510,'Object Codes'!$H$18:$H$510)","v":"Other Services and Charges - General"},{"$f":"_xlfn.XLOOKUP(F186,'Object Codes'!$A$18:$A$510,'Object Codes'!$G$18:$G$510)","v":0},{"$f":"_xlfn.XLOOKUP(A186,Agencies!$A$9:$A$146,Agencies!$B$9:$B$146)","v":"General Government"},{"$f":"IF(_xlfn.XLOOKUP(A186,Agencies!A:A,Agencies!D:D)=\"Y\",IF(_xlfn.XLOOKUP(F186,'Object Codes'!A:A,'Object Codes'!I:I)=\"Y\",\"Y\",\"N\"),\"N\")","v":"Y"},{"$f":"VLOOKUP(F186,'Object Codes'!$A:$C,3,0)","v":"Advertising"},{"$f":"VLOOKUP(A186,Agencies!A:C,3,0)","v":"Mayoralty"},3]
["002",2022,"001","021","0229","453",0,0,0,0,1010,0,0,0,0,0,982.2,0,982.2,982.2,27.8,982.2,27.8,982.2,982.2,27.8,{"$f":"_xlfn.XLOOKUP(F187,'Object Codes'!$A$18:$A$510,'Object Codes'!$H$18:$H$510)","v":"Other Services and Charges - General"},{"$f":"_xlfn.XLOOKUP(F187,'Object Codes'!$A$18:$A$510,'Object Codes'!$G$18:$G$510)","v":0},{"$f":"_xlfn.XLOOKUP(A187,Agencies!$A$9:$A$146,Agencies!$B$9:$B$146)","v":"General Government"},{"$f":"IF(_xlfn.XLOOKUP(A187,Agencies!A:A,Agencies!D:D)=\"Y\",IF(_xlfn.XLOOKUP(F187,'Object Codes'!A:A,'Object Codes'!I:I)=\"Y\",\"Y\",\"N\"),\"N\")","v":"Y"},{"$f":"VLOOKUP(F187,'Object Codes'!$A:$C,3,0)","v":"Overnight Travel Expenditures - General"},{"$f":"VLOOKUP(A187,Agencies!A:C,3,0)","v":"Mayoralty"},2.6909589041095892]
["002",2022,"001","021","0230","100",0,0,0,1000,0,0,0,0,0,0,0,0,0,0,0,0,0,0,0,0,{"$f":"_xlfn.XLOOKUP(F188,'Object Codes'!$A$18:$A$510,'Object Codes'!$H$18:$H$510)","v":"Supplies & Materials"},{"$f":"_xlfn.XLOOKUP(F188,'Object Codes'!$A$18:$A$510,'Object Codes'!$G$18:$G$510)","v":"A"},{"$f":"_xlfn.XLOOKUP(A188,Agencies!$A$9:$A$146,Agencies!$B$9:$B$146)","v":"General Government"},{"$f":"IF(_xlfn.XLOOKUP(A188,Agencies!A:A,Agencies!D:D)=\"Y\",IF(_xlfn.XLOOKUP(F188,'Object Codes'!A:A,'Object Codes'!I:I)=\"Y\",\"Y\",\"N\"),\"N\")","v":"Y"},{"$f":"VLOOKUP(F188,'Object Codes'!$A:$C,3,0)","v":"Supplies and Materials - General"},{"$f":"VLOOKUP(A188,Agencies!A:C,3,0)","v":"Mayoralty"},0]
["002",2022,"001","021","0230","337",0,0,0,0,1800,0,0,0,0,0,1800,0,1800,1800,0,1800,0,1800,1800,0,{"$f":"_xlfn.XLOOKUP(F189,'Object Codes'!$A$18:$A$510,'Object Codes'!$H$18:$H$510)","v":"Equipment"},{"$f":"_xlfn.XLOOKUP(F189,'Object Codes'!$A$18:$A$510,'Object Codes'!$G$18:$G$510)","v":"A"},{"$f":"_xlfn.XLOOKUP(A189,Agencies!$A$9:$A$146,Agencies!$B$9:$B$146)","v":"General Government"},{"$f":"IF(_xlfn.XLOOKUP(A189,Agencies!A:A,Agencies!D:D)=\"Y\",IF(_xlfn.XLOOKUP(F189,'Object Codes'!A:A,'Object Codes'!I:I)=\"Y\",\"Y\",\"N\"),\"N\")","v":"Y"},{"$f":"VLOOKUP(F189,'Object Codes'!$A:$C,3,0)","v":"Books - Other"},{"$f":"VLOOKUP(A189,Agencies!A:C,3,0)","v":"Mayoralty"},4.9315068493150687]
["002",2022,"001","021","0235","403",0,0,0,0,620,0,0,0,0,0,552.94000000000005,0,552.94000000000005,552.94000000000005,67.06,552.94000000000005,67.06,552.94000000000005,552.94000000000005,67.06,{"$f":"_xlfn.XLOOKUP(F190,'Object Codes'!$A$18:$A$510,'Object Codes'!$H$18:$H$510)","v":"Other Services and Charges - General"},{"$f":"_xlfn.XLOOKUP(F190,'Object Codes'!$A$18:$A$510,'Object Codes'!$G$18:$G$510)","v":0},{"$f":"_xlfn.XLOOKUP(A190,Agencies!$A$9:$A$146,Agencies!$B$9:$B$146)","v":"General Government"},{"$f":"IF(_xlfn.XLOOKUP(A190,Agencies!A:A,Agencies!D:D)=\"Y\",IF(_xlfn.XLOOKUP(F190,'Object Codes'!A:A,'Object Codes'!I:I)=\"Y\",\"Y\",\"N\"),\"N\")","v":"Y"},{"$f":"VLOOKUP(F190,'Object Codes'!$A:$C,3,0)","v":"Office Services"},{"$f":"VLOOKUP(A190,Agencies!A:C,3,0)","v":"Mayoralty"},1.5149041095890412]
["002",2022,"001","021","0235","453",0,0,0,0,3000,0,0,0,0,0,1839.36,0,1839.36,1839.36,1160.6400000000001,1839.36,1160.6400000000001,1839.36,1839.36,1160.6400000000001,{"$f":"_xlfn.XLOOKUP(F191,'Object Codes'!$A$18:$A$510,'Object Codes'!$H$18:$H$510)","v":"Other Services and Charges - General"},{"$f":"_xlfn.XLOOKUP(F191,'Object Codes'!$A$18:$A$510,'Object Codes'!$G$18:$G$510)","v":0},{"$f":"_xlfn.XLOOKUP(A191,Agencies!$A$9:$A$146,Agencies!$B$9:$B$146)","v":"General Government"},{"$f":"IF(_xlfn.XLOOKUP(A191,Agencies!A:A,Agencies!D:D)=\"Y\",IF(_xlfn.XLOOKUP(F191,'Object Codes'!A:A,'Object Codes'!I:I)=\"Y\",\"Y\",\"N\"),\"N\")","v":"Y"},{"$f":"VLOOKUP(F191,'Object Codes'!$A:$C,3,0)","v":"Overnight Travel Expenditures - General"},{"$f":"VLOOKUP(A191,Agencies!A:C,3,0)","v":"Mayoralty"},5.0393424657534247]
["002",2022,"001","021","0235","671",0,0,0,0,2600,0,0,0,0,0,2565,0,2565,2565,35,2565,35,2565,2565,35,{"$f":"_xlfn.XLOOKUP(F192,'Object Codes'!$A$18:$A$510,'Object Codes'!$H$18:$H$510)","v":"Contractual Services"},{"$f":"_xlfn.XLOOKUP(F192,'Object Codes'!$A$18:$A$510,'Object Codes'!$G$18:$G$510)","v":0},{"$f":"_xlfn.XLOOKUP(A192,Agencies!$A$9:$A$146,Agencies!$B$9:$B$146)","v":"General Government"},{"$f":"IF(_xlfn.XLOOKUP(A192,Agencies!A:A,Agencies!D:D)=\"Y\",IF(_xlfn.XLOOKUP(F192,'Object Codes'!A:A,'Object Codes'!I:I)=\"Y\",\"Y\",\"N\"),\"N\")","v":"Y"},{"$f":"VLOOKUP(F192,'Object Codes'!$A:$C,3,0)","v":"Training Program for City Employees - Contractual"},{"$f":"VLOOKUP(A192,Agencies!A:C,3,0)","v":"Mayoralty"},7.0273972602739727]
["002",2022,"001","021","0246","100",0,0,0,7200,5700,0,0,0,0,0,0,0,0,0,5700,0,5700,0,0,5700,{"$f":"_xlfn.XLOOKUP(F193,'Object Codes'!$A$18:$A$510,'Object Codes'!$H$18:$H$510)","v":"Supplies & Materials"},{"$f":"_xlfn.XLOOKUP(F193,'Object Codes'!$A$18:$A$510,'Object Codes'!$G$18:$G$510)","v":"A"},{"$f":"_xlfn.XLOOKUP(A193,Agencies!$A$9:$A$146,Agencies!$B$9:$B$146)","v":"General Government"},{"$f":"IF(_xlfn.XLOOKUP(A193,Agencies!A:A,Agencies!D:D)=\"Y\",IF(_xlfn.XLOOKUP(F193,'Object Codes'!A:A,'Object Codes'!I:I)=\"Y\",\"Y\",\"N\"),\"N\")","v":"Y"},{"$f":"VLOOKUP(F193,'Object Codes'!$A:$C,3,0)","v":"Supplies and Materials - General"},{"$f":"VLOOKUP(A193,Agencies!A:C,3,0)","v":"Mayoralty"},0]
["002",2022,"001","021","0246","453",0,0,0,0,500,0,0,0,0,0,327,0,327,327,173,327,173,327,327,173,{"$f":"_xlfn.XLOOKUP(F194,'Object Codes'!$A$18:$A$510,'Object Codes'!$H$18:$H$510)","v":"Other Services and Charges - General"},{"$f":"_xlfn.XLOOKUP(F194,'Object Codes'!$A$18:$A$510,'Object Codes'!$G$18:$G$510)","v":0},{"$f":"_xlfn.XLOOKUP(A194,Agencies!$A$9:$A$146,Agencies!$B$9:$B$146)","v":"General Government"},{"$f":"IF(_xlfn.XLOOKUP(A194,Agencies!A:A,Agencies!D:D)=\"Y\",IF(_xlfn.XLOOKUP(F194,'Object Codes'!A:A,'Object Codes'!I:I)=\"Y\",\"Y\",\"N\"),\"N\")","v":"Y"},{"$f":"VLOOKUP(F194,'Object Codes'!$A:$C,3,0)","v":"Overnight Travel Expenditures - General"},{"$f":"VLOOKUP(A194,Agencies!A:C,3,0)","v":"Mayoralty"},0.89589041095890409]
["002",2022,"001","021","0246","633",0,0,0,0,1000,0,0,0,0,0,677.47,0,677.47,677.47,322.52999999999997,677.47,322.52999999999997,677.47,677.47,322.52999999999997,{"$f":"_xlfn.XLOOKUP(F195,'Object Codes'!$A$18:$A$510,'Object Codes'!$H$18:$H$510)","v":"Contractual Services"},{"$f":"_xlfn.XLOOKUP(F195,'Object Codes'!$A$18:$A$510,'Object Codes'!$G$18:$G$510)","v":0},{"$f":"_xlfn.XLOOKUP(A195,Agencies!$A$9:$A$146,Agencies!$B$9:$B$146)","v":"General Government"},{"$f":"IF(_xlfn.XLOOKUP(A195,Agencies!A:A,Agencies!D:D)=\"Y\",IF(_xlfn.XLOOKUP(F195,'Object Codes'!A:A,'Object Codes'!I:I)=\"Y\",\"Y\",\"N\"),\"N\")","v":"Y"},{"$f":"VLOOKUP(F195,'Object Codes'!$A:$C,3,0)","v":"Transportation Services - Contractual"},{"$f":"VLOOKUP(A195,Agencies!A:C,3,0)","v":"Mayoralty"},1.8560821917808219]
["002",2022,"001","021","0250","100",0,0,0,3000,0,0,0,0,0,0,0,0,0,0,0,0,0,0,0,0,{"$f":"_xlfn.XLOOKUP(F196,'Object Codes'!$A$18:$A$510,'Object Codes'!$H$18:$H$510)","v":"Supplies & Materials"},{"$f":"_xlfn.XLOOKUP(F196,'Object Codes'!$A$18:$A$510,'Object Codes'!$G$18:$G$510)","v":"A"},{"$f":"_xlfn.XLOOKUP(A196,Agencies!$A$9:$A$146,Agencies!$B$9:$B$146)","v":"General Government"},{"$f":"IF(_xlfn.XLOOKUP(A196,Agencies!A:A,Agencies!D:D)=\"Y\",IF(_xlfn.XLOOKUP(F196,'Object Codes'!A:A,'Object Codes'!I:I)=\"Y\",\"Y\",\"N\"),\"N\")","v":"Y"},{"$f":"VLOOKUP(F196,'Object Codes'!$A:$C,3,0)","v":"Supplies and Materials - General"},{"$f":"VLOOKUP(A196,Agencies!A:C,3,0)","v":"Mayoralty"},0]
["002",2022,"001","021","0250","622",0,0,0,0,3000,0,0,0,0,0,3000,0,3000,3000,0,3000,0,3000,3000,0,{"$f":"_xlfn.XLOOKUP(F197,'Object Codes'!$A$18:$A$510,'Object Codes'!$H$18:$H$510)","v":"Contractual Services"},{"$f":"_xlfn.XLOOKUP(F197,'Object Codes'!$A$18:$A$510,'Object Codes'!$G$18:$G$510)","v":0},{"$f":"_xlfn.XLOOKUP(A197,Agencies!$A$9:$A$146,Agencies!$B$9:$B$146)","v":"General Government"},{"$f":"IF(_xlfn.XLOOKUP(A197,Agencies!A:A,Agencies!D:D)=\"Y\",IF(_xlfn.XLOOKUP(F197,'Object Codes'!A:A,'Object Codes'!I:I)=\"Y\",\"Y\",\"N\"),\"N\")","v":"Y"},{"$f":"VLOOKUP(F197,'Object Codes'!$A:$C,3,0)","v":"Temporary Services - Contractual"},{"$f":"VLOOKUP(A197,Agencies!A:C,3,0)","v":"Mayoralty"},8.2191780821917817]
["002",2022,"001","021","0264","100",0,0,0,592000,13662,0,0,0,0,0,390,0,390,390,13272,390,13272,390,390,13272,{"$f":"_xlfn.XLOOKUP(F198,'Object Codes'!$A$18:$A$510,'Object Codes'!$H$18:$H$510)","v":"Supplies & Materials"},{"$f":"_xlfn.XLOOKUP(F198,'Object Codes'!$A$18:$A$510,'Object Codes'!$G$18:$G$510)","v":"A"},{"$f":"_xlfn.XLOOKUP(A198,Agencies!$A$9:$A$146,Agencies!$B$9:$B$146)","v":"General Government"},{"$f":"IF(_xlfn.XLOOKUP(A198,Agencies!A:A,Agencies!D:D)=\"Y\",IF(_xlfn.XLOOKUP(F198,'Object Codes'!A:A,'Object Codes'!I:I)=\"Y\",\"Y\",\"N\"),\"N\")","v":"Y"},{"$f":"VLOOKUP(F198,'Object Codes'!$A:$C,3,0)","v":"Supplies and Materials - General"},{"$f":"VLOOKUP(A198,Agencies!A:C,3,0)","v":"Mayoralty"},1.0684931506849316]
["002",2022,"001","021","0264","337",0,0,0,0,22000,0,0,0,0,0,8509.94,0,8509.94,8509.94,13490.06,8509.94,13490.06,8509.94,8509.94,13490.06,{"$f":"_xlfn.XLOOKUP(F199,'Object Codes'!$A$18:$A$510,'Object Codes'!$H$18:$H$510)","v":"Equipment"},{"$f":"_xlfn.XLOOKUP(F199,'Object Codes'!$A$18:$A$510,'Object Codes'!$G$18:$G$510)","v":"A"},{"$f":"_xlfn.XLOOKUP(A199,Agencies!$A$9:$A$146,Agencies!$B$9:$B$146)","v":"General Government"},{"$f":"IF(_xlfn.XLOOKUP(A199,Agencies!A:A,Agencies!D:D)=\"Y\",IF(_xlfn.XLOOKUP(F199,'Object Codes'!A:A,'Object Codes'!I:I)=\"Y\",\"Y\",\"N\"),\"N\")","v":"Y"},{"$f":"VLOOKUP(F199,'Object Codes'!$A:$C,3,0)","v":"Books - Other"},{"$f":"VLOOKUP(A199,Agencies!A:C,3,0)","v":"Mayoralty"},23.314904109589044]
["002",2022,"001","021","0264","400",0,0,0,0,5000,0,0,0,0,0,985,0,985,985,4015,985,4015,985,985,4015,{"$f":"_xlfn.XLOOKUP(F200,'Object Codes'!$A$18:$A$510,'Object Codes'!$H$18:$H$510)","v":"Other Services and Charges - General"},{"$f":"_xlfn.XLOOKUP(F200,'Object Codes'!$A$18:$A$510,'Object Codes'!$G$18:$G$510)","v":0},{"$f":"_xlfn.XLOOKUP(A200,Agencies!$A$9:$A$146,Agencies!$B$9:$B$146)","v":"General Government"},{"$f":"IF(_xlfn.XLOOKUP(A200,Agencies!A:A,Agencies!D:D)=\"Y\",IF(_xlfn.XLOOKUP(F200,'Object Codes'!A:A,'Object Codes'!I:I)=\"Y\",\"Y\",\"N\"),\"N\")","v":"Y"},{"$f":"VLOOKUP(F200,'Object Codes'!$A:$C,3,0)","v":"Other Services and Charges - General"},{"$f":"VLOOKUP(A200,Agencies!A:C,3,0)","v":"Mayoralty"},2.6986301369863015]
["002",2022,"001","021","0264","412",0,0,0,0,1000,0,0,0,0,0,0,0,0,0,1000,0,1000,0,0,1000,{"$f":"_xlfn.XLOOKUP(F201,'Object Codes'!$A$18:$A$510,'Object Codes'!$H$18:$H$510)","v":"Other Services and Charges - General"},{"$f":"_xlfn.XLOOKUP(F201,'Object Codes'!$A$18:$A$510,'Object Codes'!$G$18:$G$510)","v":0},{"$f":"_xlfn.XLOOKUP(A201,Agencies!$A$9:$A$146,Agencies!$B$9:$B$146)","v":"General Government"},{"$f":"IF(_xlfn.XLOOKUP(A201,Agencies!A:A,Agencies!D:D)=\"Y\",IF(_xlfn.XLOOKUP(F201,'Object Codes'!A:A,'Object Codes'!I:I)=\"Y\",\"Y\",\"N\"),\"N\")","v":"Y"},{"$f":"VLOOKUP(F201,'Object Codes'!$A:$C,3,0)","v":"Rentals - Miscellaneous Equipment"},{"$f":"VLOOKUP(A201,Agencies!A:C,3,0)","v":"Mayoralty"},{"$f":"S201/365","v":0}]
["002",2022,"001","021","0264","417",0,0,0,0,40000,0,0,0,0,0,36051.120000000003,0,36051.120000000003,36051.120000000003,3948.88,36051.120000000003,3948.88,36051.120000000003,36051.120000000003,3948.88,{"$f":"_xlfn.XLOOKUP(F202,'Object Codes'!$A$18:$A$510,'Object Codes'!$H$18:$H$510)","v":"Other Services and Charges - General"},{"$f":"_xlfn.XLOOKUP(F202,'Object Codes'!$A$18:$A$510,'Object Codes'!$G$18:$G$510)","v":0},{"$f":"_xlfn.XLOOKUP(A202,Agencies!$A$9:$A$146,Agencies!$B$9:$B$146)","v":"General Government"},{"$f":"IF(_xlfn.XLOOKUP(A202,Agencies!A:A,Agencies!D:D)=\"Y\",IF(_xlfn.XLOOKUP(F202,'Object Codes'!A:A,'Object Codes'!I:I)=\"Y\",\"Y\",\"N\"),\"N\")","v":"Y"},{"$f":"VLOOKUP(F202,'Object Codes'!$A:$C,3,0)","v":"Advertising"},{"$f":"VLOOKUP(A202,Agencies!A:C,3,0)","v":"Mayoralty"},98.770191780821932]
["002",2022,"001","021","0264","451",0,0,0,0,11000,0,0,0,0,0,3785.22,0,3785.22,3785.22,7214.78,3785.22,7214.78,3785.22,3785.22,7214.78,{"$f":"_xlfn.XLOOKUP(F203,'Object Codes'!$A$18:$A$510,'Object Codes'!$H$18:$H$510)","v":"Other Services and Charges - General"},{"$f":"_xlfn.XLOOKUP(F203,'Object Codes'!$A$18:$A$510,'Object Codes'!$G$18:$G$510)","v":0},{"$f":"_xlfn.XLOOKUP(A203,Agencies!$A$9:$A$146,Agencies!$B$9:$B$146)","v":"General Government"},{"$f":"IF(_xlfn.XLOOKUP(A203,Agencies!A:A,Agencies!D:D)=\"Y\",IF(_xlfn.XLOOKUP(F203,'Object Codes'!A:A,'Object Codes'!I:I)=\"Y\",\"Y\",\"N\"),\"N\")","v":"Y"},{"$f":"VLOOKUP(F203,'Object Codes'!$A:$C,3,0)","v":"Non Overnight Travel Expenditures - General"},{"$f":"VLOOKUP(A203,Agencies!A:C,3,0)","v":"Mayoralty"},10.370465753424657]
["002",2022,"001","021","0264","454",0,0,0,0,3200,0,0,0,0,0,0,0,0,0,3200,0,3200,0,0,3200,{"$f":"_xlfn.XLOOKUP(F204,'Object Codes'!$A$18:$A$510,'Object Codes'!$H$18:$H$510)","v":"Other Services and Charges - General"},{"$f":"_xlfn.XLOOKUP(F204,'Object Codes'!$A$18:$A$510,'Object Codes'!$G$18:$G$510)","v":0},{"$f":"_xlfn.XLOOKUP(A204,Agencies!$A$9:$A$146,Agencies!$B$9:$B$146)","v":"General Government"},{"$f":"IF(_xlfn.XLOOKUP(A204,Agencies!A:A,Agencies!D:D)=\"Y\",IF(_xlfn.XLOOKUP(F204,'Object Codes'!A:A,'Object Codes'!I:I)=\"Y\",\"Y\",\"N\"),\"N\")","v":"Y"},{"$f":"VLOOKUP(F204,'Object Codes'!$A:$C,3,0)","v":"Overnight Travel Expenditures - Special"},{"$f":"VLOOKUP(A204,Agencies!A:C,3,0)","v":"Mayoralty"},0]
["002",2022,"001","021","0264","600",0,0,0,100000,460000,0,0,0,0,0,413096.34,15000.01,428096.35,428096.35,31903.65,428096.35,31903.65,428096.35,428096.35,31903.65,{"$f":"_xlfn.XLOOKUP(F205,'Object Codes'!$A$18:$A$510,'Object Codes'!$H$18:$H$510)","v":"Contractual Services"},{"$f":"_xlfn.XLOOKUP(F205,'Object Codes'!$A$18:$A$510,'Object Codes'!$G$18:$G$510)","v":0},{"$f":"_xlfn.XLOOKUP(A205,Agencies!$A$9:$A$146,Agencies!$B$9:$B$146)","v":"General Government"},{"$f":"IF(_xlfn.XLOOKUP(A205,Agencies!A:A,Agencies!D:D)=\"Y\",IF(_xlfn.XLOOKUP(F205,'Object Codes'!A:A,'Object Codes'!I:I)=\"Y\",\"Y\",\"N\"),\"N\")","v":"Y"},{"$f":"VLOOKUP(F205,'Object Codes'!$A:$C,3,0)","v":"Contractual Services - General"},{"$f":"VLOOKUP(A205,Agencies!A:C,3,0)","v":"Mayoralty"},1172.8667123287671]
["002",2022,"001","021","0264","613",0,0,0,0,31000,0,0,0,0,0,22170,0,22170,22170,8830,22170,8830,22170,22170,8830,{"$f":"_xlfn.XLOOKUP(F206,'Object Codes'!$A$18:$A$510,'Object Codes'!$H$18:$H$510)","v":"Contractual Services"},{"$f":"_xlfn.XLOOKUP(F206,'Object Codes'!$A$18:$A$510,'Object Codes'!$G$18:$G$510)","v":0},{"$f":"_xlfn.XLOOKUP(A206,Agencies!$A$9:$A$146,Agencies!$B$9:$B$146)","v":"General Government"},{"$f":"IF(_xlfn.XLOOKUP(A206,Agencies!A:A,Agencies!D:D)=\"Y\",IF(_xlfn.XLOOKUP(F206,'Object Codes'!A:A,'Object Codes'!I:I)=\"Y\",\"Y\",\"N\"),\"N\")","v":"Y"},{"$f":"VLOOKUP(F206,'Object Codes'!$A:$C,3,0)","v":"Data Processing Equipment Maintenance - Contractual"},{"$f":"VLOOKUP(A206,Agencies!A:C,3,0)","v":"Mayoralty"},60.739726027397261]
["002",2022,"001","021","0264","615",0,0,0,0,1000,0,0,0,0,0,420,0,420,420,580,420,580,420,420,580,{"$f":"_xlfn.XLOOKUP(F207,'Object Codes'!$A$18:$A$510,'Object Codes'!$H$18:$H$510)","v":"Contractual Services"},{"$f":"_xlfn.XLOOKUP(F207,'Object Codes'!$A$18:$A$510,'Object Codes'!$G$18:$G$510)","v":0},{"$f":"_xlfn.XLOOKUP(A207,Agencies!$A$9:$A$146,Agencies!$B$9:$B$146)","v":"General Government"},{"$f":"IF(_xlfn.XLOOKUP(A207,Agencies!A:A,Agencies!D:D)=\"Y\",IF(_xlfn.XLOOKUP(F207,'Object Codes'!A:A,'Object Codes'!I:I)=\"Y\",\"Y\",\"N\"),\"N\")","v":"Y"},{"$f":"VLOOKUP(F207,'Object Codes'!$A:$C,3,0)","v":"Printing Services - Contractual"},{"$f":"VLOOKUP(A207,Agencies!A:C,3,0)","v":"Mayoralty"},1.1506849315068493]
["002",2022,"001","021","0264","622",0,0,0,0,5000,0,0,0,0,0,1404,0,1404,1404,3596,1404,3596,1404,1404,3596,{"$f":"_xlfn.XLOOKUP(F208,'Object Codes'!$A$18:$A$510,'Object Codes'!$H$18:$H$510)","v":"Contractual Services"},{"$f":"_xlfn.XLOOKUP(F208,'Object Codes'!$A$18:$A$510,'Object Codes'!$G$18:$G$510)","v":0},{"$f":"_xlfn.XLOOKUP(A208,Agencies!$A$9:$A$146,Agencies!$B$9:$B$146)","v":"General Government"},{"$f":"IF(_xlfn.XLOOKUP(A208,Agencies!A:A,Agencies!D:D)=\"Y\",IF(_xlfn.XLOOKUP(F208,'Object Codes'!A:A,'Object Codes'!I:I)=\"Y\",\"Y\",\"N\"),\"N\")","v":"Y"},{"$f":"VLOOKUP(F208,'Object Codes'!$A:$C,3,0)","v":"Temporary Services - Contractual"},{"$f":"VLOOKUP(A208,Agencies!A:C,3,0)","v":"Mayoralty"},3.8465753424657536]
["002",2022,"001","021","0264","671",0,0,0,0,2000,0,0,0,0,0,1022,0,1022,1022,978,1022,978,1022,1022,978,{"$f":"_xlfn.XLOOKUP(F209,'Object Codes'!$A$18:$A$510,'Object Codes'!$H$18:$H$510)","v":"Contractual Services"},{"$f":"_xlfn.XLOOKUP(F209,'Object Codes'!$A$18:$A$510,'Object Codes'!$G$18:$G$510)","v":0},{"$f":"_xlfn.XLOOKUP(A209,Agencies!$A$9:$A$146,Agencies!$B$9:$B$146)","v":"General Government"},{"$f":"IF(_xlfn.XLOOKUP(A209,Agencies!A:A,Agencies!D:D)=\"Y\",IF(_xlfn.XLOOKUP(F209,'Object Codes'!A:A,'Object Codes'!I:I)=\"Y\",\"Y\",\"N\"),\"N\")","v":"Y"},{"$f":"VLOOKUP(F209,'Object Codes'!$A:$C,3,0)","v":"Training Program for City Employees - Contractual"},{"$f":"VLOOKUP(A209,Agencies!A:C,3,0)","v":"Mayoralty"},2.8]
["002",2022,"001","021","0264","686",0,0,0,100000,45000,0,0,0,0,0,2000,0,2000,2000,43000,2000,43000,2000,2000,43000,{"$f":"_xlfn.XLOOKUP(F210,'Object Codes'!$A$18:$A$510,'Object Codes'!$H$18:$H$510)","v":"Contractual Services"},{"$f":"_xlfn.XLOOKUP(F210,'Object Codes'!$A$18:$A$510,'Object Codes'!$G$18:$G$510)","v":0},{"$f":"_xlfn.XLOOKUP(A210,Agencies!$A$9:$A$146,Agencies!$B$9:$B$146)","v":"General Government"},{"$f":"IF(_xlfn.XLOOKUP(A210,Agencies!A:A,Agencies!D:D)=\"Y\",IF(_xlfn.XLOOKUP(F210,'Object Codes'!A:A,'Object Codes'!I:I)=\"Y\",\"Y\",\"N\"),\"N\")","v":"Y"},{"$f":"VLOOKUP(F210,'Object Codes'!$A:$C,3,0)","v":"Professional Services - Other - Contractual"},{"$f":"VLOOKUP(A210,Agencies!A:C,3,0)","v":"Mayoralty"},5.4794520547945202]
["002",2022,"001","021","0264","79D",0,0,0,0,4662,0,0,0,0,0,4662,0,4662,4662,0,4662,0,4662,4662,0,{"$f":"_xlfn.XLOOKUP(F211,'Object Codes'!$A$18:$A$510,'Object Codes'!$H$18:$H$510)","v":"Fixed Charges"},{"$f":"_xlfn.XLOOKUP(F211,'Object Codes'!$A$18:$A$510,'Object Codes'!$G$18:$G$510)","v":0},{"$f":"_xlfn.XLOOKUP(A211,Agencies!$A$9:$A$146,Agencies!$B$9:$B$146)","v":"General Government"},{"$f":"IF(_xlfn.XLOOKUP(A211,Agencies!A:A,Agencies!D:D)=\"Y\",IF(_xlfn.XLOOKUP(F211,'Object Codes'!A:A,'Object Codes'!I:I)=\"Y\",\"Y\",\"N\"),\"N\")","v":"Y"},{"$f":"VLOOKUP(F211,'Object Codes'!$A:$C,3,0)","v":"TRAINING CITY EMPLOYEES"},{"$f":"VLOOKUP(A211,Agencies!A:C,3,0)","v":"Mayoralty"},12.772602739726027]
["002",2022,"001","021","0274","100",0,0,0,7000,2400,0,0,0,0,0,992.65,0,992.65,992.65,1407.35,992.65,1407.35,992.65,992.65,1407.35,{"$f":"_xlfn.XLOOKUP(F212,'Object Codes'!$A$18:$A$510,'Object Codes'!$H$18:$H$510)","v":"Supplies & Materials"},{"$f":"_xlfn.XLOOKUP(F212,'Object Codes'!$A$18:$A$510,'Object Codes'!$G$18:$G$510)","v":"A"},{"$f":"_xlfn.XLOOKUP(A212,Agencies!$A$9:$A$146,Agencies!$B$9:$B$146)","v":"General Government"},{"$f":"IF(_xlfn.XLOOKUP(A212,Agencies!A:A,Agencies!D:D)=\"Y\",IF(_xlfn.XLOOKUP(F212,'Object Codes'!A:A,'Object Codes'!I:I)=\"Y\",\"Y\",\"N\"),\"N\")","v":"Y"},{"$f":"VLOOKUP(F212,'Object Codes'!$A:$C,3,0)","v":"Supplies and Materials - General"},{"$f":"VLOOKUP(A212,Agencies!A:C,3,0)","v":"Mayoralty"},2.7195890410958903]
["002",2022,"001","021","0274","106",0,0,0,0,100,0,0,0,0,0,36.83,0,36.83,36.83,63.17,36.83,63.17,36.83,36.83,63.17,{"$f":"_xlfn.XLOOKUP(F213,'Object Codes'!$A$18:$A$510,'Object Codes'!$H$18:$H$510)","v":"Supplies & Materials"},{"$f":"_xlfn.XLOOKUP(F213,'Object Codes'!$A$18:$A$510,'Object Codes'!$G$18:$G$510)","v":"A"},{"$f":"_xlfn.XLOOKUP(A213,Agencies!$A$9:$A$146,Agencies!$B$9:$B$146)","v":"General Government"},{"$f":"IF(_xlfn.XLOOKUP(A213,Agencies!A:A,Agencies!D:D)=\"Y\",IF(_xlfn.XLOOKUP(F213,'Object Codes'!A:A,'Object Codes'!I:I)=\"Y\",\"Y\",\"N\"),\"N\")","v":"Y"},{"$f":"VLOOKUP(F213,'Object Codes'!$A:$C,3,0)","v":"Motor Vehicle Fuel"},{"$f":"VLOOKUP(A213,Agencies!A:C,3,0)","v":"Mayoralty"},0.10090410958904109]
["002",2022,"001","021","0274","110",0,0,0,0,100,0,0,0,0,0,4.99,0,4.99,4.99,95.01,4.99,95.01,4.99,4.99,95.01,{"$f":"_xlfn.XLOOKUP(F214,'Object Codes'!$A$18:$A$510,'Object Codes'!$H$18:$H$510)","v":"Supplies & Materials"},{"$f":"_xlfn.XLOOKUP(F214,'Object Codes'!$A$18:$A$510,'Object Codes'!$G$18:$G$510)","v":"A"},{"$f":"_xlfn.XLOOKUP(A214,Agencies!$A$9:$A$146,Agencies!$B$9:$B$146)","v":"General Government"},{"$f":"IF(_xlfn.XLOOKUP(A214,Agencies!A:A,Agencies!D:D)=\"Y\",IF(_xlfn.XLOOKUP(F214,'Object Codes'!A:A,'Object Codes'!I:I)=\"Y\",\"Y\",\"N\"),\"N\")","v":"Y"},{"$f":"VLOOKUP(F214,'Object Codes'!$A:$C,3,0)","v":"Food and Forage Supplies"},{"$f":"VLOOKUP(A214,Agencies!A:C,3,0)","v":"Mayoralty"},1.367123287671233E-2]
["002",2022,"001","021","0274","451",0,0,0,0,1500,0,0,0,0,0,664.91,0,664.91,664.91,835.09,664.91,835.09,664.91,664.91,835.09,{"$f":"_xlfn.XLOOKUP(F215,'Object Codes'!$A$18:$A$510,'Object Codes'!$H$18:$H$510)","v":"Other Services and Charges - General"},{"$f":"_xlfn.XLOOKUP(F215,'Object Codes'!$A$18:$A$510,'Object Codes'!$G$18:$G$510)","v":0},{"$f":"_xlfn.XLOOKUP(A215,Agencies!$A$9:$A$146,Agencies!$B$9:$B$146)","v":"General Government"},{"$f":"IF(_xlfn.XLOOKUP(A215,Agencies!A:A,Agencies!D:D)=\"Y\",IF(_xlfn.XLOOKUP(F215,'Object Codes'!A:A,'Object Codes'!I:I)=\"Y\",\"Y\",\"N\"),\"N\")","v":"Y"},{"$f":"VLOOKUP(F215,'Object Codes'!$A:$C,3,0)","v":"Non Overnight Travel Expenditures - General"},{"$f":"VLOOKUP(A215,Agencies!A:C,3,0)","v":"Mayoralty"},1.8216712328767122]
["002",2022,"001","021","0274","453",0,0,0,0,400,0,0,0,0,0,358,500,858,858,-458,858,-458,858,858,-458,{"$f":"_xlfn.XLOOKUP(F216,'Object Codes'!$A$18:$A$510,'Object Codes'!$H$18:$H$510)","v":"Other Services and Charges - General"},{"$f":"_xlfn.XLOOKUP(F216,'Object Codes'!$A$18:$A$510,'Object Codes'!$G$18:$G$510)","v":0},{"$f":"_xlfn.XLOOKUP(A216,Agencies!$A$9:$A$146,Agencies!$B$9:$B$146)","v":"General Government"},{"$f":"IF(_xlfn.XLOOKUP(A216,Agencies!A:A,Agencies!D:D)=\"Y\",IF(_xlfn.XLOOKUP(F216,'Object Codes'!A:A,'Object Codes'!I:I)=\"Y\",\"Y\",\"N\"),\"N\")","v":"Y"},{"$f":"VLOOKUP(F216,'Object Codes'!$A:$C,3,0)","v":"Overnight Travel Expenditures - General"},{"$f":"VLOOKUP(A216,Agencies!A:C,3,0)","v":"Mayoralty"},2.3506849315068492]
["002",2022,"001","021","0274","454",0,0,0,0,900,0,0,0,0,0,0,0,0,0,900,0,900,0,0,900,{"$f":"_xlfn.XLOOKUP(F217,'Object Codes'!$A$18:$A$510,'Object Codes'!$H$18:$H$510)","v":"Other Services and Charges - General"},{"$f":"_xlfn.XLOOKUP(F217,'Object Codes'!$A$18:$A$510,'Object Codes'!$G$18:$G$510)","v":0},{"$f":"_xlfn.XLOOKUP(A217,Agencies!$A$9:$A$146,Agencies!$B$9:$B$146)","v":"General Government"},{"$f":"IF(_xlfn.XLOOKUP(A217,Agencies!A:A,Agencies!D:D)=\"Y\",IF(_xlfn.XLOOKUP(F217,'Object Codes'!A:A,'Object Codes'!I:I)=\"Y\",\"Y\",\"N\"),\"N\")","v":"Y"},{"$f":"VLOOKUP(F217,'Object Codes'!$A:$C,3,0)","v":"Overnight Travel Expenditures - Special"},{"$f":"VLOOKUP(A217,Agencies!A:C,3,0)","v":"Mayoralty"},0]
["002",2022,"001","021","0274","615",0,0,0,0,600,0,0,0,0,0,0,0,0,0,600,0,600,0,0,600,{"$f":"_xlfn.XLOOKUP(F218,'Object Codes'!$A$18:$A$510,'Object Codes'!$H$18:$H$510)","v":"Contractual Services"},{"$f":"_xlfn.XLOOKUP(F218,'Object Codes'!$A$18:$A$510,'Object Codes'!$G$18:$G$510)","v":0},{"$f":"_xlfn.XLOOKUP(A218,Agencies!$A$9:$A$146,Agencies!$B$9:$B$146)","v":"General Government"},{"$f":"IF(_xlfn.XLOOKUP(A218,Agencies!A:A,Agencies!D:D)=\"Y\",IF(_xlfn.XLOOKUP(F218,'Object Codes'!A:A,'Object Codes'!I:I)=\"Y\",\"Y\",\"N\"),\"N\")","v":"Y"},{"$f":"VLOOKUP(F218,'Object Codes'!$A:$C,3,0)","v":"Printing Services - Contractual"},{"$f":"VLOOKUP(A218,Agencies!A:C,3,0)","v":"Mayoralty"},0]
["002",2022,"001","021","0274","622",0,0,0,0,1000,0,0,0,0,0,341.25,0,341.25,341.25,658.75,341.25,658.75,341.25,341.25,658.75,{"$f":"_xlfn.XLOOKUP(F219,'Object Codes'!$A$18:$A$510,'Object Codes'!$H$18:$H$510)","v":"Contractual Services"},{"$f":"_xlfn.XLOOKUP(F219,'Object Codes'!$A$18:$A$510,'Object Codes'!$G$18:$G$510)","v":0},{"$f":"_xlfn.XLOOKUP(A219,Agencies!$A$9:$A$146,Agencies!$B$9:$B$146)","v":"General Government"},{"$f":"IF(_xlfn.XLOOKUP(A219,Agencies!A:A,Agencies!D:D)=\"Y\",IF(_xlfn.XLOOKUP(F219,'Object Codes'!A:A,'Object Codes'!I:I)=\"Y\",\"Y\",\"N\"),\"N\")","v":"Y"},{"$f":"VLOOKUP(F219,'Object Codes'!$A:$C,3,0)","v":"Temporary Services - Contractual"},{"$f":"VLOOKUP(A219,Agencies!A:C,3,0)","v":"Mayoralty"},0.93493150684931503]
["002",2022,"001","021","0277","100",0,0,0,30000,5000,0,0,1994.93,0,0,4647.08,0,6642.01,4647.08,352.92,4647.08,352.92,4647.08,4647.08,352.92,{"$f":"_xlfn.XLOOKUP(F220,'Object Codes'!$A$18:$A$510,'Object Codes'!$H$18:$H$510)","v":"Supplies & Materials"},{"$f":"_xlfn.XLOOKUP(F220,'Object Codes'!$A$18:$A$510,'Object Codes'!$G$18:$G$510)","v":"A"},{"$f":"_xlfn.XLOOKUP(A220,Agencies!$A$9:$A$146,Agencies!$B$9:$B$146)","v":"General Government"},{"$f":"IF(_xlfn.XLOOKUP(A220,Agencies!A:A,Agencies!D:D)=\"Y\",IF(_xlfn.XLOOKUP(F220,'Object Codes'!A:A,'Object Codes'!I:I)=\"Y\",\"Y\",\"N\"),\"N\")","v":"Y"},{"$f":"VLOOKUP(F220,'Object Codes'!$A:$C,3,0)","v":"Supplies and Materials - General"},{"$f":"VLOOKUP(A220,Agencies!A:C,3,0)","v":"Mayoralty"},18.197287671232878]
["002",2022,"001","021","0277","101",0,0,0,0,2100,0,0,0,0,0,1975.9,0,1975.9,1975.9,124.1,1975.9,124.1,1975.9,1975.9,124.1,{"$f":"_xlfn.XLOOKUP(F221,'Object Codes'!$A$18:$A$510,'Object Codes'!$H$18:$H$510)","v":"Supplies & Materials"},{"$f":"_xlfn.XLOOKUP(F221,'Object Codes'!$A$18:$A$510,'Object Codes'!$G$18:$G$510)","v":"A"},{"$f":"_xlfn.XLOOKUP(A221,Agencies!$A$9:$A$146,Agencies!$B$9:$B$146)","v":"General Government"},{"$f":"IF(_xlfn.XLOOKUP(A221,Agencies!A:A,Agencies!D:D)=\"Y\",IF(_xlfn.XLOOKUP(F221,'Object Codes'!A:A,'Object Codes'!I:I)=\"Y\",\"Y\",\"N\"),\"N\")","v":"Y"},{"$f":"VLOOKUP(F221,'Object Codes'!$A:$C,3,0)","v":"Printing Supplies"},{"$f":"VLOOKUP(A221,Agencies!A:C,3,0)","v":"Mayoralty"},5.4134246575342466]
["002",2022,"001","021","0277","199",0,0,0,0,6800,0,0,3473.32,0,0,6748.31,0,10221.629999999999,6748.31,51.69,6748.31,51.69,6748.31,6748.31,51.69,{"$f":"_xlfn.XLOOKUP(F222,'Object Codes'!$A$18:$A$510,'Object Codes'!$H$18:$H$510)","v":"Supplies & Materials"},{"$f":"_xlfn.XLOOKUP(F222,'Object Codes'!$A$18:$A$510,'Object Codes'!$G$18:$G$510)","v":"A"},{"$f":"_xlfn.XLOOKUP(A222,Agencies!$A$9:$A$146,Agencies!$B$9:$B$146)","v":"General Government"},{"$f":"IF(_xlfn.XLOOKUP(A222,Agencies!A:A,Agencies!D:D)=\"Y\",IF(_xlfn.XLOOKUP(F222,'Object Codes'!A:A,'Object Codes'!I:I)=\"Y\",\"Y\",\"N\"),\"N\")","v":"Y"},{"$f":"VLOOKUP(F222,'Object Codes'!$A:$C,3,0)","v":"Data Processing Supplies"},{"$f":"VLOOKUP(A222,Agencies!A:C,3,0)","v":"Mayoralty"},28.004465753424654]
["002",2022,"001","021","0277","300",0,0,0,0,84900,0,0,34273.129999999997,0,0,84483.97,0,118757.1,84483.97,416.03,84483.97,416.03,84483.97,84483.97,416.03,{"$f":"_xlfn.XLOOKUP(F223,'Object Codes'!$A$18:$A$510,'Object Codes'!$H$18:$H$510)","v":"Equipment"},{"$f":"_xlfn.XLOOKUP(F223,'Object Codes'!$A$18:$A$510,'Object Codes'!$G$18:$G$510)","v":"A"},{"$f":"_xlfn.XLOOKUP(A223,Agencies!$A$9:$A$146,Agencies!$B$9:$B$146)","v":"General Government"},{"$f":"IF(_xlfn.XLOOKUP(A223,Agencies!A:A,Agencies!D:D)=\"Y\",IF(_xlfn.XLOOKUP(F223,'Object Codes'!A:A,'Object Codes'!I:I)=\"Y\",\"Y\",\"N\"),\"N\")","v":"Y"},{"$f":"VLOOKUP(F223,'Object Codes'!$A:$C,3,0)","v":"Equipment - General"},{"$f":"VLOOKUP(A223,Agencies!A:C,3,0)","v":"Mayoralty"},325.36191780821918]
["002",2022,"001","021","0277","332",0,0,0,0,19000,0,0,3035.4,0,0,18719.71,0,21755.11,18719.71,280.29000000000002,18719.71,280.29000000000002,18719.71,18719.71,280.29000000000002,{"$f":"_xlfn.XLOOKUP(F224,'Object Codes'!$A$18:$A$510,'Object Codes'!$H$18:$H$510)","v":"Equipment"},{"$f":"_xlfn.XLOOKUP(F224,'Object Codes'!$A$18:$A$510,'Object Codes'!$G$18:$G$510)","v":"A"},{"$f":"_xlfn.XLOOKUP(A224,Agencies!$A$9:$A$146,Agencies!$B$9:$B$146)","v":"General Government"},{"$f":"IF(_xlfn.XLOOKUP(A224,Agencies!A:A,Agencies!D:D)=\"Y\",IF(_xlfn.XLOOKUP(F224,'Object Codes'!A:A,'Object Codes'!I:I)=\"Y\",\"Y\",\"N\"),\"N\")","v":"Y"},{"$f":"VLOOKUP(F224,'Object Codes'!$A:$C,3,0)","v":"Purchases of Data Processing Equipment"},{"$f":"VLOOKUP(A224,Agencies!A:C,3,0)","v":"Mayoralty"},59.603041095890411]
["002",2022,"001","021","0277","337",0,0,0,35000,11220,0,0,0,0,0,11161.03,0,11161.03,11161.03,58.97,11161.03,58.97,11161.03,11161.03,58.97,{"$f":"_xlfn.XLOOKUP(F225,'Object Codes'!$A$18:$A$510,'Object Codes'!$H$18:$H$510)","v":"Equipment"},{"$f":"_xlfn.XLOOKUP(F225,'Object Codes'!$A$18:$A$510,'Object Codes'!$G$18:$G$510)","v":"A"},{"$f":"_xlfn.XLOOKUP(A225,Agencies!$A$9:$A$146,Agencies!$B$9:$B$146)","v":"General Government"},{"$f":"IF(_xlfn.XLOOKUP(A225,Agencies!A:A,Agencies!D:D)=\"Y\",IF(_xlfn.XLOOKUP(F225,'Object Codes'!A:A,'Object Codes'!I:I)=\"Y\",\"Y\",\"N\"),\"N\")","v":"Y"},{"$f":"VLOOKUP(F225,'Object Codes'!$A:$C,3,0)","v":"Books - Other"},{"$f":"VLOOKUP(A225,Agencies!A:C,3,0)","v":"Mayoralty"},30.578164383561646]
["002",2022,"001","021","0277","400",0,0,0,0,2100,0,0,0,0,0,1889.99,0,1889.99,1889.99,210.01,1889.99,210.01,1889.99,1889.99,210.01,{"$f":"_xlfn.XLOOKUP(F226,'Object Codes'!$A$18:$A$510,'Object Codes'!$H$18:$H$510)","v":"Other Services and Charges - General"},{"$f":"_xlfn.XLOOKUP(F226,'Object Codes'!$A$18:$A$510,'Object Codes'!$G$18:$G$510)","v":0},{"$f":"_xlfn.XLOOKUP(A226,Agencies!$A$9:$A$146,Agencies!$B$9:$B$146)","v":"General Government"},{"$f":"IF(_xlfn.XLOOKUP(A226,Agencies!A:A,Agencies!D:D)=\"Y\",IF(_xlfn.XLOOKUP(F226,'Object Codes'!A:A,'Object Codes'!I:I)=\"Y\",\"Y\",\"N\"),\"N\")","v":"Y"},{"$f":"VLOOKUP(F226,'Object Codes'!$A:$C,3,0)","v":"Other Services and Charges - General"},{"$f":"VLOOKUP(A226,Agencies!A:C,3,0)","v":"Mayoralty"},5.1780547945205484]
["002",2022,"001","021","0277","451",0,0,0,0,1500,0,0,0,0,0,1265.3499999999999,0,1265.3499999999999,1265.3499999999999,234.65,1265.3499999999999,234.65,1265.3499999999999,1265.3499999999999,234.65,{"$f":"_xlfn.XLOOKUP(F227,'Object Codes'!$A$18:$A$510,'Object Codes'!$H$18:$H$510)","v":"Other Services and Charges - General"},{"$f":"_xlfn.XLOOKUP(F227,'Object Codes'!$A$18:$A$510,'Object Codes'!$G$18:$G$510)","v":0},{"$f":"_xlfn.XLOOKUP(A227,Agencies!$A$9:$A$146,Agencies!$B$9:$B$146)","v":"General Government"},{"$f":"IF(_xlfn.XLOOKUP(A227,Agencies!A:A,Agencies!D:D)=\"Y\",IF(_xlfn.XLOOKUP(F227,'Object Codes'!A:A,'Object Codes'!I:I)=\"Y\",\"Y\",\"N\"),\"N\")","v":"Y"},{"$f":"VLOOKUP(F227,'Object Codes'!$A:$C,3,0)","v":"Non Overnight Travel Expenditures - General"},{"$f":"VLOOKUP(A227,Agencies!A:C,3,0)","v":"Mayoralty"},3.4667123287671231]
["002",2022,"001","021","0277","453",0,0,0,5000,8000,0,0,0,0,0,5185.1499999999996,498.34,5683.49,5683.49,2316.5100000000002,5683.49,2316.5100000000002,5683.49,5683.49,2316.5100000000002,{"$f":"_xlfn.XLOOKUP(F228,'Object Codes'!$A$18:$A$510,'Object Codes'!$H$18:$H$510)","v":"Other Services and Charges - General"},{"$f":"_xlfn.XLOOKUP(F228,'Object Codes'!$A$18:$A$510,'Object Codes'!$G$18:$G$510)","v":0},{"$f":"_xlfn.XLOOKUP(A228,Agencies!$A$9:$A$146,Agencies!$B$9:$B$146)","v":"General Government"},{"$f":"IF(_xlfn.XLOOKUP(A228,Agencies!A:A,Agencies!D:D)=\"Y\",IF(_xlfn.XLOOKUP(F228,'Object Codes'!A:A,'Object Codes'!I:I)=\"Y\",\"Y\",\"N\"),\"N\")","v":"Y"},{"$f":"VLOOKUP(F228,'Object Codes'!$A:$C,3,0)","v":"Overnight Travel Expenditures - General"},{"$f":"VLOOKUP(A228,Agencies!A:C,3,0)","v":"Mayoralty"},15.571205479452054]
["002",2022,"001","021","0277","454",0,0,0,0,6900,0,0,0,0,0,6623.64,0,6623.64,6623.64,276.36,6623.64,276.36,6623.64,6623.64,276.36,{"$f":"_xlfn.XLOOKUP(F229,'Object Codes'!$A$18:$A$510,'Object Codes'!$H$18:$H$510)","v":"Other Services and Charges - General"},{"$f":"_xlfn.XLOOKUP(F229,'Object Codes'!$A$18:$A$510,'Object Codes'!$G$18:$G$510)","v":0},{"$f":"_xlfn.XLOOKUP(A229,Agencies!$A$9:$A$146,Agencies!$B$9:$B$146)","v":"General Government"},{"$f":"IF(_xlfn.XLOOKUP(A229,Agencies!A:A,Agencies!D:D)=\"Y\",IF(_xlfn.XLOOKUP(F229,'Object Codes'!A:A,'Object Codes'!I:I)=\"Y\",\"Y\",\"N\"),\"N\")","v":"Y"},{"$f":"VLOOKUP(F229,'Object Codes'!$A:$C,3,0)","v":"Overnight Travel Expenditures - Special"},{"$f":"VLOOKUP(A229,Agencies!A:C,3,0)","v":"Mayoralty"},18.146958904109589]
["002",2022,"001","021","0277","600",0,0,0,5000,35000,0,0,0,0,0,34000,0,34000,34000,1000,34000,1000,34000,34000,1000,{"$f":"_xlfn.XLOOKUP(F230,'Object Codes'!$A$18:$A$510,'Object Codes'!$H$18:$H$510)","v":"Contractual Services"},{"$f":"_xlfn.XLOOKUP(F230,'Object Codes'!$A$18:$A$510,'Object Codes'!$G$18:$G$510)","v":0},{"$f":"_xlfn.XLOOKUP(A230,Agencies!$A$9:$A$146,Agencies!$B$9:$B$146)","v":"General Government"},{"$f":"IF(_xlfn.XLOOKUP(A230,Agencies!A:A,Agencies!D:D)=\"Y\",IF(_xlfn.XLOOKUP(F230,'Object Codes'!A:A,'Object Codes'!I:I)=\"Y\",\"Y\",\"N\"),\"N\")","v":"Y"},{"$f":"VLOOKUP(F230,'Object Codes'!$A:$C,3,0)","v":"Contractual Services - General"},{"$f":"VLOOKUP(A230,Agencies!A:C,3,0)","v":"Mayoralty"},93.150684931506845]
["002",2022,"001","021","0277","608",0,0,0,4000,0,0,0,0,0,0,0,0,0,0,0,0,0,0,0,0,{"$f":"_xlfn.XLOOKUP(F231,'Object Codes'!$A$18:$A$510,'Object Codes'!$H$18:$H$510)","v":"Contractual Services"},{"$f":"_xlfn.XLOOKUP(F231,'Object Codes'!$A$18:$A$510,'Object Codes'!$G$18:$G$510)","v":0},{"$f":"_xlfn.XLOOKUP(A231,Agencies!$A$9:$A$146,Agencies!$B$9:$B$146)","v":"General Government"},{"$f":"IF(_xlfn.XLOOKUP(A231,Agencies!A:A,Agencies!D:D)=\"Y\",IF(_xlfn.XLOOKUP(F231,'Object Codes'!A:A,'Object Codes'!I:I)=\"Y\",\"Y\",\"N\"),\"N\")","v":"Y"},{"$f":"VLOOKUP(F231,'Object Codes'!$A:$C,3,0)","v":"Maintenance and Repairs - General - Contractual"},{"$f":"VLOOKUP(A231,Agencies!A:C,3,0)","v":"Mayoralty"},0]
["002",2022,"001","021","0277","612",0,0,0,6000,0,0,0,0,0,0,0,0,0,0,0,0,0,0,0,0,{"$f":"_xlfn.XLOOKUP(F232,'Object Codes'!$A$18:$A$510,'Object Codes'!$H$18:$H$510)","v":"Contractual Services"},{"$f":"_xlfn.XLOOKUP(F232,'Object Codes'!$A$18:$A$510,'Object Codes'!$G$18:$G$510)","v":0},{"$f":"_xlfn.XLOOKUP(A232,Agencies!$A$9:$A$146,Agencies!$B$9:$B$146)","v":"General Government"},{"$f":"IF(_xlfn.XLOOKUP(A232,Agencies!A:A,Agencies!D:D)=\"Y\",IF(_xlfn.XLOOKUP(F232,'Object Codes'!A:A,'Object Codes'!I:I)=\"Y\",\"Y\",\"N\"),\"N\")","v":"Y"},{"$f":"VLOOKUP(F232,'Object Codes'!$A:$C,3,0)","v":"Office Equipment Maintenance - Contractual"},{"$f":"VLOOKUP(A232,Agencies!A:C,3,0)","v":"Mayoralty"},0]
["002",2022,"001","021","0277","622",0,0,0,0,14000,0,0,0,0,0,11476.85,0,11476.85,11476.85,2523.15,11476.85,2523.15,11476.85,11476.85,2523.15,{"$f":"_xlfn.XLOOKUP(F233,'Object Codes'!$A$18:$A$510,'Object Codes'!$H$18:$H$510)","v":"Contractual Services"},{"$f":"_xlfn.XLOOKUP(F233,'Object Codes'!$A$18:$A$510,'Object Codes'!$G$18:$G$510)","v":0},{"$f":"_xlfn.XLOOKUP(A233,Agencies!$A$9:$A$146,Agencies!$B$9:$B$146)","v":"General Government"},{"$f":"IF(_xlfn.XLOOKUP(A233,Agencies!A:A,Agencies!D:D)=\"Y\",IF(_xlfn.XLOOKUP(F233,'Object Codes'!A:A,'Object Codes'!I:I)=\"Y\",\"Y\",\"N\"),\"N\")","v":"Y"},{"$f":"VLOOKUP(F233,'Object Codes'!$A:$C,3,0)","v":"Temporary Services - Contractual"},{"$f":"VLOOKUP(A233,Agencies!A:C,3,0)","v":"Mayoralty"},31.443424657534248]
["002",2022,"001","021","CR03","600",0,0,0,0,200000,0,0,0,0,0,199404.18,0,199404.18,199404.18,595.82000000000005,199404.18,595.82000000000005,199404.18,199404.18,595.82000000000005,{"$f":"_xlfn.XLOOKUP(F234,'Object Codes'!$A$18:$A$510,'Object Codes'!$H$18:$H$510)","v":"Contractual Services"},{"$f":"_xlfn.XLOOKUP(F234,'Object Codes'!$A$18:$A$510,'Object Codes'!$G$18:$G$510)","v":0},{"$f":"_xlfn.XLOOKUP(A234,Agencies!$A$9:$A$146,Agencies!$B$9:$B$146)","v":"General Government"},{"$f":"IF(_xlfn.XLOOKUP(A234,Agencies!A:A,Agencies!D:D)=\"Y\",IF(_xlfn.XLOOKUP(F234,'Object Codes'!A:A,'Object Codes'!I:I)=\"Y\",\"Y\",\"N\"),\"N\")","v":"Y"},{"$f":"VLOOKUP(F234,'Object Codes'!$A:$C,3,0)","v":"Contractual Services - General"},{"$f":"VLOOKUP(A234,Agencies!A:C,3,0)","v":"Mayoralty"},546.31282191780815]
["002",2022,"001","021","CVM2","417",0,0,0,0,63001,0,0,0,0,0,63000.92,0,63000.92,63000.92,0.08,63000.92,0.08,63000.92,63000.92,0.08,{"$f":"_xlfn.XLOOKUP(F235,'Object Codes'!$A$18:$A$510,'Object Codes'!$H$18:$H$510)","v":"Other Services and Charges - General"},{"$f":"_xlfn.XLOOKUP(F235,'Object Codes'!$A$18:$A$510,'Object Codes'!$G$18:$G$510)","v":0},{"$f":"_xlfn.XLOOKUP(A235,Agencies!$A$9:$A$146,Agencies!$B$9:$B$146)","v":"General Government"},{"$f":"IF(_xlfn.XLOOKUP(A235,Agencies!A:A,Agencies!D:D)=\"Y\",IF(_xlfn.XLOOKUP(F235,'Object Codes'!A:A,'Object Codes'!I:I)=\"Y\",\"Y\",\"N\"),\"N\")","v":"Y"},{"$f":"VLOOKUP(F235,'Object Codes'!$A:$C,3,0)","v":"Advertising"},{"$f":"VLOOKUP(A235,Agencies!A:C,3,0)","v":"Mayoralty"},172.60526027397259]
["002",2022,"001","021","CVM2","686",0,0,0,0,30381,0,0,0,0,0,30381,0,30381,30381,0,30381,0,30381,30381,0,{"$f":"_xlfn.XLOOKUP(F236,'Object Codes'!$A$18:$A$510,'Object Codes'!$H$18:$H$510)","v":"Contractual Services"},{"$f":"_xlfn.XLOOKUP(F236,'Object Codes'!$A$18:$A$510,'Object Codes'!$G$18:$G$510)","v":0},{"$f":"_xlfn.XLOOKUP(A236,Agencies!$A$9:$A$146,Agencies!$B$9:$B$146)","v":"General Government"},{"$f":"IF(_xlfn.XLOOKUP(A236,Agencies!A:A,Agencies!D:D)=\"Y\",IF(_xlfn.XLOOKUP(F236,'Object Codes'!A:A,'Object Codes'!I:I)=\"Y\",\"Y\",\"N\"),\"N\")","v":"Y"},{"$f":"VLOOKUP(F236,'Object Codes'!$A:$C,3,0)","v":"Professional Services - Other - Contractual"},{"$f":"VLOOKUP(A236,Agencies!A:C,3,0)","v":"Mayoralty"},83.235616438356161]
["002",2022,"001","021","P021","499",0,0,0,-74371,-74371,0,0,0,0,0,0,0,0,0,-74371,0,-74371,0,0,-74371,{"$f":"_xlfn.XLOOKUP(F237,'Object Codes'!$A$18:$A$510,'Object Codes'!$H$18:$H$510)","v":"Other Services and Charges - General"},{"$f":"_xlfn.XLOOKUP(F237,'Object Codes'!$A$18:$A$510,'Object Codes'!$G$18:$G$510)","v":0},{"$f":"_xlfn.XLOOKUP(A237,Agencies!$A$9:$A$146,Agencies!$B$9:$B$146)","v":"General Government"},{"$f":"IF(_xlfn.XLOOKUP(A237,Agencies!A:A,Agencies!D:D)=\"Y\",IF(_xlfn.XLOOKUP(F237,'Object Codes'!A:A,'Object Codes'!I:I)=\"Y\",\"Y\",\"N\"),\"N\")","v":"Y"},{"$f":"VLOOKUP(F237,'Object Codes'!$A:$C,3,0)","v":"Other Expenditures - General"},{"$f":"VLOOKUP(A237,Agencies!A:C,3,0)","v":"Mayoralty"},0]
["002",2022,"001","040","0401","001",0,25,25,2651148,4074935,0,0,0,0,0,3463085.85,0,3463085.85,3463085.85,611849.15,3463085.85,611849.15,3463085.85,3463085.85,611849.15,{"$f":"_xlfn.XLOOKUP(F238,'Object Codes'!$A$18:$A$510,'Object Codes'!$H$18:$H$510)","v":"PS - Regular"},{"$f":"_xlfn.XLOOKUP(F238,'Object Codes'!$A$18:$A$510,'Object Codes'!$G$18:$G$510)","v":"C"},{"$f":"_xlfn.XLOOKUP(A238,Agencies!$A$9:$A$146,Agencies!$B$9:$B$146)","v":"General Government"},{"$f":"IF(_xlfn.XLOOKUP(A238,Agencies!A:A,Agencies!D:D)=\"Y\",IF(_xlfn.XLOOKUP(F238,'Object Codes'!A:A,'Object Codes'!I:I)=\"Y\",\"Y\",\"N\"),\"N\")","v":"Y"},{"$f":"VLOOKUP(F238,'Object Codes'!$A:$C,3,0)","v":"Full Year Positions"},{"$f":"VLOOKUP(A238,Agencies!A:C,3,0)","v":"Mayoralty"},9487.9064383561654]
["002",2022,"001","040","0401","031",0,0,0,50871,50871,0,0,0,0,0,17996.18,0,17996.18,17996.18,32874.82,17996.18,32874.82,17996.18,17996.18,32874.82,{"$f":"_xlfn.XLOOKUP(F239,'Object Codes'!$A$18:$A$510,'Object Codes'!$H$18:$H$510)","v":"PS - Regular"},{"$f":"_xlfn.XLOOKUP(F239,'Object Codes'!$A$18:$A$510,'Object Codes'!$G$18:$G$510)","v":"C"},{"$f":"_xlfn.XLOOKUP(A239,Agencies!$A$9:$A$146,Agencies!$B$9:$B$146)","v":"General Government"},{"$f":"IF(_xlfn.XLOOKUP(A239,Agencies!A:A,Agencies!D:D)=\"Y\",IF(_xlfn.XLOOKUP(F239,'Object Codes'!A:A,'Object Codes'!I:I)=\"Y\",\"Y\",\"N\"),\"N\")","v":"Y"},{"$f":"VLOOKUP(F239,'Object Codes'!$A:$C,3,0)","v":"Hourly Positions"},{"$f":"VLOOKUP(A239,Agencies!A:C,3,0)","v":"Mayoralty"},49.304602739726029]
["002",2022,"001","040","0401","042",0,0,0,23084,23084,0,0,0,0,0,0,0,0,0,23084,0,23084,0,0,23084,{"$f":"_xlfn.XLOOKUP(F240,'Object Codes'!$A$18:$A$510,'Object Codes'!$H$18:$H$510)","v":"PS - Additional Gross"},{"$f":"_xlfn.XLOOKUP(F240,'Object Codes'!$A$18:$A$510,'Object Codes'!$G$18:$G$510)","v":"A"},{"$f":"_xlfn.XLOOKUP(A240,Agencies!$A$9:$A$146,Agencies!$B$9:$B$146)","v":"General Government"},{"$f":"IF(_xlfn.XLOOKUP(A240,Agencies!A:A,Agencies!D:D)=\"Y\",IF(_xlfn.XLOOKUP(F240,'Object Codes'!A:A,'Object Codes'!I:I)=\"Y\",\"Y\",\"N\"),\"N\")","v":"Y"},{"$f":"VLOOKUP(F240,'Object Codes'!$A:$C,3,0)","v":"Longevity Differential"},{"$f":"VLOOKUP(A240,Agencies!A:C,3,0)","v":"Mayoralty"},0]
["002",2022,"001","040","0401","043",0,0,0,0,0,0,0,0,0,0,32.840000000000003,0,32.840000000000003,32.840000000000003,-32.840000000000003,32.840000000000003,-32.840000000000003,32.840000000000003,32.840000000000003,-32.840000000000003,{"$f":"_xlfn.XLOOKUP(F241,'Object Codes'!$A$18:$A$510,'Object Codes'!$H$18:$H$510)","v":"PS - Additional Gross"},{"$f":"_xlfn.XLOOKUP(F241,'Object Codes'!$A$18:$A$510,'Object Codes'!$G$18:$G$510)","v":"A"},{"$f":"_xlfn.XLOOKUP(A241,Agencies!$A$9:$A$146,Agencies!$B$9:$B$146)","v":"General Government"},{"$f":"IF(_xlfn.XLOOKUP(A241,Agencies!A:A,Agencies!D:D)=\"Y\",IF(_xlfn.XLOOKUP(F241,'Object Codes'!A:A,'Object Codes'!I:I)=\"Y\",\"Y\",\"N\"),\"N\")","v":"Y"},{"$f":"VLOOKUP(F241,'Object Codes'!$A:$C,3,0)","v":"Shift Differential"},{"$f":"VLOOKUP(A241,Agencies!A:C,3,0)","v":"Mayoralty"},8.9972602739726043E-2]
["002",2022,"001","040","0401","045",0,0,0,0,0,0,0,0,0,0,110.25,0,110.25,110.25,-110.25,110.25,-110.25,110.25,110.25,-110.25,{"$f":"_xlfn.XLOOKUP(F242,'Object Codes'!$A$18:$A$510,'Object Codes'!$H$18:$H$510)","v":"PS - Additional Gross"},{"$f":"_xlfn.XLOOKUP(F242,'Object Codes'!$A$18:$A$510,'Object Codes'!$G$18:$G$510)","v":"A"},{"$f":"_xlfn.XLOOKUP(A242,Agencies!$A$9:$A$146,Agencies!$B$9:$B$146)","v":"General Government"},{"$f":"IF(_xlfn.XLOOKUP(A242,Agencies!A:A,Agencies!D:D)=\"Y\",IF(_xlfn.XLOOKUP(F242,'Object Codes'!A:A,'Object Codes'!I:I)=\"Y\",\"Y\",\"N\"),\"N\")","v":"Y"},{"$f":"VLOOKUP(F242,'Object Codes'!$A:$C,3,0)","v":"Holiday Pay"},{"$f":"VLOOKUP(A242,Agencies!A:C,3,0)","v":"Mayoralty"},0.30205479452054795]
["002",2022,"001","040","0401","046",0,0,0,498708,498708,0,0,0,0,0,65316.79,172000,237316.79,237316.79,261391.21,237316.79,261391.21,237316.79,237316.79,261391.21,{"$f":"_xlfn.XLOOKUP(F243,'Object Codes'!$A$18:$A$510,'Object Codes'!$H$18:$H$510)","v":"PS - Additional Gross"},{"$f":"_xlfn.XLOOKUP(F243,'Object Codes'!$A$18:$A$510,'Object Codes'!$G$18:$G$510)","v":"A"},{"$f":"_xlfn.XLOOKUP(A243,Agencies!$A$9:$A$146,Agencies!$B$9:$B$146)","v":"General Government"},{"$f":"IF(_xlfn.XLOOKUP(A243,Agencies!A:A,Agencies!D:D)=\"Y\",IF(_xlfn.XLOOKUP(F243,'Object Codes'!A:A,'Object Codes'!I:I)=\"Y\",\"Y\",\"N\"),\"N\")","v":"Y"},{"$f":"VLOOKUP(F243,'Object Codes'!$A:$C,3,0)","v":"Terminal Leave"},{"$f":"VLOOKUP(A243,Agencies!A:C,3,0)","v":"Mayoralty"},650.18298630136985]
["002",2022,"001","040","0401","047",0,0,0,430461,430461,0,0,0,0,0,3927.43,0,3927.43,3927.43,426533.57,3927.43,426533.57,3927.43,3927.43,426533.57,{"$f":"_xlfn.XLOOKUP(F244,'Object Codes'!$A$18:$A$510,'Object Codes'!$H$18:$H$510)","v":"PS - Additional Gross"},{"$f":"_xlfn.XLOOKUP(F244,'Object Codes'!$A$18:$A$510,'Object Codes'!$G$18:$G$510)","v":"C"},{"$f":"_xlfn.XLOOKUP(A244,Agencies!$A$9:$A$146,Agencies!$B$9:$B$146)","v":"General Government"},{"$f":"IF(_xlfn.XLOOKUP(A244,Agencies!A:A,Agencies!D:D)=\"Y\",IF(_xlfn.XLOOKUP(F244,'Object Codes'!A:A,'Object Codes'!I:I)=\"Y\",\"Y\",\"N\"),\"N\")","v":"Y"},{"$f":"VLOOKUP(F244,'Object Codes'!$A:$C,3,0)","v":"Overtime"},{"$f":"VLOOKUP(A244,Agencies!A:C,3,0)","v":"Mayoralty"},10.760082191780821]
["002",2022,"001","040","0401","061",0,0,0,9000,9000,0,0,0,0,0,74.25,0,74.25,74.25,8925.75,74.25,8925.75,74.25,74.25,8925.75,{"$f":"_xlfn.XLOOKUP(F245,'Object Codes'!$A$18:$A$510,'Object Codes'!$H$18:$H$510)","v":"PS - Additional Gross"},{"$f":"_xlfn.XLOOKUP(F245,'Object Codes'!$A$18:$A$510,'Object Codes'!$G$18:$G$510)","v":"A"},{"$f":"_xlfn.XLOOKUP(A245,Agencies!$A$9:$A$146,Agencies!$B$9:$B$146)","v":"General Government"},{"$f":"IF(_xlfn.XLOOKUP(A245,Agencies!A:A,Agencies!D:D)=\"Y\",IF(_xlfn.XLOOKUP(F245,'Object Codes'!A:A,'Object Codes'!I:I)=\"Y\",\"Y\",\"N\"),\"N\")","v":"Y"},{"$f":"VLOOKUP(F245,'Object Codes'!$A:$C,3,0)","v":"Supper Money"},{"$f":"VLOOKUP(A245,Agencies!A:C,3,0)","v":"Mayoralty"},0.20342465753424657]
["002",2022,"001","040","0402","001",0,7,7,613417,613417,0,0,0,0,0,289694.88,0,289694.88,289694.88,323722.12,289694.88,323722.12,289694.88,289694.88,323722.12,{"$f":"_xlfn.XLOOKUP(F246,'Object Codes'!$A$18:$A$510,'Object Codes'!$H$18:$H$510)","v":"PS - Regular"},{"$f":"_xlfn.XLOOKUP(F246,'Object Codes'!$A$18:$A$510,'Object Codes'!$G$18:$G$510)","v":"C"},{"$f":"_xlfn.XLOOKUP(A246,Agencies!$A$9:$A$146,Agencies!$B$9:$B$146)","v":"General Government"},{"$f":"IF(_xlfn.XLOOKUP(A246,Agencies!A:A,Agencies!D:D)=\"Y\",IF(_xlfn.XLOOKUP(F246,'Object Codes'!A:A,'Object Codes'!I:I)=\"Y\",\"Y\",\"N\"),\"N\")","v":"Y"},{"$f":"VLOOKUP(F246,'Object Codes'!$A:$C,3,0)","v":"Full Year Positions"},{"$f":"VLOOKUP(A246,Agencies!A:C,3,0)","v":"Mayoralty"},793.68460273972607]
["002",2022,"001","040","0402","047",0,0,0,0,0,0,0,0,0,0,996.45,0,996.45,996.45,-996.45,996.45,-996.45,996.45,996.45,-996.45,{"$f":"_xlfn.XLOOKUP(F247,'Object Codes'!$A$18:$A$510,'Object Codes'!$H$18:$H$510)","v":"PS - Additional Gross"},{"$f":"_xlfn.XLOOKUP(F247,'Object Codes'!$A$18:$A$510,'Object Codes'!$G$18:$G$510)","v":"C"},{"$f":"_xlfn.XLOOKUP(A247,Agencies!$A$9:$A$146,Agencies!$B$9:$B$146)","v":"General Government"},{"$f":"IF(_xlfn.XLOOKUP(A247,Agencies!A:A,Agencies!D:D)=\"Y\",IF(_xlfn.XLOOKUP(F247,'Object Codes'!A:A,'Object Codes'!I:I)=\"Y\",\"Y\",\"N\"),\"N\")","v":"Y"},{"$f":"VLOOKUP(F247,'Object Codes'!$A:$C,3,0)","v":"Overtime"},{"$f":"VLOOKUP(A247,Agencies!A:C,3,0)","v":"Mayoralty"},2.73]
["002",2022,"001","040","0402","061",0,0,0,0,0,0,0,0,0,0,41.75,0,41.75,41.75,-41.75,41.75,-41.75,41.75,41.75,-41.75,{"$f":"_xlfn.XLOOKUP(F248,'Object Codes'!$A$18:$A$510,'Object Codes'!$H$18:$H$510)","v":"PS - Additional Gross"},{"$f":"_xlfn.XLOOKUP(F248,'Object Codes'!$A$18:$A$510,'Object Codes'!$G$18:$G$510)","v":"A"},{"$f":"_xlfn.XLOOKUP(A248,Agencies!$A$9:$A$146,Agencies!$B$9:$B$146)","v":"General Government"},{"$f":"IF(_xlfn.XLOOKUP(A248,Agencies!A:A,Agencies!D:D)=\"Y\",IF(_xlfn.XLOOKUP(F248,'Object Codes'!A:A,'Object Codes'!I:I)=\"Y\",\"Y\",\"N\"),\"N\")","v":"Y"},{"$f":"VLOOKUP(F248,'Object Codes'!$A:$C,3,0)","v":"Supper Money"},{"$f":"VLOOKUP(A248,Agencies!A:C,3,0)","v":"Mayoralty"},0.11438356164383562]
["002",2022,"001","040","0403","001",0,35,35,3241122,3241122,0,0,0,0,0,3240317.6,0,3240317.6,3240317.6,804.4,3240317.6,804.4,3240317.6,3240317.6,804.4,{"$f":"_xlfn.XLOOKUP(F249,'Object Codes'!$A$18:$A$510,'Object Codes'!$H$18:$H$510)","v":"PS - Regular"},{"$f":"_xlfn.XLOOKUP(F249,'Object Codes'!$A$18:$A$510,'Object Codes'!$G$18:$G$510)","v":"C"},{"$f":"_xlfn.XLOOKUP(A249,Agencies!$A$9:$A$146,Agencies!$B$9:$B$146)","v":"General Government"},{"$f":"IF(_xlfn.XLOOKUP(A249,Agencies!A:A,Agencies!D:D)=\"Y\",IF(_xlfn.XLOOKUP(F249,'Object Codes'!A:A,'Object Codes'!I:I)=\"Y\",\"Y\",\"N\"),\"N\")","v":"Y"},{"$f":"VLOOKUP(F249,'Object Codes'!$A:$C,3,0)","v":"Full Year Positions"},{"$f":"VLOOKUP(A249,Agencies!A:C,3,0)","v":"Mayoralty"},8877.5824657534249]
["002",2022,"001","040","0403","031",0,0,0,0,0,0,0,0,0,0,37386.25,0,37386.25,37386.25,-37386.25,37386.25,-37386.25,37386.25,37386.25,-37386.25,{"$f":"_xlfn.XLOOKUP(F250,'Object Codes'!$A$18:$A$510,'Object Codes'!$H$18:$H$510)","v":"PS - Regular"},{"$f":"_xlfn.XLOOKUP(F250,'Object Codes'!$A$18:$A$510,'Object Codes'!$G$18:$G$510)","v":"C"},{"$f":"_xlfn.XLOOKUP(A250,Agencies!$A$9:$A$146,Agencies!$B$9:$B$146)","v":"General Government"},{"$f":"IF(_xlfn.XLOOKUP(A250,Agencies!A:A,Agencies!D:D)=\"Y\",IF(_xlfn.XLOOKUP(F250,'Object Codes'!A:A,'Object Codes'!I:I)=\"Y\",\"Y\",\"N\"),\"N\")","v":"Y"},{"$f":"VLOOKUP(F250,'Object Codes'!$A:$C,3,0)","v":"Hourly Positions"},{"$f":"VLOOKUP(A250,Agencies!A:C,3,0)","v":"Mayoralty"},102.42808219178082]
["002",2022,"001","040","0403","042",0,0,0,0,0,0,0,0,0,0,6351.06,0,6351.06,6351.06,-6351.06,6351.06,-6351.06,6351.06,6351.06,-6351.06,{"$f":"_xlfn.XLOOKUP(F251,'Object Codes'!$A$18:$A$510,'Object Codes'!$H$18:$H$510)","v":"PS - Additional Gross"},{"$f":"_xlfn.XLOOKUP(F251,'Object Codes'!$A$18:$A$510,'Object Codes'!$G$18:$G$510)","v":"A"},{"$f":"_xlfn.XLOOKUP(A251,Agencies!$A$9:$A$146,Agencies!$B$9:$B$146)","v":"General Government"},{"$f":"IF(_xlfn.XLOOKUP(A251,Agencies!A:A,Agencies!D:D)=\"Y\",IF(_xlfn.XLOOKUP(F251,'Object Codes'!A:A,'Object Codes'!I:I)=\"Y\",\"Y\",\"N\"),\"N\")","v":"Y"},{"$f":"VLOOKUP(F251,'Object Codes'!$A:$C,3,0)","v":"Longevity Differential"},{"$f":"VLOOKUP(A251,Agencies!A:C,3,0)","v":"Mayoralty"},17.400164383561645]
["002",2022,"001","040","0403","043",0,0,0,0,0,0,0,0,0,0,577.91999999999996,0,577.91999999999996,577.91999999999996,-577.91999999999996,577.91999999999996,-577.91999999999996,577.91999999999996,577.91999999999996,-577.91999999999996,{"$f":"_xlfn.XLOOKUP(F252,'Object Codes'!$A$18:$A$510,'Object Codes'!$H$18:$H$510)","v":"PS - Additional Gross"},{"$f":"_xlfn.XLOOKUP(F252,'Object Codes'!$A$18:$A$510,'Object Codes'!$G$18:$G$510)","v":"A"},{"$f":"_xlfn.XLOOKUP(A252,Agencies!$A$9:$A$146,Agencies!$B$9:$B$146)","v":"General Government"},{"$f":"IF(_xlfn.XLOOKUP(A252,Agencies!A:A,Agencies!D:D)=\"Y\",IF(_xlfn.XLOOKUP(F252,'Object Codes'!A:A,'Object Codes'!I:I)=\"Y\",\"Y\",\"N\"),\"N\")","v":"Y"},{"$f":"VLOOKUP(F252,'Object Codes'!$A:$C,3,0)","v":"Shift Differential"},{"$f":"VLOOKUP(A252,Agencies!A:C,3,0)","v":"Mayoralty"},1.5833424657534245]
["002",2022,"001","040","0403","045",0,0,0,0,0,0,0,0,0,0,1023.75,0,1023.75,1023.75,-1023.75,1023.75,-1023.75,1023.75,1023.75,-1023.75,{"$f":"_xlfn.XLOOKUP(F253,'Object Codes'!$A$18:$A$510,'Object Codes'!$H$18:$H$510)","v":"PS - Additional Gross"},{"$f":"_xlfn.XLOOKUP(F253,'Object Codes'!$A$18:$A$510,'Object Codes'!$G$18:$G$510)","v":"A"},{"$f":"_xlfn.XLOOKUP(A253,Agencies!$A$9:$A$146,Agencies!$B$9:$B$146)","v":"General Government"},{"$f":"IF(_xlfn.XLOOKUP(A253,Agencies!A:A,Agencies!D:D)=\"Y\",IF(_xlfn.XLOOKUP(F253,'Object Codes'!A:A,'Object Codes'!I:I)=\"Y\",\"Y\",\"N\"),\"N\")","v":"Y"},{"$f":"VLOOKUP(F253,'Object Codes'!$A:$C,3,0)","v":"Holiday Pay"},{"$f":"VLOOKUP(A253,Agencies!A:C,3,0)","v":"Mayoralty"},2.8047945205479454]
["002",2022,"001","040","0403","046",0,0,0,0,0,0,0,0,0,0,-170547.06,0,-170547.06,-170547.06,170547.06,-170547.06,170547.06,-170547.06,-170547.06,170547.06,{"$f":"_xlfn.XLOOKUP(F254,'Object Codes'!$A$18:$A$510,'Object Codes'!$H$18:$H$510)","v":"PS - Additional Gross"},{"$f":"_xlfn.XLOOKUP(F254,'Object Codes'!$A$18:$A$510,'Object Codes'!$G$18:$G$510)","v":"A"},{"$f":"_xlfn.XLOOKUP(A254,Agencies!$A$9:$A$146,Agencies!$B$9:$B$146)","v":"General Government"},{"$f":"IF(_xlfn.XLOOKUP(A254,Agencies!A:A,Agencies!D:D)=\"Y\",IF(_xlfn.XLOOKUP(F254,'Object Codes'!A:A,'Object Codes'!I:I)=\"Y\",\"Y\",\"N\"),\"N\")","v":"Y"},{"$f":"VLOOKUP(F254,'Object Codes'!$A:$C,3,0)","v":"Terminal Leave"},{"$f":"VLOOKUP(A254,Agencies!A:C,3,0)","v":"Mayoralty"},-467.25221917808216]
["002",2022,"001","040","0403","047",0,0,0,0,0,0,0,0,0,0,55395.53,0,55395.53,55395.53,-55395.53,55395.53,-55395.53,55395.53,55395.53,-55395.53,{"$f":"_xlfn.XLOOKUP(F255,'Object Codes'!$A$18:$A$510,'Object Codes'!$H$18:$H$510)","v":"PS - Additional Gross"},{"$f":"_xlfn.XLOOKUP(F255,'Object Codes'!$A$18:$A$510,'Object Codes'!$G$18:$G$510)","v":"C"},{"$f":"_xlfn.XLOOKUP(A255,Agencies!$A$9:$A$146,Agencies!$B$9:$B$146)","v":"General Government"},{"$f":"IF(_xlfn.XLOOKUP(A255,Agencies!A:A,Agencies!D:D)=\"Y\",IF(_xlfn.XLOOKUP(F255,'Object Codes'!A:A,'Object Codes'!I:I)=\"Y\",\"Y\",\"N\"),\"N\")","v":"Y"},{"$f":"VLOOKUP(F255,'Object Codes'!$A:$C,3,0)","v":"Overtime"},{"$f":"VLOOKUP(A255,Agencies!A:C,3,0)","v":"Mayoralty"},151.76857534246574]
["002",2022,"001","040","0403","061",0,0,0,0,0,0,0,0,0,0,968.25,0,968.25,968.25,-968.25,968.25,-968.25,968.25,968.25,-968.25,{"$f":"_xlfn.XLOOKUP(F256,'Object Codes'!$A$18:$A$510,'Object Codes'!$H$18:$H$510)","v":"PS - Additional Gross"},{"$f":"_xlfn.XLOOKUP(F256,'Object Codes'!$A$18:$A$510,'Object Codes'!$G$18:$G$510)","v":"A"},{"$f":"_xlfn.XLOOKUP(A256,Agencies!$A$9:$A$146,Agencies!$B$9:$B$146)","v":"General Government"},{"$f":"IF(_xlfn.XLOOKUP(A256,Agencies!A:A,Agencies!D:D)=\"Y\",IF(_xlfn.XLOOKUP(F256,'Object Codes'!A:A,'Object Codes'!I:I)=\"Y\",\"Y\",\"N\"),\"N\")","v":"Y"},{"$f":"VLOOKUP(F256,'Object Codes'!$A:$C,3,0)","v":"Supper Money"},{"$f":"VLOOKUP(A256,Agencies!A:C,3,0)","v":"Mayoralty"},2.6527397260273973]
["002",2022,"001","040","0403","X47",0,0,0,0,0,0,0,0,0,0,90.63,0,90.63,90.63,-90.63,90.63,-90.63,90.63,90.63,-90.63,{"$f":"_xlfn.XLOOKUP(F257,'Object Codes'!$A$18:$A$510,'Object Codes'!$H$18:$H$510)","v":"PS - Additional Gross"},{"$f":"_xlfn.XLOOKUP(F257,'Object Codes'!$A$18:$A$510,'Object Codes'!$G$18:$G$510)","v":"A"},{"$f":"_xlfn.XLOOKUP(A257,Agencies!$A$9:$A$146,Agencies!$B$9:$B$146)","v":"General Government"},{"$f":"IF(_xlfn.XLOOKUP(A257,Agencies!A:A,Agencies!D:D)=\"Y\",IF(_xlfn.XLOOKUP(F257,'Object Codes'!A:A,'Object Codes'!I:I)=\"Y\",\"Y\",\"N\"),\"N\")","v":"Y"},{"$f":"VLOOKUP(F257,'Object Codes'!$A:$C,3,0)","v":"PY OVERTIME"},{"$f":"VLOOKUP(A257,Agencies!A:C,3,0)","v":"Mayoralty"},0.24830136986301368]
["002",2022,"001","040","0408","001",0,4,4,756230,756230,0,0,0,0,0,626338.78,0,626338.78,626338.78,129891.22,626338.78,129891.22,626338.78,626338.78,129891.22,{"$f":"_xlfn.XLOOKUP(F258,'Object Codes'!$A$18:$A$510,'Object Codes'!$H$18:$H$510)","v":"PS - Regular"},{"$f":"_xlfn.XLOOKUP(F258,'Object Codes'!$A$18:$A$510,'Object Codes'!$G$18:$G$510)","v":"C"},{"$f":"_xlfn.XLOOKUP(A258,Agencies!$A$9:$A$146,Agencies!$B$9:$B$146)","v":"General Government"},{"$f":"IF(_xlfn.XLOOKUP(A258,Agencies!A:A,Agencies!D:D)=\"Y\",IF(_xlfn.XLOOKUP(F258,'Object Codes'!A:A,'Object Codes'!I:I)=\"Y\",\"Y\",\"N\"),\"N\")","v":"Y"},{"$f":"VLOOKUP(F258,'Object Codes'!$A:$C,3,0)","v":"Full Year Positions"},{"$f":"VLOOKUP(A258,Agencies!A:C,3,0)","v":"Mayoralty"},1715.9966575342467]
["002",2022,"001","040","0408","031",0,0,0,2500,2500,0,0,0,0,0,0,0,0,0,2500,0,2500,0,0,2500,{"$f":"_xlfn.XLOOKUP(F259,'Object Codes'!$A$18:$A$510,'Object Codes'!$H$18:$H$510)","v":"PS - Regular"},{"$f":"_xlfn.XLOOKUP(F259,'Object Codes'!$A$18:$A$510,'Object Codes'!$G$18:$G$510)","v":"C"},{"$f":"_xlfn.XLOOKUP(A259,Agencies!$A$9:$A$146,Agencies!$B$9:$B$146)","v":"General Government"},{"$f":"IF(_xlfn.XLOOKUP(A259,Agencies!A:A,Agencies!D:D)=\"Y\",IF(_xlfn.XLOOKUP(F259,'Object Codes'!A:A,'Object Codes'!I:I)=\"Y\",\"Y\",\"N\"),\"N\")","v":"Y"},{"$f":"VLOOKUP(F259,'Object Codes'!$A:$C,3,0)","v":"Hourly Positions"},{"$f":"VLOOKUP(A259,Agencies!A:C,3,0)","v":"Mayoralty"},0]
["002",2022,"001","040","0408","046",0,0,0,0,0,0,0,0,0,0,2511.9699999999998,0,2511.9699999999998,2511.9699999999998,-2511.9699999999998,2511.9699999999998,-2511.9699999999998,2511.9699999999998,2511.9699999999998,-2511.9699999999998,{"$f":"_xlfn.XLOOKUP(F260,'Object Codes'!$A$18:$A$510,'Object Codes'!$H$18:$H$510)","v":"PS - Additional Gross"},{"$f":"_xlfn.XLOOKUP(F260,'Object Codes'!$A$18:$A$510,'Object Codes'!$G$18:$G$510)","v":"A"},{"$f":"_xlfn.XLOOKUP(A260,Agencies!$A$9:$A$146,Agencies!$B$9:$B$146)","v":"General Government"},{"$f":"IF(_xlfn.XLOOKUP(A260,Agencies!A:A,Agencies!D:D)=\"Y\",IF(_xlfn.XLOOKUP(F260,'Object Codes'!A:A,'Object Codes'!I:I)=\"Y\",\"Y\",\"N\"),\"N\")","v":"Y"},{"$f":"VLOOKUP(F260,'Object Codes'!$A:$C,3,0)","v":"Terminal Leave"},{"$f":"VLOOKUP(A260,Agencies!A:C,3,0)","v":"Mayoralty"},6.8821095890410957]
["002",2022,"001","040","0408","061",0,0,0,0,0,0,0,0,0,0,99,0,99,99,-99,99,-99,99,99,-99,{"$f":"_xlfn.XLOOKUP(F261,'Object Codes'!$A$18:$A$510,'Object Codes'!$H$18:$H$510)","v":"PS - Additional Gross"},{"$f":"_xlfn.XLOOKUP(F261,'Object Codes'!$A$18:$A$510,'Object Codes'!$G$18:$G$510)","v":"A"},{"$f":"_xlfn.XLOOKUP(A261,Agencies!$A$9:$A$146,Agencies!$B$9:$B$146)","v":"General Government"},{"$f":"IF(_xlfn.XLOOKUP(A261,Agencies!A:A,Agencies!D:D)=\"Y\",IF(_xlfn.XLOOKUP(F261,'Object Codes'!A:A,'Object Codes'!I:I)=\"Y\",\"Y\",\"N\"),\"N\")","v":"Y"},{"$f":"VLOOKUP(F261,'Object Codes'!$A:$C,3,0)","v":"Supper Money"},{"$f":"VLOOKUP(A261,Agencies!A:C,3,0)","v":"Mayoralty"},0.27123287671232876]
["002",2022,"001","040","0410","001",0,13,13,1340448,1340448,0,0,0,0,0,1608407.2,0,1608407.2,1608407.2,-267959.2,1608407.2,-267959.2,1608407.2,1608407.2,-267959.2,{"$f":"_xlfn.XLOOKUP(F262,'Object Codes'!$A$18:$A$510,'Object Codes'!$H$18:$H$510)","v":"PS - Regular"},{"$f":"_xlfn.XLOOKUP(F262,'Object Codes'!$A$18:$A$510,'Object Codes'!$G$18:$G$510)","v":"C"},{"$f":"_xlfn.XLOOKUP(A262,Agencies!$A$9:$A$146,Agencies!$B$9:$B$146)","v":"General Government"},{"$f":"IF(_xlfn.XLOOKUP(A262,Agencies!A:A,Agencies!D:D)=\"Y\",IF(_xlfn.XLOOKUP(F262,'Object Codes'!A:A,'Object Codes'!I:I)=\"Y\",\"Y\",\"N\"),\"N\")","v":"Y"},{"$f":"VLOOKUP(F262,'Object Codes'!$A:$C,3,0)","v":"Full Year Positions"},{"$f":"VLOOKUP(A262,Agencies!A:C,3,0)","v":"Mayoralty"},4406.5950684931504]
["002",2022,"001","040","0410","047",0,0,0,0,0,0,0,0,0,0,63.14,0,63.14,63.14,-63.14,63.14,-63.14,63.14,63.14,-63.14,{"$f":"_xlfn.XLOOKUP(F263,'Object Codes'!$A$18:$A$510,'Object Codes'!$H$18:$H$510)","v":"PS - Additional Gross"},{"$f":"_xlfn.XLOOKUP(F263,'Object Codes'!$A$18:$A$510,'Object Codes'!$G$18:$G$510)","v":"C"},{"$f":"_xlfn.XLOOKUP(A263,Agencies!$A$9:$A$146,Agencies!$B$9:$B$146)","v":"General Government"},{"$f":"IF(_xlfn.XLOOKUP(A263,Agencies!A:A,Agencies!D:D)=\"Y\",IF(_xlfn.XLOOKUP(F263,'Object Codes'!A:A,'Object Codes'!I:I)=\"Y\",\"Y\",\"N\"),\"N\")","v":"Y"},{"$f":"VLOOKUP(F263,'Object Codes'!$A:$C,3,0)","v":"Overtime"},{"$f":"VLOOKUP(A263,Agencies!A:C,3,0)","v":"Mayoralty"},0.17298630136986301]
["002",2022,"001","040","0410","061",0,0,0,0,0,0,0,0,0,0,140.25,0,140.25,140.25,-140.25,140.25,-140.25,140.25,140.25,-140.25,{"$f":"_xlfn.XLOOKUP(F264,'Object Codes'!$A$18:$A$510,'Object Codes'!$H$18:$H$510)","v":"PS - Additional Gross"},{"$f":"_xlfn.XLOOKUP(F264,'Object Codes'!$A$18:$A$510,'Object Codes'!$G$18:$G$510)","v":"A"},{"$f":"_xlfn.XLOOKUP(A264,Agencies!$A$9:$A$146,Agencies!$B$9:$B$146)","v":"General Government"},{"$f":"IF(_xlfn.XLOOKUP(A264,Agencies!A:A,Agencies!D:D)=\"Y\",IF(_xlfn.XLOOKUP(F264,'Object Codes'!A:A,'Object Codes'!I:I)=\"Y\",\"Y\",\"N\"),\"N\")","v":"Y"},{"$f":"VLOOKUP(F264,'Object Codes'!$A:$C,3,0)","v":"Supper Money"},{"$f":"VLOOKUP(A264,Agencies!A:C,3,0)","v":"Mayoralty"},0.38424657534246576]
["002",2022,"001","040","0411","001",0,32,32,2748400,2748400,0,0,0,0,0,2666535.84,0,2666535.84,2666535.84,81864.160000000003,2666535.84,81864.160000000003,2666535.84,2666535.84,81864.160000000003,{"$f":"_xlfn.XLOOKUP(F265,'Object Codes'!$A$18:$A$510,'Object Codes'!$H$18:$H$510)","v":"PS - Regular"},{"$f":"_xlfn.XLOOKUP(F265,'Object Codes'!$A$18:$A$510,'Object Codes'!$G$18:$G$510)","v":"C"},{"$f":"_xlfn.XLOOKUP(A265,Agencies!$A$9:$A$146,Agencies!$B$9:$B$146)","v":"General Government"},{"$f":"IF(_xlfn.XLOOKUP(A265,Agencies!A:A,Agencies!D:D)=\"Y\",IF(_xlfn.XLOOKUP(F265,'Object Codes'!A:A,'Object Codes'!I:I)=\"Y\",\"Y\",\"N\"),\"N\")","v":"Y"},{"$f":"VLOOKUP(F265,'Object Codes'!$A:$C,3,0)","v":"Full Year Positions"},{"$f":"VLOOKUP(A265,Agencies!A:C,3,0)","v":"Mayoralty"},{"$f":"S265/365","v":7305.5776438356161}]
["002",2022,"001","040","0411","031",0,0,0,542,542,0,0,0,0,0,15820.91,0,15820.91,15820.91,-15278.91,15820.91,-15278.91,15820.91,15820.91,-15278.91,{"$f":"_xlfn.XLOOKUP(F266,'Object Codes'!$A$18:$A$510,'Object Codes'!$H$18:$H$510)","v":"PS - Regular"},{"$f":"_xlfn.XLOOKUP(F266,'Object Codes'!$A$18:$A$510,'Object Codes'!$G$18:$G$510)","v":"C"},{"$f":"_xlfn.XLOOKUP(A266,Agencies!$A$9:$A$146,Agencies!$B$9:$B$146)","v":"General Government"},{"$f":"IF(_xlfn.XLOOKUP(A266,Agencies!A:A,Agencies!D:D)=\"Y\",IF(_xlfn.XLOOKUP(F266,'Object Codes'!A:A,'Object Codes'!I:I)=\"Y\",\"Y\",\"N\"),\"N\")","v":"Y"},{"$f":"VLOOKUP(F266,'Object Codes'!$A:$C,3,0)","v":"Hourly Positions"},{"$f":"VLOOKUP(A266,Agencies!A:C,3,0)","v":"Mayoralty"},43.344958904109589]
["002",2022,"001","040","0411","045",0,0,0,0,0,0,0,0,0,0,447.28,0,447.28,447.28,-447.28,447.28,-447.28,447.28,447.28,-447.28,{"$f":"_xlfn.XLOOKUP(F267,'Object Codes'!$A$18:$A$510,'Object Codes'!$H$18:$H$510)","v":"PS - Additional Gross"},{"$f":"_xlfn.XLOOKUP(F267,'Object Codes'!$A$18:$A$510,'Object Codes'!$G$18:$G$510)","v":"A"},{"$f":"_xlfn.XLOOKUP(A267,Agencies!$A$9:$A$146,Agencies!$B$9:$B$146)","v":"General Government"},{"$f":"IF(_xlfn.XLOOKUP(A267,Agencies!A:A,Agencies!D:D)=\"Y\",IF(_xlfn.XLOOKUP(F267,'Object Codes'!A:A,'Object Codes'!I:I)=\"Y\",\"Y\",\"N\"),\"N\")","v":"Y"},{"$f":"VLOOKUP(F267,'Object Codes'!$A:$C,3,0)","v":"Holiday Pay"},{"$f":"VLOOKUP(A267,Agencies!A:C,3,0)","v":"Mayoralty"},1.2254246575342465]
["002",2022,"001","040","0411","046",0,0,0,0,251464,0,0,0,0,0,107543.25,176103.1,283646.34999999998,283646.34999999998,-32182.35,283646.34999999998,-32182.35,283646.34999999998,283646.34999999998,-32182.35,{"$f":"_xlfn.XLOOKUP(F268,'Object Codes'!$A$18:$A$510,'Object Codes'!$H$18:$H$510)","v":"PS - Additional Gross"},{"$f":"_xlfn.XLOOKUP(F268,'Object Codes'!$A$18:$A$510,'Object Codes'!$G$18:$G$510)","v":"A"},{"$f":"_xlfn.XLOOKUP(A268,Agencies!$A$9:$A$146,Agencies!$B$9:$B$146)","v":"General Government"},{"$f":"IF(_xlfn.XLOOKUP(A268,Agencies!A:A,Agencies!D:D)=\"Y\",IF(_xlfn.XLOOKUP(F268,'Object Codes'!A:A,'Object Codes'!I:I)=\"Y\",\"Y\",\"N\"),\"N\")","v":"Y"},{"$f":"VLOOKUP(F268,'Object Codes'!$A:$C,3,0)","v":"Terminal Leave"},{"$f":"VLOOKUP(A268,Agencies!A:C,3,0)","v":"Mayoralty"},777.1132876712328]
["002",2022,"001","040","0411","047",0,0,0,0,0,0,0,0,0,0,49520.03,0,49520.03,49520.03,-49520.03,49520.03,-49520.03,49520.03,49520.03,-49520.03,{"$f":"_xlfn.XLOOKUP(F269,'Object Codes'!$A$18:$A$510,'Object Codes'!$H$18:$H$510)","v":"PS - Additional Gross"},{"$f":"_xlfn.XLOOKUP(F269,'Object Codes'!$A$18:$A$510,'Object Codes'!$G$18:$G$510)","v":"C"},{"$f":"_xlfn.XLOOKUP(A269,Agencies!$A$9:$A$146,Agencies!$B$9:$B$146)","v":"General Government"},{"$f":"IF(_xlfn.XLOOKUP(A269,Agencies!A:A,Agencies!D:D)=\"Y\",IF(_xlfn.XLOOKUP(F269,'Object Codes'!A:A,'Object Codes'!I:I)=\"Y\",\"Y\",\"N\"),\"N\")","v":"Y"},{"$f":"VLOOKUP(F269,'Object Codes'!$A:$C,3,0)","v":"Overtime"},{"$f":"VLOOKUP(A269,Agencies!A:C,3,0)","v":"Mayoralty"},135.67131506849316]
["002",2022,"001","040","0411","051",0,0,0,461,461,0,0,0,0,0,0,0,0,0,461,0,461,0,0,461,{"$f":"_xlfn.XLOOKUP(F270,'Object Codes'!$A$18:$A$510,'Object Codes'!$H$18:$H$510)","v":"PS - Additional Gross"},{"$f":"_xlfn.XLOOKUP(F270,'Object Codes'!$A$18:$A$510,'Object Codes'!$G$18:$G$510)","v":"A"},{"$f":"_xlfn.XLOOKUP(A270,Agencies!$A$9:$A$146,Agencies!$B$9:$B$146)","v":"General Government"},{"$f":"IF(_xlfn.XLOOKUP(A270,Agencies!A:A,Agencies!D:D)=\"Y\",IF(_xlfn.XLOOKUP(F270,'Object Codes'!A:A,'Object Codes'!I:I)=\"Y\",\"Y\",\"N\"),\"N\")","v":"Y"},{"$f":"VLOOKUP(F270,'Object Codes'!$A:$C,3,0)","v":"Salary Adjustments"},{"$f":"VLOOKUP(A270,Agencies!A:C,3,0)","v":"Mayoralty"},0]
["002",2022,"001","040","0411","061",0,0,0,0,0,0,0,0,0,0,1029.5,0,1029.5,1029.5,-1029.5,1029.5,-1029.5,1029.5,1029.5,-1029.5,{"$f":"_xlfn.XLOOKUP(F271,'Object Codes'!$A$18:$A$510,'Object Codes'!$H$18:$H$510)","v":"PS - Additional Gross"},{"$f":"_xlfn.XLOOKUP(F271,'Object Codes'!$A$18:$A$510,'Object Codes'!$G$18:$G$510)","v":"A"},{"$f":"_xlfn.XLOOKUP(A271,Agencies!$A$9:$A$146,Agencies!$B$9:$B$146)","v":"General Government"},{"$f":"IF(_xlfn.XLOOKUP(A271,Agencies!A:A,Agencies!D:D)=\"Y\",IF(_xlfn.XLOOKUP(F271,'Object Codes'!A:A,'Object Codes'!I:I)=\"Y\",\"Y\",\"N\"),\"N\")","v":"Y"},{"$f":"VLOOKUP(F271,'Object Codes'!$A:$C,3,0)","v":"Supper Money"},{"$f":"VLOOKUP(A271,Agencies!A:C,3,0)","v":"Mayoralty"},2.8205479452054796]
["002",2022,"001","040","0413","001",0,13,13,1011972,1011972,0,0,0,0,0,918393.4,0,918393.4,918393.4,93578.6,918393.4,93578.6,918393.4,918393.4,93578.6,{"$f":"_xlfn.XLOOKUP(F272,'Object Codes'!$A$18:$A$510,'Object Codes'!$H$18:$H$510)","v":"PS - Regular"},{"$f":"_xlfn.XLOOKUP(F272,'Object Codes'!$A$18:$A$510,'Object Codes'!$G$18:$G$510)","v":"C"},{"$f":"_xlfn.XLOOKUP(A272,Agencies!$A$9:$A$146,Agencies!$B$9:$B$146)","v":"General Government"},{"$f":"IF(_xlfn.XLOOKUP(A272,Agencies!A:A,Agencies!D:D)=\"Y\",IF(_xlfn.XLOOKUP(F272,'Object Codes'!A:A,'Object Codes'!I:I)=\"Y\",\"Y\",\"N\"),\"N\")","v":"Y"},{"$f":"VLOOKUP(F272,'Object Codes'!$A:$C,3,0)","v":"Full Year Positions"},{"$f":"VLOOKUP(A272,Agencies!A:C,3,0)","v":"Mayoralty"},2516.1463013698631]
["002",2022,"001","040","0413","031",0,0,0,0,0,0,0,0,0,0,3771,0,3771,3771,-3771,3771,-3771,3771,3771,-3771,{"$f":"_xlfn.XLOOKUP(F273,'Object Codes'!$A$18:$A$510,'Object Codes'!$H$18:$H$510)","v":"PS - Regular"},{"$f":"_xlfn.XLOOKUP(F273,'Object Codes'!$A$18:$A$510,'Object Codes'!$G$18:$G$510)","v":"C"},{"$f":"_xlfn.XLOOKUP(A273,Agencies!$A$9:$A$146,Agencies!$B$9:$B$146)","v":"General Government"},{"$f":"IF(_xlfn.XLOOKUP(A273,Agencies!A:A,Agencies!D:D)=\"Y\",IF(_xlfn.XLOOKUP(F273,'Object Codes'!A:A,'Object Codes'!I:I)=\"Y\",\"Y\",\"N\"),\"N\")","v":"Y"},{"$f":"VLOOKUP(F273,'Object Codes'!$A:$C,3,0)","v":"Hourly Positions"},{"$f":"VLOOKUP(A273,Agencies!A:C,3,0)","v":"Mayoralty"},10.331506849315069]
["002",2022,"001","040","0413","042",0,0,0,0,0,0,0,0,0,0,799.88,0,799.88,799.88,-799.88,799.88,-799.88,799.88,799.88,-799.88,{"$f":"_xlfn.XLOOKUP(F274,'Object Codes'!$A$18:$A$510,'Object Codes'!$H$18:$H$510)","v":"PS - Additional Gross"},{"$f":"_xlfn.XLOOKUP(F274,'Object Codes'!$A$18:$A$510,'Object Codes'!$G$18:$G$510)","v":"A"},{"$f":"_xlfn.XLOOKUP(A274,Agencies!$A$9:$A$146,Agencies!$B$9:$B$146)","v":"General Government"},{"$f":"IF(_xlfn.XLOOKUP(A274,Agencies!A:A,Agencies!D:D)=\"Y\",IF(_xlfn.XLOOKUP(F274,'Object Codes'!A:A,'Object Codes'!I:I)=\"Y\",\"Y\",\"N\"),\"N\")","v":"Y"},{"$f":"VLOOKUP(F274,'Object Codes'!$A:$C,3,0)","v":"Longevity Differential"},{"$f":"VLOOKUP(A274,Agencies!A:C,3,0)","v":"Mayoralty"},2.1914520547945204]
["002",2022,"001","040","0413","045",0,0,0,0,0,0,0,0,0,0,126,0,126,126,-126,126,-126,126,126,-126,{"$f":"_xlfn.XLOOKUP(F275,'Object Codes'!$A$18:$A$510,'Object Codes'!$H$18:$H$510)","v":"PS - Additional Gross"},{"$f":"_xlfn.XLOOKUP(F275,'Object Codes'!$A$18:$A$510,'Object Codes'!$G$18:$G$510)","v":"A"},{"$f":"_xlfn.XLOOKUP(A275,Agencies!$A$9:$A$146,Agencies!$B$9:$B$146)","v":"General Government"},{"$f":"IF(_xlfn.XLOOKUP(A275,Agencies!A:A,Agencies!D:D)=\"Y\",IF(_xlfn.XLOOKUP(F275,'Object Codes'!A:A,'Object Codes'!I:I)=\"Y\",\"Y\",\"N\"),\"N\")","v":"Y"},{"$f":"VLOOKUP(F275,'Object Codes'!$A:$C,3,0)","v":"Holiday Pay"},{"$f":"VLOOKUP(A275,Agencies!A:C,3,0)","v":"Mayoralty"},0.34520547945205482]
["002",2022,"001","040","0413","046",0,0,0,0,0,0,0,0,0,0,33418.78,0,33418.78,33418.78,-33418.78,33418.78,-33418.78,33418.78,33418.78,-33418.78,{"$f":"_xlfn.XLOOKUP(F276,'Object Codes'!$A$18:$A$510,'Object Codes'!$H$18:$H$510)","v":"PS - Additional Gross"},{"$f":"_xlfn.XLOOKUP(F276,'Object Codes'!$A$18:$A$510,'Object Codes'!$G$18:$G$510)","v":"A"},{"$f":"_xlfn.XLOOKUP(A276,Agencies!$A$9:$A$146,Agencies!$B$9:$B$146)","v":"General Government"},{"$f":"IF(_xlfn.XLOOKUP(A276,Agencies!A:A,Agencies!D:D)=\"Y\",IF(_xlfn.XLOOKUP(F276,'Object Codes'!A:A,'Object Codes'!I:I)=\"Y\",\"Y\",\"N\"),\"N\")","v":"Y"},{"$f":"VLOOKUP(F276,'Object Codes'!$A:$C,3,0)","v":"Terminal Leave"},{"$f":"VLOOKUP(A276,Agencies!A:C,3,0)","v":"Mayoralty"},91.558301369863017]
["002",2022,"001","040","0413","047",0,0,0,0,0,0,0,0,0,0,22861.37,0,22861.37,22861.37,-22861.37,22861.37,-22861.37,22861.37,22861.37,-22861.37,{"$f":"_xlfn.XLOOKUP(F277,'Object Codes'!$A$18:$A$510,'Object Codes'!$H$18:$H$510)","v":"PS - Additional Gross"},{"$f":"_xlfn.XLOOKUP(F277,'Object Codes'!$A$18:$A$510,'Object Codes'!$G$18:$G$510)","v":"C"},{"$f":"_xlfn.XLOOKUP(A277,Agencies!$A$9:$A$146,Agencies!$B$9:$B$146)","v":"General Government"},{"$f":"IF(_xlfn.XLOOKUP(A277,Agencies!A:A,Agencies!D:D)=\"Y\",IF(_xlfn.XLOOKUP(F277,'Object Codes'!A:A,'Object Codes'!I:I)=\"Y\",\"Y\",\"N\"),\"N\")","v":"Y"},{"$f":"VLOOKUP(F277,'Object Codes'!$A:$C,3,0)","v":"Overtime"},{"$f":"VLOOKUP(A277,Agencies!A:C,3,0)","v":"Mayoralty"},62.633890410958898]
["002",2022,"001","040","0413","061",0,0,0,0,0,0,0,0,0,0,330.5,0,330.5,330.5,-330.5,330.5,-330.5,330.5,330.5,-330.5,{"$f":"_xlfn.XLOOKUP(F278,'Object Codes'!$A$18:$A$510,'Object Codes'!$H$18:$H$510)","v":"PS - Additional Gross"},{"$f":"_xlfn.XLOOKUP(F278,'Object Codes'!$A$18:$A$510,'Object Codes'!$G$18:$G$510)","v":"A"},{"$f":"_xlfn.XLOOKUP(A278,Agencies!$A$9:$A$146,Agencies!$B$9:$B$146)","v":"General Government"},{"$f":"IF(_xlfn.XLOOKUP(A278,Agencies!A:A,Agencies!D:D)=\"Y\",IF(_xlfn.XLOOKUP(F278,'Object Codes'!A:A,'Object Codes'!I:I)=\"Y\",\"Y\",\"N\"),\"N\")","v":"Y"},{"$f":"VLOOKUP(F278,'Object Codes'!$A:$C,3,0)","v":"Supper Money"},{"$f":"VLOOKUP(A278,Agencies!A:C,3,0)","v":"Mayoralty"},0.90547945205479452]
["002",2022,"001","040","0416","001",0,21,21,1883531,1883531,0,0,0,0,0,1808368.79,0,1808368.79,1808368.79,75162.210000000006,1808368.79,75162.210000000006,1808368.79,1808368.79,75162.210000000006,{"$f":"_xlfn.XLOOKUP(F279,'Object Codes'!$A$18:$A$510,'Object Codes'!$H$18:$H$510)","v":"PS - Regular"},{"$f":"_xlfn.XLOOKUP(F279,'Object Codes'!$A$18:$A$510,'Object Codes'!$G$18:$G$510)","v":"C"},{"$f":"_xlfn.XLOOKUP(A279,Agencies!$A$9:$A$146,Agencies!$B$9:$B$146)","v":"General Government"},{"$f":"IF(_xlfn.XLOOKUP(A279,Agencies!A:A,Agencies!D:D)=\"Y\",IF(_xlfn.XLOOKUP(F279,'Object Codes'!A:A,'Object Codes'!I:I)=\"Y\",\"Y\",\"N\"),\"N\")","v":"Y"},{"$f":"VLOOKUP(F279,'Object Codes'!$A:$C,3,0)","v":"Full Year Positions"},{"$f":"VLOOKUP(A279,Agencies!A:C,3,0)","v":"Mayoralty"},4954.4350410958905]
["002",2022,"001","040","0416","046",0,0,0,0,0,0,0,0,0,0,53787.43,0,53787.43,53787.43,-53787.43,53787.43,-53787.43,53787.43,53787.43,-53787.43,{"$f":"_xlfn.XLOOKUP(F280,'Object Codes'!$A$18:$A$510,'Object Codes'!$H$18:$H$510)","v":"PS - Additional Gross"},{"$f":"_xlfn.XLOOKUP(F280,'Object Codes'!$A$18:$A$510,'Object Codes'!$G$18:$G$510)","v":"A"},{"$f":"_xlfn.XLOOKUP(A280,Agencies!$A$9:$A$146,Agencies!$B$9:$B$146)","v":"General Government"},{"$f":"IF(_xlfn.XLOOKUP(A280,Agencies!A:A,Agencies!D:D)=\"Y\",IF(_xlfn.XLOOKUP(F280,'Object Codes'!A:A,'Object Codes'!I:I)=\"Y\",\"Y\",\"N\"),\"N\")","v":"Y"},{"$f":"VLOOKUP(F280,'Object Codes'!$A:$C,3,0)","v":"Terminal Leave"},{"$f":"VLOOKUP(A280,Agencies!A:C,3,0)","v":"Mayoralty"},147.36282191780822]
["002",2022,"001","040","0416","047",0,0,0,0,0,0,0,0,0,0,23909.39,0,23909.39,23909.39,-23909.39,23909.39,-23909.39,23909.39,23909.39,-23909.39,{"$f":"_xlfn.XLOOKUP(F281,'Object Codes'!$A$18:$A$510,'Object Codes'!$H$18:$H$510)","v":"PS - Additional Gross"},{"$f":"_xlfn.XLOOKUP(F281,'Object Codes'!$A$18:$A$510,'Object Codes'!$G$18:$G$510)","v":"C"},{"$f":"_xlfn.XLOOKUP(A281,Agencies!$A$9:$A$146,Agencies!$B$9:$B$146)","v":"General Government"},{"$f":"IF(_xlfn.XLOOKUP(A281,Agencies!A:A,Agencies!D:D)=\"Y\",IF(_xlfn.XLOOKUP(F281,'Object Codes'!A:A,'Object Codes'!I:I)=\"Y\",\"Y\",\"N\"),\"N\")","v":"Y"},{"$f":"VLOOKUP(F281,'Object Codes'!$A:$C,3,0)","v":"Overtime"},{"$f":"VLOOKUP(A281,Agencies!A:C,3,0)","v":"Mayoralty"},65.505178082191776]
["002",2022,"001","040","0416","061",0,0,0,0,0,0,0,0,0,0,601,0,601,601,-601,601,-601,601,601,-601,{"$f":"_xlfn.XLOOKUP(F282,'Object Codes'!$A$18:$A$510,'Object Codes'!$H$18:$H$510)","v":"PS - Additional Gross"},{"$f":"_xlfn.XLOOKUP(F282,'Object Codes'!$A$18:$A$510,'Object Codes'!$G$18:$G$510)","v":"A"},{"$f":"_xlfn.XLOOKUP(A282,Agencies!$A$9:$A$146,Agencies!$B$9:$B$146)","v":"General Government"},{"$f":"IF(_xlfn.XLOOKUP(A282,Agencies!A:A,Agencies!D:D)=\"Y\",IF(_xlfn.XLOOKUP(F282,'Object Codes'!A:A,'Object Codes'!I:I)=\"Y\",\"Y\",\"N\"),\"N\")","v":"Y"},{"$f":"VLOOKUP(F282,'Object Codes'!$A:$C,3,0)","v":"Supper Money"},{"$f":"VLOOKUP(A282,Agencies!A:C,3,0)","v":"Mayoralty"},1.6465753424657534]
["002",2022,"001","040","0420","001",0,16,16,1489834,1489834,0,0,0,0,0,1096478.68,0,1096478.68,1096478.68,393355.32,1096478.68,393355.32,1096478.68,1096478.68,393355.32,{"$f":"_xlfn.XLOOKUP(F283,'Object Codes'!$A$18:$A$510,'Object Codes'!$H$18:$H$510)","v":"PS - Regular"},{"$f":"_xlfn.XLOOKUP(F283,'Object Codes'!$A$18:$A$510,'Object Codes'!$G$18:$G$510)","v":"C"},{"$f":"_xlfn.XLOOKUP(A283,Agencies!$A$9:$A$146,Agencies!$B$9:$B$146)","v":"General Government"},{"$f":"IF(_xlfn.XLOOKUP(A283,Agencies!A:A,Agencies!D:D)=\"Y\",IF(_xlfn.XLOOKUP(F283,'Object Codes'!A:A,'Object Codes'!I:I)=\"Y\",\"Y\",\"N\"),\"N\")","v":"Y"},{"$f":"VLOOKUP(F283,'Object Codes'!$A:$C,3,0)","v":"Full Year Positions"},{"$f":"VLOOKUP(A283,Agencies!A:C,3,0)","v":"Mayoralty"},3004.0511780821917]
["002",2022,"001","040","0420","031",0,0,0,0,0,0,0,0,0,0,6689.84,0,6689.84,6689.84,-6689.84,6689.84,-6689.84,6689.84,6689.84,-6689.84,{"$f":"_xlfn.XLOOKUP(F284,'Object Codes'!$A$18:$A$510,'Object Codes'!$H$18:$H$510)","v":"PS - Regular"},{"$f":"_xlfn.XLOOKUP(F284,'Object Codes'!$A$18:$A$510,'Object Codes'!$G$18:$G$510)","v":"C"},{"$f":"_xlfn.XLOOKUP(A284,Agencies!$A$9:$A$146,Agencies!$B$9:$B$146)","v":"General Government"},{"$f":"IF(_xlfn.XLOOKUP(A284,Agencies!A:A,Agencies!D:D)=\"Y\",IF(_xlfn.XLOOKUP(F284,'Object Codes'!A:A,'Object Codes'!I:I)=\"Y\",\"Y\",\"N\"),\"N\")","v":"Y"},{"$f":"VLOOKUP(F284,'Object Codes'!$A:$C,3,0)","v":"Hourly Positions"},{"$f":"VLOOKUP(A284,Agencies!A:C,3,0)","v":"Mayoralty"},18.328328767123288]
["002",2022,"001","040","0420","045",0,0,0,0,0,0,0,0,0,0,236.25,0,236.25,236.25,-236.25,236.25,-236.25,236.25,236.25,-236.25,{"$f":"_xlfn.XLOOKUP(F285,'Object Codes'!$A$18:$A$510,'Object Codes'!$H$18:$H$510)","v":"PS - Additional Gross"},{"$f":"_xlfn.XLOOKUP(F285,'Object Codes'!$A$18:$A$510,'Object Codes'!$G$18:$G$510)","v":"A"},{"$f":"_xlfn.XLOOKUP(A285,Agencies!$A$9:$A$146,Agencies!$B$9:$B$146)","v":"General Government"},{"$f":"IF(_xlfn.XLOOKUP(A285,Agencies!A:A,Agencies!D:D)=\"Y\",IF(_xlfn.XLOOKUP(F285,'Object Codes'!A:A,'Object Codes'!I:I)=\"Y\",\"Y\",\"N\"),\"N\")","v":"Y"},{"$f":"VLOOKUP(F285,'Object Codes'!$A:$C,3,0)","v":"Holiday Pay"},{"$f":"VLOOKUP(A285,Agencies!A:C,3,0)","v":"Mayoralty"},0.64726027397260277]
["002",2022,"001","040","0420","046",0,0,0,0,0,0,0,0,0,0,18577.25,0,18577.25,18577.25,-18577.25,18577.25,-18577.25,18577.25,18577.25,-18577.25,{"$f":"_xlfn.XLOOKUP(F286,'Object Codes'!$A$18:$A$510,'Object Codes'!$H$18:$H$510)","v":"PS - Additional Gross"},{"$f":"_xlfn.XLOOKUP(F286,'Object Codes'!$A$18:$A$510,'Object Codes'!$G$18:$G$510)","v":"A"},{"$f":"_xlfn.XLOOKUP(A286,Agencies!$A$9:$A$146,Agencies!$B$9:$B$146)","v":"General Government"},{"$f":"IF(_xlfn.XLOOKUP(A286,Agencies!A:A,Agencies!D:D)=\"Y\",IF(_xlfn.XLOOKUP(F286,'Object Codes'!A:A,'Object Codes'!I:I)=\"Y\",\"Y\",\"N\"),\"N\")","v":"Y"},{"$f":"VLOOKUP(F286,'Object Codes'!$A:$C,3,0)","v":"Terminal Leave"},{"$f":"VLOOKUP(A286,Agencies!A:C,3,0)","v":"Mayoralty"},50.896575342465752]
["002",2022,"001","040","0420","047",0,0,0,0,0,0,0,0,0,0,29012.69,0,29012.69,29012.69,-29012.69,29012.69,-29012.69,29012.69,29012.69,-29012.69,{"$f":"_xlfn.XLOOKUP(F287,'Object Codes'!$A$18:$A$510,'Object Codes'!$H$18:$H$510)","v":"PS - Additional Gross"},{"$f":"_xlfn.XLOOKUP(F287,'Object Codes'!$A$18:$A$510,'Object Codes'!$G$18:$G$510)","v":"C"},{"$f":"_xlfn.XLOOKUP(A287,Agencies!$A$9:$A$146,Agencies!$B$9:$B$146)","v":"General Government"},{"$f":"IF(_xlfn.XLOOKUP(A287,Agencies!A:A,Agencies!D:D)=\"Y\",IF(_xlfn.XLOOKUP(F287,'Object Codes'!A:A,'Object Codes'!I:I)=\"Y\",\"Y\",\"N\"),\"N\")","v":"Y"},{"$f":"VLOOKUP(F287,'Object Codes'!$A:$C,3,0)","v":"Overtime"},{"$f":"VLOOKUP(A287,Agencies!A:C,3,0)","v":"Mayoralty"},79.486821917808214]
["002",2022,"001","040","0420","061",0,0,0,0,0,0,0,0,0,0,727,0,727,727,-727,727,-727,727,727,-727,{"$f":"_xlfn.XLOOKUP(F288,'Object Codes'!$A$18:$A$510,'Object Codes'!$H$18:$H$510)","v":"PS - Additional Gross"},{"$f":"_xlfn.XLOOKUP(F288,'Object Codes'!$A$18:$A$510,'Object Codes'!$G$18:$G$510)","v":"A"},{"$f":"_xlfn.XLOOKUP(A288,Agencies!$A$9:$A$146,Agencies!$B$9:$B$146)","v":"General Government"},{"$f":"IF(_xlfn.XLOOKUP(A288,Agencies!A:A,Agencies!D:D)=\"Y\",IF(_xlfn.XLOOKUP(F288,'Object Codes'!A:A,'Object Codes'!I:I)=\"Y\",\"Y\",\"N\"),\"N\")","v":"Y"},{"$f":"VLOOKUP(F288,'Object Codes'!$A:$C,3,0)","v":"Supper Money"},{"$f":"VLOOKUP(A288,Agencies!A:C,3,0)","v":"Mayoralty"},1.9917808219178081]
["002",2022,"001","040","0421","001",0,24,24,2009399,2009399,0,0,0,0,0,1939929.58,0,1939929.58,1939929.58,69469.42,1939929.58,69469.42,1939929.58,1939929.58,69469.42,{"$f":"_xlfn.XLOOKUP(F289,'Object Codes'!$A$18:$A$510,'Object Codes'!$H$18:$H$510)","v":"PS - Regular"},{"$f":"_xlfn.XLOOKUP(F289,'Object Codes'!$A$18:$A$510,'Object Codes'!$G$18:$G$510)","v":"C"},{"$f":"_xlfn.XLOOKUP(A289,Agencies!$A$9:$A$146,Agencies!$B$9:$B$146)","v":"General Government"},{"$f":"IF(_xlfn.XLOOKUP(A289,Agencies!A:A,Agencies!D:D)=\"Y\",IF(_xlfn.XLOOKUP(F289,'Object Codes'!A:A,'Object Codes'!I:I)=\"Y\",\"Y\",\"N\"),\"N\")","v":"Y"},{"$f":"VLOOKUP(F289,'Object Codes'!$A:$C,3,0)","v":"Full Year Positions"},{"$f":"VLOOKUP(A289,Agencies!A:C,3,0)","v":"Mayoralty"},5314.8755616438357]
["002",2022,"001","040","0421","041",0,0,0,3606,3606,0,0,0,0,0,0,0,0,0,3606,0,3606,0,0,3606,{"$f":"_xlfn.XLOOKUP(F290,'Object Codes'!$A$18:$A$510,'Object Codes'!$H$18:$H$510)","v":"PS - Additional Gross"},{"$f":"_xlfn.XLOOKUP(F290,'Object Codes'!$A$18:$A$510,'Object Codes'!$G$18:$G$510)","v":"A"},{"$f":"_xlfn.XLOOKUP(A290,Agencies!$A$9:$A$146,Agencies!$B$9:$B$146)","v":"General Government"},{"$f":"IF(_xlfn.XLOOKUP(A290,Agencies!A:A,Agencies!D:D)=\"Y\",IF(_xlfn.XLOOKUP(F290,'Object Codes'!A:A,'Object Codes'!I:I)=\"Y\",\"Y\",\"N\"),\"N\")","v":"Y"},{"$f":"VLOOKUP(F290,'Object Codes'!$A:$C,3,0)","v":"Assignment Differential"},{"$f":"VLOOKUP(A290,Agencies!A:C,3,0)","v":"Mayoralty"},0]
["002",2022,"001","040","0421","045",0,0,0,0,0,0,0,0,0,0,45.31,0,45.31,45.31,-45.31,45.31,-45.31,45.31,45.31,-45.31,{"$f":"_xlfn.XLOOKUP(F291,'Object Codes'!$A$18:$A$510,'Object Codes'!$H$18:$H$510)","v":"PS - Additional Gross"},{"$f":"_xlfn.XLOOKUP(F291,'Object Codes'!$A$18:$A$510,'Object Codes'!$G$18:$G$510)","v":"A"},{"$f":"_xlfn.XLOOKUP(A291,Agencies!$A$9:$A$146,Agencies!$B$9:$B$146)","v":"General Government"},{"$f":"IF(_xlfn.XLOOKUP(A291,Agencies!A:A,Agencies!D:D)=\"Y\",IF(_xlfn.XLOOKUP(F291,'Object Codes'!A:A,'Object Codes'!I:I)=\"Y\",\"Y\",\"N\"),\"N\")","v":"Y"},{"$f":"VLOOKUP(F291,'Object Codes'!$A:$C,3,0)","v":"Holiday Pay"},{"$f":"VLOOKUP(A291,Agencies!A:C,3,0)","v":"Mayoralty"},0.12413698630136986]
["002",2022,"001","040","0421","046",0,0,0,0,0,0,0,0,0,0,23717.52,0,23717.52,23717.52,-23717.52,23717.52,-23717.52,23717.52,23717.52,-23717.52,{"$f":"_xlfn.XLOOKUP(F292,'Object Codes'!$A$18:$A$510,'Object Codes'!$H$18:$H$510)","v":"PS - Additional Gross"},{"$f":"_xlfn.XLOOKUP(F292,'Object Codes'!$A$18:$A$510,'Object Codes'!$G$18:$G$510)","v":"A"},{"$f":"_xlfn.XLOOKUP(A292,Agencies!$A$9:$A$146,Agencies!$B$9:$B$146)","v":"General Government"},{"$f":"IF(_xlfn.XLOOKUP(A292,Agencies!A:A,Agencies!D:D)=\"Y\",IF(_xlfn.XLOOKUP(F292,'Object Codes'!A:A,'Object Codes'!I:I)=\"Y\",\"Y\",\"N\"),\"N\")","v":"Y"},{"$f":"VLOOKUP(F292,'Object Codes'!$A:$C,3,0)","v":"Terminal Leave"},{"$f":"VLOOKUP(A292,Agencies!A:C,3,0)","v":"Mayoralty"},64.979506849315072]
["002",2022,"001","040","0421","047",0,0,0,0,0,0,0,0,0,0,13309.12,0,13309.12,13309.12,-13309.12,13309.12,-13309.12,13309.12,13309.12,-13309.12,{"$f":"_xlfn.XLOOKUP(F293,'Object Codes'!$A$18:$A$510,'Object Codes'!$H$18:$H$510)","v":"PS - Additional Gross"},{"$f":"_xlfn.XLOOKUP(F293,'Object Codes'!$A$18:$A$510,'Object Codes'!$G$18:$G$510)","v":"C"},{"$f":"_xlfn.XLOOKUP(A293,Agencies!$A$9:$A$146,Agencies!$B$9:$B$146)","v":"General Government"},{"$f":"IF(_xlfn.XLOOKUP(A293,Agencies!A:A,Agencies!D:D)=\"Y\",IF(_xlfn.XLOOKUP(F293,'Object Codes'!A:A,'Object Codes'!I:I)=\"Y\",\"Y\",\"N\"),\"N\")","v":"Y"},{"$f":"VLOOKUP(F293,'Object Codes'!$A:$C,3,0)","v":"Overtime"},{"$f":"VLOOKUP(A293,Agencies!A:C,3,0)","v":"Mayoralty"},36.463342465753428]
["002",2022,"001","040","0421","051",0,0,0,1200,1200,0,0,0,0,0,0,0,0,0,1200,0,1200,0,0,1200,{"$f":"_xlfn.XLOOKUP(F294,'Object Codes'!$A$18:$A$510,'Object Codes'!$H$18:$H$510)","v":"PS - Additional Gross"},{"$f":"_xlfn.XLOOKUP(F294,'Object Codes'!$A$18:$A$510,'Object Codes'!$G$18:$G$510)","v":"A"},{"$f":"_xlfn.XLOOKUP(A294,Agencies!$A$9:$A$146,Agencies!$B$9:$B$146)","v":"General Government"},{"$f":"IF(_xlfn.XLOOKUP(A294,Agencies!A:A,Agencies!D:D)=\"Y\",IF(_xlfn.XLOOKUP(F294,'Object Codes'!A:A,'Object Codes'!I:I)=\"Y\",\"Y\",\"N\"),\"N\")","v":"Y"},{"$f":"VLOOKUP(F294,'Object Codes'!$A:$C,3,0)","v":"Salary Adjustments"},{"$f":"VLOOKUP(A294,Agencies!A:C,3,0)","v":"Mayoralty"},0]
["002",2022,"001","040","0421","061",0,0,0,0,0,0,0,0,0,0,515.5,0,515.5,515.5,-515.5,515.5,-515.5,515.5,515.5,-515.5,{"$f":"_xlfn.XLOOKUP(F295,'Object Codes'!$A$18:$A$510,'Object Codes'!$H$18:$H$510)","v":"PS - Additional Gross"},{"$f":"_xlfn.XLOOKUP(F295,'Object Codes'!$A$18:$A$510,'Object Codes'!$G$18:$G$510)","v":"A"},{"$f":"_xlfn.XLOOKUP(A295,Agencies!$A$9:$A$146,Agencies!$B$9:$B$146)","v":"General Government"},{"$f":"IF(_xlfn.XLOOKUP(A295,Agencies!A:A,Agencies!D:D)=\"Y\",IF(_xlfn.XLOOKUP(F295,'Object Codes'!A:A,'Object Codes'!I:I)=\"Y\",\"Y\",\"N\"),\"N\")","v":"Y"},{"$f":"VLOOKUP(F295,'Object Codes'!$A:$C,3,0)","v":"Supper Money"},{"$f":"VLOOKUP(A295,Agencies!A:C,3,0)","v":"Mayoralty"},1.4123287671232876]
["002",2022,"001","040","0423","001",0,13,13,943089,821584,0,0,0,0,0,570953.25,0,570953.25,570953.25,250630.75,570953.25,250630.75,570953.25,570953.25,250630.75,{"$f":"_xlfn.XLOOKUP(F296,'Object Codes'!$A$18:$A$510,'Object Codes'!$H$18:$H$510)","v":"PS - Regular"},{"$f":"_xlfn.XLOOKUP(F296,'Object Codes'!$A$18:$A$510,'Object Codes'!$G$18:$G$510)","v":"C"},{"$f":"_xlfn.XLOOKUP(A296,Agencies!$A$9:$A$146,Agencies!$B$9:$B$146)","v":"General Government"},{"$f":"IF(_xlfn.XLOOKUP(A296,Agencies!A:A,Agencies!D:D)=\"Y\",IF(_xlfn.XLOOKUP(F296,'Object Codes'!A:A,'Object Codes'!I:I)=\"Y\",\"Y\",\"N\"),\"N\")","v":"Y"},{"$f":"VLOOKUP(F296,'Object Codes'!$A:$C,3,0)","v":"Full Year Positions"},{"$f":"VLOOKUP(A296,Agencies!A:C,3,0)","v":"Mayoralty"},1564.2554794520547]
["002",2022,"001","040","0423","031",0,0,0,103901,103901,0,0,0,0,0,196288.19,0,196288.19,196288.19,-92387.19,196288.19,-92387.19,196288.19,196288.19,-92387.19,{"$f":"_xlfn.XLOOKUP(F297,'Object Codes'!$A$18:$A$510,'Object Codes'!$H$18:$H$510)","v":"PS - Regular"},{"$f":"_xlfn.XLOOKUP(F297,'Object Codes'!$A$18:$A$510,'Object Codes'!$G$18:$G$510)","v":"C"},{"$f":"_xlfn.XLOOKUP(A297,Agencies!$A$9:$A$146,Agencies!$B$9:$B$146)","v":"General Government"},{"$f":"IF(_xlfn.XLOOKUP(A297,Agencies!A:A,Agencies!D:D)=\"Y\",IF(_xlfn.XLOOKUP(F297,'Object Codes'!A:A,'Object Codes'!I:I)=\"Y\",\"Y\",\"N\"),\"N\")","v":"Y"},{"$f":"VLOOKUP(F297,'Object Codes'!$A:$C,3,0)","v":"Hourly Positions"},{"$f":"VLOOKUP(A297,Agencies!A:C,3,0)","v":"Mayoralty"},537.77586301369865]
["002",2022,"001","040","0423","046",0,0,0,20000,20000,0,0,0,0,0,7801.11,0,7801.11,7801.11,12198.89,7801.11,12198.89,7801.11,7801.11,12198.89,{"$f":"_xlfn.XLOOKUP(F298,'Object Codes'!$A$18:$A$510,'Object Codes'!$H$18:$H$510)","v":"PS - Additional Gross"},{"$f":"_xlfn.XLOOKUP(F298,'Object Codes'!$A$18:$A$510,'Object Codes'!$G$18:$G$510)","v":"A"},{"$f":"_xlfn.XLOOKUP(A298,Agencies!$A$9:$A$146,Agencies!$B$9:$B$146)","v":"General Government"},{"$f":"IF(_xlfn.XLOOKUP(A298,Agencies!A:A,Agencies!D:D)=\"Y\",IF(_xlfn.XLOOKUP(F298,'Object Codes'!A:A,'Object Codes'!I:I)=\"Y\",\"Y\",\"N\"),\"N\")","v":"Y"},{"$f":"VLOOKUP(F298,'Object Codes'!$A:$C,3,0)","v":"Terminal Leave"},{"$f":"VLOOKUP(A298,Agencies!A:C,3,0)","v":"Mayoralty"},21.37290410958904]
["002",2022,"001","040","0423","047",0,0,0,15000,15000,0,0,0,0,0,3109.81,0,3109.81,3109.81,11890.19,3109.81,11890.19,3109.81,3109.81,11890.19,{"$f":"_xlfn.XLOOKUP(F299,'Object Codes'!$A$18:$A$510,'Object Codes'!$H$18:$H$510)","v":"PS - Additional Gross"},{"$f":"_xlfn.XLOOKUP(F299,'Object Codes'!$A$18:$A$510,'Object Codes'!$G$18:$G$510)","v":"C"},{"$f":"_xlfn.XLOOKUP(A299,Agencies!$A$9:$A$146,Agencies!$B$9:$B$146)","v":"General Government"},{"$f":"IF(_xlfn.XLOOKUP(A299,Agencies!A:A,Agencies!D:D)=\"Y\",IF(_xlfn.XLOOKUP(F299,'Object Codes'!A:A,'Object Codes'!I:I)=\"Y\",\"Y\",\"N\"),\"N\")","v":"Y"},{"$f":"VLOOKUP(F299,'Object Codes'!$A:$C,3,0)","v":"Overtime"},{"$f":"VLOOKUP(A299,Agencies!A:C,3,0)","v":"Mayoralty"},8.5200273972602734]
["002",2022,"001","040","0423","051",0,0,0,11389,11389,0,0,0,0,0,0,0,0,0,11389,0,11389,0,0,11389,{"$f":"_xlfn.XLOOKUP(F300,'Object Codes'!$A$18:$A$510,'Object Codes'!$H$18:$H$510)","v":"PS - Additional Gross"},{"$f":"_xlfn.XLOOKUP(F300,'Object Codes'!$A$18:$A$510,'Object Codes'!$G$18:$G$510)","v":"A"},{"$f":"_xlfn.XLOOKUP(A300,Agencies!$A$9:$A$146,Agencies!$B$9:$B$146)","v":"General Government"},{"$f":"IF(_xlfn.XLOOKUP(A300,Agencies!A:A,Agencies!D:D)=\"Y\",IF(_xlfn.XLOOKUP(F300,'Object Codes'!A:A,'Object Codes'!I:I)=\"Y\",\"Y\",\"N\"),\"N\")","v":"Y"},{"$f":"VLOOKUP(F300,'Object Codes'!$A:$C,3,0)","v":"Salary Adjustments"},{"$f":"VLOOKUP(A300,Agencies!A:C,3,0)","v":"Mayoralty"},0]
["002",2022,"001","040","0423","061",0,0,0,2000,2000,0,0,0,0,0,16.5,0,16.5,16.5,1983.5,16.5,1983.5,16.5,16.5,1983.5,{"$f":"_xlfn.XLOOKUP(F301,'Object Codes'!$A$18:$A$510,'Object Codes'!$H$18:$H$510)","v":"PS - Additional Gross"},{"$f":"_xlfn.XLOOKUP(F301,'Object Codes'!$A$18:$A$510,'Object Codes'!$G$18:$G$510)","v":"A"},{"$f":"_xlfn.XLOOKUP(A301,Agencies!$A$9:$A$146,Agencies!$B$9:$B$146)","v":"General Government"},{"$f":"IF(_xlfn.XLOOKUP(A301,Agencies!A:A,Agencies!D:D)=\"Y\",IF(_xlfn.XLOOKUP(F301,'Object Codes'!A:A,'Object Codes'!I:I)=\"Y\",\"Y\",\"N\"),\"N\")","v":"Y"},{"$f":"VLOOKUP(F301,'Object Codes'!$A:$C,3,0)","v":"Supper Money"},{"$f":"VLOOKUP(A301,Agencies!A:C,3,0)","v":"Mayoralty"},4.5205479452054796E-2]
["002",2022,"001","040","0431","001",0,20,20,1939703,1939703,0,0,0,0,0,1682534.12,0,1682534.12,1682534.12,257168.88,1682534.12,257168.88,1682534.12,1682534.12,257168.88,{"$f":"_xlfn.XLOOKUP(F302,'Object Codes'!$A$18:$A$510,'Object Codes'!$H$18:$H$510)","v":"PS - Regular"},{"$f":"_xlfn.XLOOKUP(F302,'Object Codes'!$A$18:$A$510,'Object Codes'!$G$18:$G$510)","v":"C"},{"$f":"_xlfn.XLOOKUP(A302,Agencies!$A$9:$A$146,Agencies!$B$9:$B$146)","v":"General Government"},{"$f":"IF(_xlfn.XLOOKUP(A302,Agencies!A:A,Agencies!D:D)=\"Y\",IF(_xlfn.XLOOKUP(F302,'Object Codes'!A:A,'Object Codes'!I:I)=\"Y\",\"Y\",\"N\"),\"N\")","v":"Y"},{"$f":"VLOOKUP(F302,'Object Codes'!$A:$C,3,0)","v":"Full Year Positions"},{"$f":"VLOOKUP(A302,Agencies!A:C,3,0)","v":"Mayoralty"},4609.6825205479454]
["002",2022,"001","040","0431","046",0,0,0,0,0,0,0,0,0,0,95795.04,0,95795.04,95795.04,-95795.04,95795.04,-95795.04,95795.04,95795.04,-95795.04,{"$f":"_xlfn.XLOOKUP(F303,'Object Codes'!$A$18:$A$510,'Object Codes'!$H$18:$H$510)","v":"PS - Additional Gross"},{"$f":"_xlfn.XLOOKUP(F303,'Object Codes'!$A$18:$A$510,'Object Codes'!$G$18:$G$510)","v":"A"},{"$f":"_xlfn.XLOOKUP(A303,Agencies!$A$9:$A$146,Agencies!$B$9:$B$146)","v":"General Government"},{"$f":"IF(_xlfn.XLOOKUP(A303,Agencies!A:A,Agencies!D:D)=\"Y\",IF(_xlfn.XLOOKUP(F303,'Object Codes'!A:A,'Object Codes'!I:I)=\"Y\",\"Y\",\"N\"),\"N\")","v":"Y"},{"$f":"VLOOKUP(F303,'Object Codes'!$A:$C,3,0)","v":"Terminal Leave"},{"$f":"VLOOKUP(A303,Agencies!A:C,3,0)","v":"Mayoralty"},262.45216438356164]
["002",2022,"001","040","0431","047",0,0,0,0,0,0,0,0,0,0,9910.11,0,9910.11,9910.11,-9910.11,9910.11,-9910.11,9910.11,9910.11,-9910.11,{"$f":"_xlfn.XLOOKUP(F304,'Object Codes'!$A$18:$A$510,'Object Codes'!$H$18:$H$510)","v":"PS - Additional Gross"},{"$f":"_xlfn.XLOOKUP(F304,'Object Codes'!$A$18:$A$510,'Object Codes'!$G$18:$G$510)","v":"C"},{"$f":"_xlfn.XLOOKUP(A304,Agencies!$A$9:$A$146,Agencies!$B$9:$B$146)","v":"General Government"},{"$f":"IF(_xlfn.XLOOKUP(A304,Agencies!A:A,Agencies!D:D)=\"Y\",IF(_xlfn.XLOOKUP(F304,'Object Codes'!A:A,'Object Codes'!I:I)=\"Y\",\"Y\",\"N\"),\"N\")","v":"Y"},{"$f":"VLOOKUP(F304,'Object Codes'!$A:$C,3,0)","v":"Overtime"},{"$f":"VLOOKUP(A304,Agencies!A:C,3,0)","v":"Mayoralty"},27.150986301369866]
["002",2022,"001","040","0431","057",0,0,0,0,1000,0,0,0,0,0,1000,0,1000,1000,0,1000,0,1000,1000,0,{"$f":"_xlfn.XLOOKUP(F305,'Object Codes'!$A$18:$A$510,'Object Codes'!$H$18:$H$510)","v":"PS - Additional Gross"},{"$f":"_xlfn.XLOOKUP(F305,'Object Codes'!$A$18:$A$510,'Object Codes'!$G$18:$G$510)","v":"A"},{"$f":"_xlfn.XLOOKUP(A305,Agencies!$A$9:$A$146,Agencies!$B$9:$B$146)","v":"General Government"},{"$f":"IF(_xlfn.XLOOKUP(A305,Agencies!A:A,Agencies!D:D)=\"Y\",IF(_xlfn.XLOOKUP(F305,'Object Codes'!A:A,'Object Codes'!I:I)=\"Y\",\"Y\",\"N\"),\"N\")","v":"Y"},{"$f":"VLOOKUP(F305,'Object Codes'!$A:$C,3,0)","v":"Bonus Payments"},{"$f":"VLOOKUP(A305,Agencies!A:C,3,0)","v":"Mayoralty"},2.7397260273972601]
["002",2022,"001","040","0431","061",0,0,0,0,0,0,0,0,0,0,146,0,146,146,-146,146,-146,146,146,-146,{"$f":"_xlfn.XLOOKUP(F306,'Object Codes'!$A$18:$A$510,'Object Codes'!$H$18:$H$510)","v":"PS - Additional Gross"},{"$f":"_xlfn.XLOOKUP(F306,'Object Codes'!$A$18:$A$510,'Object Codes'!$G$18:$G$510)","v":"A"},{"$f":"_xlfn.XLOOKUP(A306,Agencies!$A$9:$A$146,Agencies!$B$9:$B$146)","v":"General Government"},{"$f":"IF(_xlfn.XLOOKUP(A306,Agencies!A:A,Agencies!D:D)=\"Y\",IF(_xlfn.XLOOKUP(F306,'Object Codes'!A:A,'Object Codes'!I:I)=\"Y\",\"Y\",\"N\"),\"N\")","v":"Y"},{"$f":"VLOOKUP(F306,'Object Codes'!$A:$C,3,0)","v":"Supper Money"},{"$f":"VLOOKUP(A306,Agencies!A:C,3,0)","v":"Mayoralty"},0.4]
["002",2022,"001","040","0432","001",0,32,32,2926840,2926840,0,0,0,0,0,2644933.2599999998,0,2644933.2599999998,2644933.2599999998,281906.74,2644933.2599999998,281906.74,2644933.2599999998,2644933.2599999998,281906.74,{"$f":"_xlfn.XLOOKUP(F307,'Object Codes'!$A$18:$A$510,'Object Codes'!$H$18:$H$510)","v":"PS - Regular"},{"$f":"_xlfn.XLOOKUP(F307,'Object Codes'!$A$18:$A$510,'Object Codes'!$G$18:$G$510)","v":"C"},{"$f":"_xlfn.XLOOKUP(A307,Agencies!$A$9:$A$146,Agencies!$B$9:$B$146)","v":"General Government"},{"$f":"IF(_xlfn.XLOOKUP(A307,Agencies!A:A,Agencies!D:D)=\"Y\",IF(_xlfn.XLOOKUP(F307,'Object Codes'!A:A,'Object Codes'!I:I)=\"Y\",\"Y\",\"N\"),\"N\")","v":"Y"},{"$f":"VLOOKUP(F307,'Object Codes'!$A:$C,3,0)","v":"Full Year Positions"},{"$f":"VLOOKUP(A307,Agencies!A:C,3,0)","v":"Mayoralty"},7246.3924931506845]
["002",2022,"001","040","0432","031",0,0,0,507,507,0,0,0,0,0,54656.08,0,54656.08,54656.08,-54149.08,54656.08,-54149.08,54656.08,54656.08,-54149.08,{"$f":"_xlfn.XLOOKUP(F308,'Object Codes'!$A$18:$A$510,'Object Codes'!$H$18:$H$510)","v":"PS - Regular"},{"$f":"_xlfn.XLOOKUP(F308,'Object Codes'!$A$18:$A$510,'Object Codes'!$G$18:$G$510)","v":"C"},{"$f":"_xlfn.XLOOKUP(A308,Agencies!$A$9:$A$146,Agencies!$B$9:$B$146)","v":"General Government"},{"$f":"IF(_xlfn.XLOOKUP(A308,Agencies!A:A,Agencies!D:D)=\"Y\",IF(_xlfn.XLOOKUP(F308,'Object Codes'!A:A,'Object Codes'!I:I)=\"Y\",\"Y\",\"N\"),\"N\")","v":"Y"},{"$f":"VLOOKUP(F308,'Object Codes'!$A:$C,3,0)","v":"Hourly Positions"},{"$f":"VLOOKUP(A308,Agencies!A:C,3,0)","v":"Mayoralty"},149.74268493150686]
["002",2022,"001","040","0432","045",0,0,0,0,0,0,0,0,0,0,289.58,0,289.58,289.58,-289.58,289.58,-289.58,289.58,289.58,-289.58,{"$f":"_xlfn.XLOOKUP(F309,'Object Codes'!$A$18:$A$510,'Object Codes'!$H$18:$H$510)","v":"PS - Additional Gross"},{"$f":"_xlfn.XLOOKUP(F309,'Object Codes'!$A$18:$A$510,'Object Codes'!$G$18:$G$510)","v":"A"},{"$f":"_xlfn.XLOOKUP(A309,Agencies!$A$9:$A$146,Agencies!$B$9:$B$146)","v":"General Government"},{"$f":"IF(_xlfn.XLOOKUP(A309,Agencies!A:A,Agencies!D:D)=\"Y\",IF(_xlfn.XLOOKUP(F309,'Object Codes'!A:A,'Object Codes'!I:I)=\"Y\",\"Y\",\"N\"),\"N\")","v":"Y"},{"$f":"VLOOKUP(F309,'Object Codes'!$A:$C,3,0)","v":"Holiday Pay"},{"$f":"VLOOKUP(A309,Agencies!A:C,3,0)","v":"Mayoralty"},0.79336986301369861]
["002",2022,"001","040","0432","046",0,0,0,0,0,0,0,0,0,0,82793.45,0,82793.45,82793.45,-82793.45,82793.45,-82793.45,82793.45,82793.45,-82793.45,{"$f":"_xlfn.XLOOKUP(F310,'Object Codes'!$A$18:$A$510,'Object Codes'!$H$18:$H$510)","v":"PS - Additional Gross"},{"$f":"_xlfn.XLOOKUP(F310,'Object Codes'!$A$18:$A$510,'Object Codes'!$G$18:$G$510)","v":"A"},{"$f":"_xlfn.XLOOKUP(A310,Agencies!$A$9:$A$146,Agencies!$B$9:$B$146)","v":"General Government"},{"$f":"IF(_xlfn.XLOOKUP(A310,Agencies!A:A,Agencies!D:D)=\"Y\",IF(_xlfn.XLOOKUP(F310,'Object Codes'!A:A,'Object Codes'!I:I)=\"Y\",\"Y\",\"N\"),\"N\")","v":"Y"},{"$f":"VLOOKUP(F310,'Object Codes'!$A:$C,3,0)","v":"Terminal Leave"},{"$f":"VLOOKUP(A310,Agencies!A:C,3,0)","v":"Mayoralty"},226.83136986301369]
["002",2022,"001","040","0432","047",0,0,0,0,0,0,0,0,0,0,12180.08,0,12180.08,12180.08,-12180.08,12180.08,-12180.08,12180.08,12180.08,-12180.08,{"$f":"_xlfn.XLOOKUP(F311,'Object Codes'!$A$18:$A$510,'Object Codes'!$H$18:$H$510)","v":"PS - Additional Gross"},{"$f":"_xlfn.XLOOKUP(F311,'Object Codes'!$A$18:$A$510,'Object Codes'!$G$18:$G$510)","v":"C"},{"$f":"_xlfn.XLOOKUP(A311,Agencies!$A$9:$A$146,Agencies!$B$9:$B$146)","v":"General Government"},{"$f":"IF(_xlfn.XLOOKUP(A311,Agencies!A:A,Agencies!D:D)=\"Y\",IF(_xlfn.XLOOKUP(F311,'Object Codes'!A:A,'Object Codes'!I:I)=\"Y\",\"Y\",\"N\"),\"N\")","v":"Y"},{"$f":"VLOOKUP(F311,'Object Codes'!$A:$C,3,0)","v":"Overtime"},{"$f":"VLOOKUP(A311,Agencies!A:C,3,0)","v":"Mayoralty"},33.370082191780824]
["002",2022,"001","040","0432","057",0,0,0,0,1000,0,0,0,0,0,1000,0,1000,1000,0,1000,0,1000,1000,0,{"$f":"_xlfn.XLOOKUP(F312,'Object Codes'!$A$18:$A$510,'Object Codes'!$H$18:$H$510)","v":"PS - Additional Gross"},{"$f":"_xlfn.XLOOKUP(F312,'Object Codes'!$A$18:$A$510,'Object Codes'!$G$18:$G$510)","v":"A"},{"$f":"_xlfn.XLOOKUP(A312,Agencies!$A$9:$A$146,Agencies!$B$9:$B$146)","v":"General Government"},{"$f":"IF(_xlfn.XLOOKUP(A312,Agencies!A:A,Agencies!D:D)=\"Y\",IF(_xlfn.XLOOKUP(F312,'Object Codes'!A:A,'Object Codes'!I:I)=\"Y\",\"Y\",\"N\"),\"N\")","v":"Y"},{"$f":"VLOOKUP(F312,'Object Codes'!$A:$C,3,0)","v":"Bonus Payments"},{"$f":"VLOOKUP(A312,Agencies!A:C,3,0)","v":"Mayoralty"},2.7397260273972601]
["002",2022,"001","040","0432","061",0,0,0,0,0,0,0,0,0,0,401,0,401,401,-401,401,-401,401,401,-401,{"$f":"_xlfn.XLOOKUP(F313,'Object Codes'!$A$18:$A$510,'Object Codes'!$H$18:$H$510)","v":"PS - Additional Gross"},{"$f":"_xlfn.XLOOKUP(F313,'Object Codes'!$A$18:$A$510,'Object Codes'!$G$18:$G$510)","v":"A"},{"$f":"_xlfn.XLOOKUP(A313,Agencies!$A$9:$A$146,Agencies!$B$9:$B$146)","v":"General Government"},{"$f":"IF(_xlfn.XLOOKUP(A313,Agencies!A:A,Agencies!D:D)=\"Y\",IF(_xlfn.XLOOKUP(F313,'Object Codes'!A:A,'Object Codes'!I:I)=\"Y\",\"Y\",\"N\"),\"N\")","v":"Y"},{"$f":"VLOOKUP(F313,'Object Codes'!$A:$C,3,0)","v":"Supper Money"},{"$f":"VLOOKUP(A313,Agencies!A:C,3,0)","v":"Mayoralty"},1.0986301369863014]
["002",2022,"001","040","0433","001",0,24,24,2053097,2053097,0,0,0,0,0,2472714.61,0,2472714.61,2472714.61,-419617.61,2472714.61,-419617.61,2472714.61,2472714.61,-419617.61,{"$f":"_xlfn.XLOOKUP(F314,'Object Codes'!$A$18:$A$510,'Object Codes'!$H$18:$H$510)","v":"PS - Regular"},{"$f":"_xlfn.XLOOKUP(F314,'Object Codes'!$A$18:$A$510,'Object Codes'!$G$18:$G$510)","v":"C"},{"$f":"_xlfn.XLOOKUP(A314,Agencies!$A$9:$A$146,Agencies!$B$9:$B$146)","v":"General Government"},{"$f":"IF(_xlfn.XLOOKUP(A314,Agencies!A:A,Agencies!D:D)=\"Y\",IF(_xlfn.XLOOKUP(F314,'Object Codes'!A:A,'Object Codes'!I:I)=\"Y\",\"Y\",\"N\"),\"N\")","v":"Y"},{"$f":"VLOOKUP(F314,'Object Codes'!$A:$C,3,0)","v":"Full Year Positions"},{"$f":"VLOOKUP(A314,Agencies!A:C,3,0)","v":"Mayoralty"},6774.5605753424652]
["002",2022,"001","040","0433","046",0,0,0,0,0,0,0,0,0,0,60015.23,0,60015.23,60015.23,-60015.23,60015.23,-60015.23,60015.23,60015.23,-60015.23,{"$f":"_xlfn.XLOOKUP(F315,'Object Codes'!$A$18:$A$510,'Object Codes'!$H$18:$H$510)","v":"PS - Additional Gross"},{"$f":"_xlfn.XLOOKUP(F315,'Object Codes'!$A$18:$A$510,'Object Codes'!$G$18:$G$510)","v":"A"},{"$f":"_xlfn.XLOOKUP(A315,Agencies!$A$9:$A$146,Agencies!$B$9:$B$146)","v":"General Government"},{"$f":"IF(_xlfn.XLOOKUP(A315,Agencies!A:A,Agencies!D:D)=\"Y\",IF(_xlfn.XLOOKUP(F315,'Object Codes'!A:A,'Object Codes'!I:I)=\"Y\",\"Y\",\"N\"),\"N\")","v":"Y"},{"$f":"VLOOKUP(F315,'Object Codes'!$A:$C,3,0)","v":"Terminal Leave"},{"$f":"VLOOKUP(A315,Agencies!A:C,3,0)","v":"Mayoralty"},164.42528767123289]
["002",2022,"001","040","0433","047",0,0,0,0,0,0,0,0,0,0,1673.08,0,1673.08,1673.08,-1673.08,1673.08,-1673.08,1673.08,1673.08,-1673.08,{"$f":"_xlfn.XLOOKUP(F316,'Object Codes'!$A$18:$A$510,'Object Codes'!$H$18:$H$510)","v":"PS - Additional Gross"},{"$f":"_xlfn.XLOOKUP(F316,'Object Codes'!$A$18:$A$510,'Object Codes'!$G$18:$G$510)","v":"C"},{"$f":"_xlfn.XLOOKUP(A316,Agencies!$A$9:$A$146,Agencies!$B$9:$B$146)","v":"General Government"},{"$f":"IF(_xlfn.XLOOKUP(A316,Agencies!A:A,Agencies!D:D)=\"Y\",IF(_xlfn.XLOOKUP(F316,'Object Codes'!A:A,'Object Codes'!I:I)=\"Y\",\"Y\",\"N\"),\"N\")","v":"Y"},{"$f":"VLOOKUP(F316,'Object Codes'!$A:$C,3,0)","v":"Overtime"},{"$f":"VLOOKUP(A316,Agencies!A:C,3,0)","v":"Mayoralty"},4.5837808219178084]
["002",2022,"001","040","0433","051",0,0,0,4424,4424,0,0,0,0,0,0,0,0,0,4424,0,4424,0,0,4424,{"$f":"_xlfn.XLOOKUP(F317,'Object Codes'!$A$18:$A$510,'Object Codes'!$H$18:$H$510)","v":"PS - Additional Gross"},{"$f":"_xlfn.XLOOKUP(F317,'Object Codes'!$A$18:$A$510,'Object Codes'!$G$18:$G$510)","v":"A"},{"$f":"_xlfn.XLOOKUP(A317,Agencies!$A$9:$A$146,Agencies!$B$9:$B$146)","v":"General Government"},{"$f":"IF(_xlfn.XLOOKUP(A317,Agencies!A:A,Agencies!D:D)=\"Y\",IF(_xlfn.XLOOKUP(F317,'Object Codes'!A:A,'Object Codes'!I:I)=\"Y\",\"Y\",\"N\"),\"N\")","v":"Y"},{"$f":"VLOOKUP(F317,'Object Codes'!$A:$C,3,0)","v":"Salary Adjustments"},{"$f":"VLOOKUP(A317,Agencies!A:C,3,0)","v":"Mayoralty"},0]
["002",2022,"001","040","0433","061",0,0,0,0,0,0,0,0,0,0,266.5,0,266.5,266.5,-266.5,266.5,-266.5,266.5,266.5,-266.5,{"$f":"_xlfn.XLOOKUP(F318,'Object Codes'!$A$18:$A$510,'Object Codes'!$H$18:$H$510)","v":"PS - Additional Gross"},{"$f":"_xlfn.XLOOKUP(F318,'Object Codes'!$A$18:$A$510,'Object Codes'!$G$18:$G$510)","v":"A"},{"$f":"_xlfn.XLOOKUP(A318,Agencies!$A$9:$A$146,Agencies!$B$9:$B$146)","v":"General Government"},{"$f":"IF(_xlfn.XLOOKUP(A318,Agencies!A:A,Agencies!D:D)=\"Y\",IF(_xlfn.XLOOKUP(F318,'Object Codes'!A:A,'Object Codes'!I:I)=\"Y\",\"Y\",\"N\"),\"N\")","v":"Y"},{"$f":"VLOOKUP(F318,'Object Codes'!$A:$C,3,0)","v":"Supper Money"},{"$f":"VLOOKUP(A318,Agencies!A:C,3,0)","v":"Mayoralty"},0.73013698630136992]
["002",2022,"001","040","0441","001",0,32,32,2471025,2471025,0,0,0,0,0,2256807.1800000002,0,2256807.1800000002,2256807.1800000002,214217.82,2256807.1800000002,214217.82,2256807.1800000002,2256807.1800000002,214217.82,{"$f":"_xlfn.XLOOKUP(F319,'Object Codes'!$A$18:$A$510,'Object Codes'!$H$18:$H$510)","v":"PS - Regular"},{"$f":"_xlfn.XLOOKUP(F319,'Object Codes'!$A$18:$A$510,'Object Codes'!$G$18:$G$510)","v":"C"},{"$f":"_xlfn.XLOOKUP(A319,Agencies!$A$9:$A$146,Agencies!$B$9:$B$146)","v":"General Government"},{"$f":"IF(_xlfn.XLOOKUP(A319,Agencies!A:A,Agencies!D:D)=\"Y\",IF(_xlfn.XLOOKUP(F319,'Object Codes'!A:A,'Object Codes'!I:I)=\"Y\",\"Y\",\"N\"),\"N\")","v":"Y"},{"$f":"VLOOKUP(F319,'Object Codes'!$A:$C,3,0)","v":"Full Year Positions"},{"$f":"VLOOKUP(A319,Agencies!A:C,3,0)","v":"Mayoralty"},6183.0333698630138]
["002",2022,"001","040","0441","031",0,0,0,0,0,0,0,0,0,0,6799.5,0,6799.5,6799.5,-6799.5,6799.5,-6799.5,6799.5,6799.5,-6799.5,{"$f":"_xlfn.XLOOKUP(F320,'Object Codes'!$A$18:$A$510,'Object Codes'!$H$18:$H$510)","v":"PS - Regular"},{"$f":"_xlfn.XLOOKUP(F320,'Object Codes'!$A$18:$A$510,'Object Codes'!$G$18:$G$510)","v":"C"},{"$f":"_xlfn.XLOOKUP(A320,Agencies!$A$9:$A$146,Agencies!$B$9:$B$146)","v":"General Government"},{"$f":"IF(_xlfn.XLOOKUP(A320,Agencies!A:A,Agencies!D:D)=\"Y\",IF(_xlfn.XLOOKUP(F320,'Object Codes'!A:A,'Object Codes'!I:I)=\"Y\",\"Y\",\"N\"),\"N\")","v":"Y"},{"$f":"VLOOKUP(F320,'Object Codes'!$A:$C,3,0)","v":"Hourly Positions"},{"$f":"VLOOKUP(A320,Agencies!A:C,3,0)","v":"Mayoralty"},18.62876712328767]
["002",2022,"001","040","0441","046",0,0,0,0,141749,0,0,0,0,0,41748.959999999999,48000,89748.96,89748.96,52000.04,89748.96,52000.04,89748.96,89748.96,52000.04,{"$f":"_xlfn.XLOOKUP(F321,'Object Codes'!$A$18:$A$510,'Object Codes'!$H$18:$H$510)","v":"PS - Additional Gross"},{"$f":"_xlfn.XLOOKUP(F321,'Object Codes'!$A$18:$A$510,'Object Codes'!$G$18:$G$510)","v":"A"},{"$f":"_xlfn.XLOOKUP(A321,Agencies!$A$9:$A$146,Agencies!$B$9:$B$146)","v":"General Government"},{"$f":"IF(_xlfn.XLOOKUP(A321,Agencies!A:A,Agencies!D:D)=\"Y\",IF(_xlfn.XLOOKUP(F321,'Object Codes'!A:A,'Object Codes'!I:I)=\"Y\",\"Y\",\"N\"),\"N\")","v":"Y"},{"$f":"VLOOKUP(F321,'Object Codes'!$A:$C,3,0)","v":"Terminal Leave"},{"$f":"VLOOKUP(A321,Agencies!A:C,3,0)","v":"Mayoralty"},245.88756164383562]
["002",2022,"001","040","0441","047",0,0,0,0,0,0,0,0,0,0,14107.42,0,14107.42,14107.42,-14107.42,14107.42,-14107.42,14107.42,14107.42,-14107.42,{"$f":"_xlfn.XLOOKUP(F322,'Object Codes'!$A$18:$A$510,'Object Codes'!$H$18:$H$510)","v":"PS - Additional Gross"},{"$f":"_xlfn.XLOOKUP(F322,'Object Codes'!$A$18:$A$510,'Object Codes'!$G$18:$G$510)","v":"C"},{"$f":"_xlfn.XLOOKUP(A322,Agencies!$A$9:$A$146,Agencies!$B$9:$B$146)","v":"General Government"},{"$f":"IF(_xlfn.XLOOKUP(A322,Agencies!A:A,Agencies!D:D)=\"Y\",IF(_xlfn.XLOOKUP(F322,'Object Codes'!A:A,'Object Codes'!I:I)=\"Y\",\"Y\",\"N\"),\"N\")","v":"Y"},{"$f":"VLOOKUP(F322,'Object Codes'!$A:$C,3,0)","v":"Overtime"},{"$f":"VLOOKUP(A322,Agencies!A:C,3,0)","v":"Mayoralty"},38.650465753424655]
["002",2022,"001","040","0441","061",0,0,0,0,0,0,0,0,0,0,636.5,0,636.5,636.5,-636.5,636.5,-636.5,636.5,636.5,-636.5,{"$f":"_xlfn.XLOOKUP(F323,'Object Codes'!$A$18:$A$510,'Object Codes'!$H$18:$H$510)","v":"PS - Additional Gross"},{"$f":"_xlfn.XLOOKUP(F323,'Object Codes'!$A$18:$A$510,'Object Codes'!$G$18:$G$510)","v":"A"},{"$f":"_xlfn.XLOOKUP(A323,Agencies!$A$9:$A$146,Agencies!$B$9:$B$146)","v":"General Government"},{"$f":"IF(_xlfn.XLOOKUP(A323,Agencies!A:A,Agencies!D:D)=\"Y\",IF(_xlfn.XLOOKUP(F323,'Object Codes'!A:A,'Object Codes'!I:I)=\"Y\",\"Y\",\"N\"),\"N\")","v":"Y"},{"$f":"VLOOKUP(F323,'Object Codes'!$A:$C,3,0)","v":"Supper Money"},{"$f":"VLOOKUP(A323,Agencies!A:C,3,0)","v":"Mayoralty"},1.7438356164383562]
["002",2022,"001","040","0441","X47",0,0,0,0,0,0,0,0,0,0,102.59,0,102.59,102.59,-102.59,102.59,-102.59,102.59,102.59,-102.59,{"$f":"_xlfn.XLOOKUP(F324,'Object Codes'!$A$18:$A$510,'Object Codes'!$H$18:$H$510)","v":"PS - Additional Gross"},{"$f":"_xlfn.XLOOKUP(F324,'Object Codes'!$A$18:$A$510,'Object Codes'!$G$18:$G$510)","v":"A"},{"$f":"_xlfn.XLOOKUP(A324,Agencies!$A$9:$A$146,Agencies!$B$9:$B$146)","v":"General Government"},{"$f":"IF(_xlfn.XLOOKUP(A324,Agencies!A:A,Agencies!D:D)=\"Y\",IF(_xlfn.XLOOKUP(F324,'Object Codes'!A:A,'Object Codes'!I:I)=\"Y\",\"Y\",\"N\"),\"N\")","v":"Y"},{"$f":"VLOOKUP(F324,'Object Codes'!$A:$C,3,0)","v":"PY OVERTIME"},{"$f":"VLOOKUP(A324,Agencies!A:C,3,0)","v":"Mayoralty"},0.28106849315068494]
["002",2022,"001","040","0451","001",0,1,1,85000,85000,0,0,0,0,0,84350.03,0,84350.03,84350.03,649.97,84350.03,649.97,84350.03,84350.03,649.97,{"$f":"_xlfn.XLOOKUP(F325,'Object Codes'!$A$18:$A$510,'Object Codes'!$H$18:$H$510)","v":"PS - Regular"},{"$f":"_xlfn.XLOOKUP(F325,'Object Codes'!$A$18:$A$510,'Object Codes'!$G$18:$G$510)","v":"C"},{"$f":"_xlfn.XLOOKUP(A325,Agencies!$A$9:$A$146,Agencies!$B$9:$B$146)","v":"General Government"},{"$f":"IF(_xlfn.XLOOKUP(A325,Agencies!A:A,Agencies!D:D)=\"Y\",IF(_xlfn.XLOOKUP(F325,'Object Codes'!A:A,'Object Codes'!I:I)=\"Y\",\"Y\",\"N\"),\"N\")","v":"Y"},{"$f":"VLOOKUP(F325,'Object Codes'!$A:$C,3,0)","v":"Full Year Positions"},{"$f":"VLOOKUP(A325,Agencies!A:C,3,0)","v":"Mayoralty"},231.09597260273972]
["002",2022,"001","040","0451","061",0,0,0,0,0,0,0,0,0,0,50.5,0,50.5,50.5,-50.5,50.5,-50.5,50.5,50.5,-50.5,{"$f":"_xlfn.XLOOKUP(F326,'Object Codes'!$A$18:$A$510,'Object Codes'!$H$18:$H$510)","v":"PS - Additional Gross"},{"$f":"_xlfn.XLOOKUP(F326,'Object Codes'!$A$18:$A$510,'Object Codes'!$G$18:$G$510)","v":"A"},{"$f":"_xlfn.XLOOKUP(A326,Agencies!$A$9:$A$146,Agencies!$B$9:$B$146)","v":"General Government"},{"$f":"IF(_xlfn.XLOOKUP(A326,Agencies!A:A,Agencies!D:D)=\"Y\",IF(_xlfn.XLOOKUP(F326,'Object Codes'!A:A,'Object Codes'!I:I)=\"Y\",\"Y\",\"N\"),\"N\")","v":"Y"},{"$f":"VLOOKUP(F326,'Object Codes'!$A:$C,3,0)","v":"Supper Money"},{"$f":"VLOOKUP(A326,Agencies!A:C,3,0)","v":"Mayoralty"},0.13835616438356163]
["002",2022,"001","040","0462","001",0,70,70,6449914,6513914,0,0,0,0,0,6405498.2199999997,0,6405498.2199999997,6405498.2199999997,108415.78,6405498.2199999997,108415.78,6405498.2199999997,6405498.2199999997,108415.78,{"$f":"_xlfn.XLOOKUP(F327,'Object Codes'!$A$18:$A$510,'Object Codes'!$H$18:$H$510)","v":"PS - Regular"},{"$f":"_xlfn.XLOOKUP(F327,'Object Codes'!$A$18:$A$510,'Object Codes'!$G$18:$G$510)","v":"C"},{"$f":"_xlfn.XLOOKUP(A327,Agencies!$A$9:$A$146,Agencies!$B$9:$B$146)","v":"General Government"},{"$f":"IF(_xlfn.XLOOKUP(A327,Agencies!A:A,Agencies!D:D)=\"Y\",IF(_xlfn.XLOOKUP(F327,'Object Codes'!A:A,'Object Codes'!I:I)=\"Y\",\"Y\",\"N\"),\"N\")","v":"Y"},{"$f":"VLOOKUP(F327,'Object Codes'!$A:$C,3,0)","v":"Full Year Positions"},{"$f":"VLOOKUP(A327,Agencies!A:C,3,0)","v":"Mayoralty"},17549.31019178082]
["002",2022,"001","040","0462","031",0,0,0,89569,89569,0,0,0,0,0,92977.58,0,92977.58,92977.58,-3408.58,92977.58,-3408.58,92977.58,92977.58,-3408.58,{"$f":"_xlfn.XLOOKUP(F328,'Object Codes'!$A$18:$A$510,'Object Codes'!$H$18:$H$510)","v":"PS - Regular"},{"$f":"_xlfn.XLOOKUP(F328,'Object Codes'!$A$18:$A$510,'Object Codes'!$G$18:$G$510)","v":"C"},{"$f":"_xlfn.XLOOKUP(A328,Agencies!$A$9:$A$146,Agencies!$B$9:$B$146)","v":"General Government"},{"$f":"IF(_xlfn.XLOOKUP(A328,Agencies!A:A,Agencies!D:D)=\"Y\",IF(_xlfn.XLOOKUP(F328,'Object Codes'!A:A,'Object Codes'!I:I)=\"Y\",\"Y\",\"N\"),\"N\")","v":"Y"},{"$f":"VLOOKUP(F328,'Object Codes'!$A:$C,3,0)","v":"Hourly Positions"},{"$f":"VLOOKUP(A328,Agencies!A:C,3,0)","v":"Mayoralty"},254.73309589041097]
["002",2022,"001","040","0462","042",0,0,0,6000,6000,0,0,0,0,0,799.88,0,799.88,799.88,5200.12,799.88,5200.12,799.88,799.88,5200.12,{"$f":"_xlfn.XLOOKUP(F329,'Object Codes'!$A$18:$A$510,'Object Codes'!$H$18:$H$510)","v":"PS - Additional Gross"},{"$f":"_xlfn.XLOOKUP(F329,'Object Codes'!$A$18:$A$510,'Object Codes'!$G$18:$G$510)","v":"A"},{"$f":"_xlfn.XLOOKUP(A329,Agencies!$A$9:$A$146,Agencies!$B$9:$B$146)","v":"General Government"},{"$f":"IF(_xlfn.XLOOKUP(A329,Agencies!A:A,Agencies!D:D)=\"Y\",IF(_xlfn.XLOOKUP(F329,'Object Codes'!A:A,'Object Codes'!I:I)=\"Y\",\"Y\",\"N\"),\"N\")","v":"Y"},{"$f":"VLOOKUP(F329,'Object Codes'!$A:$C,3,0)","v":"Longevity Differential"},{"$f":"VLOOKUP(A329,Agencies!A:C,3,0)","v":"Mayoralty"},{"$f":"S329/365","v":2.1914520547945204}]
["002",2022,"001","040","0462","046",0,0,0,30000,30000,0,0,0,0,0,192962.26,0,192962.26,192962.26,-162962.26,192962.26,-162962.26,192962.26,192962.26,-162962.26,{"$f":"_xlfn.XLOOKUP(F330,'Object Codes'!$A$18:$A$510,'Object Codes'!$H$18:$H$510)","v":"PS - Additional Gross"},{"$f":"_xlfn.XLOOKUP(F330,'Object Codes'!$A$18:$A$510,'Object Codes'!$G$18:$G$510)","v":"A"},{"$f":"_xlfn.XLOOKUP(A330,Agencies!$A$9:$A$146,Agencies!$B$9:$B$146)","v":"General Government"},{"$f":"IF(_xlfn.XLOOKUP(A330,Agencies!A:A,Agencies!D:D)=\"Y\",IF(_xlfn.XLOOKUP(F330,'Object Codes'!A:A,'Object Codes'!I:I)=\"Y\",\"Y\",\"N\"),\"N\")","v":"Y"},{"$f":"VLOOKUP(F330,'Object Codes'!$A:$C,3,0)","v":"Terminal Leave"},{"$f":"VLOOKUP(A330,Agencies!A:C,3,0)","v":"Mayoralty"},528.66372602739727]
["002",2022,"001","040","0462","047",0,0,0,75560,75560,0,0,0,0,0,45441.77,0,45441.77,45441.77,30118.23,45441.77,30118.23,45441.77,45441.77,30118.23,{"$f":"_xlfn.XLOOKUP(F331,'Object Codes'!$A$18:$A$510,'Object Codes'!$H$18:$H$510)","v":"PS - Additional Gross"},{"$f":"_xlfn.XLOOKUP(F331,'Object Codes'!$A$18:$A$510,'Object Codes'!$G$18:$G$510)","v":"C"},{"$f":"_xlfn.XLOOKUP(A331,Agencies!$A$9:$A$146,Agencies!$B$9:$B$146)","v":"General Government"},{"$f":"IF(_xlfn.XLOOKUP(A331,Agencies!A:A,Agencies!D:D)=\"Y\",IF(_xlfn.XLOOKUP(F331,'Object Codes'!A:A,'Object Codes'!I:I)=\"Y\",\"Y\",\"N\"),\"N\")","v":"Y"},{"$f":"VLOOKUP(F331,'Object Codes'!$A:$C,3,0)","v":"Overtime"},{"$f":"VLOOKUP(A331,Agencies!A:C,3,0)","v":"Mayoralty"},124.49799999999999]
["002",2022,"001","040","0462","051",0,0,0,5333,5333,0,0,0,0,0,0,0,0,0,5333,0,5333,0,0,5333,{"$f":"_xlfn.XLOOKUP(F332,'Object Codes'!$A$18:$A$510,'Object Codes'!$H$18:$H$510)","v":"PS - Additional Gross"},{"$f":"_xlfn.XLOOKUP(F332,'Object Codes'!$A$18:$A$510,'Object Codes'!$G$18:$G$510)","v":"A"},{"$f":"_xlfn.XLOOKUP(A332,Agencies!$A$9:$A$146,Agencies!$B$9:$B$146)","v":"General Government"},{"$f":"IF(_xlfn.XLOOKUP(A332,Agencies!A:A,Agencies!D:D)=\"Y\",IF(_xlfn.XLOOKUP(F332,'Object Codes'!A:A,'Object Codes'!I:I)=\"Y\",\"Y\",\"N\"),\"N\")","v":"Y"},{"$f":"VLOOKUP(F332,'Object Codes'!$A:$C,3,0)","v":"Salary Adjustments"},{"$f":"VLOOKUP(A332,Agencies!A:C,3,0)","v":"Mayoralty"},0]
["002",2022,"001","040","0462","057",0,0,0,0,500,0,0,0,0,0,500,0,500,500,0,500,0,500,500,0,{"$f":"_xlfn.XLOOKUP(F333,'Object Codes'!$A$18:$A$510,'Object Codes'!$H$18:$H$510)","v":"PS - Additional Gross"},{"$f":"_xlfn.XLOOKUP(F333,'Object Codes'!$A$18:$A$510,'Object Codes'!$G$18:$G$510)","v":"A"},{"$f":"_xlfn.XLOOKUP(A333,Agencies!$A$9:$A$146,Agencies!$B$9:$B$146)","v":"General Government"},{"$f":"IF(_xlfn.XLOOKUP(A333,Agencies!A:A,Agencies!D:D)=\"Y\",IF(_xlfn.XLOOKUP(F333,'Object Codes'!A:A,'Object Codes'!I:I)=\"Y\",\"Y\",\"N\"),\"N\")","v":"Y"},{"$f":"VLOOKUP(F333,'Object Codes'!$A:$C,3,0)","v":"Bonus Payments"},{"$f":"VLOOKUP(A333,Agencies!A:C,3,0)","v":"Mayoralty"},1.3698630136986301]
["002",2022,"001","040","0462","061",0,0,0,1000,1000,0,0,0,0,0,2039.5,0,2039.5,2039.5,-1039.5,2039.5,-1039.5,2039.5,2039.5,-1039.5,{"$f":"_xlfn.XLOOKUP(F334,'Object Codes'!$A$18:$A$510,'Object Codes'!$H$18:$H$510)","v":"PS - Additional Gross"},{"$f":"_xlfn.XLOOKUP(F334,'Object Codes'!$A$18:$A$510,'Object Codes'!$G$18:$G$510)","v":"A"},{"$f":"_xlfn.XLOOKUP(A334,Agencies!$A$9:$A$146,Agencies!$B$9:$B$146)","v":"General Government"},{"$f":"IF(_xlfn.XLOOKUP(A334,Agencies!A:A,Agencies!D:D)=\"Y\",IF(_xlfn.XLOOKUP(F334,'Object Codes'!A:A,'Object Codes'!I:I)=\"Y\",\"Y\",\"N\"),\"N\")","v":"Y"},{"$f":"VLOOKUP(F334,'Object Codes'!$A:$C,3,0)","v":"Supper Money"},{"$f":"VLOOKUP(A334,Agencies!A:C,3,0)","v":"Mayoralty"},5.587671232876712]
["002",2022,"001","040","A003","001",0,25,25,1825000,1825000,0,0,0,0,0,965155.47,0,965155.47,965155.47,859844.53,965155.47,859844.53,965155.47,965155.47,859844.53,{"$f":"_xlfn.XLOOKUP(F335,'Object Codes'!$A$18:$A$510,'Object Codes'!$H$18:$H$510)","v":"PS - Regular"},{"$f":"_xlfn.XLOOKUP(F335,'Object Codes'!$A$18:$A$510,'Object Codes'!$G$18:$G$510)","v":"C"},{"$f":"_xlfn.XLOOKUP(A335,Agencies!$A$9:$A$146,Agencies!$B$9:$B$146)","v":"General Government"},{"$f":"IF(_xlfn.XLOOKUP(A335,Agencies!A:A,Agencies!D:D)=\"Y\",IF(_xlfn.XLOOKUP(F335,'Object Codes'!A:A,'Object Codes'!I:I)=\"Y\",\"Y\",\"N\"),\"N\")","v":"Y"},{"$f":"VLOOKUP(F335,'Object Codes'!$A:$C,3,0)","v":"Full Year Positions"},{"$f":"VLOOKUP(A335,Agencies!A:C,3,0)","v":"Mayoralty"},2644.2615616438356]
["002",2022,"001","040","A003","031",0,0,0,0,0,0,0,0,0,0,18218.96,0,18218.96,18218.96,-18218.96,18218.96,-18218.96,18218.96,18218.96,-18218.96,{"$f":"_xlfn.XLOOKUP(F336,'Object Codes'!$A$18:$A$510,'Object Codes'!$H$18:$H$510)","v":"PS - Regular"},{"$f":"_xlfn.XLOOKUP(F336,'Object Codes'!$A$18:$A$510,'Object Codes'!$G$18:$G$510)","v":"C"},{"$f":"_xlfn.XLOOKUP(A336,Agencies!$A$9:$A$146,Agencies!$B$9:$B$146)","v":"General Government"},{"$f":"IF(_xlfn.XLOOKUP(A336,Agencies!A:A,Agencies!D:D)=\"Y\",IF(_xlfn.XLOOKUP(F336,'Object Codes'!A:A,'Object Codes'!I:I)=\"Y\",\"Y\",\"N\"),\"N\")","v":"Y"},{"$f":"VLOOKUP(F336,'Object Codes'!$A:$C,3,0)","v":"Hourly Positions"},{"$f":"VLOOKUP(A336,Agencies!A:C,3,0)","v":"Mayoralty"},49.914958904109589]
["002",2022,"001","040","A003","045",0,0,0,0,0,0,0,0,0,0,346.5,0,346.5,346.5,-346.5,346.5,-346.5,346.5,346.5,-346.5,{"$f":"_xlfn.XLOOKUP(F337,'Object Codes'!$A$18:$A$510,'Object Codes'!$H$18:$H$510)","v":"PS - Additional Gross"},{"$f":"_xlfn.XLOOKUP(F337,'Object Codes'!$A$18:$A$510,'Object Codes'!$G$18:$G$510)","v":"A"},{"$f":"_xlfn.XLOOKUP(A337,Agencies!$A$9:$A$146,Agencies!$B$9:$B$146)","v":"General Government"},{"$f":"IF(_xlfn.XLOOKUP(A337,Agencies!A:A,Agencies!D:D)=\"Y\",IF(_xlfn.XLOOKUP(F337,'Object Codes'!A:A,'Object Codes'!I:I)=\"Y\",\"Y\",\"N\"),\"N\")","v":"Y"},{"$f":"VLOOKUP(F337,'Object Codes'!$A:$C,3,0)","v":"Holiday Pay"},{"$f":"VLOOKUP(A337,Agencies!A:C,3,0)","v":"Mayoralty"},0.94931506849315073]
["002",2022,"001","040","A003","046",0,0,0,0,0,0,0,0,0,0,143053.82,0,143053.82,143053.82,-143053.82,143053.82,-143053.82,143053.82,143053.82,-143053.82,{"$f":"_xlfn.XLOOKUP(F338,'Object Codes'!$A$18:$A$510,'Object Codes'!$H$18:$H$510)","v":"PS - Additional Gross"},{"$f":"_xlfn.XLOOKUP(F338,'Object Codes'!$A$18:$A$510,'Object Codes'!$G$18:$G$510)","v":"A"},{"$f":"_xlfn.XLOOKUP(A338,Agencies!$A$9:$A$146,Agencies!$B$9:$B$146)","v":"General Government"},{"$f":"IF(_xlfn.XLOOKUP(A338,Agencies!A:A,Agencies!D:D)=\"Y\",IF(_xlfn.XLOOKUP(F338,'Object Codes'!A:A,'Object Codes'!I:I)=\"Y\",\"Y\",\"N\"),\"N\")","v":"Y"},{"$f":"VLOOKUP(F338,'Object Codes'!$A:$C,3,0)","v":"Terminal Leave"},{"$f":"VLOOKUP(A338,Agencies!A:C,3,0)","v":"Mayoralty"},391.92827397260277]
["002",2022,"001","040","A003","047",0,0,0,0,0,0,0,0,0,0,870.36,0,870.36,870.36,-870.36,870.36,-870.36,870.36,870.36,-870.36,{"$f":"_xlfn.XLOOKUP(F339,'Object Codes'!$A$18:$A$510,'Object Codes'!$H$18:$H$510)","v":"PS - Additional Gross"},{"$f":"_xlfn.XLOOKUP(F339,'Object Codes'!$A$18:$A$510,'Object Codes'!$G$18:$G$510)","v":"C"},{"$f":"_xlfn.XLOOKUP(A339,Agencies!$A$9:$A$146,Agencies!$B$9:$B$146)","v":"General Government"},{"$f":"IF(_xlfn.XLOOKUP(A339,Agencies!A:A,Agencies!D:D)=\"Y\",IF(_xlfn.XLOOKUP(F339,'Object Codes'!A:A,'Object Codes'!I:I)=\"Y\",\"Y\",\"N\"),\"N\")","v":"Y"},{"$f":"VLOOKUP(F339,'Object Codes'!$A:$C,3,0)","v":"Overtime"},{"$f":"VLOOKUP(A339,Agencies!A:C,3,0)","v":"Mayoralty"},2.3845479452054796]
["002",2022,"001","040","A003","057",0,0,0,0,500,0,0,0,0,0,500,0,500,500,0,500,0,500,500,0,{"$f":"_xlfn.XLOOKUP(F340,'Object Codes'!$A$18:$A$510,'Object Codes'!$H$18:$H$510)","v":"PS - Additional Gross"},{"$f":"_xlfn.XLOOKUP(F340,'Object Codes'!$A$18:$A$510,'Object Codes'!$G$18:$G$510)","v":"A"},{"$f":"_xlfn.XLOOKUP(A340,Agencies!$A$9:$A$146,Agencies!$B$9:$B$146)","v":"General Government"},{"$f":"IF(_xlfn.XLOOKUP(A340,Agencies!A:A,Agencies!D:D)=\"Y\",IF(_xlfn.XLOOKUP(F340,'Object Codes'!A:A,'Object Codes'!I:I)=\"Y\",\"Y\",\"N\"),\"N\")","v":"Y"},{"$f":"VLOOKUP(F340,'Object Codes'!$A:$C,3,0)","v":"Bonus Payments"},{"$f":"VLOOKUP(A340,Agencies!A:C,3,0)","v":"Mayoralty"},1.3698630136986301]
["002",2022,"001","040","A003","061",0,0,0,0,0,0,0,0,0,0,116,0,116,116,-116,116,-116,116,116,-116,{"$f":"_xlfn.XLOOKUP(F341,'Object Codes'!$A$18:$A$510,'Object Codes'!$H$18:$H$510)","v":"PS - Additional Gross"},{"$f":"_xlfn.XLOOKUP(F341,'Object Codes'!$A$18:$A$510,'Object Codes'!$G$18:$G$510)","v":"A"},{"$f":"_xlfn.XLOOKUP(A341,Agencies!$A$9:$A$146,Agencies!$B$9:$B$146)","v":"General Government"},{"$f":"IF(_xlfn.XLOOKUP(A341,Agencies!A:A,Agencies!D:D)=\"Y\",IF(_xlfn.XLOOKUP(F341,'Object Codes'!A:A,'Object Codes'!I:I)=\"Y\",\"Y\",\"N\"),\"N\")","v":"Y"},{"$f":"VLOOKUP(F341,'Object Codes'!$A:$C,3,0)","v":"Supper Money"},{"$f":"VLOOKUP(A341,Agencies!A:C,3,0)","v":"Mayoralty"},0.31780821917808222]
["002",2022,"001","040","CRB1","001",0,0,4,0,428000,0,0,0,0,0,428000,0,428000,428000,0,428000,0,428000,428000,0,{"$f":"_xlfn.XLOOKUP(F342,'Object Codes'!$A$18:$A$510,'Object Codes'!$H$18:$H$510)","v":"PS - Regular"},{"$f":"_xlfn.XLOOKUP(F342,'Object Codes'!$A$18:$A$510,'Object Codes'!$G$18:$G$510)","v":"C"},{"$f":"_xlfn.XLOOKUP(A342,Agencies!$A$9:$A$146,Agencies!$B$9:$B$146)","v":"General Government"},{"$f":"IF(_xlfn.XLOOKUP(A342,Agencies!A:A,Agencies!D:D)=\"Y\",IF(_xlfn.XLOOKUP(F342,'Object Codes'!A:A,'Object Codes'!I:I)=\"Y\",\"Y\",\"N\"),\"N\")","v":"Y"},{"$f":"VLOOKUP(F342,'Object Codes'!$A:$C,3,0)","v":"Full Year Positions"},{"$f":"VLOOKUP(A342,Agencies!A:C,3,0)","v":"Mayoralty"},1172.6027397260275]
["002",2022,"001","040","CRB1","002",0,4,0,428000,0,0,0,0,0,0,0,0,0,0,0,0,0,0,0,0,{"$f":"_xlfn.XLOOKUP(F343,'Object Codes'!$A$18:$A$510,'Object Codes'!$H$18:$H$510)","v":"PS - Regular"},{"$f":"_xlfn.XLOOKUP(F343,'Object Codes'!$A$18:$A$510,'Object Codes'!$G$18:$G$510)","v":"C"},{"$f":"_xlfn.XLOOKUP(A343,Agencies!$A$9:$A$146,Agencies!$B$9:$B$146)","v":"General Government"},{"$f":"IF(_xlfn.XLOOKUP(A343,Agencies!A:A,Agencies!D:D)=\"Y\",IF(_xlfn.XLOOKUP(F343,'Object Codes'!A:A,'Object Codes'!I:I)=\"Y\",\"Y\",\"N\"),\"N\")","v":"Y"},{"$f":"VLOOKUP(F343,'Object Codes'!$A:$C,3,0)","v":"New Positions"},{"$f":"VLOOKUP(A343,Agencies!A:C,3,0)","v":"Mayoralty"},0]
["002",2022,"001","040","CV40","001",0,10,10,0,1000000,0,0,0,0,0,329750.2,0,329750.2,329750.2,670249.80000000005,329750.2,670249.80000000005,329750.2,329750.2,670249.80000000005,{"$f":"_xlfn.XLOOKUP(F344,'Object Codes'!$A$18:$A$510,'Object Codes'!$H$18:$H$510)","v":"PS - Regular"},{"$f":"_xlfn.XLOOKUP(F344,'Object Codes'!$A$18:$A$510,'Object Codes'!$G$18:$G$510)","v":"C"},{"$f":"_xlfn.XLOOKUP(A344,Agencies!$A$9:$A$146,Agencies!$B$9:$B$146)","v":"General Government"},{"$f":"IF(_xlfn.XLOOKUP(A344,Agencies!A:A,Agencies!D:D)=\"Y\",IF(_xlfn.XLOOKUP(F344,'Object Codes'!A:A,'Object Codes'!I:I)=\"Y\",\"Y\",\"N\"),\"N\")","v":"Y"},{"$f":"VLOOKUP(F344,'Object Codes'!$A:$C,3,0)","v":"Full Year Positions"},{"$f":"VLOOKUP(A344,Agencies!A:C,3,0)","v":"Mayoralty"},903.42520547945207]
["002",2022,"001","040","CV40","046",0,0,0,0,0,0,0,0,0,0,1696.69,0,1696.69,1696.69,-1696.69,1696.69,-1696.69,1696.69,1696.69,-1696.69,{"$f":"_xlfn.XLOOKUP(F345,'Object Codes'!$A$18:$A$510,'Object Codes'!$H$18:$H$510)","v":"PS - Additional Gross"},{"$f":"_xlfn.XLOOKUP(F345,'Object Codes'!$A$18:$A$510,'Object Codes'!$G$18:$G$510)","v":"A"},{"$f":"_xlfn.XLOOKUP(A345,Agencies!$A$9:$A$146,Agencies!$B$9:$B$146)","v":"General Government"},{"$f":"IF(_xlfn.XLOOKUP(A345,Agencies!A:A,Agencies!D:D)=\"Y\",IF(_xlfn.XLOOKUP(F345,'Object Codes'!A:A,'Object Codes'!I:I)=\"Y\",\"Y\",\"N\"),\"N\")","v":"Y"},{"$f":"VLOOKUP(F345,'Object Codes'!$A:$C,3,0)","v":"Terminal Leave"},{"$f":"VLOOKUP(A345,Agencies!A:C,3,0)","v":"Mayoralty"},4.6484657534246576]
["002",2022,"001","040","CV40","047",0,0,0,0,0,0,0,0,0,0,152.61000000000001,0,152.61000000000001,152.61000000000001,-152.61000000000001,152.61000000000001,-152.61000000000001,152.61000000000001,152.61000000000001,-152.61000000000001,{"$f":"_xlfn.XLOOKUP(F346,'Object Codes'!$A$18:$A$510,'Object Codes'!$H$18:$H$510)","v":"PS - Additional Gross"},{"$f":"_xlfn.XLOOKUP(F346,'Object Codes'!$A$18:$A$510,'Object Codes'!$G$18:$G$510)","v":"C"},{"$f":"_xlfn.XLOOKUP(A346,Agencies!$A$9:$A$146,Agencies!$B$9:$B$146)","v":"General Government"},{"$f":"IF(_xlfn.XLOOKUP(A346,Agencies!A:A,Agencies!D:D)=\"Y\",IF(_xlfn.XLOOKUP(F346,'Object Codes'!A:A,'Object Codes'!I:I)=\"Y\",\"Y\",\"N\"),\"N\")","v":"Y"},{"$f":"VLOOKUP(F346,'Object Codes'!$A:$C,3,0)","v":"Overtime"},{"$f":"VLOOKUP(A346,Agencies!A:C,3,0)","v":"Mayoralty"},0.41810958904109591]
["002",2022,"001","040","E455","001",0,18,18,2170782,2170782,0,0,0,0,0,1248268.17,0,1248268.17,1248268.17,922513.83,1248268.17,922513.83,1248268.17,1248268.17,922513.83,{"$f":"_xlfn.XLOOKUP(F347,'Object Codes'!$A$18:$A$510,'Object Codes'!$H$18:$H$510)","v":"PS - Regular"},{"$f":"_xlfn.XLOOKUP(F347,'Object Codes'!$A$18:$A$510,'Object Codes'!$G$18:$G$510)","v":"C"},{"$f":"_xlfn.XLOOKUP(A347,Agencies!$A$9:$A$146,Agencies!$B$9:$B$146)","v":"General Government"},{"$f":"IF(_xlfn.XLOOKUP(A347,Agencies!A:A,Agencies!D:D)=\"Y\",IF(_xlfn.XLOOKUP(F347,'Object Codes'!A:A,'Object Codes'!I:I)=\"Y\",\"Y\",\"N\"),\"N\")","v":"Y"},{"$f":"VLOOKUP(F347,'Object Codes'!$A:$C,3,0)","v":"Full Year Positions"},{"$f":"VLOOKUP(A347,Agencies!A:C,3,0)","v":"Mayoralty"},3419.9127945205478]
["002",2022,"001","040","E455","031",0,0,0,546,546,0,0,0,0,0,0,0,0,0,546,0,546,0,0,546,{"$f":"_xlfn.XLOOKUP(F348,'Object Codes'!$A$18:$A$510,'Object Codes'!$H$18:$H$510)","v":"PS - Regular"},{"$f":"_xlfn.XLOOKUP(F348,'Object Codes'!$A$18:$A$510,'Object Codes'!$G$18:$G$510)","v":"C"},{"$f":"_xlfn.XLOOKUP(A348,Agencies!$A$9:$A$146,Agencies!$B$9:$B$146)","v":"General Government"},{"$f":"IF(_xlfn.XLOOKUP(A348,Agencies!A:A,Agencies!D:D)=\"Y\",IF(_xlfn.XLOOKUP(F348,'Object Codes'!A:A,'Object Codes'!I:I)=\"Y\",\"Y\",\"N\"),\"N\")","v":"Y"},{"$f":"VLOOKUP(F348,'Object Codes'!$A:$C,3,0)","v":"Hourly Positions"},{"$f":"VLOOKUP(A348,Agencies!A:C,3,0)","v":"Mayoralty"},0]
["002",2022,"001","040","E455","046",0,0,0,0,0,0,0,0,0,0,72285.58,0,72285.58,72285.58,-72285.58,72285.58,-72285.58,72285.58,72285.58,-72285.58,{"$f":"_xlfn.XLOOKUP(F349,'Object Codes'!$A$18:$A$510,'Object Codes'!$H$18:$H$510)","v":"PS - Additional Gross"},{"$f":"_xlfn.XLOOKUP(F349,'Object Codes'!$A$18:$A$510,'Object Codes'!$G$18:$G$510)","v":"A"},{"$f":"_xlfn.XLOOKUP(A349,Agencies!$A$9:$A$146,Agencies!$B$9:$B$146)","v":"General Government"},{"$f":"IF(_xlfn.XLOOKUP(A349,Agencies!A:A,Agencies!D:D)=\"Y\",IF(_xlfn.XLOOKUP(F349,'Object Codes'!A:A,'Object Codes'!I:I)=\"Y\",\"Y\",\"N\"),\"N\")","v":"Y"},{"$f":"VLOOKUP(F349,'Object Codes'!$A:$C,3,0)","v":"Terminal Leave"},{"$f":"VLOOKUP(A349,Agencies!A:C,3,0)","v":"Mayoralty"},198.04268493150684]
["002",2022,"001","040","E455","047",0,0,0,0,0,0,0,0,0,0,2849.85,0,2849.85,2849.85,-2849.85,2849.85,-2849.85,2849.85,2849.85,-2849.85,{"$f":"_xlfn.XLOOKUP(F350,'Object Codes'!$A$18:$A$510,'Object Codes'!$H$18:$H$510)","v":"PS - Additional Gross"},{"$f":"_xlfn.XLOOKUP(F350,'Object Codes'!$A$18:$A$510,'Object Codes'!$G$18:$G$510)","v":"C"},{"$f":"_xlfn.XLOOKUP(A350,Agencies!$A$9:$A$146,Agencies!$B$9:$B$146)","v":"General Government"},{"$f":"IF(_xlfn.XLOOKUP(A350,Agencies!A:A,Agencies!D:D)=\"Y\",IF(_xlfn.XLOOKUP(F350,'Object Codes'!A:A,'Object Codes'!I:I)=\"Y\",\"Y\",\"N\"),\"N\")","v":"Y"},{"$f":"VLOOKUP(F350,'Object Codes'!$A:$C,3,0)","v":"Overtime"},{"$f":"VLOOKUP(A350,Agencies!A:C,3,0)","v":"Mayoralty"},7.8078082191780815]
["002",2022,"001","040","E455","057",0,0,0,0,500,0,0,0,0,0,500,0,500,500,0,500,0,500,500,0,{"$f":"_xlfn.XLOOKUP(F351,'Object Codes'!$A$18:$A$510,'Object Codes'!$H$18:$H$510)","v":"PS - Additional Gross"},{"$f":"_xlfn.XLOOKUP(F351,'Object Codes'!$A$18:$A$510,'Object Codes'!$G$18:$G$510)","v":"A"},{"$f":"_xlfn.XLOOKUP(A351,Agencies!$A$9:$A$146,Agencies!$B$9:$B$146)","v":"General Government"},{"$f":"IF(_xlfn.XLOOKUP(A351,Agencies!A:A,Agencies!D:D)=\"Y\",IF(_xlfn.XLOOKUP(F351,'Object Codes'!A:A,'Object Codes'!I:I)=\"Y\",\"Y\",\"N\"),\"N\")","v":"Y"},{"$f":"VLOOKUP(F351,'Object Codes'!$A:$C,3,0)","v":"Bonus Payments"},{"$f":"VLOOKUP(A351,Agencies!A:C,3,0)","v":"Mayoralty"},1.3698630136986301]
["002",2022,"001","040","E455","061",0,0,0,0,0,0,0,0,0,0,57.75,0,57.75,57.75,-57.75,57.75,-57.75,57.75,57.75,-57.75,{"$f":"_xlfn.XLOOKUP(F352,'Object Codes'!$A$18:$A$510,'Object Codes'!$H$18:$H$510)","v":"PS - Additional Gross"},{"$f":"_xlfn.XLOOKUP(F352,'Object Codes'!$A$18:$A$510,'Object Codes'!$G$18:$G$510)","v":"A"},{"$f":"_xlfn.XLOOKUP(A352,Agencies!$A$9:$A$146,Agencies!$B$9:$B$146)","v":"General Government"},{"$f":"IF(_xlfn.XLOOKUP(A352,Agencies!A:A,Agencies!D:D)=\"Y\",IF(_xlfn.XLOOKUP(F352,'Object Codes'!A:A,'Object Codes'!I:I)=\"Y\",\"Y\",\"N\"),\"N\")","v":"Y"},{"$f":"VLOOKUP(F352,'Object Codes'!$A:$C,3,0)","v":"Supper Money"},{"$f":"VLOOKUP(A352,Agencies!A:C,3,0)","v":"Mayoralty"},0.15821917808219177]
["002",2022,"001","040","P040","001",0,-5,-13,-763000,-1798000,0,0,0,0,0,0,0,0,0,-1798000,0,-1798000,0,0,-1798000,{"$f":"_xlfn.XLOOKUP(F353,'Object Codes'!$A$18:$A$510,'Object Codes'!$H$18:$H$510)","v":"PS - Regular"},{"$f":"_xlfn.XLOOKUP(F353,'Object Codes'!$A$18:$A$510,'Object Codes'!$G$18:$G$510)","v":"C"},{"$f":"_xlfn.XLOOKUP(A353,Agencies!$A$9:$A$146,Agencies!$B$9:$B$146)","v":"General Government"},{"$f":"IF(_xlfn.XLOOKUP(A353,Agencies!A:A,Agencies!D:D)=\"Y\",IF(_xlfn.XLOOKUP(F353,'Object Codes'!A:A,'Object Codes'!I:I)=\"Y\",\"Y\",\"N\"),\"N\")","v":"Y"},{"$f":"VLOOKUP(F353,'Object Codes'!$A:$C,3,0)","v":"Full Year Positions"},{"$f":"VLOOKUP(A353,Agencies!A:C,3,0)","v":"Mayoralty"},0]
["002",2022,"001","041","0405","41D",0,0,0,272980,272980,0,0,0,0,0,272979.99,0,272979.99,272979.99,0.01,272979.99,0.01,272979.99,272979.99,0.01,{"$f":"_xlfn.XLOOKUP(F354,'Object Codes'!$A$18:$A$510,'Object Codes'!$H$18:$H$510)","v":"Leases"},{"$f":"_xlfn.XLOOKUP(F354,'Object Codes'!$A$18:$A$510,'Object Codes'!$G$18:$G$510)","v":0},{"$f":"_xlfn.XLOOKUP(A354,Agencies!$A$9:$A$146,Agencies!$B$9:$B$146)","v":"General Government"},{"$f":"IF(_xlfn.XLOOKUP(A354,Agencies!A:A,Agencies!D:D)=\"Y\",IF(_xlfn.XLOOKUP(F354,'Object Codes'!A:A,'Object Codes'!I:I)=\"Y\",\"Y\",\"N\"),\"N\")","v":"Y"},{"$f":"VLOOKUP(F354,'Object Codes'!$A:$C,3,0)","v":"RENTALS - LAND BLDGS & STRUCTS"},{"$f":"VLOOKUP(A354,Agencies!A:C,3,0)","v":"Mayoralty"},747.89038356164383]
["002",2022,"001","041","0406","100",0,0,0,5000,24415,0,0,0,0,0,-65294.57,0,-65294.57,-65294.57,89709.57,-65294.57,89709.57,-65294.57,-65294.57,89709.57,{"$f":"_xlfn.XLOOKUP(F355,'Object Codes'!$A$18:$A$510,'Object Codes'!$H$18:$H$510)","v":"Supplies & Materials"},{"$f":"_xlfn.XLOOKUP(F355,'Object Codes'!$A$18:$A$510,'Object Codes'!$G$18:$G$510)","v":"A"},{"$f":"_xlfn.XLOOKUP(A355,Agencies!$A$9:$A$146,Agencies!$B$9:$B$146)","v":"General Government"},{"$f":"IF(_xlfn.XLOOKUP(A355,Agencies!A:A,Agencies!D:D)=\"Y\",IF(_xlfn.XLOOKUP(F355,'Object Codes'!A:A,'Object Codes'!I:I)=\"Y\",\"Y\",\"N\"),\"N\")","v":"Y"},{"$f":"VLOOKUP(F355,'Object Codes'!$A:$C,3,0)","v":"Supplies and Materials - General"},{"$f":"VLOOKUP(A355,Agencies!A:C,3,0)","v":"Mayoralty"},-178.88923287671233]
["002",2022,"001","041","0406","101",0,0,0,25000,11500,0,0,0,0,0,11042.35,0,11042.35,11042.35,457.65,11042.35,457.65,11042.35,11042.35,457.65,{"$f":"_xlfn.XLOOKUP(F356,'Object Codes'!$A$18:$A$510,'Object Codes'!$H$18:$H$510)","v":"Supplies & Materials"},{"$f":"_xlfn.XLOOKUP(F356,'Object Codes'!$A$18:$A$510,'Object Codes'!$G$18:$G$510)","v":"A"},{"$f":"_xlfn.XLOOKUP(A356,Agencies!$A$9:$A$146,Agencies!$B$9:$B$146)","v":"General Government"},{"$f":"IF(_xlfn.XLOOKUP(A356,Agencies!A:A,Agencies!D:D)=\"Y\",IF(_xlfn.XLOOKUP(F356,'Object Codes'!A:A,'Object Codes'!I:I)=\"Y\",\"Y\",\"N\"),\"N\")","v":"Y"},{"$f":"VLOOKUP(F356,'Object Codes'!$A:$C,3,0)","v":"Printing Supplies"},{"$f":"VLOOKUP(A356,Agencies!A:C,3,0)","v":"Mayoralty"},30.253013698630138]
["002",2022,"001","041","0406","105",0,0,0,0,6200,0,0,0,0,0,6156.14,0,6156.14,6156.14,43.86,6156.14,43.86,6156.14,6156.14,43.86,{"$f":"_xlfn.XLOOKUP(F357,'Object Codes'!$A$18:$A$510,'Object Codes'!$H$18:$H$510)","v":"Supplies & Materials"},{"$f":"_xlfn.XLOOKUP(F357,'Object Codes'!$A$18:$A$510,'Object Codes'!$G$18:$G$510)","v":"A"},{"$f":"_xlfn.XLOOKUP(A357,Agencies!$A$9:$A$146,Agencies!$B$9:$B$146)","v":"General Government"},{"$f":"IF(_xlfn.XLOOKUP(A357,Agencies!A:A,Agencies!D:D)=\"Y\",IF(_xlfn.XLOOKUP(F357,'Object Codes'!A:A,'Object Codes'!I:I)=\"Y\",\"Y\",\"N\"),\"N\")","v":"Y"},{"$f":"VLOOKUP(F357,'Object Codes'!$A:$C,3,0)","v":"Automotive Supplies and Materials"},{"$f":"VLOOKUP(A357,Agencies!A:C,3,0)","v":"Mayoralty"},16.86613698630137]
["002",2022,"001","041","0406","106",0,0,0,2882,485,0,0,0,0,0,318.79000000000002,0,318.79000000000002,318.79000000000002,166.21,318.79000000000002,166.21,318.79000000000002,318.79000000000002,166.21,{"$f":"_xlfn.XLOOKUP(F358,'Object Codes'!$A$18:$A$510,'Object Codes'!$H$18:$H$510)","v":"Supplies & Materials"},{"$f":"_xlfn.XLOOKUP(F358,'Object Codes'!$A$18:$A$510,'Object Codes'!$G$18:$G$510)","v":"A"},{"$f":"_xlfn.XLOOKUP(A358,Agencies!$A$9:$A$146,Agencies!$B$9:$B$146)","v":"General Government"},{"$f":"IF(_xlfn.XLOOKUP(A358,Agencies!A:A,Agencies!D:D)=\"Y\",IF(_xlfn.XLOOKUP(F358,'Object Codes'!A:A,'Object Codes'!I:I)=\"Y\",\"Y\",\"N\"),\"N\")","v":"Y"},{"$f":"VLOOKUP(F358,'Object Codes'!$A:$C,3,0)","v":"Motor Vehicle Fuel"},{"$f":"VLOOKUP(A358,Agencies!A:C,3,0)","v":"Mayoralty"},0.87339726027397269]
["002",2022,"001","041","0406","10F",0,0,0,0,6697,0,0,0,0,0,6696.54,0,6696.54,6696.54,0.46,6696.54,0.46,6696.54,6696.54,0.46,{"$f":"_xlfn.XLOOKUP(F359,'Object Codes'!$A$18:$A$510,'Object Codes'!$H$18:$H$510)","v":"Supplies & Materials"},{"$f":"_xlfn.XLOOKUP(F359,'Object Codes'!$A$18:$A$510,'Object Codes'!$G$18:$G$510)","v":"A"},{"$f":"_xlfn.XLOOKUP(A359,Agencies!$A$9:$A$146,Agencies!$B$9:$B$146)","v":"General Government"},{"$f":"IF(_xlfn.XLOOKUP(A359,Agencies!A:A,Agencies!D:D)=\"Y\",IF(_xlfn.XLOOKUP(F359,'Object Codes'!A:A,'Object Codes'!I:I)=\"Y\",\"Y\",\"N\"),\"N\")","v":"Y"},{"$f":"VLOOKUP(F359,'Object Codes'!$A:$C,3,0)","v":"MOTOR VEHICLE FUEL"},{"$f":"VLOOKUP(A359,Agencies!A:C,3,0)","v":"Mayoralty"},18.34668493150685]
["002",2022,"001","041","0406","10X",0,0,0,27343,27343,0,0,0,0,0,0,0,0,0,27343,0,27343,0,0,27343,{"$f":"_xlfn.XLOOKUP(F360,'Object Codes'!$A$18:$A$510,'Object Codes'!$H$18:$H$510)","v":"Supplies & Materials"},{"$f":"_xlfn.XLOOKUP(F360,'Object Codes'!$A$18:$A$510,'Object Codes'!$G$18:$G$510)","v":"A"},{"$f":"_xlfn.XLOOKUP(A360,Agencies!$A$9:$A$146,Agencies!$B$9:$B$146)","v":"General Government"},{"$f":"IF(_xlfn.XLOOKUP(A360,Agencies!A:A,Agencies!D:D)=\"Y\",IF(_xlfn.XLOOKUP(F360,'Object Codes'!A:A,'Object Codes'!I:I)=\"Y\",\"Y\",\"N\"),\"N\")","v":"Y"},{"$f":"VLOOKUP(F360,'Object Codes'!$A:$C,3,0)","v":"SUPPLIES + MATERIALS - GENERAL"},{"$f":"VLOOKUP(A360,Agencies!A:C,3,0)","v":"Mayoralty"},0]
["002",2022,"001","041","0406","117",0,0,0,4500,4500,0,0,0,0,0,2307.39,0,2307.39,2307.39,2192.61,2307.39,2192.61,2307.39,2307.39,2192.61,{"$f":"_xlfn.XLOOKUP(F361,'Object Codes'!$A$18:$A$510,'Object Codes'!$H$18:$H$510)","v":"Supplies & Materials"},{"$f":"_xlfn.XLOOKUP(F361,'Object Codes'!$A$18:$A$510,'Object Codes'!$G$18:$G$510)","v":"A"},{"$f":"_xlfn.XLOOKUP(A361,Agencies!$A$9:$A$146,Agencies!$B$9:$B$146)","v":"General Government"},{"$f":"IF(_xlfn.XLOOKUP(A361,Agencies!A:A,Agencies!D:D)=\"Y\",IF(_xlfn.XLOOKUP(F361,'Object Codes'!A:A,'Object Codes'!I:I)=\"Y\",\"Y\",\"N\"),\"N\")","v":"Y"},{"$f":"VLOOKUP(F361,'Object Codes'!$A:$C,3,0)","v":"Postage"},{"$f":"VLOOKUP(A361,Agencies!A:C,3,0)","v":"Mayoralty"},6.3216164383561644]
["002",2022,"001","041","0406","169",0,0,0,1000,1000,0,0,0,0,0,0,0,0,0,1000,0,1000,0,0,1000,{"$f":"_xlfn.XLOOKUP(F362,'Object Codes'!$A$18:$A$510,'Object Codes'!$H$18:$H$510)","v":"Supplies & Materials"},{"$f":"_xlfn.XLOOKUP(F362,'Object Codes'!$A$18:$A$510,'Object Codes'!$G$18:$G$510)","v":"A"},{"$f":"_xlfn.XLOOKUP(A362,Agencies!$A$9:$A$146,Agencies!$B$9:$B$146)","v":"General Government"},{"$f":"IF(_xlfn.XLOOKUP(A362,Agencies!A:A,Agencies!D:D)=\"Y\",IF(_xlfn.XLOOKUP(F362,'Object Codes'!A:A,'Object Codes'!I:I)=\"Y\",\"Y\",\"N\"),\"N\")","v":"Y"},{"$f":"VLOOKUP(F362,'Object Codes'!$A:$C,3,0)","v":"Maintenance Supplies"},{"$f":"VLOOKUP(A362,Agencies!A:C,3,0)","v":"Mayoralty"},0]
["002",2022,"001","041","0406","199",0,0,0,7500,7500,0,0,0,0,0,1316.03,0,1316.03,1316.03,6183.97,1316.03,6183.97,1316.03,1316.03,6183.97,{"$f":"_xlfn.XLOOKUP(F363,'Object Codes'!$A$18:$A$510,'Object Codes'!$H$18:$H$510)","v":"Supplies & Materials"},{"$f":"_xlfn.XLOOKUP(F363,'Object Codes'!$A$18:$A$510,'Object Codes'!$G$18:$G$510)","v":"A"},{"$f":"_xlfn.XLOOKUP(A363,Agencies!$A$9:$A$146,Agencies!$B$9:$B$146)","v":"General Government"},{"$f":"IF(_xlfn.XLOOKUP(A363,Agencies!A:A,Agencies!D:D)=\"Y\",IF(_xlfn.XLOOKUP(F363,'Object Codes'!A:A,'Object Codes'!I:I)=\"Y\",\"Y\",\"N\"),\"N\")","v":"Y"},{"$f":"VLOOKUP(F363,'Object Codes'!$A:$C,3,0)","v":"Data Processing Supplies"},{"$f":"VLOOKUP(A363,Agencies!A:C,3,0)","v":"Mayoralty"},3.6055616438356162]
["002",2022,"001","041","0406","302",0,0,0,500,500,0,0,0,0,0,0,0,0,0,500,0,500,0,0,500,{"$f":"_xlfn.XLOOKUP(F364,'Object Codes'!$A$18:$A$510,'Object Codes'!$H$18:$H$510)","v":"Equipment"},{"$f":"_xlfn.XLOOKUP(F364,'Object Codes'!$A$18:$A$510,'Object Codes'!$G$18:$G$510)","v":"A"},{"$f":"_xlfn.XLOOKUP(A364,Agencies!$A$9:$A$146,Agencies!$B$9:$B$146)","v":"General Government"},{"$f":"IF(_xlfn.XLOOKUP(A364,Agencies!A:A,Agencies!D:D)=\"Y\",IF(_xlfn.XLOOKUP(F364,'Object Codes'!A:A,'Object Codes'!I:I)=\"Y\",\"Y\",\"N\"),\"N\")","v":"Y"},{"$f":"VLOOKUP(F364,'Object Codes'!$A:$C,3,0)","v":"Telecommunications Equipment"},{"$f":"VLOOKUP(A364,Agencies!A:C,3,0)","v":"Mayoralty"},0]
["002",2022,"001","041","0406","314",0,0,0,1000,110760,0,0,0,0,0,110008.05,0,110008.05,110008.05,751.95,110008.05,751.95,110008.05,110008.05,751.95,{"$f":"_xlfn.XLOOKUP(F365,'Object Codes'!$A$18:$A$510,'Object Codes'!$H$18:$H$510)","v":"Equipment"},{"$f":"_xlfn.XLOOKUP(F365,'Object Codes'!$A$18:$A$510,'Object Codes'!$G$18:$G$510)","v":"A"},{"$f":"_xlfn.XLOOKUP(A365,Agencies!$A$9:$A$146,Agencies!$B$9:$B$146)","v":"General Government"},{"$f":"IF(_xlfn.XLOOKUP(A365,Agencies!A:A,Agencies!D:D)=\"Y\",IF(_xlfn.XLOOKUP(F365,'Object Codes'!A:A,'Object Codes'!I:I)=\"Y\",\"Y\",\"N\"),\"N\")","v":"Y"},{"$f":"VLOOKUP(F365,'Object Codes'!$A:$C,3,0)","v":"Office Furniture"},{"$f":"VLOOKUP(A365,Agencies!A:C,3,0)","v":"Mayoralty"},301.3919178082192]
["002",2022,"001","041","0406","315",0,0,0,500,1500,0,0,0,0,0,1364.97,0,1364.97,1364.97,135.03,1364.97,135.03,1364.97,1364.97,135.03,{"$f":"_xlfn.XLOOKUP(F366,'Object Codes'!$A$18:$A$510,'Object Codes'!$H$18:$H$510)","v":"Equipment"},{"$f":"_xlfn.XLOOKUP(F366,'Object Codes'!$A$18:$A$510,'Object Codes'!$G$18:$G$510)","v":"A"},{"$f":"_xlfn.XLOOKUP(A366,Agencies!$A$9:$A$146,Agencies!$B$9:$B$146)","v":"General Government"},{"$f":"IF(_xlfn.XLOOKUP(A366,Agencies!A:A,Agencies!D:D)=\"Y\",IF(_xlfn.XLOOKUP(F366,'Object Codes'!A:A,'Object Codes'!I:I)=\"Y\",\"Y\",\"N\"),\"N\")","v":"Y"},{"$f":"VLOOKUP(F366,'Object Codes'!$A:$C,3,0)","v":"Office Equipment"},{"$f":"VLOOKUP(A366,Agencies!A:C,3,0)","v":"Mayoralty"},3.7396438356164383]
["002",2022,"001","041","0406","319",0,0,0,10000,80900,0,0,0,0,0,71406.02,0,71406.02,71406.02,9493.98,71406.02,9493.98,71406.02,71406.02,9493.98,{"$f":"_xlfn.XLOOKUP(F367,'Object Codes'!$A$18:$A$510,'Object Codes'!$H$18:$H$510)","v":"Equipment"},{"$f":"_xlfn.XLOOKUP(F367,'Object Codes'!$A$18:$A$510,'Object Codes'!$G$18:$G$510)","v":"A"},{"$f":"_xlfn.XLOOKUP(A367,Agencies!$A$9:$A$146,Agencies!$B$9:$B$146)","v":"General Government"},{"$f":"IF(_xlfn.XLOOKUP(A367,Agencies!A:A,Agencies!D:D)=\"Y\",IF(_xlfn.XLOOKUP(F367,'Object Codes'!A:A,'Object Codes'!I:I)=\"Y\",\"Y\",\"N\"),\"N\")","v":"Y"},{"$f":"VLOOKUP(F367,'Object Codes'!$A:$C,3,0)","v":"Security Equipment"},{"$f":"VLOOKUP(A367,Agencies!A:C,3,0)","v":"Mayoralty"},195.63293150684933]
["002",2022,"001","041","0406","332",0,0,0,5400,50000,0,0,0,0,0,42496.5,0,42496.5,42496.5,7503.5,42496.5,7503.5,42496.5,42496.5,7503.5,{"$f":"_xlfn.XLOOKUP(F368,'Object Codes'!$A$18:$A$510,'Object Codes'!$H$18:$H$510)","v":"Equipment"},{"$f":"_xlfn.XLOOKUP(F368,'Object Codes'!$A$18:$A$510,'Object Codes'!$G$18:$G$510)","v":"A"},{"$f":"_xlfn.XLOOKUP(A368,Agencies!$A$9:$A$146,Agencies!$B$9:$B$146)","v":"General Government"},{"$f":"IF(_xlfn.XLOOKUP(A368,Agencies!A:A,Agencies!D:D)=\"Y\",IF(_xlfn.XLOOKUP(F368,'Object Codes'!A:A,'Object Codes'!I:I)=\"Y\",\"Y\",\"N\"),\"N\")","v":"Y"},{"$f":"VLOOKUP(F368,'Object Codes'!$A:$C,3,0)","v":"Purchases of Data Processing Equipment"},{"$f":"VLOOKUP(A368,Agencies!A:C,3,0)","v":"Mayoralty"},116.42876712328767]
["002",2022,"001","041","0406","337",0,0,0,176500,223000,0,0,0,0,0,215003.81,0,215003.81,215003.81,7996.19,215003.81,7996.19,215003.81,215003.81,7996.19,{"$f":"_xlfn.XLOOKUP(F369,'Object Codes'!$A$18:$A$510,'Object Codes'!$H$18:$H$510)","v":"Equipment"},{"$f":"_xlfn.XLOOKUP(F369,'Object Codes'!$A$18:$A$510,'Object Codes'!$G$18:$G$510)","v":"A"},{"$f":"_xlfn.XLOOKUP(A369,Agencies!$A$9:$A$146,Agencies!$B$9:$B$146)","v":"General Government"},{"$f":"IF(_xlfn.XLOOKUP(A369,Agencies!A:A,Agencies!D:D)=\"Y\",IF(_xlfn.XLOOKUP(F369,'Object Codes'!A:A,'Object Codes'!I:I)=\"Y\",\"Y\",\"N\"),\"N\")","v":"Y"},{"$f":"VLOOKUP(F369,'Object Codes'!$A:$C,3,0)","v":"Books - Other"},{"$f":"VLOOKUP(A369,Agencies!A:C,3,0)","v":"Mayoralty"},589.05153424657533]
["002",2022,"001","041","0406","400",0,0,0,0,400,0,0,0,0,0,400,0,400,400,0,400,0,400,400,0,{"$f":"_xlfn.XLOOKUP(F370,'Object Codes'!$A$18:$A$510,'Object Codes'!$H$18:$H$510)","v":"Other Services and Charges - General"},{"$f":"_xlfn.XLOOKUP(F370,'Object Codes'!$A$18:$A$510,'Object Codes'!$G$18:$G$510)","v":0},{"$f":"_xlfn.XLOOKUP(A370,Agencies!$A$9:$A$146,Agencies!$B$9:$B$146)","v":"General Government"},{"$f":"IF(_xlfn.XLOOKUP(A370,Agencies!A:A,Agencies!D:D)=\"Y\",IF(_xlfn.XLOOKUP(F370,'Object Codes'!A:A,'Object Codes'!I:I)=\"Y\",\"Y\",\"N\"),\"N\")","v":"Y"},{"$f":"VLOOKUP(F370,'Object Codes'!$A:$C,3,0)","v":"Other Services and Charges - General"},{"$f":"VLOOKUP(A370,Agencies!A:C,3,0)","v":"Mayoralty"},1.095890410958904]
["002",2022,"001","041","0406","402",0,0,0,23000,23000,0,0,0,0,0,5532.46,0,5532.46,5532.46,17467.54,5532.46,17467.54,5532.46,5532.46,17467.54,{"$f":"_xlfn.XLOOKUP(F371,'Object Codes'!$A$18:$A$510,'Object Codes'!$H$18:$H$510)","v":"Other Services and Charges - General"},{"$f":"_xlfn.XLOOKUP(F371,'Object Codes'!$A$18:$A$510,'Object Codes'!$G$18:$G$510)","v":0},{"$f":"_xlfn.XLOOKUP(A371,Agencies!$A$9:$A$146,Agencies!$B$9:$B$146)","v":"General Government"},{"$f":"IF(_xlfn.XLOOKUP(A371,Agencies!A:A,Agencies!D:D)=\"Y\",IF(_xlfn.XLOOKUP(F371,'Object Codes'!A:A,'Object Codes'!I:I)=\"Y\",\"Y\",\"N\"),\"N\")","v":"Y"},{"$f":"VLOOKUP(F371,'Object Codes'!$A:$C,3,0)","v":"Telephone and Other Communications"},{"$f":"VLOOKUP(A371,Agencies!A:C,3,0)","v":"Mayoralty"},15.157424657534246]
["002",2022,"001","041","0406","403",0,0,0,10000,10000,0,0,0,0,0,7607.59,0,7607.59,7607.59,2392.41,7607.59,2392.41,7607.59,7607.59,2392.41,{"$f":"_xlfn.XLOOKUP(F372,'Object Codes'!$A$18:$A$510,'Object Codes'!$H$18:$H$510)","v":"Other Services and Charges - General"},{"$f":"_xlfn.XLOOKUP(F372,'Object Codes'!$A$18:$A$510,'Object Codes'!$G$18:$G$510)","v":0},{"$f":"_xlfn.XLOOKUP(A372,Agencies!$A$9:$A$146,Agencies!$B$9:$B$146)","v":"General Government"},{"$f":"IF(_xlfn.XLOOKUP(A372,Agencies!A:A,Agencies!D:D)=\"Y\",IF(_xlfn.XLOOKUP(F372,'Object Codes'!A:A,'Object Codes'!I:I)=\"Y\",\"Y\",\"N\"),\"N\")","v":"Y"},{"$f":"VLOOKUP(F372,'Object Codes'!$A:$C,3,0)","v":"Office Services"},{"$f":"VLOOKUP(A372,Agencies!A:C,3,0)","v":"Mayoralty"},20.842712328767124]
["002",2022,"001","041","0406","40B",0,0,0,352329,352329,0,0,0,0,0,213169,0,213169,213169,139160,213169,139160,213169,213169,139160,{"$f":"_xlfn.XLOOKUP(F373,'Object Codes'!$A$18:$A$510,'Object Codes'!$H$18:$H$510)","v":"Other Services and Charges - General"},{"$f":"_xlfn.XLOOKUP(F373,'Object Codes'!$A$18:$A$510,'Object Codes'!$G$18:$G$510)","v":0},{"$f":"_xlfn.XLOOKUP(A373,Agencies!$A$9:$A$146,Agencies!$B$9:$B$146)","v":"General Government"},{"$f":"IF(_xlfn.XLOOKUP(A373,Agencies!A:A,Agencies!D:D)=\"Y\",IF(_xlfn.XLOOKUP(F373,'Object Codes'!A:A,'Object Codes'!I:I)=\"Y\",\"Y\",\"N\"),\"N\")","v":"Y"},{"$f":"VLOOKUP(F373,'Object Codes'!$A:$C,3,0)","v":"TELEPHONE & OTHER COMMUNICATNS"},{"$f":"VLOOKUP(A373,Agencies!A:C,3,0)","v":"Mayoralty"},584.02465753424656]
["002",2022,"001","041","0406","40G",0,0,0,0,6000,0,0,0,0,0,4529.53,0,4529.53,4529.53,1470.47,4529.53,1470.47,4529.53,4529.53,1470.47,{"$f":"_xlfn.XLOOKUP(F374,'Object Codes'!$A$18:$A$510,'Object Codes'!$H$18:$H$510)","v":"Other Services and Charges - General"},{"$f":"_xlfn.XLOOKUP(F374,'Object Codes'!$A$18:$A$510,'Object Codes'!$G$18:$G$510)","v":0},{"$f":"_xlfn.XLOOKUP(A374,Agencies!$A$9:$A$146,Agencies!$B$9:$B$146)","v":"General Government"},{"$f":"IF(_xlfn.XLOOKUP(A374,Agencies!A:A,Agencies!D:D)=\"Y\",IF(_xlfn.XLOOKUP(F374,'Object Codes'!A:A,'Object Codes'!I:I)=\"Y\",\"Y\",\"N\"),\"N\")","v":"Y"},{"$f":"VLOOKUP(F374,'Object Codes'!$A:$C,3,0)","v":"MAINT & REP OF MOTOR VEH EQUIP"},{"$f":"VLOOKUP(A374,Agencies!A:C,3,0)","v":"Mayoralty"},12.409671232876711]
["002",2022,"001","041","0406","40X",0,0,0,3000,16220,0,0,0,0,0,0,0,0,0,16220,0,16220,0,0,16220,{"$f":"_xlfn.XLOOKUP(F375,'Object Codes'!$A$18:$A$510,'Object Codes'!$H$18:$H$510)","v":"Other Services and Charges - General"},{"$f":"_xlfn.XLOOKUP(F375,'Object Codes'!$A$18:$A$510,'Object Codes'!$G$18:$G$510)","v":0},{"$f":"_xlfn.XLOOKUP(A375,Agencies!$A$9:$A$146,Agencies!$B$9:$B$146)","v":"General Government"},{"$f":"IF(_xlfn.XLOOKUP(A375,Agencies!A:A,Agencies!D:D)=\"Y\",IF(_xlfn.XLOOKUP(F375,'Object Codes'!A:A,'Object Codes'!I:I)=\"Y\",\"Y\",\"N\"),\"N\")","v":"Y"},{"$f":"VLOOKUP(F375,'Object Codes'!$A:$C,3,0)","v":"CONTRACTUAL SERVICES-GENERAL"},{"$f":"VLOOKUP(A375,Agencies!A:C,3,0)","v":"Mayoralty"},0]
["002",2022,"001","041","0406","412",0,0,0,80000,4355,0,0,0,0,0,1928.47,0,1928.47,1928.47,2426.5300000000002,1928.47,2426.5300000000002,1928.47,1928.47,2426.5300000000002,{"$f":"_xlfn.XLOOKUP(F376,'Object Codes'!$A$18:$A$510,'Object Codes'!$H$18:$H$510)","v":"Other Services and Charges - General"},{"$f":"_xlfn.XLOOKUP(F376,'Object Codes'!$A$18:$A$510,'Object Codes'!$G$18:$G$510)","v":0},{"$f":"_xlfn.XLOOKUP(A376,Agencies!$A$9:$A$146,Agencies!$B$9:$B$146)","v":"General Government"},{"$f":"IF(_xlfn.XLOOKUP(A376,Agencies!A:A,Agencies!D:D)=\"Y\",IF(_xlfn.XLOOKUP(F376,'Object Codes'!A:A,'Object Codes'!I:I)=\"Y\",\"Y\",\"N\"),\"N\")","v":"Y"},{"$f":"VLOOKUP(F376,'Object Codes'!$A:$C,3,0)","v":"Rentals - Miscellaneous Equipment"},{"$f":"VLOOKUP(A376,Agencies!A:C,3,0)","v":"Mayoralty"},5.2834794520547943]
["002",2022,"001","041","0406","417",0,0,0,2500,2500,0,0,0,0,0,884.35,0,884.35,884.35,1615.65,884.35,1615.65,884.35,884.35,1615.65,{"$f":"_xlfn.XLOOKUP(F377,'Object Codes'!$A$18:$A$510,'Object Codes'!$H$18:$H$510)","v":"Other Services and Charges - General"},{"$f":"_xlfn.XLOOKUP(F377,'Object Codes'!$A$18:$A$510,'Object Codes'!$G$18:$G$510)","v":0},{"$f":"_xlfn.XLOOKUP(A377,Agencies!$A$9:$A$146,Agencies!$B$9:$B$146)","v":"General Government"},{"$f":"IF(_xlfn.XLOOKUP(A377,Agencies!A:A,Agencies!D:D)=\"Y\",IF(_xlfn.XLOOKUP(F377,'Object Codes'!A:A,'Object Codes'!I:I)=\"Y\",\"Y\",\"N\"),\"N\")","v":"Y"},{"$f":"VLOOKUP(F377,'Object Codes'!$A:$C,3,0)","v":"Advertising"},{"$f":"VLOOKUP(A377,Agencies!A:C,3,0)","v":"Mayoralty"},2.4228767123287671]
["002",2022,"001","041","0406","41D",0,0,0,5150590,6650590,0,0,0,0,0,6650590,0,6650590,6650590,0,6650590,0,6650590,6650590,0,{"$f":"_xlfn.XLOOKUP(F378,'Object Codes'!$A$18:$A$510,'Object Codes'!$H$18:$H$510)","v":"Leases"},{"$f":"_xlfn.XLOOKUP(F378,'Object Codes'!$A$18:$A$510,'Object Codes'!$G$18:$G$510)","v":0},{"$f":"_xlfn.XLOOKUP(A378,Agencies!$A$9:$A$146,Agencies!$B$9:$B$146)","v":"General Government"},{"$f":"IF(_xlfn.XLOOKUP(A378,Agencies!A:A,Agencies!D:D)=\"Y\",IF(_xlfn.XLOOKUP(F378,'Object Codes'!A:A,'Object Codes'!I:I)=\"Y\",\"Y\",\"N\"),\"N\")","v":"Y"},{"$f":"VLOOKUP(F378,'Object Codes'!$A:$C,3,0)","v":"RENTALS - LAND BLDGS & STRUCTS"},{"$f":"VLOOKUP(A378,Agencies!A:C,3,0)","v":"Mayoralty"},18220.794520547945]
["002",2022,"001","041","0406","423",0,0,0,966,966,0,0,0,0,0,0,0,0,0,966,0,966,0,0,966,{"$f":"_xlfn.XLOOKUP(F379,'Object Codes'!$A$18:$A$510,'Object Codes'!$H$18:$H$510)","v":"Heat, Light, and Power"},{"$f":"_xlfn.XLOOKUP(F379,'Object Codes'!$A$18:$A$510,'Object Codes'!$G$18:$G$510)","v":0},{"$f":"_xlfn.XLOOKUP(A379,Agencies!$A$9:$A$146,Agencies!$B$9:$B$146)","v":"General Government"},{"$f":"IF(_xlfn.XLOOKUP(A379,Agencies!A:A,Agencies!D:D)=\"Y\",IF(_xlfn.XLOOKUP(F379,'Object Codes'!A:A,'Object Codes'!I:I)=\"Y\",\"Y\",\"N\"),\"N\")","v":"Y"},{"$f":"VLOOKUP(F379,'Object Codes'!$A:$C,3,0)","v":"Heat, Light and Power"},{"$f":"VLOOKUP(A379,Agencies!A:C,3,0)","v":"Mayoralty"},0]
["002",2022,"001","041","0406","42C",0,0,0,244993,273308,0,0,0,0,0,267287.53000000003,0,267287.53000000003,267287.53000000003,6020.47,267287.53000000003,6020.47,267287.53000000003,267287.53000000003,6020.47,{"$f":"_xlfn.XLOOKUP(F380,'Object Codes'!$A$18:$A$510,'Object Codes'!$H$18:$H$510)","v":"Heat, Light, and Power"},{"$f":"_xlfn.XLOOKUP(F380,'Object Codes'!$A$18:$A$510,'Object Codes'!$G$18:$G$510)","v":0},{"$f":"_xlfn.XLOOKUP(A380,Agencies!$A$9:$A$146,Agencies!$B$9:$B$146)","v":"General Government"},{"$f":"IF(_xlfn.XLOOKUP(A380,Agencies!A:A,Agencies!D:D)=\"Y\",IF(_xlfn.XLOOKUP(F380,'Object Codes'!A:A,'Object Codes'!I:I)=\"Y\",\"Y\",\"N\"),\"N\")","v":"Y"},{"$f":"VLOOKUP(F380,'Object Codes'!$A:$C,3,0)","v":"HEAT LIGHT & POWER"},{"$f":"VLOOKUP(A380,Agencies!A:C,3,0)","v":"Mayoralty"},732.29460273972609]
["002",2022,"001","041","0406","42G",0,0,0,100094,100094,0,0,0,0,0,100094,0,100094,100094,0,100094,0,100094,100094,0,{"$f":"_xlfn.XLOOKUP(F381,'Object Codes'!$A$18:$A$510,'Object Codes'!$H$18:$H$510)","v":"Other Services and Charges - General"},{"$f":"_xlfn.XLOOKUP(F381,'Object Codes'!$A$18:$A$510,'Object Codes'!$G$18:$G$510)","v":0},{"$f":"_xlfn.XLOOKUP(A381,Agencies!$A$9:$A$146,Agencies!$B$9:$B$146)","v":"General Government"},{"$f":"IF(_xlfn.XLOOKUP(A381,Agencies!A:A,Agencies!D:D)=\"Y\",IF(_xlfn.XLOOKUP(F381,'Object Codes'!A:A,'Object Codes'!I:I)=\"Y\",\"Y\",\"N\"),\"N\")","v":"Y"},{"$f":"VLOOKUP(F381,'Object Codes'!$A:$C,3,0)","v":"DATA PROCESSING SERVICES"},{"$f":"VLOOKUP(A381,Agencies!A:C,3,0)","v":"Mayoralty"},274.23013698630137]
["002",2022,"001","041","0406","451",0,0,0,10000,10000,0,0,0,0,0,4904.91,0,4904.91,4904.91,5095.09,4904.91,5095.09,4904.91,4904.91,5095.09,{"$f":"_xlfn.XLOOKUP(F382,'Object Codes'!$A$18:$A$510,'Object Codes'!$H$18:$H$510)","v":"Other Services and Charges - General"},{"$f":"_xlfn.XLOOKUP(F382,'Object Codes'!$A$18:$A$510,'Object Codes'!$G$18:$G$510)","v":0},{"$f":"_xlfn.XLOOKUP(A382,Agencies!$A$9:$A$146,Agencies!$B$9:$B$146)","v":"General Government"},{"$f":"IF(_xlfn.XLOOKUP(A382,Agencies!A:A,Agencies!D:D)=\"Y\",IF(_xlfn.XLOOKUP(F382,'Object Codes'!A:A,'Object Codes'!I:I)=\"Y\",\"Y\",\"N\"),\"N\")","v":"Y"},{"$f":"VLOOKUP(F382,'Object Codes'!$A:$C,3,0)","v":"Non Overnight Travel Expenditures - General"},{"$f":"VLOOKUP(A382,Agencies!A:C,3,0)","v":"Mayoralty"},13.438109589041096]
["002",2022,"001","041","0406","452",0,0,0,2500,8000,0,0,0,0,0,6835.51,0,6835.51,6835.51,1164.49,6835.51,1164.49,6835.51,6835.51,1164.49,{"$f":"_xlfn.XLOOKUP(F383,'Object Codes'!$A$18:$A$510,'Object Codes'!$H$18:$H$510)","v":"Other Services and Charges - General"},{"$f":"_xlfn.XLOOKUP(F383,'Object Codes'!$A$18:$A$510,'Object Codes'!$G$18:$G$510)","v":0},{"$f":"_xlfn.XLOOKUP(A383,Agencies!$A$9:$A$146,Agencies!$B$9:$B$146)","v":"General Government"},{"$f":"IF(_xlfn.XLOOKUP(A383,Agencies!A:A,Agencies!D:D)=\"Y\",IF(_xlfn.XLOOKUP(F383,'Object Codes'!A:A,'Object Codes'!I:I)=\"Y\",\"Y\",\"N\"),\"N\")","v":"Y"},{"$f":"VLOOKUP(F383,'Object Codes'!$A:$C,3,0)","v":"Non Overnight Travel Expenditures - Special"},{"$f":"VLOOKUP(A383,Agencies!A:C,3,0)","v":"Mayoralty"},18.727424657534247]
["002",2022,"001","041","0406","453",0,0,0,20000,29500,0,0,0,0,0,21425.34,0,21425.34,21425.34,8074.66,21425.34,8074.66,21425.34,21425.34,8074.66,{"$f":"_xlfn.XLOOKUP(F384,'Object Codes'!$A$18:$A$510,'Object Codes'!$H$18:$H$510)","v":"Other Services and Charges - General"},{"$f":"_xlfn.XLOOKUP(F384,'Object Codes'!$A$18:$A$510,'Object Codes'!$G$18:$G$510)","v":0},{"$f":"_xlfn.XLOOKUP(A384,Agencies!$A$9:$A$146,Agencies!$B$9:$B$146)","v":"General Government"},{"$f":"IF(_xlfn.XLOOKUP(A384,Agencies!A:A,Agencies!D:D)=\"Y\",IF(_xlfn.XLOOKUP(F384,'Object Codes'!A:A,'Object Codes'!I:I)=\"Y\",\"Y\",\"N\"),\"N\")","v":"Y"},{"$f":"VLOOKUP(F384,'Object Codes'!$A:$C,3,0)","v":"Overnight Travel Expenditures - General"},{"$f":"VLOOKUP(A384,Agencies!A:C,3,0)","v":"Mayoralty"},58.699561643835615]
["002",2022,"001","041","0406","454",0,0,0,2500,2500,0,0,0,0,0,562,0,562,562,1938,562,1938,562,562,1938,{"$f":"_xlfn.XLOOKUP(F385,'Object Codes'!$A$18:$A$510,'Object Codes'!$H$18:$H$510)","v":"Other Services and Charges - General"},{"$f":"_xlfn.XLOOKUP(F385,'Object Codes'!$A$18:$A$510,'Object Codes'!$G$18:$G$510)","v":0},{"$f":"_xlfn.XLOOKUP(A385,Agencies!$A$9:$A$146,Agencies!$B$9:$B$146)","v":"General Government"},{"$f":"IF(_xlfn.XLOOKUP(A385,Agencies!A:A,Agencies!D:D)=\"Y\",IF(_xlfn.XLOOKUP(F385,'Object Codes'!A:A,'Object Codes'!I:I)=\"Y\",\"Y\",\"N\"),\"N\")","v":"Y"},{"$f":"VLOOKUP(F385,'Object Codes'!$A:$C,3,0)","v":"Overnight Travel Expenditures - Special"},{"$f":"VLOOKUP(A385,Agencies!A:C,3,0)","v":"Mayoralty"},1.5397260273972602]
["002",2022,"001","041","0406","499",0,0,0,252129,300000,0,0,0,0,0,0,0,0,0,300000,0,300000,0,0,300000,{"$f":"_xlfn.XLOOKUP(F386,'Object Codes'!$A$18:$A$510,'Object Codes'!$H$18:$H$510)","v":"Other Services and Charges - General"},{"$f":"_xlfn.XLOOKUP(F386,'Object Codes'!$A$18:$A$510,'Object Codes'!$G$18:$G$510)","v":0},{"$f":"_xlfn.XLOOKUP(A386,Agencies!$A$9:$A$146,Agencies!$B$9:$B$146)","v":"General Government"},{"$f":"IF(_xlfn.XLOOKUP(A386,Agencies!A:A,Agencies!D:D)=\"Y\",IF(_xlfn.XLOOKUP(F386,'Object Codes'!A:A,'Object Codes'!I:I)=\"Y\",\"Y\",\"N\"),\"N\")","v":"Y"},{"$f":"VLOOKUP(F386,'Object Codes'!$A:$C,3,0)","v":"Other Expenditures - General"},{"$f":"VLOOKUP(A386,Agencies!A:C,3,0)","v":"Mayoralty"},0]
["002",2022,"001","041","0406","608",0,0,0,40000,210000,0,0,0,0,0,173087.19,0,173087.19,173087.19,36912.81,173087.19,36912.81,173087.19,173087.19,36912.81,{"$f":"_xlfn.XLOOKUP(F387,'Object Codes'!$A$18:$A$510,'Object Codes'!$H$18:$H$510)","v":"Contractual Services"},{"$f":"_xlfn.XLOOKUP(F387,'Object Codes'!$A$18:$A$510,'Object Codes'!$G$18:$G$510)","v":0},{"$f":"_xlfn.XLOOKUP(A387,Agencies!$A$9:$A$146,Agencies!$B$9:$B$146)","v":"General Government"},{"$f":"IF(_xlfn.XLOOKUP(A387,Agencies!A:A,Agencies!D:D)=\"Y\",IF(_xlfn.XLOOKUP(F387,'Object Codes'!A:A,'Object Codes'!I:I)=\"Y\",\"Y\",\"N\"),\"N\")","v":"Y"},{"$f":"VLOOKUP(F387,'Object Codes'!$A:$C,3,0)","v":"Maintenance and Repairs - General - Contractual"},{"$f":"VLOOKUP(A387,Agencies!A:C,3,0)","v":"Mayoralty"},474.21147945205479]
["002",2022,"001","041","0406","612",0,0,0,82139,0,0,0,0,0,0,0,0,0,0,0,0,0,0,0,0,{"$f":"_xlfn.XLOOKUP(F388,'Object Codes'!$A$18:$A$510,'Object Codes'!$H$18:$H$510)","v":"Contractual Services"},{"$f":"_xlfn.XLOOKUP(F388,'Object Codes'!$A$18:$A$510,'Object Codes'!$G$18:$G$510)","v":0},{"$f":"_xlfn.XLOOKUP(A388,Agencies!$A$9:$A$146,Agencies!$B$9:$B$146)","v":"General Government"},{"$f":"IF(_xlfn.XLOOKUP(A388,Agencies!A:A,Agencies!D:D)=\"Y\",IF(_xlfn.XLOOKUP(F388,'Object Codes'!A:A,'Object Codes'!I:I)=\"Y\",\"Y\",\"N\"),\"N\")","v":"Y"},{"$f":"VLOOKUP(F388,'Object Codes'!$A:$C,3,0)","v":"Office Equipment Maintenance - Contractual"},{"$f":"VLOOKUP(A388,Agencies!A:C,3,0)","v":"Mayoralty"},0]
["002",2022,"001","041","0406","613",0,0,0,222484,263832,0,0,0,0,0,64095.16,0,64095.16,64095.16,199736.84,64095.16,199736.84,64095.16,64095.16,199736.84,{"$f":"_xlfn.XLOOKUP(F389,'Object Codes'!$A$18:$A$510,'Object Codes'!$H$18:$H$510)","v":"Contractual Services"},{"$f":"_xlfn.XLOOKUP(F389,'Object Codes'!$A$18:$A$510,'Object Codes'!$G$18:$G$510)","v":0},{"$f":"_xlfn.XLOOKUP(A389,Agencies!$A$9:$A$146,Agencies!$B$9:$B$146)","v":"General Government"},{"$f":"IF(_xlfn.XLOOKUP(A389,Agencies!A:A,Agencies!D:D)=\"Y\",IF(_xlfn.XLOOKUP(F389,'Object Codes'!A:A,'Object Codes'!I:I)=\"Y\",\"Y\",\"N\"),\"N\")","v":"Y"},{"$f":"VLOOKUP(F389,'Object Codes'!$A:$C,3,0)","v":"Data Processing Equipment Maintenance - Contractual"},{"$f":"VLOOKUP(A389,Agencies!A:C,3,0)","v":"Mayoralty"},175.60317808219179]
["002",2022,"001","041","0406","624",0,0,0,79240,5033,0,0,0,0,0,-19969.89,0,-19969.89,-19969.89,25002.89,-19969.89,25002.89,-19969.89,-19969.89,25002.89,{"$f":"_xlfn.XLOOKUP(F390,'Object Codes'!$A$18:$A$510,'Object Codes'!$H$18:$H$510)","v":"Contractual Services"},{"$f":"_xlfn.XLOOKUP(F390,'Object Codes'!$A$18:$A$510,'Object Codes'!$G$18:$G$510)","v":0},{"$f":"_xlfn.XLOOKUP(A390,Agencies!$A$9:$A$146,Agencies!$B$9:$B$146)","v":"General Government"},{"$f":"IF(_xlfn.XLOOKUP(A390,Agencies!A:A,Agencies!D:D)=\"Y\",IF(_xlfn.XLOOKUP(F390,'Object Codes'!A:A,'Object Codes'!I:I)=\"Y\",\"Y\",\"N\"),\"N\")","v":"Y"},{"$f":"VLOOKUP(F390,'Object Codes'!$A:$C,3,0)","v":"Cleaning Services - Contractual"},{"$f":"VLOOKUP(A390,Agencies!A:C,3,0)","v":"Mayoralty"},-54.712027397260272]
["002",2022,"001","041","0406","633",0,0,0,30000,36000,0,0,0,0,0,4020.86,0,4020.86,4020.86,31979.14,4020.86,31979.14,4020.86,4020.86,31979.14,{"$f":"_xlfn.XLOOKUP(F391,'Object Codes'!$A$18:$A$510,'Object Codes'!$H$18:$H$510)","v":"Contractual Services"},{"$f":"_xlfn.XLOOKUP(F391,'Object Codes'!$A$18:$A$510,'Object Codes'!$G$18:$G$510)","v":0},{"$f":"_xlfn.XLOOKUP(A391,Agencies!$A$9:$A$146,Agencies!$B$9:$B$146)","v":"General Government"},{"$f":"IF(_xlfn.XLOOKUP(A391,Agencies!A:A,Agencies!D:D)=\"Y\",IF(_xlfn.XLOOKUP(F391,'Object Codes'!A:A,'Object Codes'!I:I)=\"Y\",\"Y\",\"N\"),\"N\")","v":"Y"},{"$f":"VLOOKUP(F391,'Object Codes'!$A:$C,3,0)","v":"Transportation Services - Contractual"},{"$f":"VLOOKUP(A391,Agencies!A:C,3,0)","v":"Mayoralty"},11.016054794520548]
["002",2022,"001","041","0406","681",0,0,0,100000,10,0,0,0,0,0,0,0,0,0,10,0,10,0,0,10,{"$f":"_xlfn.XLOOKUP(F392,'Object Codes'!$A$18:$A$510,'Object Codes'!$H$18:$H$510)","v":"Contractual Services"},{"$f":"_xlfn.XLOOKUP(F392,'Object Codes'!$A$18:$A$510,'Object Codes'!$G$18:$G$510)","v":0},{"$f":"_xlfn.XLOOKUP(A392,Agencies!$A$9:$A$146,Agencies!$B$9:$B$146)","v":"General Government"},{"$f":"IF(_xlfn.XLOOKUP(A392,Agencies!A:A,Agencies!D:D)=\"Y\",IF(_xlfn.XLOOKUP(F392,'Object Codes'!A:A,'Object Codes'!I:I)=\"Y\",\"Y\",\"N\"),\"N\")","v":"Y"},{"$f":"VLOOKUP(F392,'Object Codes'!$A:$C,3,0)","v":"Professional Services - Accounting, Auditing and Actuarial Services -Contractual"},{"$f":"VLOOKUP(A392,Agencies!A:C,3,0)","v":"Mayoralty"},0]
["002",2022,"001","041","0406","686",0,0,0,0,64000,0,0,0,0,0,37929.29,0,37929.29,37929.29,26070.71,37929.29,26070.71,37929.29,37929.29,26070.71,{"$f":"_xlfn.XLOOKUP(F393,'Object Codes'!$A$18:$A$510,'Object Codes'!$H$18:$H$510)","v":"Contractual Services"},{"$f":"_xlfn.XLOOKUP(F393,'Object Codes'!$A$18:$A$510,'Object Codes'!$G$18:$G$510)","v":0},{"$f":"_xlfn.XLOOKUP(A393,Agencies!$A$9:$A$146,Agencies!$B$9:$B$146)","v":"General Government"},{"$f":"IF(_xlfn.XLOOKUP(A393,Agencies!A:A,Agencies!D:D)=\"Y\",IF(_xlfn.XLOOKUP(F393,'Object Codes'!A:A,'Object Codes'!I:I)=\"Y\",\"Y\",\"N\"),\"N\")","v":"Y"},{"$f":"VLOOKUP(F393,'Object Codes'!$A:$C,3,0)","v":"Professional Services - Other - Contractual"},{"$f":"VLOOKUP(A393,Agencies!A:C,3,0)","v":"Mayoralty"},{"$f":"S393/365","v":103.91586301369863}]
["002",2022,"001","041","0406","706",0,0,0,0,0,0,0,0,0,0,199.65,0,199.65,199.65,-199.65,199.65,-199.65,199.65,199.65,-199.65,{"$f":"_xlfn.XLOOKUP(F394,'Object Codes'!$A$18:$A$510,'Object Codes'!$H$18:$H$510)","v":"Fixed Charges"},{"$f":"_xlfn.XLOOKUP(F394,'Object Codes'!$A$18:$A$510,'Object Codes'!$G$18:$G$510)","v":0},{"$f":"_xlfn.XLOOKUP(A394,Agencies!$A$9:$A$146,Agencies!$B$9:$B$146)","v":"General Government"},{"$f":"IF(_xlfn.XLOOKUP(A394,Agencies!A:A,Agencies!D:D)=\"Y\",IF(_xlfn.XLOOKUP(F394,'Object Codes'!A:A,'Object Codes'!I:I)=\"Y\",\"Y\",\"N\"),\"N\")","v":"Y"},{"$f":"VLOOKUP(F394,'Object Codes'!$A:$C,3,0)","v":"Prompt Payments Interest"},{"$f":"VLOOKUP(A394,Agencies!A:C,3,0)","v":"Mayoralty"},0.54698630136986304]
["002",2022,"001","041","0406","732",0,0,0,3000,3000,0,0,0,0,0,2313.2199999999998,0,2313.2199999999998,2313.2199999999998,686.78,2313.2199999999998,686.78,2313.2199999999998,2313.2199999999998,686.78,{"$f":"_xlfn.XLOOKUP(F395,'Object Codes'!$A$18:$A$510,'Object Codes'!$H$18:$H$510)","v":"Fixed Charges"},{"$f":"_xlfn.XLOOKUP(F395,'Object Codes'!$A$18:$A$510,'Object Codes'!$G$18:$G$510)","v":0},{"$f":"_xlfn.XLOOKUP(A395,Agencies!$A$9:$A$146,Agencies!$B$9:$B$146)","v":"General Government"},{"$f":"IF(_xlfn.XLOOKUP(A395,Agencies!A:A,Agencies!D:D)=\"Y\",IF(_xlfn.XLOOKUP(F395,'Object Codes'!A:A,'Object Codes'!I:I)=\"Y\",\"Y\",\"N\"),\"N\")","v":"Y"},{"$f":"VLOOKUP(F395,'Object Codes'!$A:$C,3,0)","v":"Miscellaneous Awards"},{"$f":"VLOOKUP(A395,Agencies!A:C,3,0)","v":"Mayoralty"},6.3375890410958897]
["002",2022,"001","041","0406","794",0,0,0,118860,74544,0,0,0,0,0,68012.649999999994,0,68012.649999999994,68012.649999999994,6531.35,68012.649999999994,6531.35,68012.649999999994,68012.649999999994,6531.35,{"$f":"_xlfn.XLOOKUP(F396,'Object Codes'!$A$18:$A$510,'Object Codes'!$H$18:$H$510)","v":"Fixed Charges"},{"$f":"_xlfn.XLOOKUP(F396,'Object Codes'!$A$18:$A$510,'Object Codes'!$G$18:$G$510)","v":0},{"$f":"_xlfn.XLOOKUP(A396,Agencies!$A$9:$A$146,Agencies!$B$9:$B$146)","v":"General Government"},{"$f":"IF(_xlfn.XLOOKUP(A396,Agencies!A:A,Agencies!D:D)=\"Y\",IF(_xlfn.XLOOKUP(F396,'Object Codes'!A:A,'Object Codes'!I:I)=\"Y\",\"Y\",\"N\"),\"N\")","v":"Y"},{"$f":"VLOOKUP(F396,'Object Codes'!$A:$C,3,0)","v":"Training Program for City Employees"},{"$f":"VLOOKUP(A396,Agencies!A:C,3,0)","v":"Mayoralty"},186.33602739726027]
["002",2022,"001","041","0406","79D",0,0,0,2400,30716,0,0,0,0,0,30665,0,30665,30665,51,30665,51,30665,30665,51,{"$f":"_xlfn.XLOOKUP(F397,'Object Codes'!$A$18:$A$510,'Object Codes'!$H$18:$H$510)","v":"Fixed Charges"},{"$f":"_xlfn.XLOOKUP(F397,'Object Codes'!$A$18:$A$510,'Object Codes'!$G$18:$G$510)","v":0},{"$f":"_xlfn.XLOOKUP(A397,Agencies!$A$9:$A$146,Agencies!$B$9:$B$146)","v":"General Government"},{"$f":"IF(_xlfn.XLOOKUP(A397,Agencies!A:A,Agencies!D:D)=\"Y\",IF(_xlfn.XLOOKUP(F397,'Object Codes'!A:A,'Object Codes'!I:I)=\"Y\",\"Y\",\"N\"),\"N\")","v":"Y"},{"$f":"VLOOKUP(F397,'Object Codes'!$A:$C,3,0)","v":"TRAINING CITY EMPLOYEES"},{"$f":"VLOOKUP(A397,Agencies!A:C,3,0)","v":"Mayoralty"},84.013698630136986]
["002",2022,"001","041","0407","100",0,0,0,500,500,0,0,0,0,0,0,0,0,0,500,0,500,0,0,500,{"$f":"_xlfn.XLOOKUP(F398,'Object Codes'!$A$18:$A$510,'Object Codes'!$H$18:$H$510)","v":"Supplies & Materials"},{"$f":"_xlfn.XLOOKUP(F398,'Object Codes'!$A$18:$A$510,'Object Codes'!$G$18:$G$510)","v":"A"},{"$f":"_xlfn.XLOOKUP(A398,Agencies!$A$9:$A$146,Agencies!$B$9:$B$146)","v":"General Government"},{"$f":"IF(_xlfn.XLOOKUP(A398,Agencies!A:A,Agencies!D:D)=\"Y\",IF(_xlfn.XLOOKUP(F398,'Object Codes'!A:A,'Object Codes'!I:I)=\"Y\",\"Y\",\"N\"),\"N\")","v":"Y"},{"$f":"VLOOKUP(F398,'Object Codes'!$A:$C,3,0)","v":"Supplies and Materials - General"},{"$f":"VLOOKUP(A398,Agencies!A:C,3,0)","v":"Mayoralty"},0]
["002",2022,"001","041","0407","199",0,0,0,302,302,0,0,0,0,0,0,0,0,0,302,0,302,0,0,302,{"$f":"_xlfn.XLOOKUP(F399,'Object Codes'!$A$18:$A$510,'Object Codes'!$H$18:$H$510)","v":"Supplies & Materials"},{"$f":"_xlfn.XLOOKUP(F399,'Object Codes'!$A$18:$A$510,'Object Codes'!$G$18:$G$510)","v":"A"},{"$f":"_xlfn.XLOOKUP(A399,Agencies!$A$9:$A$146,Agencies!$B$9:$B$146)","v":"General Government"},{"$f":"IF(_xlfn.XLOOKUP(A399,Agencies!A:A,Agencies!D:D)=\"Y\",IF(_xlfn.XLOOKUP(F399,'Object Codes'!A:A,'Object Codes'!I:I)=\"Y\",\"Y\",\"N\"),\"N\")","v":"Y"},{"$f":"VLOOKUP(F399,'Object Codes'!$A:$C,3,0)","v":"Data Processing Supplies"},{"$f":"VLOOKUP(A399,Agencies!A:C,3,0)","v":"Mayoralty"},0]
["002",2022,"001","041","0407","314",0,0,0,753,253,0,0,0,0,0,0,0,0,0,253,0,253,0,0,253,{"$f":"_xlfn.XLOOKUP(F400,'Object Codes'!$A$18:$A$510,'Object Codes'!$H$18:$H$510)","v":"Equipment"},{"$f":"_xlfn.XLOOKUP(F400,'Object Codes'!$A$18:$A$510,'Object Codes'!$G$18:$G$510)","v":"A"},{"$f":"_xlfn.XLOOKUP(A400,Agencies!$A$9:$A$146,Agencies!$B$9:$B$146)","v":"General Government"},{"$f":"IF(_xlfn.XLOOKUP(A400,Agencies!A:A,Agencies!D:D)=\"Y\",IF(_xlfn.XLOOKUP(F400,'Object Codes'!A:A,'Object Codes'!I:I)=\"Y\",\"Y\",\"N\"),\"N\")","v":"Y"},{"$f":"VLOOKUP(F400,'Object Codes'!$A:$C,3,0)","v":"Office Furniture"},{"$f":"VLOOKUP(A400,Agencies!A:C,3,0)","v":"Mayoralty"},0]
["002",2022,"001","041","0407","315",0,0,0,250,250,0,0,0,0,0,0,0,0,0,250,0,250,0,0,250,{"$f":"_xlfn.XLOOKUP(F401,'Object Codes'!$A$18:$A$510,'Object Codes'!$H$18:$H$510)","v":"Equipment"},{"$f":"_xlfn.XLOOKUP(F401,'Object Codes'!$A$18:$A$510,'Object Codes'!$G$18:$G$510)","v":"A"},{"$f":"_xlfn.XLOOKUP(A401,Agencies!$A$9:$A$146,Agencies!$B$9:$B$146)","v":"General Government"},{"$f":"IF(_xlfn.XLOOKUP(A401,Agencies!A:A,Agencies!D:D)=\"Y\",IF(_xlfn.XLOOKUP(F401,'Object Codes'!A:A,'Object Codes'!I:I)=\"Y\",\"Y\",\"N\"),\"N\")","v":"Y"},{"$f":"VLOOKUP(F401,'Object Codes'!$A:$C,3,0)","v":"Office Equipment"},{"$f":"VLOOKUP(A401,Agencies!A:C,3,0)","v":"Mayoralty"},0]
["002",2022,"001","041","0407","332",0,0,0,3101,1201,0,0,0,0,0,978,0,978,978,223,978,223,978,978,223,{"$f":"_xlfn.XLOOKUP(F402,'Object Codes'!$A$18:$A$510,'Object Codes'!$H$18:$H$510)","v":"Equipment"},{"$f":"_xlfn.XLOOKUP(F402,'Object Codes'!$A$18:$A$510,'Object Codes'!$G$18:$G$510)","v":"A"},{"$f":"_xlfn.XLOOKUP(A402,Agencies!$A$9:$A$146,Agencies!$B$9:$B$146)","v":"General Government"},{"$f":"IF(_xlfn.XLOOKUP(A402,Agencies!A:A,Agencies!D:D)=\"Y\",IF(_xlfn.XLOOKUP(F402,'Object Codes'!A:A,'Object Codes'!I:I)=\"Y\",\"Y\",\"N\"),\"N\")","v":"Y"},{"$f":"VLOOKUP(F402,'Object Codes'!$A:$C,3,0)","v":"Purchases of Data Processing Equipment"},{"$f":"VLOOKUP(A402,Agencies!A:C,3,0)","v":"Mayoralty"},2.6794520547945204]
["002",2022,"001","041","0407","337",0,0,0,712,25000,0,0,0,0,0,20650.349999999999,0,20650.349999999999,20650.349999999999,4349.6499999999996,20650.349999999999,4349.6499999999996,20650.349999999999,20650.349999999999,4349.6499999999996,{"$f":"_xlfn.XLOOKUP(F403,'Object Codes'!$A$18:$A$510,'Object Codes'!$H$18:$H$510)","v":"Equipment"},{"$f":"_xlfn.XLOOKUP(F403,'Object Codes'!$A$18:$A$510,'Object Codes'!$G$18:$G$510)","v":"A"},{"$f":"_xlfn.XLOOKUP(A403,Agencies!$A$9:$A$146,Agencies!$B$9:$B$146)","v":"General Government"},{"$f":"IF(_xlfn.XLOOKUP(A403,Agencies!A:A,Agencies!D:D)=\"Y\",IF(_xlfn.XLOOKUP(F403,'Object Codes'!A:A,'Object Codes'!I:I)=\"Y\",\"Y\",\"N\"),\"N\")","v":"Y"},{"$f":"VLOOKUP(F403,'Object Codes'!$A:$C,3,0)","v":"Books - Other"},{"$f":"VLOOKUP(A403,Agencies!A:C,3,0)","v":"Mayoralty"},56.57630136986301]
["002",2022,"001","041","0407","400",0,0,0,514388,506488,0,0,0,0,0,483005,0,483005,483005,23483,483005,23483,483005,483005,23483,{"$f":"_xlfn.XLOOKUP(F404,'Object Codes'!$A$18:$A$510,'Object Codes'!$H$18:$H$510)","v":"Other Services and Charges - General"},{"$f":"_xlfn.XLOOKUP(F404,'Object Codes'!$A$18:$A$510,'Object Codes'!$G$18:$G$510)","v":0},{"$f":"_xlfn.XLOOKUP(A404,Agencies!$A$9:$A$146,Agencies!$B$9:$B$146)","v":"General Government"},{"$f":"IF(_xlfn.XLOOKUP(A404,Agencies!A:A,Agencies!D:D)=\"Y\",IF(_xlfn.XLOOKUP(F404,'Object Codes'!A:A,'Object Codes'!I:I)=\"Y\",\"Y\",\"N\"),\"N\")","v":"Y"},{"$f":"VLOOKUP(F404,'Object Codes'!$A:$C,3,0)","v":"Other Services and Charges - General"},{"$f":"VLOOKUP(A404,Agencies!A:C,3,0)","v":"Mayoralty"},1323.3013698630136]
["002",2022,"001","041","0407","403",0,0,0,4000,6900,0,0,0,0,0,3466.03,0,3466.03,3466.03,3433.97,3466.03,3433.97,3466.03,3466.03,3433.97,{"$f":"_xlfn.XLOOKUP(F405,'Object Codes'!$A$18:$A$510,'Object Codes'!$H$18:$H$510)","v":"Other Services and Charges - General"},{"$f":"_xlfn.XLOOKUP(F405,'Object Codes'!$A$18:$A$510,'Object Codes'!$G$18:$G$510)","v":0},{"$f":"_xlfn.XLOOKUP(A405,Agencies!$A$9:$A$146,Agencies!$B$9:$B$146)","v":"General Government"},{"$f":"IF(_xlfn.XLOOKUP(A405,Agencies!A:A,Agencies!D:D)=\"Y\",IF(_xlfn.XLOOKUP(F405,'Object Codes'!A:A,'Object Codes'!I:I)=\"Y\",\"Y\",\"N\"),\"N\")","v":"Y"},{"$f":"VLOOKUP(F405,'Object Codes'!$A:$C,3,0)","v":"Office Services"},{"$f":"VLOOKUP(A405,Agencies!A:C,3,0)","v":"Mayoralty"},9.4959726027397267]
["002",2022,"001","041","0407","417",0,0,0,33000,33000,0,0,0,0,0,20464.95,0,20464.95,20464.95,12535.05,20464.95,12535.05,20464.95,20464.95,12535.05,{"$f":"_xlfn.XLOOKUP(F406,'Object Codes'!$A$18:$A$510,'Object Codes'!$H$18:$H$510)","v":"Other Services and Charges - General"},{"$f":"_xlfn.XLOOKUP(F406,'Object Codes'!$A$18:$A$510,'Object Codes'!$G$18:$G$510)","v":0},{"$f":"_xlfn.XLOOKUP(A406,Agencies!$A$9:$A$146,Agencies!$B$9:$B$146)","v":"General Government"},{"$f":"IF(_xlfn.XLOOKUP(A406,Agencies!A:A,Agencies!D:D)=\"Y\",IF(_xlfn.XLOOKUP(F406,'Object Codes'!A:A,'Object Codes'!I:I)=\"Y\",\"Y\",\"N\"),\"N\")","v":"Y"},{"$f":"VLOOKUP(F406,'Object Codes'!$A:$C,3,0)","v":"Advertising"},{"$f":"VLOOKUP(A406,Agencies!A:C,3,0)","v":"Mayoralty"},56.068356164383566]
["002",2022,"001","041","0407","432",0,0,0,100,100,0,0,0,0,0,0,0,0,0,100,0,100,0,0,100,{"$f":"_xlfn.XLOOKUP(F407,'Object Codes'!$A$18:$A$510,'Object Codes'!$H$18:$H$510)","v":"Other Services and Charges - General"},{"$f":"_xlfn.XLOOKUP(F407,'Object Codes'!$A$18:$A$510,'Object Codes'!$G$18:$G$510)","v":0},{"$f":"_xlfn.XLOOKUP(A407,Agencies!$A$9:$A$146,Agencies!$B$9:$B$146)","v":"General Government"},{"$f":"IF(_xlfn.XLOOKUP(A407,Agencies!A:A,Agencies!D:D)=\"Y\",IF(_xlfn.XLOOKUP(F407,'Object Codes'!A:A,'Object Codes'!I:I)=\"Y\",\"Y\",\"N\"),\"N\")","v":"Y"},{"$f":"VLOOKUP(F407,'Object Codes'!$A:$C,3,0)","v":"Leasing of Data Processing Equipment"},{"$f":"VLOOKUP(A407,Agencies!A:C,3,0)","v":"Mayoralty"},0]
["002",2022,"001","041","0407","451",0,0,0,0,1560,0,0,0,0,0,1267,0,1267,1267,293,1267,293,1267,1267,293,{"$f":"_xlfn.XLOOKUP(F408,'Object Codes'!$A$18:$A$510,'Object Codes'!$H$18:$H$510)","v":"Other Services and Charges - General"},{"$f":"_xlfn.XLOOKUP(F408,'Object Codes'!$A$18:$A$510,'Object Codes'!$G$18:$G$510)","v":0},{"$f":"_xlfn.XLOOKUP(A408,Agencies!$A$9:$A$146,Agencies!$B$9:$B$146)","v":"General Government"},{"$f":"IF(_xlfn.XLOOKUP(A408,Agencies!A:A,Agencies!D:D)=\"Y\",IF(_xlfn.XLOOKUP(F408,'Object Codes'!A:A,'Object Codes'!I:I)=\"Y\",\"Y\",\"N\"),\"N\")","v":"Y"},{"$f":"VLOOKUP(F408,'Object Codes'!$A:$C,3,0)","v":"Non Overnight Travel Expenditures - General"},{"$f":"VLOOKUP(A408,Agencies!A:C,3,0)","v":"Mayoralty"},3.4712328767123286]
["002",2022,"001","041","0407","608",0,0,0,624,3024,0,0,0,0,0,3000,0,3000,3000,24,3000,24,3000,3000,24,{"$f":"_xlfn.XLOOKUP(F409,'Object Codes'!$A$18:$A$510,'Object Codes'!$H$18:$H$510)","v":"Contractual Services"},{"$f":"_xlfn.XLOOKUP(F409,'Object Codes'!$A$18:$A$510,'Object Codes'!$G$18:$G$510)","v":0},{"$f":"_xlfn.XLOOKUP(A409,Agencies!$A$9:$A$146,Agencies!$B$9:$B$146)","v":"General Government"},{"$f":"IF(_xlfn.XLOOKUP(A409,Agencies!A:A,Agencies!D:D)=\"Y\",IF(_xlfn.XLOOKUP(F409,'Object Codes'!A:A,'Object Codes'!I:I)=\"Y\",\"Y\",\"N\"),\"N\")","v":"Y"},{"$f":"VLOOKUP(F409,'Object Codes'!$A:$C,3,0)","v":"Maintenance and Repairs - General - Contractual"},{"$f":"VLOOKUP(A409,Agencies!A:C,3,0)","v":"Mayoralty"},8.2191780821917817]
["002",2022,"001","041","0407","624",0,0,0,1860,300,0,0,0,0,0,0,0,0,0,300,0,300,0,0,300,{"$f":"_xlfn.XLOOKUP(F410,'Object Codes'!$A$18:$A$510,'Object Codes'!$H$18:$H$510)","v":"Contractual Services"},{"$f":"_xlfn.XLOOKUP(F410,'Object Codes'!$A$18:$A$510,'Object Codes'!$G$18:$G$510)","v":0},{"$f":"_xlfn.XLOOKUP(A410,Agencies!$A$9:$A$146,Agencies!$B$9:$B$146)","v":"General Government"},{"$f":"IF(_xlfn.XLOOKUP(A410,Agencies!A:A,Agencies!D:D)=\"Y\",IF(_xlfn.XLOOKUP(F410,'Object Codes'!A:A,'Object Codes'!I:I)=\"Y\",\"Y\",\"N\"),\"N\")","v":"Y"},{"$f":"VLOOKUP(F410,'Object Codes'!$A:$C,3,0)","v":"Cleaning Services - Contractual"},{"$f":"VLOOKUP(A410,Agencies!A:C,3,0)","v":"Mayoralty"},0]
["002",2022,"001","041","0407","671",0,0,0,400,1112,0,0,0,0,0,800,0,800,800,312,800,312,800,800,312,{"$f":"_xlfn.XLOOKUP(F411,'Object Codes'!$A$18:$A$510,'Object Codes'!$H$18:$H$510)","v":"Contractual Services"},{"$f":"_xlfn.XLOOKUP(F411,'Object Codes'!$A$18:$A$510,'Object Codes'!$G$18:$G$510)","v":0},{"$f":"_xlfn.XLOOKUP(A411,Agencies!$A$9:$A$146,Agencies!$B$9:$B$146)","v":"General Government"},{"$f":"IF(_xlfn.XLOOKUP(A411,Agencies!A:A,Agencies!D:D)=\"Y\",IF(_xlfn.XLOOKUP(F411,'Object Codes'!A:A,'Object Codes'!I:I)=\"Y\",\"Y\",\"N\"),\"N\")","v":"Y"},{"$f":"VLOOKUP(F411,'Object Codes'!$A:$C,3,0)","v":"Training Program for City Employees - Contractual"},{"$f":"VLOOKUP(A411,Agencies!A:C,3,0)","v":"Mayoralty"},2.1917808219178081]
["002",2022,"001","041","0407","686",0,0,0,500,12500,0,0,0,0,0,12026.56,0,12026.56,12026.56,473.44,12026.56,473.44,12026.56,12026.56,473.44,{"$f":"_xlfn.XLOOKUP(F412,'Object Codes'!$A$18:$A$510,'Object Codes'!$H$18:$H$510)","v":"Contractual Services"},{"$f":"_xlfn.XLOOKUP(F412,'Object Codes'!$A$18:$A$510,'Object Codes'!$G$18:$G$510)","v":0},{"$f":"_xlfn.XLOOKUP(A412,Agencies!$A$9:$A$146,Agencies!$B$9:$B$146)","v":"General Government"},{"$f":"IF(_xlfn.XLOOKUP(A412,Agencies!A:A,Agencies!D:D)=\"Y\",IF(_xlfn.XLOOKUP(F412,'Object Codes'!A:A,'Object Codes'!I:I)=\"Y\",\"Y\",\"N\"),\"N\")","v":"Y"},{"$f":"VLOOKUP(F412,'Object Codes'!$A:$C,3,0)","v":"Professional Services - Other - Contractual"},{"$f":"VLOOKUP(A412,Agencies!A:C,3,0)","v":"Mayoralty"},32.949479452054796]
["002",2022,"001","041","0408","100",0,0,0,6566,0,0,0,0,0,0,0,0,0,0,0,0,0,0,0,0,{"$f":"_xlfn.XLOOKUP(F413,'Object Codes'!$A$18:$A$510,'Object Codes'!$H$18:$H$510)","v":"Supplies & Materials"},{"$f":"_xlfn.XLOOKUP(F413,'Object Codes'!$A$18:$A$510,'Object Codes'!$G$18:$G$510)","v":"A"},{"$f":"_xlfn.XLOOKUP(A413,Agencies!$A$9:$A$146,Agencies!$B$9:$B$146)","v":"General Government"},{"$f":"IF(_xlfn.XLOOKUP(A413,Agencies!A:A,Agencies!D:D)=\"Y\",IF(_xlfn.XLOOKUP(F413,'Object Codes'!A:A,'Object Codes'!I:I)=\"Y\",\"Y\",\"N\"),\"N\")","v":"Y"},{"$f":"VLOOKUP(F413,'Object Codes'!$A:$C,3,0)","v":"Supplies and Materials - General"},{"$f":"VLOOKUP(A413,Agencies!A:C,3,0)","v":"Mayoralty"},0]
["002",2022,"001","041","0408","101",0,0,0,6323,0,0,0,0,0,0,0,0,0,0,0,0,0,0,0,0,{"$f":"_xlfn.XLOOKUP(F414,'Object Codes'!$A$18:$A$510,'Object Codes'!$H$18:$H$510)","v":"Supplies & Materials"},{"$f":"_xlfn.XLOOKUP(F414,'Object Codes'!$A$18:$A$510,'Object Codes'!$G$18:$G$510)","v":"A"},{"$f":"_xlfn.XLOOKUP(A414,Agencies!$A$9:$A$146,Agencies!$B$9:$B$146)","v":"General Government"},{"$f":"IF(_xlfn.XLOOKUP(A414,Agencies!A:A,Agencies!D:D)=\"Y\",IF(_xlfn.XLOOKUP(F414,'Object Codes'!A:A,'Object Codes'!I:I)=\"Y\",\"Y\",\"N\"),\"N\")","v":"Y"},{"$f":"VLOOKUP(F414,'Object Codes'!$A:$C,3,0)","v":"Printing Supplies"},{"$f":"VLOOKUP(A414,Agencies!A:C,3,0)","v":"Mayoralty"},0]
["002",2022,"001","041","0408","117",0,0,0,7000,0,0,0,0,0,0,0,0,0,0,0,0,0,0,0,0,{"$f":"_xlfn.XLOOKUP(F415,'Object Codes'!$A$18:$A$510,'Object Codes'!$H$18:$H$510)","v":"Supplies & Materials"},{"$f":"_xlfn.XLOOKUP(F415,'Object Codes'!$A$18:$A$510,'Object Codes'!$G$18:$G$510)","v":"A"},{"$f":"_xlfn.XLOOKUP(A415,Agencies!$A$9:$A$146,Agencies!$B$9:$B$146)","v":"General Government"},{"$f":"IF(_xlfn.XLOOKUP(A415,Agencies!A:A,Agencies!D:D)=\"Y\",IF(_xlfn.XLOOKUP(F415,'Object Codes'!A:A,'Object Codes'!I:I)=\"Y\",\"Y\",\"N\"),\"N\")","v":"Y"},{"$f":"VLOOKUP(F415,'Object Codes'!$A:$C,3,0)","v":"Postage"},{"$f":"VLOOKUP(A415,Agencies!A:C,3,0)","v":"Mayoralty"},0]
["002",2022,"001","041","0408","199",0,0,0,2447,2336,0,0,0,0,0,0,0,0,0,2336,0,2336,0,0,2336,{"$f":"_xlfn.XLOOKUP(F416,'Object Codes'!$A$18:$A$510,'Object Codes'!$H$18:$H$510)","v":"Supplies & Materials"},{"$f":"_xlfn.XLOOKUP(F416,'Object Codes'!$A$18:$A$510,'Object Codes'!$G$18:$G$510)","v":"A"},{"$f":"_xlfn.XLOOKUP(A416,Agencies!$A$9:$A$146,Agencies!$B$9:$B$146)","v":"General Government"},{"$f":"IF(_xlfn.XLOOKUP(A416,Agencies!A:A,Agencies!D:D)=\"Y\",IF(_xlfn.XLOOKUP(F416,'Object Codes'!A:A,'Object Codes'!I:I)=\"Y\",\"Y\",\"N\"),\"N\")","v":"Y"},{"$f":"VLOOKUP(F416,'Object Codes'!$A:$C,3,0)","v":"Data Processing Supplies"},{"$f":"VLOOKUP(A416,Agencies!A:C,3,0)","v":"Mayoralty"},0]
["002",2022,"001","041","0408","337",0,0,0,13942,13942,0,0,0,0,0,13900.85,0,13900.85,13900.85,41.15,13900.85,41.15,13900.85,13900.85,41.15,{"$f":"_xlfn.XLOOKUP(F417,'Object Codes'!$A$18:$A$510,'Object Codes'!$H$18:$H$510)","v":"Equipment"},{"$f":"_xlfn.XLOOKUP(F417,'Object Codes'!$A$18:$A$510,'Object Codes'!$G$18:$G$510)","v":"A"},{"$f":"_xlfn.XLOOKUP(A417,Agencies!$A$9:$A$146,Agencies!$B$9:$B$146)","v":"General Government"},{"$f":"IF(_xlfn.XLOOKUP(A417,Agencies!A:A,Agencies!D:D)=\"Y\",IF(_xlfn.XLOOKUP(F417,'Object Codes'!A:A,'Object Codes'!I:I)=\"Y\",\"Y\",\"N\"),\"N\")","v":"Y"},{"$f":"VLOOKUP(F417,'Object Codes'!$A:$C,3,0)","v":"Books - Other"},{"$f":"VLOOKUP(A417,Agencies!A:C,3,0)","v":"Mayoralty"},38.084520547945203]
["002",2022,"001","041","0408","402",0,0,0,4122,4122,0,0,0,0,0,0,0,0,0,4122,0,4122,0,0,4122,{"$f":"_xlfn.XLOOKUP(F418,'Object Codes'!$A$18:$A$510,'Object Codes'!$H$18:$H$510)","v":"Other Services and Charges - General"},{"$f":"_xlfn.XLOOKUP(F418,'Object Codes'!$A$18:$A$510,'Object Codes'!$G$18:$G$510)","v":0},{"$f":"_xlfn.XLOOKUP(A418,Agencies!$A$9:$A$146,Agencies!$B$9:$B$146)","v":"General Government"},{"$f":"IF(_xlfn.XLOOKUP(A418,Agencies!A:A,Agencies!D:D)=\"Y\",IF(_xlfn.XLOOKUP(F418,'Object Codes'!A:A,'Object Codes'!I:I)=\"Y\",\"Y\",\"N\"),\"N\")","v":"Y"},{"$f":"VLOOKUP(F418,'Object Codes'!$A:$C,3,0)","v":"Telephone and Other Communications"},{"$f":"VLOOKUP(A418,Agencies!A:C,3,0)","v":"Mayoralty"},0]
["002",2022,"001","041","0408","40B",0,0,0,9268,9268,0,0,0,0,0,0,0,0,0,9268,0,9268,0,0,9268,{"$f":"_xlfn.XLOOKUP(F419,'Object Codes'!$A$18:$A$510,'Object Codes'!$H$18:$H$510)","v":"Other Services and Charges - General"},{"$f":"_xlfn.XLOOKUP(F419,'Object Codes'!$A$18:$A$510,'Object Codes'!$G$18:$G$510)","v":0},{"$f":"_xlfn.XLOOKUP(A419,Agencies!$A$9:$A$146,Agencies!$B$9:$B$146)","v":"General Government"},{"$f":"IF(_xlfn.XLOOKUP(A419,Agencies!A:A,Agencies!D:D)=\"Y\",IF(_xlfn.XLOOKUP(F419,'Object Codes'!A:A,'Object Codes'!I:I)=\"Y\",\"Y\",\"N\"),\"N\")","v":"Y"},{"$f":"VLOOKUP(F419,'Object Codes'!$A:$C,3,0)","v":"TELEPHONE & OTHER COMMUNICATNS"},{"$f":"VLOOKUP(A419,Agencies!A:C,3,0)","v":"Mayoralty"},0]
["002",2022,"001","041","0408","41D",0,0,0,439802,439802,0,0,0,0,0,439802,0,439802,439802,0,439802,0,439802,439802,0,{"$f":"_xlfn.XLOOKUP(F420,'Object Codes'!$A$18:$A$510,'Object Codes'!$H$18:$H$510)","v":"Leases"},{"$f":"_xlfn.XLOOKUP(F420,'Object Codes'!$A$18:$A$510,'Object Codes'!$G$18:$G$510)","v":0},{"$f":"_xlfn.XLOOKUP(A420,Agencies!$A$9:$A$146,Agencies!$B$9:$B$146)","v":"General Government"},{"$f":"IF(_xlfn.XLOOKUP(A420,Agencies!A:A,Agencies!D:D)=\"Y\",IF(_xlfn.XLOOKUP(F420,'Object Codes'!A:A,'Object Codes'!I:I)=\"Y\",\"Y\",\"N\"),\"N\")","v":"Y"},{"$f":"VLOOKUP(F420,'Object Codes'!$A:$C,3,0)","v":"RENTALS - LAND BLDGS & STRUCTS"},{"$f":"VLOOKUP(A420,Agencies!A:C,3,0)","v":"Mayoralty"},1204.9369863013699]
["002",2022,"001","041","0408","42C",0,0,0,5543,5543,0,0,0,0,0,4987.49,0,4987.49,4987.49,555.51,4987.49,555.51,4987.49,4987.49,555.51,{"$f":"_xlfn.XLOOKUP(F421,'Object Codes'!$A$18:$A$510,'Object Codes'!$H$18:$H$510)","v":"Heat, Light, and Power"},{"$f":"_xlfn.XLOOKUP(F421,'Object Codes'!$A$18:$A$510,'Object Codes'!$G$18:$G$510)","v":0},{"$f":"_xlfn.XLOOKUP(A421,Agencies!$A$9:$A$146,Agencies!$B$9:$B$146)","v":"General Government"},{"$f":"IF(_xlfn.XLOOKUP(A421,Agencies!A:A,Agencies!D:D)=\"Y\",IF(_xlfn.XLOOKUP(F421,'Object Codes'!A:A,'Object Codes'!I:I)=\"Y\",\"Y\",\"N\"),\"N\")","v":"Y"},{"$f":"VLOOKUP(F421,'Object Codes'!$A:$C,3,0)","v":"HEAT LIGHT & POWER"},{"$f":"VLOOKUP(A421,Agencies!A:C,3,0)","v":"Mayoralty"},13.664356164383561]
["002",2022,"001","041","0408","624",0,0,0,2318,2318,0,0,0,0,0,0,0,0,0,2318,0,2318,0,0,2318,{"$f":"_xlfn.XLOOKUP(F422,'Object Codes'!$A$18:$A$510,'Object Codes'!$H$18:$H$510)","v":"Contractual Services"},{"$f":"_xlfn.XLOOKUP(F422,'Object Codes'!$A$18:$A$510,'Object Codes'!$G$18:$G$510)","v":0},{"$f":"_xlfn.XLOOKUP(A422,Agencies!$A$9:$A$146,Agencies!$B$9:$B$146)","v":"General Government"},{"$f":"IF(_xlfn.XLOOKUP(A422,Agencies!A:A,Agencies!D:D)=\"Y\",IF(_xlfn.XLOOKUP(F422,'Object Codes'!A:A,'Object Codes'!I:I)=\"Y\",\"Y\",\"N\"),\"N\")","v":"Y"},{"$f":"VLOOKUP(F422,'Object Codes'!$A:$C,3,0)","v":"Cleaning Services - Contractual"},{"$f":"VLOOKUP(A422,Agencies!A:C,3,0)","v":"Mayoralty"},0]
["002",2022,"001","041","0408","686",0,0,0,0,20000,0,0,0,0,0,0,0,0,0,20000,0,20000,0,0,20000,{"$f":"_xlfn.XLOOKUP(F423,'Object Codes'!$A$18:$A$510,'Object Codes'!$H$18:$H$510)","v":"Contractual Services"},{"$f":"_xlfn.XLOOKUP(F423,'Object Codes'!$A$18:$A$510,'Object Codes'!$G$18:$G$510)","v":0},{"$f":"_xlfn.XLOOKUP(A423,Agencies!$A$9:$A$146,Agencies!$B$9:$B$146)","v":"General Government"},{"$f":"IF(_xlfn.XLOOKUP(A423,Agencies!A:A,Agencies!D:D)=\"Y\",IF(_xlfn.XLOOKUP(F423,'Object Codes'!A:A,'Object Codes'!I:I)=\"Y\",\"Y\",\"N\"),\"N\")","v":"Y"},{"$f":"VLOOKUP(F423,'Object Codes'!$A:$C,3,0)","v":"Professional Services - Other - Contractual"},{"$f":"VLOOKUP(A423,Agencies!A:C,3,0)","v":"Mayoralty"},0]
["002",2022,"001","041","0409","100",0,0,0,6947,6947,0,0,0,0,0,0,0,0,0,6947,0,6947,0,0,6947,{"$f":"_xlfn.XLOOKUP(F424,'Object Codes'!$A$18:$A$510,'Object Codes'!$H$18:$H$510)","v":"Supplies & Materials"},{"$f":"_xlfn.XLOOKUP(F424,'Object Codes'!$A$18:$A$510,'Object Codes'!$G$18:$G$510)","v":"A"},{"$f":"_xlfn.XLOOKUP(A424,Agencies!$A$9:$A$146,Agencies!$B$9:$B$146)","v":"General Government"},{"$f":"IF(_xlfn.XLOOKUP(A424,Agencies!A:A,Agencies!D:D)=\"Y\",IF(_xlfn.XLOOKUP(F424,'Object Codes'!A:A,'Object Codes'!I:I)=\"Y\",\"Y\",\"N\"),\"N\")","v":"Y"},{"$f":"VLOOKUP(F424,'Object Codes'!$A:$C,3,0)","v":"Supplies and Materials - General"},{"$f":"VLOOKUP(A424,Agencies!A:C,3,0)","v":"Mayoralty"},0]
["002",2022,"001","041","0409","117",0,0,0,5000,5000,0,0,0,0,0,0,0,0,0,5000,0,5000,0,0,5000,{"$f":"_xlfn.XLOOKUP(F425,'Object Codes'!$A$18:$A$510,'Object Codes'!$H$18:$H$510)","v":"Supplies & Materials"},{"$f":"_xlfn.XLOOKUP(F425,'Object Codes'!$A$18:$A$510,'Object Codes'!$G$18:$G$510)","v":"A"},{"$f":"_xlfn.XLOOKUP(A425,Agencies!$A$9:$A$146,Agencies!$B$9:$B$146)","v":"General Government"},{"$f":"IF(_xlfn.XLOOKUP(A425,Agencies!A:A,Agencies!D:D)=\"Y\",IF(_xlfn.XLOOKUP(F425,'Object Codes'!A:A,'Object Codes'!I:I)=\"Y\",\"Y\",\"N\"),\"N\")","v":"Y"},{"$f":"VLOOKUP(F425,'Object Codes'!$A:$C,3,0)","v":"Postage"},{"$f":"VLOOKUP(A425,Agencies!A:C,3,0)","v":"Mayoralty"},0]
["002",2022,"001","041","0409","199",0,0,0,6000,6000,0,0,0,0,0,0,0,0,0,6000,0,6000,0,0,6000,{"$f":"_xlfn.XLOOKUP(F426,'Object Codes'!$A$18:$A$510,'Object Codes'!$H$18:$H$510)","v":"Supplies & Materials"},{"$f":"_xlfn.XLOOKUP(F426,'Object Codes'!$A$18:$A$510,'Object Codes'!$G$18:$G$510)","v":"A"},{"$f":"_xlfn.XLOOKUP(A426,Agencies!$A$9:$A$146,Agencies!$B$9:$B$146)","v":"General Government"},{"$f":"IF(_xlfn.XLOOKUP(A426,Agencies!A:A,Agencies!D:D)=\"Y\",IF(_xlfn.XLOOKUP(F426,'Object Codes'!A:A,'Object Codes'!I:I)=\"Y\",\"Y\",\"N\"),\"N\")","v":"Y"},{"$f":"VLOOKUP(F426,'Object Codes'!$A:$C,3,0)","v":"Data Processing Supplies"},{"$f":"VLOOKUP(A426,Agencies!A:C,3,0)","v":"Mayoralty"},0]
["002",2022,"001","041","0409","302",0,0,0,1669,1669,0,0,0,0,0,0,0,0,0,1669,0,1669,0,0,1669,{"$f":"_xlfn.XLOOKUP(F427,'Object Codes'!$A$18:$A$510,'Object Codes'!$H$18:$H$510)","v":"Equipment"},{"$f":"_xlfn.XLOOKUP(F427,'Object Codes'!$A$18:$A$510,'Object Codes'!$G$18:$G$510)","v":"A"},{"$f":"_xlfn.XLOOKUP(A427,Agencies!$A$9:$A$146,Agencies!$B$9:$B$146)","v":"General Government"},{"$f":"IF(_xlfn.XLOOKUP(A427,Agencies!A:A,Agencies!D:D)=\"Y\",IF(_xlfn.XLOOKUP(F427,'Object Codes'!A:A,'Object Codes'!I:I)=\"Y\",\"Y\",\"N\"),\"N\")","v":"Y"},{"$f":"VLOOKUP(F427,'Object Codes'!$A:$C,3,0)","v":"Telecommunications Equipment"},{"$f":"VLOOKUP(A427,Agencies!A:C,3,0)","v":"Mayoralty"},0]
["002",2022,"001","041","0409","315",0,0,0,1000,1000,0,0,0,0,0,0,0,0,0,1000,0,1000,0,0,1000,{"$f":"_xlfn.XLOOKUP(F428,'Object Codes'!$A$18:$A$510,'Object Codes'!$H$18:$H$510)","v":"Equipment"},{"$f":"_xlfn.XLOOKUP(F428,'Object Codes'!$A$18:$A$510,'Object Codes'!$G$18:$G$510)","v":"A"},{"$f":"_xlfn.XLOOKUP(A428,Agencies!$A$9:$A$146,Agencies!$B$9:$B$146)","v":"General Government"},{"$f":"IF(_xlfn.XLOOKUP(A428,Agencies!A:A,Agencies!D:D)=\"Y\",IF(_xlfn.XLOOKUP(F428,'Object Codes'!A:A,'Object Codes'!I:I)=\"Y\",\"Y\",\"N\"),\"N\")","v":"Y"},{"$f":"VLOOKUP(F428,'Object Codes'!$A:$C,3,0)","v":"Office Equipment"},{"$f":"VLOOKUP(A428,Agencies!A:C,3,0)","v":"Mayoralty"},0]
["002",2022,"001","041","0409","332",0,0,0,3000,3000,0,0,0,0,0,0,0,0,0,3000,0,3000,0,0,3000,{"$f":"_xlfn.XLOOKUP(F429,'Object Codes'!$A$18:$A$510,'Object Codes'!$H$18:$H$510)","v":"Equipment"},{"$f":"_xlfn.XLOOKUP(F429,'Object Codes'!$A$18:$A$510,'Object Codes'!$G$18:$G$510)","v":"A"},{"$f":"_xlfn.XLOOKUP(A429,Agencies!$A$9:$A$146,Agencies!$B$9:$B$146)","v":"General Government"},{"$f":"IF(_xlfn.XLOOKUP(A429,Agencies!A:A,Agencies!D:D)=\"Y\",IF(_xlfn.XLOOKUP(F429,'Object Codes'!A:A,'Object Codes'!I:I)=\"Y\",\"Y\",\"N\"),\"N\")","v":"Y"},{"$f":"VLOOKUP(F429,'Object Codes'!$A:$C,3,0)","v":"Purchases of Data Processing Equipment"},{"$f":"VLOOKUP(A429,Agencies!A:C,3,0)","v":"Mayoralty"},0]
["002",2022,"001","041","0409","337",0,0,0,1100,1100,0,0,0,0,0,0,0,0,0,1100,0,1100,0,0,1100,{"$f":"_xlfn.XLOOKUP(F430,'Object Codes'!$A$18:$A$510,'Object Codes'!$H$18:$H$510)","v":"Equipment"},{"$f":"_xlfn.XLOOKUP(F430,'Object Codes'!$A$18:$A$510,'Object Codes'!$G$18:$G$510)","v":"A"},{"$f":"_xlfn.XLOOKUP(A430,Agencies!$A$9:$A$146,Agencies!$B$9:$B$146)","v":"General Government"},{"$f":"IF(_xlfn.XLOOKUP(A430,Agencies!A:A,Agencies!D:D)=\"Y\",IF(_xlfn.XLOOKUP(F430,'Object Codes'!A:A,'Object Codes'!I:I)=\"Y\",\"Y\",\"N\"),\"N\")","v":"Y"},{"$f":"VLOOKUP(F430,'Object Codes'!$A:$C,3,0)","v":"Books - Other"},{"$f":"VLOOKUP(A430,Agencies!A:C,3,0)","v":"Mayoralty"},0]
["002",2022,"001","041","0409","400",0,0,0,25000,25000,0,0,0,0,0,0,0,0,0,25000,0,25000,0,0,25000,{"$f":"_xlfn.XLOOKUP(F431,'Object Codes'!$A$18:$A$510,'Object Codes'!$H$18:$H$510)","v":"Other Services and Charges - General"},{"$f":"_xlfn.XLOOKUP(F431,'Object Codes'!$A$18:$A$510,'Object Codes'!$G$18:$G$510)","v":0},{"$f":"_xlfn.XLOOKUP(A431,Agencies!$A$9:$A$146,Agencies!$B$9:$B$146)","v":"General Government"},{"$f":"IF(_xlfn.XLOOKUP(A431,Agencies!A:A,Agencies!D:D)=\"Y\",IF(_xlfn.XLOOKUP(F431,'Object Codes'!A:A,'Object Codes'!I:I)=\"Y\",\"Y\",\"N\"),\"N\")","v":"Y"},{"$f":"VLOOKUP(F431,'Object Codes'!$A:$C,3,0)","v":"Other Services and Charges - General"},{"$f":"VLOOKUP(A431,Agencies!A:C,3,0)","v":"Mayoralty"},0]
["002",2022,"001","041","0409","403",0,0,0,3000,3000,0,0,0,0,0,0,0,0,0,3000,0,3000,0,0,3000,{"$f":"_xlfn.XLOOKUP(F432,'Object Codes'!$A$18:$A$510,'Object Codes'!$H$18:$H$510)","v":"Other Services and Charges - General"},{"$f":"_xlfn.XLOOKUP(F432,'Object Codes'!$A$18:$A$510,'Object Codes'!$G$18:$G$510)","v":0},{"$f":"_xlfn.XLOOKUP(A432,Agencies!$A$9:$A$146,Agencies!$B$9:$B$146)","v":"General Government"},{"$f":"IF(_xlfn.XLOOKUP(A432,Agencies!A:A,Agencies!D:D)=\"Y\",IF(_xlfn.XLOOKUP(F432,'Object Codes'!A:A,'Object Codes'!I:I)=\"Y\",\"Y\",\"N\"),\"N\")","v":"Y"},{"$f":"VLOOKUP(F432,'Object Codes'!$A:$C,3,0)","v":"Office Services"},{"$f":"VLOOKUP(A432,Agencies!A:C,3,0)","v":"Mayoralty"},0]
["002",2022,"001","041","0409","40B",0,0,0,35913,35913,0,0,0,0,0,0,0,0,0,35913,0,35913,0,0,35913,{"$f":"_xlfn.XLOOKUP(F433,'Object Codes'!$A$18:$A$510,'Object Codes'!$H$18:$H$510)","v":"Other Services and Charges - General"},{"$f":"_xlfn.XLOOKUP(F433,'Object Codes'!$A$18:$A$510,'Object Codes'!$G$18:$G$510)","v":0},{"$f":"_xlfn.XLOOKUP(A433,Agencies!$A$9:$A$146,Agencies!$B$9:$B$146)","v":"General Government"},{"$f":"IF(_xlfn.XLOOKUP(A433,Agencies!A:A,Agencies!D:D)=\"Y\",IF(_xlfn.XLOOKUP(F433,'Object Codes'!A:A,'Object Codes'!I:I)=\"Y\",\"Y\",\"N\"),\"N\")","v":"Y"},{"$f":"VLOOKUP(F433,'Object Codes'!$A:$C,3,0)","v":"TELEPHONE & OTHER COMMUNICATNS"},{"$f":"VLOOKUP(A433,Agencies!A:C,3,0)","v":"Mayoralty"},0]
["002",2022,"001","041","0409","417",0,0,0,9500,9500,0,0,0,0,0,4829.3500000000004,0,4829.3500000000004,4829.3500000000004,4670.6499999999996,4829.3500000000004,4670.6499999999996,4829.3500000000004,4829.3500000000004,4670.6499999999996,{"$f":"_xlfn.XLOOKUP(F434,'Object Codes'!$A$18:$A$510,'Object Codes'!$H$18:$H$510)","v":"Other Services and Charges - General"},{"$f":"_xlfn.XLOOKUP(F434,'Object Codes'!$A$18:$A$510,'Object Codes'!$G$18:$G$510)","v":0},{"$f":"_xlfn.XLOOKUP(A434,Agencies!$A$9:$A$146,Agencies!$B$9:$B$146)","v":"General Government"},{"$f":"IF(_xlfn.XLOOKUP(A434,Agencies!A:A,Agencies!D:D)=\"Y\",IF(_xlfn.XLOOKUP(F434,'Object Codes'!A:A,'Object Codes'!I:I)=\"Y\",\"Y\",\"N\"),\"N\")","v":"Y"},{"$f":"VLOOKUP(F434,'Object Codes'!$A:$C,3,0)","v":"Advertising"},{"$f":"VLOOKUP(A434,Agencies!A:C,3,0)","v":"Mayoralty"},13.231095890410959]
["002",2022,"001","041","0409","41D",0,0,0,985761,985761,0,0,0,0,0,985761,0,985761,985761,0,985761,0,985761,985761,0,{"$f":"_xlfn.XLOOKUP(F435,'Object Codes'!$A$18:$A$510,'Object Codes'!$H$18:$H$510)","v":"Leases"},{"$f":"_xlfn.XLOOKUP(F435,'Object Codes'!$A$18:$A$510,'Object Codes'!$G$18:$G$510)","v":0},{"$f":"_xlfn.XLOOKUP(A435,Agencies!$A$9:$A$146,Agencies!$B$9:$B$146)","v":"General Government"},{"$f":"IF(_xlfn.XLOOKUP(A435,Agencies!A:A,Agencies!D:D)=\"Y\",IF(_xlfn.XLOOKUP(F435,'Object Codes'!A:A,'Object Codes'!I:I)=\"Y\",\"Y\",\"N\"),\"N\")","v":"Y"},{"$f":"VLOOKUP(F435,'Object Codes'!$A:$C,3,0)","v":"RENTALS - LAND BLDGS & STRUCTS"},{"$f":"VLOOKUP(A435,Agencies!A:C,3,0)","v":"Mayoralty"},2700.7150684931507]
["002",2022,"001","041","0409","42C",0,0,0,28394,28394,0,0,0,0,0,25548.41,0,25548.41,25548.41,2845.59,25548.41,2845.59,25548.41,25548.41,2845.59,{"$f":"_xlfn.XLOOKUP(F436,'Object Codes'!$A$18:$A$510,'Object Codes'!$H$18:$H$510)","v":"Heat, Light, and Power"},{"$f":"_xlfn.XLOOKUP(F436,'Object Codes'!$A$18:$A$510,'Object Codes'!$G$18:$G$510)","v":0},{"$f":"_xlfn.XLOOKUP(A436,Agencies!$A$9:$A$146,Agencies!$B$9:$B$146)","v":"General Government"},{"$f":"IF(_xlfn.XLOOKUP(A436,Agencies!A:A,Agencies!D:D)=\"Y\",IF(_xlfn.XLOOKUP(F436,'Object Codes'!A:A,'Object Codes'!I:I)=\"Y\",\"Y\",\"N\"),\"N\")","v":"Y"},{"$f":"VLOOKUP(F436,'Object Codes'!$A:$C,3,0)","v":"HEAT LIGHT & POWER"},{"$f":"VLOOKUP(A436,Agencies!A:C,3,0)","v":"Mayoralty"},69.995643835616434]
["002",2022,"001","041","0409","451",0,0,0,250,250,0,0,0,0,0,0,0,0,0,250,0,250,0,0,250,{"$f":"_xlfn.XLOOKUP(F437,'Object Codes'!$A$18:$A$510,'Object Codes'!$H$18:$H$510)","v":"Other Services and Charges - General"},{"$f":"_xlfn.XLOOKUP(F437,'Object Codes'!$A$18:$A$510,'Object Codes'!$G$18:$G$510)","v":0},{"$f":"_xlfn.XLOOKUP(A437,Agencies!$A$9:$A$146,Agencies!$B$9:$B$146)","v":"General Government"},{"$f":"IF(_xlfn.XLOOKUP(A437,Agencies!A:A,Agencies!D:D)=\"Y\",IF(_xlfn.XLOOKUP(F437,'Object Codes'!A:A,'Object Codes'!I:I)=\"Y\",\"Y\",\"N\"),\"N\")","v":"Y"},{"$f":"VLOOKUP(F437,'Object Codes'!$A:$C,3,0)","v":"Non Overnight Travel Expenditures - General"},{"$f":"VLOOKUP(A437,Agencies!A:C,3,0)","v":"Mayoralty"},0]
["002",2022,"001","041","0409","452",0,0,0,966,966,0,0,0,0,0,0,0,0,0,966,0,966,0,0,966,{"$f":"_xlfn.XLOOKUP(F438,'Object Codes'!$A$18:$A$510,'Object Codes'!$H$18:$H$510)","v":"Other Services and Charges - General"},{"$f":"_xlfn.XLOOKUP(F438,'Object Codes'!$A$18:$A$510,'Object Codes'!$G$18:$G$510)","v":0},{"$f":"_xlfn.XLOOKUP(A438,Agencies!$A$9:$A$146,Agencies!$B$9:$B$146)","v":"General Government"},{"$f":"IF(_xlfn.XLOOKUP(A438,Agencies!A:A,Agencies!D:D)=\"Y\",IF(_xlfn.XLOOKUP(F438,'Object Codes'!A:A,'Object Codes'!I:I)=\"Y\",\"Y\",\"N\"),\"N\")","v":"Y"},{"$f":"VLOOKUP(F438,'Object Codes'!$A:$C,3,0)","v":"Non Overnight Travel Expenditures - Special"},{"$f":"VLOOKUP(A438,Agencies!A:C,3,0)","v":"Mayoralty"},0]
["002",2022,"001","041","0409","454",0,0,0,8000,8000,0,0,0,0,0,0,0,0,0,8000,0,8000,0,0,8000,{"$f":"_xlfn.XLOOKUP(F439,'Object Codes'!$A$18:$A$510,'Object Codes'!$H$18:$H$510)","v":"Other Services and Charges - General"},{"$f":"_xlfn.XLOOKUP(F439,'Object Codes'!$A$18:$A$510,'Object Codes'!$G$18:$G$510)","v":0},{"$f":"_xlfn.XLOOKUP(A439,Agencies!$A$9:$A$146,Agencies!$B$9:$B$146)","v":"General Government"},{"$f":"IF(_xlfn.XLOOKUP(A439,Agencies!A:A,Agencies!D:D)=\"Y\",IF(_xlfn.XLOOKUP(F439,'Object Codes'!A:A,'Object Codes'!I:I)=\"Y\",\"Y\",\"N\"),\"N\")","v":"Y"},{"$f":"VLOOKUP(F439,'Object Codes'!$A:$C,3,0)","v":"Overnight Travel Expenditures - Special"},{"$f":"VLOOKUP(A439,Agencies!A:C,3,0)","v":"Mayoralty"},0]
["002",2022,"001","041","0409","600",0,0,0,36735,36735,0,0,0,0,0,0,0,0,0,36735,0,36735,0,0,36735,{"$f":"_xlfn.XLOOKUP(F440,'Object Codes'!$A$18:$A$510,'Object Codes'!$H$18:$H$510)","v":"Contractual Services"},{"$f":"_xlfn.XLOOKUP(F440,'Object Codes'!$A$18:$A$510,'Object Codes'!$G$18:$G$510)","v":0},{"$f":"_xlfn.XLOOKUP(A440,Agencies!$A$9:$A$146,Agencies!$B$9:$B$146)","v":"General Government"},{"$f":"IF(_xlfn.XLOOKUP(A440,Agencies!A:A,Agencies!D:D)=\"Y\",IF(_xlfn.XLOOKUP(F440,'Object Codes'!A:A,'Object Codes'!I:I)=\"Y\",\"Y\",\"N\"),\"N\")","v":"Y"},{"$f":"VLOOKUP(F440,'Object Codes'!$A:$C,3,0)","v":"Contractual Services - General"},{"$f":"VLOOKUP(A440,Agencies!A:C,3,0)","v":"Mayoralty"},0]
["002",2022,"001","041","0409","615",0,0,0,10000,10000,0,0,0,0,0,0,0,0,0,10000,0,10000,0,0,10000,{"$f":"_xlfn.XLOOKUP(F441,'Object Codes'!$A$18:$A$510,'Object Codes'!$H$18:$H$510)","v":"Contractual Services"},{"$f":"_xlfn.XLOOKUP(F441,'Object Codes'!$A$18:$A$510,'Object Codes'!$G$18:$G$510)","v":0},{"$f":"_xlfn.XLOOKUP(A441,Agencies!$A$9:$A$146,Agencies!$B$9:$B$146)","v":"General Government"},{"$f":"IF(_xlfn.XLOOKUP(A441,Agencies!A:A,Agencies!D:D)=\"Y\",IF(_xlfn.XLOOKUP(F441,'Object Codes'!A:A,'Object Codes'!I:I)=\"Y\",\"Y\",\"N\"),\"N\")","v":"Y"},{"$f":"VLOOKUP(F441,'Object Codes'!$A:$C,3,0)","v":"Printing Services - Contractual"},{"$f":"VLOOKUP(A441,Agencies!A:C,3,0)","v":"Mayoralty"},0]
["002",2022,"001","041","0409","624",0,0,0,11533,11533,0,0,0,0,0,0,0,0,0,11533,0,11533,0,0,11533,{"$f":"_xlfn.XLOOKUP(F442,'Object Codes'!$A$18:$A$510,'Object Codes'!$H$18:$H$510)","v":"Contractual Services"},{"$f":"_xlfn.XLOOKUP(F442,'Object Codes'!$A$18:$A$510,'Object Codes'!$G$18:$G$510)","v":0},{"$f":"_xlfn.XLOOKUP(A442,Agencies!$A$9:$A$146,Agencies!$B$9:$B$146)","v":"General Government"},{"$f":"IF(_xlfn.XLOOKUP(A442,Agencies!A:A,Agencies!D:D)=\"Y\",IF(_xlfn.XLOOKUP(F442,'Object Codes'!A:A,'Object Codes'!I:I)=\"Y\",\"Y\",\"N\"),\"N\")","v":"Y"},{"$f":"VLOOKUP(F442,'Object Codes'!$A:$C,3,0)","v":"Cleaning Services - Contractual"},{"$f":"VLOOKUP(A442,Agencies!A:C,3,0)","v":"Mayoralty"},0]
["002",2022,"001","041","0409","686",0,0,0,40000,39436,0,0,0,0,0,0,0,0,0,39436,0,39436,0,0,39436,{"$f":"_xlfn.XLOOKUP(F443,'Object Codes'!$A$18:$A$510,'Object Codes'!$H$18:$H$510)","v":"Contractual Services"},{"$f":"_xlfn.XLOOKUP(F443,'Object Codes'!$A$18:$A$510,'Object Codes'!$G$18:$G$510)","v":0},{"$f":"_xlfn.XLOOKUP(A443,Agencies!$A$9:$A$146,Agencies!$B$9:$B$146)","v":"General Government"},{"$f":"IF(_xlfn.XLOOKUP(A443,Agencies!A:A,Agencies!D:D)=\"Y\",IF(_xlfn.XLOOKUP(F443,'Object Codes'!A:A,'Object Codes'!I:I)=\"Y\",\"Y\",\"N\"),\"N\")","v":"Y"},{"$f":"VLOOKUP(F443,'Object Codes'!$A:$C,3,0)","v":"Professional Services - Other - Contractual"},{"$f":"VLOOKUP(A443,Agencies!A:C,3,0)","v":"Mayoralty"},0]
["002",2022,"001","041","0409","706",0,0,0,0,564,0,0,0,0,0,564,0,564,564,0,564,0,564,564,0,{"$f":"_xlfn.XLOOKUP(F444,'Object Codes'!$A$18:$A$510,'Object Codes'!$H$18:$H$510)","v":"Fixed Charges"},{"$f":"_xlfn.XLOOKUP(F444,'Object Codes'!$A$18:$A$510,'Object Codes'!$G$18:$G$510)","v":0},{"$f":"_xlfn.XLOOKUP(A444,Agencies!$A$9:$A$146,Agencies!$B$9:$B$146)","v":"General Government"},{"$f":"IF(_xlfn.XLOOKUP(A444,Agencies!A:A,Agencies!D:D)=\"Y\",IF(_xlfn.XLOOKUP(F444,'Object Codes'!A:A,'Object Codes'!I:I)=\"Y\",\"Y\",\"N\"),\"N\")","v":"Y"},{"$f":"VLOOKUP(F444,'Object Codes'!$A:$C,3,0)","v":"Prompt Payments Interest"},{"$f":"VLOOKUP(A444,Agencies!A:C,3,0)","v":"Mayoralty"},1.5452054794520549]
["002",2022,"001","041","0410","100",0,0,0,1765,0,0,0,0,0,0,0,0,0,0,0,0,0,0,0,0,{"$f":"_xlfn.XLOOKUP(F445,'Object Codes'!$A$18:$A$510,'Object Codes'!$H$18:$H$510)","v":"Supplies & Materials"},{"$f":"_xlfn.XLOOKUP(F445,'Object Codes'!$A$18:$A$510,'Object Codes'!$G$18:$G$510)","v":"A"},{"$f":"_xlfn.XLOOKUP(A445,Agencies!$A$9:$A$146,Agencies!$B$9:$B$146)","v":"General Government"},{"$f":"IF(_xlfn.XLOOKUP(A445,Agencies!A:A,Agencies!D:D)=\"Y\",IF(_xlfn.XLOOKUP(F445,'Object Codes'!A:A,'Object Codes'!I:I)=\"Y\",\"Y\",\"N\"),\"N\")","v":"Y"},{"$f":"VLOOKUP(F445,'Object Codes'!$A:$C,3,0)","v":"Supplies and Materials - General"},{"$f":"VLOOKUP(A445,Agencies!A:C,3,0)","v":"Mayoralty"},0]
["002",2022,"001","041","0410","101",0,0,0,3998,0,0,0,0,0,0,0,0,0,0,0,0,0,0,0,0,{"$f":"_xlfn.XLOOKUP(F446,'Object Codes'!$A$18:$A$510,'Object Codes'!$H$18:$H$510)","v":"Supplies & Materials"},{"$f":"_xlfn.XLOOKUP(F446,'Object Codes'!$A$18:$A$510,'Object Codes'!$G$18:$G$510)","v":"A"},{"$f":"_xlfn.XLOOKUP(A446,Agencies!$A$9:$A$146,Agencies!$B$9:$B$146)","v":"General Government"},{"$f":"IF(_xlfn.XLOOKUP(A446,Agencies!A:A,Agencies!D:D)=\"Y\",IF(_xlfn.XLOOKUP(F446,'Object Codes'!A:A,'Object Codes'!I:I)=\"Y\",\"Y\",\"N\"),\"N\")","v":"Y"},{"$f":"VLOOKUP(F446,'Object Codes'!$A:$C,3,0)","v":"Printing Supplies"},{"$f":"VLOOKUP(A446,Agencies!A:C,3,0)","v":"Mayoralty"},0]
["002",2022,"001","041","0410","117",0,0,0,3500,0,0,0,0,0,0,0,0,0,0,0,0,0,0,0,0,{"$f":"_xlfn.XLOOKUP(F447,'Object Codes'!$A$18:$A$510,'Object Codes'!$H$18:$H$510)","v":"Supplies & Materials"},{"$f":"_xlfn.XLOOKUP(F447,'Object Codes'!$A$18:$A$510,'Object Codes'!$G$18:$G$510)","v":"A"},{"$f":"_xlfn.XLOOKUP(A447,Agencies!$A$9:$A$146,Agencies!$B$9:$B$146)","v":"General Government"},{"$f":"IF(_xlfn.XLOOKUP(A447,Agencies!A:A,Agencies!D:D)=\"Y\",IF(_xlfn.XLOOKUP(F447,'Object Codes'!A:A,'Object Codes'!I:I)=\"Y\",\"Y\",\"N\"),\"N\")","v":"Y"},{"$f":"VLOOKUP(F447,'Object Codes'!$A:$C,3,0)","v":"Postage"},{"$f":"VLOOKUP(A447,Agencies!A:C,3,0)","v":"Mayoralty"},0]
["002",2022,"001","041","0410","199",0,0,0,1335,0,0,0,0,0,0,0,0,0,0,0,0,0,0,0,0,{"$f":"_xlfn.XLOOKUP(F448,'Object Codes'!$A$18:$A$510,'Object Codes'!$H$18:$H$510)","v":"Supplies & Materials"},{"$f":"_xlfn.XLOOKUP(F448,'Object Codes'!$A$18:$A$510,'Object Codes'!$G$18:$G$510)","v":"A"},{"$f":"_xlfn.XLOOKUP(A448,Agencies!$A$9:$A$146,Agencies!$B$9:$B$146)","v":"General Government"},{"$f":"IF(_xlfn.XLOOKUP(A448,Agencies!A:A,Agencies!D:D)=\"Y\",IF(_xlfn.XLOOKUP(F448,'Object Codes'!A:A,'Object Codes'!I:I)=\"Y\",\"Y\",\"N\"),\"N\")","v":"Y"},{"$f":"VLOOKUP(F448,'Object Codes'!$A:$C,3,0)","v":"Data Processing Supplies"},{"$f":"VLOOKUP(A448,Agencies!A:C,3,0)","v":"Mayoralty"},0]
["002",2022,"001","041","0410","302",0,0,0,350,0,0,0,0,0,0,0,0,0,0,0,0,0,0,0,0,{"$f":"_xlfn.XLOOKUP(F449,'Object Codes'!$A$18:$A$510,'Object Codes'!$H$18:$H$510)","v":"Equipment"},{"$f":"_xlfn.XLOOKUP(F449,'Object Codes'!$A$18:$A$510,'Object Codes'!$G$18:$G$510)","v":"A"},{"$f":"_xlfn.XLOOKUP(A449,Agencies!$A$9:$A$146,Agencies!$B$9:$B$146)","v":"General Government"},{"$f":"IF(_xlfn.XLOOKUP(A449,Agencies!A:A,Agencies!D:D)=\"Y\",IF(_xlfn.XLOOKUP(F449,'Object Codes'!A:A,'Object Codes'!I:I)=\"Y\",\"Y\",\"N\"),\"N\")","v":"Y"},{"$f":"VLOOKUP(F449,'Object Codes'!$A:$C,3,0)","v":"Telecommunications Equipment"},{"$f":"VLOOKUP(A449,Agencies!A:C,3,0)","v":"Mayoralty"},0]
["002",2022,"001","041","0410","337",0,0,0,2571,14000,0,0,0,0,0,13900.85,0,13900.85,13900.85,99.15,13900.85,99.15,13900.85,13900.85,99.15,{"$f":"_xlfn.XLOOKUP(F450,'Object Codes'!$A$18:$A$510,'Object Codes'!$H$18:$H$510)","v":"Equipment"},{"$f":"_xlfn.XLOOKUP(F450,'Object Codes'!$A$18:$A$510,'Object Codes'!$G$18:$G$510)","v":"A"},{"$f":"_xlfn.XLOOKUP(A450,Agencies!$A$9:$A$146,Agencies!$B$9:$B$146)","v":"General Government"},{"$f":"IF(_xlfn.XLOOKUP(A450,Agencies!A:A,Agencies!D:D)=\"Y\",IF(_xlfn.XLOOKUP(F450,'Object Codes'!A:A,'Object Codes'!I:I)=\"Y\",\"Y\",\"N\"),\"N\")","v":"Y"},{"$f":"VLOOKUP(F450,'Object Codes'!$A:$C,3,0)","v":"Books - Other"},{"$f":"VLOOKUP(A450,Agencies!A:C,3,0)","v":"Mayoralty"},38.084520547945203]
["002",2022,"001","041","0410","40B",0,0,0,3476,3476,0,0,0,0,0,0,0,0,0,3476,0,3476,0,0,3476,{"$f":"_xlfn.XLOOKUP(F451,'Object Codes'!$A$18:$A$510,'Object Codes'!$H$18:$H$510)","v":"Other Services and Charges - General"},{"$f":"_xlfn.XLOOKUP(F451,'Object Codes'!$A$18:$A$510,'Object Codes'!$G$18:$G$510)","v":0},{"$f":"_xlfn.XLOOKUP(A451,Agencies!$A$9:$A$146,Agencies!$B$9:$B$146)","v":"General Government"},{"$f":"IF(_xlfn.XLOOKUP(A451,Agencies!A:A,Agencies!D:D)=\"Y\",IF(_xlfn.XLOOKUP(F451,'Object Codes'!A:A,'Object Codes'!I:I)=\"Y\",\"Y\",\"N\"),\"N\")","v":"Y"},{"$f":"VLOOKUP(F451,'Object Codes'!$A:$C,3,0)","v":"TELEPHONE & OTHER COMMUNICATNS"},{"$f":"VLOOKUP(A451,Agencies!A:C,3,0)","v":"Mayoralty"},0]
["002",2022,"001","041","0410","42C",0,0,0,7482,7482,0,0,0,0,0,6732.17,0,6732.17,6732.17,749.83,6732.17,749.83,6732.17,6732.17,749.83,{"$f":"_xlfn.XLOOKUP(F452,'Object Codes'!$A$18:$A$510,'Object Codes'!$H$18:$H$510)","v":"Heat, Light, and Power"},{"$f":"_xlfn.XLOOKUP(F452,'Object Codes'!$A$18:$A$510,'Object Codes'!$G$18:$G$510)","v":0},{"$f":"_xlfn.XLOOKUP(A452,Agencies!$A$9:$A$146,Agencies!$B$9:$B$146)","v":"General Government"},{"$f":"IF(_xlfn.XLOOKUP(A452,Agencies!A:A,Agencies!D:D)=\"Y\",IF(_xlfn.XLOOKUP(F452,'Object Codes'!A:A,'Object Codes'!I:I)=\"Y\",\"Y\",\"N\"),\"N\")","v":"Y"},{"$f":"VLOOKUP(F452,'Object Codes'!$A:$C,3,0)","v":"HEAT LIGHT & POWER"},{"$f":"VLOOKUP(A452,Agencies!A:C,3,0)","v":"Mayoralty"},18.444301369863012]
["002",2022,"001","041","0410","624",0,0,0,2500,2019,0,0,0,0,0,0,0,0,0,2019,0,2019,0,0,2019,{"$f":"_xlfn.XLOOKUP(F453,'Object Codes'!$A$18:$A$510,'Object Codes'!$H$18:$H$510)","v":"Contractual Services"},{"$f":"_xlfn.XLOOKUP(F453,'Object Codes'!$A$18:$A$510,'Object Codes'!$G$18:$G$510)","v":0},{"$f":"_xlfn.XLOOKUP(A453,Agencies!$A$9:$A$146,Agencies!$B$9:$B$146)","v":"General Government"},{"$f":"IF(_xlfn.XLOOKUP(A453,Agencies!A:A,Agencies!D:D)=\"Y\",IF(_xlfn.XLOOKUP(F453,'Object Codes'!A:A,'Object Codes'!I:I)=\"Y\",\"Y\",\"N\"),\"N\")","v":"Y"},{"$f":"VLOOKUP(F453,'Object Codes'!$A:$C,3,0)","v":"Cleaning Services - Contractual"},{"$f":"VLOOKUP(A453,Agencies!A:C,3,0)","v":"Mayoralty"},0]
["002",2022,"001","041","0417","332",0,0,0,0,75000,0,0,0,0,0,75000,0,75000,75000,0,75000,0,75000,75000,0,{"$f":"_xlfn.XLOOKUP(F454,'Object Codes'!$A$18:$A$510,'Object Codes'!$H$18:$H$510)","v":"Equipment"},{"$f":"_xlfn.XLOOKUP(F454,'Object Codes'!$A$18:$A$510,'Object Codes'!$G$18:$G$510)","v":"A"},{"$f":"_xlfn.XLOOKUP(A454,Agencies!$A$9:$A$146,Agencies!$B$9:$B$146)","v":"General Government"},{"$f":"IF(_xlfn.XLOOKUP(A454,Agencies!A:A,Agencies!D:D)=\"Y\",IF(_xlfn.XLOOKUP(F454,'Object Codes'!A:A,'Object Codes'!I:I)=\"Y\",\"Y\",\"N\"),\"N\")","v":"Y"},{"$f":"VLOOKUP(F454,'Object Codes'!$A:$C,3,0)","v":"Purchases of Data Processing Equipment"},{"$f":"VLOOKUP(A454,Agencies!A:C,3,0)","v":"Mayoralty"},205.47945205479451]
["002",2022,"001","041","0457","453",0,0,0,6000,0,0,0,0,0,0,0,0,0,0,0,0,0,0,0,0,{"$f":"_xlfn.XLOOKUP(F455,'Object Codes'!$A$18:$A$510,'Object Codes'!$H$18:$H$510)","v":"Other Services and Charges - General"},{"$f":"_xlfn.XLOOKUP(F455,'Object Codes'!$A$18:$A$510,'Object Codes'!$G$18:$G$510)","v":0},{"$f":"_xlfn.XLOOKUP(A455,Agencies!$A$9:$A$146,Agencies!$B$9:$B$146)","v":"General Government"},{"$f":"IF(_xlfn.XLOOKUP(A455,Agencies!A:A,Agencies!D:D)=\"Y\",IF(_xlfn.XLOOKUP(F455,'Object Codes'!A:A,'Object Codes'!I:I)=\"Y\",\"Y\",\"N\"),\"N\")","v":"Y"},{"$f":"VLOOKUP(F455,'Object Codes'!$A:$C,3,0)","v":"Overnight Travel Expenditures - General"},{"$f":"VLOOKUP(A455,Agencies!A:C,3,0)","v":"Mayoralty"},0]
["002",2022,"001","041","0457","613",0,0,0,0,72161,0,0,0,0,0,72160.679999999993,0,72160.679999999993,72160.679999999993,0.32,72160.679999999993,0.32,72160.679999999993,72160.679999999993,0.32,{"$f":"_xlfn.XLOOKUP(F456,'Object Codes'!$A$18:$A$510,'Object Codes'!$H$18:$H$510)","v":"Contractual Services"},{"$f":"_xlfn.XLOOKUP(F456,'Object Codes'!$A$18:$A$510,'Object Codes'!$G$18:$G$510)","v":0},{"$f":"_xlfn.XLOOKUP(A456,Agencies!$A$9:$A$146,Agencies!$B$9:$B$146)","v":"General Government"},{"$f":"IF(_xlfn.XLOOKUP(A456,Agencies!A:A,Agencies!D:D)=\"Y\",IF(_xlfn.XLOOKUP(F456,'Object Codes'!A:A,'Object Codes'!I:I)=\"Y\",\"Y\",\"N\"),\"N\")","v":"Y"},{"$f":"VLOOKUP(F456,'Object Codes'!$A:$C,3,0)","v":"Data Processing Equipment Maintenance - Contractual"},{"$f":"VLOOKUP(A456,Agencies!A:C,3,0)","v":"Mayoralty"},197.70049315068491]
["002",2022,"001","041","A500","686",0,0,0,0,220,0,0,0,0,0,0,0,0,0,220,0,220,0,0,220,{"$f":"_xlfn.XLOOKUP(F457,'Object Codes'!$A$18:$A$510,'Object Codes'!$H$18:$H$510)","v":"Contractual Services"},{"$f":"_xlfn.XLOOKUP(F457,'Object Codes'!$A$18:$A$510,'Object Codes'!$G$18:$G$510)","v":0},{"$f":"_xlfn.XLOOKUP(A457,Agencies!$A$9:$A$146,Agencies!$B$9:$B$146)","v":"General Government"},{"$f":"IF(_xlfn.XLOOKUP(A457,Agencies!A:A,Agencies!D:D)=\"Y\",IF(_xlfn.XLOOKUP(F457,'Object Codes'!A:A,'Object Codes'!I:I)=\"Y\",\"Y\",\"N\"),\"N\")","v":"Y"},{"$f":"VLOOKUP(F457,'Object Codes'!$A:$C,3,0)","v":"Professional Services - Other - Contractual"},{"$f":"VLOOKUP(A457,Agencies!A:C,3,0)","v":"Mayoralty"},{"$f":"S457/365","v":0}]
["002",2022,"001","041","A602","613",0,0,0,0,2794,0,0,0,0,0,1882.98,0,1882.98,1882.98,911.02,1882.98,911.02,1882.98,1882.98,911.02,{"$f":"_xlfn.XLOOKUP(F458,'Object Codes'!$A$18:$A$510,'Object Codes'!$H$18:$H$510)","v":"Contractual Services"},{"$f":"_xlfn.XLOOKUP(F458,'Object Codes'!$A$18:$A$510,'Object Codes'!$G$18:$G$510)","v":0},{"$f":"_xlfn.XLOOKUP(A458,Agencies!$A$9:$A$146,Agencies!$B$9:$B$146)","v":"General Government"},{"$f":"IF(_xlfn.XLOOKUP(A458,Agencies!A:A,Agencies!D:D)=\"Y\",IF(_xlfn.XLOOKUP(F458,'Object Codes'!A:A,'Object Codes'!I:I)=\"Y\",\"Y\",\"N\"),\"N\")","v":"Y"},{"$f":"VLOOKUP(F458,'Object Codes'!$A:$C,3,0)","v":"Data Processing Equipment Maintenance - Contractual"},{"$f":"VLOOKUP(A458,Agencies!A:C,3,0)","v":"Mayoralty"},5.1588493150684931]
["002",2022,"001","041","A802","417",0,0,0,0,22884,0,0,0,0,0,22883.94,0,22883.94,22883.94,0.06,22883.94,0.06,22883.94,22883.94,0.06,{"$f":"_xlfn.XLOOKUP(F459,'Object Codes'!$A$18:$A$510,'Object Codes'!$H$18:$H$510)","v":"Other Services and Charges - General"},{"$f":"_xlfn.XLOOKUP(F459,'Object Codes'!$A$18:$A$510,'Object Codes'!$G$18:$G$510)","v":0},{"$f":"_xlfn.XLOOKUP(A459,Agencies!$A$9:$A$146,Agencies!$B$9:$B$146)","v":"General Government"},{"$f":"IF(_xlfn.XLOOKUP(A459,Agencies!A:A,Agencies!D:D)=\"Y\",IF(_xlfn.XLOOKUP(F459,'Object Codes'!A:A,'Object Codes'!I:I)=\"Y\",\"Y\",\"N\"),\"N\")","v":"Y"},{"$f":"VLOOKUP(F459,'Object Codes'!$A:$C,3,0)","v":"Advertising"},{"$f":"VLOOKUP(A459,Agencies!A:C,3,0)","v":"Mayoralty"},62.695726027397257]
["002",2022,"001","041","CV21","499",0,0,0,0,72906,0,0,0,0,0,72904.75,0,72904.75,72904.75,1.25,72904.75,1.25,72904.75,72904.75,1.25,{"$f":"_xlfn.XLOOKUP(F460,'Object Codes'!$A$18:$A$510,'Object Codes'!$H$18:$H$510)","v":"Other Services and Charges - General"},{"$f":"_xlfn.XLOOKUP(F460,'Object Codes'!$A$18:$A$510,'Object Codes'!$G$18:$G$510)","v":0},{"$f":"_xlfn.XLOOKUP(A460,Agencies!$A$9:$A$146,Agencies!$B$9:$B$146)","v":"General Government"},{"$f":"IF(_xlfn.XLOOKUP(A460,Agencies!A:A,Agencies!D:D)=\"Y\",IF(_xlfn.XLOOKUP(F460,'Object Codes'!A:A,'Object Codes'!I:I)=\"Y\",\"Y\",\"N\"),\"N\")","v":"Y"},{"$f":"VLOOKUP(F460,'Object Codes'!$A:$C,3,0)","v":"Other Expenditures - General"},{"$f":"VLOOKUP(A460,Agencies!A:C,3,0)","v":"Mayoralty"},199.7390410958904]
["002",2022,"001","041","CVB3","499",0,0,0,0,99021,0,0,0,0,0,99021,0,99021,99021,0,99021,0,99021,99021,0,{"$f":"_xlfn.XLOOKUP(F461,'Object Codes'!$A$18:$A$510,'Object Codes'!$H$18:$H$510)","v":"Other Services and Charges - General"},{"$f":"_xlfn.XLOOKUP(F461,'Object Codes'!$A$18:$A$510,'Object Codes'!$G$18:$G$510)","v":0},{"$f":"_xlfn.XLOOKUP(A461,Agencies!$A$9:$A$146,Agencies!$B$9:$B$146)","v":"General Government"},{"$f":"IF(_xlfn.XLOOKUP(A461,Agencies!A:A,Agencies!D:D)=\"Y\",IF(_xlfn.XLOOKUP(F461,'Object Codes'!A:A,'Object Codes'!I:I)=\"Y\",\"Y\",\"N\"),\"N\")","v":"Y"},{"$f":"VLOOKUP(F461,'Object Codes'!$A:$C,3,0)","v":"Other Expenditures - General"},{"$f":"VLOOKUP(A461,Agencies!A:C,3,0)","v":"Mayoralty"},271.29041095890409]
["002",2022,"001","041","P041","499",0,0,0,-902,-300902,0,0,0,0,0,0,0,0,0,-300902,0,-300902,0,0,-300902,{"$f":"_xlfn.XLOOKUP(F462,'Object Codes'!$A$18:$A$510,'Object Codes'!$H$18:$H$510)","v":"Other Services and Charges - General"},{"$f":"_xlfn.XLOOKUP(F462,'Object Codes'!$A$18:$A$510,'Object Codes'!$G$18:$G$510)","v":0},{"$f":"_xlfn.XLOOKUP(A462,Agencies!$A$9:$A$146,Agencies!$B$9:$B$146)","v":"General Government"},{"$f":"IF(_xlfn.XLOOKUP(A462,Agencies!A:A,Agencies!D:D)=\"Y\",IF(_xlfn.XLOOKUP(F462,'Object Codes'!A:A,'Object Codes'!I:I)=\"Y\",\"Y\",\"N\"),\"N\")","v":"Y"},{"$f":"VLOOKUP(F462,'Object Codes'!$A:$C,3,0)","v":"Other Expenditures - General"},{"$f":"VLOOKUP(A462,Agencies!A:C,3,0)","v":"Mayoralty"},0]
["002",2022,"001","050","0501","001",0,1,1,116015,116015,0,0,0,0,0,64999.99,0,64999.99,64999.99,51015.01,64999.99,51015.01,64999.99,64999.99,51015.01,{"$f":"_xlfn.XLOOKUP(F463,'Object Codes'!$A$18:$A$510,'Object Codes'!$H$18:$H$510)","v":"PS - Regular"},{"$f":"_xlfn.XLOOKUP(F463,'Object Codes'!$A$18:$A$510,'Object Codes'!$G$18:$G$510)","v":"C"},{"$f":"_xlfn.XLOOKUP(A463,Agencies!$A$9:$A$146,Agencies!$B$9:$B$146)","v":"General Government"},{"$f":"IF(_xlfn.XLOOKUP(A463,Agencies!A:A,Agencies!D:D)=\"Y\",IF(_xlfn.XLOOKUP(F463,'Object Codes'!A:A,'Object Codes'!I:I)=\"Y\",\"Y\",\"N\"),\"N\")","v":"Y"},{"$f":"VLOOKUP(F463,'Object Codes'!$A:$C,3,0)","v":"Full Year Positions"},{"$f":"VLOOKUP(A463,Agencies!A:C,3,0)","v":"Mayoralty"},178.08216438356163]
["002",2022,"001","050","0502","001",0,15,15,1415000,1290000,0,0,0,0,0,1097822.67,0,1097822.67,1097822.67,192177.33,1097822.67,192177.33,1097822.67,1097822.67,192177.33,{"$f":"_xlfn.XLOOKUP(F464,'Object Codes'!$A$18:$A$510,'Object Codes'!$H$18:$H$510)","v":"PS - Regular"},{"$f":"_xlfn.XLOOKUP(F464,'Object Codes'!$A$18:$A$510,'Object Codes'!$G$18:$G$510)","v":"C"},{"$f":"_xlfn.XLOOKUP(A464,Agencies!$A$9:$A$146,Agencies!$B$9:$B$146)","v":"General Government"},{"$f":"IF(_xlfn.XLOOKUP(A464,Agencies!A:A,Agencies!D:D)=\"Y\",IF(_xlfn.XLOOKUP(F464,'Object Codes'!A:A,'Object Codes'!I:I)=\"Y\",\"Y\",\"N\"),\"N\")","v":"Y"},{"$f":"VLOOKUP(F464,'Object Codes'!$A:$C,3,0)","v":"Full Year Positions"},{"$f":"VLOOKUP(A464,Agencies!A:C,3,0)","v":"Mayoralty"},3007.7333424657531]
["002",2022,"001","050","0502","004",0,0,0,0,0,0,0,0,0,0,4715.16,0,4715.16,4715.16,-4715.16,4715.16,-4715.16,4715.16,4715.16,-4715.16,{"$f":"_xlfn.XLOOKUP(F465,'Object Codes'!$A$18:$A$510,'Object Codes'!$H$18:$H$510)","v":"PS - Regular"},{"$f":"_xlfn.XLOOKUP(F465,'Object Codes'!$A$18:$A$510,'Object Codes'!$G$18:$G$510)","v":"U"},{"$f":"_xlfn.XLOOKUP(A465,Agencies!$A$9:$A$146,Agencies!$B$9:$B$146)","v":"General Government"},{"$f":"IF(_xlfn.XLOOKUP(A465,Agencies!A:A,Agencies!D:D)=\"Y\",IF(_xlfn.XLOOKUP(F465,'Object Codes'!A:A,'Object Codes'!I:I)=\"Y\",\"Y\",\"N\"),\"N\")","v":"Y"},{"$f":"VLOOKUP(F465,'Object Codes'!$A:$C,3,0)","v":"Full-Time Uniformed Personnel"},{"$f":"VLOOKUP(A465,Agencies!A:C,3,0)","v":"Mayoralty"},12.918246575342465]
["002",2022,"001","050","0502","046",0,0,0,0,0,0,0,0,0,0,2238.19,0,2238.19,2238.19,-2238.19,2238.19,-2238.19,2238.19,2238.19,-2238.19,{"$f":"_xlfn.XLOOKUP(F466,'Object Codes'!$A$18:$A$510,'Object Codes'!$H$18:$H$510)","v":"PS - Additional Gross"},{"$f":"_xlfn.XLOOKUP(F466,'Object Codes'!$A$18:$A$510,'Object Codes'!$G$18:$G$510)","v":"A"},{"$f":"_xlfn.XLOOKUP(A466,Agencies!$A$9:$A$146,Agencies!$B$9:$B$146)","v":"General Government"},{"$f":"IF(_xlfn.XLOOKUP(A466,Agencies!A:A,Agencies!D:D)=\"Y\",IF(_xlfn.XLOOKUP(F466,'Object Codes'!A:A,'Object Codes'!I:I)=\"Y\",\"Y\",\"N\"),\"N\")","v":"Y"},{"$f":"VLOOKUP(F466,'Object Codes'!$A:$C,3,0)","v":"Terminal Leave"},{"$f":"VLOOKUP(A466,Agencies!A:C,3,0)","v":"Mayoralty"},6.1320273972602743]
["002",2022,"001","050","0502","047",0,0,0,0,0,0,0,0,0,0,96.87,0,96.87,96.87,-96.87,96.87,-96.87,96.87,96.87,-96.87,{"$f":"_xlfn.XLOOKUP(F467,'Object Codes'!$A$18:$A$510,'Object Codes'!$H$18:$H$510)","v":"PS - Additional Gross"},{"$f":"_xlfn.XLOOKUP(F467,'Object Codes'!$A$18:$A$510,'Object Codes'!$G$18:$G$510)","v":"C"},{"$f":"_xlfn.XLOOKUP(A467,Agencies!$A$9:$A$146,Agencies!$B$9:$B$146)","v":"General Government"},{"$f":"IF(_xlfn.XLOOKUP(A467,Agencies!A:A,Agencies!D:D)=\"Y\",IF(_xlfn.XLOOKUP(F467,'Object Codes'!A:A,'Object Codes'!I:I)=\"Y\",\"Y\",\"N\"),\"N\")","v":"Y"},{"$f":"VLOOKUP(F467,'Object Codes'!$A:$C,3,0)","v":"Overtime"},{"$f":"VLOOKUP(A467,Agencies!A:C,3,0)","v":"Mayoralty"},0.26539726027397259]
["002",2022,"001","050","0503","001",0,5,5,480000,480000,0,0,0,0,0,298901.18,0,298901.18,298901.18,181098.82,298901.18,181098.82,298901.18,298901.18,181098.82,{"$f":"_xlfn.XLOOKUP(F468,'Object Codes'!$A$18:$A$510,'Object Codes'!$H$18:$H$510)","v":"PS - Regular"},{"$f":"_xlfn.XLOOKUP(F468,'Object Codes'!$A$18:$A$510,'Object Codes'!$G$18:$G$510)","v":"C"},{"$f":"_xlfn.XLOOKUP(A468,Agencies!$A$9:$A$146,Agencies!$B$9:$B$146)","v":"General Government"},{"$f":"IF(_xlfn.XLOOKUP(A468,Agencies!A:A,Agencies!D:D)=\"Y\",IF(_xlfn.XLOOKUP(F468,'Object Codes'!A:A,'Object Codes'!I:I)=\"Y\",\"Y\",\"N\"),\"N\")","v":"Y"},{"$f":"VLOOKUP(F468,'Object Codes'!$A:$C,3,0)","v":"Full Year Positions"},{"$f":"VLOOKUP(A468,Agencies!A:C,3,0)","v":"Mayoralty"},818.90734246575346]
["002",2022,"001","050","0503","046",0,0,0,0,0,0,0,0,0,0,7891.29,0,7891.29,7891.29,-7891.29,7891.29,-7891.29,7891.29,7891.29,-7891.29,{"$f":"_xlfn.XLOOKUP(F469,'Object Codes'!$A$18:$A$510,'Object Codes'!$H$18:$H$510)","v":"PS - Additional Gross"},{"$f":"_xlfn.XLOOKUP(F469,'Object Codes'!$A$18:$A$510,'Object Codes'!$G$18:$G$510)","v":"A"},{"$f":"_xlfn.XLOOKUP(A469,Agencies!$A$9:$A$146,Agencies!$B$9:$B$146)","v":"General Government"},{"$f":"IF(_xlfn.XLOOKUP(A469,Agencies!A:A,Agencies!D:D)=\"Y\",IF(_xlfn.XLOOKUP(F469,'Object Codes'!A:A,'Object Codes'!I:I)=\"Y\",\"Y\",\"N\"),\"N\")","v":"Y"},{"$f":"VLOOKUP(F469,'Object Codes'!$A:$C,3,0)","v":"Terminal Leave"},{"$f":"VLOOKUP(A469,Agencies!A:C,3,0)","v":"Mayoralty"},21.619972602739725]
["002",2022,"001","050","0504","001",0,9,9,910000,785000,0,0,0,0,0,532266.23999999999,0,532266.23999999999,532266.23999999999,252733.76,532266.23999999999,252733.76,532266.23999999999,532266.23999999999,252733.76,{"$f":"_xlfn.XLOOKUP(F470,'Object Codes'!$A$18:$A$510,'Object Codes'!$H$18:$H$510)","v":"PS - Regular"},{"$f":"_xlfn.XLOOKUP(F470,'Object Codes'!$A$18:$A$510,'Object Codes'!$G$18:$G$510)","v":"C"},{"$f":"_xlfn.XLOOKUP(A470,Agencies!$A$9:$A$146,Agencies!$B$9:$B$146)","v":"General Government"},{"$f":"IF(_xlfn.XLOOKUP(A470,Agencies!A:A,Agencies!D:D)=\"Y\",IF(_xlfn.XLOOKUP(F470,'Object Codes'!A:A,'Object Codes'!I:I)=\"Y\",\"Y\",\"N\"),\"N\")","v":"Y"},{"$f":"VLOOKUP(F470,'Object Codes'!$A:$C,3,0)","v":"Full Year Positions"},{"$f":"VLOOKUP(A470,Agencies!A:C,3,0)","v":"Mayoralty"},1458.2636712328767]
["002",2022,"001","050","0504","046",0,0,0,0,0,0,0,0,0,0,78951.740000000005,64797.64,143749.38,143749.38,-143749.38,143749.38,-143749.38,143749.38,143749.38,-143749.38,{"$f":"_xlfn.XLOOKUP(F471,'Object Codes'!$A$18:$A$510,'Object Codes'!$H$18:$H$510)","v":"PS - Additional Gross"},{"$f":"_xlfn.XLOOKUP(F471,'Object Codes'!$A$18:$A$510,'Object Codes'!$G$18:$G$510)","v":"A"},{"$f":"_xlfn.XLOOKUP(A471,Agencies!$A$9:$A$146,Agencies!$B$9:$B$146)","v":"General Government"},{"$f":"IF(_xlfn.XLOOKUP(A471,Agencies!A:A,Agencies!D:D)=\"Y\",IF(_xlfn.XLOOKUP(F471,'Object Codes'!A:A,'Object Codes'!I:I)=\"Y\",\"Y\",\"N\"),\"N\")","v":"Y"},{"$f":"VLOOKUP(F471,'Object Codes'!$A:$C,3,0)","v":"Terminal Leave"},{"$f":"VLOOKUP(A471,Agencies!A:C,3,0)","v":"Mayoralty"},393.83391780821921]
["002",2022,"001","050","0504","X46",0,0,0,0,0,0,0,0,0,0,795.24,0,795.24,795.24,-795.24,795.24,-795.24,795.24,795.24,-795.24,{"$f":"_xlfn.XLOOKUP(F472,'Object Codes'!$A$18:$A$510,'Object Codes'!$H$18:$H$510)","v":"PS - Additional Gross"},{"$f":"_xlfn.XLOOKUP(F472,'Object Codes'!$A$18:$A$510,'Object Codes'!$G$18:$G$510)","v":"A"},{"$f":"_xlfn.XLOOKUP(A472,Agencies!$A$9:$A$146,Agencies!$B$9:$B$146)","v":"General Government"},{"$f":"IF(_xlfn.XLOOKUP(A472,Agencies!A:A,Agencies!D:D)=\"Y\",IF(_xlfn.XLOOKUP(F472,'Object Codes'!A:A,'Object Codes'!I:I)=\"Y\",\"Y\",\"N\"),\"N\")","v":"Y"},{"$f":"VLOOKUP(F472,'Object Codes'!$A:$C,3,0)","v":"PY TERMINAL LEAVE"},{"$f":"VLOOKUP(A472,Agencies!A:C,3,0)","v":"Mayoralty"},2.1787397260273971]
["002",2022,"001","050","0521","001",0,24,24,2306724,2181724,0,0,0,0,0,1927722.35,0,1927722.35,1927722.35,254001.65,1927722.35,254001.65,1927722.35,1927722.35,254001.65,{"$f":"_xlfn.XLOOKUP(F473,'Object Codes'!$A$18:$A$510,'Object Codes'!$H$18:$H$510)","v":"PS - Regular"},{"$f":"_xlfn.XLOOKUP(F473,'Object Codes'!$A$18:$A$510,'Object Codes'!$G$18:$G$510)","v":"C"},{"$f":"_xlfn.XLOOKUP(A473,Agencies!$A$9:$A$146,Agencies!$B$9:$B$146)","v":"General Government"},{"$f":"IF(_xlfn.XLOOKUP(A473,Agencies!A:A,Agencies!D:D)=\"Y\",IF(_xlfn.XLOOKUP(F473,'Object Codes'!A:A,'Object Codes'!I:I)=\"Y\",\"Y\",\"N\"),\"N\")","v":"Y"},{"$f":"VLOOKUP(F473,'Object Codes'!$A:$C,3,0)","v":"Full Year Positions"},{"$f":"VLOOKUP(A473,Agencies!A:C,3,0)","v":"Mayoralty"},5281.4310958904116]
["002",2022,"001","050","0521","046",0,0,0,0,0,0,0,0,0,0,158069.17000000001,0,158069.17000000001,158069.17000000001,-158069.17000000001,158069.17000000001,-158069.17000000001,158069.17000000001,158069.17000000001,-158069.17000000001,{"$f":"_xlfn.XLOOKUP(F474,'Object Codes'!$A$18:$A$510,'Object Codes'!$H$18:$H$510)","v":"PS - Additional Gross"},{"$f":"_xlfn.XLOOKUP(F474,'Object Codes'!$A$18:$A$510,'Object Codes'!$G$18:$G$510)","v":"A"},{"$f":"_xlfn.XLOOKUP(A474,Agencies!$A$9:$A$146,Agencies!$B$9:$B$146)","v":"General Government"},{"$f":"IF(_xlfn.XLOOKUP(A474,Agencies!A:A,Agencies!D:D)=\"Y\",IF(_xlfn.XLOOKUP(F474,'Object Codes'!A:A,'Object Codes'!I:I)=\"Y\",\"Y\",\"N\"),\"N\")","v":"Y"},{"$f":"VLOOKUP(F474,'Object Codes'!$A:$C,3,0)","v":"Terminal Leave"},{"$f":"VLOOKUP(A474,Agencies!A:C,3,0)","v":"Mayoralty"},433.06621917808224]
["002",2022,"001","050","0521","047",0,0,0,0,0,0,0,0,0,0,5701.05,0,5701.05,5701.05,-5701.05,5701.05,-5701.05,5701.05,5701.05,-5701.05,{"$f":"_xlfn.XLOOKUP(F475,'Object Codes'!$A$18:$A$510,'Object Codes'!$H$18:$H$510)","v":"PS - Additional Gross"},{"$f":"_xlfn.XLOOKUP(F475,'Object Codes'!$A$18:$A$510,'Object Codes'!$G$18:$G$510)","v":"C"},{"$f":"_xlfn.XLOOKUP(A475,Agencies!$A$9:$A$146,Agencies!$B$9:$B$146)","v":"General Government"},{"$f":"IF(_xlfn.XLOOKUP(A475,Agencies!A:A,Agencies!D:D)=\"Y\",IF(_xlfn.XLOOKUP(F475,'Object Codes'!A:A,'Object Codes'!I:I)=\"Y\",\"Y\",\"N\"),\"N\")","v":"Y"},{"$f":"VLOOKUP(F475,'Object Codes'!$A:$C,3,0)","v":"Overtime"},{"$f":"VLOOKUP(A475,Agencies!A:C,3,0)","v":"Mayoralty"},15.619315068493151]
["002",2022,"001","050","0521","049",0,0,0,0,0,0,0,0,0,0,56.43,0,56.43,56.43,-56.43,56.43,-56.43,56.43,56.43,-56.43,{"$f":"_xlfn.XLOOKUP(F476,'Object Codes'!$A$18:$A$510,'Object Codes'!$H$18:$H$510)","v":"PS - Additional Gross"},{"$f":"_xlfn.XLOOKUP(F476,'Object Codes'!$A$18:$A$510,'Object Codes'!$G$18:$G$510)","v":"A"},{"$f":"_xlfn.XLOOKUP(A476,Agencies!$A$9:$A$146,Agencies!$B$9:$B$146)","v":"General Government"},{"$f":"IF(_xlfn.XLOOKUP(A476,Agencies!A:A,Agencies!D:D)=\"Y\",IF(_xlfn.XLOOKUP(F476,'Object Codes'!A:A,'Object Codes'!I:I)=\"Y\",\"Y\",\"N\"),\"N\")","v":"Y"},{"$f":"VLOOKUP(F476,'Object Codes'!$A:$C,3,0)","v":"Backpay"},{"$f":"VLOOKUP(A476,Agencies!A:C,3,0)","v":"Mayoralty"},0.15460273972602739]
["002",2022,"001","050","0521","X46",0,0,0,0,0,0,0,0,0,0,1883.56,0,1883.56,1883.56,-1883.56,1883.56,-1883.56,1883.56,1883.56,-1883.56,{"$f":"_xlfn.XLOOKUP(F477,'Object Codes'!$A$18:$A$510,'Object Codes'!$H$18:$H$510)","v":"PS - Additional Gross"},{"$f":"_xlfn.XLOOKUP(F477,'Object Codes'!$A$18:$A$510,'Object Codes'!$G$18:$G$510)","v":"A"},{"$f":"_xlfn.XLOOKUP(A477,Agencies!$A$9:$A$146,Agencies!$B$9:$B$146)","v":"General Government"},{"$f":"IF(_xlfn.XLOOKUP(A477,Agencies!A:A,Agencies!D:D)=\"Y\",IF(_xlfn.XLOOKUP(F477,'Object Codes'!A:A,'Object Codes'!I:I)=\"Y\",\"Y\",\"N\"),\"N\")","v":"Y"},{"$f":"VLOOKUP(F477,'Object Codes'!$A:$C,3,0)","v":"PY TERMINAL LEAVE"},{"$f":"VLOOKUP(A477,Agencies!A:C,3,0)","v":"Mayoralty"},5.1604383561643834]
["002",2022,"001","050","0552","001",0,3,3,360680,360680,0,0,0,0,0,250037.03,0,250037.03,250037.03,110642.97,250037.03,110642.97,250037.03,250037.03,110642.97,{"$f":"_xlfn.XLOOKUP(F478,'Object Codes'!$A$18:$A$510,'Object Codes'!$H$18:$H$510)","v":"PS - Regular"},{"$f":"_xlfn.XLOOKUP(F478,'Object Codes'!$A$18:$A$510,'Object Codes'!$G$18:$G$510)","v":"C"},{"$f":"_xlfn.XLOOKUP(A478,Agencies!$A$9:$A$146,Agencies!$B$9:$B$146)","v":"General Government"},{"$f":"IF(_xlfn.XLOOKUP(A478,Agencies!A:A,Agencies!D:D)=\"Y\",IF(_xlfn.XLOOKUP(F478,'Object Codes'!A:A,'Object Codes'!I:I)=\"Y\",\"Y\",\"N\"),\"N\")","v":"Y"},{"$f":"VLOOKUP(F478,'Object Codes'!$A:$C,3,0)","v":"Full Year Positions"},{"$f":"VLOOKUP(A478,Agencies!A:C,3,0)","v":"Mayoralty"},685.03295890410959]
["002",2022,"001","050","0552","046",0,0,0,0,0,0,0,0,0,0,0,14952.42,14952.42,14952.42,-14952.42,14952.42,-14952.42,14952.42,14952.42,-14952.42,{"$f":"_xlfn.XLOOKUP(F479,'Object Codes'!$A$18:$A$510,'Object Codes'!$H$18:$H$510)","v":"PS - Additional Gross"},{"$f":"_xlfn.XLOOKUP(F479,'Object Codes'!$A$18:$A$510,'Object Codes'!$G$18:$G$510)","v":"A"},{"$f":"_xlfn.XLOOKUP(A479,Agencies!$A$9:$A$146,Agencies!$B$9:$B$146)","v":"General Government"},{"$f":"IF(_xlfn.XLOOKUP(A479,Agencies!A:A,Agencies!D:D)=\"Y\",IF(_xlfn.XLOOKUP(F479,'Object Codes'!A:A,'Object Codes'!I:I)=\"Y\",\"Y\",\"N\"),\"N\")","v":"Y"},{"$f":"VLOOKUP(F479,'Object Codes'!$A:$C,3,0)","v":"Terminal Leave"},{"$f":"VLOOKUP(A479,Agencies!A:C,3,0)","v":"Mayoralty"},40.965534246575345]
["002",2022,"001","050","0559","001",0,1,1,184401,184401,0,0,0,0,0,150046.94,0,150046.94,150046.94,34354.06,150046.94,34354.06,150046.94,150046.94,34354.06,{"$f":"_xlfn.XLOOKUP(F480,'Object Codes'!$A$18:$A$510,'Object Codes'!$H$18:$H$510)","v":"PS - Regular"},{"$f":"_xlfn.XLOOKUP(F480,'Object Codes'!$A$18:$A$510,'Object Codes'!$G$18:$G$510)","v":"C"},{"$f":"_xlfn.XLOOKUP(A480,Agencies!$A$9:$A$146,Agencies!$B$9:$B$146)","v":"General Government"},{"$f":"IF(_xlfn.XLOOKUP(A480,Agencies!A:A,Agencies!D:D)=\"Y\",IF(_xlfn.XLOOKUP(F480,'Object Codes'!A:A,'Object Codes'!I:I)=\"Y\",\"Y\",\"N\"),\"N\")","v":"Y"},{"$f":"VLOOKUP(F480,'Object Codes'!$A:$C,3,0)","v":"Full Year Positions"},{"$f":"VLOOKUP(A480,Agencies!A:C,3,0)","v":"Mayoralty"},411.08750684931505]
["002",2022,"001","050","0587","001",0,4,4,292266,292266,0,0,0,0,0,309000.12,0,309000.12,309000.12,-16734.12,309000.12,-16734.12,309000.12,309000.12,-16734.12,{"$f":"_xlfn.XLOOKUP(F481,'Object Codes'!$A$18:$A$510,'Object Codes'!$H$18:$H$510)","v":"PS - Regular"},{"$f":"_xlfn.XLOOKUP(F481,'Object Codes'!$A$18:$A$510,'Object Codes'!$G$18:$G$510)","v":"C"},{"$f":"_xlfn.XLOOKUP(A481,Agencies!$A$9:$A$146,Agencies!$B$9:$B$146)","v":"General Government"},{"$f":"IF(_xlfn.XLOOKUP(A481,Agencies!A:A,Agencies!D:D)=\"Y\",IF(_xlfn.XLOOKUP(F481,'Object Codes'!A:A,'Object Codes'!I:I)=\"Y\",\"Y\",\"N\"),\"N\")","v":"Y"},{"$f":"VLOOKUP(F481,'Object Codes'!$A:$C,3,0)","v":"Full Year Positions"},{"$f":"VLOOKUP(A481,Agencies!A:C,3,0)","v":"Mayoralty"},846.57567123287674]
["002",2022,"001","050","5004","001",0,0,0,204058,204058,0,0,0,0,0,45342.47,0,45342.47,45342.47,158715.53,45342.47,158715.53,45342.47,45342.47,158715.53,{"$f":"_xlfn.XLOOKUP(F482,'Object Codes'!$A$18:$A$510,'Object Codes'!$H$18:$H$510)","v":"PS - Regular"},{"$f":"_xlfn.XLOOKUP(F482,'Object Codes'!$A$18:$A$510,'Object Codes'!$G$18:$G$510)","v":"C"},{"$f":"_xlfn.XLOOKUP(A482,Agencies!$A$9:$A$146,Agencies!$B$9:$B$146)","v":"General Government"},{"$f":"IF(_xlfn.XLOOKUP(A482,Agencies!A:A,Agencies!D:D)=\"Y\",IF(_xlfn.XLOOKUP(F482,'Object Codes'!A:A,'Object Codes'!I:I)=\"Y\",\"Y\",\"N\"),\"N\")","v":"Y"},{"$f":"VLOOKUP(F482,'Object Codes'!$A:$C,3,0)","v":"Full Year Positions"},{"$f":"VLOOKUP(A482,Agencies!A:C,3,0)","v":"Mayoralty"},124.22594520547946]
["002",2022,"001","050","5006","001",0,0,0,0,0,0,0,0,0,0,2155874.89,0,2155874.89,2155874.89,-2155874.89,2155874.89,-2155874.89,2155874.89,2155874.89,-2155874.89,{"$f":"_xlfn.XLOOKUP(F483,'Object Codes'!$A$18:$A$510,'Object Codes'!$H$18:$H$510)","v":"PS - Regular"},{"$f":"_xlfn.XLOOKUP(F483,'Object Codes'!$A$18:$A$510,'Object Codes'!$G$18:$G$510)","v":"C"},{"$f":"_xlfn.XLOOKUP(A483,Agencies!$A$9:$A$146,Agencies!$B$9:$B$146)","v":"General Government"},{"$f":"IF(_xlfn.XLOOKUP(A483,Agencies!A:A,Agencies!D:D)=\"Y\",IF(_xlfn.XLOOKUP(F483,'Object Codes'!A:A,'Object Codes'!I:I)=\"Y\",\"Y\",\"N\"),\"N\")","v":"Y"},{"$f":"VLOOKUP(F483,'Object Codes'!$A:$C,3,0)","v":"Full Year Positions"},{"$f":"VLOOKUP(A483,Agencies!A:C,3,0)","v":"Mayoralty"},5906.506547945206]
["002",2022,"001","050","5006","031",0,0,0,0,0,0,0,0,0,0,10657.5,0,10657.5,10657.5,-10657.5,10657.5,-10657.5,10657.5,10657.5,-10657.5,{"$f":"_xlfn.XLOOKUP(F484,'Object Codes'!$A$18:$A$510,'Object Codes'!$H$18:$H$510)","v":"PS - Regular"},{"$f":"_xlfn.XLOOKUP(F484,'Object Codes'!$A$18:$A$510,'Object Codes'!$G$18:$G$510)","v":"C"},{"$f":"_xlfn.XLOOKUP(A484,Agencies!$A$9:$A$146,Agencies!$B$9:$B$146)","v":"General Government"},{"$f":"IF(_xlfn.XLOOKUP(A484,Agencies!A:A,Agencies!D:D)=\"Y\",IF(_xlfn.XLOOKUP(F484,'Object Codes'!A:A,'Object Codes'!I:I)=\"Y\",\"Y\",\"N\"),\"N\")","v":"Y"},{"$f":"VLOOKUP(F484,'Object Codes'!$A:$C,3,0)","v":"Hourly Positions"},{"$f":"VLOOKUP(A484,Agencies!A:C,3,0)","v":"Mayoralty"},29.198630136986303]
["002",2022,"001","050","5006","046",0,0,0,0,0,0,0,0,0,0,59918.76,47989.05,107907.81,107907.81,-107907.81,107907.81,-107907.81,107907.81,107907.81,-107907.81,{"$f":"_xlfn.XLOOKUP(F485,'Object Codes'!$A$18:$A$510,'Object Codes'!$H$18:$H$510)","v":"PS - Additional Gross"},{"$f":"_xlfn.XLOOKUP(F485,'Object Codes'!$A$18:$A$510,'Object Codes'!$G$18:$G$510)","v":"A"},{"$f":"_xlfn.XLOOKUP(A485,Agencies!$A$9:$A$146,Agencies!$B$9:$B$146)","v":"General Government"},{"$f":"IF(_xlfn.XLOOKUP(A485,Agencies!A:A,Agencies!D:D)=\"Y\",IF(_xlfn.XLOOKUP(F485,'Object Codes'!A:A,'Object Codes'!I:I)=\"Y\",\"Y\",\"N\"),\"N\")","v":"Y"},{"$f":"VLOOKUP(F485,'Object Codes'!$A:$C,3,0)","v":"Terminal Leave"},{"$f":"VLOOKUP(A485,Agencies!A:C,3,0)","v":"Mayoralty"},295.63783561643834]
["002",2022,"001","050","5006","047",0,0,0,0,0,0,0,0,0,0,9048.15,0,9048.15,9048.15,-9048.15,9048.15,-9048.15,9048.15,9048.15,-9048.15,{"$f":"_xlfn.XLOOKUP(F486,'Object Codes'!$A$18:$A$510,'Object Codes'!$H$18:$H$510)","v":"PS - Additional Gross"},{"$f":"_xlfn.XLOOKUP(F486,'Object Codes'!$A$18:$A$510,'Object Codes'!$G$18:$G$510)","v":"C"},{"$f":"_xlfn.XLOOKUP(A486,Agencies!$A$9:$A$146,Agencies!$B$9:$B$146)","v":"General Government"},{"$f":"IF(_xlfn.XLOOKUP(A486,Agencies!A:A,Agencies!D:D)=\"Y\",IF(_xlfn.XLOOKUP(F486,'Object Codes'!A:A,'Object Codes'!I:I)=\"Y\",\"Y\",\"N\"),\"N\")","v":"Y"},{"$f":"VLOOKUP(F486,'Object Codes'!$A:$C,3,0)","v":"Overtime"},{"$f":"VLOOKUP(A486,Agencies!A:C,3,0)","v":"Mayoralty"},24.78945205479452]
["002",2022,"001","050","5006","049",0,0,0,0,0,0,0,0,0,0,81.66,0,81.66,81.66,-81.66,81.66,-81.66,81.66,81.66,-81.66,{"$f":"_xlfn.XLOOKUP(F487,'Object Codes'!$A$18:$A$510,'Object Codes'!$H$18:$H$510)","v":"PS - Additional Gross"},{"$f":"_xlfn.XLOOKUP(F487,'Object Codes'!$A$18:$A$510,'Object Codes'!$G$18:$G$510)","v":"A"},{"$f":"_xlfn.XLOOKUP(A487,Agencies!$A$9:$A$146,Agencies!$B$9:$B$146)","v":"General Government"},{"$f":"IF(_xlfn.XLOOKUP(A487,Agencies!A:A,Agencies!D:D)=\"Y\",IF(_xlfn.XLOOKUP(F487,'Object Codes'!A:A,'Object Codes'!I:I)=\"Y\",\"Y\",\"N\"),\"N\")","v":"Y"},{"$f":"VLOOKUP(F487,'Object Codes'!$A:$C,3,0)","v":"Backpay"},{"$f":"VLOOKUP(A487,Agencies!A:C,3,0)","v":"Mayoralty"},0.22372602739726027]
["002",2022,"001","050","5006","057",0,0,0,0,500,0,0,0,0,0,500,0,500,500,0,500,0,500,500,0,{"$f":"_xlfn.XLOOKUP(F488,'Object Codes'!$A$18:$A$510,'Object Codes'!$H$18:$H$510)","v":"PS - Additional Gross"},{"$f":"_xlfn.XLOOKUP(F488,'Object Codes'!$A$18:$A$510,'Object Codes'!$G$18:$G$510)","v":"A"},{"$f":"_xlfn.XLOOKUP(A488,Agencies!$A$9:$A$146,Agencies!$B$9:$B$146)","v":"General Government"},{"$f":"IF(_xlfn.XLOOKUP(A488,Agencies!A:A,Agencies!D:D)=\"Y\",IF(_xlfn.XLOOKUP(F488,'Object Codes'!A:A,'Object Codes'!I:I)=\"Y\",\"Y\",\"N\"),\"N\")","v":"Y"},{"$f":"VLOOKUP(F488,'Object Codes'!$A:$C,3,0)","v":"Bonus Payments"},{"$f":"VLOOKUP(A488,Agencies!A:C,3,0)","v":"Mayoralty"},1.3698630136986301]
["002",2022,"001","050","5009","001",0,0,0,0,921916,0,0,0,0,0,0,0,0,0,921916,0,921916,0,0,921916,{"$f":"_xlfn.XLOOKUP(F489,'Object Codes'!$A$18:$A$510,'Object Codes'!$H$18:$H$510)","v":"PS - Regular"},{"$f":"_xlfn.XLOOKUP(F489,'Object Codes'!$A$18:$A$510,'Object Codes'!$G$18:$G$510)","v":"C"},{"$f":"_xlfn.XLOOKUP(A489,Agencies!$A$9:$A$146,Agencies!$B$9:$B$146)","v":"General Government"},{"$f":"IF(_xlfn.XLOOKUP(A489,Agencies!A:A,Agencies!D:D)=\"Y\",IF(_xlfn.XLOOKUP(F489,'Object Codes'!A:A,'Object Codes'!I:I)=\"Y\",\"Y\",\"N\"),\"N\")","v":"Y"},{"$f":"VLOOKUP(F489,'Object Codes'!$A:$C,3,0)","v":"Full Year Positions"},{"$f":"VLOOKUP(A489,Agencies!A:C,3,0)","v":"Mayoralty"},0]
["002",2022,"001","050","5010","001",0,0,24,0,1500000,0,0,0,0,0,0,0,0,0,1500000,0,1500000,0,0,1500000,{"$f":"_xlfn.XLOOKUP(F490,'Object Codes'!$A$18:$A$510,'Object Codes'!$H$18:$H$510)","v":"PS - Regular"},{"$f":"_xlfn.XLOOKUP(F490,'Object Codes'!$A$18:$A$510,'Object Codes'!$G$18:$G$510)","v":"C"},{"$f":"_xlfn.XLOOKUP(A490,Agencies!$A$9:$A$146,Agencies!$B$9:$B$146)","v":"General Government"},{"$f":"IF(_xlfn.XLOOKUP(A490,Agencies!A:A,Agencies!D:D)=\"Y\",IF(_xlfn.XLOOKUP(F490,'Object Codes'!A:A,'Object Codes'!I:I)=\"Y\",\"Y\",\"N\"),\"N\")","v":"Y"},{"$f":"VLOOKUP(F490,'Object Codes'!$A:$C,3,0)","v":"Full Year Positions"},{"$f":"VLOOKUP(A490,Agencies!A:C,3,0)","v":"Mayoralty"},0]
["002",2022,"001","051","0501","100",0,0,0,1762,462,0,0,0,0,0,0,0,0,0,462,0,462,0,0,462,{"$f":"_xlfn.XLOOKUP(F491,'Object Codes'!$A$18:$A$510,'Object Codes'!$H$18:$H$510)","v":"Supplies & Materials"},{"$f":"_xlfn.XLOOKUP(F491,'Object Codes'!$A$18:$A$510,'Object Codes'!$G$18:$G$510)","v":"A"},{"$f":"_xlfn.XLOOKUP(A491,Agencies!$A$9:$A$146,Agencies!$B$9:$B$146)","v":"General Government"},{"$f":"IF(_xlfn.XLOOKUP(A491,Agencies!A:A,Agencies!D:D)=\"Y\",IF(_xlfn.XLOOKUP(F491,'Object Codes'!A:A,'Object Codes'!I:I)=\"Y\",\"Y\",\"N\"),\"N\")","v":"Y"},{"$f":"VLOOKUP(F491,'Object Codes'!$A:$C,3,0)","v":"Supplies and Materials - General"},{"$f":"VLOOKUP(A491,Agencies!A:C,3,0)","v":"Mayoralty"},0]
["002",2022,"001","051","0501","337",0,0,0,0,2900,0,0,0,0,0,2860.47,0,2860.47,2860.47,39.53,2860.47,39.53,2860.47,2860.47,39.53,{"$f":"_xlfn.XLOOKUP(F492,'Object Codes'!$A$18:$A$510,'Object Codes'!$H$18:$H$510)","v":"Equipment"},{"$f":"_xlfn.XLOOKUP(F492,'Object Codes'!$A$18:$A$510,'Object Codes'!$G$18:$G$510)","v":"A"},{"$f":"_xlfn.XLOOKUP(A492,Agencies!$A$9:$A$146,Agencies!$B$9:$B$146)","v":"General Government"},{"$f":"IF(_xlfn.XLOOKUP(A492,Agencies!A:A,Agencies!D:D)=\"Y\",IF(_xlfn.XLOOKUP(F492,'Object Codes'!A:A,'Object Codes'!I:I)=\"Y\",\"Y\",\"N\"),\"N\")","v":"Y"},{"$f":"VLOOKUP(F492,'Object Codes'!$A:$C,3,0)","v":"Books - Other"},{"$f":"VLOOKUP(A492,Agencies!A:C,3,0)","v":"Mayoralty"},7.8369041095890406]
["002",2022,"001","051","0501","452",0,0,0,1238,1238,0,0,0,0,0,500,0,500,500,738,500,738,500,500,738,{"$f":"_xlfn.XLOOKUP(F493,'Object Codes'!$A$18:$A$510,'Object Codes'!$H$18:$H$510)","v":"Other Services and Charges - General"},{"$f":"_xlfn.XLOOKUP(F493,'Object Codes'!$A$18:$A$510,'Object Codes'!$G$18:$G$510)","v":0},{"$f":"_xlfn.XLOOKUP(A493,Agencies!$A$9:$A$146,Agencies!$B$9:$B$146)","v":"General Government"},{"$f":"IF(_xlfn.XLOOKUP(A493,Agencies!A:A,Agencies!D:D)=\"Y\",IF(_xlfn.XLOOKUP(F493,'Object Codes'!A:A,'Object Codes'!I:I)=\"Y\",\"Y\",\"N\"),\"N\")","v":"Y"},{"$f":"VLOOKUP(F493,'Object Codes'!$A:$C,3,0)","v":"Non Overnight Travel Expenditures - Special"},{"$f":"VLOOKUP(A493,Agencies!A:C,3,0)","v":"Mayoralty"},1.3698630136986301]
["002",2022,"001","051","0501","454",0,0,0,2000,200,0,0,0,0,0,0,0,0,0,200,0,200,0,0,200,{"$f":"_xlfn.XLOOKUP(F494,'Object Codes'!$A$18:$A$510,'Object Codes'!$H$18:$H$510)","v":"Other Services and Charges - General"},{"$f":"_xlfn.XLOOKUP(F494,'Object Codes'!$A$18:$A$510,'Object Codes'!$G$18:$G$510)","v":0},{"$f":"_xlfn.XLOOKUP(A494,Agencies!$A$9:$A$146,Agencies!$B$9:$B$146)","v":"General Government"},{"$f":"IF(_xlfn.XLOOKUP(A494,Agencies!A:A,Agencies!D:D)=\"Y\",IF(_xlfn.XLOOKUP(F494,'Object Codes'!A:A,'Object Codes'!I:I)=\"Y\",\"Y\",\"N\"),\"N\")","v":"Y"},{"$f":"VLOOKUP(F494,'Object Codes'!$A:$C,3,0)","v":"Overnight Travel Expenditures - Special"},{"$f":"VLOOKUP(A494,Agencies!A:C,3,0)","v":"Mayoralty"},0]
["002",2022,"001","051","0501","671",0,0,0,0,200,0,0,0,0,0,195,0,195,195,5,195,5,195,195,5,{"$f":"_xlfn.XLOOKUP(F495,'Object Codes'!$A$18:$A$510,'Object Codes'!$H$18:$H$510)","v":"Contractual Services"},{"$f":"_xlfn.XLOOKUP(F495,'Object Codes'!$A$18:$A$510,'Object Codes'!$G$18:$G$510)","v":0},{"$f":"_xlfn.XLOOKUP(A495,Agencies!$A$9:$A$146,Agencies!$B$9:$B$146)","v":"General Government"},{"$f":"IF(_xlfn.XLOOKUP(A495,Agencies!A:A,Agencies!D:D)=\"Y\",IF(_xlfn.XLOOKUP(F495,'Object Codes'!A:A,'Object Codes'!I:I)=\"Y\",\"Y\",\"N\"),\"N\")","v":"Y"},{"$f":"VLOOKUP(F495,'Object Codes'!$A:$C,3,0)","v":"Training Program for City Employees - Contractual"},{"$f":"VLOOKUP(A495,Agencies!A:C,3,0)","v":"Mayoralty"},0.53424657534246578]
["002",2022,"001","051","0503","400",0,0,0,34200,34200,0,0,0,0,0,0,0,0,0,34200,0,34200,0,0,34200,{"$f":"_xlfn.XLOOKUP(F496,'Object Codes'!$A$18:$A$510,'Object Codes'!$H$18:$H$510)","v":"Other Services and Charges - General"},{"$f":"_xlfn.XLOOKUP(F496,'Object Codes'!$A$18:$A$510,'Object Codes'!$G$18:$G$510)","v":0},{"$f":"_xlfn.XLOOKUP(A496,Agencies!$A$9:$A$146,Agencies!$B$9:$B$146)","v":"General Government"},{"$f":"IF(_xlfn.XLOOKUP(A496,Agencies!A:A,Agencies!D:D)=\"Y\",IF(_xlfn.XLOOKUP(F496,'Object Codes'!A:A,'Object Codes'!I:I)=\"Y\",\"Y\",\"N\"),\"N\")","v":"Y"},{"$f":"VLOOKUP(F496,'Object Codes'!$A:$C,3,0)","v":"Other Services and Charges - General"},{"$f":"VLOOKUP(A496,Agencies!A:C,3,0)","v":"Mayoralty"},0]
["002",2022,"001","051","0531","100",0,0,0,60137,20837,0,0,0,0,0,0,0,0,0,20837,0,20837,0,0,20837,{"$f":"_xlfn.XLOOKUP(F497,'Object Codes'!$A$18:$A$510,'Object Codes'!$H$18:$H$510)","v":"Supplies & Materials"},{"$f":"_xlfn.XLOOKUP(F497,'Object Codes'!$A$18:$A$510,'Object Codes'!$G$18:$G$510)","v":"A"},{"$f":"_xlfn.XLOOKUP(A497,Agencies!$A$9:$A$146,Agencies!$B$9:$B$146)","v":"General Government"},{"$f":"IF(_xlfn.XLOOKUP(A497,Agencies!A:A,Agencies!D:D)=\"Y\",IF(_xlfn.XLOOKUP(F497,'Object Codes'!A:A,'Object Codes'!I:I)=\"Y\",\"Y\",\"N\"),\"N\")","v":"Y"},{"$f":"VLOOKUP(F497,'Object Codes'!$A:$C,3,0)","v":"Supplies and Materials - General"},{"$f":"VLOOKUP(A497,Agencies!A:C,3,0)","v":"Mayoralty"},0]
["002",2022,"001","051","0531","110",0,0,0,0,3000,0,0,0,0,0,1381.04,0,1381.04,1381.04,1618.96,1381.04,1618.96,1381.04,1381.04,1618.96,{"$f":"_xlfn.XLOOKUP(F498,'Object Codes'!$A$18:$A$510,'Object Codes'!$H$18:$H$510)","v":"Supplies & Materials"},{"$f":"_xlfn.XLOOKUP(F498,'Object Codes'!$A$18:$A$510,'Object Codes'!$G$18:$G$510)","v":"A"},{"$f":"_xlfn.XLOOKUP(A498,Agencies!$A$9:$A$146,Agencies!$B$9:$B$146)","v":"General Government"},{"$f":"IF(_xlfn.XLOOKUP(A498,Agencies!A:A,Agencies!D:D)=\"Y\",IF(_xlfn.XLOOKUP(F498,'Object Codes'!A:A,'Object Codes'!I:I)=\"Y\",\"Y\",\"N\"),\"N\")","v":"Y"},{"$f":"VLOOKUP(F498,'Object Codes'!$A:$C,3,0)","v":"Food and Forage Supplies"},{"$f":"VLOOKUP(A498,Agencies!A:C,3,0)","v":"Mayoralty"},3.7836712328767121]
["002",2022,"001","051","0531","117",0,0,0,1741,1741,0,0,0,0,0,0,0,0,0,1741,0,1741,0,0,1741,{"$f":"_xlfn.XLOOKUP(F499,'Object Codes'!$A$18:$A$510,'Object Codes'!$H$18:$H$510)","v":"Supplies & Materials"},{"$f":"_xlfn.XLOOKUP(F499,'Object Codes'!$A$18:$A$510,'Object Codes'!$G$18:$G$510)","v":"A"},{"$f":"_xlfn.XLOOKUP(A499,Agencies!$A$9:$A$146,Agencies!$B$9:$B$146)","v":"General Government"},{"$f":"IF(_xlfn.XLOOKUP(A499,Agencies!A:A,Agencies!D:D)=\"Y\",IF(_xlfn.XLOOKUP(F499,'Object Codes'!A:A,'Object Codes'!I:I)=\"Y\",\"Y\",\"N\"),\"N\")","v":"Y"},{"$f":"VLOOKUP(F499,'Object Codes'!$A:$C,3,0)","v":"Postage"},{"$f":"VLOOKUP(A499,Agencies!A:C,3,0)","v":"Mayoralty"},0]
["002",2022,"001","051","0531","337",0,0,0,14857,20857,0,0,0,0,0,17214.400000000001,0,17214.400000000001,17214.400000000001,3642.6,17214.400000000001,3642.6,17214.400000000001,17214.400000000001,3642.6,{"$f":"_xlfn.XLOOKUP(F500,'Object Codes'!$A$18:$A$510,'Object Codes'!$H$18:$H$510)","v":"Equipment"},{"$f":"_xlfn.XLOOKUP(F500,'Object Codes'!$A$18:$A$510,'Object Codes'!$G$18:$G$510)","v":"A"},{"$f":"_xlfn.XLOOKUP(A500,Agencies!$A$9:$A$146,Agencies!$B$9:$B$146)","v":"General Government"},{"$f":"IF(_xlfn.XLOOKUP(A500,Agencies!A:A,Agencies!D:D)=\"Y\",IF(_xlfn.XLOOKUP(F500,'Object Codes'!A:A,'Object Codes'!I:I)=\"Y\",\"Y\",\"N\"),\"N\")","v":"Y"},{"$f":"VLOOKUP(F500,'Object Codes'!$A:$C,3,0)","v":"Books - Other"},{"$f":"VLOOKUP(A500,Agencies!A:C,3,0)","v":"Mayoralty"},47.162739726027404]
["002",2022,"001","051","0531","403",0,0,0,0,1000,0,0,0,0,0,435,0,435,435,565,435,565,435,435,565,{"$f":"_xlfn.XLOOKUP(F501,'Object Codes'!$A$18:$A$510,'Object Codes'!$H$18:$H$510)","v":"Other Services and Charges - General"},{"$f":"_xlfn.XLOOKUP(F501,'Object Codes'!$A$18:$A$510,'Object Codes'!$G$18:$G$510)","v":0},{"$f":"_xlfn.XLOOKUP(A501,Agencies!$A$9:$A$146,Agencies!$B$9:$B$146)","v":"General Government"},{"$f":"IF(_xlfn.XLOOKUP(A501,Agencies!A:A,Agencies!D:D)=\"Y\",IF(_xlfn.XLOOKUP(F501,'Object Codes'!A:A,'Object Codes'!I:I)=\"Y\",\"Y\",\"N\"),\"N\")","v":"Y"},{"$f":"VLOOKUP(F501,'Object Codes'!$A:$C,3,0)","v":"Office Services"},{"$f":"VLOOKUP(A501,Agencies!A:C,3,0)","v":"Mayoralty"},1.1917808219178083]
["002",2022,"001","051","0531","412",0,0,0,0,1000,0,0,0,0,0,55,0,55,55,945,55,945,55,55,945,{"$f":"_xlfn.XLOOKUP(F502,'Object Codes'!$A$18:$A$510,'Object Codes'!$H$18:$H$510)","v":"Other Services and Charges - General"},{"$f":"_xlfn.XLOOKUP(F502,'Object Codes'!$A$18:$A$510,'Object Codes'!$G$18:$G$510)","v":0},{"$f":"_xlfn.XLOOKUP(A502,Agencies!$A$9:$A$146,Agencies!$B$9:$B$146)","v":"General Government"},{"$f":"IF(_xlfn.XLOOKUP(A502,Agencies!A:A,Agencies!D:D)=\"Y\",IF(_xlfn.XLOOKUP(F502,'Object Codes'!A:A,'Object Codes'!I:I)=\"Y\",\"Y\",\"N\"),\"N\")","v":"Y"},{"$f":"VLOOKUP(F502,'Object Codes'!$A:$C,3,0)","v":"Rentals - Miscellaneous Equipment"},{"$f":"VLOOKUP(A502,Agencies!A:C,3,0)","v":"Mayoralty"},0.15068493150684931]
["002",2022,"001","051","0531","451",0,0,0,1000,1200,0,0,0,0,0,257.89,0,257.89,257.89,942.11,257.89,942.11,257.89,257.89,942.11,{"$f":"_xlfn.XLOOKUP(F503,'Object Codes'!$A$18:$A$510,'Object Codes'!$H$18:$H$510)","v":"Other Services and Charges - General"},{"$f":"_xlfn.XLOOKUP(F503,'Object Codes'!$A$18:$A$510,'Object Codes'!$G$18:$G$510)","v":0},{"$f":"_xlfn.XLOOKUP(A503,Agencies!$A$9:$A$146,Agencies!$B$9:$B$146)","v":"General Government"},{"$f":"IF(_xlfn.XLOOKUP(A503,Agencies!A:A,Agencies!D:D)=\"Y\",IF(_xlfn.XLOOKUP(F503,'Object Codes'!A:A,'Object Codes'!I:I)=\"Y\",\"Y\",\"N\"),\"N\")","v":"Y"},{"$f":"VLOOKUP(F503,'Object Codes'!$A:$C,3,0)","v":"Non Overnight Travel Expenditures - General"},{"$f":"VLOOKUP(A503,Agencies!A:C,3,0)","v":"Mayoralty"},0.70654794520547937]
["002",2022,"001","051","0531","453",0,0,0,1000,1000,0,0,0,0,0,0,0,0,0,1000,0,1000,0,0,1000,{"$f":"_xlfn.XLOOKUP(F504,'Object Codes'!$A$18:$A$510,'Object Codes'!$H$18:$H$510)","v":"Other Services and Charges - General"},{"$f":"_xlfn.XLOOKUP(F504,'Object Codes'!$A$18:$A$510,'Object Codes'!$G$18:$G$510)","v":0},{"$f":"_xlfn.XLOOKUP(A504,Agencies!$A$9:$A$146,Agencies!$B$9:$B$146)","v":"General Government"},{"$f":"IF(_xlfn.XLOOKUP(A504,Agencies!A:A,Agencies!D:D)=\"Y\",IF(_xlfn.XLOOKUP(F504,'Object Codes'!A:A,'Object Codes'!I:I)=\"Y\",\"Y\",\"N\"),\"N\")","v":"Y"},{"$f":"VLOOKUP(F504,'Object Codes'!$A:$C,3,0)","v":"Overnight Travel Expenditures - General"},{"$f":"VLOOKUP(A504,Agencies!A:C,3,0)","v":"Mayoralty"},0]
["002",2022,"001","051","0531","454",0,0,0,2000,2000,0,0,0,0,0,0,0,0,0,2000,0,2000,0,0,2000,{"$f":"_xlfn.XLOOKUP(F505,'Object Codes'!$A$18:$A$510,'Object Codes'!$H$18:$H$510)","v":"Other Services and Charges - General"},{"$f":"_xlfn.XLOOKUP(F505,'Object Codes'!$A$18:$A$510,'Object Codes'!$G$18:$G$510)","v":0},{"$f":"_xlfn.XLOOKUP(A505,Agencies!$A$9:$A$146,Agencies!$B$9:$B$146)","v":"General Government"},{"$f":"IF(_xlfn.XLOOKUP(A505,Agencies!A:A,Agencies!D:D)=\"Y\",IF(_xlfn.XLOOKUP(F505,'Object Codes'!A:A,'Object Codes'!I:I)=\"Y\",\"Y\",\"N\"),\"N\")","v":"Y"},{"$f":"VLOOKUP(F505,'Object Codes'!$A:$C,3,0)","v":"Overnight Travel Expenditures - Special"},{"$f":"VLOOKUP(A505,Agencies!A:C,3,0)","v":"Mayoralty"},0]
["002",2022,"001","051","0531","600",0,0,0,0,1500,0,0,0,0,0,165.32,500,665.32,665.32,834.68,665.32,834.68,665.32,665.32,834.68,{"$f":"_xlfn.XLOOKUP(F506,'Object Codes'!$A$18:$A$510,'Object Codes'!$H$18:$H$510)","v":"Contractual Services"},{"$f":"_xlfn.XLOOKUP(F506,'Object Codes'!$A$18:$A$510,'Object Codes'!$G$18:$G$510)","v":0},{"$f":"_xlfn.XLOOKUP(A506,Agencies!$A$9:$A$146,Agencies!$B$9:$B$146)","v":"General Government"},{"$f":"IF(_xlfn.XLOOKUP(A506,Agencies!A:A,Agencies!D:D)=\"Y\",IF(_xlfn.XLOOKUP(F506,'Object Codes'!A:A,'Object Codes'!I:I)=\"Y\",\"Y\",\"N\"),\"N\")","v":"Y"},{"$f":"VLOOKUP(F506,'Object Codes'!$A:$C,3,0)","v":"Contractual Services - General"},{"$f":"VLOOKUP(A506,Agencies!A:C,3,0)","v":"Mayoralty"},1.8227945205479454]
["002",2022,"001","051","0531","613",0,0,0,0,1600,0,0,0,0,0,1259.4000000000001,0,1259.4000000000001,1259.4000000000001,340.6,1259.4000000000001,340.6,1259.4000000000001,1259.4000000000001,340.6,{"$f":"_xlfn.XLOOKUP(F507,'Object Codes'!$A$18:$A$510,'Object Codes'!$H$18:$H$510)","v":"Contractual Services"},{"$f":"_xlfn.XLOOKUP(F507,'Object Codes'!$A$18:$A$510,'Object Codes'!$G$18:$G$510)","v":0},{"$f":"_xlfn.XLOOKUP(A507,Agencies!$A$9:$A$146,Agencies!$B$9:$B$146)","v":"General Government"},{"$f":"IF(_xlfn.XLOOKUP(A507,Agencies!A:A,Agencies!D:D)=\"Y\",IF(_xlfn.XLOOKUP(F507,'Object Codes'!A:A,'Object Codes'!I:I)=\"Y\",\"Y\",\"N\"),\"N\")","v":"Y"},{"$f":"VLOOKUP(F507,'Object Codes'!$A:$C,3,0)","v":"Data Processing Equipment Maintenance - Contractual"},{"$f":"VLOOKUP(A507,Agencies!A:C,3,0)","v":"Mayoralty"},3.4504109589041096]
["002",2022,"001","051","0531","622",0,0,0,365,25365,0,0,0,0,0,9862.5,0,9862.5,9862.5,15502.5,9862.5,15502.5,9862.5,9862.5,15502.5,{"$f":"_xlfn.XLOOKUP(F508,'Object Codes'!$A$18:$A$510,'Object Codes'!$H$18:$H$510)","v":"Contractual Services"},{"$f":"_xlfn.XLOOKUP(F508,'Object Codes'!$A$18:$A$510,'Object Codes'!$G$18:$G$510)","v":0},{"$f":"_xlfn.XLOOKUP(A508,Agencies!$A$9:$A$146,Agencies!$B$9:$B$146)","v":"General Government"},{"$f":"IF(_xlfn.XLOOKUP(A508,Agencies!A:A,Agencies!D:D)=\"Y\",IF(_xlfn.XLOOKUP(F508,'Object Codes'!A:A,'Object Codes'!I:I)=\"Y\",\"Y\",\"N\"),\"N\")","v":"Y"},{"$f":"VLOOKUP(F508,'Object Codes'!$A:$C,3,0)","v":"Temporary Services - Contractual"},{"$f":"VLOOKUP(A508,Agencies!A:C,3,0)","v":"Mayoralty"},27.020547945205479]
["002",2022,"001","051","0532","678",0,0,0,1372255,1372255,0,0,0,0,0,1372255,0,1372255,1372255,0,1372255,0,1372255,1372255,0,{"$f":"_xlfn.XLOOKUP(F509,'Object Codes'!$A$18:$A$510,'Object Codes'!$H$18:$H$510)","v":"Contractual Services"},{"$f":"_xlfn.XLOOKUP(F509,'Object Codes'!$A$18:$A$510,'Object Codes'!$G$18:$G$510)","v":0},{"$f":"_xlfn.XLOOKUP(A509,Agencies!$A$9:$A$146,Agencies!$B$9:$B$146)","v":"General Government"},{"$f":"IF(_xlfn.XLOOKUP(A509,Agencies!A:A,Agencies!D:D)=\"Y\",IF(_xlfn.XLOOKUP(F509,'Object Codes'!A:A,'Object Codes'!I:I)=\"Y\",\"Y\",\"N\"),\"N\")","v":"Y"},{"$f":"VLOOKUP(F509,'Object Codes'!$A:$C,3,0)","v":"Payments to Delegate Agencies - Contractual"},{"$f":"VLOOKUP(A509,Agencies!A:C,3,0)","v":"Mayoralty"},3759.6027397260273]
["002",2022,"001","051","0533","678",0,0,0,1873760,1873760,0,0,0,0,0,1873760,0,1873760,1873760,0,1873760,0,1873760,1873760,0,{"$f":"_xlfn.XLOOKUP(F510,'Object Codes'!$A$18:$A$510,'Object Codes'!$H$18:$H$510)","v":"Contractual Services"},{"$f":"_xlfn.XLOOKUP(F510,'Object Codes'!$A$18:$A$510,'Object Codes'!$G$18:$G$510)","v":0},{"$f":"_xlfn.XLOOKUP(A510,Agencies!$A$9:$A$146,Agencies!$B$9:$B$146)","v":"General Government"},{"$f":"IF(_xlfn.XLOOKUP(A510,Agencies!A:A,Agencies!D:D)=\"Y\",IF(_xlfn.XLOOKUP(F510,'Object Codes'!A:A,'Object Codes'!I:I)=\"Y\",\"Y\",\"N\"),\"N\")","v":"Y"},{"$f":"VLOOKUP(F510,'Object Codes'!$A:$C,3,0)","v":"Payments to Delegate Agencies - Contractual"},{"$f":"VLOOKUP(A510,Agencies!A:C,3,0)","v":"Mayoralty"},5133.58904109589]
["002",2022,"001","051","0559","337",0,0,0,5000,5000,0,0,0,0,0,0,0,0,0,5000,0,5000,0,0,5000,{"$f":"_xlfn.XLOOKUP(F511,'Object Codes'!$A$18:$A$510,'Object Codes'!$H$18:$H$510)","v":"Equipment"},{"$f":"_xlfn.XLOOKUP(F511,'Object Codes'!$A$18:$A$510,'Object Codes'!$G$18:$G$510)","v":"A"},{"$f":"_xlfn.XLOOKUP(A511,Agencies!$A$9:$A$146,Agencies!$B$9:$B$146)","v":"General Government"},{"$f":"IF(_xlfn.XLOOKUP(A511,Agencies!A:A,Agencies!D:D)=\"Y\",IF(_xlfn.XLOOKUP(F511,'Object Codes'!A:A,'Object Codes'!I:I)=\"Y\",\"Y\",\"N\"),\"N\")","v":"Y"},{"$f":"VLOOKUP(F511,'Object Codes'!$A:$C,3,0)","v":"Books - Other"},{"$f":"VLOOKUP(A511,Agencies!A:C,3,0)","v":"Mayoralty"},0]
["002",2022,"001","051","5014","678",0,0,0,0,4034214,0,0,0,0,0,843069.64,3191144.36,4034214,4034214,0,4034214,0,4034214,4034214,0,{"$f":"_xlfn.XLOOKUP(F512,'Object Codes'!$A$18:$A$510,'Object Codes'!$H$18:$H$510)","v":"Contractual Services"},{"$f":"_xlfn.XLOOKUP(F512,'Object Codes'!$A$18:$A$510,'Object Codes'!$G$18:$G$510)","v":0},{"$f":"_xlfn.XLOOKUP(A512,Agencies!$A$9:$A$146,Agencies!$B$9:$B$146)","v":"General Government"},{"$f":"IF(_xlfn.XLOOKUP(A512,Agencies!A:A,Agencies!D:D)=\"Y\",IF(_xlfn.XLOOKUP(F512,'Object Codes'!A:A,'Object Codes'!I:I)=\"Y\",\"Y\",\"N\"),\"N\")","v":"Y"},{"$f":"VLOOKUP(F512,'Object Codes'!$A:$C,3,0)","v":"Payments to Delegate Agencies - Contractual"},{"$f":"VLOOKUP(A512,Agencies!A:C,3,0)","v":"Mayoralty"},11052.641095890411]
["002",2022,"001","051","5018","678",0,0,0,0,539183,0,0,0,0,0,0,539183,539183,539183,0,539183,0,539183,539183,0,{"$f":"_xlfn.XLOOKUP(F513,'Object Codes'!$A$18:$A$510,'Object Codes'!$H$18:$H$510)","v":"Contractual Services"},{"$f":"_xlfn.XLOOKUP(F513,'Object Codes'!$A$18:$A$510,'Object Codes'!$G$18:$G$510)","v":0},{"$f":"_xlfn.XLOOKUP(A513,Agencies!$A$9:$A$146,Agencies!$B$9:$B$146)","v":"General Government"},{"$f":"IF(_xlfn.XLOOKUP(A513,Agencies!A:A,Agencies!D:D)=\"Y\",IF(_xlfn.XLOOKUP(F513,'Object Codes'!A:A,'Object Codes'!I:I)=\"Y\",\"Y\",\"N\"),\"N\")","v":"Y"},{"$f":"VLOOKUP(F513,'Object Codes'!$A:$C,3,0)","v":"Payments to Delegate Agencies - Contractual"},{"$f":"VLOOKUP(A513,Agencies!A:C,3,0)","v":"Mayoralty"},1477.2136986301371]
["002",2022,"001","061","0601","001",0,59,59,4937601,4937601,0,0,0,0,0,4750022.33,0,4750022.33,4750022.33,187578.67,4750022.33,187578.67,4750022.33,4750022.33,187578.67,{"$f":"_xlfn.XLOOKUP(F514,'Object Codes'!$A$18:$A$510,'Object Codes'!$H$18:$H$510)","v":"PS - Regular"},{"$f":"_xlfn.XLOOKUP(F514,'Object Codes'!$A$18:$A$510,'Object Codes'!$G$18:$G$510)","v":"C"},{"$f":"_xlfn.XLOOKUP(A514,Agencies!$A$9:$A$146,Agencies!$B$9:$B$146)","v":"General Government"},{"$f":"IF(_xlfn.XLOOKUP(A514,Agencies!A:A,Agencies!D:D)=\"Y\",IF(_xlfn.XLOOKUP(F514,'Object Codes'!A:A,'Object Codes'!I:I)=\"Y\",\"Y\",\"N\"),\"N\")","v":"Y"},{"$f":"VLOOKUP(F514,'Object Codes'!$A:$C,3,0)","v":"Full Year Positions"},{"$f":"VLOOKUP(A514,Agencies!A:C,3,0)","v":"Mayoralty"},13013.759808219178]
["002",2022,"001","061","0601","004",0,0,0,0,0,0,0,0,0,0,4857.62,0,4857.62,4857.62,-4857.62,4857.62,-4857.62,4857.62,4857.62,-4857.62,{"$f":"_xlfn.XLOOKUP(F515,'Object Codes'!$A$18:$A$510,'Object Codes'!$H$18:$H$510)","v":"PS - Regular"},{"$f":"_xlfn.XLOOKUP(F515,'Object Codes'!$A$18:$A$510,'Object Codes'!$G$18:$G$510)","v":"U"},{"$f":"_xlfn.XLOOKUP(A515,Agencies!$A$9:$A$146,Agencies!$B$9:$B$146)","v":"General Government"},{"$f":"IF(_xlfn.XLOOKUP(A515,Agencies!A:A,Agencies!D:D)=\"Y\",IF(_xlfn.XLOOKUP(F515,'Object Codes'!A:A,'Object Codes'!I:I)=\"Y\",\"Y\",\"N\"),\"N\")","v":"Y"},{"$f":"VLOOKUP(F515,'Object Codes'!$A:$C,3,0)","v":"Full-Time Uniformed Personnel"},{"$f":"VLOOKUP(A515,Agencies!A:C,3,0)","v":"Mayoralty"},13.308547945205479]
["002",2022,"001","061","0601","031",0,0,0,44634,44634,0,0,0,0,0,0,0,0,0,44634,0,44634,0,0,44634,{"$f":"_xlfn.XLOOKUP(F516,'Object Codes'!$A$18:$A$510,'Object Codes'!$H$18:$H$510)","v":"PS - Regular"},{"$f":"_xlfn.XLOOKUP(F516,'Object Codes'!$A$18:$A$510,'Object Codes'!$G$18:$G$510)","v":"C"},{"$f":"_xlfn.XLOOKUP(A516,Agencies!$A$9:$A$146,Agencies!$B$9:$B$146)","v":"General Government"},{"$f":"IF(_xlfn.XLOOKUP(A516,Agencies!A:A,Agencies!D:D)=\"Y\",IF(_xlfn.XLOOKUP(F516,'Object Codes'!A:A,'Object Codes'!I:I)=\"Y\",\"Y\",\"N\"),\"N\")","v":"Y"},{"$f":"VLOOKUP(F516,'Object Codes'!$A:$C,3,0)","v":"Hourly Positions"},{"$f":"VLOOKUP(A516,Agencies!A:C,3,0)","v":"Mayoralty"},0]
["002",2022,"001","061","0601","041",0,0,0,581,581,0,0,0,0,0,3886.53,0,3886.53,3886.53,-3305.53,3886.53,-3305.53,3886.53,3886.53,-3305.53,{"$f":"_xlfn.XLOOKUP(F517,'Object Codes'!$A$18:$A$510,'Object Codes'!$H$18:$H$510)","v":"PS - Additional Gross"},{"$f":"_xlfn.XLOOKUP(F517,'Object Codes'!$A$18:$A$510,'Object Codes'!$G$18:$G$510)","v":"A"},{"$f":"_xlfn.XLOOKUP(A517,Agencies!$A$9:$A$146,Agencies!$B$9:$B$146)","v":"General Government"},{"$f":"IF(_xlfn.XLOOKUP(A517,Agencies!A:A,Agencies!D:D)=\"Y\",IF(_xlfn.XLOOKUP(F517,'Object Codes'!A:A,'Object Codes'!I:I)=\"Y\",\"Y\",\"N\"),\"N\")","v":"Y"},{"$f":"VLOOKUP(F517,'Object Codes'!$A:$C,3,0)","v":"Assignment Differential"},{"$f":"VLOOKUP(A517,Agencies!A:C,3,0)","v":"Mayoralty"},10.648027397260275]
["002",2022,"001","061","0601","042",0,0,0,4977,4977,0,0,0,0,0,36749.620000000003,0,36749.620000000003,36749.620000000003,-31772.62,36749.620000000003,-31772.62,36749.620000000003,36749.620000000003,-31772.62,{"$f":"_xlfn.XLOOKUP(F518,'Object Codes'!$A$18:$A$510,'Object Codes'!$H$18:$H$510)","v":"PS - Additional Gross"},{"$f":"_xlfn.XLOOKUP(F518,'Object Codes'!$A$18:$A$510,'Object Codes'!$G$18:$G$510)","v":"A"},{"$f":"_xlfn.XLOOKUP(A518,Agencies!$A$9:$A$146,Agencies!$B$9:$B$146)","v":"General Government"},{"$f":"IF(_xlfn.XLOOKUP(A518,Agencies!A:A,Agencies!D:D)=\"Y\",IF(_xlfn.XLOOKUP(F518,'Object Codes'!A:A,'Object Codes'!I:I)=\"Y\",\"Y\",\"N\"),\"N\")","v":"Y"},{"$f":"VLOOKUP(F518,'Object Codes'!$A:$C,3,0)","v":"Longevity Differential"},{"$f":"VLOOKUP(A518,Agencies!A:C,3,0)","v":"Mayoralty"},100.68389041095891]
["002",2022,"001","061","0601","047",0,0,0,50541,50541,0,0,0,0,0,424.68,0,424.68,424.68,50116.32,424.68,50116.32,424.68,424.68,50116.32,{"$f":"_xlfn.XLOOKUP(F519,'Object Codes'!$A$18:$A$510,'Object Codes'!$H$18:$H$510)","v":"PS - Additional Gross"},{"$f":"_xlfn.XLOOKUP(F519,'Object Codes'!$A$18:$A$510,'Object Codes'!$G$18:$G$510)","v":"C"},{"$f":"_xlfn.XLOOKUP(A519,Agencies!$A$9:$A$146,Agencies!$B$9:$B$146)","v":"General Government"},{"$f":"IF(_xlfn.XLOOKUP(A519,Agencies!A:A,Agencies!D:D)=\"Y\",IF(_xlfn.XLOOKUP(F519,'Object Codes'!A:A,'Object Codes'!I:I)=\"Y\",\"Y\",\"N\"),\"N\")","v":"Y"},{"$f":"VLOOKUP(F519,'Object Codes'!$A:$C,3,0)","v":"Overtime"},{"$f":"VLOOKUP(A519,Agencies!A:C,3,0)","v":"Mayoralty"},1.1635068493150684]
["002",2022,"001","061","0601","057",0,0,0,0,1000,0,0,0,0,0,1000,0,1000,1000,0,1000,0,1000,1000,0,{"$f":"_xlfn.XLOOKUP(F520,'Object Codes'!$A$18:$A$510,'Object Codes'!$H$18:$H$510)","v":"PS - Additional Gross"},{"$f":"_xlfn.XLOOKUP(F520,'Object Codes'!$A$18:$A$510,'Object Codes'!$G$18:$G$510)","v":"A"},{"$f":"_xlfn.XLOOKUP(A520,Agencies!$A$9:$A$146,Agencies!$B$9:$B$146)","v":"General Government"},{"$f":"IF(_xlfn.XLOOKUP(A520,Agencies!A:A,Agencies!D:D)=\"Y\",IF(_xlfn.XLOOKUP(F520,'Object Codes'!A:A,'Object Codes'!I:I)=\"Y\",\"Y\",\"N\"),\"N\")","v":"Y"},{"$f":"VLOOKUP(F520,'Object Codes'!$A:$C,3,0)","v":"Bonus Payments"},{"$f":"VLOOKUP(A520,Agencies!A:C,3,0)","v":"Mayoralty"},2.7397260273972601]
["002",2022,"001","061","0601","061",0,0,0,500,500,0,0,0,0,0,74.75,0,74.75,74.75,425.25,74.75,425.25,74.75,74.75,425.25,{"$f":"_xlfn.XLOOKUP(F521,'Object Codes'!$A$18:$A$510,'Object Codes'!$H$18:$H$510)","v":"PS - Additional Gross"},{"$f":"_xlfn.XLOOKUP(F521,'Object Codes'!$A$18:$A$510,'Object Codes'!$G$18:$G$510)","v":"A"},{"$f":"_xlfn.XLOOKUP(A521,Agencies!$A$9:$A$146,Agencies!$B$9:$B$146)","v":"General Government"},{"$f":"IF(_xlfn.XLOOKUP(A521,Agencies!A:A,Agencies!D:D)=\"Y\",IF(_xlfn.XLOOKUP(F521,'Object Codes'!A:A,'Object Codes'!I:I)=\"Y\",\"Y\",\"N\"),\"N\")","v":"Y"},{"$f":"VLOOKUP(F521,'Object Codes'!$A:$C,3,0)","v":"Supper Money"},{"$f":"VLOOKUP(A521,Agencies!A:C,3,0)","v":"Mayoralty"},{"$f":"S521/365","v":0.2047945205479452}]
["002",2022,"001","061","0601","095",0,0,0,0,0,0,0,552.51,0,0,-552.51,0,0,-552.51,552.51,-552.51,552.51,-552.51,-552.51,552.51,{"$f":"_xlfn.XLOOKUP(F522,'Object Codes'!$A$18:$A$510,'Object Codes'!$H$18:$H$510)","v":"PS - Additional Gross"},{"$f":"_xlfn.XLOOKUP(F522,'Object Codes'!$A$18:$A$510,'Object Codes'!$G$18:$G$510)","v":"A"},{"$f":"_xlfn.XLOOKUP(A522,Agencies!$A$9:$A$146,Agencies!$B$9:$B$146)","v":"General Government"},{"$f":"IF(_xlfn.XLOOKUP(A522,Agencies!A:A,Agencies!D:D)=\"Y\",IF(_xlfn.XLOOKUP(F522,'Object Codes'!A:A,'Object Codes'!I:I)=\"Y\",\"Y\",\"N\"),\"N\")","v":"Y"},{"$f":"VLOOKUP(F522,'Object Codes'!$A:$C,3,0)","v":"Payroll Refunds"},{"$f":"VLOOKUP(A522,Agencies!A:C,3,0)","v":"Mayoralty"},0]
["002",2022,"001","061","0602","001",0,34,34,2021626,2031756,0,0,0,0,0,4105508.42,0,4105508.42,4105508.42,-2073752.42,4105508.42,-2073752.42,4105508.42,4105508.42,-2073752.42,{"$f":"_xlfn.XLOOKUP(F523,'Object Codes'!$A$18:$A$510,'Object Codes'!$H$18:$H$510)","v":"PS - Regular"},{"$f":"_xlfn.XLOOKUP(F523,'Object Codes'!$A$18:$A$510,'Object Codes'!$G$18:$G$510)","v":"C"},{"$f":"_xlfn.XLOOKUP(A523,Agencies!$A$9:$A$146,Agencies!$B$9:$B$146)","v":"General Government"},{"$f":"IF(_xlfn.XLOOKUP(A523,Agencies!A:A,Agencies!D:D)=\"Y\",IF(_xlfn.XLOOKUP(F523,'Object Codes'!A:A,'Object Codes'!I:I)=\"Y\",\"Y\",\"N\"),\"N\")","v":"Y"},{"$f":"VLOOKUP(F523,'Object Codes'!$A:$C,3,0)","v":"Full Year Positions"},{"$f":"VLOOKUP(A523,Agencies!A:C,3,0)","v":"Mayoralty"},11247.968273972603]
["002",2022,"001","061","0602","004",0,0,0,0,0,0,0,0,0,0,2316.4899999999998,0,2316.4899999999998,2316.4899999999998,-2316.4899999999998,2316.4899999999998,-2316.4899999999998,2316.4899999999998,2316.4899999999998,-2316.4899999999998,{"$f":"_xlfn.XLOOKUP(F524,'Object Codes'!$A$18:$A$510,'Object Codes'!$H$18:$H$510)","v":"PS - Regular"},{"$f":"_xlfn.XLOOKUP(F524,'Object Codes'!$A$18:$A$510,'Object Codes'!$G$18:$G$510)","v":"U"},{"$f":"_xlfn.XLOOKUP(A524,Agencies!$A$9:$A$146,Agencies!$B$9:$B$146)","v":"General Government"},{"$f":"IF(_xlfn.XLOOKUP(A524,Agencies!A:A,Agencies!D:D)=\"Y\",IF(_xlfn.XLOOKUP(F524,'Object Codes'!A:A,'Object Codes'!I:I)=\"Y\",\"Y\",\"N\"),\"N\")","v":"Y"},{"$f":"VLOOKUP(F524,'Object Codes'!$A:$C,3,0)","v":"Full-Time Uniformed Personnel"},{"$f":"VLOOKUP(A524,Agencies!A:C,3,0)","v":"Mayoralty"},6.3465479452054785]
["002",2022,"001","061","0602","031",0,0,0,151262,151262,0,0,0,0,0,185729.21,0,185729.21,185729.21,-34467.21,185729.21,-34467.21,185729.21,185729.21,-34467.21,{"$f":"_xlfn.XLOOKUP(F525,'Object Codes'!$A$18:$A$510,'Object Codes'!$H$18:$H$510)","v":"PS - Regular"},{"$f":"_xlfn.XLOOKUP(F525,'Object Codes'!$A$18:$A$510,'Object Codes'!$G$18:$G$510)","v":"C"},{"$f":"_xlfn.XLOOKUP(A525,Agencies!$A$9:$A$146,Agencies!$B$9:$B$146)","v":"General Government"},{"$f":"IF(_xlfn.XLOOKUP(A525,Agencies!A:A,Agencies!D:D)=\"Y\",IF(_xlfn.XLOOKUP(F525,'Object Codes'!A:A,'Object Codes'!I:I)=\"Y\",\"Y\",\"N\"),\"N\")","v":"Y"},{"$f":"VLOOKUP(F525,'Object Codes'!$A:$C,3,0)","v":"Hourly Positions"},{"$f":"VLOOKUP(A525,Agencies!A:C,3,0)","v":"Mayoralty"},508.84715068493148]
["002",2022,"001","061","0602","041",0,0,0,580,580,0,0,0,0,0,4958.46,0,4958.46,4958.46,-4378.46,4958.46,-4378.46,4958.46,4958.46,-4378.46,{"$f":"_xlfn.XLOOKUP(F526,'Object Codes'!$A$18:$A$510,'Object Codes'!$H$18:$H$510)","v":"PS - Additional Gross"},{"$f":"_xlfn.XLOOKUP(F526,'Object Codes'!$A$18:$A$510,'Object Codes'!$G$18:$G$510)","v":"A"},{"$f":"_xlfn.XLOOKUP(A526,Agencies!$A$9:$A$146,Agencies!$B$9:$B$146)","v":"General Government"},{"$f":"IF(_xlfn.XLOOKUP(A526,Agencies!A:A,Agencies!D:D)=\"Y\",IF(_xlfn.XLOOKUP(F526,'Object Codes'!A:A,'Object Codes'!I:I)=\"Y\",\"Y\",\"N\"),\"N\")","v":"Y"},{"$f":"VLOOKUP(F526,'Object Codes'!$A:$C,3,0)","v":"Assignment Differential"},{"$f":"VLOOKUP(A526,Agencies!A:C,3,0)","v":"Mayoralty"},13.584821917808219]
["002",2022,"001","061","0602","042",0,0,0,6058,6058,0,0,0,0,0,67629.94,0,67629.94,67629.94,-61571.94,67629.94,-61571.94,67629.94,67629.94,-61571.94,{"$f":"_xlfn.XLOOKUP(F527,'Object Codes'!$A$18:$A$510,'Object Codes'!$H$18:$H$510)","v":"PS - Additional Gross"},{"$f":"_xlfn.XLOOKUP(F527,'Object Codes'!$A$18:$A$510,'Object Codes'!$G$18:$G$510)","v":"A"},{"$f":"_xlfn.XLOOKUP(A527,Agencies!$A$9:$A$146,Agencies!$B$9:$B$146)","v":"General Government"},{"$f":"IF(_xlfn.XLOOKUP(A527,Agencies!A:A,Agencies!D:D)=\"Y\",IF(_xlfn.XLOOKUP(F527,'Object Codes'!A:A,'Object Codes'!I:I)=\"Y\",\"Y\",\"N\"),\"N\")","v":"Y"},{"$f":"VLOOKUP(F527,'Object Codes'!$A:$C,3,0)","v":"Longevity Differential"},{"$f":"VLOOKUP(A527,Agencies!A:C,3,0)","v":"Mayoralty"},185.28750684931506]
["002",2022,"001","061","0602","043",0,0,0,0,0,0,0,0,0,0,866.88,0,866.88,866.88,-866.88,866.88,-866.88,866.88,866.88,-866.88,{"$f":"_xlfn.XLOOKUP(F528,'Object Codes'!$A$18:$A$510,'Object Codes'!$H$18:$H$510)","v":"PS - Additional Gross"},{"$f":"_xlfn.XLOOKUP(F528,'Object Codes'!$A$18:$A$510,'Object Codes'!$G$18:$G$510)","v":"A"},{"$f":"_xlfn.XLOOKUP(A528,Agencies!$A$9:$A$146,Agencies!$B$9:$B$146)","v":"General Government"},{"$f":"IF(_xlfn.XLOOKUP(A528,Agencies!A:A,Agencies!D:D)=\"Y\",IF(_xlfn.XLOOKUP(F528,'Object Codes'!A:A,'Object Codes'!I:I)=\"Y\",\"Y\",\"N\"),\"N\")","v":"Y"},{"$f":"VLOOKUP(F528,'Object Codes'!$A:$C,3,0)","v":"Shift Differential"},{"$f":"VLOOKUP(A528,Agencies!A:C,3,0)","v":"Mayoralty"},2.3750136986301369]
["002",2022,"001","061","0602","045",0,0,0,0,0,0,0,0,0,0,9429.84,0,9429.84,9429.84,-9429.84,9429.84,-9429.84,9429.84,9429.84,-9429.84,{"$f":"_xlfn.XLOOKUP(F529,'Object Codes'!$A$18:$A$510,'Object Codes'!$H$18:$H$510)","v":"PS - Additional Gross"},{"$f":"_xlfn.XLOOKUP(F529,'Object Codes'!$A$18:$A$510,'Object Codes'!$G$18:$G$510)","v":"A"},{"$f":"_xlfn.XLOOKUP(A529,Agencies!$A$9:$A$146,Agencies!$B$9:$B$146)","v":"General Government"},{"$f":"IF(_xlfn.XLOOKUP(A529,Agencies!A:A,Agencies!D:D)=\"Y\",IF(_xlfn.XLOOKUP(F529,'Object Codes'!A:A,'Object Codes'!I:I)=\"Y\",\"Y\",\"N\"),\"N\")","v":"Y"},{"$f":"VLOOKUP(F529,'Object Codes'!$A:$C,3,0)","v":"Holiday Pay"},{"$f":"VLOOKUP(A529,Agencies!A:C,3,0)","v":"Mayoralty"},25.835178082191781]
["002",2022,"001","061","0602","047",0,0,0,1200,1200,0,0,0,0,0,0,0,0,0,1200,0,1200,0,0,1200,{"$f":"_xlfn.XLOOKUP(F530,'Object Codes'!$A$18:$A$510,'Object Codes'!$H$18:$H$510)","v":"PS - Additional Gross"},{"$f":"_xlfn.XLOOKUP(F530,'Object Codes'!$A$18:$A$510,'Object Codes'!$G$18:$G$510)","v":"C"},{"$f":"_xlfn.XLOOKUP(A530,Agencies!$A$9:$A$146,Agencies!$B$9:$B$146)","v":"General Government"},{"$f":"IF(_xlfn.XLOOKUP(A530,Agencies!A:A,Agencies!D:D)=\"Y\",IF(_xlfn.XLOOKUP(F530,'Object Codes'!A:A,'Object Codes'!I:I)=\"Y\",\"Y\",\"N\"),\"N\")","v":"Y"},{"$f":"VLOOKUP(F530,'Object Codes'!$A:$C,3,0)","v":"Overtime"},{"$f":"VLOOKUP(A530,Agencies!A:C,3,0)","v":"Mayoralty"},0]
["002",2022,"001","061","0602","049",0,0,0,0,0,0,0,0,0,0,18148.36,0,18148.36,18148.36,-18148.36,18148.36,-18148.36,18148.36,18148.36,-18148.36,{"$f":"_xlfn.XLOOKUP(F531,'Object Codes'!$A$18:$A$510,'Object Codes'!$H$18:$H$510)","v":"PS - Additional Gross"},{"$f":"_xlfn.XLOOKUP(F531,'Object Codes'!$A$18:$A$510,'Object Codes'!$G$18:$G$510)","v":"A"},{"$f":"_xlfn.XLOOKUP(A531,Agencies!$A$9:$A$146,Agencies!$B$9:$B$146)","v":"General Government"},{"$f":"IF(_xlfn.XLOOKUP(A531,Agencies!A:A,Agencies!D:D)=\"Y\",IF(_xlfn.XLOOKUP(F531,'Object Codes'!A:A,'Object Codes'!I:I)=\"Y\",\"Y\",\"N\"),\"N\")","v":"Y"},{"$f":"VLOOKUP(F531,'Object Codes'!$A:$C,3,0)","v":"Backpay"},{"$f":"VLOOKUP(A531,Agencies!A:C,3,0)","v":"Mayoralty"},49.721534246575345]
["002",2022,"001","061","0602","051",0,0,0,6499,6499,0,0,0,0,0,0,0,0,0,6499,0,6499,0,0,6499,{"$f":"_xlfn.XLOOKUP(F532,'Object Codes'!$A$18:$A$510,'Object Codes'!$H$18:$H$510)","v":"PS - Additional Gross"},{"$f":"_xlfn.XLOOKUP(F532,'Object Codes'!$A$18:$A$510,'Object Codes'!$G$18:$G$510)","v":"A"},{"$f":"_xlfn.XLOOKUP(A532,Agencies!$A$9:$A$146,Agencies!$B$9:$B$146)","v":"General Government"},{"$f":"IF(_xlfn.XLOOKUP(A532,Agencies!A:A,Agencies!D:D)=\"Y\",IF(_xlfn.XLOOKUP(F532,'Object Codes'!A:A,'Object Codes'!I:I)=\"Y\",\"Y\",\"N\"),\"N\")","v":"Y"},{"$f":"VLOOKUP(F532,'Object Codes'!$A:$C,3,0)","v":"Salary Adjustments"},{"$f":"VLOOKUP(A532,Agencies!A:C,3,0)","v":"Mayoralty"},0]
["002",2022,"001","061","0602","057",0,0,0,0,2000,0,0,0,0,0,2000,0,2000,2000,0,2000,0,2000,2000,0,{"$f":"_xlfn.XLOOKUP(F533,'Object Codes'!$A$18:$A$510,'Object Codes'!$H$18:$H$510)","v":"PS - Additional Gross"},{"$f":"_xlfn.XLOOKUP(F533,'Object Codes'!$A$18:$A$510,'Object Codes'!$G$18:$G$510)","v":"A"},{"$f":"_xlfn.XLOOKUP(A533,Agencies!$A$9:$A$146,Agencies!$B$9:$B$146)","v":"General Government"},{"$f":"IF(_xlfn.XLOOKUP(A533,Agencies!A:A,Agencies!D:D)=\"Y\",IF(_xlfn.XLOOKUP(F533,'Object Codes'!A:A,'Object Codes'!I:I)=\"Y\",\"Y\",\"N\"),\"N\")","v":"Y"},{"$f":"VLOOKUP(F533,'Object Codes'!$A:$C,3,0)","v":"Bonus Payments"},{"$f":"VLOOKUP(A533,Agencies!A:C,3,0)","v":"Mayoralty"},5.4794520547945202]
["002",2022,"001","061","0602","061",0,0,0,0,0,0,0,0,0,0,1350.25,0,1350.25,1350.25,-1350.25,1350.25,-1350.25,1350.25,1350.25,-1350.25,{"$f":"_xlfn.XLOOKUP(F534,'Object Codes'!$A$18:$A$510,'Object Codes'!$H$18:$H$510)","v":"PS - Additional Gross"},{"$f":"_xlfn.XLOOKUP(F534,'Object Codes'!$A$18:$A$510,'Object Codes'!$G$18:$G$510)","v":"A"},{"$f":"_xlfn.XLOOKUP(A534,Agencies!$A$9:$A$146,Agencies!$B$9:$B$146)","v":"General Government"},{"$f":"IF(_xlfn.XLOOKUP(A534,Agencies!A:A,Agencies!D:D)=\"Y\",IF(_xlfn.XLOOKUP(F534,'Object Codes'!A:A,'Object Codes'!I:I)=\"Y\",\"Y\",\"N\"),\"N\")","v":"Y"},{"$f":"VLOOKUP(F534,'Object Codes'!$A:$C,3,0)","v":"Supper Money"},{"$f":"VLOOKUP(A534,Agencies!A:C,3,0)","v":"Mayoralty"},3.6993150684931506]
["002",2022,"001","061","0602","X42",0,0,0,0,0,0,0,0,0,0,1446.3,0,1446.3,1446.3,-1446.3,1446.3,-1446.3,1446.3,1446.3,-1446.3,{"$f":"_xlfn.XLOOKUP(F535,'Object Codes'!$A$18:$A$510,'Object Codes'!$H$18:$H$510)","v":"PS - Additional Gross"},{"$f":"_xlfn.XLOOKUP(F535,'Object Codes'!$A$18:$A$510,'Object Codes'!$G$18:$G$510)","v":"A"},{"$f":"_xlfn.XLOOKUP(A535,Agencies!$A$9:$A$146,Agencies!$B$9:$B$146)","v":"General Government"},{"$f":"IF(_xlfn.XLOOKUP(A535,Agencies!A:A,Agencies!D:D)=\"Y\",IF(_xlfn.XLOOKUP(F535,'Object Codes'!A:A,'Object Codes'!I:I)=\"Y\",\"Y\",\"N\"),\"N\")","v":"Y"},{"$f":"VLOOKUP(F535,'Object Codes'!$A:$C,3,0)","v":"PY LONGEVITY DIFFERENTIAL"},{"$f":"VLOOKUP(A535,Agencies!A:C,3,0)","v":"Mayoralty"},3.9624657534246572]
["002",2022,"001","061","0603","001",0,1,1,58660,58660,0,0,0,0,0,0,0,0,0,58660,0,58660,0,0,58660,{"$f":"_xlfn.XLOOKUP(F536,'Object Codes'!$A$18:$A$510,'Object Codes'!$H$18:$H$510)","v":"PS - Regular"},{"$f":"_xlfn.XLOOKUP(F536,'Object Codes'!$A$18:$A$510,'Object Codes'!$G$18:$G$510)","v":"C"},{"$f":"_xlfn.XLOOKUP(A536,Agencies!$A$9:$A$146,Agencies!$B$9:$B$146)","v":"General Government"},{"$f":"IF(_xlfn.XLOOKUP(A536,Agencies!A:A,Agencies!D:D)=\"Y\",IF(_xlfn.XLOOKUP(F536,'Object Codes'!A:A,'Object Codes'!I:I)=\"Y\",\"Y\",\"N\"),\"N\")","v":"Y"},{"$f":"VLOOKUP(F536,'Object Codes'!$A:$C,3,0)","v":"Full Year Positions"},{"$f":"VLOOKUP(A536,Agencies!A:C,3,0)","v":"Mayoralty"},0]
["002",2022,"001","061","0603","031",0,0,0,7342,7342,0,0,0,0,0,0,0,0,0,7342,0,7342,0,0,7342,{"$f":"_xlfn.XLOOKUP(F537,'Object Codes'!$A$18:$A$510,'Object Codes'!$H$18:$H$510)","v":"PS - Regular"},{"$f":"_xlfn.XLOOKUP(F537,'Object Codes'!$A$18:$A$510,'Object Codes'!$G$18:$G$510)","v":"C"},{"$f":"_xlfn.XLOOKUP(A537,Agencies!$A$9:$A$146,Agencies!$B$9:$B$146)","v":"General Government"},{"$f":"IF(_xlfn.XLOOKUP(A537,Agencies!A:A,Agencies!D:D)=\"Y\",IF(_xlfn.XLOOKUP(F537,'Object Codes'!A:A,'Object Codes'!I:I)=\"Y\",\"Y\",\"N\"),\"N\")","v":"Y"},{"$f":"VLOOKUP(F537,'Object Codes'!$A:$C,3,0)","v":"Hourly Positions"},{"$f":"VLOOKUP(A537,Agencies!A:C,3,0)","v":"Mayoralty"},0]
["002",2022,"001","061","0603","089",0,0,0,9747,9747,0,0,0,0,0,0,0,0,0,9747,0,9747,0,0,9747,{"$f":"_xlfn.XLOOKUP(F538,'Object Codes'!$A$18:$A$510,'Object Codes'!$H$18:$H$510)","v":"PS - Other"},{"$f":"_xlfn.XLOOKUP(F538,'Object Codes'!$A$18:$A$510,'Object Codes'!$G$18:$G$510)","v":"A"},{"$f":"_xlfn.XLOOKUP(A538,Agencies!$A$9:$A$146,Agencies!$B$9:$B$146)","v":"General Government"},{"$f":"IF(_xlfn.XLOOKUP(A538,Agencies!A:A,Agencies!D:D)=\"Y\",IF(_xlfn.XLOOKUP(F538,'Object Codes'!A:A,'Object Codes'!I:I)=\"Y\",\"Y\",\"N\"),\"N\")","v":"Y"},{"$f":"VLOOKUP(F538,'Object Codes'!$A:$C,3,0)","v":"Fringe Benefits - Other"},{"$f":"VLOOKUP(A538,Agencies!A:C,3,0)","v":"Mayoralty"},0]
["002",2022,"001","061","0604","001",0,6,6,693917,693917,0,0,0,0,0,0,0,0,0,693917,0,693917,0,0,693917,{"$f":"_xlfn.XLOOKUP(F539,'Object Codes'!$A$18:$A$510,'Object Codes'!$H$18:$H$510)","v":"PS - Regular"},{"$f":"_xlfn.XLOOKUP(F539,'Object Codes'!$A$18:$A$510,'Object Codes'!$G$18:$G$510)","v":"C"},{"$f":"_xlfn.XLOOKUP(A539,Agencies!$A$9:$A$146,Agencies!$B$9:$B$146)","v":"General Government"},{"$f":"IF(_xlfn.XLOOKUP(A539,Agencies!A:A,Agencies!D:D)=\"Y\",IF(_xlfn.XLOOKUP(F539,'Object Codes'!A:A,'Object Codes'!I:I)=\"Y\",\"Y\",\"N\"),\"N\")","v":"Y"},{"$f":"VLOOKUP(F539,'Object Codes'!$A:$C,3,0)","v":"Full Year Positions"},{"$f":"VLOOKUP(A539,Agencies!A:C,3,0)","v":"Mayoralty"},0]
["002",2022,"001","061","0607","001",0,10,10,604610,618481,0,0,0,0,0,360143.14,0,360143.14,360143.14,258337.86,360143.14,258337.86,360143.14,360143.14,258337.86,{"$f":"_xlfn.XLOOKUP(F540,'Object Codes'!$A$18:$A$510,'Object Codes'!$H$18:$H$510)","v":"PS - Regular"},{"$f":"_xlfn.XLOOKUP(F540,'Object Codes'!$A$18:$A$510,'Object Codes'!$G$18:$G$510)","v":"C"},{"$f":"_xlfn.XLOOKUP(A540,Agencies!$A$9:$A$146,Agencies!$B$9:$B$146)","v":"General Government"},{"$f":"IF(_xlfn.XLOOKUP(A540,Agencies!A:A,Agencies!D:D)=\"Y\",IF(_xlfn.XLOOKUP(F540,'Object Codes'!A:A,'Object Codes'!I:I)=\"Y\",\"Y\",\"N\"),\"N\")","v":"Y"},{"$f":"VLOOKUP(F540,'Object Codes'!$A:$C,3,0)","v":"Full Year Positions"},{"$f":"VLOOKUP(A540,Agencies!A:C,3,0)","v":"Mayoralty"},986.69353424657538]
["002",2022,"001","061","0607","031",0,0,0,31769,31769,0,0,0,0,0,0,0,0,0,31769,0,31769,0,0,31769,{"$f":"_xlfn.XLOOKUP(F541,'Object Codes'!$A$18:$A$510,'Object Codes'!$H$18:$H$510)","v":"PS - Regular"},{"$f":"_xlfn.XLOOKUP(F541,'Object Codes'!$A$18:$A$510,'Object Codes'!$G$18:$G$510)","v":"C"},{"$f":"_xlfn.XLOOKUP(A541,Agencies!$A$9:$A$146,Agencies!$B$9:$B$146)","v":"General Government"},{"$f":"IF(_xlfn.XLOOKUP(A541,Agencies!A:A,Agencies!D:D)=\"Y\",IF(_xlfn.XLOOKUP(F541,'Object Codes'!A:A,'Object Codes'!I:I)=\"Y\",\"Y\",\"N\"),\"N\")","v":"Y"},{"$f":"VLOOKUP(F541,'Object Codes'!$A:$C,3,0)","v":"Hourly Positions"},{"$f":"VLOOKUP(A541,Agencies!A:C,3,0)","v":"Mayoralty"},0]
["002",2022,"001","061","0607","042",0,0,0,2145,2145,0,0,0,0,0,14456.95,0,14456.95,14456.95,-12311.95,14456.95,-12311.95,14456.95,14456.95,-12311.95,{"$f":"_xlfn.XLOOKUP(F542,'Object Codes'!$A$18:$A$510,'Object Codes'!$H$18:$H$510)","v":"PS - Additional Gross"},{"$f":"_xlfn.XLOOKUP(F542,'Object Codes'!$A$18:$A$510,'Object Codes'!$G$18:$G$510)","v":"A"},{"$f":"_xlfn.XLOOKUP(A542,Agencies!$A$9:$A$146,Agencies!$B$9:$B$146)","v":"General Government"},{"$f":"IF(_xlfn.XLOOKUP(A542,Agencies!A:A,Agencies!D:D)=\"Y\",IF(_xlfn.XLOOKUP(F542,'Object Codes'!A:A,'Object Codes'!I:I)=\"Y\",\"Y\",\"N\"),\"N\")","v":"Y"},{"$f":"VLOOKUP(F542,'Object Codes'!$A:$C,3,0)","v":"Longevity Differential"},{"$f":"VLOOKUP(A542,Agencies!A:C,3,0)","v":"Mayoralty"},39.608082191780824]
["002",2022,"001","061","0607","047",0,0,0,2065,2065,0,0,0,0,0,0,0,0,0,2065,0,2065,0,0,2065,{"$f":"_xlfn.XLOOKUP(F543,'Object Codes'!$A$18:$A$510,'Object Codes'!$H$18:$H$510)","v":"PS - Additional Gross"},{"$f":"_xlfn.XLOOKUP(F543,'Object Codes'!$A$18:$A$510,'Object Codes'!$G$18:$G$510)","v":"C"},{"$f":"_xlfn.XLOOKUP(A543,Agencies!$A$9:$A$146,Agencies!$B$9:$B$146)","v":"General Government"},{"$f":"IF(_xlfn.XLOOKUP(A543,Agencies!A:A,Agencies!D:D)=\"Y\",IF(_xlfn.XLOOKUP(F543,'Object Codes'!A:A,'Object Codes'!I:I)=\"Y\",\"Y\",\"N\"),\"N\")","v":"Y"},{"$f":"VLOOKUP(F543,'Object Codes'!$A:$C,3,0)","v":"Overtime"},{"$f":"VLOOKUP(A543,Agencies!A:C,3,0)","v":"Mayoralty"},0]
["002",2022,"001","061","0607","049",0,0,0,0,0,0,0,0,0,0,32000.3,0,32000.3,32000.3,-32000.3,32000.3,-32000.3,32000.3,32000.3,-32000.3,{"$f":"_xlfn.XLOOKUP(F544,'Object Codes'!$A$18:$A$510,'Object Codes'!$H$18:$H$510)","v":"PS - Additional Gross"},{"$f":"_xlfn.XLOOKUP(F544,'Object Codes'!$A$18:$A$510,'Object Codes'!$G$18:$G$510)","v":"A"},{"$f":"_xlfn.XLOOKUP(A544,Agencies!$A$9:$A$146,Agencies!$B$9:$B$146)","v":"General Government"},{"$f":"IF(_xlfn.XLOOKUP(A544,Agencies!A:A,Agencies!D:D)=\"Y\",IF(_xlfn.XLOOKUP(F544,'Object Codes'!A:A,'Object Codes'!I:I)=\"Y\",\"Y\",\"N\"),\"N\")","v":"Y"},{"$f":"VLOOKUP(F544,'Object Codes'!$A:$C,3,0)","v":"Backpay"},{"$f":"VLOOKUP(A544,Agencies!A:C,3,0)","v":"Mayoralty"},87.672054794520548]
["002",2022,"001","061","0607","061",0,0,0,0,0,0,0,0,0,0,16.5,0,16.5,16.5,-16.5,16.5,-16.5,16.5,16.5,-16.5,{"$f":"_xlfn.XLOOKUP(F545,'Object Codes'!$A$18:$A$510,'Object Codes'!$H$18:$H$510)","v":"PS - Additional Gross"},{"$f":"_xlfn.XLOOKUP(F545,'Object Codes'!$A$18:$A$510,'Object Codes'!$G$18:$G$510)","v":"A"},{"$f":"_xlfn.XLOOKUP(A545,Agencies!$A$9:$A$146,Agencies!$B$9:$B$146)","v":"General Government"},{"$f":"IF(_xlfn.XLOOKUP(A545,Agencies!A:A,Agencies!D:D)=\"Y\",IF(_xlfn.XLOOKUP(F545,'Object Codes'!A:A,'Object Codes'!I:I)=\"Y\",\"Y\",\"N\"),\"N\")","v":"Y"},{"$f":"VLOOKUP(F545,'Object Codes'!$A:$C,3,0)","v":"Supper Money"},{"$f":"VLOOKUP(A545,Agencies!A:C,3,0)","v":"Mayoralty"},4.5205479452054796E-2]
["002",2022,"001","061","0607","X42",0,0,0,0,0,0,0,0,0,0,602.99,0,602.99,602.99,-602.99,602.99,-602.99,602.99,602.99,-602.99,{"$f":"_xlfn.XLOOKUP(F546,'Object Codes'!$A$18:$A$510,'Object Codes'!$H$18:$H$510)","v":"PS - Additional Gross"},{"$f":"_xlfn.XLOOKUP(F546,'Object Codes'!$A$18:$A$510,'Object Codes'!$G$18:$G$510)","v":"A"},{"$f":"_xlfn.XLOOKUP(A546,Agencies!$A$9:$A$146,Agencies!$B$9:$B$146)","v":"General Government"},{"$f":"IF(_xlfn.XLOOKUP(A546,Agencies!A:A,Agencies!D:D)=\"Y\",IF(_xlfn.XLOOKUP(F546,'Object Codes'!A:A,'Object Codes'!I:I)=\"Y\",\"Y\",\"N\"),\"N\")","v":"Y"},{"$f":"VLOOKUP(F546,'Object Codes'!$A:$C,3,0)","v":"PY LONGEVITY DIFFERENTIAL"},{"$f":"VLOOKUP(A546,Agencies!A:C,3,0)","v":"Mayoralty"},1.6520273972602739]
["002",2022,"001","061","0608","001",0,6,6,410537,417415,0,0,0,0,0,428516.42,0,428516.42,428516.42,-11101.42,428516.42,-11101.42,428516.42,428516.42,-11101.42,{"$f":"_xlfn.XLOOKUP(F547,'Object Codes'!$A$18:$A$510,'Object Codes'!$H$18:$H$510)","v":"PS - Regular"},{"$f":"_xlfn.XLOOKUP(F547,'Object Codes'!$A$18:$A$510,'Object Codes'!$G$18:$G$510)","v":"C"},{"$f":"_xlfn.XLOOKUP(A547,Agencies!$A$9:$A$146,Agencies!$B$9:$B$146)","v":"General Government"},{"$f":"IF(_xlfn.XLOOKUP(A547,Agencies!A:A,Agencies!D:D)=\"Y\",IF(_xlfn.XLOOKUP(F547,'Object Codes'!A:A,'Object Codes'!I:I)=\"Y\",\"Y\",\"N\"),\"N\")","v":"Y"},{"$f":"VLOOKUP(F547,'Object Codes'!$A:$C,3,0)","v":"Full Year Positions"},{"$f":"VLOOKUP(A547,Agencies!A:C,3,0)","v":"Mayoralty"},1174.0175890410958]
["002",2022,"001","061","0608","042",0,0,0,4274,4274,0,0,0,0,0,12445.27,0,12445.27,12445.27,-8171.27,12445.27,-8171.27,12445.27,12445.27,-8171.27,{"$f":"_xlfn.XLOOKUP(F548,'Object Codes'!$A$18:$A$510,'Object Codes'!$H$18:$H$510)","v":"PS - Additional Gross"},{"$f":"_xlfn.XLOOKUP(F548,'Object Codes'!$A$18:$A$510,'Object Codes'!$G$18:$G$510)","v":"A"},{"$f":"_xlfn.XLOOKUP(A548,Agencies!$A$9:$A$146,Agencies!$B$9:$B$146)","v":"General Government"},{"$f":"IF(_xlfn.XLOOKUP(A548,Agencies!A:A,Agencies!D:D)=\"Y\",IF(_xlfn.XLOOKUP(F548,'Object Codes'!A:A,'Object Codes'!I:I)=\"Y\",\"Y\",\"N\"),\"N\")","v":"Y"},{"$f":"VLOOKUP(F548,'Object Codes'!$A:$C,3,0)","v":"Longevity Differential"},{"$f":"VLOOKUP(A548,Agencies!A:C,3,0)","v":"Mayoralty"},34.096630136986306]
["002",2022,"001","061","0608","047",0,0,0,2164,2164,0,0,0,0,0,0,0,0,0,2164,0,2164,0,0,2164,{"$f":"_xlfn.XLOOKUP(F549,'Object Codes'!$A$18:$A$510,'Object Codes'!$H$18:$H$510)","v":"PS - Additional Gross"},{"$f":"_xlfn.XLOOKUP(F549,'Object Codes'!$A$18:$A$510,'Object Codes'!$G$18:$G$510)","v":"C"},{"$f":"_xlfn.XLOOKUP(A549,Agencies!$A$9:$A$146,Agencies!$B$9:$B$146)","v":"General Government"},{"$f":"IF(_xlfn.XLOOKUP(A549,Agencies!A:A,Agencies!D:D)=\"Y\",IF(_xlfn.XLOOKUP(F549,'Object Codes'!A:A,'Object Codes'!I:I)=\"Y\",\"Y\",\"N\"),\"N\")","v":"Y"},{"$f":"VLOOKUP(F549,'Object Codes'!$A:$C,3,0)","v":"Overtime"},{"$f":"VLOOKUP(A549,Agencies!A:C,3,0)","v":"Mayoralty"},0]
["002",2022,"001","061","0608","049",0,0,0,0,0,0,0,0,0,0,14938.29,0,14938.29,14938.29,-14938.29,14938.29,-14938.29,14938.29,14938.29,-14938.29,{"$f":"_xlfn.XLOOKUP(F550,'Object Codes'!$A$18:$A$510,'Object Codes'!$H$18:$H$510)","v":"PS - Additional Gross"},{"$f":"_xlfn.XLOOKUP(F550,'Object Codes'!$A$18:$A$510,'Object Codes'!$G$18:$G$510)","v":"A"},{"$f":"_xlfn.XLOOKUP(A550,Agencies!$A$9:$A$146,Agencies!$B$9:$B$146)","v":"General Government"},{"$f":"IF(_xlfn.XLOOKUP(A550,Agencies!A:A,Agencies!D:D)=\"Y\",IF(_xlfn.XLOOKUP(F550,'Object Codes'!A:A,'Object Codes'!I:I)=\"Y\",\"Y\",\"N\"),\"N\")","v":"Y"},{"$f":"VLOOKUP(F550,'Object Codes'!$A:$C,3,0)","v":"Backpay"},{"$f":"VLOOKUP(A550,Agencies!A:C,3,0)","v":"Mayoralty"},40.926821917808219]
["002",2022,"001","061","0608","061",0,0,0,0,0,0,0,0,0,0,99,0,99,99,-99,99,-99,99,99,-99,{"$f":"_xlfn.XLOOKUP(F551,'Object Codes'!$A$18:$A$510,'Object Codes'!$H$18:$H$510)","v":"PS - Additional Gross"},{"$f":"_xlfn.XLOOKUP(F551,'Object Codes'!$A$18:$A$510,'Object Codes'!$G$18:$G$510)","v":"A"},{"$f":"_xlfn.XLOOKUP(A551,Agencies!$A$9:$A$146,Agencies!$B$9:$B$146)","v":"General Government"},{"$f":"IF(_xlfn.XLOOKUP(A551,Agencies!A:A,Agencies!D:D)=\"Y\",IF(_xlfn.XLOOKUP(F551,'Object Codes'!A:A,'Object Codes'!I:I)=\"Y\",\"Y\",\"N\"),\"N\")","v":"Y"},{"$f":"VLOOKUP(F551,'Object Codes'!$A:$C,3,0)","v":"Supper Money"},{"$f":"VLOOKUP(A551,Agencies!A:C,3,0)","v":"Mayoralty"},0.27123287671232876]
["002",2022,"001","061","0608","089",0,0,0,50205,50205,0,0,0,0,0,0,0,0,0,50205,0,50205,0,0,50205,{"$f":"_xlfn.XLOOKUP(F552,'Object Codes'!$A$18:$A$510,'Object Codes'!$H$18:$H$510)","v":"PS - Other"},{"$f":"_xlfn.XLOOKUP(F552,'Object Codes'!$A$18:$A$510,'Object Codes'!$G$18:$G$510)","v":"A"},{"$f":"_xlfn.XLOOKUP(A552,Agencies!$A$9:$A$146,Agencies!$B$9:$B$146)","v":"General Government"},{"$f":"IF(_xlfn.XLOOKUP(A552,Agencies!A:A,Agencies!D:D)=\"Y\",IF(_xlfn.XLOOKUP(F552,'Object Codes'!A:A,'Object Codes'!I:I)=\"Y\",\"Y\",\"N\"),\"N\")","v":"Y"},{"$f":"VLOOKUP(F552,'Object Codes'!$A:$C,3,0)","v":"Fringe Benefits - Other"},{"$f":"VLOOKUP(A552,Agencies!A:C,3,0)","v":"Mayoralty"},0]
["002",2022,"001","061","0608","X42",0,0,0,0,0,0,0,0,0,0,109.44,0,109.44,109.44,-109.44,109.44,-109.44,109.44,109.44,-109.44,{"$f":"_xlfn.XLOOKUP(F553,'Object Codes'!$A$18:$A$510,'Object Codes'!$H$18:$H$510)","v":"PS - Additional Gross"},{"$f":"_xlfn.XLOOKUP(F553,'Object Codes'!$A$18:$A$510,'Object Codes'!$G$18:$G$510)","v":"A"},{"$f":"_xlfn.XLOOKUP(A553,Agencies!$A$9:$A$146,Agencies!$B$9:$B$146)","v":"General Government"},{"$f":"IF(_xlfn.XLOOKUP(A553,Agencies!A:A,Agencies!D:D)=\"Y\",IF(_xlfn.XLOOKUP(F553,'Object Codes'!A:A,'Object Codes'!I:I)=\"Y\",\"Y\",\"N\"),\"N\")","v":"Y"},{"$f":"VLOOKUP(F553,'Object Codes'!$A:$C,3,0)","v":"PY LONGEVITY DIFFERENTIAL"},{"$f":"VLOOKUP(A553,Agencies!A:C,3,0)","v":"Mayoralty"},0.29983561643835616]
["002",2022,"001","061","0610","001",0,10,10,1225362,1232240,0,0,0,0,0,1352464.46,0,1352464.46,1352464.46,-120224.46,1352464.46,-120224.46,1352464.46,1352464.46,-120224.46,{"$f":"_xlfn.XLOOKUP(F554,'Object Codes'!$A$18:$A$510,'Object Codes'!$H$18:$H$510)","v":"PS - Regular"},{"$f":"_xlfn.XLOOKUP(F554,'Object Codes'!$A$18:$A$510,'Object Codes'!$G$18:$G$510)","v":"C"},{"$f":"_xlfn.XLOOKUP(A554,Agencies!$A$9:$A$146,Agencies!$B$9:$B$146)","v":"General Government"},{"$f":"IF(_xlfn.XLOOKUP(A554,Agencies!A:A,Agencies!D:D)=\"Y\",IF(_xlfn.XLOOKUP(F554,'Object Codes'!A:A,'Object Codes'!I:I)=\"Y\",\"Y\",\"N\"),\"N\")","v":"Y"},{"$f":"VLOOKUP(F554,'Object Codes'!$A:$C,3,0)","v":"Full Year Positions"},{"$f":"VLOOKUP(A554,Agencies!A:C,3,0)","v":"Mayoralty"},3705.3820821917807]
["002",2022,"001","061","0610","031",0,0,0,34760,34760,0,0,0,0,0,0,0,0,0,34760,0,34760,0,0,34760,{"$f":"_xlfn.XLOOKUP(F555,'Object Codes'!$A$18:$A$510,'Object Codes'!$H$18:$H$510)","v":"PS - Regular"},{"$f":"_xlfn.XLOOKUP(F555,'Object Codes'!$A$18:$A$510,'Object Codes'!$G$18:$G$510)","v":"C"},{"$f":"_xlfn.XLOOKUP(A555,Agencies!$A$9:$A$146,Agencies!$B$9:$B$146)","v":"General Government"},{"$f":"IF(_xlfn.XLOOKUP(A555,Agencies!A:A,Agencies!D:D)=\"Y\",IF(_xlfn.XLOOKUP(F555,'Object Codes'!A:A,'Object Codes'!I:I)=\"Y\",\"Y\",\"N\"),\"N\")","v":"Y"},{"$f":"VLOOKUP(F555,'Object Codes'!$A:$C,3,0)","v":"Hourly Positions"},{"$f":"VLOOKUP(A555,Agencies!A:C,3,0)","v":"Mayoralty"},0]
["002",2022,"001","061","0610","041",0,0,0,0,0,0,0,0,0,0,2583.94,0,2583.94,2583.94,-2583.94,2583.94,-2583.94,2583.94,2583.94,-2583.94,{"$f":"_xlfn.XLOOKUP(F556,'Object Codes'!$A$18:$A$510,'Object Codes'!$H$18:$H$510)","v":"PS - Additional Gross"},{"$f":"_xlfn.XLOOKUP(F556,'Object Codes'!$A$18:$A$510,'Object Codes'!$G$18:$G$510)","v":"A"},{"$f":"_xlfn.XLOOKUP(A556,Agencies!$A$9:$A$146,Agencies!$B$9:$B$146)","v":"General Government"},{"$f":"IF(_xlfn.XLOOKUP(A556,Agencies!A:A,Agencies!D:D)=\"Y\",IF(_xlfn.XLOOKUP(F556,'Object Codes'!A:A,'Object Codes'!I:I)=\"Y\",\"Y\",\"N\"),\"N\")","v":"Y"},{"$f":"VLOOKUP(F556,'Object Codes'!$A:$C,3,0)","v":"Assignment Differential"},{"$f":"VLOOKUP(A556,Agencies!A:C,3,0)","v":"Mayoralty"},7.0792876712328772]
["002",2022,"001","061","0610","042",0,0,0,1584,1584,0,0,0,0,0,16285.52,0,16285.52,16285.52,-14701.52,16285.52,-14701.52,16285.52,16285.52,-14701.52,{"$f":"_xlfn.XLOOKUP(F557,'Object Codes'!$A$18:$A$510,'Object Codes'!$H$18:$H$510)","v":"PS - Additional Gross"},{"$f":"_xlfn.XLOOKUP(F557,'Object Codes'!$A$18:$A$510,'Object Codes'!$G$18:$G$510)","v":"A"},{"$f":"_xlfn.XLOOKUP(A557,Agencies!$A$9:$A$146,Agencies!$B$9:$B$146)","v":"General Government"},{"$f":"IF(_xlfn.XLOOKUP(A557,Agencies!A:A,Agencies!D:D)=\"Y\",IF(_xlfn.XLOOKUP(F557,'Object Codes'!A:A,'Object Codes'!I:I)=\"Y\",\"Y\",\"N\"),\"N\")","v":"Y"},{"$f":"VLOOKUP(F557,'Object Codes'!$A:$C,3,0)","v":"Longevity Differential"},{"$f":"VLOOKUP(A557,Agencies!A:C,3,0)","v":"Mayoralty"},44.617863013698631]
["002",2022,"001","061","0610","047",0,0,0,16239,16239,0,0,0,0,0,0,0,0,0,16239,0,16239,0,0,16239,{"$f":"_xlfn.XLOOKUP(F558,'Object Codes'!$A$18:$A$510,'Object Codes'!$H$18:$H$510)","v":"PS - Additional Gross"},{"$f":"_xlfn.XLOOKUP(F558,'Object Codes'!$A$18:$A$510,'Object Codes'!$G$18:$G$510)","v":"C"},{"$f":"_xlfn.XLOOKUP(A558,Agencies!$A$9:$A$146,Agencies!$B$9:$B$146)","v":"General Government"},{"$f":"IF(_xlfn.XLOOKUP(A558,Agencies!A:A,Agencies!D:D)=\"Y\",IF(_xlfn.XLOOKUP(F558,'Object Codes'!A:A,'Object Codes'!I:I)=\"Y\",\"Y\",\"N\"),\"N\")","v":"Y"},{"$f":"VLOOKUP(F558,'Object Codes'!$A:$C,3,0)","v":"Overtime"},{"$f":"VLOOKUP(A558,Agencies!A:C,3,0)","v":"Mayoralty"},0]
["002",2022,"001","061","0610","049",0,0,0,0,0,0,0,0,0,0,14938.29,0,14938.29,14938.29,-14938.29,14938.29,-14938.29,14938.29,14938.29,-14938.29,{"$f":"_xlfn.XLOOKUP(F559,'Object Codes'!$A$18:$A$510,'Object Codes'!$H$18:$H$510)","v":"PS - Additional Gross"},{"$f":"_xlfn.XLOOKUP(F559,'Object Codes'!$A$18:$A$510,'Object Codes'!$G$18:$G$510)","v":"A"},{"$f":"_xlfn.XLOOKUP(A559,Agencies!$A$9:$A$146,Agencies!$B$9:$B$146)","v":"General Government"},{"$f":"IF(_xlfn.XLOOKUP(A559,Agencies!A:A,Agencies!D:D)=\"Y\",IF(_xlfn.XLOOKUP(F559,'Object Codes'!A:A,'Object Codes'!I:I)=\"Y\",\"Y\",\"N\"),\"N\")","v":"Y"},{"$f":"VLOOKUP(F559,'Object Codes'!$A:$C,3,0)","v":"Backpay"},{"$f":"VLOOKUP(A559,Agencies!A:C,3,0)","v":"Mayoralty"},40.926821917808219]
["002",2022,"001","061","0610","061",0,0,0,0,0,0,0,0,0,0,123.75,0,123.75,123.75,-123.75,123.75,-123.75,123.75,123.75,-123.75,{"$f":"_xlfn.XLOOKUP(F560,'Object Codes'!$A$18:$A$510,'Object Codes'!$H$18:$H$510)","v":"PS - Additional Gross"},{"$f":"_xlfn.XLOOKUP(F560,'Object Codes'!$A$18:$A$510,'Object Codes'!$G$18:$G$510)","v":"A"},{"$f":"_xlfn.XLOOKUP(A560,Agencies!$A$9:$A$146,Agencies!$B$9:$B$146)","v":"General Government"},{"$f":"IF(_xlfn.XLOOKUP(A560,Agencies!A:A,Agencies!D:D)=\"Y\",IF(_xlfn.XLOOKUP(F560,'Object Codes'!A:A,'Object Codes'!I:I)=\"Y\",\"Y\",\"N\"),\"N\")","v":"Y"},{"$f":"VLOOKUP(F560,'Object Codes'!$A:$C,3,0)","v":"Supper Money"},{"$f":"VLOOKUP(A560,Agencies!A:C,3,0)","v":"Mayoralty"},0.33904109589041098]
["002",2022,"001","061","0610","089",0,0,0,84643,84643,0,0,0,0,0,0,0,0,0,84643,0,84643,0,0,84643,{"$f":"_xlfn.XLOOKUP(F561,'Object Codes'!$A$18:$A$510,'Object Codes'!$H$18:$H$510)","v":"PS - Other"},{"$f":"_xlfn.XLOOKUP(F561,'Object Codes'!$A$18:$A$510,'Object Codes'!$G$18:$G$510)","v":"A"},{"$f":"_xlfn.XLOOKUP(A561,Agencies!$A$9:$A$146,Agencies!$B$9:$B$146)","v":"General Government"},{"$f":"IF(_xlfn.XLOOKUP(A561,Agencies!A:A,Agencies!D:D)=\"Y\",IF(_xlfn.XLOOKUP(F561,'Object Codes'!A:A,'Object Codes'!I:I)=\"Y\",\"Y\",\"N\"),\"N\")","v":"Y"},{"$f":"VLOOKUP(F561,'Object Codes'!$A:$C,3,0)","v":"Fringe Benefits - Other"},{"$f":"VLOOKUP(A561,Agencies!A:C,3,0)","v":"Mayoralty"},0]
["002",2022,"001","061","0610","X42",0,0,0,0,0,0,0,0,0,0,62.05,0,62.05,62.05,-62.05,62.05,-62.05,62.05,62.05,-62.05,{"$f":"_xlfn.XLOOKUP(F562,'Object Codes'!$A$18:$A$510,'Object Codes'!$H$18:$H$510)","v":"PS - Additional Gross"},{"$f":"_xlfn.XLOOKUP(F562,'Object Codes'!$A$18:$A$510,'Object Codes'!$G$18:$G$510)","v":"A"},{"$f":"_xlfn.XLOOKUP(A562,Agencies!$A$9:$A$146,Agencies!$B$9:$B$146)","v":"General Government"},{"$f":"IF(_xlfn.XLOOKUP(A562,Agencies!A:A,Agencies!D:D)=\"Y\",IF(_xlfn.XLOOKUP(F562,'Object Codes'!A:A,'Object Codes'!I:I)=\"Y\",\"Y\",\"N\"),\"N\")","v":"Y"},{"$f":"VLOOKUP(F562,'Object Codes'!$A:$C,3,0)","v":"PY LONGEVITY DIFFERENTIAL"},{"$f":"VLOOKUP(A562,Agencies!A:C,3,0)","v":"Mayoralty"},0.16999999999999998]
["002",2022,"001","061","0611","001",0,47,47,3302132,3307027,0,0,0,0,0,647118.01,0,647118.01,647118.01,2659908.9900000002,647118.01,2659908.9900000002,647118.01,647118.01,2659908.9900000002,{"$f":"_xlfn.XLOOKUP(F563,'Object Codes'!$A$18:$A$510,'Object Codes'!$H$18:$H$510)","v":"PS - Regular"},{"$f":"_xlfn.XLOOKUP(F563,'Object Codes'!$A$18:$A$510,'Object Codes'!$G$18:$G$510)","v":"C"},{"$f":"_xlfn.XLOOKUP(A563,Agencies!$A$9:$A$146,Agencies!$B$9:$B$146)","v":"General Government"},{"$f":"IF(_xlfn.XLOOKUP(A563,Agencies!A:A,Agencies!D:D)=\"Y\",IF(_xlfn.XLOOKUP(F563,'Object Codes'!A:A,'Object Codes'!I:I)=\"Y\",\"Y\",\"N\"),\"N\")","v":"Y"},{"$f":"VLOOKUP(F563,'Object Codes'!$A:$C,3,0)","v":"Full Year Positions"},{"$f":"VLOOKUP(A563,Agencies!A:C,3,0)","v":"Mayoralty"},1772.9260547945205]
["002",2022,"001","061","0611","031",0,0,0,24167,24167,0,0,0,0,0,0,0,0,0,24167,0,24167,0,0,24167,{"$f":"_xlfn.XLOOKUP(F564,'Object Codes'!$A$18:$A$510,'Object Codes'!$H$18:$H$510)","v":"PS - Regular"},{"$f":"_xlfn.XLOOKUP(F564,'Object Codes'!$A$18:$A$510,'Object Codes'!$G$18:$G$510)","v":"C"},{"$f":"_xlfn.XLOOKUP(A564,Agencies!$A$9:$A$146,Agencies!$B$9:$B$146)","v":"General Government"},{"$f":"IF(_xlfn.XLOOKUP(A564,Agencies!A:A,Agencies!D:D)=\"Y\",IF(_xlfn.XLOOKUP(F564,'Object Codes'!A:A,'Object Codes'!I:I)=\"Y\",\"Y\",\"N\"),\"N\")","v":"Y"},{"$f":"VLOOKUP(F564,'Object Codes'!$A:$C,3,0)","v":"Hourly Positions"},{"$f":"VLOOKUP(A564,Agencies!A:C,3,0)","v":"Mayoralty"},0]
["002",2022,"001","061","0611","043",0,0,0,0,0,0,0,0,0,0,443.34,0,443.34,443.34,-443.34,443.34,-443.34,443.34,443.34,-443.34,{"$f":"_xlfn.XLOOKUP(F565,'Object Codes'!$A$18:$A$510,'Object Codes'!$H$18:$H$510)","v":"PS - Additional Gross"},{"$f":"_xlfn.XLOOKUP(F565,'Object Codes'!$A$18:$A$510,'Object Codes'!$G$18:$G$510)","v":"A"},{"$f":"_xlfn.XLOOKUP(A565,Agencies!$A$9:$A$146,Agencies!$B$9:$B$146)","v":"General Government"},{"$f":"IF(_xlfn.XLOOKUP(A565,Agencies!A:A,Agencies!D:D)=\"Y\",IF(_xlfn.XLOOKUP(F565,'Object Codes'!A:A,'Object Codes'!I:I)=\"Y\",\"Y\",\"N\"),\"N\")","v":"Y"},{"$f":"VLOOKUP(F565,'Object Codes'!$A:$C,3,0)","v":"Shift Differential"},{"$f":"VLOOKUP(A565,Agencies!A:C,3,0)","v":"Mayoralty"},1.2146301369863013]
["002",2022,"001","061","0611","049",0,0,0,0,0,0,0,0,0,0,6530.1,0,6530.1,6530.1,-6530.1,6530.1,-6530.1,6530.1,6530.1,-6530.1,{"$f":"_xlfn.XLOOKUP(F566,'Object Codes'!$A$18:$A$510,'Object Codes'!$H$18:$H$510)","v":"PS - Additional Gross"},{"$f":"_xlfn.XLOOKUP(F566,'Object Codes'!$A$18:$A$510,'Object Codes'!$G$18:$G$510)","v":"A"},{"$f":"_xlfn.XLOOKUP(A566,Agencies!$A$9:$A$146,Agencies!$B$9:$B$146)","v":"General Government"},{"$f":"IF(_xlfn.XLOOKUP(A566,Agencies!A:A,Agencies!D:D)=\"Y\",IF(_xlfn.XLOOKUP(F566,'Object Codes'!A:A,'Object Codes'!I:I)=\"Y\",\"Y\",\"N\"),\"N\")","v":"Y"},{"$f":"VLOOKUP(F566,'Object Codes'!$A:$C,3,0)","v":"Backpay"},{"$f":"VLOOKUP(A566,Agencies!A:C,3,0)","v":"Mayoralty"},17.890684931506851]
["002",2022,"001","061","0611","061",0,0,0,0,0,0,0,0,0,0,10.75,0,10.75,10.75,-10.75,10.75,-10.75,10.75,10.75,-10.75,{"$f":"_xlfn.XLOOKUP(F567,'Object Codes'!$A$18:$A$510,'Object Codes'!$H$18:$H$510)","v":"PS - Additional Gross"},{"$f":"_xlfn.XLOOKUP(F567,'Object Codes'!$A$18:$A$510,'Object Codes'!$G$18:$G$510)","v":"A"},{"$f":"_xlfn.XLOOKUP(A567,Agencies!$A$9:$A$146,Agencies!$B$9:$B$146)","v":"General Government"},{"$f":"IF(_xlfn.XLOOKUP(A567,Agencies!A:A,Agencies!D:D)=\"Y\",IF(_xlfn.XLOOKUP(F567,'Object Codes'!A:A,'Object Codes'!I:I)=\"Y\",\"Y\",\"N\"),\"N\")","v":"Y"},{"$f":"VLOOKUP(F567,'Object Codes'!$A:$C,3,0)","v":"Supper Money"},{"$f":"VLOOKUP(A567,Agencies!A:C,3,0)","v":"Mayoralty"},2.9452054794520548E-2]
["002",2022,"001","061","0612","001",0,5,5,162998,162998,0,0,0,0,0,132037.04999999999,0,132037.04999999999,132037.04999999999,30960.95,132037.04999999999,30960.95,132037.04999999999,132037.04999999999,30960.95,{"$f":"_xlfn.XLOOKUP(F568,'Object Codes'!$A$18:$A$510,'Object Codes'!$H$18:$H$510)","v":"PS - Regular"},{"$f":"_xlfn.XLOOKUP(F568,'Object Codes'!$A$18:$A$510,'Object Codes'!$G$18:$G$510)","v":"C"},{"$f":"_xlfn.XLOOKUP(A568,Agencies!$A$9:$A$146,Agencies!$B$9:$B$146)","v":"General Government"},{"$f":"IF(_xlfn.XLOOKUP(A568,Agencies!A:A,Agencies!D:D)=\"Y\",IF(_xlfn.XLOOKUP(F568,'Object Codes'!A:A,'Object Codes'!I:I)=\"Y\",\"Y\",\"N\"),\"N\")","v":"Y"},{"$f":"VLOOKUP(F568,'Object Codes'!$A:$C,3,0)","v":"Full Year Positions"},{"$f":"VLOOKUP(A568,Agencies!A:C,3,0)","v":"Mayoralty"},361.74534246575337]
["002",2022,"001","061","0612","031",0,0,0,6296,6296,0,0,0,0,0,0,0,0,0,6296,0,6296,0,0,6296,{"$f":"_xlfn.XLOOKUP(F569,'Object Codes'!$A$18:$A$510,'Object Codes'!$H$18:$H$510)","v":"PS - Regular"},{"$f":"_xlfn.XLOOKUP(F569,'Object Codes'!$A$18:$A$510,'Object Codes'!$G$18:$G$510)","v":"C"},{"$f":"_xlfn.XLOOKUP(A569,Agencies!$A$9:$A$146,Agencies!$B$9:$B$146)","v":"General Government"},{"$f":"IF(_xlfn.XLOOKUP(A569,Agencies!A:A,Agencies!D:D)=\"Y\",IF(_xlfn.XLOOKUP(F569,'Object Codes'!A:A,'Object Codes'!I:I)=\"Y\",\"Y\",\"N\"),\"N\")","v":"Y"},{"$f":"VLOOKUP(F569,'Object Codes'!$A:$C,3,0)","v":"Hourly Positions"},{"$f":"VLOOKUP(A569,Agencies!A:C,3,0)","v":"Mayoralty"},0]
["002",2022,"001","061","0612","047",0,0,0,5410,5410,0,0,0,0,0,0,0,0,0,5410,0,5410,0,0,5410,{"$f":"_xlfn.XLOOKUP(F570,'Object Codes'!$A$18:$A$510,'Object Codes'!$H$18:$H$510)","v":"PS - Additional Gross"},{"$f":"_xlfn.XLOOKUP(F570,'Object Codes'!$A$18:$A$510,'Object Codes'!$G$18:$G$510)","v":"C"},{"$f":"_xlfn.XLOOKUP(A570,Agencies!$A$9:$A$146,Agencies!$B$9:$B$146)","v":"General Government"},{"$f":"IF(_xlfn.XLOOKUP(A570,Agencies!A:A,Agencies!D:D)=\"Y\",IF(_xlfn.XLOOKUP(F570,'Object Codes'!A:A,'Object Codes'!I:I)=\"Y\",\"Y\",\"N\"),\"N\")","v":"Y"},{"$f":"VLOOKUP(F570,'Object Codes'!$A:$C,3,0)","v":"Overtime"},{"$f":"VLOOKUP(A570,Agencies!A:C,3,0)","v":"Mayoralty"},0]
["002",2022,"001","061","0612","089",0,0,0,31144,31144,0,0,0,0,0,0,0,0,0,31144,0,31144,0,0,31144,{"$f":"_xlfn.XLOOKUP(F571,'Object Codes'!$A$18:$A$510,'Object Codes'!$H$18:$H$510)","v":"PS - Other"},{"$f":"_xlfn.XLOOKUP(F571,'Object Codes'!$A$18:$A$510,'Object Codes'!$G$18:$G$510)","v":"A"},{"$f":"_xlfn.XLOOKUP(A571,Agencies!$A$9:$A$146,Agencies!$B$9:$B$146)","v":"General Government"},{"$f":"IF(_xlfn.XLOOKUP(A571,Agencies!A:A,Agencies!D:D)=\"Y\",IF(_xlfn.XLOOKUP(F571,'Object Codes'!A:A,'Object Codes'!I:I)=\"Y\",\"Y\",\"N\"),\"N\")","v":"Y"},{"$f":"VLOOKUP(F571,'Object Codes'!$A:$C,3,0)","v":"Fringe Benefits - Other"},{"$f":"VLOOKUP(A571,Agencies!A:C,3,0)","v":"Mayoralty"},0]
["002",2022,"001","061","0620","001",0,0,0,293021,293021,0,0,0,0,0,0,0,0,0,293021,0,293021,0,0,293021,{"$f":"_xlfn.XLOOKUP(F572,'Object Codes'!$A$18:$A$510,'Object Codes'!$H$18:$H$510)","v":"PS - Regular"},{"$f":"_xlfn.XLOOKUP(F572,'Object Codes'!$A$18:$A$510,'Object Codes'!$G$18:$G$510)","v":"C"},{"$f":"_xlfn.XLOOKUP(A572,Agencies!$A$9:$A$146,Agencies!$B$9:$B$146)","v":"General Government"},{"$f":"IF(_xlfn.XLOOKUP(A572,Agencies!A:A,Agencies!D:D)=\"Y\",IF(_xlfn.XLOOKUP(F572,'Object Codes'!A:A,'Object Codes'!I:I)=\"Y\",\"Y\",\"N\"),\"N\")","v":"Y"},{"$f":"VLOOKUP(F572,'Object Codes'!$A:$C,3,0)","v":"Full Year Positions"},{"$f":"VLOOKUP(A572,Agencies!A:C,3,0)","v":"Mayoralty"},0]
["002",2022,"001","061","0621","001",0,0,0,270721,270721,0,0,0,0,0,0,0,0,0,270721,0,270721,0,0,270721,{"$f":"_xlfn.XLOOKUP(F573,'Object Codes'!$A$18:$A$510,'Object Codes'!$H$18:$H$510)","v":"PS - Regular"},{"$f":"_xlfn.XLOOKUP(F573,'Object Codes'!$A$18:$A$510,'Object Codes'!$G$18:$G$510)","v":"C"},{"$f":"_xlfn.XLOOKUP(A573,Agencies!$A$9:$A$146,Agencies!$B$9:$B$146)","v":"General Government"},{"$f":"IF(_xlfn.XLOOKUP(A573,Agencies!A:A,Agencies!D:D)=\"Y\",IF(_xlfn.XLOOKUP(F573,'Object Codes'!A:A,'Object Codes'!I:I)=\"Y\",\"Y\",\"N\"),\"N\")","v":"Y"},{"$f":"VLOOKUP(F573,'Object Codes'!$A:$C,3,0)","v":"Full Year Positions"},{"$f":"VLOOKUP(A573,Agencies!A:C,3,0)","v":"Mayoralty"},0]
["002",2022,"001","061","0622","001",0,0,0,289077,289077,0,0,0,0,0,0,0,0,0,289077,0,289077,0,0,289077,{"$f":"_xlfn.XLOOKUP(F574,'Object Codes'!$A$18:$A$510,'Object Codes'!$H$18:$H$510)","v":"PS - Regular"},{"$f":"_xlfn.XLOOKUP(F574,'Object Codes'!$A$18:$A$510,'Object Codes'!$G$18:$G$510)","v":"C"},{"$f":"_xlfn.XLOOKUP(A574,Agencies!$A$9:$A$146,Agencies!$B$9:$B$146)","v":"General Government"},{"$f":"IF(_xlfn.XLOOKUP(A574,Agencies!A:A,Agencies!D:D)=\"Y\",IF(_xlfn.XLOOKUP(F574,'Object Codes'!A:A,'Object Codes'!I:I)=\"Y\",\"Y\",\"N\"),\"N\")","v":"Y"},{"$f":"VLOOKUP(F574,'Object Codes'!$A:$C,3,0)","v":"Full Year Positions"},{"$f":"VLOOKUP(A574,Agencies!A:C,3,0)","v":"Mayoralty"},0]
["002",2022,"001","061","0625","001",0,4,4,59350,59350,0,0,0,0,0,103985.24,0,103985.24,103985.24,-44635.24,103985.24,-44635.24,103985.24,103985.24,-44635.24,{"$f":"_xlfn.XLOOKUP(F575,'Object Codes'!$A$18:$A$510,'Object Codes'!$H$18:$H$510)","v":"PS - Regular"},{"$f":"_xlfn.XLOOKUP(F575,'Object Codes'!$A$18:$A$510,'Object Codes'!$G$18:$G$510)","v":"C"},{"$f":"_xlfn.XLOOKUP(A575,Agencies!$A$9:$A$146,Agencies!$B$9:$B$146)","v":"General Government"},{"$f":"IF(_xlfn.XLOOKUP(A575,Agencies!A:A,Agencies!D:D)=\"Y\",IF(_xlfn.XLOOKUP(F575,'Object Codes'!A:A,'Object Codes'!I:I)=\"Y\",\"Y\",\"N\"),\"N\")","v":"Y"},{"$f":"VLOOKUP(F575,'Object Codes'!$A:$C,3,0)","v":"Full Year Positions"},{"$f":"VLOOKUP(A575,Agencies!A:C,3,0)","v":"Mayoralty"},284.89106849315073]
["002",2022,"001","061","0625","057",0,0,0,0,500,0,0,0,0,0,500,0,500,500,0,500,0,500,500,0,{"$f":"_xlfn.XLOOKUP(F576,'Object Codes'!$A$18:$A$510,'Object Codes'!$H$18:$H$510)","v":"PS - Additional Gross"},{"$f":"_xlfn.XLOOKUP(F576,'Object Codes'!$A$18:$A$510,'Object Codes'!$G$18:$G$510)","v":"A"},{"$f":"_xlfn.XLOOKUP(A576,Agencies!$A$9:$A$146,Agencies!$B$9:$B$146)","v":"General Government"},{"$f":"IF(_xlfn.XLOOKUP(A576,Agencies!A:A,Agencies!D:D)=\"Y\",IF(_xlfn.XLOOKUP(F576,'Object Codes'!A:A,'Object Codes'!I:I)=\"Y\",\"Y\",\"N\"),\"N\")","v":"Y"},{"$f":"VLOOKUP(F576,'Object Codes'!$A:$C,3,0)","v":"Bonus Payments"},{"$f":"VLOOKUP(A576,Agencies!A:C,3,0)","v":"Mayoralty"},1.3698630136986301]
["002",2022,"001","061","0645","001",0,5,5,41428,41428,0,0,0,0,0,244857.06,0,244857.06,244857.06,-203429.06,244857.06,-203429.06,244857.06,244857.06,-203429.06,{"$f":"_xlfn.XLOOKUP(F577,'Object Codes'!$A$18:$A$510,'Object Codes'!$H$18:$H$510)","v":"PS - Regular"},{"$f":"_xlfn.XLOOKUP(F577,'Object Codes'!$A$18:$A$510,'Object Codes'!$G$18:$G$510)","v":"C"},{"$f":"_xlfn.XLOOKUP(A577,Agencies!$A$9:$A$146,Agencies!$B$9:$B$146)","v":"General Government"},{"$f":"IF(_xlfn.XLOOKUP(A577,Agencies!A:A,Agencies!D:D)=\"Y\",IF(_xlfn.XLOOKUP(F577,'Object Codes'!A:A,'Object Codes'!I:I)=\"Y\",\"Y\",\"N\"),\"N\")","v":"Y"},{"$f":"VLOOKUP(F577,'Object Codes'!$A:$C,3,0)","v":"Full Year Positions"},{"$f":"VLOOKUP(A577,Agencies!A:C,3,0)","v":"Mayoralty"},670.84126027397258]
["002",2022,"001","061","0650","001",0,4,4,315000,315000,0,0,0,0,0,239122.89,0,239122.89,239122.89,75877.11,239122.89,75877.11,239122.89,239122.89,75877.11,{"$f":"_xlfn.XLOOKUP(F578,'Object Codes'!$A$18:$A$510,'Object Codes'!$H$18:$H$510)","v":"PS - Regular"},{"$f":"_xlfn.XLOOKUP(F578,'Object Codes'!$A$18:$A$510,'Object Codes'!$G$18:$G$510)","v":"C"},{"$f":"_xlfn.XLOOKUP(A578,Agencies!$A$9:$A$146,Agencies!$B$9:$B$146)","v":"General Government"},{"$f":"IF(_xlfn.XLOOKUP(A578,Agencies!A:A,Agencies!D:D)=\"Y\",IF(_xlfn.XLOOKUP(F578,'Object Codes'!A:A,'Object Codes'!I:I)=\"Y\",\"Y\",\"N\"),\"N\")","v":"Y"},{"$f":"VLOOKUP(F578,'Object Codes'!$A:$C,3,0)","v":"Full Year Positions"},{"$f":"VLOOKUP(A578,Agencies!A:C,3,0)","v":"Mayoralty"},655.13120547945209]
["002",2022,"001","061","0650","061",0,0,0,0,0,0,0,0,0,0,8.75,0,8.75,8.75,-8.75,8.75,-8.75,8.75,8.75,-8.75,{"$f":"_xlfn.XLOOKUP(F579,'Object Codes'!$A$18:$A$510,'Object Codes'!$H$18:$H$510)","v":"PS - Additional Gross"},{"$f":"_xlfn.XLOOKUP(F579,'Object Codes'!$A$18:$A$510,'Object Codes'!$G$18:$G$510)","v":"A"},{"$f":"_xlfn.XLOOKUP(A579,Agencies!$A$9:$A$146,Agencies!$B$9:$B$146)","v":"General Government"},{"$f":"IF(_xlfn.XLOOKUP(A579,Agencies!A:A,Agencies!D:D)=\"Y\",IF(_xlfn.XLOOKUP(F579,'Object Codes'!A:A,'Object Codes'!I:I)=\"Y\",\"Y\",\"N\"),\"N\")","v":"Y"},{"$f":"VLOOKUP(F579,'Object Codes'!$A:$C,3,0)","v":"Supper Money"},{"$f":"VLOOKUP(A579,Agencies!A:C,3,0)","v":"Mayoralty"},2.3972602739726026E-2]
["002",2022,"001","061","0655","001",0,0,5,0,335000,0,0,0,0,0,0,0,0,0,335000,0,335000,0,0,335000,{"$f":"_xlfn.XLOOKUP(F580,'Object Codes'!$A$18:$A$510,'Object Codes'!$H$18:$H$510)","v":"PS - Regular"},{"$f":"_xlfn.XLOOKUP(F580,'Object Codes'!$A$18:$A$510,'Object Codes'!$G$18:$G$510)","v":"C"},{"$f":"_xlfn.XLOOKUP(A580,Agencies!$A$9:$A$146,Agencies!$B$9:$B$146)","v":"General Government"},{"$f":"IF(_xlfn.XLOOKUP(A580,Agencies!A:A,Agencies!D:D)=\"Y\",IF(_xlfn.XLOOKUP(F580,'Object Codes'!A:A,'Object Codes'!I:I)=\"Y\",\"Y\",\"N\"),\"N\")","v":"Y"},{"$f":"VLOOKUP(F580,'Object Codes'!$A:$C,3,0)","v":"Full Year Positions"},{"$f":"VLOOKUP(A580,Agencies!A:C,3,0)","v":"Mayoralty"},0]
["002",2022,"001","061","CRO1","001",0,1,1,41181,41181,0,0,0,0,0,0,0,0,0,41181,0,41181,0,0,41181,{"$f":"_xlfn.XLOOKUP(F581,'Object Codes'!$A$18:$A$510,'Object Codes'!$H$18:$H$510)","v":"PS - Regular"},{"$f":"_xlfn.XLOOKUP(F581,'Object Codes'!$A$18:$A$510,'Object Codes'!$G$18:$G$510)","v":"C"},{"$f":"_xlfn.XLOOKUP(A581,Agencies!$A$9:$A$146,Agencies!$B$9:$B$146)","v":"General Government"},{"$f":"IF(_xlfn.XLOOKUP(A581,Agencies!A:A,Agencies!D:D)=\"Y\",IF(_xlfn.XLOOKUP(F581,'Object Codes'!A:A,'Object Codes'!I:I)=\"Y\",\"Y\",\"N\"),\"N\")","v":"Y"},{"$f":"VLOOKUP(F581,'Object Codes'!$A:$C,3,0)","v":"Full Year Positions"},{"$f":"VLOOKUP(A581,Agencies!A:C,3,0)","v":"Mayoralty"},0]
["002",2022,"001","061","P061","001",0,-30,-36,-1691911,-2025091,0,0,0,0,0,0,0,0,0,-2025091,0,-2025091,0,0,-2025091,{"$f":"_xlfn.XLOOKUP(F582,'Object Codes'!$A$18:$A$510,'Object Codes'!$H$18:$H$510)","v":"PS - Regular"},{"$f":"_xlfn.XLOOKUP(F582,'Object Codes'!$A$18:$A$510,'Object Codes'!$G$18:$G$510)","v":"C"},{"$f":"_xlfn.XLOOKUP(A582,Agencies!$A$9:$A$146,Agencies!$B$9:$B$146)","v":"General Government"},{"$f":"IF(_xlfn.XLOOKUP(A582,Agencies!A:A,Agencies!D:D)=\"Y\",IF(_xlfn.XLOOKUP(F582,'Object Codes'!A:A,'Object Codes'!I:I)=\"Y\",\"Y\",\"N\"),\"N\")","v":"Y"},{"$f":"VLOOKUP(F582,'Object Codes'!$A:$C,3,0)","v":"Full Year Positions"},{"$f":"VLOOKUP(A582,Agencies!A:C,3,0)","v":"Mayoralty"},0]
["002",2022,"001","061","P061","031",0,0,0,316073,316073,0,0,0,0,0,0,0,0,0,316073,0,316073,0,0,316073,{"$f":"_xlfn.XLOOKUP(F583,'Object Codes'!$A$18:$A$510,'Object Codes'!$H$18:$H$510)","v":"PS - Regular"},{"$f":"_xlfn.XLOOKUP(F583,'Object Codes'!$A$18:$A$510,'Object Codes'!$G$18:$G$510)","v":"C"},{"$f":"_xlfn.XLOOKUP(A583,Agencies!$A$9:$A$146,Agencies!$B$9:$B$146)","v":"General Government"},{"$f":"IF(_xlfn.XLOOKUP(A583,Agencies!A:A,Agencies!D:D)=\"Y\",IF(_xlfn.XLOOKUP(F583,'Object Codes'!A:A,'Object Codes'!I:I)=\"Y\",\"Y\",\"N\"),\"N\")","v":"Y"},{"$f":"VLOOKUP(F583,'Object Codes'!$A:$C,3,0)","v":"Hourly Positions"},{"$f":"VLOOKUP(A583,Agencies!A:C,3,0)","v":"Mayoralty"},0]
["002",2022,"001","062","0602","100",0,0,0,6000,6000,0,0,0,0,0,4611.42,0,4611.42,4611.42,1388.58,4611.42,1388.58,4611.42,4611.42,1388.58,{"$f":"_xlfn.XLOOKUP(F584,'Object Codes'!$A$18:$A$510,'Object Codes'!$H$18:$H$510)","v":"Supplies & Materials"},{"$f":"_xlfn.XLOOKUP(F584,'Object Codes'!$A$18:$A$510,'Object Codes'!$G$18:$G$510)","v":"A"},{"$f":"_xlfn.XLOOKUP(A584,Agencies!$A$9:$A$146,Agencies!$B$9:$B$146)","v":"General Government"},{"$f":"IF(_xlfn.XLOOKUP(A584,Agencies!A:A,Agencies!D:D)=\"Y\",IF(_xlfn.XLOOKUP(F584,'Object Codes'!A:A,'Object Codes'!I:I)=\"Y\",\"Y\",\"N\"),\"N\")","v":"Y"},{"$f":"VLOOKUP(F584,'Object Codes'!$A:$C,3,0)","v":"Supplies and Materials - General"},{"$f":"VLOOKUP(A584,Agencies!A:C,3,0)","v":"Mayoralty"},12.634027397260274]
["002",2022,"001","062","0602","101",0,0,0,800,800,0,0,0,0,0,611.44000000000005,0,611.44000000000005,611.44000000000005,188.56,611.44000000000005,188.56,611.44000000000005,611.44000000000005,188.56,{"$f":"_xlfn.XLOOKUP(F585,'Object Codes'!$A$18:$A$510,'Object Codes'!$H$18:$H$510)","v":"Supplies & Materials"},{"$f":"_xlfn.XLOOKUP(F585,'Object Codes'!$A$18:$A$510,'Object Codes'!$G$18:$G$510)","v":"A"},{"$f":"_xlfn.XLOOKUP(A585,Agencies!$A$9:$A$146,Agencies!$B$9:$B$146)","v":"General Government"},{"$f":"IF(_xlfn.XLOOKUP(A585,Agencies!A:A,Agencies!D:D)=\"Y\",IF(_xlfn.XLOOKUP(F585,'Object Codes'!A:A,'Object Codes'!I:I)=\"Y\",\"Y\",\"N\"),\"N\")","v":"Y"},{"$f":"VLOOKUP(F585,'Object Codes'!$A:$C,3,0)","v":"Printing Supplies"},{"$f":"VLOOKUP(A585,Agencies!A:C,3,0)","v":"Mayoralty"},{"$f":"S585/365","v":1.675178082191781}]
["002",2022,"001","062","0602","10X",0,0,0,8953,8953,0,0,0,0,0,0,0,0,0,8953,0,8953,0,0,8953,{"$f":"_xlfn.XLOOKUP(F586,'Object Codes'!$A$18:$A$510,'Object Codes'!$H$18:$H$510)","v":"Supplies & Materials"},{"$f":"_xlfn.XLOOKUP(F586,'Object Codes'!$A$18:$A$510,'Object Codes'!$G$18:$G$510)","v":"A"},{"$f":"_xlfn.XLOOKUP(A586,Agencies!$A$9:$A$146,Agencies!$B$9:$B$146)","v":"General Government"},{"$f":"IF(_xlfn.XLOOKUP(A586,Agencies!A:A,Agencies!D:D)=\"Y\",IF(_xlfn.XLOOKUP(F586,'Object Codes'!A:A,'Object Codes'!I:I)=\"Y\",\"Y\",\"N\"),\"N\")","v":"Y"},{"$f":"VLOOKUP(F586,'Object Codes'!$A:$C,3,0)","v":"SUPPLIES + MATERIALS - GENERAL"},{"$f":"VLOOKUP(A586,Agencies!A:C,3,0)","v":"Mayoralty"},0]
["002",2022,"001","062","0602","199",0,0,0,966,12650,0,0,0,0,0,12525,0,12525,12525,125,12525,125,12525,12525,125,{"$f":"_xlfn.XLOOKUP(F587,'Object Codes'!$A$18:$A$510,'Object Codes'!$H$18:$H$510)","v":"Supplies & Materials"},{"$f":"_xlfn.XLOOKUP(F587,'Object Codes'!$A$18:$A$510,'Object Codes'!$G$18:$G$510)","v":"A"},{"$f":"_xlfn.XLOOKUP(A587,Agencies!$A$9:$A$146,Agencies!$B$9:$B$146)","v":"General Government"},{"$f":"IF(_xlfn.XLOOKUP(A587,Agencies!A:A,Agencies!D:D)=\"Y\",IF(_xlfn.XLOOKUP(F587,'Object Codes'!A:A,'Object Codes'!I:I)=\"Y\",\"Y\",\"N\"),\"N\")","v":"Y"},{"$f":"VLOOKUP(F587,'Object Codes'!$A:$C,3,0)","v":"Data Processing Supplies"},{"$f":"VLOOKUP(A587,Agencies!A:C,3,0)","v":"Mayoralty"},34.315068493150683]
["002",2022,"001","062","0602","300",0,0,0,1000,1000,0,0,0,0,0,749.99,0,749.99,749.99,250.01,749.99,250.01,749.99,749.99,250.01,{"$f":"_xlfn.XLOOKUP(F588,'Object Codes'!$A$18:$A$510,'Object Codes'!$H$18:$H$510)","v":"Equipment"},{"$f":"_xlfn.XLOOKUP(F588,'Object Codes'!$A$18:$A$510,'Object Codes'!$G$18:$G$510)","v":"A"},{"$f":"_xlfn.XLOOKUP(A588,Agencies!$A$9:$A$146,Agencies!$B$9:$B$146)","v":"General Government"},{"$f":"IF(_xlfn.XLOOKUP(A588,Agencies!A:A,Agencies!D:D)=\"Y\",IF(_xlfn.XLOOKUP(F588,'Object Codes'!A:A,'Object Codes'!I:I)=\"Y\",\"Y\",\"N\"),\"N\")","v":"Y"},{"$f":"VLOOKUP(F588,'Object Codes'!$A:$C,3,0)","v":"Equipment - General"},{"$f":"VLOOKUP(A588,Agencies!A:C,3,0)","v":"Mayoralty"},2.0547671232876712]
["002",2022,"001","062","0602","314",0,0,0,494,494,0,0,0,0,0,0,0,0,0,494,0,494,0,0,494,{"$f":"_xlfn.XLOOKUP(F589,'Object Codes'!$A$18:$A$510,'Object Codes'!$H$18:$H$510)","v":"Equipment"},{"$f":"_xlfn.XLOOKUP(F589,'Object Codes'!$A$18:$A$510,'Object Codes'!$G$18:$G$510)","v":"A"},{"$f":"_xlfn.XLOOKUP(A589,Agencies!$A$9:$A$146,Agencies!$B$9:$B$146)","v":"General Government"},{"$f":"IF(_xlfn.XLOOKUP(A589,Agencies!A:A,Agencies!D:D)=\"Y\",IF(_xlfn.XLOOKUP(F589,'Object Codes'!A:A,'Object Codes'!I:I)=\"Y\",\"Y\",\"N\"),\"N\")","v":"Y"},{"$f":"VLOOKUP(F589,'Object Codes'!$A:$C,3,0)","v":"Office Furniture"},{"$f":"VLOOKUP(A589,Agencies!A:C,3,0)","v":"Mayoralty"},0]
["002",2022,"001","062","0602","315",0,0,0,1000,1000,0,0,0,0,0,0,0,0,0,1000,0,1000,0,0,1000,{"$f":"_xlfn.XLOOKUP(F590,'Object Codes'!$A$18:$A$510,'Object Codes'!$H$18:$H$510)","v":"Equipment"},{"$f":"_xlfn.XLOOKUP(F590,'Object Codes'!$A$18:$A$510,'Object Codes'!$G$18:$G$510)","v":"A"},{"$f":"_xlfn.XLOOKUP(A590,Agencies!$A$9:$A$146,Agencies!$B$9:$B$146)","v":"General Government"},{"$f":"IF(_xlfn.XLOOKUP(A590,Agencies!A:A,Agencies!D:D)=\"Y\",IF(_xlfn.XLOOKUP(F590,'Object Codes'!A:A,'Object Codes'!I:I)=\"Y\",\"Y\",\"N\"),\"N\")","v":"Y"},{"$f":"VLOOKUP(F590,'Object Codes'!$A:$C,3,0)","v":"Office Equipment"},{"$f":"VLOOKUP(A590,Agencies!A:C,3,0)","v":"Mayoralty"},0]
["002",2022,"001","062","0602","337",0,0,0,356,356,0,0,0,0,0,356,0,356,356,0,356,0,356,356,0,{"$f":"_xlfn.XLOOKUP(F591,'Object Codes'!$A$18:$A$510,'Object Codes'!$H$18:$H$510)","v":"Equipment"},{"$f":"_xlfn.XLOOKUP(F591,'Object Codes'!$A$18:$A$510,'Object Codes'!$G$18:$G$510)","v":"A"},{"$f":"_xlfn.XLOOKUP(A591,Agencies!$A$9:$A$146,Agencies!$B$9:$B$146)","v":"General Government"},{"$f":"IF(_xlfn.XLOOKUP(A591,Agencies!A:A,Agencies!D:D)=\"Y\",IF(_xlfn.XLOOKUP(F591,'Object Codes'!A:A,'Object Codes'!I:I)=\"Y\",\"Y\",\"N\"),\"N\")","v":"Y"},{"$f":"VLOOKUP(F591,'Object Codes'!$A:$C,3,0)","v":"Books - Other"},{"$f":"VLOOKUP(A591,Agencies!A:C,3,0)","v":"Mayoralty"},0.97534246575342465]
["002",2022,"001","062","0602","400",0,0,0,5000,108219,0,0,0,0,0,88449.36,0,88449.36,88449.36,19769.64,88449.36,19769.64,88449.36,88449.36,19769.64,{"$f":"_xlfn.XLOOKUP(F592,'Object Codes'!$A$18:$A$510,'Object Codes'!$H$18:$H$510)","v":"Other Services and Charges - General"},{"$f":"_xlfn.XLOOKUP(F592,'Object Codes'!$A$18:$A$510,'Object Codes'!$G$18:$G$510)","v":0},{"$f":"_xlfn.XLOOKUP(A592,Agencies!$A$9:$A$146,Agencies!$B$9:$B$146)","v":"General Government"},{"$f":"IF(_xlfn.XLOOKUP(A592,Agencies!A:A,Agencies!D:D)=\"Y\",IF(_xlfn.XLOOKUP(F592,'Object Codes'!A:A,'Object Codes'!I:I)=\"Y\",\"Y\",\"N\"),\"N\")","v":"Y"},{"$f":"VLOOKUP(F592,'Object Codes'!$A:$C,3,0)","v":"Other Services and Charges - General"},{"$f":"VLOOKUP(A592,Agencies!A:C,3,0)","v":"Mayoralty"},242.32701369863014]
["002",2022,"001","062","0602","403",0,0,0,5000,5000,0,0,0,0,0,4727.45,0,4727.45,4727.45,272.55,4727.45,272.55,4727.45,4727.45,272.55,{"$f":"_xlfn.XLOOKUP(F593,'Object Codes'!$A$18:$A$510,'Object Codes'!$H$18:$H$510)","v":"Other Services and Charges - General"},{"$f":"_xlfn.XLOOKUP(F593,'Object Codes'!$A$18:$A$510,'Object Codes'!$G$18:$G$510)","v":0},{"$f":"_xlfn.XLOOKUP(A593,Agencies!$A$9:$A$146,Agencies!$B$9:$B$146)","v":"General Government"},{"$f":"IF(_xlfn.XLOOKUP(A593,Agencies!A:A,Agencies!D:D)=\"Y\",IF(_xlfn.XLOOKUP(F593,'Object Codes'!A:A,'Object Codes'!I:I)=\"Y\",\"Y\",\"N\"),\"N\")","v":"Y"},{"$f":"VLOOKUP(F593,'Object Codes'!$A:$C,3,0)","v":"Office Services"},{"$f":"VLOOKUP(A593,Agencies!A:C,3,0)","v":"Mayoralty"},12.951917808219177]
["002",2022,"001","062","0602","40X",0,0,0,0,839706,0,0,0,0,0,789290.03,0,789290.03,789290.03,50415.97,789290.03,50415.97,789290.03,789290.03,50415.97,{"$f":"_xlfn.XLOOKUP(F594,'Object Codes'!$A$18:$A$510,'Object Codes'!$H$18:$H$510)","v":"Other Services and Charges - General"},{"$f":"_xlfn.XLOOKUP(F594,'Object Codes'!$A$18:$A$510,'Object Codes'!$G$18:$G$510)","v":0},{"$f":"_xlfn.XLOOKUP(A594,Agencies!$A$9:$A$146,Agencies!$B$9:$B$146)","v":"General Government"},{"$f":"IF(_xlfn.XLOOKUP(A594,Agencies!A:A,Agencies!D:D)=\"Y\",IF(_xlfn.XLOOKUP(F594,'Object Codes'!A:A,'Object Codes'!I:I)=\"Y\",\"Y\",\"N\"),\"N\")","v":"Y"},{"$f":"VLOOKUP(F594,'Object Codes'!$A:$C,3,0)","v":"CONTRACTUAL SERVICES-GENERAL"},{"$f":"VLOOKUP(A594,Agencies!A:C,3,0)","v":"Mayoralty"},2162.4384383561646]
["002",2022,"001","062","0602","412",0,0,0,12324,10324,0,0,0,0,0,7059.14,0,7059.14,7059.14,3264.86,7059.14,3264.86,7059.14,7059.14,3264.86,{"$f":"_xlfn.XLOOKUP(F595,'Object Codes'!$A$18:$A$510,'Object Codes'!$H$18:$H$510)","v":"Other Services and Charges - General"},{"$f":"_xlfn.XLOOKUP(F595,'Object Codes'!$A$18:$A$510,'Object Codes'!$G$18:$G$510)","v":0},{"$f":"_xlfn.XLOOKUP(A595,Agencies!$A$9:$A$146,Agencies!$B$9:$B$146)","v":"General Government"},{"$f":"IF(_xlfn.XLOOKUP(A595,Agencies!A:A,Agencies!D:D)=\"Y\",IF(_xlfn.XLOOKUP(F595,'Object Codes'!A:A,'Object Codes'!I:I)=\"Y\",\"Y\",\"N\"),\"N\")","v":"Y"},{"$f":"VLOOKUP(F595,'Object Codes'!$A:$C,3,0)","v":"Rentals - Miscellaneous Equipment"},{"$f":"VLOOKUP(A595,Agencies!A:C,3,0)","v":"Mayoralty"},19.340109589041099]
["002",2022,"001","062","0602","452",0,0,0,5000,5000,0,0,0,0,0,4374.97,0,4374.97,4374.97,625.03,4374.97,625.03,4374.97,4374.97,625.03,{"$f":"_xlfn.XLOOKUP(F596,'Object Codes'!$A$18:$A$510,'Object Codes'!$H$18:$H$510)","v":"Other Services and Charges - General"},{"$f":"_xlfn.XLOOKUP(F596,'Object Codes'!$A$18:$A$510,'Object Codes'!$G$18:$G$510)","v":0},{"$f":"_xlfn.XLOOKUP(A596,Agencies!$A$9:$A$146,Agencies!$B$9:$B$146)","v":"General Government"},{"$f":"IF(_xlfn.XLOOKUP(A596,Agencies!A:A,Agencies!D:D)=\"Y\",IF(_xlfn.XLOOKUP(F596,'Object Codes'!A:A,'Object Codes'!I:I)=\"Y\",\"Y\",\"N\"),\"N\")","v":"Y"},{"$f":"VLOOKUP(F596,'Object Codes'!$A:$C,3,0)","v":"Non Overnight Travel Expenditures - Special"},{"$f":"VLOOKUP(A596,Agencies!A:C,3,0)","v":"Mayoralty"},11.986219178082193]
["002",2022,"001","062","0602","453",0,0,0,1000,1000,0,0,0,0,0,0,0,0,0,1000,0,1000,0,0,1000,{"$f":"_xlfn.XLOOKUP(F597,'Object Codes'!$A$18:$A$510,'Object Codes'!$H$18:$H$510)","v":"Other Services and Charges - General"},{"$f":"_xlfn.XLOOKUP(F597,'Object Codes'!$A$18:$A$510,'Object Codes'!$G$18:$G$510)","v":0},{"$f":"_xlfn.XLOOKUP(A597,Agencies!$A$9:$A$146,Agencies!$B$9:$B$146)","v":"General Government"},{"$f":"IF(_xlfn.XLOOKUP(A597,Agencies!A:A,Agencies!D:D)=\"Y\",IF(_xlfn.XLOOKUP(F597,'Object Codes'!A:A,'Object Codes'!I:I)=\"Y\",\"Y\",\"N\"),\"N\")","v":"Y"},{"$f":"VLOOKUP(F597,'Object Codes'!$A:$C,3,0)","v":"Overnight Travel Expenditures - General"},{"$f":"VLOOKUP(A597,Agencies!A:C,3,0)","v":"Mayoralty"},0]
["002",2022,"001","062","0602","600",0,0,0,1427520,822018,0,0,0,0,0,384062.31,0,384062.31,384062.31,437955.69,384062.31,437955.69,384062.31,384062.31,437955.69,{"$f":"_xlfn.XLOOKUP(F598,'Object Codes'!$A$18:$A$510,'Object Codes'!$H$18:$H$510)","v":"Contractual Services"},{"$f":"_xlfn.XLOOKUP(F598,'Object Codes'!$A$18:$A$510,'Object Codes'!$G$18:$G$510)","v":0},{"$f":"_xlfn.XLOOKUP(A598,Agencies!$A$9:$A$146,Agencies!$B$9:$B$146)","v":"General Government"},{"$f":"IF(_xlfn.XLOOKUP(A598,Agencies!A:A,Agencies!D:D)=\"Y\",IF(_xlfn.XLOOKUP(F598,'Object Codes'!A:A,'Object Codes'!I:I)=\"Y\",\"Y\",\"N\"),\"N\")","v":"Y"},{"$f":"VLOOKUP(F598,'Object Codes'!$A:$C,3,0)","v":"Contractual Services - General"},{"$f":"VLOOKUP(A598,Agencies!A:C,3,0)","v":"Mayoralty"},1052.225506849315]
["002",2022,"001","062","0602","608",0,0,0,1500,1500,0,0,0,0,0,1197.03,0,1197.03,1197.03,302.97000000000003,1197.03,302.97000000000003,1197.03,1197.03,302.97000000000003,{"$f":"_xlfn.XLOOKUP(F599,'Object Codes'!$A$18:$A$510,'Object Codes'!$H$18:$H$510)","v":"Contractual Services"},{"$f":"_xlfn.XLOOKUP(F599,'Object Codes'!$A$18:$A$510,'Object Codes'!$G$18:$G$510)","v":0},{"$f":"_xlfn.XLOOKUP(A599,Agencies!$A$9:$A$146,Agencies!$B$9:$B$146)","v":"General Government"},{"$f":"IF(_xlfn.XLOOKUP(A599,Agencies!A:A,Agencies!D:D)=\"Y\",IF(_xlfn.XLOOKUP(F599,'Object Codes'!A:A,'Object Codes'!I:I)=\"Y\",\"Y\",\"N\"),\"N\")","v":"Y"},{"$f":"VLOOKUP(F599,'Object Codes'!$A:$C,3,0)","v":"Maintenance and Repairs - General - Contractual"},{"$f":"VLOOKUP(A599,Agencies!A:C,3,0)","v":"Mayoralty"},3.2795342465753423]
["002",2022,"001","062","0602","686",0,0,0,10273,6149,0,0,0,0,0,10134,0,10134,10134,-3985,10134,-3985,10134,10134,-3985,{"$f":"_xlfn.XLOOKUP(F600,'Object Codes'!$A$18:$A$510,'Object Codes'!$H$18:$H$510)","v":"Contractual Services"},{"$f":"_xlfn.XLOOKUP(F600,'Object Codes'!$A$18:$A$510,'Object Codes'!$G$18:$G$510)","v":0},{"$f":"_xlfn.XLOOKUP(A600,Agencies!$A$9:$A$146,Agencies!$B$9:$B$146)","v":"General Government"},{"$f":"IF(_xlfn.XLOOKUP(A600,Agencies!A:A,Agencies!D:D)=\"Y\",IF(_xlfn.XLOOKUP(F600,'Object Codes'!A:A,'Object Codes'!I:I)=\"Y\",\"Y\",\"N\"),\"N\")","v":"Y"},{"$f":"VLOOKUP(F600,'Object Codes'!$A:$C,3,0)","v":"Professional Services - Other - Contractual"},{"$f":"VLOOKUP(A600,Agencies!A:C,3,0)","v":"Mayoralty"},27.764383561643836]
["002",2022,"001","062","0602","79D",0,0,0,0,4183,0,0,0,0,0,4183,0,4183,4183,0,4183,0,4183,4183,0,{"$f":"_xlfn.XLOOKUP(F601,'Object Codes'!$A$18:$A$510,'Object Codes'!$H$18:$H$510)","v":"Fixed Charges"},{"$f":"_xlfn.XLOOKUP(F601,'Object Codes'!$A$18:$A$510,'Object Codes'!$G$18:$G$510)","v":0},{"$f":"_xlfn.XLOOKUP(A601,Agencies!$A$9:$A$146,Agencies!$B$9:$B$146)","v":"General Government"},{"$f":"IF(_xlfn.XLOOKUP(A601,Agencies!A:A,Agencies!D:D)=\"Y\",IF(_xlfn.XLOOKUP(F601,'Object Codes'!A:A,'Object Codes'!I:I)=\"Y\",\"Y\",\"N\"),\"N\")","v":"Y"},{"$f":"VLOOKUP(F601,'Object Codes'!$A:$C,3,0)","v":"TRAINING CITY EMPLOYEES"},{"$f":"VLOOKUP(A601,Agencies!A:C,3,0)","v":"Mayoralty"},11.46027397260274]
["002",2022,"001","062","0604","100",0,0,0,9500,7500,0,0,0,0,0,6300.24,0,6300.24,6300.24,1199.76,6300.24,1199.76,6300.24,6300.24,1199.76,{"$f":"_xlfn.XLOOKUP(F602,'Object Codes'!$A$18:$A$510,'Object Codes'!$H$18:$H$510)","v":"Supplies & Materials"},{"$f":"_xlfn.XLOOKUP(F602,'Object Codes'!$A$18:$A$510,'Object Codes'!$G$18:$G$510)","v":"A"},{"$f":"_xlfn.XLOOKUP(A602,Agencies!$A$9:$A$146,Agencies!$B$9:$B$146)","v":"General Government"},{"$f":"IF(_xlfn.XLOOKUP(A602,Agencies!A:A,Agencies!D:D)=\"Y\",IF(_xlfn.XLOOKUP(F602,'Object Codes'!A:A,'Object Codes'!I:I)=\"Y\",\"Y\",\"N\"),\"N\")","v":"Y"},{"$f":"VLOOKUP(F602,'Object Codes'!$A:$C,3,0)","v":"Supplies and Materials - General"},{"$f":"VLOOKUP(A602,Agencies!A:C,3,0)","v":"Mayoralty"},17.260931506849314]
["002",2022,"001","062","0604","101",0,0,0,700,700,0,0,0,0,0,304.82,0,304.82,304.82,395.18,304.82,395.18,304.82,304.82,395.18,{"$f":"_xlfn.XLOOKUP(F603,'Object Codes'!$A$18:$A$510,'Object Codes'!$H$18:$H$510)","v":"Supplies & Materials"},{"$f":"_xlfn.XLOOKUP(F603,'Object Codes'!$A$18:$A$510,'Object Codes'!$G$18:$G$510)","v":"A"},{"$f":"_xlfn.XLOOKUP(A603,Agencies!$A$9:$A$146,Agencies!$B$9:$B$146)","v":"General Government"},{"$f":"IF(_xlfn.XLOOKUP(A603,Agencies!A:A,Agencies!D:D)=\"Y\",IF(_xlfn.XLOOKUP(F603,'Object Codes'!A:A,'Object Codes'!I:I)=\"Y\",\"Y\",\"N\"),\"N\")","v":"Y"},{"$f":"VLOOKUP(F603,'Object Codes'!$A:$C,3,0)","v":"Printing Supplies"},{"$f":"VLOOKUP(A603,Agencies!A:C,3,0)","v":"Mayoralty"},0.83512328767123289]
["002",2022,"001","062","0604","106",0,0,0,471,0,0,0,0,0,0,0,0,0,0,0,0,0,0,0,0,{"$f":"_xlfn.XLOOKUP(F604,'Object Codes'!$A$18:$A$510,'Object Codes'!$H$18:$H$510)","v":"Supplies & Materials"},{"$f":"_xlfn.XLOOKUP(F604,'Object Codes'!$A$18:$A$510,'Object Codes'!$G$18:$G$510)","v":"A"},{"$f":"_xlfn.XLOOKUP(A604,Agencies!$A$9:$A$146,Agencies!$B$9:$B$146)","v":"General Government"},{"$f":"IF(_xlfn.XLOOKUP(A604,Agencies!A:A,Agencies!D:D)=\"Y\",IF(_xlfn.XLOOKUP(F604,'Object Codes'!A:A,'Object Codes'!I:I)=\"Y\",\"Y\",\"N\"),\"N\")","v":"Y"},{"$f":"VLOOKUP(F604,'Object Codes'!$A:$C,3,0)","v":"Motor Vehicle Fuel"},{"$f":"VLOOKUP(A604,Agencies!A:C,3,0)","v":"Mayoralty"},0]
["002",2022,"001","062","0604","10F",0,0,0,0,1104,0,0,0,0,0,968.63,0,968.63,968.63,135.37,968.63,135.37,968.63,968.63,135.37,{"$f":"_xlfn.XLOOKUP(F605,'Object Codes'!$A$18:$A$510,'Object Codes'!$H$18:$H$510)","v":"Supplies & Materials"},{"$f":"_xlfn.XLOOKUP(F605,'Object Codes'!$A$18:$A$510,'Object Codes'!$G$18:$G$510)","v":"A"},{"$f":"_xlfn.XLOOKUP(A605,Agencies!$A$9:$A$146,Agencies!$B$9:$B$146)","v":"General Government"},{"$f":"IF(_xlfn.XLOOKUP(A605,Agencies!A:A,Agencies!D:D)=\"Y\",IF(_xlfn.XLOOKUP(F605,'Object Codes'!A:A,'Object Codes'!I:I)=\"Y\",\"Y\",\"N\"),\"N\")","v":"Y"},{"$f":"VLOOKUP(F605,'Object Codes'!$A:$C,3,0)","v":"MOTOR VEHICLE FUEL"},{"$f":"VLOOKUP(A605,Agencies!A:C,3,0)","v":"Mayoralty"},2.6537808219178083]
["002",2022,"001","062","0604","10X",0,0,0,8947,8947,0,0,0,0,0,371.16,0,371.16,371.16,8575.84,371.16,8575.84,371.16,371.16,8575.84,{"$f":"_xlfn.XLOOKUP(F606,'Object Codes'!$A$18:$A$510,'Object Codes'!$H$18:$H$510)","v":"Supplies & Materials"},{"$f":"_xlfn.XLOOKUP(F606,'Object Codes'!$A$18:$A$510,'Object Codes'!$G$18:$G$510)","v":"A"},{"$f":"_xlfn.XLOOKUP(A606,Agencies!$A$9:$A$146,Agencies!$B$9:$B$146)","v":"General Government"},{"$f":"IF(_xlfn.XLOOKUP(A606,Agencies!A:A,Agencies!D:D)=\"Y\",IF(_xlfn.XLOOKUP(F606,'Object Codes'!A:A,'Object Codes'!I:I)=\"Y\",\"Y\",\"N\"),\"N\")","v":"Y"},{"$f":"VLOOKUP(F606,'Object Codes'!$A:$C,3,0)","v":"SUPPLIES + MATERIALS - GENERAL"},{"$f":"VLOOKUP(A606,Agencies!A:C,3,0)","v":"Mayoralty"},1.0168767123287672]
["002",2022,"001","062","0604","117",0,0,0,100,100,0,0,0,0,0,0,0,0,0,100,0,100,0,0,100,{"$f":"_xlfn.XLOOKUP(F607,'Object Codes'!$A$18:$A$510,'Object Codes'!$H$18:$H$510)","v":"Supplies & Materials"},{"$f":"_xlfn.XLOOKUP(F607,'Object Codes'!$A$18:$A$510,'Object Codes'!$G$18:$G$510)","v":"A"},{"$f":"_xlfn.XLOOKUP(A607,Agencies!$A$9:$A$146,Agencies!$B$9:$B$146)","v":"General Government"},{"$f":"IF(_xlfn.XLOOKUP(A607,Agencies!A:A,Agencies!D:D)=\"Y\",IF(_xlfn.XLOOKUP(F607,'Object Codes'!A:A,'Object Codes'!I:I)=\"Y\",\"Y\",\"N\"),\"N\")","v":"Y"},{"$f":"VLOOKUP(F607,'Object Codes'!$A:$C,3,0)","v":"Postage"},{"$f":"VLOOKUP(A607,Agencies!A:C,3,0)","v":"Mayoralty"},0]
["002",2022,"001","062","0604","199",0,0,0,50627,49994,0,0,0,0,0,43019.33,0,43019.33,43019.33,6974.67,43019.33,6974.67,43019.33,43019.33,6974.67,{"$f":"_xlfn.XLOOKUP(F608,'Object Codes'!$A$18:$A$510,'Object Codes'!$H$18:$H$510)","v":"Supplies & Materials"},{"$f":"_xlfn.XLOOKUP(F608,'Object Codes'!$A$18:$A$510,'Object Codes'!$G$18:$G$510)","v":"A"},{"$f":"_xlfn.XLOOKUP(A608,Agencies!$A$9:$A$146,Agencies!$B$9:$B$146)","v":"General Government"},{"$f":"IF(_xlfn.XLOOKUP(A608,Agencies!A:A,Agencies!D:D)=\"Y\",IF(_xlfn.XLOOKUP(F608,'Object Codes'!A:A,'Object Codes'!I:I)=\"Y\",\"Y\",\"N\"),\"N\")","v":"Y"},{"$f":"VLOOKUP(F608,'Object Codes'!$A:$C,3,0)","v":"Data Processing Supplies"},{"$f":"VLOOKUP(A608,Agencies!A:C,3,0)","v":"Mayoralty"},117.86117808219178]
["002",2022,"001","062","0604","300",0,0,0,1053,1053,0,0,0,0,0,1013.62,0,1013.62,1013.62,39.380000000000003,1013.62,39.380000000000003,1013.62,1013.62,39.380000000000003,{"$f":"_xlfn.XLOOKUP(F609,'Object Codes'!$A$18:$A$510,'Object Codes'!$H$18:$H$510)","v":"Equipment"},{"$f":"_xlfn.XLOOKUP(F609,'Object Codes'!$A$18:$A$510,'Object Codes'!$G$18:$G$510)","v":"A"},{"$f":"_xlfn.XLOOKUP(A609,Agencies!$A$9:$A$146,Agencies!$B$9:$B$146)","v":"General Government"},{"$f":"IF(_xlfn.XLOOKUP(A609,Agencies!A:A,Agencies!D:D)=\"Y\",IF(_xlfn.XLOOKUP(F609,'Object Codes'!A:A,'Object Codes'!I:I)=\"Y\",\"Y\",\"N\"),\"N\")","v":"Y"},{"$f":"VLOOKUP(F609,'Object Codes'!$A:$C,3,0)","v":"Equipment - General"},{"$f":"VLOOKUP(A609,Agencies!A:C,3,0)","v":"Mayoralty"},2.7770410958904108]
["002",2022,"001","062","0604","302",0,0,0,832,832,0,0,0,0,0,0,0,0,0,832,0,832,0,0,832,{"$f":"_xlfn.XLOOKUP(F610,'Object Codes'!$A$18:$A$510,'Object Codes'!$H$18:$H$510)","v":"Equipment"},{"$f":"_xlfn.XLOOKUP(F610,'Object Codes'!$A$18:$A$510,'Object Codes'!$G$18:$G$510)","v":"A"},{"$f":"_xlfn.XLOOKUP(A610,Agencies!$A$9:$A$146,Agencies!$B$9:$B$146)","v":"General Government"},{"$f":"IF(_xlfn.XLOOKUP(A610,Agencies!A:A,Agencies!D:D)=\"Y\",IF(_xlfn.XLOOKUP(F610,'Object Codes'!A:A,'Object Codes'!I:I)=\"Y\",\"Y\",\"N\"),\"N\")","v":"Y"},{"$f":"VLOOKUP(F610,'Object Codes'!$A:$C,3,0)","v":"Telecommunications Equipment"},{"$f":"VLOOKUP(A610,Agencies!A:C,3,0)","v":"Mayoralty"},0]
["002",2022,"001","062","0604","314",0,0,0,310,310,0,0,0,0,0,0,0,0,0,310,0,310,0,0,310,{"$f":"_xlfn.XLOOKUP(F611,'Object Codes'!$A$18:$A$510,'Object Codes'!$H$18:$H$510)","v":"Equipment"},{"$f":"_xlfn.XLOOKUP(F611,'Object Codes'!$A$18:$A$510,'Object Codes'!$G$18:$G$510)","v":"A"},{"$f":"_xlfn.XLOOKUP(A611,Agencies!$A$9:$A$146,Agencies!$B$9:$B$146)","v":"General Government"},{"$f":"IF(_xlfn.XLOOKUP(A611,Agencies!A:A,Agencies!D:D)=\"Y\",IF(_xlfn.XLOOKUP(F611,'Object Codes'!A:A,'Object Codes'!I:I)=\"Y\",\"Y\",\"N\"),\"N\")","v":"Y"},{"$f":"VLOOKUP(F611,'Object Codes'!$A:$C,3,0)","v":"Office Furniture"},{"$f":"VLOOKUP(A611,Agencies!A:C,3,0)","v":"Mayoralty"},0]
["002",2022,"001","062","0604","315",0,0,0,1190,1190,0,0,0,0,0,1092.1500000000001,0,1092.1500000000001,1092.1500000000001,97.85,1092.1500000000001,97.85,1092.1500000000001,1092.1500000000001,97.85,{"$f":"_xlfn.XLOOKUP(F612,'Object Codes'!$A$18:$A$510,'Object Codes'!$H$18:$H$510)","v":"Equipment"},{"$f":"_xlfn.XLOOKUP(F612,'Object Codes'!$A$18:$A$510,'Object Codes'!$G$18:$G$510)","v":"A"},{"$f":"_xlfn.XLOOKUP(A612,Agencies!$A$9:$A$146,Agencies!$B$9:$B$146)","v":"General Government"},{"$f":"IF(_xlfn.XLOOKUP(A612,Agencies!A:A,Agencies!D:D)=\"Y\",IF(_xlfn.XLOOKUP(F612,'Object Codes'!A:A,'Object Codes'!I:I)=\"Y\",\"Y\",\"N\"),\"N\")","v":"Y"},{"$f":"VLOOKUP(F612,'Object Codes'!$A:$C,3,0)","v":"Office Equipment"},{"$f":"VLOOKUP(A612,Agencies!A:C,3,0)","v":"Mayoralty"},2.9921917808219183]
["002",2022,"001","062","0604","337",0,0,0,16850,30078,0,0,0,0,0,30078,0,30078,30078,0,30078,0,30078,30078,0,{"$f":"_xlfn.XLOOKUP(F613,'Object Codes'!$A$18:$A$510,'Object Codes'!$H$18:$H$510)","v":"Equipment"},{"$f":"_xlfn.XLOOKUP(F613,'Object Codes'!$A$18:$A$510,'Object Codes'!$G$18:$G$510)","v":"A"},{"$f":"_xlfn.XLOOKUP(A613,Agencies!$A$9:$A$146,Agencies!$B$9:$B$146)","v":"General Government"},{"$f":"IF(_xlfn.XLOOKUP(A613,Agencies!A:A,Agencies!D:D)=\"Y\",IF(_xlfn.XLOOKUP(F613,'Object Codes'!A:A,'Object Codes'!I:I)=\"Y\",\"Y\",\"N\"),\"N\")","v":"Y"},{"$f":"VLOOKUP(F613,'Object Codes'!$A:$C,3,0)","v":"Books - Other"},{"$f":"VLOOKUP(A613,Agencies!A:C,3,0)","v":"Mayoralty"},82.405479452054792]
["002",2022,"001","062","0604","400",0,0,0,44592,44592,0,0,0,0,0,44592,0,44592,44592,0,44592,0,44592,44592,0,{"$f":"_xlfn.XLOOKUP(F614,'Object Codes'!$A$18:$A$510,'Object Codes'!$H$18:$H$510)","v":"Other Services and Charges - General"},{"$f":"_xlfn.XLOOKUP(F614,'Object Codes'!$A$18:$A$510,'Object Codes'!$G$18:$G$510)","v":0},{"$f":"_xlfn.XLOOKUP(A614,Agencies!$A$9:$A$146,Agencies!$B$9:$B$146)","v":"General Government"},{"$f":"IF(_xlfn.XLOOKUP(A614,Agencies!A:A,Agencies!D:D)=\"Y\",IF(_xlfn.XLOOKUP(F614,'Object Codes'!A:A,'Object Codes'!I:I)=\"Y\",\"Y\",\"N\"),\"N\")","v":"Y"},{"$f":"VLOOKUP(F614,'Object Codes'!$A:$C,3,0)","v":"Other Services and Charges - General"},{"$f":"VLOOKUP(A614,Agencies!A:C,3,0)","v":"Mayoralty"},122.16986301369863]
["002",2022,"001","062","0604","402",0,0,0,523,523,0,0,0,0,0,354.4,0,354.4,354.4,168.6,354.4,168.6,354.4,354.4,168.6,{"$f":"_xlfn.XLOOKUP(F615,'Object Codes'!$A$18:$A$510,'Object Codes'!$H$18:$H$510)","v":"Other Services and Charges - General"},{"$f":"_xlfn.XLOOKUP(F615,'Object Codes'!$A$18:$A$510,'Object Codes'!$G$18:$G$510)","v":0},{"$f":"_xlfn.XLOOKUP(A615,Agencies!$A$9:$A$146,Agencies!$B$9:$B$146)","v":"General Government"},{"$f":"IF(_xlfn.XLOOKUP(A615,Agencies!A:A,Agencies!D:D)=\"Y\",IF(_xlfn.XLOOKUP(F615,'Object Codes'!A:A,'Object Codes'!I:I)=\"Y\",\"Y\",\"N\"),\"N\")","v":"Y"},{"$f":"VLOOKUP(F615,'Object Codes'!$A:$C,3,0)","v":"Telephone and Other Communications"},{"$f":"VLOOKUP(A615,Agencies!A:C,3,0)","v":"Mayoralty"},0.97095890410958896]
["002",2022,"001","062","0604","403",0,0,0,10000,17000,0,0,0,0,0,18460.91,0,18460.91,18460.91,-1460.91,18460.91,-1460.91,18460.91,18460.91,-1460.91,{"$f":"_xlfn.XLOOKUP(F616,'Object Codes'!$A$18:$A$510,'Object Codes'!$H$18:$H$510)","v":"Other Services and Charges - General"},{"$f":"_xlfn.XLOOKUP(F616,'Object Codes'!$A$18:$A$510,'Object Codes'!$G$18:$G$510)","v":0},{"$f":"_xlfn.XLOOKUP(A616,Agencies!$A$9:$A$146,Agencies!$B$9:$B$146)","v":"General Government"},{"$f":"IF(_xlfn.XLOOKUP(A616,Agencies!A:A,Agencies!D:D)=\"Y\",IF(_xlfn.XLOOKUP(F616,'Object Codes'!A:A,'Object Codes'!I:I)=\"Y\",\"Y\",\"N\"),\"N\")","v":"Y"},{"$f":"VLOOKUP(F616,'Object Codes'!$A:$C,3,0)","v":"Office Services"},{"$f":"VLOOKUP(A616,Agencies!A:C,3,0)","v":"Mayoralty"},50.577835616438357]
["002",2022,"001","062","0604","40B",0,0,0,70931,129931,0,0,0,0,0,123000,0,123000,123000,6931,123000,6931,123000,123000,6931,{"$f":"_xlfn.XLOOKUP(F617,'Object Codes'!$A$18:$A$510,'Object Codes'!$H$18:$H$510)","v":"Other Services and Charges - General"},{"$f":"_xlfn.XLOOKUP(F617,'Object Codes'!$A$18:$A$510,'Object Codes'!$G$18:$G$510)","v":0},{"$f":"_xlfn.XLOOKUP(A617,Agencies!$A$9:$A$146,Agencies!$B$9:$B$146)","v":"General Government"},{"$f":"IF(_xlfn.XLOOKUP(A617,Agencies!A:A,Agencies!D:D)=\"Y\",IF(_xlfn.XLOOKUP(F617,'Object Codes'!A:A,'Object Codes'!I:I)=\"Y\",\"Y\",\"N\"),\"N\")","v":"Y"},{"$f":"VLOOKUP(F617,'Object Codes'!$A:$C,3,0)","v":"TELEPHONE & OTHER COMMUNICATNS"},{"$f":"VLOOKUP(A617,Agencies!A:C,3,0)","v":"Mayoralty"},336.98630136986299]
["002",2022,"001","062","0604","40G",0,0,0,4217,4217,0,0,0,0,0,3941.38,0,3941.38,3941.38,275.62,3941.38,275.62,3941.38,3941.38,275.62,{"$f":"_xlfn.XLOOKUP(F618,'Object Codes'!$A$18:$A$510,'Object Codes'!$H$18:$H$510)","v":"Other Services and Charges - General"},{"$f":"_xlfn.XLOOKUP(F618,'Object Codes'!$A$18:$A$510,'Object Codes'!$G$18:$G$510)","v":0},{"$f":"_xlfn.XLOOKUP(A618,Agencies!$A$9:$A$146,Agencies!$B$9:$B$146)","v":"General Government"},{"$f":"IF(_xlfn.XLOOKUP(A618,Agencies!A:A,Agencies!D:D)=\"Y\",IF(_xlfn.XLOOKUP(F618,'Object Codes'!A:A,'Object Codes'!I:I)=\"Y\",\"Y\",\"N\"),\"N\")","v":"Y"},{"$f":"VLOOKUP(F618,'Object Codes'!$A:$C,3,0)","v":"MAINT & REP OF MOTOR VEH EQUIP"},{"$f":"VLOOKUP(A618,Agencies!A:C,3,0)","v":"Mayoralty"},10.798301369863013]
["002",2022,"001","062","0604","412",0,0,0,8900,5900,0,0,0,0,0,4631.9799999999996,0,4631.9799999999996,4631.9799999999996,1268.02,4631.9799999999996,1268.02,4631.9799999999996,4631.9799999999996,1268.02,{"$f":"_xlfn.XLOOKUP(F619,'Object Codes'!$A$18:$A$510,'Object Codes'!$H$18:$H$510)","v":"Other Services and Charges - General"},{"$f":"_xlfn.XLOOKUP(F619,'Object Codes'!$A$18:$A$510,'Object Codes'!$G$18:$G$510)","v":0},{"$f":"_xlfn.XLOOKUP(A619,Agencies!$A$9:$A$146,Agencies!$B$9:$B$146)","v":"General Government"},{"$f":"IF(_xlfn.XLOOKUP(A619,Agencies!A:A,Agencies!D:D)=\"Y\",IF(_xlfn.XLOOKUP(F619,'Object Codes'!A:A,'Object Codes'!I:I)=\"Y\",\"Y\",\"N\"),\"N\")","v":"Y"},{"$f":"VLOOKUP(F619,'Object Codes'!$A:$C,3,0)","v":"Rentals - Miscellaneous Equipment"},{"$f":"VLOOKUP(A619,Agencies!A:C,3,0)","v":"Mayoralty"},12.690356164383561]
["002",2022,"001","062","0604","417",0,0,0,500,500,0,0,0,0,0,0,0,0,0,500,0,500,0,0,500,{"$f":"_xlfn.XLOOKUP(F620,'Object Codes'!$A$18:$A$510,'Object Codes'!$H$18:$H$510)","v":"Other Services and Charges - General"},{"$f":"_xlfn.XLOOKUP(F620,'Object Codes'!$A$18:$A$510,'Object Codes'!$G$18:$G$510)","v":0},{"$f":"_xlfn.XLOOKUP(A620,Agencies!$A$9:$A$146,Agencies!$B$9:$B$146)","v":"General Government"},{"$f":"IF(_xlfn.XLOOKUP(A620,Agencies!A:A,Agencies!D:D)=\"Y\",IF(_xlfn.XLOOKUP(F620,'Object Codes'!A:A,'Object Codes'!I:I)=\"Y\",\"Y\",\"N\"),\"N\")","v":"Y"},{"$f":"VLOOKUP(F620,'Object Codes'!$A:$C,3,0)","v":"Advertising"},{"$f":"VLOOKUP(A620,Agencies!A:C,3,0)","v":"Mayoralty"},0]
["002",2022,"001","062","0604","41D",0,0,0,3336197,3424439,0,0,0,0,0,3424439,0,3424439,3424439,0,3424439,0,3424439,3424439,0,{"$f":"_xlfn.XLOOKUP(F621,'Object Codes'!$A$18:$A$510,'Object Codes'!$H$18:$H$510)","v":"Leases"},{"$f":"_xlfn.XLOOKUP(F621,'Object Codes'!$A$18:$A$510,'Object Codes'!$G$18:$G$510)","v":0},{"$f":"_xlfn.XLOOKUP(A621,Agencies!$A$9:$A$146,Agencies!$B$9:$B$146)","v":"General Government"},{"$f":"IF(_xlfn.XLOOKUP(A621,Agencies!A:A,Agencies!D:D)=\"Y\",IF(_xlfn.XLOOKUP(F621,'Object Codes'!A:A,'Object Codes'!I:I)=\"Y\",\"Y\",\"N\"),\"N\")","v":"Y"},{"$f":"VLOOKUP(F621,'Object Codes'!$A:$C,3,0)","v":"RENTALS - LAND BLDGS & STRUCTS"},{"$f":"VLOOKUP(A621,Agencies!A:C,3,0)","v":"Mayoralty"},9382.0246575342462]
["002",2022,"001","062","0604","423",0,0,0,241,241,0,0,0,0,0,0,0,0,0,241,0,241,0,0,241,{"$f":"_xlfn.XLOOKUP(F622,'Object Codes'!$A$18:$A$510,'Object Codes'!$H$18:$H$510)","v":"Heat, Light, and Power"},{"$f":"_xlfn.XLOOKUP(F622,'Object Codes'!$A$18:$A$510,'Object Codes'!$G$18:$G$510)","v":0},{"$f":"_xlfn.XLOOKUP(A622,Agencies!$A$9:$A$146,Agencies!$B$9:$B$146)","v":"General Government"},{"$f":"IF(_xlfn.XLOOKUP(A622,Agencies!A:A,Agencies!D:D)=\"Y\",IF(_xlfn.XLOOKUP(F622,'Object Codes'!A:A,'Object Codes'!I:I)=\"Y\",\"Y\",\"N\"),\"N\")","v":"Y"},{"$f":"VLOOKUP(F622,'Object Codes'!$A:$C,3,0)","v":"Heat, Light and Power"},{"$f":"VLOOKUP(A622,Agencies!A:C,3,0)","v":"Mayoralty"},0]
["002",2022,"001","062","0604","427",0,0,0,5000,0,0,0,0,0,0,0,0,0,0,0,0,0,0,0,0,{"$f":"_xlfn.XLOOKUP(F623,'Object Codes'!$A$18:$A$510,'Object Codes'!$H$18:$H$510)","v":"Other Services and Charges - General"},{"$f":"_xlfn.XLOOKUP(F623,'Object Codes'!$A$18:$A$510,'Object Codes'!$G$18:$G$510)","v":0},{"$f":"_xlfn.XLOOKUP(A623,Agencies!$A$9:$A$146,Agencies!$B$9:$B$146)","v":"General Government"},{"$f":"IF(_xlfn.XLOOKUP(A623,Agencies!A:A,Agencies!D:D)=\"Y\",IF(_xlfn.XLOOKUP(F623,'Object Codes'!A:A,'Object Codes'!I:I)=\"Y\",\"Y\",\"N\"),\"N\")","v":"Y"},{"$f":"VLOOKUP(F623,'Object Codes'!$A:$C,3,0)","v":"Data Processing Services"},{"$f":"VLOOKUP(A623,Agencies!A:C,3,0)","v":"Mayoralty"},0]
["002",2022,"001","062","0604","453",0,0,0,1000,1000,0,0,0,0,0,0,0,0,0,1000,0,1000,0,0,1000,{"$f":"_xlfn.XLOOKUP(F624,'Object Codes'!$A$18:$A$510,'Object Codes'!$H$18:$H$510)","v":"Other Services and Charges - General"},{"$f":"_xlfn.XLOOKUP(F624,'Object Codes'!$A$18:$A$510,'Object Codes'!$G$18:$G$510)","v":0},{"$f":"_xlfn.XLOOKUP(A624,Agencies!$A$9:$A$146,Agencies!$B$9:$B$146)","v":"General Government"},{"$f":"IF(_xlfn.XLOOKUP(A624,Agencies!A:A,Agencies!D:D)=\"Y\",IF(_xlfn.XLOOKUP(F624,'Object Codes'!A:A,'Object Codes'!I:I)=\"Y\",\"Y\",\"N\"),\"N\")","v":"Y"},{"$f":"VLOOKUP(F624,'Object Codes'!$A:$C,3,0)","v":"Overnight Travel Expenditures - General"},{"$f":"VLOOKUP(A624,Agencies!A:C,3,0)","v":"Mayoralty"},0]
["002",2022,"001","062","0604","608",0,0,0,1358,1358,0,0,0,0,0,1247.56,0,1247.56,1247.56,110.44,1247.56,110.44,1247.56,1247.56,110.44,{"$f":"_xlfn.XLOOKUP(F625,'Object Codes'!$A$18:$A$510,'Object Codes'!$H$18:$H$510)","v":"Contractual Services"},{"$f":"_xlfn.XLOOKUP(F625,'Object Codes'!$A$18:$A$510,'Object Codes'!$G$18:$G$510)","v":0},{"$f":"_xlfn.XLOOKUP(A625,Agencies!$A$9:$A$146,Agencies!$B$9:$B$146)","v":"General Government"},{"$f":"IF(_xlfn.XLOOKUP(A625,Agencies!A:A,Agencies!D:D)=\"Y\",IF(_xlfn.XLOOKUP(F625,'Object Codes'!A:A,'Object Codes'!I:I)=\"Y\",\"Y\",\"N\"),\"N\")","v":"Y"},{"$f":"VLOOKUP(F625,'Object Codes'!$A:$C,3,0)","v":"Maintenance and Repairs - General - Contractual"},{"$f":"VLOOKUP(A625,Agencies!A:C,3,0)","v":"Mayoralty"},3.4179726027397259]
["002",2022,"001","062","0604","622",0,0,0,20000,40000,0,0,0,0,0,39999.300000000003,0,39999.300000000003,39999.300000000003,0.7,39999.300000000003,0.7,39999.300000000003,39999.300000000003,0.7,{"$f":"_xlfn.XLOOKUP(F626,'Object Codes'!$A$18:$A$510,'Object Codes'!$H$18:$H$510)","v":"Contractual Services"},{"$f":"_xlfn.XLOOKUP(F626,'Object Codes'!$A$18:$A$510,'Object Codes'!$G$18:$G$510)","v":0},{"$f":"_xlfn.XLOOKUP(A626,Agencies!$A$9:$A$146,Agencies!$B$9:$B$146)","v":"General Government"},{"$f":"IF(_xlfn.XLOOKUP(A626,Agencies!A:A,Agencies!D:D)=\"Y\",IF(_xlfn.XLOOKUP(F626,'Object Codes'!A:A,'Object Codes'!I:I)=\"Y\",\"Y\",\"N\"),\"N\")","v":"Y"},{"$f":"VLOOKUP(F626,'Object Codes'!$A:$C,3,0)","v":"Temporary Services - Contractual"},{"$f":"VLOOKUP(A626,Agencies!A:C,3,0)","v":"Mayoralty"},109.58712328767125]
["002",2022,"001","062","0604","624",0,0,0,28228,0,0,0,0,0,0,0,0,0,0,0,0,0,0,0,0,{"$f":"_xlfn.XLOOKUP(F627,'Object Codes'!$A$18:$A$510,'Object Codes'!$H$18:$H$510)","v":"Contractual Services"},{"$f":"_xlfn.XLOOKUP(F627,'Object Codes'!$A$18:$A$510,'Object Codes'!$G$18:$G$510)","v":0},{"$f":"_xlfn.XLOOKUP(A627,Agencies!$A$9:$A$146,Agencies!$B$9:$B$146)","v":"General Government"},{"$f":"IF(_xlfn.XLOOKUP(A627,Agencies!A:A,Agencies!D:D)=\"Y\",IF(_xlfn.XLOOKUP(F627,'Object Codes'!A:A,'Object Codes'!I:I)=\"Y\",\"Y\",\"N\"),\"N\")","v":"Y"},{"$f":"VLOOKUP(F627,'Object Codes'!$A:$C,3,0)","v":"Cleaning Services - Contractual"},{"$f":"VLOOKUP(A627,Agencies!A:C,3,0)","v":"Mayoralty"},0]
["002",2022,"001","062","0604","682",0,0,0,5000,0,0,0,0,0,0,0,0,0,0,0,0,0,0,0,0,{"$f":"_xlfn.XLOOKUP(F628,'Object Codes'!$A$18:$A$510,'Object Codes'!$H$18:$H$510)","v":"Contractual Services"},{"$f":"_xlfn.XLOOKUP(F628,'Object Codes'!$A$18:$A$510,'Object Codes'!$G$18:$G$510)","v":0},{"$f":"_xlfn.XLOOKUP(A628,Agencies!$A$9:$A$146,Agencies!$B$9:$B$146)","v":"General Government"},{"$f":"IF(_xlfn.XLOOKUP(A628,Agencies!A:A,Agencies!D:D)=\"Y\",IF(_xlfn.XLOOKUP(F628,'Object Codes'!A:A,'Object Codes'!I:I)=\"Y\",\"Y\",\"N\"),\"N\")","v":"Y"},{"$f":"VLOOKUP(F628,'Object Codes'!$A:$C,3,0)","v":"Professional Services - Legal Services - Contractual"},{"$f":"VLOOKUP(A628,Agencies!A:C,3,0)","v":"Mayoralty"},0]
["002",2022,"001","062","0604","686",0,0,0,116594,116594,0,0,0,0,0,78543.899999999994,0,78543.899999999994,78543.899999999994,38050.1,78543.899999999994,38050.1,78543.899999999994,78543.899999999994,38050.1,{"$f":"_xlfn.XLOOKUP(F629,'Object Codes'!$A$18:$A$510,'Object Codes'!$H$18:$H$510)","v":"Contractual Services"},{"$f":"_xlfn.XLOOKUP(F629,'Object Codes'!$A$18:$A$510,'Object Codes'!$G$18:$G$510)","v":0},{"$f":"_xlfn.XLOOKUP(A629,Agencies!$A$9:$A$146,Agencies!$B$9:$B$146)","v":"General Government"},{"$f":"IF(_xlfn.XLOOKUP(A629,Agencies!A:A,Agencies!D:D)=\"Y\",IF(_xlfn.XLOOKUP(F629,'Object Codes'!A:A,'Object Codes'!I:I)=\"Y\",\"Y\",\"N\"),\"N\")","v":"Y"},{"$f":"VLOOKUP(F629,'Object Codes'!$A:$C,3,0)","v":"Professional Services - Other - Contractual"},{"$f":"VLOOKUP(A629,Agencies!A:C,3,0)","v":"Mayoralty"},215.18876712328765]
["002",2022,"001","062","0607","100",0,0,0,1000,1000,0,0,0,0,0,872.04,0,872.04,872.04,127.96,872.04,127.96,872.04,872.04,127.96,{"$f":"_xlfn.XLOOKUP(F630,'Object Codes'!$A$18:$A$510,'Object Codes'!$H$18:$H$510)","v":"Supplies & Materials"},{"$f":"_xlfn.XLOOKUP(F630,'Object Codes'!$A$18:$A$510,'Object Codes'!$G$18:$G$510)","v":"A"},{"$f":"_xlfn.XLOOKUP(A630,Agencies!$A$9:$A$146,Agencies!$B$9:$B$146)","v":"General Government"},{"$f":"IF(_xlfn.XLOOKUP(A630,Agencies!A:A,Agencies!D:D)=\"Y\",IF(_xlfn.XLOOKUP(F630,'Object Codes'!A:A,'Object Codes'!I:I)=\"Y\",\"Y\",\"N\"),\"N\")","v":"Y"},{"$f":"VLOOKUP(F630,'Object Codes'!$A:$C,3,0)","v":"Supplies and Materials - General"},{"$f":"VLOOKUP(A630,Agencies!A:C,3,0)","v":"Mayoralty"},2.389150684931507]
["002",2022,"001","062","0607","199",0,0,0,500,5500,0,0,0,0,0,5360.02,0,5360.02,5360.02,139.97999999999999,5360.02,139.97999999999999,5360.02,5360.02,139.97999999999999,{"$f":"_xlfn.XLOOKUP(F631,'Object Codes'!$A$18:$A$510,'Object Codes'!$H$18:$H$510)","v":"Supplies & Materials"},{"$f":"_xlfn.XLOOKUP(F631,'Object Codes'!$A$18:$A$510,'Object Codes'!$G$18:$G$510)","v":"A"},{"$f":"_xlfn.XLOOKUP(A631,Agencies!$A$9:$A$146,Agencies!$B$9:$B$146)","v":"General Government"},{"$f":"IF(_xlfn.XLOOKUP(A631,Agencies!A:A,Agencies!D:D)=\"Y\",IF(_xlfn.XLOOKUP(F631,'Object Codes'!A:A,'Object Codes'!I:I)=\"Y\",\"Y\",\"N\"),\"N\")","v":"Y"},{"$f":"VLOOKUP(F631,'Object Codes'!$A:$C,3,0)","v":"Data Processing Supplies"},{"$f":"VLOOKUP(A631,Agencies!A:C,3,0)","v":"Mayoralty"},14.684986301369864]
["002",2022,"001","062","0607","302",0,0,0,220,220,0,0,0,0,0,0,0,0,0,220,0,220,0,0,220,{"$f":"_xlfn.XLOOKUP(F632,'Object Codes'!$A$18:$A$510,'Object Codes'!$H$18:$H$510)","v":"Equipment"},{"$f":"_xlfn.XLOOKUP(F632,'Object Codes'!$A$18:$A$510,'Object Codes'!$G$18:$G$510)","v":"A"},{"$f":"_xlfn.XLOOKUP(A632,Agencies!$A$9:$A$146,Agencies!$B$9:$B$146)","v":"General Government"},{"$f":"IF(_xlfn.XLOOKUP(A632,Agencies!A:A,Agencies!D:D)=\"Y\",IF(_xlfn.XLOOKUP(F632,'Object Codes'!A:A,'Object Codes'!I:I)=\"Y\",\"Y\",\"N\"),\"N\")","v":"Y"},{"$f":"VLOOKUP(F632,'Object Codes'!$A:$C,3,0)","v":"Telecommunications Equipment"},{"$f":"VLOOKUP(A632,Agencies!A:C,3,0)","v":"Mayoralty"},0]
["002",2022,"001","062","0607","315",0,0,0,500,500,0,0,0,0,0,504.7,0,504.7,504.7,-4.7,504.7,-4.7,504.7,504.7,-4.7,{"$f":"_xlfn.XLOOKUP(F633,'Object Codes'!$A$18:$A$510,'Object Codes'!$H$18:$H$510)","v":"Equipment"},{"$f":"_xlfn.XLOOKUP(F633,'Object Codes'!$A$18:$A$510,'Object Codes'!$G$18:$G$510)","v":"A"},{"$f":"_xlfn.XLOOKUP(A633,Agencies!$A$9:$A$146,Agencies!$B$9:$B$146)","v":"General Government"},{"$f":"IF(_xlfn.XLOOKUP(A633,Agencies!A:A,Agencies!D:D)=\"Y\",IF(_xlfn.XLOOKUP(F633,'Object Codes'!A:A,'Object Codes'!I:I)=\"Y\",\"Y\",\"N\"),\"N\")","v":"Y"},{"$f":"VLOOKUP(F633,'Object Codes'!$A:$C,3,0)","v":"Office Equipment"},{"$f":"VLOOKUP(A633,Agencies!A:C,3,0)","v":"Mayoralty"},1.3827397260273973]
["002",2022,"001","062","0607","332",0,0,0,500,500,0,0,0,0,0,504.7,0,504.7,504.7,-4.7,504.7,-4.7,504.7,504.7,-4.7,{"$f":"_xlfn.XLOOKUP(F634,'Object Codes'!$A$18:$A$510,'Object Codes'!$H$18:$H$510)","v":"Equipment"},{"$f":"_xlfn.XLOOKUP(F634,'Object Codes'!$A$18:$A$510,'Object Codes'!$G$18:$G$510)","v":"A"},{"$f":"_xlfn.XLOOKUP(A634,Agencies!$A$9:$A$146,Agencies!$B$9:$B$146)","v":"General Government"},{"$f":"IF(_xlfn.XLOOKUP(A634,Agencies!A:A,Agencies!D:D)=\"Y\",IF(_xlfn.XLOOKUP(F634,'Object Codes'!A:A,'Object Codes'!I:I)=\"Y\",\"Y\",\"N\"),\"N\")","v":"Y"},{"$f":"VLOOKUP(F634,'Object Codes'!$A:$C,3,0)","v":"Purchases of Data Processing Equipment"},{"$f":"VLOOKUP(A634,Agencies!A:C,3,0)","v":"Mayoralty"},1.3827397260273973]
["002",2022,"001","062","0607","400",0,0,0,280,280,0,0,0,0,0,0,0,0,0,280,0,280,0,0,280,{"$f":"_xlfn.XLOOKUP(F635,'Object Codes'!$A$18:$A$510,'Object Codes'!$H$18:$H$510)","v":"Other Services and Charges - General"},{"$f":"_xlfn.XLOOKUP(F635,'Object Codes'!$A$18:$A$510,'Object Codes'!$G$18:$G$510)","v":0},{"$f":"_xlfn.XLOOKUP(A635,Agencies!$A$9:$A$146,Agencies!$B$9:$B$146)","v":"General Government"},{"$f":"IF(_xlfn.XLOOKUP(A635,Agencies!A:A,Agencies!D:D)=\"Y\",IF(_xlfn.XLOOKUP(F635,'Object Codes'!A:A,'Object Codes'!I:I)=\"Y\",\"Y\",\"N\"),\"N\")","v":"Y"},{"$f":"VLOOKUP(F635,'Object Codes'!$A:$C,3,0)","v":"Other Services and Charges - General"},{"$f":"VLOOKUP(A635,Agencies!A:C,3,0)","v":"Mayoralty"},0]
["002",2022,"001","062","0607","403",0,0,0,400,400,0,0,0,0,0,0,0,0,0,400,0,400,0,0,400,{"$f":"_xlfn.XLOOKUP(F636,'Object Codes'!$A$18:$A$510,'Object Codes'!$H$18:$H$510)","v":"Other Services and Charges - General"},{"$f":"_xlfn.XLOOKUP(F636,'Object Codes'!$A$18:$A$510,'Object Codes'!$G$18:$G$510)","v":0},{"$f":"_xlfn.XLOOKUP(A636,Agencies!$A$9:$A$146,Agencies!$B$9:$B$146)","v":"General Government"},{"$f":"IF(_xlfn.XLOOKUP(A636,Agencies!A:A,Agencies!D:D)=\"Y\",IF(_xlfn.XLOOKUP(F636,'Object Codes'!A:A,'Object Codes'!I:I)=\"Y\",\"Y\",\"N\"),\"N\")","v":"Y"},{"$f":"VLOOKUP(F636,'Object Codes'!$A:$C,3,0)","v":"Office Services"},{"$f":"VLOOKUP(A636,Agencies!A:C,3,0)","v":"Mayoralty"},0]
["002",2022,"001","062","0607","452",0,0,0,27824,25491,0,0,0,0,0,24183.93,0,24183.93,24183.93,1307.07,24183.93,1307.07,24183.93,24183.93,1307.07,{"$f":"_xlfn.XLOOKUP(F637,'Object Codes'!$A$18:$A$510,'Object Codes'!$H$18:$H$510)","v":"Other Services and Charges - General"},{"$f":"_xlfn.XLOOKUP(F637,'Object Codes'!$A$18:$A$510,'Object Codes'!$G$18:$G$510)","v":0},{"$f":"_xlfn.XLOOKUP(A637,Agencies!$A$9:$A$146,Agencies!$B$9:$B$146)","v":"General Government"},{"$f":"IF(_xlfn.XLOOKUP(A637,Agencies!A:A,Agencies!D:D)=\"Y\",IF(_xlfn.XLOOKUP(F637,'Object Codes'!A:A,'Object Codes'!I:I)=\"Y\",\"Y\",\"N\"),\"N\")","v":"Y"},{"$f":"VLOOKUP(F637,'Object Codes'!$A:$C,3,0)","v":"Non Overnight Travel Expenditures - Special"},{"$f":"VLOOKUP(A637,Agencies!A:C,3,0)","v":"Mayoralty"},66.257342465753425]
["002",2022,"001","062","0607","608",0,0,0,662,662,0,0,0,0,0,0,0,0,0,662,0,662,0,0,662,{"$f":"_xlfn.XLOOKUP(F638,'Object Codes'!$A$18:$A$510,'Object Codes'!$H$18:$H$510)","v":"Contractual Services"},{"$f":"_xlfn.XLOOKUP(F638,'Object Codes'!$A$18:$A$510,'Object Codes'!$G$18:$G$510)","v":0},{"$f":"_xlfn.XLOOKUP(A638,Agencies!$A$9:$A$146,Agencies!$B$9:$B$146)","v":"General Government"},{"$f":"IF(_xlfn.XLOOKUP(A638,Agencies!A:A,Agencies!D:D)=\"Y\",IF(_xlfn.XLOOKUP(F638,'Object Codes'!A:A,'Object Codes'!I:I)=\"Y\",\"Y\",\"N\"),\"N\")","v":"Y"},{"$f":"VLOOKUP(F638,'Object Codes'!$A:$C,3,0)","v":"Maintenance and Repairs - General - Contractual"},{"$f":"VLOOKUP(A638,Agencies!A:C,3,0)","v":"Mayoralty"},0]
["002",2022,"001","062","0607","686",0,0,0,300,300,0,0,0,0,0,0,0,0,0,300,0,300,0,0,300,{"$f":"_xlfn.XLOOKUP(F639,'Object Codes'!$A$18:$A$510,'Object Codes'!$H$18:$H$510)","v":"Contractual Services"},{"$f":"_xlfn.XLOOKUP(F639,'Object Codes'!$A$18:$A$510,'Object Codes'!$G$18:$G$510)","v":0},{"$f":"_xlfn.XLOOKUP(A639,Agencies!$A$9:$A$146,Agencies!$B$9:$B$146)","v":"General Government"},{"$f":"IF(_xlfn.XLOOKUP(A639,Agencies!A:A,Agencies!D:D)=\"Y\",IF(_xlfn.XLOOKUP(F639,'Object Codes'!A:A,'Object Codes'!I:I)=\"Y\",\"Y\",\"N\"),\"N\")","v":"Y"},{"$f":"VLOOKUP(F639,'Object Codes'!$A:$C,3,0)","v":"Professional Services - Other - Contractual"},{"$f":"VLOOKUP(A639,Agencies!A:C,3,0)","v":"Mayoralty"},0]
["002",2022,"001","062","0609","41D",0,0,0,324000,324000,0,0,0,0,0,324000,0,324000,324000,0,324000,0,324000,324000,0,{"$f":"_xlfn.XLOOKUP(F640,'Object Codes'!$A$18:$A$510,'Object Codes'!$H$18:$H$510)","v":"Leases"},{"$f":"_xlfn.XLOOKUP(F640,'Object Codes'!$A$18:$A$510,'Object Codes'!$G$18:$G$510)","v":0},{"$f":"_xlfn.XLOOKUP(A640,Agencies!$A$9:$A$146,Agencies!$B$9:$B$146)","v":"General Government"},{"$f":"IF(_xlfn.XLOOKUP(A640,Agencies!A:A,Agencies!D:D)=\"Y\",IF(_xlfn.XLOOKUP(F640,'Object Codes'!A:A,'Object Codes'!I:I)=\"Y\",\"Y\",\"N\"),\"N\")","v":"Y"},{"$f":"VLOOKUP(F640,'Object Codes'!$A:$C,3,0)","v":"RENTALS - LAND BLDGS & STRUCTS"},{"$f":"VLOOKUP(A640,Agencies!A:C,3,0)","v":"Mayoralty"},887.67123287671234]
["002",2022,"001","062","0613","499",0,0,0,45528,45528,0,0,0,0,0,42736.88,0,42736.88,42736.88,2791.12,42736.88,2791.12,42736.88,42736.88,2791.12,{"$f":"_xlfn.XLOOKUP(F641,'Object Codes'!$A$18:$A$510,'Object Codes'!$H$18:$H$510)","v":"Other Services and Charges - General"},{"$f":"_xlfn.XLOOKUP(F641,'Object Codes'!$A$18:$A$510,'Object Codes'!$G$18:$G$510)","v":0},{"$f":"_xlfn.XLOOKUP(A641,Agencies!$A$9:$A$146,Agencies!$B$9:$B$146)","v":"General Government"},{"$f":"IF(_xlfn.XLOOKUP(A641,Agencies!A:A,Agencies!D:D)=\"Y\",IF(_xlfn.XLOOKUP(F641,'Object Codes'!A:A,'Object Codes'!I:I)=\"Y\",\"Y\",\"N\"),\"N\")","v":"Y"},{"$f":"VLOOKUP(F641,'Object Codes'!$A:$C,3,0)","v":"Other Expenditures - General"},{"$f":"VLOOKUP(A641,Agencies!A:C,3,0)","v":"Mayoralty"},117.08734246575342]
["002",2022,"001","062","0650","100",0,0,0,469676,169760,0,0,0,0,0,147284.5,0,147284.5,147284.5,22475.5,147284.5,22475.5,147284.5,147284.5,22475.5,{"$f":"_xlfn.XLOOKUP(F642,'Object Codes'!$A$18:$A$510,'Object Codes'!$H$18:$H$510)","v":"Supplies & Materials"},{"$f":"_xlfn.XLOOKUP(F642,'Object Codes'!$A$18:$A$510,'Object Codes'!$G$18:$G$510)","v":"A"},{"$f":"_xlfn.XLOOKUP(A642,Agencies!$A$9:$A$146,Agencies!$B$9:$B$146)","v":"General Government"},{"$f":"IF(_xlfn.XLOOKUP(A642,Agencies!A:A,Agencies!D:D)=\"Y\",IF(_xlfn.XLOOKUP(F642,'Object Codes'!A:A,'Object Codes'!I:I)=\"Y\",\"Y\",\"N\"),\"N\")","v":"Y"},{"$f":"VLOOKUP(F642,'Object Codes'!$A:$C,3,0)","v":"Supplies and Materials - General"},{"$f":"VLOOKUP(A642,Agencies!A:C,3,0)","v":"Mayoralty"},403.51917808219179]
["002",2022,"001","062","0655","400",0,0,0,0,15000,0,0,0,0,0,15000,0,15000,15000,0,15000,0,15000,15000,0,{"$f":"_xlfn.XLOOKUP(F643,'Object Codes'!$A$18:$A$510,'Object Codes'!$H$18:$H$510)","v":"Other Services and Charges - General"},{"$f":"_xlfn.XLOOKUP(F643,'Object Codes'!$A$18:$A$510,'Object Codes'!$G$18:$G$510)","v":0},{"$f":"_xlfn.XLOOKUP(A643,Agencies!$A$9:$A$146,Agencies!$B$9:$B$146)","v":"General Government"},{"$f":"IF(_xlfn.XLOOKUP(A643,Agencies!A:A,Agencies!D:D)=\"Y\",IF(_xlfn.XLOOKUP(F643,'Object Codes'!A:A,'Object Codes'!I:I)=\"Y\",\"Y\",\"N\"),\"N\")","v":"Y"},{"$f":"VLOOKUP(F643,'Object Codes'!$A:$C,3,0)","v":"Other Services and Charges - General"},{"$f":"VLOOKUP(A643,Agencies!A:C,3,0)","v":"Mayoralty"},41.095890410958901]
["002",2022,"001","062","0656","600",0,0,0,0,339079,0,0,0,0,0,0,0,0,0,339079,0,339079,0,0,339079,{"$f":"_xlfn.XLOOKUP(F644,'Object Codes'!$A$18:$A$510,'Object Codes'!$H$18:$H$510)","v":"Contractual Services"},{"$f":"_xlfn.XLOOKUP(F644,'Object Codes'!$A$18:$A$510,'Object Codes'!$G$18:$G$510)","v":0},{"$f":"_xlfn.XLOOKUP(A644,Agencies!$A$9:$A$146,Agencies!$B$9:$B$146)","v":"General Government"},{"$f":"IF(_xlfn.XLOOKUP(A644,Agencies!A:A,Agencies!D:D)=\"Y\",IF(_xlfn.XLOOKUP(F644,'Object Codes'!A:A,'Object Codes'!I:I)=\"Y\",\"Y\",\"N\"),\"N\")","v":"Y"},{"$f":"VLOOKUP(F644,'Object Codes'!$A:$C,3,0)","v":"Contractual Services - General"},{"$f":"VLOOKUP(A644,Agencies!A:C,3,0)","v":"Mayoralty"},0]
["002",2022,"001","062","P062","101",0,0,0,-4000,-4000,0,0,0,0,0,0,0,0,0,-4000,0,-4000,0,0,-4000,{"$f":"_xlfn.XLOOKUP(F645,'Object Codes'!$A$18:$A$510,'Object Codes'!$H$18:$H$510)","v":"Supplies & Materials"},{"$f":"_xlfn.XLOOKUP(F645,'Object Codes'!$A$18:$A$510,'Object Codes'!$G$18:$G$510)","v":"A"},{"$f":"_xlfn.XLOOKUP(A645,Agencies!$A$9:$A$146,Agencies!$B$9:$B$146)","v":"General Government"},{"$f":"IF(_xlfn.XLOOKUP(A645,Agencies!A:A,Agencies!D:D)=\"Y\",IF(_xlfn.XLOOKUP(F645,'Object Codes'!A:A,'Object Codes'!I:I)=\"Y\",\"Y\",\"N\"),\"N\")","v":"Y"},{"$f":"VLOOKUP(F645,'Object Codes'!$A:$C,3,0)","v":"Printing Supplies"},{"$f":"VLOOKUP(A645,Agencies!A:C,3,0)","v":"Mayoralty"},0]
["002",2022,"001","062","P062","499",0,0,0,3175,3175,0,0,0,0,0,0,0,0,0,3175,0,3175,0,0,3175,{"$f":"_xlfn.XLOOKUP(F646,'Object Codes'!$A$18:$A$510,'Object Codes'!$H$18:$H$510)","v":"Other Services and Charges - General"},{"$f":"_xlfn.XLOOKUP(F646,'Object Codes'!$A$18:$A$510,'Object Codes'!$G$18:$G$510)","v":0},{"$f":"_xlfn.XLOOKUP(A646,Agencies!$A$9:$A$146,Agencies!$B$9:$B$146)","v":"General Government"},{"$f":"IF(_xlfn.XLOOKUP(A646,Agencies!A:A,Agencies!D:D)=\"Y\",IF(_xlfn.XLOOKUP(F646,'Object Codes'!A:A,'Object Codes'!I:I)=\"Y\",\"Y\",\"N\"),\"N\")","v":"Y"},{"$f":"VLOOKUP(F646,'Object Codes'!$A:$C,3,0)","v":"Other Expenditures - General"},{"$f":"VLOOKUP(A646,Agencies!A:C,3,0)","v":"Mayoralty"},0]
["002",2022,"001","062","P062","600",0,0,0,114903,-200306,0,0,0,0,0,0,0,0,0,-200306,0,-200306,0,0,-200306,{"$f":"_xlfn.XLOOKUP(F647,'Object Codes'!$A$18:$A$510,'Object Codes'!$H$18:$H$510)","v":"Contractual Services"},{"$f":"_xlfn.XLOOKUP(F647,'Object Codes'!$A$18:$A$510,'Object Codes'!$G$18:$G$510)","v":0},{"$f":"_xlfn.XLOOKUP(A647,Agencies!$A$9:$A$146,Agencies!$B$9:$B$146)","v":"General Government"},{"$f":"IF(_xlfn.XLOOKUP(A647,Agencies!A:A,Agencies!D:D)=\"Y\",IF(_xlfn.XLOOKUP(F647,'Object Codes'!A:A,'Object Codes'!I:I)=\"Y\",\"Y\",\"N\"),\"N\")","v":"Y"},{"$f":"VLOOKUP(F647,'Object Codes'!$A:$C,3,0)","v":"Contractual Services - General"},{"$f":"VLOOKUP(A647,Agencies!A:C,3,0)","v":"Mayoralty"},0]
["002",2022,"001","070","0710","001",0,12,12,1263096,1263096,0,0,0,0,0,924578.21,0,924578.21,924578.21,338517.79,924578.21,338517.79,924578.21,924578.21,338517.79,{"$f":"_xlfn.XLOOKUP(F648,'Object Codes'!$A$18:$A$510,'Object Codes'!$H$18:$H$510)","v":"PS - Regular"},{"$f":"_xlfn.XLOOKUP(F648,'Object Codes'!$A$18:$A$510,'Object Codes'!$G$18:$G$510)","v":"C"},{"$f":"_xlfn.XLOOKUP(A648,Agencies!$A$9:$A$146,Agencies!$B$9:$B$146)","v":"General Government"},{"$f":"IF(_xlfn.XLOOKUP(A648,Agencies!A:A,Agencies!D:D)=\"Y\",IF(_xlfn.XLOOKUP(F648,'Object Codes'!A:A,'Object Codes'!I:I)=\"Y\",\"Y\",\"N\"),\"N\")","v":"Y"},{"$f":"VLOOKUP(F648,'Object Codes'!$A:$C,3,0)","v":"Full Year Positions"},{"$f":"VLOOKUP(A648,Agencies!A:C,3,0)","v":"Mayoralty"},2533.0909863013699]
["002",2022,"001","070","0710","046",0,0,0,0,0,0,0,0,0,0,52144.68,1001.78,53146.46,53146.46,-53146.46,53146.46,-53146.46,53146.46,53146.46,-53146.46,{"$f":"_xlfn.XLOOKUP(F649,'Object Codes'!$A$18:$A$510,'Object Codes'!$H$18:$H$510)","v":"PS - Additional Gross"},{"$f":"_xlfn.XLOOKUP(F649,'Object Codes'!$A$18:$A$510,'Object Codes'!$G$18:$G$510)","v":"A"},{"$f":"_xlfn.XLOOKUP(A649,Agencies!$A$9:$A$146,Agencies!$B$9:$B$146)","v":"General Government"},{"$f":"IF(_xlfn.XLOOKUP(A649,Agencies!A:A,Agencies!D:D)=\"Y\",IF(_xlfn.XLOOKUP(F649,'Object Codes'!A:A,'Object Codes'!I:I)=\"Y\",\"Y\",\"N\"),\"N\")","v":"Y"},{"$f":"VLOOKUP(F649,'Object Codes'!$A:$C,3,0)","v":"Terminal Leave"},{"$f":"VLOOKUP(A649,Agencies!A:C,3,0)","v":"Mayoralty"},{"$f":"S649/365","v":145.6067397260274}]
["002",2022,"001","071","0714","100",0,0,0,8842,2542,0,0,0,0,0,2520.9,0,2520.9,2520.9,21.1,2520.9,21.1,2520.9,2520.9,21.1,{"$f":"_xlfn.XLOOKUP(F650,'Object Codes'!$A$18:$A$510,'Object Codes'!$H$18:$H$510)","v":"Supplies & Materials"},{"$f":"_xlfn.XLOOKUP(F650,'Object Codes'!$A$18:$A$510,'Object Codes'!$G$18:$G$510)","v":"A"},{"$f":"_xlfn.XLOOKUP(A650,Agencies!$A$9:$A$146,Agencies!$B$9:$B$146)","v":"General Government"},{"$f":"IF(_xlfn.XLOOKUP(A650,Agencies!A:A,Agencies!D:D)=\"Y\",IF(_xlfn.XLOOKUP(F650,'Object Codes'!A:A,'Object Codes'!I:I)=\"Y\",\"Y\",\"N\"),\"N\")","v":"Y"},{"$f":"VLOOKUP(F650,'Object Codes'!$A:$C,3,0)","v":"Supplies and Materials - General"},{"$f":"VLOOKUP(A650,Agencies!A:C,3,0)","v":"Mayoralty"},6.9065753424657537]
["002",2022,"001","071","0714","101",0,0,0,200,200,0,0,0,0,0,0,0,0,0,200,0,200,0,0,200,{"$f":"_xlfn.XLOOKUP(F651,'Object Codes'!$A$18:$A$510,'Object Codes'!$H$18:$H$510)","v":"Supplies & Materials"},{"$f":"_xlfn.XLOOKUP(F651,'Object Codes'!$A$18:$A$510,'Object Codes'!$G$18:$G$510)","v":"A"},{"$f":"_xlfn.XLOOKUP(A651,Agencies!$A$9:$A$146,Agencies!$B$9:$B$146)","v":"General Government"},{"$f":"IF(_xlfn.XLOOKUP(A651,Agencies!A:A,Agencies!D:D)=\"Y\",IF(_xlfn.XLOOKUP(F651,'Object Codes'!A:A,'Object Codes'!I:I)=\"Y\",\"Y\",\"N\"),\"N\")","v":"Y"},{"$f":"VLOOKUP(F651,'Object Codes'!$A:$C,3,0)","v":"Printing Supplies"},{"$f":"VLOOKUP(A651,Agencies!A:C,3,0)","v":"Mayoralty"},0]
["002",2022,"001","071","0714","117",0,0,0,1500,1500,0,0,0,0,0,0,0,0,0,1500,0,1500,0,0,1500,{"$f":"_xlfn.XLOOKUP(F652,'Object Codes'!$A$18:$A$510,'Object Codes'!$H$18:$H$510)","v":"Supplies & Materials"},{"$f":"_xlfn.XLOOKUP(F652,'Object Codes'!$A$18:$A$510,'Object Codes'!$G$18:$G$510)","v":"A"},{"$f":"_xlfn.XLOOKUP(A652,Agencies!$A$9:$A$146,Agencies!$B$9:$B$146)","v":"General Government"},{"$f":"IF(_xlfn.XLOOKUP(A652,Agencies!A:A,Agencies!D:D)=\"Y\",IF(_xlfn.XLOOKUP(F652,'Object Codes'!A:A,'Object Codes'!I:I)=\"Y\",\"Y\",\"N\"),\"N\")","v":"Y"},{"$f":"VLOOKUP(F652,'Object Codes'!$A:$C,3,0)","v":"Postage"},{"$f":"VLOOKUP(A652,Agencies!A:C,3,0)","v":"Mayoralty"},0]
["002",2022,"001","071","0714","199",0,0,0,100,100,0,0,0,0,0,0,0,0,0,100,0,100,0,0,100,{"$f":"_xlfn.XLOOKUP(F653,'Object Codes'!$A$18:$A$510,'Object Codes'!$H$18:$H$510)","v":"Supplies & Materials"},{"$f":"_xlfn.XLOOKUP(F653,'Object Codes'!$A$18:$A$510,'Object Codes'!$G$18:$G$510)","v":"A"},{"$f":"_xlfn.XLOOKUP(A653,Agencies!$A$9:$A$146,Agencies!$B$9:$B$146)","v":"General Government"},{"$f":"IF(_xlfn.XLOOKUP(A653,Agencies!A:A,Agencies!D:D)=\"Y\",IF(_xlfn.XLOOKUP(F653,'Object Codes'!A:A,'Object Codes'!I:I)=\"Y\",\"Y\",\"N\"),\"N\")","v":"Y"},{"$f":"VLOOKUP(F653,'Object Codes'!$A:$C,3,0)","v":"Data Processing Supplies"},{"$f":"VLOOKUP(A653,Agencies!A:C,3,0)","v":"Mayoralty"},0]
["002",2022,"001","071","0714","302",0,0,0,100,100,0,0,0,0,0,0,0,0,0,100,0,100,0,0,100,{"$f":"_xlfn.XLOOKUP(F654,'Object Codes'!$A$18:$A$510,'Object Codes'!$H$18:$H$510)","v":"Equipment"},{"$f":"_xlfn.XLOOKUP(F654,'Object Codes'!$A$18:$A$510,'Object Codes'!$G$18:$G$510)","v":"A"},{"$f":"_xlfn.XLOOKUP(A654,Agencies!$A$9:$A$146,Agencies!$B$9:$B$146)","v":"General Government"},{"$f":"IF(_xlfn.XLOOKUP(A654,Agencies!A:A,Agencies!D:D)=\"Y\",IF(_xlfn.XLOOKUP(F654,'Object Codes'!A:A,'Object Codes'!I:I)=\"Y\",\"Y\",\"N\"),\"N\")","v":"Y"},{"$f":"VLOOKUP(F654,'Object Codes'!$A:$C,3,0)","v":"Telecommunications Equipment"},{"$f":"VLOOKUP(A654,Agencies!A:C,3,0)","v":"Mayoralty"},0]
["002",2022,"001","071","0714","315",0,0,0,710,710,0,0,0,0,0,0,0,0,0,710,0,710,0,0,710,{"$f":"_xlfn.XLOOKUP(F655,'Object Codes'!$A$18:$A$510,'Object Codes'!$H$18:$H$510)","v":"Equipment"},{"$f":"_xlfn.XLOOKUP(F655,'Object Codes'!$A$18:$A$510,'Object Codes'!$G$18:$G$510)","v":"A"},{"$f":"_xlfn.XLOOKUP(A655,Agencies!$A$9:$A$146,Agencies!$B$9:$B$146)","v":"General Government"},{"$f":"IF(_xlfn.XLOOKUP(A655,Agencies!A:A,Agencies!D:D)=\"Y\",IF(_xlfn.XLOOKUP(F655,'Object Codes'!A:A,'Object Codes'!I:I)=\"Y\",\"Y\",\"N\"),\"N\")","v":"Y"},{"$f":"VLOOKUP(F655,'Object Codes'!$A:$C,3,0)","v":"Office Equipment"},{"$f":"VLOOKUP(A655,Agencies!A:C,3,0)","v":"Mayoralty"},0]
["002",2022,"001","071","0714","332",0,0,0,100,100,0,0,0,0,0,0,0,0,0,100,0,100,0,0,100,{"$f":"_xlfn.XLOOKUP(F656,'Object Codes'!$A$18:$A$510,'Object Codes'!$H$18:$H$510)","v":"Equipment"},{"$f":"_xlfn.XLOOKUP(F656,'Object Codes'!$A$18:$A$510,'Object Codes'!$G$18:$G$510)","v":"A"},{"$f":"_xlfn.XLOOKUP(A656,Agencies!$A$9:$A$146,Agencies!$B$9:$B$146)","v":"General Government"},{"$f":"IF(_xlfn.XLOOKUP(A656,Agencies!A:A,Agencies!D:D)=\"Y\",IF(_xlfn.XLOOKUP(F656,'Object Codes'!A:A,'Object Codes'!I:I)=\"Y\",\"Y\",\"N\"),\"N\")","v":"Y"},{"$f":"VLOOKUP(F656,'Object Codes'!$A:$C,3,0)","v":"Purchases of Data Processing Equipment"},{"$f":"VLOOKUP(A656,Agencies!A:C,3,0)","v":"Mayoralty"},0]
["002",2022,"001","071","0714","337",0,0,0,10150,2750,0,0,0,0,0,1800,0,1800,1800,950,1800,950,1800,1800,950,{"$f":"_xlfn.XLOOKUP(F657,'Object Codes'!$A$18:$A$510,'Object Codes'!$H$18:$H$510)","v":"Equipment"},{"$f":"_xlfn.XLOOKUP(F657,'Object Codes'!$A$18:$A$510,'Object Codes'!$G$18:$G$510)","v":"A"},{"$f":"_xlfn.XLOOKUP(A657,Agencies!$A$9:$A$146,Agencies!$B$9:$B$146)","v":"General Government"},{"$f":"IF(_xlfn.XLOOKUP(A657,Agencies!A:A,Agencies!D:D)=\"Y\",IF(_xlfn.XLOOKUP(F657,'Object Codes'!A:A,'Object Codes'!I:I)=\"Y\",\"Y\",\"N\"),\"N\")","v":"Y"},{"$f":"VLOOKUP(F657,'Object Codes'!$A:$C,3,0)","v":"Books - Other"},{"$f":"VLOOKUP(A657,Agencies!A:C,3,0)","v":"Mayoralty"},4.9315068493150687]
["002",2022,"001","071","0714","400",0,0,0,143,143,0,0,0,0,0,0,0,0,0,143,0,143,0,0,143,{"$f":"_xlfn.XLOOKUP(F658,'Object Codes'!$A$18:$A$510,'Object Codes'!$H$18:$H$510)","v":"Other Services and Charges - General"},{"$f":"_xlfn.XLOOKUP(F658,'Object Codes'!$A$18:$A$510,'Object Codes'!$G$18:$G$510)","v":0},{"$f":"_xlfn.XLOOKUP(A658,Agencies!$A$9:$A$146,Agencies!$B$9:$B$146)","v":"General Government"},{"$f":"IF(_xlfn.XLOOKUP(A658,Agencies!A:A,Agencies!D:D)=\"Y\",IF(_xlfn.XLOOKUP(F658,'Object Codes'!A:A,'Object Codes'!I:I)=\"Y\",\"Y\",\"N\"),\"N\")","v":"Y"},{"$f":"VLOOKUP(F658,'Object Codes'!$A:$C,3,0)","v":"Other Services and Charges - General"},{"$f":"VLOOKUP(A658,Agencies!A:C,3,0)","v":"Mayoralty"},0]
["002",2022,"001","071","0714","402",0,0,0,500,500,0,0,0,0,0,0,0,0,0,500,0,500,0,0,500,{"$f":"_xlfn.XLOOKUP(F659,'Object Codes'!$A$18:$A$510,'Object Codes'!$H$18:$H$510)","v":"Other Services and Charges - General"},{"$f":"_xlfn.XLOOKUP(F659,'Object Codes'!$A$18:$A$510,'Object Codes'!$G$18:$G$510)","v":0},{"$f":"_xlfn.XLOOKUP(A659,Agencies!$A$9:$A$146,Agencies!$B$9:$B$146)","v":"General Government"},{"$f":"IF(_xlfn.XLOOKUP(A659,Agencies!A:A,Agencies!D:D)=\"Y\",IF(_xlfn.XLOOKUP(F659,'Object Codes'!A:A,'Object Codes'!I:I)=\"Y\",\"Y\",\"N\"),\"N\")","v":"Y"},{"$f":"VLOOKUP(F659,'Object Codes'!$A:$C,3,0)","v":"Telephone and Other Communications"},{"$f":"VLOOKUP(A659,Agencies!A:C,3,0)","v":"Mayoralty"},0]
["002",2022,"001","071","0714","403",0,0,0,1300,1000,0,0,0,0,0,375,0,375,375,625,375,625,375,375,625,{"$f":"_xlfn.XLOOKUP(F660,'Object Codes'!$A$18:$A$510,'Object Codes'!$H$18:$H$510)","v":"Other Services and Charges - General"},{"$f":"_xlfn.XLOOKUP(F660,'Object Codes'!$A$18:$A$510,'Object Codes'!$G$18:$G$510)","v":0},{"$f":"_xlfn.XLOOKUP(A660,Agencies!$A$9:$A$146,Agencies!$B$9:$B$146)","v":"General Government"},{"$f":"IF(_xlfn.XLOOKUP(A660,Agencies!A:A,Agencies!D:D)=\"Y\",IF(_xlfn.XLOOKUP(F660,'Object Codes'!A:A,'Object Codes'!I:I)=\"Y\",\"Y\",\"N\"),\"N\")","v":"Y"},{"$f":"VLOOKUP(F660,'Object Codes'!$A:$C,3,0)","v":"Office Services"},{"$f":"VLOOKUP(A660,Agencies!A:C,3,0)","v":"Mayoralty"},1.0273972602739727]
["002",2022,"001","071","0714","414",0,0,0,216212,216212,0,0,0,0,0,215779.41,0,215779.41,215779.41,432.59,215779.41,432.59,215779.41,215779.41,432.59,{"$f":"_xlfn.XLOOKUP(F661,'Object Codes'!$A$18:$A$510,'Object Codes'!$H$18:$H$510)","v":"Leases"},{"$f":"_xlfn.XLOOKUP(F661,'Object Codes'!$A$18:$A$510,'Object Codes'!$G$18:$G$510)","v":0},{"$f":"_xlfn.XLOOKUP(A661,Agencies!$A$9:$A$146,Agencies!$B$9:$B$146)","v":"General Government"},{"$f":"IF(_xlfn.XLOOKUP(A661,Agencies!A:A,Agencies!D:D)=\"Y\",IF(_xlfn.XLOOKUP(F661,'Object Codes'!A:A,'Object Codes'!I:I)=\"Y\",\"Y\",\"N\"),\"N\")","v":"Y"},{"$f":"VLOOKUP(F661,'Object Codes'!$A:$C,3,0)","v":"Rentals - Land, Buildings and Structures"},{"$f":"VLOOKUP(A661,Agencies!A:C,3,0)","v":"Mayoralty"},591.17646575342462]
["002",2022,"001","071","0714","451",0,0,0,343,743,0,0,0,0,0,629.12,0,629.12,629.12,113.88,629.12,113.88,629.12,629.12,113.88,{"$f":"_xlfn.XLOOKUP(F662,'Object Codes'!$A$18:$A$510,'Object Codes'!$H$18:$H$510)","v":"Other Services and Charges - General"},{"$f":"_xlfn.XLOOKUP(F662,'Object Codes'!$A$18:$A$510,'Object Codes'!$G$18:$G$510)","v":0},{"$f":"_xlfn.XLOOKUP(A662,Agencies!$A$9:$A$146,Agencies!$B$9:$B$146)","v":"General Government"},{"$f":"IF(_xlfn.XLOOKUP(A662,Agencies!A:A,Agencies!D:D)=\"Y\",IF(_xlfn.XLOOKUP(F662,'Object Codes'!A:A,'Object Codes'!I:I)=\"Y\",\"Y\",\"N\"),\"N\")","v":"Y"},{"$f":"VLOOKUP(F662,'Object Codes'!$A:$C,3,0)","v":"Non Overnight Travel Expenditures - General"},{"$f":"VLOOKUP(A662,Agencies!A:C,3,0)","v":"Mayoralty"},1.7236164383561643]
["002",2022,"001","071","0714","453",0,0,0,0,600,0,0,0,0,0,0,0,0,0,600,0,600,0,0,600,{"$f":"_xlfn.XLOOKUP(F663,'Object Codes'!$A$18:$A$510,'Object Codes'!$H$18:$H$510)","v":"Other Services and Charges - General"},{"$f":"_xlfn.XLOOKUP(F663,'Object Codes'!$A$18:$A$510,'Object Codes'!$G$18:$G$510)","v":0},{"$f":"_xlfn.XLOOKUP(A663,Agencies!$A$9:$A$146,Agencies!$B$9:$B$146)","v":"General Government"},{"$f":"IF(_xlfn.XLOOKUP(A663,Agencies!A:A,Agencies!D:D)=\"Y\",IF(_xlfn.XLOOKUP(F663,'Object Codes'!A:A,'Object Codes'!I:I)=\"Y\",\"Y\",\"N\"),\"N\")","v":"Y"},{"$f":"VLOOKUP(F663,'Object Codes'!$A:$C,3,0)","v":"Overnight Travel Expenditures - General"},{"$f":"VLOOKUP(A663,Agencies!A:C,3,0)","v":"Mayoralty"},0]
["002",2022,"001","071","0714","454",0,0,0,0,11000,0,0,0,0,0,6937.56,0,6937.56,6937.56,4062.44,6937.56,4062.44,6937.56,6937.56,4062.44,{"$f":"_xlfn.XLOOKUP(F664,'Object Codes'!$A$18:$A$510,'Object Codes'!$H$18:$H$510)","v":"Other Services and Charges - General"},{"$f":"_xlfn.XLOOKUP(F664,'Object Codes'!$A$18:$A$510,'Object Codes'!$G$18:$G$510)","v":0},{"$f":"_xlfn.XLOOKUP(A664,Agencies!$A$9:$A$146,Agencies!$B$9:$B$146)","v":"General Government"},{"$f":"IF(_xlfn.XLOOKUP(A664,Agencies!A:A,Agencies!D:D)=\"Y\",IF(_xlfn.XLOOKUP(F664,'Object Codes'!A:A,'Object Codes'!I:I)=\"Y\",\"Y\",\"N\"),\"N\")","v":"Y"},{"$f":"VLOOKUP(F664,'Object Codes'!$A:$C,3,0)","v":"Overnight Travel Expenditures - Special"},{"$f":"VLOOKUP(A664,Agencies!A:C,3,0)","v":"Mayoralty"},19.007013698630139]
["002",2022,"001","071","0714","600",0,0,0,0,2000,0,0,0,0,0,1838,0,1838,1838,162,1838,162,1838,1838,162,{"$f":"_xlfn.XLOOKUP(F665,'Object Codes'!$A$18:$A$510,'Object Codes'!$H$18:$H$510)","v":"Contractual Services"},{"$f":"_xlfn.XLOOKUP(F665,'Object Codes'!$A$18:$A$510,'Object Codes'!$G$18:$G$510)","v":0},{"$f":"_xlfn.XLOOKUP(A665,Agencies!$A$9:$A$146,Agencies!$B$9:$B$146)","v":"General Government"},{"$f":"IF(_xlfn.XLOOKUP(A665,Agencies!A:A,Agencies!D:D)=\"Y\",IF(_xlfn.XLOOKUP(F665,'Object Codes'!A:A,'Object Codes'!I:I)=\"Y\",\"Y\",\"N\"),\"N\")","v":"Y"},{"$f":"VLOOKUP(F665,'Object Codes'!$A:$C,3,0)","v":"Contractual Services - General"},{"$f":"VLOOKUP(A665,Agencies!A:C,3,0)","v":"Mayoralty"},5.0356164383561648]
["002",2022,"001","071","0714","608",0,0,0,200,200,0,0,0,0,0,0,0,0,0,200,0,200,0,0,200,{"$f":"_xlfn.XLOOKUP(F666,'Object Codes'!$A$18:$A$510,'Object Codes'!$H$18:$H$510)","v":"Contractual Services"},{"$f":"_xlfn.XLOOKUP(F666,'Object Codes'!$A$18:$A$510,'Object Codes'!$G$18:$G$510)","v":0},{"$f":"_xlfn.XLOOKUP(A666,Agencies!$A$9:$A$146,Agencies!$B$9:$B$146)","v":"General Government"},{"$f":"IF(_xlfn.XLOOKUP(A666,Agencies!A:A,Agencies!D:D)=\"Y\",IF(_xlfn.XLOOKUP(F666,'Object Codes'!A:A,'Object Codes'!I:I)=\"Y\",\"Y\",\"N\"),\"N\")","v":"Y"},{"$f":"VLOOKUP(F666,'Object Codes'!$A:$C,3,0)","v":"Maintenance and Repairs - General - Contractual"},{"$f":"VLOOKUP(A666,Agencies!A:C,3,0)","v":"Mayoralty"},0]
["002",2022,"001","071","0714","622",0,0,0,200,200,0,0,0,0,0,0,0,0,0,200,0,200,0,0,200,{"$f":"_xlfn.XLOOKUP(F667,'Object Codes'!$A$18:$A$510,'Object Codes'!$H$18:$H$510)","v":"Contractual Services"},{"$f":"_xlfn.XLOOKUP(F667,'Object Codes'!$A$18:$A$510,'Object Codes'!$G$18:$G$510)","v":0},{"$f":"_xlfn.XLOOKUP(A667,Agencies!$A$9:$A$146,Agencies!$B$9:$B$146)","v":"General Government"},{"$f":"IF(_xlfn.XLOOKUP(A667,Agencies!A:A,Agencies!D:D)=\"Y\",IF(_xlfn.XLOOKUP(F667,'Object Codes'!A:A,'Object Codes'!I:I)=\"Y\",\"Y\",\"N\"),\"N\")","v":"Y"},{"$f":"VLOOKUP(F667,'Object Codes'!$A:$C,3,0)","v":"Temporary Services - Contractual"},{"$f":"VLOOKUP(A667,Agencies!A:C,3,0)","v":"Mayoralty"},0]
["002",2022,"001","071","0714","660",0,0,0,63,63,0,0,0,0,0,0,0,0,0,63,0,63,0,0,63,{"$f":"_xlfn.XLOOKUP(F668,'Object Codes'!$A$18:$A$510,'Object Codes'!$H$18:$H$510)","v":"Authorities & External Institutions - EDC"},{"$f":"_xlfn.XLOOKUP(F668,'Object Codes'!$A$18:$A$510,'Object Codes'!$G$18:$G$510)","v":0},{"$f":"_xlfn.XLOOKUP(A668,Agencies!$A$9:$A$146,Agencies!$B$9:$B$146)","v":"General Government"},{"$f":"IF(_xlfn.XLOOKUP(A668,Agencies!A:A,Agencies!D:D)=\"Y\",IF(_xlfn.XLOOKUP(F668,'Object Codes'!A:A,'Object Codes'!I:I)=\"Y\",\"Y\",\"N\"),\"N\")","v":"Y"},{"$f":"VLOOKUP(F668,'Object Codes'!$A:$C,3,0)","v":"Economic Development - Contractual"},{"$f":"VLOOKUP(A668,Agencies!A:C,3,0)","v":"Mayoralty"},0]
["002",2022,"001","071","0714","671",0,0,0,52,52,0,0,0,0,0,0,0,0,0,52,0,52,0,0,52,{"$f":"_xlfn.XLOOKUP(F669,'Object Codes'!$A$18:$A$510,'Object Codes'!$H$18:$H$510)","v":"Contractual Services"},{"$f":"_xlfn.XLOOKUP(F669,'Object Codes'!$A$18:$A$510,'Object Codes'!$G$18:$G$510)","v":0},{"$f":"_xlfn.XLOOKUP(A669,Agencies!$A$9:$A$146,Agencies!$B$9:$B$146)","v":"General Government"},{"$f":"IF(_xlfn.XLOOKUP(A669,Agencies!A:A,Agencies!D:D)=\"Y\",IF(_xlfn.XLOOKUP(F669,'Object Codes'!A:A,'Object Codes'!I:I)=\"Y\",\"Y\",\"N\"),\"N\")","v":"Y"},{"$f":"VLOOKUP(F669,'Object Codes'!$A:$C,3,0)","v":"Training Program for City Employees - Contractual"},{"$f":"VLOOKUP(A669,Agencies!A:C,3,0)","v":"Mayoralty"},0]
["002",2022,"001","071","0714","771",0,0,0,260,260,0,0,0,0,0,0,0,0,0,260,0,260,0,0,260,{"$f":"_xlfn.XLOOKUP(F670,'Object Codes'!$A$18:$A$510,'Object Codes'!$H$18:$H$510)","v":"Fixed Charges"},{"$f":"_xlfn.XLOOKUP(F670,'Object Codes'!$A$18:$A$510,'Object Codes'!$G$18:$G$510)","v":0},{"$f":"_xlfn.XLOOKUP(A670,Agencies!$A$9:$A$146,Agencies!$B$9:$B$146)","v":"General Government"},{"$f":"IF(_xlfn.XLOOKUP(A670,Agencies!A:A,Agencies!D:D)=\"Y\",IF(_xlfn.XLOOKUP(F670,'Object Codes'!A:A,'Object Codes'!I:I)=\"Y\",\"Y\",\"N\"),\"N\")","v":"Y"},{"$f":"VLOOKUP(F670,'Object Codes'!$A:$C,3,0)","v":"Payments to Military and Other Units"},{"$f":"VLOOKUP(A670,Agencies!A:C,3,0)","v":"Mayoralty"},0]
["002",2022,"001","090","0901","001",0,31,31,2389653,1913785,0,0,0,0,0,431748.3,0,431748.3,431748.3,1482036.7,431748.3,1482036.7,431748.3,431748.3,1482036.7,{"$f":"_xlfn.XLOOKUP(F671,'Object Codes'!$A$18:$A$510,'Object Codes'!$H$18:$H$510)","v":"PS - Regular"},{"$f":"_xlfn.XLOOKUP(F671,'Object Codes'!$A$18:$A$510,'Object Codes'!$G$18:$G$510)","v":"C"},{"$f":"_xlfn.XLOOKUP(A671,Agencies!$A$9:$A$146,Agencies!$B$9:$B$146)","v":"General Government"},{"$f":"IF(_xlfn.XLOOKUP(A671,Agencies!A:A,Agencies!D:D)=\"Y\",IF(_xlfn.XLOOKUP(F671,'Object Codes'!A:A,'Object Codes'!I:I)=\"Y\",\"Y\",\"N\"),\"N\")","v":"Y"},{"$f":"VLOOKUP(F671,'Object Codes'!$A:$C,3,0)","v":"Full Year Positions"},{"$f":"VLOOKUP(A671,Agencies!A:C,3,0)","v":"Mayoralty"},1182.8720547945204]
["002",2022,"001","090","0901","046",0,0,0,0,17891,0,0,0,0,0,1502.94,8193.2900000000009,9696.23,9696.23,8194.77,9696.23,8194.77,9696.23,9696.23,8194.77,{"$f":"_xlfn.XLOOKUP(F672,'Object Codes'!$A$18:$A$510,'Object Codes'!$H$18:$H$510)","v":"PS - Additional Gross"},{"$f":"_xlfn.XLOOKUP(F672,'Object Codes'!$A$18:$A$510,'Object Codes'!$G$18:$G$510)","v":"A"},{"$f":"_xlfn.XLOOKUP(A672,Agencies!$A$9:$A$146,Agencies!$B$9:$B$146)","v":"General Government"},{"$f":"IF(_xlfn.XLOOKUP(A672,Agencies!A:A,Agencies!D:D)=\"Y\",IF(_xlfn.XLOOKUP(F672,'Object Codes'!A:A,'Object Codes'!I:I)=\"Y\",\"Y\",\"N\"),\"N\")","v":"Y"},{"$f":"VLOOKUP(F672,'Object Codes'!$A:$C,3,0)","v":"Terminal Leave"},{"$f":"VLOOKUP(A672,Agencies!A:C,3,0)","v":"Mayoralty"},26.565013698630136]
["002",2022,"001","090","0901","049",0,0,0,0,0,0,0,0,0,0,-737.75,0,-737.75,-737.75,737.75,-737.75,737.75,-737.75,-737.75,737.75,{"$f":"_xlfn.XLOOKUP(F673,'Object Codes'!$A$18:$A$510,'Object Codes'!$H$18:$H$510)","v":"PS - Additional Gross"},{"$f":"_xlfn.XLOOKUP(F673,'Object Codes'!$A$18:$A$510,'Object Codes'!$G$18:$G$510)","v":"A"},{"$f":"_xlfn.XLOOKUP(A673,Agencies!$A$9:$A$146,Agencies!$B$9:$B$146)","v":"General Government"},{"$f":"IF(_xlfn.XLOOKUP(A673,Agencies!A:A,Agencies!D:D)=\"Y\",IF(_xlfn.XLOOKUP(F673,'Object Codes'!A:A,'Object Codes'!I:I)=\"Y\",\"Y\",\"N\"),\"N\")","v":"Y"},{"$f":"VLOOKUP(F673,'Object Codes'!$A:$C,3,0)","v":"Backpay"},{"$f":"VLOOKUP(A673,Agencies!A:C,3,0)","v":"Mayoralty"},-2.0212328767123289]
["002",2022,"001","090","0907","001",0,0,0,0,0,0,0,0,0,0,260860.81,0,260860.81,260860.81,-260860.81,260860.81,-260860.81,260860.81,260860.81,-260860.81,{"$f":"_xlfn.XLOOKUP(F674,'Object Codes'!$A$18:$A$510,'Object Codes'!$H$18:$H$510)","v":"PS - Regular"},{"$f":"_xlfn.XLOOKUP(F674,'Object Codes'!$A$18:$A$510,'Object Codes'!$G$18:$G$510)","v":"C"},{"$f":"_xlfn.XLOOKUP(A674,Agencies!$A$9:$A$146,Agencies!$B$9:$B$146)","v":"General Government"},{"$f":"IF(_xlfn.XLOOKUP(A674,Agencies!A:A,Agencies!D:D)=\"Y\",IF(_xlfn.XLOOKUP(F674,'Object Codes'!A:A,'Object Codes'!I:I)=\"Y\",\"Y\",\"N\"),\"N\")","v":"Y"},{"$f":"VLOOKUP(F674,'Object Codes'!$A:$C,3,0)","v":"Full Year Positions"},{"$f":"VLOOKUP(A674,Agencies!A:C,3,0)","v":"Mayoralty"},714.68715068493145]
["002",2022,"001","090","0907","046",0,0,0,0,0,0,0,0,0,0,8401.08,0,8401.08,8401.08,-8401.08,8401.08,-8401.08,8401.08,8401.08,-8401.08,{"$f":"_xlfn.XLOOKUP(F675,'Object Codes'!$A$18:$A$510,'Object Codes'!$H$18:$H$510)","v":"PS - Additional Gross"},{"$f":"_xlfn.XLOOKUP(F675,'Object Codes'!$A$18:$A$510,'Object Codes'!$G$18:$G$510)","v":"A"},{"$f":"_xlfn.XLOOKUP(A675,Agencies!$A$9:$A$146,Agencies!$B$9:$B$146)","v":"General Government"},{"$f":"IF(_xlfn.XLOOKUP(A675,Agencies!A:A,Agencies!D:D)=\"Y\",IF(_xlfn.XLOOKUP(F675,'Object Codes'!A:A,'Object Codes'!I:I)=\"Y\",\"Y\",\"N\"),\"N\")","v":"Y"},{"$f":"VLOOKUP(F675,'Object Codes'!$A:$C,3,0)","v":"Terminal Leave"},{"$f":"VLOOKUP(A675,Agencies!A:C,3,0)","v":"Mayoralty"},23.016657534246576]
["002",2022,"001","090","0908","001",0,0,0,5197,5197,0,0,0,0,0,31519.63,0,31519.63,31519.63,-26322.63,31519.63,-26322.63,31519.63,31519.63,-26322.63,{"$f":"_xlfn.XLOOKUP(F676,'Object Codes'!$A$18:$A$510,'Object Codes'!$H$18:$H$510)","v":"PS - Regular"},{"$f":"_xlfn.XLOOKUP(F676,'Object Codes'!$A$18:$A$510,'Object Codes'!$G$18:$G$510)","v":"C"},{"$f":"_xlfn.XLOOKUP(A676,Agencies!$A$9:$A$146,Agencies!$B$9:$B$146)","v":"General Government"},{"$f":"IF(_xlfn.XLOOKUP(A676,Agencies!A:A,Agencies!D:D)=\"Y\",IF(_xlfn.XLOOKUP(F676,'Object Codes'!A:A,'Object Codes'!I:I)=\"Y\",\"Y\",\"N\"),\"N\")","v":"Y"},{"$f":"VLOOKUP(F676,'Object Codes'!$A:$C,3,0)","v":"Full Year Positions"},{"$f":"VLOOKUP(A676,Agencies!A:C,3,0)","v":"Mayoralty"},86.355150684931516]
["002",2022,"001","090","0908","046",0,0,0,0,0,0,0,0,0,0,12015.82,0,12015.82,12015.82,-12015.82,12015.82,-12015.82,12015.82,12015.82,-12015.82,{"$f":"_xlfn.XLOOKUP(F677,'Object Codes'!$A$18:$A$510,'Object Codes'!$H$18:$H$510)","v":"PS - Additional Gross"},{"$f":"_xlfn.XLOOKUP(F677,'Object Codes'!$A$18:$A$510,'Object Codes'!$G$18:$G$510)","v":"A"},{"$f":"_xlfn.XLOOKUP(A677,Agencies!$A$9:$A$146,Agencies!$B$9:$B$146)","v":"General Government"},{"$f":"IF(_xlfn.XLOOKUP(A677,Agencies!A:A,Agencies!D:D)=\"Y\",IF(_xlfn.XLOOKUP(F677,'Object Codes'!A:A,'Object Codes'!I:I)=\"Y\",\"Y\",\"N\"),\"N\")","v":"Y"},{"$f":"VLOOKUP(F677,'Object Codes'!$A:$C,3,0)","v":"Terminal Leave"},{"$f":"VLOOKUP(A677,Agencies!A:C,3,0)","v":"Mayoralty"},32.920054794520546]
["002",2022,"001","090","0910","001",0,17,17,1365775,1362296,0,0,0,0,0,325672.12,0,325672.12,325672.12,1036623.88,325672.12,1036623.88,325672.12,325672.12,1036623.88,{"$f":"_xlfn.XLOOKUP(F678,'Object Codes'!$A$18:$A$510,'Object Codes'!$H$18:$H$510)","v":"PS - Regular"},{"$f":"_xlfn.XLOOKUP(F678,'Object Codes'!$A$18:$A$510,'Object Codes'!$G$18:$G$510)","v":"C"},{"$f":"_xlfn.XLOOKUP(A678,Agencies!$A$9:$A$146,Agencies!$B$9:$B$146)","v":"General Government"},{"$f":"IF(_xlfn.XLOOKUP(A678,Agencies!A:A,Agencies!D:D)=\"Y\",IF(_xlfn.XLOOKUP(F678,'Object Codes'!A:A,'Object Codes'!I:I)=\"Y\",\"Y\",\"N\"),\"N\")","v":"Y"},{"$f":"VLOOKUP(F678,'Object Codes'!$A:$C,3,0)","v":"Full Year Positions"},{"$f":"VLOOKUP(A678,Agencies!A:C,3,0)","v":"Mayoralty"},892.2523835616438]
["002",2022,"001","090","0910","031",0,0,0,0,0,0,0,0,0,0,7914.41,0,7914.41,7914.41,-7914.41,7914.41,-7914.41,7914.41,7914.41,-7914.41,{"$f":"_xlfn.XLOOKUP(F679,'Object Codes'!$A$18:$A$510,'Object Codes'!$H$18:$H$510)","v":"PS - Regular"},{"$f":"_xlfn.XLOOKUP(F679,'Object Codes'!$A$18:$A$510,'Object Codes'!$G$18:$G$510)","v":"C"},{"$f":"_xlfn.XLOOKUP(A679,Agencies!$A$9:$A$146,Agencies!$B$9:$B$146)","v":"General Government"},{"$f":"IF(_xlfn.XLOOKUP(A679,Agencies!A:A,Agencies!D:D)=\"Y\",IF(_xlfn.XLOOKUP(F679,'Object Codes'!A:A,'Object Codes'!I:I)=\"Y\",\"Y\",\"N\"),\"N\")","v":"Y"},{"$f":"VLOOKUP(F679,'Object Codes'!$A:$C,3,0)","v":"Hourly Positions"},{"$f":"VLOOKUP(A679,Agencies!A:C,3,0)","v":"Mayoralty"},21.683315068493151]
["002",2022,"001","090","0910","043",0,0,0,0,0,0,0,0,0,0,4.3600000000000003,0,4.3600000000000003,4.3600000000000003,-4.3600000000000003,4.3600000000000003,-4.3600000000000003,4.3600000000000003,4.3600000000000003,-4.3600000000000003,{"$f":"_xlfn.XLOOKUP(F680,'Object Codes'!$A$18:$A$510,'Object Codes'!$H$18:$H$510)","v":"PS - Additional Gross"},{"$f":"_xlfn.XLOOKUP(F680,'Object Codes'!$A$18:$A$510,'Object Codes'!$G$18:$G$510)","v":"A"},{"$f":"_xlfn.XLOOKUP(A680,Agencies!$A$9:$A$146,Agencies!$B$9:$B$146)","v":"General Government"},{"$f":"IF(_xlfn.XLOOKUP(A680,Agencies!A:A,Agencies!D:D)=\"Y\",IF(_xlfn.XLOOKUP(F680,'Object Codes'!A:A,'Object Codes'!I:I)=\"Y\",\"Y\",\"N\"),\"N\")","v":"Y"},{"$f":"VLOOKUP(F680,'Object Codes'!$A:$C,3,0)","v":"Shift Differential"},{"$f":"VLOOKUP(A680,Agencies!A:C,3,0)","v":"Mayoralty"},1.1945205479452055E-2]
["002",2022,"001","090","0910","045",0,0,0,0,0,0,0,0,0,0,449.75,0,449.75,449.75,-449.75,449.75,-449.75,449.75,449.75,-449.75,{"$f":"_xlfn.XLOOKUP(F681,'Object Codes'!$A$18:$A$510,'Object Codes'!$H$18:$H$510)","v":"PS - Additional Gross"},{"$f":"_xlfn.XLOOKUP(F681,'Object Codes'!$A$18:$A$510,'Object Codes'!$G$18:$G$510)","v":"A"},{"$f":"_xlfn.XLOOKUP(A681,Agencies!$A$9:$A$146,Agencies!$B$9:$B$146)","v":"General Government"},{"$f":"IF(_xlfn.XLOOKUP(A681,Agencies!A:A,Agencies!D:D)=\"Y\",IF(_xlfn.XLOOKUP(F681,'Object Codes'!A:A,'Object Codes'!I:I)=\"Y\",\"Y\",\"N\"),\"N\")","v":"Y"},{"$f":"VLOOKUP(F681,'Object Codes'!$A:$C,3,0)","v":"Holiday Pay"},{"$f":"VLOOKUP(A681,Agencies!A:C,3,0)","v":"Mayoralty"},1.2321917808219178]
["002",2022,"001","090","0910","047",0,0,0,24532,24532,0,0,0,0,0,0,0,0,0,24532,0,24532,0,0,24532,{"$f":"_xlfn.XLOOKUP(F682,'Object Codes'!$A$18:$A$510,'Object Codes'!$H$18:$H$510)","v":"PS - Additional Gross"},{"$f":"_xlfn.XLOOKUP(F682,'Object Codes'!$A$18:$A$510,'Object Codes'!$G$18:$G$510)","v":"C"},{"$f":"_xlfn.XLOOKUP(A682,Agencies!$A$9:$A$146,Agencies!$B$9:$B$146)","v":"General Government"},{"$f":"IF(_xlfn.XLOOKUP(A682,Agencies!A:A,Agencies!D:D)=\"Y\",IF(_xlfn.XLOOKUP(F682,'Object Codes'!A:A,'Object Codes'!I:I)=\"Y\",\"Y\",\"N\"),\"N\")","v":"Y"},{"$f":"VLOOKUP(F682,'Object Codes'!$A:$C,3,0)","v":"Overtime"},{"$f":"VLOOKUP(A682,Agencies!A:C,3,0)","v":"Mayoralty"},0]
["002",2022,"001","090","0910","061",0,0,0,0,0,0,0,0,0,0,66,0,66,66,-66,66,-66,66,66,-66,{"$f":"_xlfn.XLOOKUP(F683,'Object Codes'!$A$18:$A$510,'Object Codes'!$H$18:$H$510)","v":"PS - Additional Gross"},{"$f":"_xlfn.XLOOKUP(F683,'Object Codes'!$A$18:$A$510,'Object Codes'!$G$18:$G$510)","v":"A"},{"$f":"_xlfn.XLOOKUP(A683,Agencies!$A$9:$A$146,Agencies!$B$9:$B$146)","v":"General Government"},{"$f":"IF(_xlfn.XLOOKUP(A683,Agencies!A:A,Agencies!D:D)=\"Y\",IF(_xlfn.XLOOKUP(F683,'Object Codes'!A:A,'Object Codes'!I:I)=\"Y\",\"Y\",\"N\"),\"N\")","v":"Y"},{"$f":"VLOOKUP(F683,'Object Codes'!$A:$C,3,0)","v":"Supper Money"},{"$f":"VLOOKUP(A683,Agencies!A:C,3,0)","v":"Mayoralty"},0.18082191780821918]
["002",2022,"001","090","0911","001",0,7,7,209730,209730,0,0,0,0,0,110869.42,0,110869.42,110869.42,98860.58,110869.42,98860.58,110869.42,110869.42,98860.58,{"$f":"_xlfn.XLOOKUP(F684,'Object Codes'!$A$18:$A$510,'Object Codes'!$H$18:$H$510)","v":"PS - Regular"},{"$f":"_xlfn.XLOOKUP(F684,'Object Codes'!$A$18:$A$510,'Object Codes'!$G$18:$G$510)","v":"C"},{"$f":"_xlfn.XLOOKUP(A684,Agencies!$A$9:$A$146,Agencies!$B$9:$B$146)","v":"General Government"},{"$f":"IF(_xlfn.XLOOKUP(A684,Agencies!A:A,Agencies!D:D)=\"Y\",IF(_xlfn.XLOOKUP(F684,'Object Codes'!A:A,'Object Codes'!I:I)=\"Y\",\"Y\",\"N\"),\"N\")","v":"Y"},{"$f":"VLOOKUP(F684,'Object Codes'!$A:$C,3,0)","v":"Full Year Positions"},{"$f":"VLOOKUP(A684,Agencies!A:C,3,0)","v":"Mayoralty"},303.75183561643837]
["002",2022,"001","090","0911","047",0,0,0,23081,23081,0,0,0,0,0,0,0,0,0,23081,0,23081,0,0,23081,{"$f":"_xlfn.XLOOKUP(F685,'Object Codes'!$A$18:$A$510,'Object Codes'!$H$18:$H$510)","v":"PS - Additional Gross"},{"$f":"_xlfn.XLOOKUP(F685,'Object Codes'!$A$18:$A$510,'Object Codes'!$G$18:$G$510)","v":"C"},{"$f":"_xlfn.XLOOKUP(A685,Agencies!$A$9:$A$146,Agencies!$B$9:$B$146)","v":"General Government"},{"$f":"IF(_xlfn.XLOOKUP(A685,Agencies!A:A,Agencies!D:D)=\"Y\",IF(_xlfn.XLOOKUP(F685,'Object Codes'!A:A,'Object Codes'!I:I)=\"Y\",\"Y\",\"N\"),\"N\")","v":"Y"},{"$f":"VLOOKUP(F685,'Object Codes'!$A:$C,3,0)","v":"Overtime"},{"$f":"VLOOKUP(A685,Agencies!A:C,3,0)","v":"Mayoralty"},0]
["002",2022,"001","090","0911","057",0,0,0,0,500,0,0,0,0,0,500,0,500,500,0,500,0,500,500,0,{"$f":"_xlfn.XLOOKUP(F686,'Object Codes'!$A$18:$A$510,'Object Codes'!$H$18:$H$510)","v":"PS - Additional Gross"},{"$f":"_xlfn.XLOOKUP(F686,'Object Codes'!$A$18:$A$510,'Object Codes'!$G$18:$G$510)","v":"A"},{"$f":"_xlfn.XLOOKUP(A686,Agencies!$A$9:$A$146,Agencies!$B$9:$B$146)","v":"General Government"},{"$f":"IF(_xlfn.XLOOKUP(A686,Agencies!A:A,Agencies!D:D)=\"Y\",IF(_xlfn.XLOOKUP(F686,'Object Codes'!A:A,'Object Codes'!I:I)=\"Y\",\"Y\",\"N\"),\"N\")","v":"Y"},{"$f":"VLOOKUP(F686,'Object Codes'!$A:$C,3,0)","v":"Bonus Payments"},{"$f":"VLOOKUP(A686,Agencies!A:C,3,0)","v":"Mayoralty"},1.3698630136986301]
["002",2022,"001","090","0912","001",0,0,0,2756,0,0,0,0,0,0,0,0,0,0,0,0,0,0,0,0,{"$f":"_xlfn.XLOOKUP(F687,'Object Codes'!$A$18:$A$510,'Object Codes'!$H$18:$H$510)","v":"PS - Regular"},{"$f":"_xlfn.XLOOKUP(F687,'Object Codes'!$A$18:$A$510,'Object Codes'!$G$18:$G$510)","v":"C"},{"$f":"_xlfn.XLOOKUP(A687,Agencies!$A$9:$A$146,Agencies!$B$9:$B$146)","v":"General Government"},{"$f":"IF(_xlfn.XLOOKUP(A687,Agencies!A:A,Agencies!D:D)=\"Y\",IF(_xlfn.XLOOKUP(F687,'Object Codes'!A:A,'Object Codes'!I:I)=\"Y\",\"Y\",\"N\"),\"N\")","v":"Y"},{"$f":"VLOOKUP(F687,'Object Codes'!$A:$C,3,0)","v":"Full Year Positions"},{"$f":"VLOOKUP(A687,Agencies!A:C,3,0)","v":"Mayoralty"},0]
["002",2022,"001","090","0913","001",0,0,0,0,0,0,0,0,0,0,267306.82,0,267306.82,267306.82,-267306.82,267306.82,-267306.82,267306.82,267306.82,-267306.82,{"$f":"_xlfn.XLOOKUP(F688,'Object Codes'!$A$18:$A$510,'Object Codes'!$H$18:$H$510)","v":"PS - Regular"},{"$f":"_xlfn.XLOOKUP(F688,'Object Codes'!$A$18:$A$510,'Object Codes'!$G$18:$G$510)","v":"C"},{"$f":"_xlfn.XLOOKUP(A688,Agencies!$A$9:$A$146,Agencies!$B$9:$B$146)","v":"General Government"},{"$f":"IF(_xlfn.XLOOKUP(A688,Agencies!A:A,Agencies!D:D)=\"Y\",IF(_xlfn.XLOOKUP(F688,'Object Codes'!A:A,'Object Codes'!I:I)=\"Y\",\"Y\",\"N\"),\"N\")","v":"Y"},{"$f":"VLOOKUP(F688,'Object Codes'!$A:$C,3,0)","v":"Full Year Positions"},{"$f":"VLOOKUP(A688,Agencies!A:C,3,0)","v":"Mayoralty"},732.34745205479453]
["002",2022,"001","090","0916","001",0,0,0,0,0,0,0,0,0,0,358483.35,0,358483.35,358483.35,-358483.35,358483.35,-358483.35,358483.35,358483.35,-358483.35,{"$f":"_xlfn.XLOOKUP(F689,'Object Codes'!$A$18:$A$510,'Object Codes'!$H$18:$H$510)","v":"PS - Regular"},{"$f":"_xlfn.XLOOKUP(F689,'Object Codes'!$A$18:$A$510,'Object Codes'!$G$18:$G$510)","v":"C"},{"$f":"_xlfn.XLOOKUP(A689,Agencies!$A$9:$A$146,Agencies!$B$9:$B$146)","v":"General Government"},{"$f":"IF(_xlfn.XLOOKUP(A689,Agencies!A:A,Agencies!D:D)=\"Y\",IF(_xlfn.XLOOKUP(F689,'Object Codes'!A:A,'Object Codes'!I:I)=\"Y\",\"Y\",\"N\"),\"N\")","v":"Y"},{"$f":"VLOOKUP(F689,'Object Codes'!$A:$C,3,0)","v":"Full Year Positions"},{"$f":"VLOOKUP(A689,Agencies!A:C,3,0)","v":"Mayoralty"},982.14616438356154]
["002",2022,"001","090","0916","031",0,0,0,0,0,0,0,0,0,0,4609.71,0,4609.71,4609.71,-4609.71,4609.71,-4609.71,4609.71,4609.71,-4609.71,{"$f":"_xlfn.XLOOKUP(F690,'Object Codes'!$A$18:$A$510,'Object Codes'!$H$18:$H$510)","v":"PS - Regular"},{"$f":"_xlfn.XLOOKUP(F690,'Object Codes'!$A$18:$A$510,'Object Codes'!$G$18:$G$510)","v":"C"},{"$f":"_xlfn.XLOOKUP(A690,Agencies!$A$9:$A$146,Agencies!$B$9:$B$146)","v":"General Government"},{"$f":"IF(_xlfn.XLOOKUP(A690,Agencies!A:A,Agencies!D:D)=\"Y\",IF(_xlfn.XLOOKUP(F690,'Object Codes'!A:A,'Object Codes'!I:I)=\"Y\",\"Y\",\"N\"),\"N\")","v":"Y"},{"$f":"VLOOKUP(F690,'Object Codes'!$A:$C,3,0)","v":"Hourly Positions"},{"$f":"VLOOKUP(A690,Agencies!A:C,3,0)","v":"Mayoralty"},12.629342465753425]
["002",2022,"001","090","0916","046",0,0,0,0,30617,0,0,0,0,0,16338.4,7138.5,23476.9,23476.9,7140.1,23476.9,7140.1,23476.9,23476.9,7140.1,{"$f":"_xlfn.XLOOKUP(F691,'Object Codes'!$A$18:$A$510,'Object Codes'!$H$18:$H$510)","v":"PS - Additional Gross"},{"$f":"_xlfn.XLOOKUP(F691,'Object Codes'!$A$18:$A$510,'Object Codes'!$G$18:$G$510)","v":"A"},{"$f":"_xlfn.XLOOKUP(A691,Agencies!$A$9:$A$146,Agencies!$B$9:$B$146)","v":"General Government"},{"$f":"IF(_xlfn.XLOOKUP(A691,Agencies!A:A,Agencies!D:D)=\"Y\",IF(_xlfn.XLOOKUP(F691,'Object Codes'!A:A,'Object Codes'!I:I)=\"Y\",\"Y\",\"N\"),\"N\")","v":"Y"},{"$f":"VLOOKUP(F691,'Object Codes'!$A:$C,3,0)","v":"Terminal Leave"},{"$f":"VLOOKUP(A691,Agencies!A:C,3,0)","v":"Mayoralty"},64.320273972602749]
["002",2022,"001","090","0916","061",0,0,0,0,0,0,0,0,0,0,8.25,0,8.25,8.25,-8.25,8.25,-8.25,8.25,8.25,-8.25,{"$f":"_xlfn.XLOOKUP(F692,'Object Codes'!$A$18:$A$510,'Object Codes'!$H$18:$H$510)","v":"PS - Additional Gross"},{"$f":"_xlfn.XLOOKUP(F692,'Object Codes'!$A$18:$A$510,'Object Codes'!$G$18:$G$510)","v":"A"},{"$f":"_xlfn.XLOOKUP(A692,Agencies!$A$9:$A$146,Agencies!$B$9:$B$146)","v":"General Government"},{"$f":"IF(_xlfn.XLOOKUP(A692,Agencies!A:A,Agencies!D:D)=\"Y\",IF(_xlfn.XLOOKUP(F692,'Object Codes'!A:A,'Object Codes'!I:I)=\"Y\",\"Y\",\"N\"),\"N\")","v":"Y"},{"$f":"VLOOKUP(F692,'Object Codes'!$A:$C,3,0)","v":"Supper Money"},{"$f":"VLOOKUP(A692,Agencies!A:C,3,0)","v":"Mayoralty"},2.2602739726027398E-2]
["002",2022,"001","090","0917","001",0,0,0,0,0,0,0,0,0,0,114407.89,0,114407.89,114407.89,-114407.89,114407.89,-114407.89,114407.89,114407.89,-114407.89,{"$f":"_xlfn.XLOOKUP(F693,'Object Codes'!$A$18:$A$510,'Object Codes'!$H$18:$H$510)","v":"PS - Regular"},{"$f":"_xlfn.XLOOKUP(F693,'Object Codes'!$A$18:$A$510,'Object Codes'!$G$18:$G$510)","v":"C"},{"$f":"_xlfn.XLOOKUP(A693,Agencies!$A$9:$A$146,Agencies!$B$9:$B$146)","v":"General Government"},{"$f":"IF(_xlfn.XLOOKUP(A693,Agencies!A:A,Agencies!D:D)=\"Y\",IF(_xlfn.XLOOKUP(F693,'Object Codes'!A:A,'Object Codes'!I:I)=\"Y\",\"Y\",\"N\"),\"N\")","v":"Y"},{"$f":"VLOOKUP(F693,'Object Codes'!$A:$C,3,0)","v":"Full Year Positions"},{"$f":"VLOOKUP(A693,Agencies!A:C,3,0)","v":"Mayoralty"},313.44627397260274]
["002",2022,"001","090","0920","001",0,6,6,941302,941302,0,0,0,0,0,1035113.7,0,1035113.7,1035113.7,-93811.7,1035113.7,-93811.7,1035113.7,1035113.7,-93811.7,{"$f":"_xlfn.XLOOKUP(F694,'Object Codes'!$A$18:$A$510,'Object Codes'!$H$18:$H$510)","v":"PS - Regular"},{"$f":"_xlfn.XLOOKUP(F694,'Object Codes'!$A$18:$A$510,'Object Codes'!$G$18:$G$510)","v":"C"},{"$f":"_xlfn.XLOOKUP(A694,Agencies!$A$9:$A$146,Agencies!$B$9:$B$146)","v":"General Government"},{"$f":"IF(_xlfn.XLOOKUP(A694,Agencies!A:A,Agencies!D:D)=\"Y\",IF(_xlfn.XLOOKUP(F694,'Object Codes'!A:A,'Object Codes'!I:I)=\"Y\",\"Y\",\"N\"),\"N\")","v":"Y"},{"$f":"VLOOKUP(F694,'Object Codes'!$A:$C,3,0)","v":"Full Year Positions"},{"$f":"VLOOKUP(A694,Agencies!A:C,3,0)","v":"Mayoralty"},2835.9279452054793]
["002",2022,"001","090","0920","046",0,0,0,0,162536,0,0,0,0,0,141289.89000000001,20438.64,161728.53,161728.53,807.47,161728.53,807.47,161728.53,161728.53,807.47,{"$f":"_xlfn.XLOOKUP(F695,'Object Codes'!$A$18:$A$510,'Object Codes'!$H$18:$H$510)","v":"PS - Additional Gross"},{"$f":"_xlfn.XLOOKUP(F695,'Object Codes'!$A$18:$A$510,'Object Codes'!$G$18:$G$510)","v":"A"},{"$f":"_xlfn.XLOOKUP(A695,Agencies!$A$9:$A$146,Agencies!$B$9:$B$146)","v":"General Government"},{"$f":"IF(_xlfn.XLOOKUP(A695,Agencies!A:A,Agencies!D:D)=\"Y\",IF(_xlfn.XLOOKUP(F695,'Object Codes'!A:A,'Object Codes'!I:I)=\"Y\",\"Y\",\"N\"),\"N\")","v":"Y"},{"$f":"VLOOKUP(F695,'Object Codes'!$A:$C,3,0)","v":"Terminal Leave"},{"$f":"VLOOKUP(A695,Agencies!A:C,3,0)","v":"Mayoralty"},443.09186301369863]
["002",2022,"001","090","0921","001",0,3,3,346355,346355,0,0,0,0,0,197538.63,0,197538.63,197538.63,148816.37,197538.63,148816.37,197538.63,197538.63,148816.37,{"$f":"_xlfn.XLOOKUP(F696,'Object Codes'!$A$18:$A$510,'Object Codes'!$H$18:$H$510)","v":"PS - Regular"},{"$f":"_xlfn.XLOOKUP(F696,'Object Codes'!$A$18:$A$510,'Object Codes'!$G$18:$G$510)","v":"C"},{"$f":"_xlfn.XLOOKUP(A696,Agencies!$A$9:$A$146,Agencies!$B$9:$B$146)","v":"General Government"},{"$f":"IF(_xlfn.XLOOKUP(A696,Agencies!A:A,Agencies!D:D)=\"Y\",IF(_xlfn.XLOOKUP(F696,'Object Codes'!A:A,'Object Codes'!I:I)=\"Y\",\"Y\",\"N\"),\"N\")","v":"Y"},{"$f":"VLOOKUP(F696,'Object Codes'!$A:$C,3,0)","v":"Full Year Positions"},{"$f":"VLOOKUP(A696,Agencies!A:C,3,0)","v":"Mayoralty"},541.20172602739729]
["002",2022,"001","090","0922","001",0,3,3,481221,481221,0,0,0,0,0,496985.26,0,496985.26,496985.26,-15764.26,496985.26,-15764.26,496985.26,496985.26,-15764.26,{"$f":"_xlfn.XLOOKUP(F697,'Object Codes'!$A$18:$A$510,'Object Codes'!$H$18:$H$510)","v":"PS - Regular"},{"$f":"_xlfn.XLOOKUP(F697,'Object Codes'!$A$18:$A$510,'Object Codes'!$G$18:$G$510)","v":"C"},{"$f":"_xlfn.XLOOKUP(A697,Agencies!$A$9:$A$146,Agencies!$B$9:$B$146)","v":"General Government"},{"$f":"IF(_xlfn.XLOOKUP(A697,Agencies!A:A,Agencies!D:D)=\"Y\",IF(_xlfn.XLOOKUP(F697,'Object Codes'!A:A,'Object Codes'!I:I)=\"Y\",\"Y\",\"N\"),\"N\")","v":"Y"},{"$f":"VLOOKUP(F697,'Object Codes'!$A:$C,3,0)","v":"Full Year Positions"},{"$f":"VLOOKUP(A697,Agencies!A:C,3,0)","v":"Mayoralty"},1361.6034520547946]
["002",2022,"001","090","0924","001",0,0,0,0,0,0,0,0,0,0,76154.11,0,76154.11,76154.11,-76154.11,76154.11,-76154.11,76154.11,76154.11,-76154.11,{"$f":"_xlfn.XLOOKUP(F698,'Object Codes'!$A$18:$A$510,'Object Codes'!$H$18:$H$510)","v":"PS - Regular"},{"$f":"_xlfn.XLOOKUP(F698,'Object Codes'!$A$18:$A$510,'Object Codes'!$G$18:$G$510)","v":"C"},{"$f":"_xlfn.XLOOKUP(A698,Agencies!$A$9:$A$146,Agencies!$B$9:$B$146)","v":"General Government"},{"$f":"IF(_xlfn.XLOOKUP(A698,Agencies!A:A,Agencies!D:D)=\"Y\",IF(_xlfn.XLOOKUP(F698,'Object Codes'!A:A,'Object Codes'!I:I)=\"Y\",\"Y\",\"N\"),\"N\")","v":"Y"},{"$f":"VLOOKUP(F698,'Object Codes'!$A:$C,3,0)","v":"Full Year Positions"},{"$f":"VLOOKUP(A698,Agencies!A:C,3,0)","v":"Mayoralty"},208.64139726027398]
["002",2022,"001","090","0926","001",0,0,0,0,0,0,0,0,0,0,470512.61,0,470512.61,470512.61,-470512.61,470512.61,-470512.61,470512.61,470512.61,-470512.61,{"$f":"_xlfn.XLOOKUP(F699,'Object Codes'!$A$18:$A$510,'Object Codes'!$H$18:$H$510)","v":"PS - Regular"},{"$f":"_xlfn.XLOOKUP(F699,'Object Codes'!$A$18:$A$510,'Object Codes'!$G$18:$G$510)","v":"C"},{"$f":"_xlfn.XLOOKUP(A699,Agencies!$A$9:$A$146,Agencies!$B$9:$B$146)","v":"General Government"},{"$f":"IF(_xlfn.XLOOKUP(A699,Agencies!A:A,Agencies!D:D)=\"Y\",IF(_xlfn.XLOOKUP(F699,'Object Codes'!A:A,'Object Codes'!I:I)=\"Y\",\"Y\",\"N\"),\"N\")","v":"Y"},{"$f":"VLOOKUP(F699,'Object Codes'!$A:$C,3,0)","v":"Full Year Positions"},{"$f":"VLOOKUP(A699,Agencies!A:C,3,0)","v":"Mayoralty"},1289.0756438356163]
["002",2022,"001","090","0926","061",0,0,0,0,0,0,0,0,0,0,16.5,0,16.5,16.5,-16.5,16.5,-16.5,16.5,16.5,-16.5,{"$f":"_xlfn.XLOOKUP(F700,'Object Codes'!$A$18:$A$510,'Object Codes'!$H$18:$H$510)","v":"PS - Additional Gross"},{"$f":"_xlfn.XLOOKUP(F700,'Object Codes'!$A$18:$A$510,'Object Codes'!$G$18:$G$510)","v":"A"},{"$f":"_xlfn.XLOOKUP(A700,Agencies!$A$9:$A$146,Agencies!$B$9:$B$146)","v":"General Government"},{"$f":"IF(_xlfn.XLOOKUP(A700,Agencies!A:A,Agencies!D:D)=\"Y\",IF(_xlfn.XLOOKUP(F700,'Object Codes'!A:A,'Object Codes'!I:I)=\"Y\",\"Y\",\"N\"),\"N\")","v":"Y"},{"$f":"VLOOKUP(F700,'Object Codes'!$A:$C,3,0)","v":"Supper Money"},{"$f":"VLOOKUP(A700,Agencies!A:C,3,0)","v":"Mayoralty"},4.5205479452054796E-2]
["002",2022,"001","090","0927","001",0,0,0,0,0,0,0,0,0,0,182444.41,0,182444.41,182444.41,-182444.41,182444.41,-182444.41,182444.41,182444.41,-182444.41,{"$f":"_xlfn.XLOOKUP(F701,'Object Codes'!$A$18:$A$510,'Object Codes'!$H$18:$H$510)","v":"PS - Regular"},{"$f":"_xlfn.XLOOKUP(F701,'Object Codes'!$A$18:$A$510,'Object Codes'!$G$18:$G$510)","v":"C"},{"$f":"_xlfn.XLOOKUP(A701,Agencies!$A$9:$A$146,Agencies!$B$9:$B$146)","v":"General Government"},{"$f":"IF(_xlfn.XLOOKUP(A701,Agencies!A:A,Agencies!D:D)=\"Y\",IF(_xlfn.XLOOKUP(F701,'Object Codes'!A:A,'Object Codes'!I:I)=\"Y\",\"Y\",\"N\"),\"N\")","v":"Y"},{"$f":"VLOOKUP(F701,'Object Codes'!$A:$C,3,0)","v":"Full Year Positions"},{"$f":"VLOOKUP(A701,Agencies!A:C,3,0)","v":"Mayoralty"},499.84769863013702]
["002",2022,"001","090","0927","046",0,0,0,0,0,0,0,0,0,0,2569.36,0,2569.36,2569.36,-2569.36,2569.36,-2569.36,2569.36,2569.36,-2569.36,{"$f":"_xlfn.XLOOKUP(F702,'Object Codes'!$A$18:$A$510,'Object Codes'!$H$18:$H$510)","v":"PS - Additional Gross"},{"$f":"_xlfn.XLOOKUP(F702,'Object Codes'!$A$18:$A$510,'Object Codes'!$G$18:$G$510)","v":"A"},{"$f":"_xlfn.XLOOKUP(A702,Agencies!$A$9:$A$146,Agencies!$B$9:$B$146)","v":"General Government"},{"$f":"IF(_xlfn.XLOOKUP(A702,Agencies!A:A,Agencies!D:D)=\"Y\",IF(_xlfn.XLOOKUP(F702,'Object Codes'!A:A,'Object Codes'!I:I)=\"Y\",\"Y\",\"N\"),\"N\")","v":"Y"},{"$f":"VLOOKUP(F702,'Object Codes'!$A:$C,3,0)","v":"Terminal Leave"},{"$f":"VLOOKUP(A702,Agencies!A:C,3,0)","v":"Mayoralty"},7.0393424657534247]
["002",2022,"001","090","0929","001",0,0,0,0,0,0,0,0,0,0,41615.61,0,41615.61,41615.61,-41615.61,41615.61,-41615.61,41615.61,41615.61,-41615.61,{"$f":"_xlfn.XLOOKUP(F703,'Object Codes'!$A$18:$A$510,'Object Codes'!$H$18:$H$510)","v":"PS - Regular"},{"$f":"_xlfn.XLOOKUP(F703,'Object Codes'!$A$18:$A$510,'Object Codes'!$G$18:$G$510)","v":"C"},{"$f":"_xlfn.XLOOKUP(A703,Agencies!$A$9:$A$146,Agencies!$B$9:$B$146)","v":"General Government"},{"$f":"IF(_xlfn.XLOOKUP(A703,Agencies!A:A,Agencies!D:D)=\"Y\",IF(_xlfn.XLOOKUP(F703,'Object Codes'!A:A,'Object Codes'!I:I)=\"Y\",\"Y\",\"N\"),\"N\")","v":"Y"},{"$f":"VLOOKUP(F703,'Object Codes'!$A:$C,3,0)","v":"Full Year Positions"},{"$f":"VLOOKUP(A703,Agencies!A:C,3,0)","v":"Mayoralty"},114.0153698630137]
["002",2022,"001","090","0929","046",0,0,0,0,0,0,0,0,0,0,26948.25,0,26948.25,26948.25,-26948.25,26948.25,-26948.25,26948.25,26948.25,-26948.25,{"$f":"_xlfn.XLOOKUP(F704,'Object Codes'!$A$18:$A$510,'Object Codes'!$H$18:$H$510)","v":"PS - Additional Gross"},{"$f":"_xlfn.XLOOKUP(F704,'Object Codes'!$A$18:$A$510,'Object Codes'!$G$18:$G$510)","v":"A"},{"$f":"_xlfn.XLOOKUP(A704,Agencies!$A$9:$A$146,Agencies!$B$9:$B$146)","v":"General Government"},{"$f":"IF(_xlfn.XLOOKUP(A704,Agencies!A:A,Agencies!D:D)=\"Y\",IF(_xlfn.XLOOKUP(F704,'Object Codes'!A:A,'Object Codes'!I:I)=\"Y\",\"Y\",\"N\"),\"N\")","v":"Y"},{"$f":"VLOOKUP(F704,'Object Codes'!$A:$C,3,0)","v":"Terminal Leave"},{"$f":"VLOOKUP(A704,Agencies!A:C,3,0)","v":"Mayoralty"},73.830821917808223]
["002",2022,"001","090","0930","001",0,8,8,683899,683899,0,0,0,0,0,271934.01,0,271934.01,271934.01,411964.99,271934.01,411964.99,271934.01,271934.01,411964.99,{"$f":"_xlfn.XLOOKUP(F705,'Object Codes'!$A$18:$A$510,'Object Codes'!$H$18:$H$510)","v":"PS - Regular"},{"$f":"_xlfn.XLOOKUP(F705,'Object Codes'!$A$18:$A$510,'Object Codes'!$G$18:$G$510)","v":"C"},{"$f":"_xlfn.XLOOKUP(A705,Agencies!$A$9:$A$146,Agencies!$B$9:$B$146)","v":"General Government"},{"$f":"IF(_xlfn.XLOOKUP(A705,Agencies!A:A,Agencies!D:D)=\"Y\",IF(_xlfn.XLOOKUP(F705,'Object Codes'!A:A,'Object Codes'!I:I)=\"Y\",\"Y\",\"N\"),\"N\")","v":"Y"},{"$f":"VLOOKUP(F705,'Object Codes'!$A:$C,3,0)","v":"Full Year Positions"},{"$f":"VLOOKUP(A705,Agencies!A:C,3,0)","v":"Mayoralty"},745.02468493150684]
["002",2022,"001","090","0930","046",0,0,0,0,0,0,0,0,0,0,12139.98,0,12139.98,12139.98,-12139.98,12139.98,-12139.98,12139.98,12139.98,-12139.98,{"$f":"_xlfn.XLOOKUP(F706,'Object Codes'!$A$18:$A$510,'Object Codes'!$H$18:$H$510)","v":"PS - Additional Gross"},{"$f":"_xlfn.XLOOKUP(F706,'Object Codes'!$A$18:$A$510,'Object Codes'!$G$18:$G$510)","v":"A"},{"$f":"_xlfn.XLOOKUP(A706,Agencies!$A$9:$A$146,Agencies!$B$9:$B$146)","v":"General Government"},{"$f":"IF(_xlfn.XLOOKUP(A706,Agencies!A:A,Agencies!D:D)=\"Y\",IF(_xlfn.XLOOKUP(F706,'Object Codes'!A:A,'Object Codes'!I:I)=\"Y\",\"Y\",\"N\"),\"N\")","v":"Y"},{"$f":"VLOOKUP(F706,'Object Codes'!$A:$C,3,0)","v":"Terminal Leave"},{"$f":"VLOOKUP(A706,Agencies!A:C,3,0)","v":"Mayoralty"},33.260219178082188]
["002",2022,"001","090","0931","001",0,2,2,294285,294285,0,0,0,0,0,378335.58,0,378335.58,378335.58,-84050.58,378335.58,-84050.58,378335.58,378335.58,-84050.58,{"$f":"_xlfn.XLOOKUP(F707,'Object Codes'!$A$18:$A$510,'Object Codes'!$H$18:$H$510)","v":"PS - Regular"},{"$f":"_xlfn.XLOOKUP(F707,'Object Codes'!$A$18:$A$510,'Object Codes'!$G$18:$G$510)","v":"C"},{"$f":"_xlfn.XLOOKUP(A707,Agencies!$A$9:$A$146,Agencies!$B$9:$B$146)","v":"General Government"},{"$f":"IF(_xlfn.XLOOKUP(A707,Agencies!A:A,Agencies!D:D)=\"Y\",IF(_xlfn.XLOOKUP(F707,'Object Codes'!A:A,'Object Codes'!I:I)=\"Y\",\"Y\",\"N\"),\"N\")","v":"Y"},{"$f":"VLOOKUP(F707,'Object Codes'!$A:$C,3,0)","v":"Full Year Positions"},{"$f":"VLOOKUP(A707,Agencies!A:C,3,0)","v":"Mayoralty"},1036.5358356164384]
["002",2022,"001","090","0932","001",0,0,0,0,0,0,0,0,0,0,223436.37,0,223436.37,223436.37,-223436.37,223436.37,-223436.37,223436.37,223436.37,-223436.37,{"$f":"_xlfn.XLOOKUP(F708,'Object Codes'!$A$18:$A$510,'Object Codes'!$H$18:$H$510)","v":"PS - Regular"},{"$f":"_xlfn.XLOOKUP(F708,'Object Codes'!$A$18:$A$510,'Object Codes'!$G$18:$G$510)","v":"C"},{"$f":"_xlfn.XLOOKUP(A708,Agencies!$A$9:$A$146,Agencies!$B$9:$B$146)","v":"General Government"},{"$f":"IF(_xlfn.XLOOKUP(A708,Agencies!A:A,Agencies!D:D)=\"Y\",IF(_xlfn.XLOOKUP(F708,'Object Codes'!A:A,'Object Codes'!I:I)=\"Y\",\"Y\",\"N\"),\"N\")","v":"Y"},{"$f":"VLOOKUP(F708,'Object Codes'!$A:$C,3,0)","v":"Full Year Positions"},{"$f":"VLOOKUP(A708,Agencies!A:C,3,0)","v":"Mayoralty"},612.15443835616441]
["002",2022,"001","090","0933","001",0,0,0,0,0,0,0,0,0,0,152739.6,0,152739.6,152739.6,-152739.6,152739.6,-152739.6,152739.6,152739.6,-152739.6,{"$f":"_xlfn.XLOOKUP(F709,'Object Codes'!$A$18:$A$510,'Object Codes'!$H$18:$H$510)","v":"PS - Regular"},{"$f":"_xlfn.XLOOKUP(F709,'Object Codes'!$A$18:$A$510,'Object Codes'!$G$18:$G$510)","v":"C"},{"$f":"_xlfn.XLOOKUP(A709,Agencies!$A$9:$A$146,Agencies!$B$9:$B$146)","v":"General Government"},{"$f":"IF(_xlfn.XLOOKUP(A709,Agencies!A:A,Agencies!D:D)=\"Y\",IF(_xlfn.XLOOKUP(F709,'Object Codes'!A:A,'Object Codes'!I:I)=\"Y\",\"Y\",\"N\"),\"N\")","v":"Y"},{"$f":"VLOOKUP(F709,'Object Codes'!$A:$C,3,0)","v":"Full Year Positions"},{"$f":"VLOOKUP(A709,Agencies!A:C,3,0)","v":"Mayoralty"},418.46465753424661]
["002",2022,"001","090","0934","001",0,0,0,0,0,0,0,0,0,0,884.64,0,884.64,884.64,-884.64,884.64,-884.64,884.64,884.64,-884.64,{"$f":"_xlfn.XLOOKUP(F710,'Object Codes'!$A$18:$A$510,'Object Codes'!$H$18:$H$510)","v":"PS - Regular"},{"$f":"_xlfn.XLOOKUP(F710,'Object Codes'!$A$18:$A$510,'Object Codes'!$G$18:$G$510)","v":"C"},{"$f":"_xlfn.XLOOKUP(A710,Agencies!$A$9:$A$146,Agencies!$B$9:$B$146)","v":"General Government"},{"$f":"IF(_xlfn.XLOOKUP(A710,Agencies!A:A,Agencies!D:D)=\"Y\",IF(_xlfn.XLOOKUP(F710,'Object Codes'!A:A,'Object Codes'!I:I)=\"Y\",\"Y\",\"N\"),\"N\")","v":"Y"},{"$f":"VLOOKUP(F710,'Object Codes'!$A:$C,3,0)","v":"Full Year Positions"},{"$f":"VLOOKUP(A710,Agencies!A:C,3,0)","v":"Mayoralty"},2.4236712328767123]
["002",2022,"001","090","0941","001",0,0,0,0,0,0,0,0,0,0,118166.93,0,118166.93,118166.93,-118166.93,118166.93,-118166.93,118166.93,118166.93,-118166.93,{"$f":"_xlfn.XLOOKUP(F711,'Object Codes'!$A$18:$A$510,'Object Codes'!$H$18:$H$510)","v":"PS - Regular"},{"$f":"_xlfn.XLOOKUP(F711,'Object Codes'!$A$18:$A$510,'Object Codes'!$G$18:$G$510)","v":"C"},{"$f":"_xlfn.XLOOKUP(A711,Agencies!$A$9:$A$146,Agencies!$B$9:$B$146)","v":"General Government"},{"$f":"IF(_xlfn.XLOOKUP(A711,Agencies!A:A,Agencies!D:D)=\"Y\",IF(_xlfn.XLOOKUP(F711,'Object Codes'!A:A,'Object Codes'!I:I)=\"Y\",\"Y\",\"N\"),\"N\")","v":"Y"},{"$f":"VLOOKUP(F711,'Object Codes'!$A:$C,3,0)","v":"Full Year Positions"},{"$f":"VLOOKUP(A711,Agencies!A:C,3,0)","v":"Mayoralty"},323.74501369863015]
["002",2022,"001","090","0942","001",0,0,0,0,0,0,0,0,0,0,74597.350000000006,0,74597.350000000006,74597.350000000006,-74597.350000000006,74597.350000000006,-74597.350000000006,74597.350000000006,74597.350000000006,-74597.350000000006,{"$f":"_xlfn.XLOOKUP(F712,'Object Codes'!$A$18:$A$510,'Object Codes'!$H$18:$H$510)","v":"PS - Regular"},{"$f":"_xlfn.XLOOKUP(F712,'Object Codes'!$A$18:$A$510,'Object Codes'!$G$18:$G$510)","v":"C"},{"$f":"_xlfn.XLOOKUP(A712,Agencies!$A$9:$A$146,Agencies!$B$9:$B$146)","v":"General Government"},{"$f":"IF(_xlfn.XLOOKUP(A712,Agencies!A:A,Agencies!D:D)=\"Y\",IF(_xlfn.XLOOKUP(F712,'Object Codes'!A:A,'Object Codes'!I:I)=\"Y\",\"Y\",\"N\"),\"N\")","v":"Y"},{"$f":"VLOOKUP(F712,'Object Codes'!$A:$C,3,0)","v":"Full Year Positions"},{"$f":"VLOOKUP(A712,Agencies!A:C,3,0)","v":"Mayoralty"},204.37630136986303]
["002",2022,"001","090","0945","001",0,15,11,949670,685580,0,0,0,0,0,685579.25,0,685579.25,685579.25,0.75,685579.25,0.75,685579.25,685579.25,0.75,{"$f":"_xlfn.XLOOKUP(F713,'Object Codes'!$A$18:$A$510,'Object Codes'!$H$18:$H$510)","v":"PS - Regular"},{"$f":"_xlfn.XLOOKUP(F713,'Object Codes'!$A$18:$A$510,'Object Codes'!$G$18:$G$510)","v":"C"},{"$f":"_xlfn.XLOOKUP(A713,Agencies!$A$9:$A$146,Agencies!$B$9:$B$146)","v":"General Government"},{"$f":"IF(_xlfn.XLOOKUP(A713,Agencies!A:A,Agencies!D:D)=\"Y\",IF(_xlfn.XLOOKUP(F713,'Object Codes'!A:A,'Object Codes'!I:I)=\"Y\",\"Y\",\"N\"),\"N\")","v":"Y"},{"$f":"VLOOKUP(F713,'Object Codes'!$A:$C,3,0)","v":"Full Year Positions"},{"$f":"VLOOKUP(A713,Agencies!A:C,3,0)","v":"Mayoralty"},{"$f":"S713/365","v":1878.2993150684931}]
["002",2022,"001","090","0945","043",0,0,0,0,0,0,0,0,0,0,245.38,0,245.38,245.38,-245.38,245.38,-245.38,245.38,245.38,-245.38,{"$f":"_xlfn.XLOOKUP(F714,'Object Codes'!$A$18:$A$510,'Object Codes'!$H$18:$H$510)","v":"PS - Additional Gross"},{"$f":"_xlfn.XLOOKUP(F714,'Object Codes'!$A$18:$A$510,'Object Codes'!$G$18:$G$510)","v":"A"},{"$f":"_xlfn.XLOOKUP(A714,Agencies!$A$9:$A$146,Agencies!$B$9:$B$146)","v":"General Government"},{"$f":"IF(_xlfn.XLOOKUP(A714,Agencies!A:A,Agencies!D:D)=\"Y\",IF(_xlfn.XLOOKUP(F714,'Object Codes'!A:A,'Object Codes'!I:I)=\"Y\",\"Y\",\"N\"),\"N\")","v":"Y"},{"$f":"VLOOKUP(F714,'Object Codes'!$A:$C,3,0)","v":"Shift Differential"},{"$f":"VLOOKUP(A714,Agencies!A:C,3,0)","v":"Mayoralty"},0.67227397260273969]
["002",2022,"001","090","0945","046",0,0,0,0,7020,0,0,0,0,0,1916.97,5102.37,7019.34,7019.34,0.66,7019.34,0.66,7019.34,7019.34,0.66,{"$f":"_xlfn.XLOOKUP(F715,'Object Codes'!$A$18:$A$510,'Object Codes'!$H$18:$H$510)","v":"PS - Additional Gross"},{"$f":"_xlfn.XLOOKUP(F715,'Object Codes'!$A$18:$A$510,'Object Codes'!$G$18:$G$510)","v":"A"},{"$f":"_xlfn.XLOOKUP(A715,Agencies!$A$9:$A$146,Agencies!$B$9:$B$146)","v":"General Government"},{"$f":"IF(_xlfn.XLOOKUP(A715,Agencies!A:A,Agencies!D:D)=\"Y\",IF(_xlfn.XLOOKUP(F715,'Object Codes'!A:A,'Object Codes'!I:I)=\"Y\",\"Y\",\"N\"),\"N\")","v":"Y"},{"$f":"VLOOKUP(F715,'Object Codes'!$A:$C,3,0)","v":"Terminal Leave"},{"$f":"VLOOKUP(A715,Agencies!A:C,3,0)","v":"Mayoralty"},19.231068493150687]
["002",2022,"001","090","0945","047",0,0,0,0,0,0,0,0,0,0,1362.15,0,1362.15,1362.15,-1362.15,1362.15,-1362.15,1362.15,1362.15,-1362.15,{"$f":"_xlfn.XLOOKUP(F716,'Object Codes'!$A$18:$A$510,'Object Codes'!$H$18:$H$510)","v":"PS - Additional Gross"},{"$f":"_xlfn.XLOOKUP(F716,'Object Codes'!$A$18:$A$510,'Object Codes'!$G$18:$G$510)","v":"C"},{"$f":"_xlfn.XLOOKUP(A716,Agencies!$A$9:$A$146,Agencies!$B$9:$B$146)","v":"General Government"},{"$f":"IF(_xlfn.XLOOKUP(A716,Agencies!A:A,Agencies!D:D)=\"Y\",IF(_xlfn.XLOOKUP(F716,'Object Codes'!A:A,'Object Codes'!I:I)=\"Y\",\"Y\",\"N\"),\"N\")","v":"Y"},{"$f":"VLOOKUP(F716,'Object Codes'!$A:$C,3,0)","v":"Overtime"},{"$f":"VLOOKUP(A716,Agencies!A:C,3,0)","v":"Mayoralty"},3.7319178082191784]
["002",2022,"001","090","0945","061",0,0,0,0,0,0,0,0,0,0,16.5,0,16.5,16.5,-16.5,16.5,-16.5,16.5,16.5,-16.5,{"$f":"_xlfn.XLOOKUP(F717,'Object Codes'!$A$18:$A$510,'Object Codes'!$H$18:$H$510)","v":"PS - Additional Gross"},{"$f":"_xlfn.XLOOKUP(F717,'Object Codes'!$A$18:$A$510,'Object Codes'!$G$18:$G$510)","v":"A"},{"$f":"_xlfn.XLOOKUP(A717,Agencies!$A$9:$A$146,Agencies!$B$9:$B$146)","v":"General Government"},{"$f":"IF(_xlfn.XLOOKUP(A717,Agencies!A:A,Agencies!D:D)=\"Y\",IF(_xlfn.XLOOKUP(F717,'Object Codes'!A:A,'Object Codes'!I:I)=\"Y\",\"Y\",\"N\"),\"N\")","v":"Y"},{"$f":"VLOOKUP(F717,'Object Codes'!$A:$C,3,0)","v":"Supper Money"},{"$f":"VLOOKUP(A717,Agencies!A:C,3,0)","v":"Mayoralty"},4.5205479452054796E-2]
["002",2022,"001","090","0946","001",0,2,10,176507,648661,0,0,0,0,0,46672.99,0,46672.99,46672.99,601988.01,46672.99,601988.01,46672.99,46672.99,601988.01,{"$f":"_xlfn.XLOOKUP(F718,'Object Codes'!$A$18:$A$510,'Object Codes'!$H$18:$H$510)","v":"PS - Regular"},{"$f":"_xlfn.XLOOKUP(F718,'Object Codes'!$A$18:$A$510,'Object Codes'!$G$18:$G$510)","v":"C"},{"$f":"_xlfn.XLOOKUP(A718,Agencies!$A$9:$A$146,Agencies!$B$9:$B$146)","v":"General Government"},{"$f":"IF(_xlfn.XLOOKUP(A718,Agencies!A:A,Agencies!D:D)=\"Y\",IF(_xlfn.XLOOKUP(F718,'Object Codes'!A:A,'Object Codes'!I:I)=\"Y\",\"Y\",\"N\"),\"N\")","v":"Y"},{"$f":"VLOOKUP(F718,'Object Codes'!$A:$C,3,0)","v":"Full Year Positions"},{"$f":"VLOOKUP(A718,Agencies!A:C,3,0)","v":"Mayoralty"},127.87120547945204]
["002",2022,"001","090","0946","046",0,0,0,0,6516,0,0,0,0,0,0,0,0,0,6516,0,6516,0,0,6516,{"$f":"_xlfn.XLOOKUP(F719,'Object Codes'!$A$18:$A$510,'Object Codes'!$H$18:$H$510)","v":"PS - Additional Gross"},{"$f":"_xlfn.XLOOKUP(F719,'Object Codes'!$A$18:$A$510,'Object Codes'!$G$18:$G$510)","v":"A"},{"$f":"_xlfn.XLOOKUP(A719,Agencies!$A$9:$A$146,Agencies!$B$9:$B$146)","v":"General Government"},{"$f":"IF(_xlfn.XLOOKUP(A719,Agencies!A:A,Agencies!D:D)=\"Y\",IF(_xlfn.XLOOKUP(F719,'Object Codes'!A:A,'Object Codes'!I:I)=\"Y\",\"Y\",\"N\"),\"N\")","v":"Y"},{"$f":"VLOOKUP(F719,'Object Codes'!$A:$C,3,0)","v":"Terminal Leave"},{"$f":"VLOOKUP(A719,Agencies!A:C,3,0)","v":"Mayoralty"},0]
["002",2022,"001","090","0946","X46",0,0,0,0,0,0,0,0,0,0,3039.27,0,3039.27,3039.27,-3039.27,3039.27,-3039.27,3039.27,3039.27,-3039.27,{"$f":"_xlfn.XLOOKUP(F720,'Object Codes'!$A$18:$A$510,'Object Codes'!$H$18:$H$510)","v":"PS - Additional Gross"},{"$f":"_xlfn.XLOOKUP(F720,'Object Codes'!$A$18:$A$510,'Object Codes'!$G$18:$G$510)","v":"A"},{"$f":"_xlfn.XLOOKUP(A720,Agencies!$A$9:$A$146,Agencies!$B$9:$B$146)","v":"General Government"},{"$f":"IF(_xlfn.XLOOKUP(A720,Agencies!A:A,Agencies!D:D)=\"Y\",IF(_xlfn.XLOOKUP(F720,'Object Codes'!A:A,'Object Codes'!I:I)=\"Y\",\"Y\",\"N\"),\"N\")","v":"Y"},{"$f":"VLOOKUP(F720,'Object Codes'!$A:$C,3,0)","v":"PY TERMINAL LEAVE"},{"$f":"VLOOKUP(A720,Agencies!A:C,3,0)","v":"Mayoralty"},8.3267671232876719]
["002",2022,"001","090","0947","001",0,8,8,1056448,1054148,0,0,0,0,0,894894.46,0,894894.46,894894.46,159253.54,894894.46,159253.54,894894.46,894894.46,159253.54,{"$f":"_xlfn.XLOOKUP(F721,'Object Codes'!$A$18:$A$510,'Object Codes'!$H$18:$H$510)","v":"PS - Regular"},{"$f":"_xlfn.XLOOKUP(F721,'Object Codes'!$A$18:$A$510,'Object Codes'!$G$18:$G$510)","v":"C"},{"$f":"_xlfn.XLOOKUP(A721,Agencies!$A$9:$A$146,Agencies!$B$9:$B$146)","v":"General Government"},{"$f":"IF(_xlfn.XLOOKUP(A721,Agencies!A:A,Agencies!D:D)=\"Y\",IF(_xlfn.XLOOKUP(F721,'Object Codes'!A:A,'Object Codes'!I:I)=\"Y\",\"Y\",\"N\"),\"N\")","v":"Y"},{"$f":"VLOOKUP(F721,'Object Codes'!$A:$C,3,0)","v":"Full Year Positions"},{"$f":"VLOOKUP(A721,Agencies!A:C,3,0)","v":"Mayoralty"},2451.7656438356162]
["002",2022,"001","090","0947","046",0,0,0,0,169768,0,0,0,0,0,5541.98,99303,104844.98,104844.98,64923.02,104844.98,64923.02,104844.98,104844.98,64923.02,{"$f":"_xlfn.XLOOKUP(F722,'Object Codes'!$A$18:$A$510,'Object Codes'!$H$18:$H$510)","v":"PS - Additional Gross"},{"$f":"_xlfn.XLOOKUP(F722,'Object Codes'!$A$18:$A$510,'Object Codes'!$G$18:$G$510)","v":"A"},{"$f":"_xlfn.XLOOKUP(A722,Agencies!$A$9:$A$146,Agencies!$B$9:$B$146)","v":"General Government"},{"$f":"IF(_xlfn.XLOOKUP(A722,Agencies!A:A,Agencies!D:D)=\"Y\",IF(_xlfn.XLOOKUP(F722,'Object Codes'!A:A,'Object Codes'!I:I)=\"Y\",\"Y\",\"N\"),\"N\")","v":"Y"},{"$f":"VLOOKUP(F722,'Object Codes'!$A:$C,3,0)","v":"Terminal Leave"},{"$f":"VLOOKUP(A722,Agencies!A:C,3,0)","v":"Mayoralty"},287.24652054794518]
["002",2022,"001","090","0947","X46",0,0,0,0,0,0,0,0,0,0,2299.27,0,2299.27,2299.27,-2299.27,2299.27,-2299.27,2299.27,2299.27,-2299.27,{"$f":"_xlfn.XLOOKUP(F723,'Object Codes'!$A$18:$A$510,'Object Codes'!$H$18:$H$510)","v":"PS - Additional Gross"},{"$f":"_xlfn.XLOOKUP(F723,'Object Codes'!$A$18:$A$510,'Object Codes'!$G$18:$G$510)","v":"A"},{"$f":"_xlfn.XLOOKUP(A723,Agencies!$A$9:$A$146,Agencies!$B$9:$B$146)","v":"General Government"},{"$f":"IF(_xlfn.XLOOKUP(A723,Agencies!A:A,Agencies!D:D)=\"Y\",IF(_xlfn.XLOOKUP(F723,'Object Codes'!A:A,'Object Codes'!I:I)=\"Y\",\"Y\",\"N\"),\"N\")","v":"Y"},{"$f":"VLOOKUP(F723,'Object Codes'!$A:$C,3,0)","v":"PY TERMINAL LEAVE"},{"$f":"VLOOKUP(A723,Agencies!A:C,3,0)","v":"Mayoralty"},6.2993698630136983]
["002",2022,"001","090","0948","001",0,0,2,0,252432,0,0,0,0,0,252431.98,0,252431.98,252431.98,0.02,252431.98,0.02,252431.98,252431.98,0.02,{"$f":"_xlfn.XLOOKUP(F724,'Object Codes'!$A$18:$A$510,'Object Codes'!$H$18:$H$510)","v":"PS - Regular"},{"$f":"_xlfn.XLOOKUP(F724,'Object Codes'!$A$18:$A$510,'Object Codes'!$G$18:$G$510)","v":"C"},{"$f":"_xlfn.XLOOKUP(A724,Agencies!$A$9:$A$146,Agencies!$B$9:$B$146)","v":"General Government"},{"$f":"IF(_xlfn.XLOOKUP(A724,Agencies!A:A,Agencies!D:D)=\"Y\",IF(_xlfn.XLOOKUP(F724,'Object Codes'!A:A,'Object Codes'!I:I)=\"Y\",\"Y\",\"N\"),\"N\")","v":"Y"},{"$f":"VLOOKUP(F724,'Object Codes'!$A:$C,3,0)","v":"Full Year Positions"},{"$f":"VLOOKUP(A724,Agencies!A:C,3,0)","v":"Mayoralty"},691.59446575342474]
["002",2022,"001","090","0949","001",0,2,2,257325,156325,0,0,0,0,0,201372.79999999999,0,201372.79999999999,201372.79999999999,-45047.8,201372.79999999999,-45047.8,201372.79999999999,201372.79999999999,-45047.8,{"$f":"_xlfn.XLOOKUP(F725,'Object Codes'!$A$18:$A$510,'Object Codes'!$H$18:$H$510)","v":"PS - Regular"},{"$f":"_xlfn.XLOOKUP(F725,'Object Codes'!$A$18:$A$510,'Object Codes'!$G$18:$G$510)","v":"C"},{"$f":"_xlfn.XLOOKUP(A725,Agencies!$A$9:$A$146,Agencies!$B$9:$B$146)","v":"General Government"},{"$f":"IF(_xlfn.XLOOKUP(A725,Agencies!A:A,Agencies!D:D)=\"Y\",IF(_xlfn.XLOOKUP(F725,'Object Codes'!A:A,'Object Codes'!I:I)=\"Y\",\"Y\",\"N\"),\"N\")","v":"Y"},{"$f":"VLOOKUP(F725,'Object Codes'!$A:$C,3,0)","v":"Full Year Positions"},{"$f":"VLOOKUP(A725,Agencies!A:C,3,0)","v":"Mayoralty"},551.70630136986301]
["002",2022,"001","090","0950","001",0,11,11,1069369,1069369,0,0,0,0,0,279948.26,0,279948.26,279948.26,789420.74,279948.26,789420.74,279948.26,279948.26,789420.74,{"$f":"_xlfn.XLOOKUP(F726,'Object Codes'!$A$18:$A$510,'Object Codes'!$H$18:$H$510)","v":"PS - Regular"},{"$f":"_xlfn.XLOOKUP(F726,'Object Codes'!$A$18:$A$510,'Object Codes'!$G$18:$G$510)","v":"C"},{"$f":"_xlfn.XLOOKUP(A726,Agencies!$A$9:$A$146,Agencies!$B$9:$B$146)","v":"General Government"},{"$f":"IF(_xlfn.XLOOKUP(A726,Agencies!A:A,Agencies!D:D)=\"Y\",IF(_xlfn.XLOOKUP(F726,'Object Codes'!A:A,'Object Codes'!I:I)=\"Y\",\"Y\",\"N\"),\"N\")","v":"Y"},{"$f":"VLOOKUP(F726,'Object Codes'!$A:$C,3,0)","v":"Full Year Positions"},{"$f":"VLOOKUP(A726,Agencies!A:C,3,0)","v":"Mayoralty"},766.98153424657539]
["002",2022,"001","090","0950","061",0,0,0,0,0,0,0,0,0,0,8.25,0,8.25,8.25,-8.25,8.25,-8.25,8.25,8.25,-8.25,{"$f":"_xlfn.XLOOKUP(F727,'Object Codes'!$A$18:$A$510,'Object Codes'!$H$18:$H$510)","v":"PS - Additional Gross"},{"$f":"_xlfn.XLOOKUP(F727,'Object Codes'!$A$18:$A$510,'Object Codes'!$G$18:$G$510)","v":"A"},{"$f":"_xlfn.XLOOKUP(A727,Agencies!$A$9:$A$146,Agencies!$B$9:$B$146)","v":"General Government"},{"$f":"IF(_xlfn.XLOOKUP(A727,Agencies!A:A,Agencies!D:D)=\"Y\",IF(_xlfn.XLOOKUP(F727,'Object Codes'!A:A,'Object Codes'!I:I)=\"Y\",\"Y\",\"N\"),\"N\")","v":"Y"},{"$f":"VLOOKUP(F727,'Object Codes'!$A:$C,3,0)","v":"Supper Money"},{"$f":"VLOOKUP(A727,Agencies!A:C,3,0)","v":"Mayoralty"},2.2602739726027398E-2]
["002",2022,"001","090","0951","001",0,1,1,48341,48341,0,0,0,0,0,0,0,0,0,48341,0,48341,0,0,48341,{"$f":"_xlfn.XLOOKUP(F728,'Object Codes'!$A$18:$A$510,'Object Codes'!$H$18:$H$510)","v":"PS - Regular"},{"$f":"_xlfn.XLOOKUP(F728,'Object Codes'!$A$18:$A$510,'Object Codes'!$G$18:$G$510)","v":"C"},{"$f":"_xlfn.XLOOKUP(A728,Agencies!$A$9:$A$146,Agencies!$B$9:$B$146)","v":"General Government"},{"$f":"IF(_xlfn.XLOOKUP(A728,Agencies!A:A,Agencies!D:D)=\"Y\",IF(_xlfn.XLOOKUP(F728,'Object Codes'!A:A,'Object Codes'!I:I)=\"Y\",\"Y\",\"N\"),\"N\")","v":"Y"},{"$f":"VLOOKUP(F728,'Object Codes'!$A:$C,3,0)","v":"Full Year Positions"},{"$f":"VLOOKUP(A728,Agencies!A:C,3,0)","v":"Mayoralty"},0]
["002",2022,"001","090","0952","001",0,13,13,1503208,1122441,0,0,0,0,0,774964.15,0,774964.15,774964.15,347476.85,774964.15,347476.85,774964.15,774964.15,347476.85,{"$f":"_xlfn.XLOOKUP(F729,'Object Codes'!$A$18:$A$510,'Object Codes'!$H$18:$H$510)","v":"PS - Regular"},{"$f":"_xlfn.XLOOKUP(F729,'Object Codes'!$A$18:$A$510,'Object Codes'!$G$18:$G$510)","v":"C"},{"$f":"_xlfn.XLOOKUP(A729,Agencies!$A$9:$A$146,Agencies!$B$9:$B$146)","v":"General Government"},{"$f":"IF(_xlfn.XLOOKUP(A729,Agencies!A:A,Agencies!D:D)=\"Y\",IF(_xlfn.XLOOKUP(F729,'Object Codes'!A:A,'Object Codes'!I:I)=\"Y\",\"Y\",\"N\"),\"N\")","v":"Y"},{"$f":"VLOOKUP(F729,'Object Codes'!$A:$C,3,0)","v":"Full Year Positions"},{"$f":"VLOOKUP(A729,Agencies!A:C,3,0)","v":"Mayoralty"},2123.1894520547944]
["002",2022,"001","090","0952","046",0,0,0,0,6529,0,0,0,0,0,0,3286.85,3286.85,3286.85,3242.15,3286.85,3242.15,3286.85,3286.85,3242.15,{"$f":"_xlfn.XLOOKUP(F730,'Object Codes'!$A$18:$A$510,'Object Codes'!$H$18:$H$510)","v":"PS - Additional Gross"},{"$f":"_xlfn.XLOOKUP(F730,'Object Codes'!$A$18:$A$510,'Object Codes'!$G$18:$G$510)","v":"A"},{"$f":"_xlfn.XLOOKUP(A730,Agencies!$A$9:$A$146,Agencies!$B$9:$B$146)","v":"General Government"},{"$f":"IF(_xlfn.XLOOKUP(A730,Agencies!A:A,Agencies!D:D)=\"Y\",IF(_xlfn.XLOOKUP(F730,'Object Codes'!A:A,'Object Codes'!I:I)=\"Y\",\"Y\",\"N\"),\"N\")","v":"Y"},{"$f":"VLOOKUP(F730,'Object Codes'!$A:$C,3,0)","v":"Terminal Leave"},{"$f":"VLOOKUP(A730,Agencies!A:C,3,0)","v":"Mayoralty"},9.0050684931506844]
["002",2022,"001","090","0952","061",0,0,0,0,0,0,0,0,0,0,24.75,0,24.75,24.75,-24.75,24.75,-24.75,24.75,24.75,-24.75,{"$f":"_xlfn.XLOOKUP(F731,'Object Codes'!$A$18:$A$510,'Object Codes'!$H$18:$H$510)","v":"PS - Additional Gross"},{"$f":"_xlfn.XLOOKUP(F731,'Object Codes'!$A$18:$A$510,'Object Codes'!$G$18:$G$510)","v":"A"},{"$f":"_xlfn.XLOOKUP(A731,Agencies!$A$9:$A$146,Agencies!$B$9:$B$146)","v":"General Government"},{"$f":"IF(_xlfn.XLOOKUP(A731,Agencies!A:A,Agencies!D:D)=\"Y\",IF(_xlfn.XLOOKUP(F731,'Object Codes'!A:A,'Object Codes'!I:I)=\"Y\",\"Y\",\"N\"),\"N\")","v":"Y"},{"$f":"VLOOKUP(F731,'Object Codes'!$A:$C,3,0)","v":"Supper Money"},{"$f":"VLOOKUP(A731,Agencies!A:C,3,0)","v":"Mayoralty"},6.7808219178082191E-2]
["002",2022,"001","090","0953","001",0,0,0,0,0,0,0,0,0,0,175758.94,0,175758.94,175758.94,-175758.94,175758.94,-175758.94,175758.94,175758.94,-175758.94,{"$f":"_xlfn.XLOOKUP(F732,'Object Codes'!$A$18:$A$510,'Object Codes'!$H$18:$H$510)","v":"PS - Regular"},{"$f":"_xlfn.XLOOKUP(F732,'Object Codes'!$A$18:$A$510,'Object Codes'!$G$18:$G$510)","v":"C"},{"$f":"_xlfn.XLOOKUP(A732,Agencies!$A$9:$A$146,Agencies!$B$9:$B$146)","v":"General Government"},{"$f":"IF(_xlfn.XLOOKUP(A732,Agencies!A:A,Agencies!D:D)=\"Y\",IF(_xlfn.XLOOKUP(F732,'Object Codes'!A:A,'Object Codes'!I:I)=\"Y\",\"Y\",\"N\"),\"N\")","v":"Y"},{"$f":"VLOOKUP(F732,'Object Codes'!$A:$C,3,0)","v":"Full Year Positions"},{"$f":"VLOOKUP(A732,Agencies!A:C,3,0)","v":"Mayoralty"},481.53134246575343]
["002",2022,"001","090","0954","001",0,0,0,0,0,0,0,0,0,0,48341.11,0,48341.11,48341.11,-48341.11,48341.11,-48341.11,48341.11,48341.11,-48341.11,{"$f":"_xlfn.XLOOKUP(F733,'Object Codes'!$A$18:$A$510,'Object Codes'!$H$18:$H$510)","v":"PS - Regular"},{"$f":"_xlfn.XLOOKUP(F733,'Object Codes'!$A$18:$A$510,'Object Codes'!$G$18:$G$510)","v":"C"},{"$f":"_xlfn.XLOOKUP(A733,Agencies!$A$9:$A$146,Agencies!$B$9:$B$146)","v":"General Government"},{"$f":"IF(_xlfn.XLOOKUP(A733,Agencies!A:A,Agencies!D:D)=\"Y\",IF(_xlfn.XLOOKUP(F733,'Object Codes'!A:A,'Object Codes'!I:I)=\"Y\",\"Y\",\"N\"),\"N\")","v":"Y"},{"$f":"VLOOKUP(F733,'Object Codes'!$A:$C,3,0)","v":"Full Year Positions"},{"$f":"VLOOKUP(A733,Agencies!A:C,3,0)","v":"Mayoralty"},132.44139726027399]
["002",2022,"001","090","0956","001",0,0,0,0,0,0,0,0,0,0,384604.96,0,384604.96,384604.96,-384604.96,384604.96,-384604.96,384604.96,384604.96,-384604.96,{"$f":"_xlfn.XLOOKUP(F734,'Object Codes'!$A$18:$A$510,'Object Codes'!$H$18:$H$510)","v":"PS - Regular"},{"$f":"_xlfn.XLOOKUP(F734,'Object Codes'!$A$18:$A$510,'Object Codes'!$G$18:$G$510)","v":"C"},{"$f":"_xlfn.XLOOKUP(A734,Agencies!$A$9:$A$146,Agencies!$B$9:$B$146)","v":"General Government"},{"$f":"IF(_xlfn.XLOOKUP(A734,Agencies!A:A,Agencies!D:D)=\"Y\",IF(_xlfn.XLOOKUP(F734,'Object Codes'!A:A,'Object Codes'!I:I)=\"Y\",\"Y\",\"N\"),\"N\")","v":"Y"},{"$f":"VLOOKUP(F734,'Object Codes'!$A:$C,3,0)","v":"Full Year Positions"},{"$f":"VLOOKUP(A734,Agencies!A:C,3,0)","v":"Mayoralty"},1053.7122191780823]
["002",2022,"001","090","0956","046",0,0,0,0,4662,0,0,0,0,0,0,0,0,0,4662,0,4662,0,0,4662,{"$f":"_xlfn.XLOOKUP(F735,'Object Codes'!$A$18:$A$510,'Object Codes'!$H$18:$H$510)","v":"PS - Additional Gross"},{"$f":"_xlfn.XLOOKUP(F735,'Object Codes'!$A$18:$A$510,'Object Codes'!$G$18:$G$510)","v":"A"},{"$f":"_xlfn.XLOOKUP(A735,Agencies!$A$9:$A$146,Agencies!$B$9:$B$146)","v":"General Government"},{"$f":"IF(_xlfn.XLOOKUP(A735,Agencies!A:A,Agencies!D:D)=\"Y\",IF(_xlfn.XLOOKUP(F735,'Object Codes'!A:A,'Object Codes'!I:I)=\"Y\",\"Y\",\"N\"),\"N\")","v":"Y"},{"$f":"VLOOKUP(F735,'Object Codes'!$A:$C,3,0)","v":"Terminal Leave"},{"$f":"VLOOKUP(A735,Agencies!A:C,3,0)","v":"Mayoralty"},0]
["002",2022,"001","090","0958","001",0,0,0,0,0,0,0,0,0,0,435206.46,0,435206.46,435206.46,-435206.46,435206.46,-435206.46,435206.46,435206.46,-435206.46,{"$f":"_xlfn.XLOOKUP(F736,'Object Codes'!$A$18:$A$510,'Object Codes'!$H$18:$H$510)","v":"PS - Regular"},{"$f":"_xlfn.XLOOKUP(F736,'Object Codes'!$A$18:$A$510,'Object Codes'!$G$18:$G$510)","v":"C"},{"$f":"_xlfn.XLOOKUP(A736,Agencies!$A$9:$A$146,Agencies!$B$9:$B$146)","v":"General Government"},{"$f":"IF(_xlfn.XLOOKUP(A736,Agencies!A:A,Agencies!D:D)=\"Y\",IF(_xlfn.XLOOKUP(F736,'Object Codes'!A:A,'Object Codes'!I:I)=\"Y\",\"Y\",\"N\"),\"N\")","v":"Y"},{"$f":"VLOOKUP(F736,'Object Codes'!$A:$C,3,0)","v":"Full Year Positions"},{"$f":"VLOOKUP(A736,Agencies!A:C,3,0)","v":"Mayoralty"},1192.3464657534248]
["002",2022,"001","090","0958","046",0,0,0,0,0,0,0,0,0,0,17436.21,0,17436.21,17436.21,-17436.21,17436.21,-17436.21,17436.21,17436.21,-17436.21,{"$f":"_xlfn.XLOOKUP(F737,'Object Codes'!$A$18:$A$510,'Object Codes'!$H$18:$H$510)","v":"PS - Additional Gross"},{"$f":"_xlfn.XLOOKUP(F737,'Object Codes'!$A$18:$A$510,'Object Codes'!$G$18:$G$510)","v":"A"},{"$f":"_xlfn.XLOOKUP(A737,Agencies!$A$9:$A$146,Agencies!$B$9:$B$146)","v":"General Government"},{"$f":"IF(_xlfn.XLOOKUP(A737,Agencies!A:A,Agencies!D:D)=\"Y\",IF(_xlfn.XLOOKUP(F737,'Object Codes'!A:A,'Object Codes'!I:I)=\"Y\",\"Y\",\"N\"),\"N\")","v":"Y"},{"$f":"VLOOKUP(F737,'Object Codes'!$A:$C,3,0)","v":"Terminal Leave"},{"$f":"VLOOKUP(A737,Agencies!A:C,3,0)","v":"Mayoralty"},47.770438356164384]
["002",2022,"001","090","0958","061",0,0,0,0,0,0,0,0,0,0,125.25,0,125.25,125.25,-125.25,125.25,-125.25,125.25,125.25,-125.25,{"$f":"_xlfn.XLOOKUP(F738,'Object Codes'!$A$18:$A$510,'Object Codes'!$H$18:$H$510)","v":"PS - Additional Gross"},{"$f":"_xlfn.XLOOKUP(F738,'Object Codes'!$A$18:$A$510,'Object Codes'!$G$18:$G$510)","v":"A"},{"$f":"_xlfn.XLOOKUP(A738,Agencies!$A$9:$A$146,Agencies!$B$9:$B$146)","v":"General Government"},{"$f":"IF(_xlfn.XLOOKUP(A738,Agencies!A:A,Agencies!D:D)=\"Y\",IF(_xlfn.XLOOKUP(F738,'Object Codes'!A:A,'Object Codes'!I:I)=\"Y\",\"Y\",\"N\"),\"N\")","v":"Y"},{"$f":"VLOOKUP(F738,'Object Codes'!$A:$C,3,0)","v":"Supper Money"},{"$f":"VLOOKUP(A738,Agencies!A:C,3,0)","v":"Mayoralty"},0.34315068493150686]
["002",2022,"001","090","0960","001",0,17,17,1479532,1477906,0,0,0,0,0,501661.49,0,501661.49,501661.49,976244.51,501661.49,976244.51,501661.49,501661.49,976244.51,{"$f":"_xlfn.XLOOKUP(F739,'Object Codes'!$A$18:$A$510,'Object Codes'!$H$18:$H$510)","v":"PS - Regular"},{"$f":"_xlfn.XLOOKUP(F739,'Object Codes'!$A$18:$A$510,'Object Codes'!$G$18:$G$510)","v":"C"},{"$f":"_xlfn.XLOOKUP(A739,Agencies!$A$9:$A$146,Agencies!$B$9:$B$146)","v":"General Government"},{"$f":"IF(_xlfn.XLOOKUP(A739,Agencies!A:A,Agencies!D:D)=\"Y\",IF(_xlfn.XLOOKUP(F739,'Object Codes'!A:A,'Object Codes'!I:I)=\"Y\",\"Y\",\"N\"),\"N\")","v":"Y"},{"$f":"VLOOKUP(F739,'Object Codes'!$A:$C,3,0)","v":"Full Year Positions"},{"$f":"VLOOKUP(A739,Agencies!A:C,3,0)","v":"Mayoralty"},1374.4150410958903]
["002",2022,"001","090","0960","046",0,0,0,0,13565,0,0,0,0,0,4952.5200000000004,4305.4399999999996,9257.9599999999991,9257.9599999999991,4307.04,9257.9599999999991,4307.04,9257.9599999999991,9257.9599999999991,4307.04,{"$f":"_xlfn.XLOOKUP(F740,'Object Codes'!$A$18:$A$510,'Object Codes'!$H$18:$H$510)","v":"PS - Additional Gross"},{"$f":"_xlfn.XLOOKUP(F740,'Object Codes'!$A$18:$A$510,'Object Codes'!$G$18:$G$510)","v":"A"},{"$f":"_xlfn.XLOOKUP(A740,Agencies!$A$9:$A$146,Agencies!$B$9:$B$146)","v":"General Government"},{"$f":"IF(_xlfn.XLOOKUP(A740,Agencies!A:A,Agencies!D:D)=\"Y\",IF(_xlfn.XLOOKUP(F740,'Object Codes'!A:A,'Object Codes'!I:I)=\"Y\",\"Y\",\"N\"),\"N\")","v":"Y"},{"$f":"VLOOKUP(F740,'Object Codes'!$A:$C,3,0)","v":"Terminal Leave"},{"$f":"VLOOKUP(A740,Agencies!A:C,3,0)","v":"Mayoralty"},25.364273972602739]
["002",2022,"001","090","0960","047",0,0,0,0,0,0,0,0,0,0,191.83,0,191.83,191.83,-191.83,191.83,-191.83,191.83,191.83,-191.83,{"$f":"_xlfn.XLOOKUP(F741,'Object Codes'!$A$18:$A$510,'Object Codes'!$H$18:$H$510)","v":"PS - Additional Gross"},{"$f":"_xlfn.XLOOKUP(F741,'Object Codes'!$A$18:$A$510,'Object Codes'!$G$18:$G$510)","v":"C"},{"$f":"_xlfn.XLOOKUP(A741,Agencies!$A$9:$A$146,Agencies!$B$9:$B$146)","v":"General Government"},{"$f":"IF(_xlfn.XLOOKUP(A741,Agencies!A:A,Agencies!D:D)=\"Y\",IF(_xlfn.XLOOKUP(F741,'Object Codes'!A:A,'Object Codes'!I:I)=\"Y\",\"Y\",\"N\"),\"N\")","v":"Y"},{"$f":"VLOOKUP(F741,'Object Codes'!$A:$C,3,0)","v":"Overtime"},{"$f":"VLOOKUP(A741,Agencies!A:C,3,0)","v":"Mayoralty"},0.52556164383561643]
["002",2022,"001","090","0960","057",0,0,0,0,500,0,0,0,0,0,500,0,500,500,0,500,0,500,500,0,{"$f":"_xlfn.XLOOKUP(F742,'Object Codes'!$A$18:$A$510,'Object Codes'!$H$18:$H$510)","v":"PS - Additional Gross"},{"$f":"_xlfn.XLOOKUP(F742,'Object Codes'!$A$18:$A$510,'Object Codes'!$G$18:$G$510)","v":"A"},{"$f":"_xlfn.XLOOKUP(A742,Agencies!$A$9:$A$146,Agencies!$B$9:$B$146)","v":"General Government"},{"$f":"IF(_xlfn.XLOOKUP(A742,Agencies!A:A,Agencies!D:D)=\"Y\",IF(_xlfn.XLOOKUP(F742,'Object Codes'!A:A,'Object Codes'!I:I)=\"Y\",\"Y\",\"N\"),\"N\")","v":"Y"},{"$f":"VLOOKUP(F742,'Object Codes'!$A:$C,3,0)","v":"Bonus Payments"},{"$f":"VLOOKUP(A742,Agencies!A:C,3,0)","v":"Mayoralty"},1.3698630136986301]
["002",2022,"001","090","0960","061",0,0,0,0,0,0,0,0,0,0,140.25,0,140.25,140.25,-140.25,140.25,-140.25,140.25,140.25,-140.25,{"$f":"_xlfn.XLOOKUP(F743,'Object Codes'!$A$18:$A$510,'Object Codes'!$H$18:$H$510)","v":"PS - Additional Gross"},{"$f":"_xlfn.XLOOKUP(F743,'Object Codes'!$A$18:$A$510,'Object Codes'!$G$18:$G$510)","v":"A"},{"$f":"_xlfn.XLOOKUP(A743,Agencies!$A$9:$A$146,Agencies!$B$9:$B$146)","v":"General Government"},{"$f":"IF(_xlfn.XLOOKUP(A743,Agencies!A:A,Agencies!D:D)=\"Y\",IF(_xlfn.XLOOKUP(F743,'Object Codes'!A:A,'Object Codes'!I:I)=\"Y\",\"Y\",\"N\"),\"N\")","v":"Y"},{"$f":"VLOOKUP(F743,'Object Codes'!$A:$C,3,0)","v":"Supper Money"},{"$f":"VLOOKUP(A743,Agencies!A:C,3,0)","v":"Mayoralty"},0.38424657534246576]
["002",2022,"001","090","0960","X46",0,0,0,0,0,0,0,0,0,0,1630.82,0,1630.82,1630.82,-1630.82,1630.82,-1630.82,1630.82,1630.82,-1630.82,{"$f":"_xlfn.XLOOKUP(F744,'Object Codes'!$A$18:$A$510,'Object Codes'!$H$18:$H$510)","v":"PS - Additional Gross"},{"$f":"_xlfn.XLOOKUP(F744,'Object Codes'!$A$18:$A$510,'Object Codes'!$G$18:$G$510)","v":"A"},{"$f":"_xlfn.XLOOKUP(A744,Agencies!$A$9:$A$146,Agencies!$B$9:$B$146)","v":"General Government"},{"$f":"IF(_xlfn.XLOOKUP(A744,Agencies!A:A,Agencies!D:D)=\"Y\",IF(_xlfn.XLOOKUP(F744,'Object Codes'!A:A,'Object Codes'!I:I)=\"Y\",\"Y\",\"N\"),\"N\")","v":"Y"},{"$f":"VLOOKUP(F744,'Object Codes'!$A:$C,3,0)","v":"PY TERMINAL LEAVE"},{"$f":"VLOOKUP(A744,Agencies!A:C,3,0)","v":"Mayoralty"},4.468]
["002",2022,"001","090","0961","001",0,1,1,51735,51735,0,0,0,0,0,279700.38,0,279700.38,279700.38,-227965.38,279700.38,-227965.38,279700.38,279700.38,-227965.38,{"$f":"_xlfn.XLOOKUP(F745,'Object Codes'!$A$18:$A$510,'Object Codes'!$H$18:$H$510)","v":"PS - Regular"},{"$f":"_xlfn.XLOOKUP(F745,'Object Codes'!$A$18:$A$510,'Object Codes'!$G$18:$G$510)","v":"C"},{"$f":"_xlfn.XLOOKUP(A745,Agencies!$A$9:$A$146,Agencies!$B$9:$B$146)","v":"General Government"},{"$f":"IF(_xlfn.XLOOKUP(A745,Agencies!A:A,Agencies!D:D)=\"Y\",IF(_xlfn.XLOOKUP(F745,'Object Codes'!A:A,'Object Codes'!I:I)=\"Y\",\"Y\",\"N\"),\"N\")","v":"Y"},{"$f":"VLOOKUP(F745,'Object Codes'!$A:$C,3,0)","v":"Full Year Positions"},{"$f":"VLOOKUP(A745,Agencies!A:C,3,0)","v":"Mayoralty"},766.30241095890415]
["002",2022,"001","090","0961","057",0,0,0,0,500,0,0,0,0,0,500,0,500,500,0,500,0,500,500,0,{"$f":"_xlfn.XLOOKUP(F746,'Object Codes'!$A$18:$A$510,'Object Codes'!$H$18:$H$510)","v":"PS - Additional Gross"},{"$f":"_xlfn.XLOOKUP(F746,'Object Codes'!$A$18:$A$510,'Object Codes'!$G$18:$G$510)","v":"A"},{"$f":"_xlfn.XLOOKUP(A746,Agencies!$A$9:$A$146,Agencies!$B$9:$B$146)","v":"General Government"},{"$f":"IF(_xlfn.XLOOKUP(A746,Agencies!A:A,Agencies!D:D)=\"Y\",IF(_xlfn.XLOOKUP(F746,'Object Codes'!A:A,'Object Codes'!I:I)=\"Y\",\"Y\",\"N\"),\"N\")","v":"Y"},{"$f":"VLOOKUP(F746,'Object Codes'!$A:$C,3,0)","v":"Bonus Payments"},{"$f":"VLOOKUP(A746,Agencies!A:C,3,0)","v":"Mayoralty"},1.3698630136986301]
["002",2022,"001","090","0961","061",0,0,0,0,0,0,0,0,0,0,8.25,0,8.25,8.25,-8.25,8.25,-8.25,8.25,8.25,-8.25,{"$f":"_xlfn.XLOOKUP(F747,'Object Codes'!$A$18:$A$510,'Object Codes'!$H$18:$H$510)","v":"PS - Additional Gross"},{"$f":"_xlfn.XLOOKUP(F747,'Object Codes'!$A$18:$A$510,'Object Codes'!$G$18:$G$510)","v":"A"},{"$f":"_xlfn.XLOOKUP(A747,Agencies!$A$9:$A$146,Agencies!$B$9:$B$146)","v":"General Government"},{"$f":"IF(_xlfn.XLOOKUP(A747,Agencies!A:A,Agencies!D:D)=\"Y\",IF(_xlfn.XLOOKUP(F747,'Object Codes'!A:A,'Object Codes'!I:I)=\"Y\",\"Y\",\"N\"),\"N\")","v":"Y"},{"$f":"VLOOKUP(F747,'Object Codes'!$A:$C,3,0)","v":"Supper Money"},{"$f":"VLOOKUP(A747,Agencies!A:C,3,0)","v":"Mayoralty"},2.2602739726027398E-2]
["002",2022,"001","090","0962","001",0,0,0,12359,12359,0,0,0,0,0,342685.54,0,342685.54,342685.54,-330326.53999999998,342685.54,-330326.53999999998,342685.54,342685.54,-330326.53999999998,{"$f":"_xlfn.XLOOKUP(F748,'Object Codes'!$A$18:$A$510,'Object Codes'!$H$18:$H$510)","v":"PS - Regular"},{"$f":"_xlfn.XLOOKUP(F748,'Object Codes'!$A$18:$A$510,'Object Codes'!$G$18:$G$510)","v":"C"},{"$f":"_xlfn.XLOOKUP(A748,Agencies!$A$9:$A$146,Agencies!$B$9:$B$146)","v":"General Government"},{"$f":"IF(_xlfn.XLOOKUP(A748,Agencies!A:A,Agencies!D:D)=\"Y\",IF(_xlfn.XLOOKUP(F748,'Object Codes'!A:A,'Object Codes'!I:I)=\"Y\",\"Y\",\"N\"),\"N\")","v":"Y"},{"$f":"VLOOKUP(F748,'Object Codes'!$A:$C,3,0)","v":"Full Year Positions"},{"$f":"VLOOKUP(A748,Agencies!A:C,3,0)","v":"Mayoralty"},938.86449315068489]
["002",2022,"001","090","0962","042",0,0,0,0,0,0,0,0,0,0,984.4,0,984.4,984.4,-984.4,984.4,-984.4,984.4,984.4,-984.4,{"$f":"_xlfn.XLOOKUP(F749,'Object Codes'!$A$18:$A$510,'Object Codes'!$H$18:$H$510)","v":"PS - Additional Gross"},{"$f":"_xlfn.XLOOKUP(F749,'Object Codes'!$A$18:$A$510,'Object Codes'!$G$18:$G$510)","v":"A"},{"$f":"_xlfn.XLOOKUP(A749,Agencies!$A$9:$A$146,Agencies!$B$9:$B$146)","v":"General Government"},{"$f":"IF(_xlfn.XLOOKUP(A749,Agencies!A:A,Agencies!D:D)=\"Y\",IF(_xlfn.XLOOKUP(F749,'Object Codes'!A:A,'Object Codes'!I:I)=\"Y\",\"Y\",\"N\"),\"N\")","v":"Y"},{"$f":"VLOOKUP(F749,'Object Codes'!$A:$C,3,0)","v":"Longevity Differential"},{"$f":"VLOOKUP(A749,Agencies!A:C,3,0)","v":"Mayoralty"},2.6969863013698632]
["002",2022,"001","090","0962","061",0,0,0,0,0,0,0,0,0,0,16.5,0,16.5,16.5,-16.5,16.5,-16.5,16.5,16.5,-16.5,{"$f":"_xlfn.XLOOKUP(F750,'Object Codes'!$A$18:$A$510,'Object Codes'!$H$18:$H$510)","v":"PS - Additional Gross"},{"$f":"_xlfn.XLOOKUP(F750,'Object Codes'!$A$18:$A$510,'Object Codes'!$G$18:$G$510)","v":"A"},{"$f":"_xlfn.XLOOKUP(A750,Agencies!$A$9:$A$146,Agencies!$B$9:$B$146)","v":"General Government"},{"$f":"IF(_xlfn.XLOOKUP(A750,Agencies!A:A,Agencies!D:D)=\"Y\",IF(_xlfn.XLOOKUP(F750,'Object Codes'!A:A,'Object Codes'!I:I)=\"Y\",\"Y\",\"N\"),\"N\")","v":"Y"},{"$f":"VLOOKUP(F750,'Object Codes'!$A:$C,3,0)","v":"Supper Money"},{"$f":"VLOOKUP(A750,Agencies!A:C,3,0)","v":"Mayoralty"},4.5205479452054796E-2]
["002",2022,"001","090","0963","001",0,0,0,0,0,0,0,0,0,0,202046.98,0,202046.98,202046.98,-202046.98,202046.98,-202046.98,202046.98,202046.98,-202046.98,{"$f":"_xlfn.XLOOKUP(F751,'Object Codes'!$A$18:$A$510,'Object Codes'!$H$18:$H$510)","v":"PS - Regular"},{"$f":"_xlfn.XLOOKUP(F751,'Object Codes'!$A$18:$A$510,'Object Codes'!$G$18:$G$510)","v":"C"},{"$f":"_xlfn.XLOOKUP(A751,Agencies!$A$9:$A$146,Agencies!$B$9:$B$146)","v":"General Government"},{"$f":"IF(_xlfn.XLOOKUP(A751,Agencies!A:A,Agencies!D:D)=\"Y\",IF(_xlfn.XLOOKUP(F751,'Object Codes'!A:A,'Object Codes'!I:I)=\"Y\",\"Y\",\"N\"),\"N\")","v":"Y"},{"$f":"VLOOKUP(F751,'Object Codes'!$A:$C,3,0)","v":"Full Year Positions"},{"$f":"VLOOKUP(A751,Agencies!A:C,3,0)","v":"Mayoralty"},553.5533698630137]
["002",2022,"001","090","0970","001",0,7,6,501160,359467,0,0,0,0,0,183732.79,0,183732.79,183732.79,175734.21,183732.79,175734.21,183732.79,183732.79,175734.21,{"$f":"_xlfn.XLOOKUP(F752,'Object Codes'!$A$18:$A$510,'Object Codes'!$H$18:$H$510)","v":"PS - Regular"},{"$f":"_xlfn.XLOOKUP(F752,'Object Codes'!$A$18:$A$510,'Object Codes'!$G$18:$G$510)","v":"C"},{"$f":"_xlfn.XLOOKUP(A752,Agencies!$A$9:$A$146,Agencies!$B$9:$B$146)","v":"General Government"},{"$f":"IF(_xlfn.XLOOKUP(A752,Agencies!A:A,Agencies!D:D)=\"Y\",IF(_xlfn.XLOOKUP(F752,'Object Codes'!A:A,'Object Codes'!I:I)=\"Y\",\"Y\",\"N\"),\"N\")","v":"Y"},{"$f":"VLOOKUP(F752,'Object Codes'!$A:$C,3,0)","v":"Full Year Positions"},{"$f":"VLOOKUP(A752,Agencies!A:C,3,0)","v":"Mayoralty"},503.37750684931507]
["002",2022,"001","090","0970","046",0,0,0,0,27699,0,0,0,0,0,4035.09,7138.5,11173.59,11173.59,16525.41,11173.59,16525.41,11173.59,11173.59,16525.41,{"$f":"_xlfn.XLOOKUP(F753,'Object Codes'!$A$18:$A$510,'Object Codes'!$H$18:$H$510)","v":"PS - Additional Gross"},{"$f":"_xlfn.XLOOKUP(F753,'Object Codes'!$A$18:$A$510,'Object Codes'!$G$18:$G$510)","v":"A"},{"$f":"_xlfn.XLOOKUP(A753,Agencies!$A$9:$A$146,Agencies!$B$9:$B$146)","v":"General Government"},{"$f":"IF(_xlfn.XLOOKUP(A753,Agencies!A:A,Agencies!D:D)=\"Y\",IF(_xlfn.XLOOKUP(F753,'Object Codes'!A:A,'Object Codes'!I:I)=\"Y\",\"Y\",\"N\"),\"N\")","v":"Y"},{"$f":"VLOOKUP(F753,'Object Codes'!$A:$C,3,0)","v":"Terminal Leave"},{"$f":"VLOOKUP(A753,Agencies!A:C,3,0)","v":"Mayoralty"},30.612575342465753]
["002",2022,"001","090","0970","049",0,0,0,0,0,0,0,0,0,0,8.68,0,8.68,8.68,-8.68,8.68,-8.68,8.68,8.68,-8.68,{"$f":"_xlfn.XLOOKUP(F754,'Object Codes'!$A$18:$A$510,'Object Codes'!$H$18:$H$510)","v":"PS - Additional Gross"},{"$f":"_xlfn.XLOOKUP(F754,'Object Codes'!$A$18:$A$510,'Object Codes'!$G$18:$G$510)","v":"A"},{"$f":"_xlfn.XLOOKUP(A754,Agencies!$A$9:$A$146,Agencies!$B$9:$B$146)","v":"General Government"},{"$f":"IF(_xlfn.XLOOKUP(A754,Agencies!A:A,Agencies!D:D)=\"Y\",IF(_xlfn.XLOOKUP(F754,'Object Codes'!A:A,'Object Codes'!I:I)=\"Y\",\"Y\",\"N\"),\"N\")","v":"Y"},{"$f":"VLOOKUP(F754,'Object Codes'!$A:$C,3,0)","v":"Backpay"},{"$f":"VLOOKUP(A754,Agencies!A:C,3,0)","v":"Mayoralty"},2.3780821917808219E-2]
["002",2022,"001","090","0970","X46",0,0,0,0,0,0,0,0,0,0,18293.77,0,18293.77,18293.77,-18293.77,18293.77,-18293.77,18293.77,18293.77,-18293.77,{"$f":"_xlfn.XLOOKUP(F755,'Object Codes'!$A$18:$A$510,'Object Codes'!$H$18:$H$510)","v":"PS - Additional Gross"},{"$f":"_xlfn.XLOOKUP(F755,'Object Codes'!$A$18:$A$510,'Object Codes'!$G$18:$G$510)","v":"A"},{"$f":"_xlfn.XLOOKUP(A755,Agencies!$A$9:$A$146,Agencies!$B$9:$B$146)","v":"General Government"},{"$f":"IF(_xlfn.XLOOKUP(A755,Agencies!A:A,Agencies!D:D)=\"Y\",IF(_xlfn.XLOOKUP(F755,'Object Codes'!A:A,'Object Codes'!I:I)=\"Y\",\"Y\",\"N\"),\"N\")","v":"Y"},{"$f":"VLOOKUP(F755,'Object Codes'!$A:$C,3,0)","v":"PY TERMINAL LEAVE"},{"$f":"VLOOKUP(A755,Agencies!A:C,3,0)","v":"Mayoralty"},50.119917808219178]
["002",2022,"001","090","0971","001",0,11,11,503020,503020,0,0,0,0,0,122558.48,0,122558.48,122558.48,380461.52,122558.48,380461.52,122558.48,122558.48,380461.52,{"$f":"_xlfn.XLOOKUP(F756,'Object Codes'!$A$18:$A$510,'Object Codes'!$H$18:$H$510)","v":"PS - Regular"},{"$f":"_xlfn.XLOOKUP(F756,'Object Codes'!$A$18:$A$510,'Object Codes'!$G$18:$G$510)","v":"C"},{"$f":"_xlfn.XLOOKUP(A756,Agencies!$A$9:$A$146,Agencies!$B$9:$B$146)","v":"General Government"},{"$f":"IF(_xlfn.XLOOKUP(A756,Agencies!A:A,Agencies!D:D)=\"Y\",IF(_xlfn.XLOOKUP(F756,'Object Codes'!A:A,'Object Codes'!I:I)=\"Y\",\"Y\",\"N\"),\"N\")","v":"Y"},{"$f":"VLOOKUP(F756,'Object Codes'!$A:$C,3,0)","v":"Full Year Positions"},{"$f":"VLOOKUP(A756,Agencies!A:C,3,0)","v":"Mayoralty"},335.77665753424657]
["002",2022,"001","090","0972","001",0,10,10,951745,868255,0,0,0,0,0,31577.8,0,31577.8,31577.8,836677.2,31577.8,836677.2,31577.8,31577.8,836677.2,{"$f":"_xlfn.XLOOKUP(F757,'Object Codes'!$A$18:$A$510,'Object Codes'!$H$18:$H$510)","v":"PS - Regular"},{"$f":"_xlfn.XLOOKUP(F757,'Object Codes'!$A$18:$A$510,'Object Codes'!$G$18:$G$510)","v":"C"},{"$f":"_xlfn.XLOOKUP(A757,Agencies!$A$9:$A$146,Agencies!$B$9:$B$146)","v":"General Government"},{"$f":"IF(_xlfn.XLOOKUP(A757,Agencies!A:A,Agencies!D:D)=\"Y\",IF(_xlfn.XLOOKUP(F757,'Object Codes'!A:A,'Object Codes'!I:I)=\"Y\",\"Y\",\"N\"),\"N\")","v":"Y"},{"$f":"VLOOKUP(F757,'Object Codes'!$A:$C,3,0)","v":"Full Year Positions"},{"$f":"VLOOKUP(A757,Agencies!A:C,3,0)","v":"Mayoralty"},86.51452054794521]
["002",2022,"001","090","0972","046",0,0,0,0,0,0,0,0,0,0,8640.73,0,8640.73,8640.73,-8640.73,8640.73,-8640.73,8640.73,8640.73,-8640.73,{"$f":"_xlfn.XLOOKUP(F758,'Object Codes'!$A$18:$A$510,'Object Codes'!$H$18:$H$510)","v":"PS - Additional Gross"},{"$f":"_xlfn.XLOOKUP(F758,'Object Codes'!$A$18:$A$510,'Object Codes'!$G$18:$G$510)","v":"A"},{"$f":"_xlfn.XLOOKUP(A758,Agencies!$A$9:$A$146,Agencies!$B$9:$B$146)","v":"General Government"},{"$f":"IF(_xlfn.XLOOKUP(A758,Agencies!A:A,Agencies!D:D)=\"Y\",IF(_xlfn.XLOOKUP(F758,'Object Codes'!A:A,'Object Codes'!I:I)=\"Y\",\"Y\",\"N\"),\"N\")","v":"Y"},{"$f":"VLOOKUP(F758,'Object Codes'!$A:$C,3,0)","v":"Terminal Leave"},{"$f":"VLOOKUP(A758,Agencies!A:C,3,0)","v":"Mayoralty"},23.673232876712326]
["002",2022,"001","090","0973","001",0,0,0,0,0,0,0,0,0,0,177336.09,0,177336.09,177336.09,-177336.09,177336.09,-177336.09,177336.09,177336.09,-177336.09,{"$f":"_xlfn.XLOOKUP(F759,'Object Codes'!$A$18:$A$510,'Object Codes'!$H$18:$H$510)","v":"PS - Regular"},{"$f":"_xlfn.XLOOKUP(F759,'Object Codes'!$A$18:$A$510,'Object Codes'!$G$18:$G$510)","v":"C"},{"$f":"_xlfn.XLOOKUP(A759,Agencies!$A$9:$A$146,Agencies!$B$9:$B$146)","v":"General Government"},{"$f":"IF(_xlfn.XLOOKUP(A759,Agencies!A:A,Agencies!D:D)=\"Y\",IF(_xlfn.XLOOKUP(F759,'Object Codes'!A:A,'Object Codes'!I:I)=\"Y\",\"Y\",\"N\"),\"N\")","v":"Y"},{"$f":"VLOOKUP(F759,'Object Codes'!$A:$C,3,0)","v":"Full Year Positions"},{"$f":"VLOOKUP(A759,Agencies!A:C,3,0)","v":"Mayoralty"},485.85230136986303]
["002",2022,"001","090","0974","001",0,0,0,0,0,0,0,0,0,0,154645.25,0,154645.25,154645.25,-154645.25,154645.25,-154645.25,154645.25,154645.25,-154645.25,{"$f":"_xlfn.XLOOKUP(F760,'Object Codes'!$A$18:$A$510,'Object Codes'!$H$18:$H$510)","v":"PS - Regular"},{"$f":"_xlfn.XLOOKUP(F760,'Object Codes'!$A$18:$A$510,'Object Codes'!$G$18:$G$510)","v":"C"},{"$f":"_xlfn.XLOOKUP(A760,Agencies!$A$9:$A$146,Agencies!$B$9:$B$146)","v":"General Government"},{"$f":"IF(_xlfn.XLOOKUP(A760,Agencies!A:A,Agencies!D:D)=\"Y\",IF(_xlfn.XLOOKUP(F760,'Object Codes'!A:A,'Object Codes'!I:I)=\"Y\",\"Y\",\"N\"),\"N\")","v":"Y"},{"$f":"VLOOKUP(F760,'Object Codes'!$A:$C,3,0)","v":"Full Year Positions"},{"$f":"VLOOKUP(A760,Agencies!A:C,3,0)","v":"Mayoralty"},423.68561643835619]
["002",2022,"001","090","0975","001",0,0,0,0,0,0,0,0,0,0,63890.2,0,63890.2,63890.2,-63890.2,63890.2,-63890.2,63890.2,63890.2,-63890.2,{"$f":"_xlfn.XLOOKUP(F761,'Object Codes'!$A$18:$A$510,'Object Codes'!$H$18:$H$510)","v":"PS - Regular"},{"$f":"_xlfn.XLOOKUP(F761,'Object Codes'!$A$18:$A$510,'Object Codes'!$G$18:$G$510)","v":"C"},{"$f":"_xlfn.XLOOKUP(A761,Agencies!$A$9:$A$146,Agencies!$B$9:$B$146)","v":"General Government"},{"$f":"IF(_xlfn.XLOOKUP(A761,Agencies!A:A,Agencies!D:D)=\"Y\",IF(_xlfn.XLOOKUP(F761,'Object Codes'!A:A,'Object Codes'!I:I)=\"Y\",\"Y\",\"N\"),\"N\")","v":"Y"},{"$f":"VLOOKUP(F761,'Object Codes'!$A:$C,3,0)","v":"Full Year Positions"},{"$f":"VLOOKUP(A761,Agencies!A:C,3,0)","v":"Mayoralty"},175.04164383561644]
["002",2022,"001","090","0976","001",0,0,0,0,4282,0,0,0,0,0,97296.04,0,97296.04,97296.04,-93014.04,97296.04,-93014.04,97296.04,97296.04,-93014.04,{"$f":"_xlfn.XLOOKUP(F762,'Object Codes'!$A$18:$A$510,'Object Codes'!$H$18:$H$510)","v":"PS - Regular"},{"$f":"_xlfn.XLOOKUP(F762,'Object Codes'!$A$18:$A$510,'Object Codes'!$G$18:$G$510)","v":"C"},{"$f":"_xlfn.XLOOKUP(A762,Agencies!$A$9:$A$146,Agencies!$B$9:$B$146)","v":"General Government"},{"$f":"IF(_xlfn.XLOOKUP(A762,Agencies!A:A,Agencies!D:D)=\"Y\",IF(_xlfn.XLOOKUP(F762,'Object Codes'!A:A,'Object Codes'!I:I)=\"Y\",\"Y\",\"N\"),\"N\")","v":"Y"},{"$f":"VLOOKUP(F762,'Object Codes'!$A:$C,3,0)","v":"Full Year Positions"},{"$f":"VLOOKUP(A762,Agencies!A:C,3,0)","v":"Mayoralty"},266.56449315068494]
["002",2022,"001","090","0976","049",0,0,0,0,0,0,0,0,0,0,1361.45,0,1361.45,1361.45,-1361.45,1361.45,-1361.45,1361.45,1361.45,-1361.45,{"$f":"_xlfn.XLOOKUP(F763,'Object Codes'!$A$18:$A$510,'Object Codes'!$H$18:$H$510)","v":"PS - Additional Gross"},{"$f":"_xlfn.XLOOKUP(F763,'Object Codes'!$A$18:$A$510,'Object Codes'!$G$18:$G$510)","v":"A"},{"$f":"_xlfn.XLOOKUP(A763,Agencies!$A$9:$A$146,Agencies!$B$9:$B$146)","v":"General Government"},{"$f":"IF(_xlfn.XLOOKUP(A763,Agencies!A:A,Agencies!D:D)=\"Y\",IF(_xlfn.XLOOKUP(F763,'Object Codes'!A:A,'Object Codes'!I:I)=\"Y\",\"Y\",\"N\"),\"N\")","v":"Y"},{"$f":"VLOOKUP(F763,'Object Codes'!$A:$C,3,0)","v":"Backpay"},{"$f":"VLOOKUP(A763,Agencies!A:C,3,0)","v":"Mayoralty"},3.73]
["002",2022,"001","090","0976","X47",0,0,0,0,0,0,0,0,0,0,2.2000000000000002,0,2.2000000000000002,2.2000000000000002,-2.2000000000000002,2.2000000000000002,-2.2000000000000002,2.2000000000000002,2.2000000000000002,-2.2000000000000002,{"$f":"_xlfn.XLOOKUP(F764,'Object Codes'!$A$18:$A$510,'Object Codes'!$H$18:$H$510)","v":"PS - Additional Gross"},{"$f":"_xlfn.XLOOKUP(F764,'Object Codes'!$A$18:$A$510,'Object Codes'!$G$18:$G$510)","v":"A"},{"$f":"_xlfn.XLOOKUP(A764,Agencies!$A$9:$A$146,Agencies!$B$9:$B$146)","v":"General Government"},{"$f":"IF(_xlfn.XLOOKUP(A764,Agencies!A:A,Agencies!D:D)=\"Y\",IF(_xlfn.XLOOKUP(F764,'Object Codes'!A:A,'Object Codes'!I:I)=\"Y\",\"Y\",\"N\"),\"N\")","v":"Y"},{"$f":"VLOOKUP(F764,'Object Codes'!$A:$C,3,0)","v":"PY OVERTIME"},{"$f":"VLOOKUP(A764,Agencies!A:C,3,0)","v":"Mayoralty"},6.0273972602739728E-3]
["002",2022,"001","090","0978","001",0,0,0,0,0,0,0,0,0,0,117901,0,117901,117901,-117901,117901,-117901,117901,117901,-117901,{"$f":"_xlfn.XLOOKUP(F765,'Object Codes'!$A$18:$A$510,'Object Codes'!$H$18:$H$510)","v":"PS - Regular"},{"$f":"_xlfn.XLOOKUP(F765,'Object Codes'!$A$18:$A$510,'Object Codes'!$G$18:$G$510)","v":"C"},{"$f":"_xlfn.XLOOKUP(A765,Agencies!$A$9:$A$146,Agencies!$B$9:$B$146)","v":"General Government"},{"$f":"IF(_xlfn.XLOOKUP(A765,Agencies!A:A,Agencies!D:D)=\"Y\",IF(_xlfn.XLOOKUP(F765,'Object Codes'!A:A,'Object Codes'!I:I)=\"Y\",\"Y\",\"N\"),\"N\")","v":"Y"},{"$f":"VLOOKUP(F765,'Object Codes'!$A:$C,3,0)","v":"Full Year Positions"},{"$f":"VLOOKUP(A765,Agencies!A:C,3,0)","v":"Mayoralty"},323.01643835616437]
["002",2022,"001","090","0980","001",0,15,15,961246,956584,0,0,0,0,0,165685.20000000001,0,165685.20000000001,165685.20000000001,790898.8,165685.20000000001,790898.8,165685.20000000001,165685.20000000001,790898.8,{"$f":"_xlfn.XLOOKUP(F766,'Object Codes'!$A$18:$A$510,'Object Codes'!$H$18:$H$510)","v":"PS - Regular"},{"$f":"_xlfn.XLOOKUP(F766,'Object Codes'!$A$18:$A$510,'Object Codes'!$G$18:$G$510)","v":"C"},{"$f":"_xlfn.XLOOKUP(A766,Agencies!$A$9:$A$146,Agencies!$B$9:$B$146)","v":"General Government"},{"$f":"IF(_xlfn.XLOOKUP(A766,Agencies!A:A,Agencies!D:D)=\"Y\",IF(_xlfn.XLOOKUP(F766,'Object Codes'!A:A,'Object Codes'!I:I)=\"Y\",\"Y\",\"N\"),\"N\")","v":"Y"},{"$f":"VLOOKUP(F766,'Object Codes'!$A:$C,3,0)","v":"Full Year Positions"},{"$f":"VLOOKUP(A766,Agencies!A:C,3,0)","v":"Mayoralty"},453.93205479452058]
["002",2022,"001","090","0980","046",0,0,0,0,0,0,0,0,0,0,9188.91,0,9188.91,9188.91,-9188.91,9188.91,-9188.91,9188.91,9188.91,-9188.91,{"$f":"_xlfn.XLOOKUP(F767,'Object Codes'!$A$18:$A$510,'Object Codes'!$H$18:$H$510)","v":"PS - Additional Gross"},{"$f":"_xlfn.XLOOKUP(F767,'Object Codes'!$A$18:$A$510,'Object Codes'!$G$18:$G$510)","v":"A"},{"$f":"_xlfn.XLOOKUP(A767,Agencies!$A$9:$A$146,Agencies!$B$9:$B$146)","v":"General Government"},{"$f":"IF(_xlfn.XLOOKUP(A767,Agencies!A:A,Agencies!D:D)=\"Y\",IF(_xlfn.XLOOKUP(F767,'Object Codes'!A:A,'Object Codes'!I:I)=\"Y\",\"Y\",\"N\"),\"N\")","v":"Y"},{"$f":"VLOOKUP(F767,'Object Codes'!$A:$C,3,0)","v":"Terminal Leave"},{"$f":"VLOOKUP(A767,Agencies!A:C,3,0)","v":"Mayoralty"},25.175095890410958]
["002",2022,"001","090","0981","001",0,5,5,365684,365684,0,0,0,0,0,0,0,0,0,365684,0,365684,0,0,365684,{"$f":"_xlfn.XLOOKUP(F768,'Object Codes'!$A$18:$A$510,'Object Codes'!$H$18:$H$510)","v":"PS - Regular"},{"$f":"_xlfn.XLOOKUP(F768,'Object Codes'!$A$18:$A$510,'Object Codes'!$G$18:$G$510)","v":"C"},{"$f":"_xlfn.XLOOKUP(A768,Agencies!$A$9:$A$146,Agencies!$B$9:$B$146)","v":"General Government"},{"$f":"IF(_xlfn.XLOOKUP(A768,Agencies!A:A,Agencies!D:D)=\"Y\",IF(_xlfn.XLOOKUP(F768,'Object Codes'!A:A,'Object Codes'!I:I)=\"Y\",\"Y\",\"N\"),\"N\")","v":"Y"},{"$f":"VLOOKUP(F768,'Object Codes'!$A:$C,3,0)","v":"Full Year Positions"},{"$f":"VLOOKUP(A768,Agencies!A:C,3,0)","v":"Mayoralty"},0]
["002",2022,"001","090","0982","001",0,5,5,490265,490265,0,0,0,0,0,0,0,0,0,490265,0,490265,0,0,490265,{"$f":"_xlfn.XLOOKUP(F769,'Object Codes'!$A$18:$A$510,'Object Codes'!$H$18:$H$510)","v":"PS - Regular"},{"$f":"_xlfn.XLOOKUP(F769,'Object Codes'!$A$18:$A$510,'Object Codes'!$G$18:$G$510)","v":"C"},{"$f":"_xlfn.XLOOKUP(A769,Agencies!$A$9:$A$146,Agencies!$B$9:$B$146)","v":"General Government"},{"$f":"IF(_xlfn.XLOOKUP(A769,Agencies!A:A,Agencies!D:D)=\"Y\",IF(_xlfn.XLOOKUP(F769,'Object Codes'!A:A,'Object Codes'!I:I)=\"Y\",\"Y\",\"N\"),\"N\")","v":"Y"},{"$f":"VLOOKUP(F769,'Object Codes'!$A:$C,3,0)","v":"Full Year Positions"},{"$f":"VLOOKUP(A769,Agencies!A:C,3,0)","v":"Mayoralty"},0]
["002",2022,"001","090","0990","001",0,11,11,547575,547575,0,0,0,0,0,46566.400000000001,0,46566.400000000001,46566.400000000001,501008.6,46566.400000000001,501008.6,46566.400000000001,46566.400000000001,501008.6,{"$f":"_xlfn.XLOOKUP(F770,'Object Codes'!$A$18:$A$510,'Object Codes'!$H$18:$H$510)","v":"PS - Regular"},{"$f":"_xlfn.XLOOKUP(F770,'Object Codes'!$A$18:$A$510,'Object Codes'!$G$18:$G$510)","v":"C"},{"$f":"_xlfn.XLOOKUP(A770,Agencies!$A$9:$A$146,Agencies!$B$9:$B$146)","v":"General Government"},{"$f":"IF(_xlfn.XLOOKUP(A770,Agencies!A:A,Agencies!D:D)=\"Y\",IF(_xlfn.XLOOKUP(F770,'Object Codes'!A:A,'Object Codes'!I:I)=\"Y\",\"Y\",\"N\"),\"N\")","v":"Y"},{"$f":"VLOOKUP(F770,'Object Codes'!$A:$C,3,0)","v":"Full Year Positions"},{"$f":"VLOOKUP(A770,Agencies!A:C,3,0)","v":"Mayoralty"},127.57917808219179]
["002",2022,"001","090","0990","061",0,0,0,0,0,0,0,0,0,0,8.25,0,8.25,8.25,-8.25,8.25,-8.25,8.25,8.25,-8.25,{"$f":"_xlfn.XLOOKUP(F771,'Object Codes'!$A$18:$A$510,'Object Codes'!$H$18:$H$510)","v":"PS - Additional Gross"},{"$f":"_xlfn.XLOOKUP(F771,'Object Codes'!$A$18:$A$510,'Object Codes'!$G$18:$G$510)","v":"A"},{"$f":"_xlfn.XLOOKUP(A771,Agencies!$A$9:$A$146,Agencies!$B$9:$B$146)","v":"General Government"},{"$f":"IF(_xlfn.XLOOKUP(A771,Agencies!A:A,Agencies!D:D)=\"Y\",IF(_xlfn.XLOOKUP(F771,'Object Codes'!A:A,'Object Codes'!I:I)=\"Y\",\"Y\",\"N\"),\"N\")","v":"Y"},{"$f":"VLOOKUP(F771,'Object Codes'!$A:$C,3,0)","v":"Supper Money"},{"$f":"VLOOKUP(A771,Agencies!A:C,3,0)","v":"Mayoralty"},2.2602739726027398E-2]
["002",2022,"001","090","0991","001",0,7,7,676148,676148,0,0,0,0,0,160007.73000000001,0,160007.73000000001,160007.73000000001,516140.27,160007.73000000001,516140.27,160007.73000000001,160007.73000000001,516140.27,{"$f":"_xlfn.XLOOKUP(F772,'Object Codes'!$A$18:$A$510,'Object Codes'!$H$18:$H$510)","v":"PS - Regular"},{"$f":"_xlfn.XLOOKUP(F772,'Object Codes'!$A$18:$A$510,'Object Codes'!$G$18:$G$510)","v":"C"},{"$f":"_xlfn.XLOOKUP(A772,Agencies!$A$9:$A$146,Agencies!$B$9:$B$146)","v":"General Government"},{"$f":"IF(_xlfn.XLOOKUP(A772,Agencies!A:A,Agencies!D:D)=\"Y\",IF(_xlfn.XLOOKUP(F772,'Object Codes'!A:A,'Object Codes'!I:I)=\"Y\",\"Y\",\"N\"),\"N\")","v":"Y"},{"$f":"VLOOKUP(F772,'Object Codes'!$A:$C,3,0)","v":"Full Year Positions"},{"$f":"VLOOKUP(A772,Agencies!A:C,3,0)","v":"Mayoralty"},438.37734246575343]
["002",2022,"001","090","0991","057",0,0,0,0,500,0,0,0,0,0,500,0,500,500,0,500,0,500,500,0,{"$f":"_xlfn.XLOOKUP(F773,'Object Codes'!$A$18:$A$510,'Object Codes'!$H$18:$H$510)","v":"PS - Additional Gross"},{"$f":"_xlfn.XLOOKUP(F773,'Object Codes'!$A$18:$A$510,'Object Codes'!$G$18:$G$510)","v":"A"},{"$f":"_xlfn.XLOOKUP(A773,Agencies!$A$9:$A$146,Agencies!$B$9:$B$146)","v":"General Government"},{"$f":"IF(_xlfn.XLOOKUP(A773,Agencies!A:A,Agencies!D:D)=\"Y\",IF(_xlfn.XLOOKUP(F773,'Object Codes'!A:A,'Object Codes'!I:I)=\"Y\",\"Y\",\"N\"),\"N\")","v":"Y"},{"$f":"VLOOKUP(F773,'Object Codes'!$A:$C,3,0)","v":"Bonus Payments"},{"$f":"VLOOKUP(A773,Agencies!A:C,3,0)","v":"Mayoralty"},1.3698630136986301]
["002",2022,"001","090","1000","001",0,0,0,0,0,0,0,0,0,0,192126.43,0,192126.43,192126.43,-192126.43,192126.43,-192126.43,192126.43,192126.43,-192126.43,{"$f":"_xlfn.XLOOKUP(F774,'Object Codes'!$A$18:$A$510,'Object Codes'!$H$18:$H$510)","v":"PS - Regular"},{"$f":"_xlfn.XLOOKUP(F774,'Object Codes'!$A$18:$A$510,'Object Codes'!$G$18:$G$510)","v":"C"},{"$f":"_xlfn.XLOOKUP(A774,Agencies!$A$9:$A$146,Agencies!$B$9:$B$146)","v":"General Government"},{"$f":"IF(_xlfn.XLOOKUP(A774,Agencies!A:A,Agencies!D:D)=\"Y\",IF(_xlfn.XLOOKUP(F774,'Object Codes'!A:A,'Object Codes'!I:I)=\"Y\",\"Y\",\"N\"),\"N\")","v":"Y"},{"$f":"VLOOKUP(F774,'Object Codes'!$A:$C,3,0)","v":"Full Year Positions"},{"$f":"VLOOKUP(A774,Agencies!A:C,3,0)","v":"Mayoralty"},526.37378082191776]
["002",2022,"001","090","1000","046",0,0,0,0,0,0,0,0,0,0,12457.37,0,12457.37,12457.37,-12457.37,12457.37,-12457.37,12457.37,12457.37,-12457.37,{"$f":"_xlfn.XLOOKUP(F775,'Object Codes'!$A$18:$A$510,'Object Codes'!$H$18:$H$510)","v":"PS - Additional Gross"},{"$f":"_xlfn.XLOOKUP(F775,'Object Codes'!$A$18:$A$510,'Object Codes'!$G$18:$G$510)","v":"A"},{"$f":"_xlfn.XLOOKUP(A775,Agencies!$A$9:$A$146,Agencies!$B$9:$B$146)","v":"General Government"},{"$f":"IF(_xlfn.XLOOKUP(A775,Agencies!A:A,Agencies!D:D)=\"Y\",IF(_xlfn.XLOOKUP(F775,'Object Codes'!A:A,'Object Codes'!I:I)=\"Y\",\"Y\",\"N\"),\"N\")","v":"Y"},{"$f":"VLOOKUP(F775,'Object Codes'!$A:$C,3,0)","v":"Terminal Leave"},{"$f":"VLOOKUP(A775,Agencies!A:C,3,0)","v":"Mayoralty"},34.129780821917812]
["002",2022,"001","090","1001","001",0,0,0,0,0,0,0,0,0,0,47194.53,0,47194.53,47194.53,-47194.53,47194.53,-47194.53,47194.53,47194.53,-47194.53,{"$f":"_xlfn.XLOOKUP(F776,'Object Codes'!$A$18:$A$510,'Object Codes'!$H$18:$H$510)","v":"PS - Regular"},{"$f":"_xlfn.XLOOKUP(F776,'Object Codes'!$A$18:$A$510,'Object Codes'!$G$18:$G$510)","v":"C"},{"$f":"_xlfn.XLOOKUP(A776,Agencies!$A$9:$A$146,Agencies!$B$9:$B$146)","v":"General Government"},{"$f":"IF(_xlfn.XLOOKUP(A776,Agencies!A:A,Agencies!D:D)=\"Y\",IF(_xlfn.XLOOKUP(F776,'Object Codes'!A:A,'Object Codes'!I:I)=\"Y\",\"Y\",\"N\"),\"N\")","v":"Y"},{"$f":"VLOOKUP(F776,'Object Codes'!$A:$C,3,0)","v":"Full Year Positions"},{"$f":"VLOOKUP(A776,Agencies!A:C,3,0)","v":"Mayoralty"},129.30008219178083]
["002",2022,"001","090","1002","001",0,0,0,0,0,0,0,0,0,0,45112.99,0,45112.99,45112.99,-45112.99,45112.99,-45112.99,45112.99,45112.99,-45112.99,{"$f":"_xlfn.XLOOKUP(F777,'Object Codes'!$A$18:$A$510,'Object Codes'!$H$18:$H$510)","v":"PS - Regular"},{"$f":"_xlfn.XLOOKUP(F777,'Object Codes'!$A$18:$A$510,'Object Codes'!$G$18:$G$510)","v":"C"},{"$f":"_xlfn.XLOOKUP(A777,Agencies!$A$9:$A$146,Agencies!$B$9:$B$146)","v":"General Government"},{"$f":"IF(_xlfn.XLOOKUP(A777,Agencies!A:A,Agencies!D:D)=\"Y\",IF(_xlfn.XLOOKUP(F777,'Object Codes'!A:A,'Object Codes'!I:I)=\"Y\",\"Y\",\"N\"),\"N\")","v":"Y"},{"$f":"VLOOKUP(F777,'Object Codes'!$A:$C,3,0)","v":"Full Year Positions"},{"$f":"VLOOKUP(A777,Agencies!A:C,3,0)","v":"Mayoralty"},{"$f":"S777/365","v":123.59723287671233}]
["002",2022,"001","090","1003","001",0,0,0,0,0,0,0,0,0,0,207929.42,0,207929.42,207929.42,-207929.42,207929.42,-207929.42,207929.42,207929.42,-207929.42,{"$f":"_xlfn.XLOOKUP(F778,'Object Codes'!$A$18:$A$510,'Object Codes'!$H$18:$H$510)","v":"PS - Regular"},{"$f":"_xlfn.XLOOKUP(F778,'Object Codes'!$A$18:$A$510,'Object Codes'!$G$18:$G$510)","v":"C"},{"$f":"_xlfn.XLOOKUP(A778,Agencies!$A$9:$A$146,Agencies!$B$9:$B$146)","v":"General Government"},{"$f":"IF(_xlfn.XLOOKUP(A778,Agencies!A:A,Agencies!D:D)=\"Y\",IF(_xlfn.XLOOKUP(F778,'Object Codes'!A:A,'Object Codes'!I:I)=\"Y\",\"Y\",\"N\"),\"N\")","v":"Y"},{"$f":"VLOOKUP(F778,'Object Codes'!$A:$C,3,0)","v":"Full Year Positions"},{"$f":"VLOOKUP(A778,Agencies!A:C,3,0)","v":"Mayoralty"},569.66964383561651]
["002",2022,"001","090","1003","046",0,0,0,0,0,0,0,0,0,0,3432.29,0,3432.29,3432.29,-3432.29,3432.29,-3432.29,3432.29,3432.29,-3432.29,{"$f":"_xlfn.XLOOKUP(F779,'Object Codes'!$A$18:$A$510,'Object Codes'!$H$18:$H$510)","v":"PS - Additional Gross"},{"$f":"_xlfn.XLOOKUP(F779,'Object Codes'!$A$18:$A$510,'Object Codes'!$G$18:$G$510)","v":"A"},{"$f":"_xlfn.XLOOKUP(A779,Agencies!$A$9:$A$146,Agencies!$B$9:$B$146)","v":"General Government"},{"$f":"IF(_xlfn.XLOOKUP(A779,Agencies!A:A,Agencies!D:D)=\"Y\",IF(_xlfn.XLOOKUP(F779,'Object Codes'!A:A,'Object Codes'!I:I)=\"Y\",\"Y\",\"N\"),\"N\")","v":"Y"},{"$f":"VLOOKUP(F779,'Object Codes'!$A:$C,3,0)","v":"Terminal Leave"},{"$f":"VLOOKUP(A779,Agencies!A:C,3,0)","v":"Mayoralty"},9.403534246575342]
["002",2022,"001","090","1006","001",0,0,0,0,0,0,0,0,0,0,605283.73,0,605283.73,605283.73,-605283.73,605283.73,-605283.73,605283.73,605283.73,-605283.73,{"$f":"_xlfn.XLOOKUP(F780,'Object Codes'!$A$18:$A$510,'Object Codes'!$H$18:$H$510)","v":"PS - Regular"},{"$f":"_xlfn.XLOOKUP(F780,'Object Codes'!$A$18:$A$510,'Object Codes'!$G$18:$G$510)","v":"C"},{"$f":"_xlfn.XLOOKUP(A780,Agencies!$A$9:$A$146,Agencies!$B$9:$B$146)","v":"General Government"},{"$f":"IF(_xlfn.XLOOKUP(A780,Agencies!A:A,Agencies!D:D)=\"Y\",IF(_xlfn.XLOOKUP(F780,'Object Codes'!A:A,'Object Codes'!I:I)=\"Y\",\"Y\",\"N\"),\"N\")","v":"Y"},{"$f":"VLOOKUP(F780,'Object Codes'!$A:$C,3,0)","v":"Full Year Positions"},{"$f":"VLOOKUP(A780,Agencies!A:C,3,0)","v":"Mayoralty"},1658.3115890410959]
["002",2022,"001","090","1007","001",0,0,0,0,0,0,0,0,0,0,142898.64000000001,0,142898.64000000001,142898.64000000001,-142898.64000000001,142898.64000000001,-142898.64000000001,142898.64000000001,142898.64000000001,-142898.64000000001,{"$f":"_xlfn.XLOOKUP(F781,'Object Codes'!$A$18:$A$510,'Object Codes'!$H$18:$H$510)","v":"PS - Regular"},{"$f":"_xlfn.XLOOKUP(F781,'Object Codes'!$A$18:$A$510,'Object Codes'!$G$18:$G$510)","v":"C"},{"$f":"_xlfn.XLOOKUP(A781,Agencies!$A$9:$A$146,Agencies!$B$9:$B$146)","v":"General Government"},{"$f":"IF(_xlfn.XLOOKUP(A781,Agencies!A:A,Agencies!D:D)=\"Y\",IF(_xlfn.XLOOKUP(F781,'Object Codes'!A:A,'Object Codes'!I:I)=\"Y\",\"Y\",\"N\"),\"N\")","v":"Y"},{"$f":"VLOOKUP(F781,'Object Codes'!$A:$C,3,0)","v":"Full Year Positions"},{"$f":"VLOOKUP(A781,Agencies!A:C,3,0)","v":"Mayoralty"},391.50312328767126]
["002",2022,"001","090","1008","001",0,0,0,0,0,0,0,0,0,0,96339.74,0,96339.74,96339.74,-96339.74,96339.74,-96339.74,96339.74,96339.74,-96339.74,{"$f":"_xlfn.XLOOKUP(F782,'Object Codes'!$A$18:$A$510,'Object Codes'!$H$18:$H$510)","v":"PS - Regular"},{"$f":"_xlfn.XLOOKUP(F782,'Object Codes'!$A$18:$A$510,'Object Codes'!$G$18:$G$510)","v":"C"},{"$f":"_xlfn.XLOOKUP(A782,Agencies!$A$9:$A$146,Agencies!$B$9:$B$146)","v":"General Government"},{"$f":"IF(_xlfn.XLOOKUP(A782,Agencies!A:A,Agencies!D:D)=\"Y\",IF(_xlfn.XLOOKUP(F782,'Object Codes'!A:A,'Object Codes'!I:I)=\"Y\",\"Y\",\"N\"),\"N\")","v":"Y"},{"$f":"VLOOKUP(F782,'Object Codes'!$A:$C,3,0)","v":"Full Year Positions"},{"$f":"VLOOKUP(A782,Agencies!A:C,3,0)","v":"Mayoralty"},263.94449315068493]
["002",2022,"001","090","1010","001",0,0,0,0,0,0,0,0,0,0,245.92,0,245.92,245.92,-245.92,245.92,-245.92,245.92,245.92,-245.92,{"$f":"_xlfn.XLOOKUP(F783,'Object Codes'!$A$18:$A$510,'Object Codes'!$H$18:$H$510)","v":"PS - Regular"},{"$f":"_xlfn.XLOOKUP(F783,'Object Codes'!$A$18:$A$510,'Object Codes'!$G$18:$G$510)","v":"C"},{"$f":"_xlfn.XLOOKUP(A783,Agencies!$A$9:$A$146,Agencies!$B$9:$B$146)","v":"General Government"},{"$f":"IF(_xlfn.XLOOKUP(A783,Agencies!A:A,Agencies!D:D)=\"Y\",IF(_xlfn.XLOOKUP(F783,'Object Codes'!A:A,'Object Codes'!I:I)=\"Y\",\"Y\",\"N\"),\"N\")","v":"Y"},{"$f":"VLOOKUP(F783,'Object Codes'!$A:$C,3,0)","v":"Full Year Positions"},{"$f":"VLOOKUP(A783,Agencies!A:C,3,0)","v":"Mayoralty"},0.67375342465753418]
["002",2022,"001","090","1020","001",0,0,0,0,30000,0,0,0,0,0,127557.86,0,127557.86,127557.86,-97557.86,127557.86,-97557.86,127557.86,127557.86,-97557.86,{"$f":"_xlfn.XLOOKUP(F784,'Object Codes'!$A$18:$A$510,'Object Codes'!$H$18:$H$510)","v":"PS - Regular"},{"$f":"_xlfn.XLOOKUP(F784,'Object Codes'!$A$18:$A$510,'Object Codes'!$G$18:$G$510)","v":"C"},{"$f":"_xlfn.XLOOKUP(A784,Agencies!$A$9:$A$146,Agencies!$B$9:$B$146)","v":"General Government"},{"$f":"IF(_xlfn.XLOOKUP(A784,Agencies!A:A,Agencies!D:D)=\"Y\",IF(_xlfn.XLOOKUP(F784,'Object Codes'!A:A,'Object Codes'!I:I)=\"Y\",\"Y\",\"N\"),\"N\")","v":"Y"},{"$f":"VLOOKUP(F784,'Object Codes'!$A:$C,3,0)","v":"Full Year Positions"},{"$f":"VLOOKUP(A784,Agencies!A:C,3,0)","v":"Mayoralty"},349.47358904109592]
["002",2022,"001","090","1022","001",0,0,0,0,0,0,0,0,0,0,113056.93,0,113056.93,113056.93,-113056.93,113056.93,-113056.93,113056.93,113056.93,-113056.93,{"$f":"_xlfn.XLOOKUP(F785,'Object Codes'!$A$18:$A$510,'Object Codes'!$H$18:$H$510)","v":"PS - Regular"},{"$f":"_xlfn.XLOOKUP(F785,'Object Codes'!$A$18:$A$510,'Object Codes'!$G$18:$G$510)","v":"C"},{"$f":"_xlfn.XLOOKUP(A785,Agencies!$A$9:$A$146,Agencies!$B$9:$B$146)","v":"General Government"},{"$f":"IF(_xlfn.XLOOKUP(A785,Agencies!A:A,Agencies!D:D)=\"Y\",IF(_xlfn.XLOOKUP(F785,'Object Codes'!A:A,'Object Codes'!I:I)=\"Y\",\"Y\",\"N\"),\"N\")","v":"Y"},{"$f":"VLOOKUP(F785,'Object Codes'!$A:$C,3,0)","v":"Full Year Positions"},{"$f":"VLOOKUP(A785,Agencies!A:C,3,0)","v":"Mayoralty"},309.74501369863015]
["002",2022,"001","090","1023","001",0,0,0,0,0,0,0,0,0,0,284664.34000000003,0,284664.34000000003,284664.34000000003,-284664.34000000003,284664.34000000003,-284664.34000000003,284664.34000000003,284664.34000000003,-284664.34000000003,{"$f":"_xlfn.XLOOKUP(F786,'Object Codes'!$A$18:$A$510,'Object Codes'!$H$18:$H$510)","v":"PS - Regular"},{"$f":"_xlfn.XLOOKUP(F786,'Object Codes'!$A$18:$A$510,'Object Codes'!$G$18:$G$510)","v":"C"},{"$f":"_xlfn.XLOOKUP(A786,Agencies!$A$9:$A$146,Agencies!$B$9:$B$146)","v":"General Government"},{"$f":"IF(_xlfn.XLOOKUP(A786,Agencies!A:A,Agencies!D:D)=\"Y\",IF(_xlfn.XLOOKUP(F786,'Object Codes'!A:A,'Object Codes'!I:I)=\"Y\",\"Y\",\"N\"),\"N\")","v":"Y"},{"$f":"VLOOKUP(F786,'Object Codes'!$A:$C,3,0)","v":"Full Year Positions"},{"$f":"VLOOKUP(A786,Agencies!A:C,3,0)","v":"Mayoralty"},779.90230136986304]
["002",2022,"001","090","1023","046",0,0,0,0,29081,0,0,0,0,0,0,12823.27,12823.27,12823.27,16257.73,12823.27,16257.73,12823.27,12823.27,16257.73,{"$f":"_xlfn.XLOOKUP(F787,'Object Codes'!$A$18:$A$510,'Object Codes'!$H$18:$H$510)","v":"PS - Additional Gross"},{"$f":"_xlfn.XLOOKUP(F787,'Object Codes'!$A$18:$A$510,'Object Codes'!$G$18:$G$510)","v":"A"},{"$f":"_xlfn.XLOOKUP(A787,Agencies!$A$9:$A$146,Agencies!$B$9:$B$146)","v":"General Government"},{"$f":"IF(_xlfn.XLOOKUP(A787,Agencies!A:A,Agencies!D:D)=\"Y\",IF(_xlfn.XLOOKUP(F787,'Object Codes'!A:A,'Object Codes'!I:I)=\"Y\",\"Y\",\"N\"),\"N\")","v":"Y"},{"$f":"VLOOKUP(F787,'Object Codes'!$A:$C,3,0)","v":"Terminal Leave"},{"$f":"VLOOKUP(A787,Agencies!A:C,3,0)","v":"Mayoralty"},35.132246575342464]
["002",2022,"001","090","1024","001",0,0,0,0,0,0,0,0,0,0,196881.26,0,196881.26,196881.26,-196881.26,196881.26,-196881.26,196881.26,196881.26,-196881.26,{"$f":"_xlfn.XLOOKUP(F788,'Object Codes'!$A$18:$A$510,'Object Codes'!$H$18:$H$510)","v":"PS - Regular"},{"$f":"_xlfn.XLOOKUP(F788,'Object Codes'!$A$18:$A$510,'Object Codes'!$G$18:$G$510)","v":"C"},{"$f":"_xlfn.XLOOKUP(A788,Agencies!$A$9:$A$146,Agencies!$B$9:$B$146)","v":"General Government"},{"$f":"IF(_xlfn.XLOOKUP(A788,Agencies!A:A,Agencies!D:D)=\"Y\",IF(_xlfn.XLOOKUP(F788,'Object Codes'!A:A,'Object Codes'!I:I)=\"Y\",\"Y\",\"N\"),\"N\")","v":"Y"},{"$f":"VLOOKUP(F788,'Object Codes'!$A:$C,3,0)","v":"Full Year Positions"},{"$f":"VLOOKUP(A788,Agencies!A:C,3,0)","v":"Mayoralty"},539.4007123287671]
["002",2022,"001","090","1025","001",0,0,0,0,0,0,0,0,0,0,47114.14,0,47114.14,47114.14,-47114.14,47114.14,-47114.14,47114.14,47114.14,-47114.14,{"$f":"_xlfn.XLOOKUP(F789,'Object Codes'!$A$18:$A$510,'Object Codes'!$H$18:$H$510)","v":"PS - Regular"},{"$f":"_xlfn.XLOOKUP(F789,'Object Codes'!$A$18:$A$510,'Object Codes'!$G$18:$G$510)","v":"C"},{"$f":"_xlfn.XLOOKUP(A789,Agencies!$A$9:$A$146,Agencies!$B$9:$B$146)","v":"General Government"},{"$f":"IF(_xlfn.XLOOKUP(A789,Agencies!A:A,Agencies!D:D)=\"Y\",IF(_xlfn.XLOOKUP(F789,'Object Codes'!A:A,'Object Codes'!I:I)=\"Y\",\"Y\",\"N\"),\"N\")","v":"Y"},{"$f":"VLOOKUP(F789,'Object Codes'!$A:$C,3,0)","v":"Full Year Positions"},{"$f":"VLOOKUP(A789,Agencies!A:C,3,0)","v":"Mayoralty"},129.07983561643834]
["002",2022,"001","090","1025","X46",0,0,0,0,0,0,0,0,0,0,20.77,0,20.77,20.77,-20.77,20.77,-20.77,20.77,20.77,-20.77,{"$f":"_xlfn.XLOOKUP(F790,'Object Codes'!$A$18:$A$510,'Object Codes'!$H$18:$H$510)","v":"PS - Additional Gross"},{"$f":"_xlfn.XLOOKUP(F790,'Object Codes'!$A$18:$A$510,'Object Codes'!$G$18:$G$510)","v":"A"},{"$f":"_xlfn.XLOOKUP(A790,Agencies!$A$9:$A$146,Agencies!$B$9:$B$146)","v":"General Government"},{"$f":"IF(_xlfn.XLOOKUP(A790,Agencies!A:A,Agencies!D:D)=\"Y\",IF(_xlfn.XLOOKUP(F790,'Object Codes'!A:A,'Object Codes'!I:I)=\"Y\",\"Y\",\"N\"),\"N\")","v":"Y"},{"$f":"VLOOKUP(F790,'Object Codes'!$A:$C,3,0)","v":"PY TERMINAL LEAVE"},{"$f":"VLOOKUP(A790,Agencies!A:C,3,0)","v":"Mayoralty"},5.6904109589041095E-2]
["002",2022,"001","090","1028","001",0,0,0,0,0,0,0,0,0,0,99246.6,0,99246.6,99246.6,-99246.6,99246.6,-99246.6,99246.6,99246.6,-99246.6,{"$f":"_xlfn.XLOOKUP(F791,'Object Codes'!$A$18:$A$510,'Object Codes'!$H$18:$H$510)","v":"PS - Regular"},{"$f":"_xlfn.XLOOKUP(F791,'Object Codes'!$A$18:$A$510,'Object Codes'!$G$18:$G$510)","v":"C"},{"$f":"_xlfn.XLOOKUP(A791,Agencies!$A$9:$A$146,Agencies!$B$9:$B$146)","v":"General Government"},{"$f":"IF(_xlfn.XLOOKUP(A791,Agencies!A:A,Agencies!D:D)=\"Y\",IF(_xlfn.XLOOKUP(F791,'Object Codes'!A:A,'Object Codes'!I:I)=\"Y\",\"Y\",\"N\"),\"N\")","v":"Y"},{"$f":"VLOOKUP(F791,'Object Codes'!$A:$C,3,0)","v":"Full Year Positions"},{"$f":"VLOOKUP(A791,Agencies!A:C,3,0)","v":"Mayoralty"},271.90849315068493]
["002",2022,"001","090","1029","001",0,0,1,0,132965,0,0,0,0,0,-218.58,0,-218.58,-218.58,133183.57999999999,-218.58,133183.57999999999,-218.58,-218.58,133183.57999999999,{"$f":"_xlfn.XLOOKUP(F792,'Object Codes'!$A$18:$A$510,'Object Codes'!$H$18:$H$510)","v":"PS - Regular"},{"$f":"_xlfn.XLOOKUP(F792,'Object Codes'!$A$18:$A$510,'Object Codes'!$G$18:$G$510)","v":"C"},{"$f":"_xlfn.XLOOKUP(A792,Agencies!$A$9:$A$146,Agencies!$B$9:$B$146)","v":"General Government"},{"$f":"IF(_xlfn.XLOOKUP(A792,Agencies!A:A,Agencies!D:D)=\"Y\",IF(_xlfn.XLOOKUP(F792,'Object Codes'!A:A,'Object Codes'!I:I)=\"Y\",\"Y\",\"N\"),\"N\")","v":"Y"},{"$f":"VLOOKUP(F792,'Object Codes'!$A:$C,3,0)","v":"Full Year Positions"},{"$f":"VLOOKUP(A792,Agencies!A:C,3,0)","v":"Mayoralty"},-0.59884931506849315]
["002",2022,"001","090","1040","001",0,10,10,800000,573700,0,0,0,0,0,451211.81,0,451211.81,451211.81,122488.19,451211.81,122488.19,451211.81,451211.81,122488.19,{"$f":"_xlfn.XLOOKUP(F793,'Object Codes'!$A$18:$A$510,'Object Codes'!$H$18:$H$510)","v":"PS - Regular"},{"$f":"_xlfn.XLOOKUP(F793,'Object Codes'!$A$18:$A$510,'Object Codes'!$G$18:$G$510)","v":"C"},{"$f":"_xlfn.XLOOKUP(A793,Agencies!$A$9:$A$146,Agencies!$B$9:$B$146)","v":"General Government"},{"$f":"IF(_xlfn.XLOOKUP(A793,Agencies!A:A,Agencies!D:D)=\"Y\",IF(_xlfn.XLOOKUP(F793,'Object Codes'!A:A,'Object Codes'!I:I)=\"Y\",\"Y\",\"N\"),\"N\")","v":"Y"},{"$f":"VLOOKUP(F793,'Object Codes'!$A:$C,3,0)","v":"Full Year Positions"},{"$f":"VLOOKUP(A793,Agencies!A:C,3,0)","v":"Mayoralty"},1236.1967397260273]
["002",2022,"001","090","1040","057",0,0,0,0,500,0,0,0,0,0,500,0,500,500,0,500,0,500,500,0,{"$f":"_xlfn.XLOOKUP(F794,'Object Codes'!$A$18:$A$510,'Object Codes'!$H$18:$H$510)","v":"PS - Additional Gross"},{"$f":"_xlfn.XLOOKUP(F794,'Object Codes'!$A$18:$A$510,'Object Codes'!$G$18:$G$510)","v":"A"},{"$f":"_xlfn.XLOOKUP(A794,Agencies!$A$9:$A$146,Agencies!$B$9:$B$146)","v":"General Government"},{"$f":"IF(_xlfn.XLOOKUP(A794,Agencies!A:A,Agencies!D:D)=\"Y\",IF(_xlfn.XLOOKUP(F794,'Object Codes'!A:A,'Object Codes'!I:I)=\"Y\",\"Y\",\"N\"),\"N\")","v":"Y"},{"$f":"VLOOKUP(F794,'Object Codes'!$A:$C,3,0)","v":"Bonus Payments"},{"$f":"VLOOKUP(A794,Agencies!A:C,3,0)","v":"Mayoralty"},1.3698630136986301]
["002",2022,"001","090","1040","061",0,0,0,0,0,0,0,0,0,0,25.25,0,25.25,25.25,-25.25,25.25,-25.25,25.25,25.25,-25.25,{"$f":"_xlfn.XLOOKUP(F795,'Object Codes'!$A$18:$A$510,'Object Codes'!$H$18:$H$510)","v":"PS - Additional Gross"},{"$f":"_xlfn.XLOOKUP(F795,'Object Codes'!$A$18:$A$510,'Object Codes'!$G$18:$G$510)","v":"A"},{"$f":"_xlfn.XLOOKUP(A795,Agencies!$A$9:$A$146,Agencies!$B$9:$B$146)","v":"General Government"},{"$f":"IF(_xlfn.XLOOKUP(A795,Agencies!A:A,Agencies!D:D)=\"Y\",IF(_xlfn.XLOOKUP(F795,'Object Codes'!A:A,'Object Codes'!I:I)=\"Y\",\"Y\",\"N\"),\"N\")","v":"Y"},{"$f":"VLOOKUP(F795,'Object Codes'!$A:$C,3,0)","v":"Supper Money"},{"$f":"VLOOKUP(A795,Agencies!A:C,3,0)","v":"Mayoralty"},6.9178082191780815E-2]
["002",2022,"001","090","1041","001",0,0,1,0,85000,0,0,0,0,0,108402.08,0,108402.08,108402.08,-23402.080000000002,108402.08,-23402.080000000002,108402.08,108402.08,-23402.080000000002,{"$f":"_xlfn.XLOOKUP(F796,'Object Codes'!$A$18:$A$510,'Object Codes'!$H$18:$H$510)","v":"PS - Regular"},{"$f":"_xlfn.XLOOKUP(F796,'Object Codes'!$A$18:$A$510,'Object Codes'!$G$18:$G$510)","v":"C"},{"$f":"_xlfn.XLOOKUP(A796,Agencies!$A$9:$A$146,Agencies!$B$9:$B$146)","v":"General Government"},{"$f":"IF(_xlfn.XLOOKUP(A796,Agencies!A:A,Agencies!D:D)=\"Y\",IF(_xlfn.XLOOKUP(F796,'Object Codes'!A:A,'Object Codes'!I:I)=\"Y\",\"Y\",\"N\"),\"N\")","v":"Y"},{"$f":"VLOOKUP(F796,'Object Codes'!$A:$C,3,0)","v":"Full Year Positions"},{"$f":"VLOOKUP(A796,Agencies!A:C,3,0)","v":"Mayoralty"},296.99200000000002]
["002",2022,"001","090","1041","046",0,0,0,0,7365,0,0,0,0,0,3376.71,1993.64,5370.35,5370.35,1994.65,5370.35,1994.65,5370.35,5370.35,1994.65,{"$f":"_xlfn.XLOOKUP(F797,'Object Codes'!$A$18:$A$510,'Object Codes'!$H$18:$H$510)","v":"PS - Additional Gross"},{"$f":"_xlfn.XLOOKUP(F797,'Object Codes'!$A$18:$A$510,'Object Codes'!$G$18:$G$510)","v":"A"},{"$f":"_xlfn.XLOOKUP(A797,Agencies!$A$9:$A$146,Agencies!$B$9:$B$146)","v":"General Government"},{"$f":"IF(_xlfn.XLOOKUP(A797,Agencies!A:A,Agencies!D:D)=\"Y\",IF(_xlfn.XLOOKUP(F797,'Object Codes'!A:A,'Object Codes'!I:I)=\"Y\",\"Y\",\"N\"),\"N\")","v":"Y"},{"$f":"VLOOKUP(F797,'Object Codes'!$A:$C,3,0)","v":"Terminal Leave"},{"$f":"VLOOKUP(A797,Agencies!A:C,3,0)","v":"Mayoralty"},14.713287671232878]
["002",2022,"001","090","1042","001",0,0,0,0,0,0,0,0,0,0,81745.38,0,81745.38,81745.38,-81745.38,81745.38,-81745.38,81745.38,81745.38,-81745.38,{"$f":"_xlfn.XLOOKUP(F798,'Object Codes'!$A$18:$A$510,'Object Codes'!$H$18:$H$510)","v":"PS - Regular"},{"$f":"_xlfn.XLOOKUP(F798,'Object Codes'!$A$18:$A$510,'Object Codes'!$G$18:$G$510)","v":"C"},{"$f":"_xlfn.XLOOKUP(A798,Agencies!$A$9:$A$146,Agencies!$B$9:$B$146)","v":"General Government"},{"$f":"IF(_xlfn.XLOOKUP(A798,Agencies!A:A,Agencies!D:D)=\"Y\",IF(_xlfn.XLOOKUP(F798,'Object Codes'!A:A,'Object Codes'!I:I)=\"Y\",\"Y\",\"N\"),\"N\")","v":"Y"},{"$f":"VLOOKUP(F798,'Object Codes'!$A:$C,3,0)","v":"Full Year Positions"},{"$f":"VLOOKUP(A798,Agencies!A:C,3,0)","v":"Mayoralty"},223.95994520547947]
["002",2022,"001","090","1042","046",0,0,0,0,0,0,0,0,0,0,1301.3699999999999,0,1301.3699999999999,1301.3699999999999,-1301.3699999999999,1301.3699999999999,-1301.3699999999999,1301.3699999999999,1301.3699999999999,-1301.3699999999999,{"$f":"_xlfn.XLOOKUP(F799,'Object Codes'!$A$18:$A$510,'Object Codes'!$H$18:$H$510)","v":"PS - Additional Gross"},{"$f":"_xlfn.XLOOKUP(F799,'Object Codes'!$A$18:$A$510,'Object Codes'!$G$18:$G$510)","v":"A"},{"$f":"_xlfn.XLOOKUP(A799,Agencies!$A$9:$A$146,Agencies!$B$9:$B$146)","v":"General Government"},{"$f":"IF(_xlfn.XLOOKUP(A799,Agencies!A:A,Agencies!D:D)=\"Y\",IF(_xlfn.XLOOKUP(F799,'Object Codes'!A:A,'Object Codes'!I:I)=\"Y\",\"Y\",\"N\"),\"N\")","v":"Y"},{"$f":"VLOOKUP(F799,'Object Codes'!$A:$C,3,0)","v":"Terminal Leave"},{"$f":"VLOOKUP(A799,Agencies!A:C,3,0)","v":"Mayoralty"},3.5653972602739725]
["002",2022,"001","090","CR01","001",0,1,1,38851,38851,0,0,0,0,0,0,0,0,0,38851,0,38851,0,0,38851,{"$f":"_xlfn.XLOOKUP(F800,'Object Codes'!$A$18:$A$510,'Object Codes'!$H$18:$H$510)","v":"PS - Regular"},{"$f":"_xlfn.XLOOKUP(F800,'Object Codes'!$A$18:$A$510,'Object Codes'!$G$18:$G$510)","v":"C"},{"$f":"_xlfn.XLOOKUP(A800,Agencies!$A$9:$A$146,Agencies!$B$9:$B$146)","v":"General Government"},{"$f":"IF(_xlfn.XLOOKUP(A800,Agencies!A:A,Agencies!D:D)=\"Y\",IF(_xlfn.XLOOKUP(F800,'Object Codes'!A:A,'Object Codes'!I:I)=\"Y\",\"Y\",\"N\"),\"N\")","v":"Y"},{"$f":"VLOOKUP(F800,'Object Codes'!$A:$C,3,0)","v":"Full Year Positions"},{"$f":"VLOOKUP(A800,Agencies!A:C,3,0)","v":"Mayoralty"},0]
["002",2022,"001","090","P090","001",0,-16,5,-1878099,-2172707,0,0,0,0,0,0,0,0,0,-2172707,0,-2172707,0,0,-2172707,{"$f":"_xlfn.XLOOKUP(F801,'Object Codes'!$A$18:$A$510,'Object Codes'!$H$18:$H$510)","v":"PS - Regular"},{"$f":"_xlfn.XLOOKUP(F801,'Object Codes'!$A$18:$A$510,'Object Codes'!$G$18:$G$510)","v":"C"},{"$f":"_xlfn.XLOOKUP(A801,Agencies!$A$9:$A$146,Agencies!$B$9:$B$146)","v":"General Government"},{"$f":"IF(_xlfn.XLOOKUP(A801,Agencies!A:A,Agencies!D:D)=\"Y\",IF(_xlfn.XLOOKUP(F801,'Object Codes'!A:A,'Object Codes'!I:I)=\"Y\",\"Y\",\"N\"),\"N\")","v":"Y"},{"$f":"VLOOKUP(F801,'Object Codes'!$A:$C,3,0)","v":"Full Year Positions"},{"$f":"VLOOKUP(A801,Agencies!A:C,3,0)","v":"Mayoralty"},0]
["002",2022,"001","091","0900","600",0,0,0,528060,0,0,0,0,0,0,0,0,0,0,0,0,0,0,0,0,{"$f":"_xlfn.XLOOKUP(F802,'Object Codes'!$A$18:$A$510,'Object Codes'!$H$18:$H$510)","v":"Contractual Services"},{"$f":"_xlfn.XLOOKUP(F802,'Object Codes'!$A$18:$A$510,'Object Codes'!$G$18:$G$510)","v":0},{"$f":"_xlfn.XLOOKUP(A802,Agencies!$A$9:$A$146,Agencies!$B$9:$B$146)","v":"General Government"},{"$f":"IF(_xlfn.XLOOKUP(A802,Agencies!A:A,Agencies!D:D)=\"Y\",IF(_xlfn.XLOOKUP(F802,'Object Codes'!A:A,'Object Codes'!I:I)=\"Y\",\"Y\",\"N\"),\"N\")","v":"Y"},{"$f":"VLOOKUP(F802,'Object Codes'!$A:$C,3,0)","v":"Contractual Services - General"},{"$f":"VLOOKUP(A802,Agencies!A:C,3,0)","v":"Mayoralty"},0]
["002",2022,"001","091","0901","100",0,0,0,66000,88,0,0,0,0,0,0,0,0,0,88,0,88,0,0,88,{"$f":"_xlfn.XLOOKUP(F803,'Object Codes'!$A$18:$A$510,'Object Codes'!$H$18:$H$510)","v":"Supplies & Materials"},{"$f":"_xlfn.XLOOKUP(F803,'Object Codes'!$A$18:$A$510,'Object Codes'!$G$18:$G$510)","v":"A"},{"$f":"_xlfn.XLOOKUP(A803,Agencies!$A$9:$A$146,Agencies!$B$9:$B$146)","v":"General Government"},{"$f":"IF(_xlfn.XLOOKUP(A803,Agencies!A:A,Agencies!D:D)=\"Y\",IF(_xlfn.XLOOKUP(F803,'Object Codes'!A:A,'Object Codes'!I:I)=\"Y\",\"Y\",\"N\"),\"N\")","v":"Y"},{"$f":"VLOOKUP(F803,'Object Codes'!$A:$C,3,0)","v":"Supplies and Materials - General"},{"$f":"VLOOKUP(A803,Agencies!A:C,3,0)","v":"Mayoralty"},0]
["002",2022,"001","091","0901","199",0,0,0,0,9946,0,0,0,0,0,7549.34,0,7549.34,7549.34,2396.66,7549.34,2396.66,7549.34,7549.34,2396.66,{"$f":"_xlfn.XLOOKUP(F804,'Object Codes'!$A$18:$A$510,'Object Codes'!$H$18:$H$510)","v":"Supplies & Materials"},{"$f":"_xlfn.XLOOKUP(F804,'Object Codes'!$A$18:$A$510,'Object Codes'!$G$18:$G$510)","v":"A"},{"$f":"_xlfn.XLOOKUP(A804,Agencies!$A$9:$A$146,Agencies!$B$9:$B$146)","v":"General Government"},{"$f":"IF(_xlfn.XLOOKUP(A804,Agencies!A:A,Agencies!D:D)=\"Y\",IF(_xlfn.XLOOKUP(F804,'Object Codes'!A:A,'Object Codes'!I:I)=\"Y\",\"Y\",\"N\"),\"N\")","v":"Y"},{"$f":"VLOOKUP(F804,'Object Codes'!$A:$C,3,0)","v":"Data Processing Supplies"},{"$f":"VLOOKUP(A804,Agencies!A:C,3,0)","v":"Mayoralty"},20.683123287671233]
["002",2022,"001","091","0901","337",0,0,0,0,11752,0,0,0,0,0,11751.3,0,11751.3,11751.3,0.7,11751.3,0.7,11751.3,11751.3,0.7,{"$f":"_xlfn.XLOOKUP(F805,'Object Codes'!$A$18:$A$510,'Object Codes'!$H$18:$H$510)","v":"Equipment"},{"$f":"_xlfn.XLOOKUP(F805,'Object Codes'!$A$18:$A$510,'Object Codes'!$G$18:$G$510)","v":"A"},{"$f":"_xlfn.XLOOKUP(A805,Agencies!$A$9:$A$146,Agencies!$B$9:$B$146)","v":"General Government"},{"$f":"IF(_xlfn.XLOOKUP(A805,Agencies!A:A,Agencies!D:D)=\"Y\",IF(_xlfn.XLOOKUP(F805,'Object Codes'!A:A,'Object Codes'!I:I)=\"Y\",\"Y\",\"N\"),\"N\")","v":"Y"},{"$f":"VLOOKUP(F805,'Object Codes'!$A:$C,3,0)","v":"Books - Other"},{"$f":"VLOOKUP(A805,Agencies!A:C,3,0)","v":"Mayoralty"},32.19534246575342]
["002",2022,"001","091","0901","42G",0,0,0,0,132630,0,0,0,0,0,132630,0,132630,132630,0,132630,0,132630,132630,0,{"$f":"_xlfn.XLOOKUP(F806,'Object Codes'!$A$18:$A$510,'Object Codes'!$H$18:$H$510)","v":"Other Services and Charges - General"},{"$f":"_xlfn.XLOOKUP(F806,'Object Codes'!$A$18:$A$510,'Object Codes'!$G$18:$G$510)","v":0},{"$f":"_xlfn.XLOOKUP(A806,Agencies!$A$9:$A$146,Agencies!$B$9:$B$146)","v":"General Government"},{"$f":"IF(_xlfn.XLOOKUP(A806,Agencies!A:A,Agencies!D:D)=\"Y\",IF(_xlfn.XLOOKUP(F806,'Object Codes'!A:A,'Object Codes'!I:I)=\"Y\",\"Y\",\"N\"),\"N\")","v":"Y"},{"$f":"VLOOKUP(F806,'Object Codes'!$A:$C,3,0)","v":"DATA PROCESSING SERVICES"},{"$f":"VLOOKUP(A806,Agencies!A:C,3,0)","v":"Mayoralty"},363.36986301369865]
["002",2022,"001","091","0901","600",0,0,0,1991741,2761696,0,0,0,0,0,2598054.52,0,2598054.52,2598054.52,163641.48000000001,2598054.52,163641.48000000001,2598054.52,2598054.52,163641.48000000001,{"$f":"_xlfn.XLOOKUP(F807,'Object Codes'!$A$18:$A$510,'Object Codes'!$H$18:$H$510)","v":"Contractual Services"},{"$f":"_xlfn.XLOOKUP(F807,'Object Codes'!$A$18:$A$510,'Object Codes'!$G$18:$G$510)","v":0},{"$f":"_xlfn.XLOOKUP(A807,Agencies!$A$9:$A$146,Agencies!$B$9:$B$146)","v":"General Government"},{"$f":"IF(_xlfn.XLOOKUP(A807,Agencies!A:A,Agencies!D:D)=\"Y\",IF(_xlfn.XLOOKUP(F807,'Object Codes'!A:A,'Object Codes'!I:I)=\"Y\",\"Y\",\"N\"),\"N\")","v":"Y"},{"$f":"VLOOKUP(F807,'Object Codes'!$A:$C,3,0)","v":"Contractual Services - General"},{"$f":"VLOOKUP(A807,Agencies!A:C,3,0)","v":"Mayoralty"},7117.9575890410961]
["002",2022,"001","091","0901","671",0,0,0,0,8625,0,0,0,0,0,8625,0,8625,8625,0,8625,0,8625,8625,0,{"$f":"_xlfn.XLOOKUP(F808,'Object Codes'!$A$18:$A$510,'Object Codes'!$H$18:$H$510)","v":"Contractual Services"},{"$f":"_xlfn.XLOOKUP(F808,'Object Codes'!$A$18:$A$510,'Object Codes'!$G$18:$G$510)","v":0},{"$f":"_xlfn.XLOOKUP(A808,Agencies!$A$9:$A$146,Agencies!$B$9:$B$146)","v":"General Government"},{"$f":"IF(_xlfn.XLOOKUP(A808,Agencies!A:A,Agencies!D:D)=\"Y\",IF(_xlfn.XLOOKUP(F808,'Object Codes'!A:A,'Object Codes'!I:I)=\"Y\",\"Y\",\"N\"),\"N\")","v":"Y"},{"$f":"VLOOKUP(F808,'Object Codes'!$A:$C,3,0)","v":"Training Program for City Employees - Contractual"},{"$f":"VLOOKUP(A808,Agencies!A:C,3,0)","v":"Mayoralty"},23.63013698630137]
["002",2022,"001","091","0901","684",0,0,0,3812286,6312632,0,0,0,0,0,6251760.8499999996,0,6251760.8499999996,6251760.8499999996,60871.15,6251760.8499999996,60871.15,6251760.8499999996,6251760.8499999996,60871.15,{"$f":"_xlfn.XLOOKUP(F809,'Object Codes'!$A$18:$A$510,'Object Codes'!$H$18:$H$510)","v":"Contractual Services"},{"$f":"_xlfn.XLOOKUP(F809,'Object Codes'!$A$18:$A$510,'Object Codes'!$G$18:$G$510)","v":0},{"$f":"_xlfn.XLOOKUP(A809,Agencies!$A$9:$A$146,Agencies!$B$9:$B$146)","v":"General Government"},{"$f":"IF(_xlfn.XLOOKUP(A809,Agencies!A:A,Agencies!D:D)=\"Y\",IF(_xlfn.XLOOKUP(F809,'Object Codes'!A:A,'Object Codes'!I:I)=\"Y\",\"Y\",\"N\"),\"N\")","v":"Y"},{"$f":"VLOOKUP(F809,'Object Codes'!$A:$C,3,0)","v":"Professional Services - Computer Services - Contractual"},{"$f":"VLOOKUP(A809,Agencies!A:C,3,0)","v":"Mayoralty"},17128.111917808219]
["002",2022,"001","091","0901","706",0,0,0,0,132,0,0,0,0,0,132.69,0,132.69,132.69,-0.69,132.69,-0.69,132.69,132.69,-0.69,{"$f":"_xlfn.XLOOKUP(F810,'Object Codes'!$A$18:$A$510,'Object Codes'!$H$18:$H$510)","v":"Fixed Charges"},{"$f":"_xlfn.XLOOKUP(F810,'Object Codes'!$A$18:$A$510,'Object Codes'!$G$18:$G$510)","v":0},{"$f":"_xlfn.XLOOKUP(A810,Agencies!$A$9:$A$146,Agencies!$B$9:$B$146)","v":"General Government"},{"$f":"IF(_xlfn.XLOOKUP(A810,Agencies!A:A,Agencies!D:D)=\"Y\",IF(_xlfn.XLOOKUP(F810,'Object Codes'!A:A,'Object Codes'!I:I)=\"Y\",\"Y\",\"N\"),\"N\")","v":"Y"},{"$f":"VLOOKUP(F810,'Object Codes'!$A:$C,3,0)","v":"Prompt Payments Interest"},{"$f":"VLOOKUP(A810,Agencies!A:C,3,0)","v":"Mayoralty"},0.36353424657534245]
["002",2022,"001","091","0910","100",0,0,0,729160,3751,0,0,0,0,0,2039.1,0,2039.1,2039.1,1711.9,2039.1,1711.9,2039.1,2039.1,1711.9,{"$f":"_xlfn.XLOOKUP(F811,'Object Codes'!$A$18:$A$510,'Object Codes'!$H$18:$H$510)","v":"Supplies & Materials"},{"$f":"_xlfn.XLOOKUP(F811,'Object Codes'!$A$18:$A$510,'Object Codes'!$G$18:$G$510)","v":"A"},{"$f":"_xlfn.XLOOKUP(A811,Agencies!$A$9:$A$146,Agencies!$B$9:$B$146)","v":"General Government"},{"$f":"IF(_xlfn.XLOOKUP(A811,Agencies!A:A,Agencies!D:D)=\"Y\",IF(_xlfn.XLOOKUP(F811,'Object Codes'!A:A,'Object Codes'!I:I)=\"Y\",\"Y\",\"N\"),\"N\")","v":"Y"},{"$f":"VLOOKUP(F811,'Object Codes'!$A:$C,3,0)","v":"Supplies and Materials - General"},{"$f":"VLOOKUP(A811,Agencies!A:C,3,0)","v":"Mayoralty"},5.5865753424657534]
["002",2022,"001","091","0910","10X",0,0,0,0,5000,0,0,0,0,0,140.78,0,140.78,140.78,4859.22,140.78,4859.22,140.78,140.78,4859.22,{"$f":"_xlfn.XLOOKUP(F812,'Object Codes'!$A$18:$A$510,'Object Codes'!$H$18:$H$510)","v":"Supplies & Materials"},{"$f":"_xlfn.XLOOKUP(F812,'Object Codes'!$A$18:$A$510,'Object Codes'!$G$18:$G$510)","v":"A"},{"$f":"_xlfn.XLOOKUP(A812,Agencies!$A$9:$A$146,Agencies!$B$9:$B$146)","v":"General Government"},{"$f":"IF(_xlfn.XLOOKUP(A812,Agencies!A:A,Agencies!D:D)=\"Y\",IF(_xlfn.XLOOKUP(F812,'Object Codes'!A:A,'Object Codes'!I:I)=\"Y\",\"Y\",\"N\"),\"N\")","v":"Y"},{"$f":"VLOOKUP(F812,'Object Codes'!$A:$C,3,0)","v":"SUPPLIES + MATERIALS - GENERAL"},{"$f":"VLOOKUP(A812,Agencies!A:C,3,0)","v":"Mayoralty"},0.3856986301369863]
["002",2022,"001","091","0910","110",0,0,0,0,5355,0,0,0,0,0,534.4,0,534.4,534.4,4820.6000000000004,534.4,4820.6000000000004,534.4,534.4,4820.6000000000004,{"$f":"_xlfn.XLOOKUP(F813,'Object Codes'!$A$18:$A$510,'Object Codes'!$H$18:$H$510)","v":"Supplies & Materials"},{"$f":"_xlfn.XLOOKUP(F813,'Object Codes'!$A$18:$A$510,'Object Codes'!$G$18:$G$510)","v":"A"},{"$f":"_xlfn.XLOOKUP(A813,Agencies!$A$9:$A$146,Agencies!$B$9:$B$146)","v":"General Government"},{"$f":"IF(_xlfn.XLOOKUP(A813,Agencies!A:A,Agencies!D:D)=\"Y\",IF(_xlfn.XLOOKUP(F813,'Object Codes'!A:A,'Object Codes'!I:I)=\"Y\",\"Y\",\"N\"),\"N\")","v":"Y"},{"$f":"VLOOKUP(F813,'Object Codes'!$A:$C,3,0)","v":"Food and Forage Supplies"},{"$f":"VLOOKUP(A813,Agencies!A:C,3,0)","v":"Mayoralty"},1.4641095890410958]
["002",2022,"001","091","0910","314",0,0,0,0,5960,0,0,0,0,0,756,0,756,756,5204,756,5204,756,756,5204,{"$f":"_xlfn.XLOOKUP(F814,'Object Codes'!$A$18:$A$510,'Object Codes'!$H$18:$H$510)","v":"Equipment"},{"$f":"_xlfn.XLOOKUP(F814,'Object Codes'!$A$18:$A$510,'Object Codes'!$G$18:$G$510)","v":"A"},{"$f":"_xlfn.XLOOKUP(A814,Agencies!$A$9:$A$146,Agencies!$B$9:$B$146)","v":"General Government"},{"$f":"IF(_xlfn.XLOOKUP(A814,Agencies!A:A,Agencies!D:D)=\"Y\",IF(_xlfn.XLOOKUP(F814,'Object Codes'!A:A,'Object Codes'!I:I)=\"Y\",\"Y\",\"N\"),\"N\")","v":"Y"},{"$f":"VLOOKUP(F814,'Object Codes'!$A:$C,3,0)","v":"Office Furniture"},{"$f":"VLOOKUP(A814,Agencies!A:C,3,0)","v":"Mayoralty"},2.0712328767123287]
["002",2022,"001","091","0910","337",0,0,0,0,13381,0,0,0,0,0,13236,0,13236,13236,145,13236,145,13236,13236,145,{"$f":"_xlfn.XLOOKUP(F815,'Object Codes'!$A$18:$A$510,'Object Codes'!$H$18:$H$510)","v":"Equipment"},{"$f":"_xlfn.XLOOKUP(F815,'Object Codes'!$A$18:$A$510,'Object Codes'!$G$18:$G$510)","v":"A"},{"$f":"_xlfn.XLOOKUP(A815,Agencies!$A$9:$A$146,Agencies!$B$9:$B$146)","v":"General Government"},{"$f":"IF(_xlfn.XLOOKUP(A815,Agencies!A:A,Agencies!D:D)=\"Y\",IF(_xlfn.XLOOKUP(F815,'Object Codes'!A:A,'Object Codes'!I:I)=\"Y\",\"Y\",\"N\"),\"N\")","v":"Y"},{"$f":"VLOOKUP(F815,'Object Codes'!$A:$C,3,0)","v":"Books - Other"},{"$f":"VLOOKUP(A815,Agencies!A:C,3,0)","v":"Mayoralty"},36.263013698630139]
["002",2022,"001","091","0910","400",0,0,0,0,1650,0,0,0,0,0,0,0,0,0,1650,0,1650,0,0,1650,{"$f":"_xlfn.XLOOKUP(F816,'Object Codes'!$A$18:$A$510,'Object Codes'!$H$18:$H$510)","v":"Other Services and Charges - General"},{"$f":"_xlfn.XLOOKUP(F816,'Object Codes'!$A$18:$A$510,'Object Codes'!$G$18:$G$510)","v":0},{"$f":"_xlfn.XLOOKUP(A816,Agencies!$A$9:$A$146,Agencies!$B$9:$B$146)","v":"General Government"},{"$f":"IF(_xlfn.XLOOKUP(A816,Agencies!A:A,Agencies!D:D)=\"Y\",IF(_xlfn.XLOOKUP(F816,'Object Codes'!A:A,'Object Codes'!I:I)=\"Y\",\"Y\",\"N\"),\"N\")","v":"Y"},{"$f":"VLOOKUP(F816,'Object Codes'!$A:$C,3,0)","v":"Other Services and Charges - General"},{"$f":"VLOOKUP(A816,Agencies!A:C,3,0)","v":"Mayoralty"},0]
["002",2022,"001","091","0910","40B",0,0,0,0,98788,0,0,0,0,0,83719,0,83719,83719,15069,83719,15069,83719,83719,15069,{"$f":"_xlfn.XLOOKUP(F817,'Object Codes'!$A$18:$A$510,'Object Codes'!$H$18:$H$510)","v":"Other Services and Charges - General"},{"$f":"_xlfn.XLOOKUP(F817,'Object Codes'!$A$18:$A$510,'Object Codes'!$G$18:$G$510)","v":0},{"$f":"_xlfn.XLOOKUP(A817,Agencies!$A$9:$A$146,Agencies!$B$9:$B$146)","v":"General Government"},{"$f":"IF(_xlfn.XLOOKUP(A817,Agencies!A:A,Agencies!D:D)=\"Y\",IF(_xlfn.XLOOKUP(F817,'Object Codes'!A:A,'Object Codes'!I:I)=\"Y\",\"Y\",\"N\"),\"N\")","v":"Y"},{"$f":"VLOOKUP(F817,'Object Codes'!$A:$C,3,0)","v":"TELEPHONE & OTHER COMMUNICATNS"},{"$f":"VLOOKUP(A817,Agencies!A:C,3,0)","v":"Mayoralty"},229.36712328767123]
["002",2022,"001","091","0910","412",0,0,0,0,22705,0,0,0,0,0,5055.97,0,5055.97,5055.97,17649.03,5055.97,17649.03,5055.97,5055.97,17649.03,{"$f":"_xlfn.XLOOKUP(F818,'Object Codes'!$A$18:$A$510,'Object Codes'!$H$18:$H$510)","v":"Other Services and Charges - General"},{"$f":"_xlfn.XLOOKUP(F818,'Object Codes'!$A$18:$A$510,'Object Codes'!$G$18:$G$510)","v":0},{"$f":"_xlfn.XLOOKUP(A818,Agencies!$A$9:$A$146,Agencies!$B$9:$B$146)","v":"General Government"},{"$f":"IF(_xlfn.XLOOKUP(A818,Agencies!A:A,Agencies!D:D)=\"Y\",IF(_xlfn.XLOOKUP(F818,'Object Codes'!A:A,'Object Codes'!I:I)=\"Y\",\"Y\",\"N\"),\"N\")","v":"Y"},{"$f":"VLOOKUP(F818,'Object Codes'!$A:$C,3,0)","v":"Rentals - Miscellaneous Equipment"},{"$f":"VLOOKUP(A818,Agencies!A:C,3,0)","v":"Mayoralty"},13.851972602739727]
["002",2022,"001","091","0910","42C",0,0,0,58760,26029,0,0,0,0,0,0,0,0,0,26029,0,26029,0,0,26029,{"$f":"_xlfn.XLOOKUP(F819,'Object Codes'!$A$18:$A$510,'Object Codes'!$H$18:$H$510)","v":"Heat, Light, and Power"},{"$f":"_xlfn.XLOOKUP(F819,'Object Codes'!$A$18:$A$510,'Object Codes'!$G$18:$G$510)","v":0},{"$f":"_xlfn.XLOOKUP(A819,Agencies!$A$9:$A$146,Agencies!$B$9:$B$146)","v":"General Government"},{"$f":"IF(_xlfn.XLOOKUP(A819,Agencies!A:A,Agencies!D:D)=\"Y\",IF(_xlfn.XLOOKUP(F819,'Object Codes'!A:A,'Object Codes'!I:I)=\"Y\",\"Y\",\"N\"),\"N\")","v":"Y"},{"$f":"VLOOKUP(F819,'Object Codes'!$A:$C,3,0)","v":"HEAT LIGHT & POWER"},{"$f":"VLOOKUP(A819,Agencies!A:C,3,0)","v":"Mayoralty"},0]
["002",2022,"001","091","0910","451",0,0,0,0,10,0,0,0,0,0,358.5,0,358.5,358.5,-348.5,358.5,-348.5,358.5,358.5,-348.5,{"$f":"_xlfn.XLOOKUP(F820,'Object Codes'!$A$18:$A$510,'Object Codes'!$H$18:$H$510)","v":"Other Services and Charges - General"},{"$f":"_xlfn.XLOOKUP(F820,'Object Codes'!$A$18:$A$510,'Object Codes'!$G$18:$G$510)","v":0},{"$f":"_xlfn.XLOOKUP(A820,Agencies!$A$9:$A$146,Agencies!$B$9:$B$146)","v":"General Government"},{"$f":"IF(_xlfn.XLOOKUP(A820,Agencies!A:A,Agencies!D:D)=\"Y\",IF(_xlfn.XLOOKUP(F820,'Object Codes'!A:A,'Object Codes'!I:I)=\"Y\",\"Y\",\"N\"),\"N\")","v":"Y"},{"$f":"VLOOKUP(F820,'Object Codes'!$A:$C,3,0)","v":"Non Overnight Travel Expenditures - General"},{"$f":"VLOOKUP(A820,Agencies!A:C,3,0)","v":"Mayoralty"},0.98219178082191783]
["002",2022,"001","091","0910","452",0,0,0,0,313,0,0,0,0,0,212.69,0,212.69,212.69,100.31,212.69,100.31,212.69,212.69,100.31,{"$f":"_xlfn.XLOOKUP(F821,'Object Codes'!$A$18:$A$510,'Object Codes'!$H$18:$H$510)","v":"Other Services and Charges - General"},{"$f":"_xlfn.XLOOKUP(F821,'Object Codes'!$A$18:$A$510,'Object Codes'!$G$18:$G$510)","v":0},{"$f":"_xlfn.XLOOKUP(A821,Agencies!$A$9:$A$146,Agencies!$B$9:$B$146)","v":"General Government"},{"$f":"IF(_xlfn.XLOOKUP(A821,Agencies!A:A,Agencies!D:D)=\"Y\",IF(_xlfn.XLOOKUP(F821,'Object Codes'!A:A,'Object Codes'!I:I)=\"Y\",\"Y\",\"N\"),\"N\")","v":"Y"},{"$f":"VLOOKUP(F821,'Object Codes'!$A:$C,3,0)","v":"Non Overnight Travel Expenditures - Special"},{"$f":"VLOOKUP(A821,Agencies!A:C,3,0)","v":"Mayoralty"},0.58271232876712331]
["002",2022,"001","091","0910","454",0,0,0,0,869,0,0,0,0,0,868.08,0,868.08,868.08,0.92,868.08,0.92,868.08,868.08,0.92,{"$f":"_xlfn.XLOOKUP(F822,'Object Codes'!$A$18:$A$510,'Object Codes'!$H$18:$H$510)","v":"Other Services and Charges - General"},{"$f":"_xlfn.XLOOKUP(F822,'Object Codes'!$A$18:$A$510,'Object Codes'!$G$18:$G$510)","v":0},{"$f":"_xlfn.XLOOKUP(A822,Agencies!$A$9:$A$146,Agencies!$B$9:$B$146)","v":"General Government"},{"$f":"IF(_xlfn.XLOOKUP(A822,Agencies!A:A,Agencies!D:D)=\"Y\",IF(_xlfn.XLOOKUP(F822,'Object Codes'!A:A,'Object Codes'!I:I)=\"Y\",\"Y\",\"N\"),\"N\")","v":"Y"},{"$f":"VLOOKUP(F822,'Object Codes'!$A:$C,3,0)","v":"Overnight Travel Expenditures - Special"},{"$f":"VLOOKUP(A822,Agencies!A:C,3,0)","v":"Mayoralty"},2.378301369863014]
["002",2022,"001","091","0910","600",0,0,0,350000,1064174,0,0,0,0,0,1057435.18,0,1057435.18,1057435.18,6738.82,1057435.18,6738.82,1057435.18,1057435.18,6738.82,{"$f":"_xlfn.XLOOKUP(F823,'Object Codes'!$A$18:$A$510,'Object Codes'!$H$18:$H$510)","v":"Contractual Services"},{"$f":"_xlfn.XLOOKUP(F823,'Object Codes'!$A$18:$A$510,'Object Codes'!$G$18:$G$510)","v":0},{"$f":"_xlfn.XLOOKUP(A823,Agencies!$A$9:$A$146,Agencies!$B$9:$B$146)","v":"General Government"},{"$f":"IF(_xlfn.XLOOKUP(A823,Agencies!A:A,Agencies!D:D)=\"Y\",IF(_xlfn.XLOOKUP(F823,'Object Codes'!A:A,'Object Codes'!I:I)=\"Y\",\"Y\",\"N\"),\"N\")","v":"Y"},{"$f":"VLOOKUP(F823,'Object Codes'!$A:$C,3,0)","v":"Contractual Services - General"},{"$f":"VLOOKUP(A823,Agencies!A:C,3,0)","v":"Mayoralty"},2897.0826849315067]
["002",2022,"001","091","0910","624",0,0,0,0,8962,0,0,0,0,0,8961.93,0,8961.93,8961.93,7.0000000000000007E-2,8961.93,7.0000000000000007E-2,8961.93,8961.93,7.0000000000000007E-2,{"$f":"_xlfn.XLOOKUP(F824,'Object Codes'!$A$18:$A$510,'Object Codes'!$H$18:$H$510)","v":"Contractual Services"},{"$f":"_xlfn.XLOOKUP(F824,'Object Codes'!$A$18:$A$510,'Object Codes'!$G$18:$G$510)","v":0},{"$f":"_xlfn.XLOOKUP(A824,Agencies!$A$9:$A$146,Agencies!$B$9:$B$146)","v":"General Government"},{"$f":"IF(_xlfn.XLOOKUP(A824,Agencies!A:A,Agencies!D:D)=\"Y\",IF(_xlfn.XLOOKUP(F824,'Object Codes'!A:A,'Object Codes'!I:I)=\"Y\",\"Y\",\"N\"),\"N\")","v":"Y"},{"$f":"VLOOKUP(F824,'Object Codes'!$A:$C,3,0)","v":"Cleaning Services - Contractual"},{"$f":"VLOOKUP(A824,Agencies!A:C,3,0)","v":"Mayoralty"},24.553232876712329]
["002",2022,"001","091","0910","688",0,0,0,0,41935,0,0,0,0,0,31934.44,0,31934.44,31934.44,10000.56,31934.44,10000.56,31934.44,31934.44,10000.56,{"$f":"_xlfn.XLOOKUP(F825,'Object Codes'!$A$18:$A$510,'Object Codes'!$H$18:$H$510)","v":"Contractual Services"},{"$f":"_xlfn.XLOOKUP(F825,'Object Codes'!$A$18:$A$510,'Object Codes'!$G$18:$G$510)","v":0},{"$f":"_xlfn.XLOOKUP(A825,Agencies!$A$9:$A$146,Agencies!$B$9:$B$146)","v":"General Government"},{"$f":"IF(_xlfn.XLOOKUP(A825,Agencies!A:A,Agencies!D:D)=\"Y\",IF(_xlfn.XLOOKUP(F825,'Object Codes'!A:A,'Object Codes'!I:I)=\"Y\",\"Y\",\"N\"),\"N\")","v":"Y"},{"$f":"VLOOKUP(F825,'Object Codes'!$A:$C,3,0)","v":"Bank Charges - Public Assistance Accounts - Contractual"},{"$f":"VLOOKUP(A825,Agencies!A:C,3,0)","v":"Mayoralty"},87.491616438356161]
["002",2022,"001","091","0920","452",0,0,0,0,118,0,0,0,0,0,117.01,0,117.01,117.01,0.99,117.01,0.99,117.01,117.01,0.99,{"$f":"_xlfn.XLOOKUP(F826,'Object Codes'!$A$18:$A$510,'Object Codes'!$H$18:$H$510)","v":"Other Services and Charges - General"},{"$f":"_xlfn.XLOOKUP(F826,'Object Codes'!$A$18:$A$510,'Object Codes'!$G$18:$G$510)","v":0},{"$f":"_xlfn.XLOOKUP(A826,Agencies!$A$9:$A$146,Agencies!$B$9:$B$146)","v":"General Government"},{"$f":"IF(_xlfn.XLOOKUP(A826,Agencies!A:A,Agencies!D:D)=\"Y\",IF(_xlfn.XLOOKUP(F826,'Object Codes'!A:A,'Object Codes'!I:I)=\"Y\",\"Y\",\"N\"),\"N\")","v":"Y"},{"$f":"VLOOKUP(F826,'Object Codes'!$A:$C,3,0)","v":"Non Overnight Travel Expenditures - Special"},{"$f":"VLOOKUP(A826,Agencies!A:C,3,0)","v":"Mayoralty"},0.32057534246575342]
["002",2022,"001","091","0930","100",0,0,0,7000,1261,0,0,0,0,0,1260.8,0,1260.8,1260.8,0.2,1260.8,0.2,1260.8,1260.8,0.2,{"$f":"_xlfn.XLOOKUP(F827,'Object Codes'!$A$18:$A$510,'Object Codes'!$H$18:$H$510)","v":"Supplies & Materials"},{"$f":"_xlfn.XLOOKUP(F827,'Object Codes'!$A$18:$A$510,'Object Codes'!$G$18:$G$510)","v":"A"},{"$f":"_xlfn.XLOOKUP(A827,Agencies!$A$9:$A$146,Agencies!$B$9:$B$146)","v":"General Government"},{"$f":"IF(_xlfn.XLOOKUP(A827,Agencies!A:A,Agencies!D:D)=\"Y\",IF(_xlfn.XLOOKUP(F827,'Object Codes'!A:A,'Object Codes'!I:I)=\"Y\",\"Y\",\"N\"),\"N\")","v":"Y"},{"$f":"VLOOKUP(F827,'Object Codes'!$A:$C,3,0)","v":"Supplies and Materials - General"},{"$f":"VLOOKUP(A827,Agencies!A:C,3,0)","v":"Mayoralty"},3.4542465753424656]
["002",2022,"001","091","0930","199",0,0,0,0,4000,0,0,0,0,0,3600,0,3600,3600,400,3600,400,3600,3600,400,{"$f":"_xlfn.XLOOKUP(F828,'Object Codes'!$A$18:$A$510,'Object Codes'!$H$18:$H$510)","v":"Supplies & Materials"},{"$f":"_xlfn.XLOOKUP(F828,'Object Codes'!$A$18:$A$510,'Object Codes'!$G$18:$G$510)","v":"A"},{"$f":"_xlfn.XLOOKUP(A828,Agencies!$A$9:$A$146,Agencies!$B$9:$B$146)","v":"General Government"},{"$f":"IF(_xlfn.XLOOKUP(A828,Agencies!A:A,Agencies!D:D)=\"Y\",IF(_xlfn.XLOOKUP(F828,'Object Codes'!A:A,'Object Codes'!I:I)=\"Y\",\"Y\",\"N\"),\"N\")","v":"Y"},{"$f":"VLOOKUP(F828,'Object Codes'!$A:$C,3,0)","v":"Data Processing Supplies"},{"$f":"VLOOKUP(A828,Agencies!A:C,3,0)","v":"Mayoralty"},9.8630136986301373]
["002",2022,"001","091","0930","337",0,0,0,0,19160,0,0,0,0,0,18590.21,0,18590.21,18590.21,569.79,18590.21,569.79,18590.21,18590.21,569.79,{"$f":"_xlfn.XLOOKUP(F829,'Object Codes'!$A$18:$A$510,'Object Codes'!$H$18:$H$510)","v":"Equipment"},{"$f":"_xlfn.XLOOKUP(F829,'Object Codes'!$A$18:$A$510,'Object Codes'!$G$18:$G$510)","v":"A"},{"$f":"_xlfn.XLOOKUP(A829,Agencies!$A$9:$A$146,Agencies!$B$9:$B$146)","v":"General Government"},{"$f":"IF(_xlfn.XLOOKUP(A829,Agencies!A:A,Agencies!D:D)=\"Y\",IF(_xlfn.XLOOKUP(F829,'Object Codes'!A:A,'Object Codes'!I:I)=\"Y\",\"Y\",\"N\"),\"N\")","v":"Y"},{"$f":"VLOOKUP(F829,'Object Codes'!$A:$C,3,0)","v":"Books - Other"},{"$f":"VLOOKUP(A829,Agencies!A:C,3,0)","v":"Mayoralty"},50.932082191780822]
["002",2022,"001","091","0930","417",0,0,0,0,3726,0,0,0,0,0,3725.64,0,3725.64,3725.64,0.36,3725.64,0.36,3725.64,3725.64,0.36,{"$f":"_xlfn.XLOOKUP(F830,'Object Codes'!$A$18:$A$510,'Object Codes'!$H$18:$H$510)","v":"Other Services and Charges - General"},{"$f":"_xlfn.XLOOKUP(F830,'Object Codes'!$A$18:$A$510,'Object Codes'!$G$18:$G$510)","v":0},{"$f":"_xlfn.XLOOKUP(A830,Agencies!$A$9:$A$146,Agencies!$B$9:$B$146)","v":"General Government"},{"$f":"IF(_xlfn.XLOOKUP(A830,Agencies!A:A,Agencies!D:D)=\"Y\",IF(_xlfn.XLOOKUP(F830,'Object Codes'!A:A,'Object Codes'!I:I)=\"Y\",\"Y\",\"N\"),\"N\")","v":"Y"},{"$f":"VLOOKUP(F830,'Object Codes'!$A:$C,3,0)","v":"Advertising"},{"$f":"VLOOKUP(A830,Agencies!A:C,3,0)","v":"Mayoralty"},10.207232876712329]
["002",2022,"001","091","0930","622",0,0,0,0,7324,0,0,0,0,0,6615.75,0,6615.75,6615.75,708.25,6615.75,708.25,6615.75,6615.75,708.25,{"$f":"_xlfn.XLOOKUP(F831,'Object Codes'!$A$18:$A$510,'Object Codes'!$H$18:$H$510)","v":"Contractual Services"},{"$f":"_xlfn.XLOOKUP(F831,'Object Codes'!$A$18:$A$510,'Object Codes'!$G$18:$G$510)","v":0},{"$f":"_xlfn.XLOOKUP(A831,Agencies!$A$9:$A$146,Agencies!$B$9:$B$146)","v":"General Government"},{"$f":"IF(_xlfn.XLOOKUP(A831,Agencies!A:A,Agencies!D:D)=\"Y\",IF(_xlfn.XLOOKUP(F831,'Object Codes'!A:A,'Object Codes'!I:I)=\"Y\",\"Y\",\"N\"),\"N\")","v":"Y"},{"$f":"VLOOKUP(F831,'Object Codes'!$A:$C,3,0)","v":"Temporary Services - Contractual"},{"$f":"VLOOKUP(A831,Agencies!A:C,3,0)","v":"Mayoralty"},18.125342465753423]
["002",2022,"001","091","0945","686",0,0,0,7500,0,0,0,0,0,0,0,0,0,0,0,0,0,0,0,0,{"$f":"_xlfn.XLOOKUP(F832,'Object Codes'!$A$18:$A$510,'Object Codes'!$H$18:$H$510)","v":"Contractual Services"},{"$f":"_xlfn.XLOOKUP(F832,'Object Codes'!$A$18:$A$510,'Object Codes'!$G$18:$G$510)","v":0},{"$f":"_xlfn.XLOOKUP(A832,Agencies!$A$9:$A$146,Agencies!$B$9:$B$146)","v":"General Government"},{"$f":"IF(_xlfn.XLOOKUP(A832,Agencies!A:A,Agencies!D:D)=\"Y\",IF(_xlfn.XLOOKUP(F832,'Object Codes'!A:A,'Object Codes'!I:I)=\"Y\",\"Y\",\"N\"),\"N\")","v":"Y"},{"$f":"VLOOKUP(F832,'Object Codes'!$A:$C,3,0)","v":"Professional Services - Other - Contractual"},{"$f":"VLOOKUP(A832,Agencies!A:C,3,0)","v":"Mayoralty"},0]
["002",2022,"001","091","0946","499",0,0,0,24000,7000,0,0,0,0,0,0,0,0,0,7000,0,7000,0,0,7000,{"$f":"_xlfn.XLOOKUP(F833,'Object Codes'!$A$18:$A$510,'Object Codes'!$H$18:$H$510)","v":"Other Services and Charges - General"},{"$f":"_xlfn.XLOOKUP(F833,'Object Codes'!$A$18:$A$510,'Object Codes'!$G$18:$G$510)","v":0},{"$f":"_xlfn.XLOOKUP(A833,Agencies!$A$9:$A$146,Agencies!$B$9:$B$146)","v":"General Government"},{"$f":"IF(_xlfn.XLOOKUP(A833,Agencies!A:A,Agencies!D:D)=\"Y\",IF(_xlfn.XLOOKUP(F833,'Object Codes'!A:A,'Object Codes'!I:I)=\"Y\",\"Y\",\"N\"),\"N\")","v":"Y"},{"$f":"VLOOKUP(F833,'Object Codes'!$A:$C,3,0)","v":"Other Expenditures - General"},{"$f":"VLOOKUP(A833,Agencies!A:C,3,0)","v":"Mayoralty"},0]
["002",2022,"001","091","0949","686",0,0,0,0,125000,0,0,0,0,0,125000,0,125000,125000,0,125000,0,125000,125000,0,{"$f":"_xlfn.XLOOKUP(F834,'Object Codes'!$A$18:$A$510,'Object Codes'!$H$18:$H$510)","v":"Contractual Services"},{"$f":"_xlfn.XLOOKUP(F834,'Object Codes'!$A$18:$A$510,'Object Codes'!$G$18:$G$510)","v":0},{"$f":"_xlfn.XLOOKUP(A834,Agencies!$A$9:$A$146,Agencies!$B$9:$B$146)","v":"General Government"},{"$f":"IF(_xlfn.XLOOKUP(A834,Agencies!A:A,Agencies!D:D)=\"Y\",IF(_xlfn.XLOOKUP(F834,'Object Codes'!A:A,'Object Codes'!I:I)=\"Y\",\"Y\",\"N\"),\"N\")","v":"Y"},{"$f":"VLOOKUP(F834,'Object Codes'!$A:$C,3,0)","v":"Professional Services - Other - Contractual"},{"$f":"VLOOKUP(A834,Agencies!A:C,3,0)","v":"Mayoralty"},342.46575342465752]
["002",2022,"001","091","0949","79D",0,0,0,0,2200,0,0,0,0,0,2200,0,2200,2200,0,2200,0,2200,2200,0,{"$f":"_xlfn.XLOOKUP(F835,'Object Codes'!$A$18:$A$510,'Object Codes'!$H$18:$H$510)","v":"Fixed Charges"},{"$f":"_xlfn.XLOOKUP(F835,'Object Codes'!$A$18:$A$510,'Object Codes'!$G$18:$G$510)","v":0},{"$f":"_xlfn.XLOOKUP(A835,Agencies!$A$9:$A$146,Agencies!$B$9:$B$146)","v":"General Government"},{"$f":"IF(_xlfn.XLOOKUP(A835,Agencies!A:A,Agencies!D:D)=\"Y\",IF(_xlfn.XLOOKUP(F835,'Object Codes'!A:A,'Object Codes'!I:I)=\"Y\",\"Y\",\"N\"),\"N\")","v":"Y"},{"$f":"VLOOKUP(F835,'Object Codes'!$A:$C,3,0)","v":"TRAINING CITY EMPLOYEES"},{"$f":"VLOOKUP(A835,Agencies!A:C,3,0)","v":"Mayoralty"},6.0273972602739727]
["002",2022,"001","091","0950","100",0,0,0,195018,30866,0,0,0,0,0,24002.560000000001,0,24002.560000000001,24002.560000000001,6863.44,24002.560000000001,6863.44,24002.560000000001,24002.560000000001,6863.44,{"$f":"_xlfn.XLOOKUP(F836,'Object Codes'!$A$18:$A$510,'Object Codes'!$H$18:$H$510)","v":"Supplies & Materials"},{"$f":"_xlfn.XLOOKUP(F836,'Object Codes'!$A$18:$A$510,'Object Codes'!$G$18:$G$510)","v":"A"},{"$f":"_xlfn.XLOOKUP(A836,Agencies!$A$9:$A$146,Agencies!$B$9:$B$146)","v":"General Government"},{"$f":"IF(_xlfn.XLOOKUP(A836,Agencies!A:A,Agencies!D:D)=\"Y\",IF(_xlfn.XLOOKUP(F836,'Object Codes'!A:A,'Object Codes'!I:I)=\"Y\",\"Y\",\"N\"),\"N\")","v":"Y"},{"$f":"VLOOKUP(F836,'Object Codes'!$A:$C,3,0)","v":"Supplies and Materials - General"},{"$f":"VLOOKUP(A836,Agencies!A:C,3,0)","v":"Mayoralty"},65.760438356164386]
["002",2022,"001","091","0950","199",0,0,0,0,175295,0,0,0,0,0,156543.99,0,156543.99,156543.99,18751.009999999998,156543.99,18751.009999999998,156543.99,156543.99,18751.009999999998,{"$f":"_xlfn.XLOOKUP(F837,'Object Codes'!$A$18:$A$510,'Object Codes'!$H$18:$H$510)","v":"Supplies & Materials"},{"$f":"_xlfn.XLOOKUP(F837,'Object Codes'!$A$18:$A$510,'Object Codes'!$G$18:$G$510)","v":"A"},{"$f":"_xlfn.XLOOKUP(A837,Agencies!$A$9:$A$146,Agencies!$B$9:$B$146)","v":"General Government"},{"$f":"IF(_xlfn.XLOOKUP(A837,Agencies!A:A,Agencies!D:D)=\"Y\",IF(_xlfn.XLOOKUP(F837,'Object Codes'!A:A,'Object Codes'!I:I)=\"Y\",\"Y\",\"N\"),\"N\")","v":"Y"},{"$f":"VLOOKUP(F837,'Object Codes'!$A:$C,3,0)","v":"Data Processing Supplies"},{"$f":"VLOOKUP(A837,Agencies!A:C,3,0)","v":"Mayoralty"},428.88764383561642]
["002",2022,"001","091","0950","314",0,0,0,0,2019,0,0,0,0,0,1515.42,0,1515.42,1515.42,503.58,1515.42,503.58,1515.42,1515.42,503.58,{"$f":"_xlfn.XLOOKUP(F838,'Object Codes'!$A$18:$A$510,'Object Codes'!$H$18:$H$510)","v":"Equipment"},{"$f":"_xlfn.XLOOKUP(F838,'Object Codes'!$A$18:$A$510,'Object Codes'!$G$18:$G$510)","v":"A"},{"$f":"_xlfn.XLOOKUP(A838,Agencies!$A$9:$A$146,Agencies!$B$9:$B$146)","v":"General Government"},{"$f":"IF(_xlfn.XLOOKUP(A838,Agencies!A:A,Agencies!D:D)=\"Y\",IF(_xlfn.XLOOKUP(F838,'Object Codes'!A:A,'Object Codes'!I:I)=\"Y\",\"Y\",\"N\"),\"N\")","v":"Y"},{"$f":"VLOOKUP(F838,'Object Codes'!$A:$C,3,0)","v":"Office Furniture"},{"$f":"VLOOKUP(A838,Agencies!A:C,3,0)","v":"Mayoralty"},4.1518356164383565]
["002",2022,"001","091","0950","332",0,0,0,0,2490,0,0,0,0,0,2365.7399999999998,0,2365.7399999999998,2365.7399999999998,124.26,2365.7399999999998,124.26,2365.7399999999998,2365.7399999999998,124.26,{"$f":"_xlfn.XLOOKUP(F839,'Object Codes'!$A$18:$A$510,'Object Codes'!$H$18:$H$510)","v":"Equipment"},{"$f":"_xlfn.XLOOKUP(F839,'Object Codes'!$A$18:$A$510,'Object Codes'!$G$18:$G$510)","v":"A"},{"$f":"_xlfn.XLOOKUP(A839,Agencies!$A$9:$A$146,Agencies!$B$9:$B$146)","v":"General Government"},{"$f":"IF(_xlfn.XLOOKUP(A839,Agencies!A:A,Agencies!D:D)=\"Y\",IF(_xlfn.XLOOKUP(F839,'Object Codes'!A:A,'Object Codes'!I:I)=\"Y\",\"Y\",\"N\"),\"N\")","v":"Y"},{"$f":"VLOOKUP(F839,'Object Codes'!$A:$C,3,0)","v":"Purchases of Data Processing Equipment"},{"$f":"VLOOKUP(A839,Agencies!A:C,3,0)","v":"Mayoralty"},6.4814794520547938]
["002",2022,"001","091","0950","42G",0,0,0,17741,17741,0,0,0,0,0,17741,0,17741,17741,0,17741,0,17741,17741,0,{"$f":"_xlfn.XLOOKUP(F840,'Object Codes'!$A$18:$A$510,'Object Codes'!$H$18:$H$510)","v":"Other Services and Charges - General"},{"$f":"_xlfn.XLOOKUP(F840,'Object Codes'!$A$18:$A$510,'Object Codes'!$G$18:$G$510)","v":0},{"$f":"_xlfn.XLOOKUP(A840,Agencies!$A$9:$A$146,Agencies!$B$9:$B$146)","v":"General Government"},{"$f":"IF(_xlfn.XLOOKUP(A840,Agencies!A:A,Agencies!D:D)=\"Y\",IF(_xlfn.XLOOKUP(F840,'Object Codes'!A:A,'Object Codes'!I:I)=\"Y\",\"Y\",\"N\"),\"N\")","v":"Y"},{"$f":"VLOOKUP(F840,'Object Codes'!$A:$C,3,0)","v":"DATA PROCESSING SERVICES"},{"$f":"VLOOKUP(A840,Agencies!A:C,3,0)","v":"Mayoralty"},48.605479452054794]
["002",2022,"001","091","0950","600",0,0,0,0,800,0,0,0,0,0,800,0,800,800,0,800,0,800,800,0,{"$f":"_xlfn.XLOOKUP(F841,'Object Codes'!$A$18:$A$510,'Object Codes'!$H$18:$H$510)","v":"Contractual Services"},{"$f":"_xlfn.XLOOKUP(F841,'Object Codes'!$A$18:$A$510,'Object Codes'!$G$18:$G$510)","v":0},{"$f":"_xlfn.XLOOKUP(A841,Agencies!$A$9:$A$146,Agencies!$B$9:$B$146)","v":"General Government"},{"$f":"IF(_xlfn.XLOOKUP(A841,Agencies!A:A,Agencies!D:D)=\"Y\",IF(_xlfn.XLOOKUP(F841,'Object Codes'!A:A,'Object Codes'!I:I)=\"Y\",\"Y\",\"N\"),\"N\")","v":"Y"},{"$f":"VLOOKUP(F841,'Object Codes'!$A:$C,3,0)","v":"Contractual Services - General"},{"$f":"VLOOKUP(A841,Agencies!A:C,3,0)","v":"Mayoralty"},{"$f":"S841/365","v":2.1917808219178081}]
["002",2022,"001","091","0950","671",0,0,0,0,5203,0,0,0,0,0,5202.78,0,5202.78,5202.78,0.22,5202.78,0.22,5202.78,5202.78,0.22,{"$f":"_xlfn.XLOOKUP(F842,'Object Codes'!$A$18:$A$510,'Object Codes'!$H$18:$H$510)","v":"Contractual Services"},{"$f":"_xlfn.XLOOKUP(F842,'Object Codes'!$A$18:$A$510,'Object Codes'!$G$18:$G$510)","v":0},{"$f":"_xlfn.XLOOKUP(A842,Agencies!$A$9:$A$146,Agencies!$B$9:$B$146)","v":"General Government"},{"$f":"IF(_xlfn.XLOOKUP(A842,Agencies!A:A,Agencies!D:D)=\"Y\",IF(_xlfn.XLOOKUP(F842,'Object Codes'!A:A,'Object Codes'!I:I)=\"Y\",\"Y\",\"N\"),\"N\")","v":"Y"},{"$f":"VLOOKUP(F842,'Object Codes'!$A:$C,3,0)","v":"Training Program for City Employees - Contractual"},{"$f":"VLOOKUP(A842,Agencies!A:C,3,0)","v":"Mayoralty"},14.254191780821918]
["002",2022,"001","091","0960","100",0,0,0,82000,0,0,0,0,0,0,0,0,0,0,0,0,0,0,0,0,{"$f":"_xlfn.XLOOKUP(F843,'Object Codes'!$A$18:$A$510,'Object Codes'!$H$18:$H$510)","v":"Supplies & Materials"},{"$f":"_xlfn.XLOOKUP(F843,'Object Codes'!$A$18:$A$510,'Object Codes'!$G$18:$G$510)","v":"A"},{"$f":"_xlfn.XLOOKUP(A843,Agencies!$A$9:$A$146,Agencies!$B$9:$B$146)","v":"General Government"},{"$f":"IF(_xlfn.XLOOKUP(A843,Agencies!A:A,Agencies!D:D)=\"Y\",IF(_xlfn.XLOOKUP(F843,'Object Codes'!A:A,'Object Codes'!I:I)=\"Y\",\"Y\",\"N\"),\"N\")","v":"Y"},{"$f":"VLOOKUP(F843,'Object Codes'!$A:$C,3,0)","v":"Supplies and Materials - General"},{"$f":"VLOOKUP(A843,Agencies!A:C,3,0)","v":"Mayoralty"},0]
["002",2022,"001","091","0960","199",0,0,0,0,21873,0,0,0,0,0,20780.2,0,20780.2,20780.2,1092.8,20780.2,1092.8,20780.2,20780.2,1092.8,{"$f":"_xlfn.XLOOKUP(F844,'Object Codes'!$A$18:$A$510,'Object Codes'!$H$18:$H$510)","v":"Supplies & Materials"},{"$f":"_xlfn.XLOOKUP(F844,'Object Codes'!$A$18:$A$510,'Object Codes'!$G$18:$G$510)","v":"A"},{"$f":"_xlfn.XLOOKUP(A844,Agencies!$A$9:$A$146,Agencies!$B$9:$B$146)","v":"General Government"},{"$f":"IF(_xlfn.XLOOKUP(A844,Agencies!A:A,Agencies!D:D)=\"Y\",IF(_xlfn.XLOOKUP(F844,'Object Codes'!A:A,'Object Codes'!I:I)=\"Y\",\"Y\",\"N\"),\"N\")","v":"Y"},{"$f":"VLOOKUP(F844,'Object Codes'!$A:$C,3,0)","v":"Data Processing Supplies"},{"$f":"VLOOKUP(A844,Agencies!A:C,3,0)","v":"Mayoralty"},56.932054794520553]
["002",2022,"001","091","0960","600",0,0,0,0,146353,0,0,0,0,0,141352.10999999999,0,141352.10999999999,141352.10999999999,5000.8900000000003,141352.10999999999,5000.8900000000003,141352.10999999999,141352.10999999999,5000.8900000000003,{"$f":"_xlfn.XLOOKUP(F845,'Object Codes'!$A$18:$A$510,'Object Codes'!$H$18:$H$510)","v":"Contractual Services"},{"$f":"_xlfn.XLOOKUP(F845,'Object Codes'!$A$18:$A$510,'Object Codes'!$G$18:$G$510)","v":0},{"$f":"_xlfn.XLOOKUP(A845,Agencies!$A$9:$A$146,Agencies!$B$9:$B$146)","v":"General Government"},{"$f":"IF(_xlfn.XLOOKUP(A845,Agencies!A:A,Agencies!D:D)=\"Y\",IF(_xlfn.XLOOKUP(F845,'Object Codes'!A:A,'Object Codes'!I:I)=\"Y\",\"Y\",\"N\"),\"N\")","v":"Y"},{"$f":"VLOOKUP(F845,'Object Codes'!$A:$C,3,0)","v":"Contractual Services - General"},{"$f":"VLOOKUP(A845,Agencies!A:C,3,0)","v":"Mayoralty"},387.26605479452053]
["002",2022,"001","091","0960","706",0,0,0,0,34,0,0,0,0,0,34.47,0,34.47,34.47,-0.47,34.47,-0.47,34.47,34.47,-0.47,{"$f":"_xlfn.XLOOKUP(F846,'Object Codes'!$A$18:$A$510,'Object Codes'!$H$18:$H$510)","v":"Fixed Charges"},{"$f":"_xlfn.XLOOKUP(F846,'Object Codes'!$A$18:$A$510,'Object Codes'!$G$18:$G$510)","v":0},{"$f":"_xlfn.XLOOKUP(A846,Agencies!$A$9:$A$146,Agencies!$B$9:$B$146)","v":"General Government"},{"$f":"IF(_xlfn.XLOOKUP(A846,Agencies!A:A,Agencies!D:D)=\"Y\",IF(_xlfn.XLOOKUP(F846,'Object Codes'!A:A,'Object Codes'!I:I)=\"Y\",\"Y\",\"N\"),\"N\")","v":"Y"},{"$f":"VLOOKUP(F846,'Object Codes'!$A:$C,3,0)","v":"Prompt Payments Interest"},{"$f":"VLOOKUP(A846,Agencies!A:C,3,0)","v":"Mayoralty"},9.4438356164383563E-2]
["002",2022,"001","091","0963","600",0,0,0,0,20000,0,0,0,0,0,19500,0,19500,19500,500,19500,500,19500,19500,500,{"$f":"_xlfn.XLOOKUP(F847,'Object Codes'!$A$18:$A$510,'Object Codes'!$H$18:$H$510)","v":"Contractual Services"},{"$f":"_xlfn.XLOOKUP(F847,'Object Codes'!$A$18:$A$510,'Object Codes'!$G$18:$G$510)","v":0},{"$f":"_xlfn.XLOOKUP(A847,Agencies!$A$9:$A$146,Agencies!$B$9:$B$146)","v":"General Government"},{"$f":"IF(_xlfn.XLOOKUP(A847,Agencies!A:A,Agencies!D:D)=\"Y\",IF(_xlfn.XLOOKUP(F847,'Object Codes'!A:A,'Object Codes'!I:I)=\"Y\",\"Y\",\"N\"),\"N\")","v":"Y"},{"$f":"VLOOKUP(F847,'Object Codes'!$A:$C,3,0)","v":"Contractual Services - General"},{"$f":"VLOOKUP(A847,Agencies!A:C,3,0)","v":"Mayoralty"},53.424657534246577]
["002",2022,"001","091","0970","100",0,0,0,25000,0,0,0,0,0,0,0,0,0,0,0,0,0,0,0,0,{"$f":"_xlfn.XLOOKUP(F848,'Object Codes'!$A$18:$A$510,'Object Codes'!$H$18:$H$510)","v":"Supplies & Materials"},{"$f":"_xlfn.XLOOKUP(F848,'Object Codes'!$A$18:$A$510,'Object Codes'!$G$18:$G$510)","v":"A"},{"$f":"_xlfn.XLOOKUP(A848,Agencies!$A$9:$A$146,Agencies!$B$9:$B$146)","v":"General Government"},{"$f":"IF(_xlfn.XLOOKUP(A848,Agencies!A:A,Agencies!D:D)=\"Y\",IF(_xlfn.XLOOKUP(F848,'Object Codes'!A:A,'Object Codes'!I:I)=\"Y\",\"Y\",\"N\"),\"N\")","v":"Y"},{"$f":"VLOOKUP(F848,'Object Codes'!$A:$C,3,0)","v":"Supplies and Materials - General"},{"$f":"VLOOKUP(A848,Agencies!A:C,3,0)","v":"Mayoralty"},0]
["002",2022,"001","091","0970","337",0,0,0,0,24039,0,0,0,0,0,23160,0,23160,23160,879,23160,879,23160,23160,879,{"$f":"_xlfn.XLOOKUP(F849,'Object Codes'!$A$18:$A$510,'Object Codes'!$H$18:$H$510)","v":"Equipment"},{"$f":"_xlfn.XLOOKUP(F849,'Object Codes'!$A$18:$A$510,'Object Codes'!$G$18:$G$510)","v":"A"},{"$f":"_xlfn.XLOOKUP(A849,Agencies!$A$9:$A$146,Agencies!$B$9:$B$146)","v":"General Government"},{"$f":"IF(_xlfn.XLOOKUP(A849,Agencies!A:A,Agencies!D:D)=\"Y\",IF(_xlfn.XLOOKUP(F849,'Object Codes'!A:A,'Object Codes'!I:I)=\"Y\",\"Y\",\"N\"),\"N\")","v":"Y"},{"$f":"VLOOKUP(F849,'Object Codes'!$A:$C,3,0)","v":"Books - Other"},{"$f":"VLOOKUP(A849,Agencies!A:C,3,0)","v":"Mayoralty"},63.452054794520549]
["002",2022,"001","091","0970","600",0,0,0,0,20000,0,0,0,0,0,22714,0,22714,22714,-2714,22714,-2714,22714,22714,-2714,{"$f":"_xlfn.XLOOKUP(F850,'Object Codes'!$A$18:$A$510,'Object Codes'!$H$18:$H$510)","v":"Contractual Services"},{"$f":"_xlfn.XLOOKUP(F850,'Object Codes'!$A$18:$A$510,'Object Codes'!$G$18:$G$510)","v":0},{"$f":"_xlfn.XLOOKUP(A850,Agencies!$A$9:$A$146,Agencies!$B$9:$B$146)","v":"General Government"},{"$f":"IF(_xlfn.XLOOKUP(A850,Agencies!A:A,Agencies!D:D)=\"Y\",IF(_xlfn.XLOOKUP(F850,'Object Codes'!A:A,'Object Codes'!I:I)=\"Y\",\"Y\",\"N\"),\"N\")","v":"Y"},{"$f":"VLOOKUP(F850,'Object Codes'!$A:$C,3,0)","v":"Contractual Services - General"},{"$f":"VLOOKUP(A850,Agencies!A:C,3,0)","v":"Mayoralty"},62.230136986301368]
["002",2022,"001","091","0976","600",0,0,0,0,25000,0,0,0,0,0,25000,0,25000,25000,0,25000,0,25000,25000,0,{"$f":"_xlfn.XLOOKUP(F851,'Object Codes'!$A$18:$A$510,'Object Codes'!$H$18:$H$510)","v":"Contractual Services"},{"$f":"_xlfn.XLOOKUP(F851,'Object Codes'!$A$18:$A$510,'Object Codes'!$G$18:$G$510)","v":0},{"$f":"_xlfn.XLOOKUP(A851,Agencies!$A$9:$A$146,Agencies!$B$9:$B$146)","v":"General Government"},{"$f":"IF(_xlfn.XLOOKUP(A851,Agencies!A:A,Agencies!D:D)=\"Y\",IF(_xlfn.XLOOKUP(F851,'Object Codes'!A:A,'Object Codes'!I:I)=\"Y\",\"Y\",\"N\"),\"N\")","v":"Y"},{"$f":"VLOOKUP(F851,'Object Codes'!$A:$C,3,0)","v":"Contractual Services - General"},{"$f":"VLOOKUP(A851,Agencies!A:C,3,0)","v":"Mayoralty"},68.493150684931507]
["002",2022,"001","091","0979","199",0,0,0,0,2598,0,0,0,0,0,2598,0,2598,2598,0,2598,0,2598,2598,0,{"$f":"_xlfn.XLOOKUP(F852,'Object Codes'!$A$18:$A$510,'Object Codes'!$H$18:$H$510)","v":"Supplies & Materials"},{"$f":"_xlfn.XLOOKUP(F852,'Object Codes'!$A$18:$A$510,'Object Codes'!$G$18:$G$510)","v":"A"},{"$f":"_xlfn.XLOOKUP(A852,Agencies!$A$9:$A$146,Agencies!$B$9:$B$146)","v":"General Government"},{"$f":"IF(_xlfn.XLOOKUP(A852,Agencies!A:A,Agencies!D:D)=\"Y\",IF(_xlfn.XLOOKUP(F852,'Object Codes'!A:A,'Object Codes'!I:I)=\"Y\",\"Y\",\"N\"),\"N\")","v":"Y"},{"$f":"VLOOKUP(F852,'Object Codes'!$A:$C,3,0)","v":"Data Processing Supplies"},{"$f":"VLOOKUP(A852,Agencies!A:C,3,0)","v":"Mayoralty"},7.117808219178082]
["002",2022,"001","091","0979","600",0,0,0,0,450000,0,0,0,0,0,382702.24,0,382702.24,382702.24,67297.759999999995,382702.24,67297.759999999995,382702.24,382702.24,67297.759999999995,{"$f":"_xlfn.XLOOKUP(F853,'Object Codes'!$A$18:$A$510,'Object Codes'!$H$18:$H$510)","v":"Contractual Services"},{"$f":"_xlfn.XLOOKUP(F853,'Object Codes'!$A$18:$A$510,'Object Codes'!$G$18:$G$510)","v":0},{"$f":"_xlfn.XLOOKUP(A853,Agencies!$A$9:$A$146,Agencies!$B$9:$B$146)","v":"General Government"},{"$f":"IF(_xlfn.XLOOKUP(A853,Agencies!A:A,Agencies!D:D)=\"Y\",IF(_xlfn.XLOOKUP(F853,'Object Codes'!A:A,'Object Codes'!I:I)=\"Y\",\"Y\",\"N\"),\"N\")","v":"Y"},{"$f":"VLOOKUP(F853,'Object Codes'!$A:$C,3,0)","v":"Contractual Services - General"},{"$f":"VLOOKUP(A853,Agencies!A:C,3,0)","v":"Mayoralty"},1048.4992876712329]
["002",2022,"001","091","0980","100",0,0,0,23460,11825,0,0,0,0,0,11824.68,0,11824.68,11824.68,0.32,11824.68,0.32,11824.68,11824.68,0.32,{"$f":"_xlfn.XLOOKUP(F854,'Object Codes'!$A$18:$A$510,'Object Codes'!$H$18:$H$510)","v":"Supplies & Materials"},{"$f":"_xlfn.XLOOKUP(F854,'Object Codes'!$A$18:$A$510,'Object Codes'!$G$18:$G$510)","v":"A"},{"$f":"_xlfn.XLOOKUP(A854,Agencies!$A$9:$A$146,Agencies!$B$9:$B$146)","v":"General Government"},{"$f":"IF(_xlfn.XLOOKUP(A854,Agencies!A:A,Agencies!D:D)=\"Y\",IF(_xlfn.XLOOKUP(F854,'Object Codes'!A:A,'Object Codes'!I:I)=\"Y\",\"Y\",\"N\"),\"N\")","v":"Y"},{"$f":"VLOOKUP(F854,'Object Codes'!$A:$C,3,0)","v":"Supplies and Materials - General"},{"$f":"VLOOKUP(A854,Agencies!A:C,3,0)","v":"Mayoralty"},32.396383561643837]
["002",2022,"001","091","0980","671",0,0,0,0,1495,0,0,0,0,0,0,0,0,0,1495,0,1495,0,0,1495,{"$f":"_xlfn.XLOOKUP(F855,'Object Codes'!$A$18:$A$510,'Object Codes'!$H$18:$H$510)","v":"Contractual Services"},{"$f":"_xlfn.XLOOKUP(F855,'Object Codes'!$A$18:$A$510,'Object Codes'!$G$18:$G$510)","v":0},{"$f":"_xlfn.XLOOKUP(A855,Agencies!$A$9:$A$146,Agencies!$B$9:$B$146)","v":"General Government"},{"$f":"IF(_xlfn.XLOOKUP(A855,Agencies!A:A,Agencies!D:D)=\"Y\",IF(_xlfn.XLOOKUP(F855,'Object Codes'!A:A,'Object Codes'!I:I)=\"Y\",\"Y\",\"N\"),\"N\")","v":"Y"},{"$f":"VLOOKUP(F855,'Object Codes'!$A:$C,3,0)","v":"Training Program for City Employees - Contractual"},{"$f":"VLOOKUP(A855,Agencies!A:C,3,0)","v":"Mayoralty"},0]
["002",2022,"001","091","0990","337",0,0,0,0,3845,0,0,0,0,0,3312,0,3312,3312,533,3312,533,3312,3312,533,{"$f":"_xlfn.XLOOKUP(F856,'Object Codes'!$A$18:$A$510,'Object Codes'!$H$18:$H$510)","v":"Equipment"},{"$f":"_xlfn.XLOOKUP(F856,'Object Codes'!$A$18:$A$510,'Object Codes'!$G$18:$G$510)","v":"A"},{"$f":"_xlfn.XLOOKUP(A856,Agencies!$A$9:$A$146,Agencies!$B$9:$B$146)","v":"General Government"},{"$f":"IF(_xlfn.XLOOKUP(A856,Agencies!A:A,Agencies!D:D)=\"Y\",IF(_xlfn.XLOOKUP(F856,'Object Codes'!A:A,'Object Codes'!I:I)=\"Y\",\"Y\",\"N\"),\"N\")","v":"Y"},{"$f":"VLOOKUP(F856,'Object Codes'!$A:$C,3,0)","v":"Books - Other"},{"$f":"VLOOKUP(A856,Agencies!A:C,3,0)","v":"Mayoralty"},9.0739726027397261]
["002",2022,"001","091","0990","499",0,0,0,736000,0,0,0,0,0,0,0,0,0,0,0,0,0,0,0,0,{"$f":"_xlfn.XLOOKUP(F857,'Object Codes'!$A$18:$A$510,'Object Codes'!$H$18:$H$510)","v":"Other Services and Charges - General"},{"$f":"_xlfn.XLOOKUP(F857,'Object Codes'!$A$18:$A$510,'Object Codes'!$G$18:$G$510)","v":0},{"$f":"_xlfn.XLOOKUP(A857,Agencies!$A$9:$A$146,Agencies!$B$9:$B$146)","v":"General Government"},{"$f":"IF(_xlfn.XLOOKUP(A857,Agencies!A:A,Agencies!D:D)=\"Y\",IF(_xlfn.XLOOKUP(F857,'Object Codes'!A:A,'Object Codes'!I:I)=\"Y\",\"Y\",\"N\"),\"N\")","v":"Y"},{"$f":"VLOOKUP(F857,'Object Codes'!$A:$C,3,0)","v":"Other Expenditures - General"},{"$f":"VLOOKUP(A857,Agencies!A:C,3,0)","v":"Mayoralty"},0]
["002",2022,"001","091","1010","337",0,0,0,0,536,0,0,0,0,0,0,0,0,0,536,0,536,0,0,536,{"$f":"_xlfn.XLOOKUP(F858,'Object Codes'!$A$18:$A$510,'Object Codes'!$H$18:$H$510)","v":"Equipment"},{"$f":"_xlfn.XLOOKUP(F858,'Object Codes'!$A$18:$A$510,'Object Codes'!$G$18:$G$510)","v":"A"},{"$f":"_xlfn.XLOOKUP(A858,Agencies!$A$9:$A$146,Agencies!$B$9:$B$146)","v":"General Government"},{"$f":"IF(_xlfn.XLOOKUP(A858,Agencies!A:A,Agencies!D:D)=\"Y\",IF(_xlfn.XLOOKUP(F858,'Object Codes'!A:A,'Object Codes'!I:I)=\"Y\",\"Y\",\"N\"),\"N\")","v":"Y"},{"$f":"VLOOKUP(F858,'Object Codes'!$A:$C,3,0)","v":"Books - Other"},{"$f":"VLOOKUP(A858,Agencies!A:C,3,0)","v":"Mayoralty"},0]
["002",2022,"001","091","1020","600",0,0,0,0,42000,0,0,0,0,0,39698.75,0,39698.75,39698.75,2301.25,39698.75,2301.25,39698.75,39698.75,2301.25,{"$f":"_xlfn.XLOOKUP(F859,'Object Codes'!$A$18:$A$510,'Object Codes'!$H$18:$H$510)","v":"Contractual Services"},{"$f":"_xlfn.XLOOKUP(F859,'Object Codes'!$A$18:$A$510,'Object Codes'!$G$18:$G$510)","v":0},{"$f":"_xlfn.XLOOKUP(A859,Agencies!$A$9:$A$146,Agencies!$B$9:$B$146)","v":"General Government"},{"$f":"IF(_xlfn.XLOOKUP(A859,Agencies!A:A,Agencies!D:D)=\"Y\",IF(_xlfn.XLOOKUP(F859,'Object Codes'!A:A,'Object Codes'!I:I)=\"Y\",\"Y\",\"N\"),\"N\")","v":"Y"},{"$f":"VLOOKUP(F859,'Object Codes'!$A:$C,3,0)","v":"Contractual Services - General"},{"$f":"VLOOKUP(A859,Agencies!A:C,3,0)","v":"Mayoralty"},108.76369863013699]
["002",2022,"001","091","1023","686",0,0,0,0,360680,0,0,0,0,0,360000,0,360000,360000,680,360000,680,360000,360000,680,{"$f":"_xlfn.XLOOKUP(F860,'Object Codes'!$A$18:$A$510,'Object Codes'!$H$18:$H$510)","v":"Contractual Services"},{"$f":"_xlfn.XLOOKUP(F860,'Object Codes'!$A$18:$A$510,'Object Codes'!$G$18:$G$510)","v":0},{"$f":"_xlfn.XLOOKUP(A860,Agencies!$A$9:$A$146,Agencies!$B$9:$B$146)","v":"General Government"},{"$f":"IF(_xlfn.XLOOKUP(A860,Agencies!A:A,Agencies!D:D)=\"Y\",IF(_xlfn.XLOOKUP(F860,'Object Codes'!A:A,'Object Codes'!I:I)=\"Y\",\"Y\",\"N\"),\"N\")","v":"Y"},{"$f":"VLOOKUP(F860,'Object Codes'!$A:$C,3,0)","v":"Professional Services - Other - Contractual"},{"$f":"VLOOKUP(A860,Agencies!A:C,3,0)","v":"Mayoralty"},986.30136986301375]
["002",2022,"001","091","CR04","600",0,0,0,0,6129839,0,0,0,0,0,6129838.5599999996,0,6129838.5599999996,6129838.5599999996,0.44,6129838.5599999996,0.44,6129838.5599999996,6129838.5599999996,0.44,{"$f":"_xlfn.XLOOKUP(F861,'Object Codes'!$A$18:$A$510,'Object Codes'!$H$18:$H$510)","v":"Contractual Services"},{"$f":"_xlfn.XLOOKUP(F861,'Object Codes'!$A$18:$A$510,'Object Codes'!$G$18:$G$510)","v":0},{"$f":"_xlfn.XLOOKUP(A861,Agencies!$A$9:$A$146,Agencies!$B$9:$B$146)","v":"General Government"},{"$f":"IF(_xlfn.XLOOKUP(A861,Agencies!A:A,Agencies!D:D)=\"Y\",IF(_xlfn.XLOOKUP(F861,'Object Codes'!A:A,'Object Codes'!I:I)=\"Y\",\"Y\",\"N\"),\"N\")","v":"Y"},{"$f":"VLOOKUP(F861,'Object Codes'!$A:$C,3,0)","v":"Contractual Services - General"},{"$f":"VLOOKUP(A861,Agencies!A:C,3,0)","v":"Mayoralty"},16794.07824657534]
["002",2022,"001","091","CV02","600",0,0,0,0,3144,0,0,0,0,0,605,0,605,605,2539,605,2539,605,605,2539,{"$f":"_xlfn.XLOOKUP(F862,'Object Codes'!$A$18:$A$510,'Object Codes'!$H$18:$H$510)","v":"Contractual Services"},{"$f":"_xlfn.XLOOKUP(F862,'Object Codes'!$A$18:$A$510,'Object Codes'!$G$18:$G$510)","v":0},{"$f":"_xlfn.XLOOKUP(A862,Agencies!$A$9:$A$146,Agencies!$B$9:$B$146)","v":"General Government"},{"$f":"IF(_xlfn.XLOOKUP(A862,Agencies!A:A,Agencies!D:D)=\"Y\",IF(_xlfn.XLOOKUP(F862,'Object Codes'!A:A,'Object Codes'!I:I)=\"Y\",\"Y\",\"N\"),\"N\")","v":"Y"},{"$f":"VLOOKUP(F862,'Object Codes'!$A:$C,3,0)","v":"Contractual Services - General"},{"$f":"VLOOKUP(A862,Agencies!A:C,3,0)","v":"Mayoralty"},1.6575342465753424]
["002",2022,"001","091","CV04","686",0,0,0,0,186852,0,0,0,0,0,186841.2,0,186841.2,186841.2,10.8,186841.2,10.8,186841.2,186841.2,10.8,{"$f":"_xlfn.XLOOKUP(F863,'Object Codes'!$A$18:$A$510,'Object Codes'!$H$18:$H$510)","v":"Contractual Services"},{"$f":"_xlfn.XLOOKUP(F863,'Object Codes'!$A$18:$A$510,'Object Codes'!$G$18:$G$510)","v":0},{"$f":"_xlfn.XLOOKUP(A863,Agencies!$A$9:$A$146,Agencies!$B$9:$B$146)","v":"General Government"},{"$f":"IF(_xlfn.XLOOKUP(A863,Agencies!A:A,Agencies!D:D)=\"Y\",IF(_xlfn.XLOOKUP(F863,'Object Codes'!A:A,'Object Codes'!I:I)=\"Y\",\"Y\",\"N\"),\"N\")","v":"Y"},{"$f":"VLOOKUP(F863,'Object Codes'!$A:$C,3,0)","v":"Professional Services - Other - Contractual"},{"$f":"VLOOKUP(A863,Agencies!A:C,3,0)","v":"Mayoralty"},511.89369863013701]
["002",2022,"001","091","CV05","600",0,0,0,0,1138029,0,0,0,0,0,1181330.6299999999,0,1181330.6299999999,1181330.6299999999,-43301.63,1181330.6299999999,-43301.63,1181330.6299999999,1181330.6299999999,-43301.63,{"$f":"_xlfn.XLOOKUP(F864,'Object Codes'!$A$18:$A$510,'Object Codes'!$H$18:$H$510)","v":"Contractual Services"},{"$f":"_xlfn.XLOOKUP(F864,'Object Codes'!$A$18:$A$510,'Object Codes'!$G$18:$G$510)","v":0},{"$f":"_xlfn.XLOOKUP(A864,Agencies!$A$9:$A$146,Agencies!$B$9:$B$146)","v":"General Government"},{"$f":"IF(_xlfn.XLOOKUP(A864,Agencies!A:A,Agencies!D:D)=\"Y\",IF(_xlfn.XLOOKUP(F864,'Object Codes'!A:A,'Object Codes'!I:I)=\"Y\",\"Y\",\"N\"),\"N\")","v":"Y"},{"$f":"VLOOKUP(F864,'Object Codes'!$A:$C,3,0)","v":"Contractual Services - General"},{"$f":"VLOOKUP(A864,Agencies!A:C,3,0)","v":"Mayoralty"},3236.5222739726023]
["002",2022,"001","091","CV05","706",0,0,0,0,289,0,0,0,0,0,289.01,0,289.01,289.01,-0.01,289.01,-0.01,289.01,289.01,-0.01,{"$f":"_xlfn.XLOOKUP(F865,'Object Codes'!$A$18:$A$510,'Object Codes'!$H$18:$H$510)","v":"Fixed Charges"},{"$f":"_xlfn.XLOOKUP(F865,'Object Codes'!$A$18:$A$510,'Object Codes'!$G$18:$G$510)","v":0},{"$f":"_xlfn.XLOOKUP(A865,Agencies!$A$9:$A$146,Agencies!$B$9:$B$146)","v":"General Government"},{"$f":"IF(_xlfn.XLOOKUP(A865,Agencies!A:A,Agencies!D:D)=\"Y\",IF(_xlfn.XLOOKUP(F865,'Object Codes'!A:A,'Object Codes'!I:I)=\"Y\",\"Y\",\"N\"),\"N\")","v":"Y"},{"$f":"VLOOKUP(F865,'Object Codes'!$A:$C,3,0)","v":"Prompt Payments Interest"},{"$f":"VLOOKUP(A865,Agencies!A:C,3,0)","v":"Mayoralty"},0.7918082191780822]
["002",2022,"001","091","P091","100",0,0,0,-10822,0,0,0,0,0,0,0,0,0,0,0,0,0,0,0,0,{"$f":"_xlfn.XLOOKUP(F866,'Object Codes'!$A$18:$A$510,'Object Codes'!$H$18:$H$510)","v":"Supplies & Materials"},{"$f":"_xlfn.XLOOKUP(F866,'Object Codes'!$A$18:$A$510,'Object Codes'!$G$18:$G$510)","v":"A"},{"$f":"_xlfn.XLOOKUP(A866,Agencies!$A$9:$A$146,Agencies!$B$9:$B$146)","v":"General Government"},{"$f":"IF(_xlfn.XLOOKUP(A866,Agencies!A:A,Agencies!D:D)=\"Y\",IF(_xlfn.XLOOKUP(F866,'Object Codes'!A:A,'Object Codes'!I:I)=\"Y\",\"Y\",\"N\"),\"N\")","v":"Y"},{"$f":"VLOOKUP(F866,'Object Codes'!$A:$C,3,0)","v":"Supplies and Materials - General"},{"$f":"VLOOKUP(A866,Agencies!A:C,3,0)","v":"Mayoralty"},0]
["002",2022,"001","091","P091","499",0,0,0,548164,0,0,0,0,0,0,0,0,0,0,0,0,0,0,0,0,{"$f":"_xlfn.XLOOKUP(F867,'Object Codes'!$A$18:$A$510,'Object Codes'!$H$18:$H$510)","v":"Other Services and Charges - General"},{"$f":"_xlfn.XLOOKUP(F867,'Object Codes'!$A$18:$A$510,'Object Codes'!$G$18:$G$510)","v":0},{"$f":"_xlfn.XLOOKUP(A867,Agencies!$A$9:$A$146,Agencies!$B$9:$B$146)","v":"General Government"},{"$f":"IF(_xlfn.XLOOKUP(A867,Agencies!A:A,Agencies!D:D)=\"Y\",IF(_xlfn.XLOOKUP(F867,'Object Codes'!A:A,'Object Codes'!I:I)=\"Y\",\"Y\",\"N\"),\"N\")","v":"Y"},{"$f":"VLOOKUP(F867,'Object Codes'!$A:$C,3,0)","v":"Other Expenditures - General"},{"$f":"VLOOKUP(A867,Agencies!A:C,3,0)","v":"Mayoralty"},0]
["002",2022,"001","260","2610","001",0,3,3,388179,388179,0,0,0,0,0,250709.3,0,250709.3,250709.3,137469.70000000001,250709.3,137469.70000000001,250709.3,250709.3,137469.70000000001,{"$f":"_xlfn.XLOOKUP(F868,'Object Codes'!$A$18:$A$510,'Object Codes'!$H$18:$H$510)","v":"PS - Regular"},{"$f":"_xlfn.XLOOKUP(F868,'Object Codes'!$A$18:$A$510,'Object Codes'!$G$18:$G$510)","v":"C"},{"$f":"_xlfn.XLOOKUP(A868,Agencies!$A$9:$A$146,Agencies!$B$9:$B$146)","v":"General Government"},{"$f":"IF(_xlfn.XLOOKUP(A868,Agencies!A:A,Agencies!D:D)=\"Y\",IF(_xlfn.XLOOKUP(F868,'Object Codes'!A:A,'Object Codes'!I:I)=\"Y\",\"Y\",\"N\"),\"N\")","v":"Y"},{"$f":"VLOOKUP(F868,'Object Codes'!$A:$C,3,0)","v":"Full Year Positions"},{"$f":"VLOOKUP(A868,Agencies!A:C,3,0)","v":"Mayoralty"},686.87479452054788]
["002",2022,"001","260","2610","046",0,0,0,0,0,0,0,0,0,0,68661.64,68661.64,137323.28,137323.28,-137323.28,137323.28,-137323.28,137323.28,137323.28,-137323.28,{"$f":"_xlfn.XLOOKUP(F869,'Object Codes'!$A$18:$A$510,'Object Codes'!$H$18:$H$510)","v":"PS - Additional Gross"},{"$f":"_xlfn.XLOOKUP(F869,'Object Codes'!$A$18:$A$510,'Object Codes'!$G$18:$G$510)","v":"A"},{"$f":"_xlfn.XLOOKUP(A869,Agencies!$A$9:$A$146,Agencies!$B$9:$B$146)","v":"General Government"},{"$f":"IF(_xlfn.XLOOKUP(A869,Agencies!A:A,Agencies!D:D)=\"Y\",IF(_xlfn.XLOOKUP(F869,'Object Codes'!A:A,'Object Codes'!I:I)=\"Y\",\"Y\",\"N\"),\"N\")","v":"Y"},{"$f":"VLOOKUP(F869,'Object Codes'!$A:$C,3,0)","v":"Terminal Leave"},{"$f":"VLOOKUP(A869,Agencies!A:C,3,0)","v":"Mayoralty"},376.22816438356165]
["002",2022,"001","260","2613","001",0,2,2,123932,123932,0,0,0,0,0,122726.02,0,122726.02,122726.02,1205.98,122726.02,1205.98,122726.02,122726.02,1205.98,{"$f":"_xlfn.XLOOKUP(F870,'Object Codes'!$A$18:$A$510,'Object Codes'!$H$18:$H$510)","v":"PS - Regular"},{"$f":"_xlfn.XLOOKUP(F870,'Object Codes'!$A$18:$A$510,'Object Codes'!$G$18:$G$510)","v":"C"},{"$f":"_xlfn.XLOOKUP(A870,Agencies!$A$9:$A$146,Agencies!$B$9:$B$146)","v":"General Government"},{"$f":"IF(_xlfn.XLOOKUP(A870,Agencies!A:A,Agencies!D:D)=\"Y\",IF(_xlfn.XLOOKUP(F870,'Object Codes'!A:A,'Object Codes'!I:I)=\"Y\",\"Y\",\"N\"),\"N\")","v":"Y"},{"$f":"VLOOKUP(F870,'Object Codes'!$A:$C,3,0)","v":"Full Year Positions"},{"$f":"VLOOKUP(A870,Agencies!A:C,3,0)","v":"Mayoralty"},336.23567123287671]
["002",2022,"001","260","2615","001",0,1,1,83055,88043,0,0,0,0,0,88374.58,0,88374.58,88374.58,-331.58,88374.58,-331.58,88374.58,88374.58,-331.58,{"$f":"_xlfn.XLOOKUP(F871,'Object Codes'!$A$18:$A$510,'Object Codes'!$H$18:$H$510)","v":"PS - Regular"},{"$f":"_xlfn.XLOOKUP(F871,'Object Codes'!$A$18:$A$510,'Object Codes'!$G$18:$G$510)","v":"C"},{"$f":"_xlfn.XLOOKUP(A871,Agencies!$A$9:$A$146,Agencies!$B$9:$B$146)","v":"General Government"},{"$f":"IF(_xlfn.XLOOKUP(A871,Agencies!A:A,Agencies!D:D)=\"Y\",IF(_xlfn.XLOOKUP(F871,'Object Codes'!A:A,'Object Codes'!I:I)=\"Y\",\"Y\",\"N\"),\"N\")","v":"Y"},{"$f":"VLOOKUP(F871,'Object Codes'!$A:$C,3,0)","v":"Full Year Positions"},{"$f":"VLOOKUP(A871,Agencies!A:C,3,0)","v":"Mayoralty"},242.12213698630137]
["002",2022,"001","260","2617","001",0,1,1,138086,138086,0,0,0,0,0,116875.09,0,116875.09,116875.09,21210.91,116875.09,21210.91,116875.09,116875.09,21210.91,{"$f":"_xlfn.XLOOKUP(F872,'Object Codes'!$A$18:$A$510,'Object Codes'!$H$18:$H$510)","v":"PS - Regular"},{"$f":"_xlfn.XLOOKUP(F872,'Object Codes'!$A$18:$A$510,'Object Codes'!$G$18:$G$510)","v":"C"},{"$f":"_xlfn.XLOOKUP(A872,Agencies!$A$9:$A$146,Agencies!$B$9:$B$146)","v":"General Government"},{"$f":"IF(_xlfn.XLOOKUP(A872,Agencies!A:A,Agencies!D:D)=\"Y\",IF(_xlfn.XLOOKUP(F872,'Object Codes'!A:A,'Object Codes'!I:I)=\"Y\",\"Y\",\"N\"),\"N\")","v":"Y"},{"$f":"VLOOKUP(F872,'Object Codes'!$A:$C,3,0)","v":"Full Year Positions"},{"$f":"VLOOKUP(A872,Agencies!A:C,3,0)","v":"Mayoralty"},320.20572602739725]
["002",2022,"001","260","2620","001",0,0,1,4918,63118,0,0,0,0,0,71160.92,0,71160.92,71160.92,-8042.92,71160.92,-8042.92,71160.92,71160.92,-8042.92,{"$f":"_xlfn.XLOOKUP(F873,'Object Codes'!$A$18:$A$510,'Object Codes'!$H$18:$H$510)","v":"PS - Regular"},{"$f":"_xlfn.XLOOKUP(F873,'Object Codes'!$A$18:$A$510,'Object Codes'!$G$18:$G$510)","v":"C"},{"$f":"_xlfn.XLOOKUP(A873,Agencies!$A$9:$A$146,Agencies!$B$9:$B$146)","v":"General Government"},{"$f":"IF(_xlfn.XLOOKUP(A873,Agencies!A:A,Agencies!D:D)=\"Y\",IF(_xlfn.XLOOKUP(F873,'Object Codes'!A:A,'Object Codes'!I:I)=\"Y\",\"Y\",\"N\"),\"N\")","v":"Y"},{"$f":"VLOOKUP(F873,'Object Codes'!$A:$C,3,0)","v":"Full Year Positions"},{"$f":"VLOOKUP(A873,Agencies!A:C,3,0)","v":"Mayoralty"},194.96142465753425]
["002",2022,"001","261","2613","100",0,0,0,835,35,0,0,0,0,0,0,0,0,0,35,0,35,0,0,35,{"$f":"_xlfn.XLOOKUP(F874,'Object Codes'!$A$18:$A$510,'Object Codes'!$H$18:$H$510)","v":"Supplies & Materials"},{"$f":"_xlfn.XLOOKUP(F874,'Object Codes'!$A$18:$A$510,'Object Codes'!$G$18:$G$510)","v":"A"},{"$f":"_xlfn.XLOOKUP(A874,Agencies!$A$9:$A$146,Agencies!$B$9:$B$146)","v":"General Government"},{"$f":"IF(_xlfn.XLOOKUP(A874,Agencies!A:A,Agencies!D:D)=\"Y\",IF(_xlfn.XLOOKUP(F874,'Object Codes'!A:A,'Object Codes'!I:I)=\"Y\",\"Y\",\"N\"),\"N\")","v":"Y"},{"$f":"VLOOKUP(F874,'Object Codes'!$A:$C,3,0)","v":"Supplies and Materials - General"},{"$f":"VLOOKUP(A874,Agencies!A:C,3,0)","v":"Mayoralty"},0]
["002",2022,"001","261","2613","337",0,0,0,0,1000,0,0,0,0,0,979.88,0,979.88,979.88,20.12,979.88,20.12,979.88,979.88,20.12,{"$f":"_xlfn.XLOOKUP(F875,'Object Codes'!$A$18:$A$510,'Object Codes'!$H$18:$H$510)","v":"Equipment"},{"$f":"_xlfn.XLOOKUP(F875,'Object Codes'!$A$18:$A$510,'Object Codes'!$G$18:$G$510)","v":"A"},{"$f":"_xlfn.XLOOKUP(A875,Agencies!$A$9:$A$146,Agencies!$B$9:$B$146)","v":"General Government"},{"$f":"IF(_xlfn.XLOOKUP(A875,Agencies!A:A,Agencies!D:D)=\"Y\",IF(_xlfn.XLOOKUP(F875,'Object Codes'!A:A,'Object Codes'!I:I)=\"Y\",\"Y\",\"N\"),\"N\")","v":"Y"},{"$f":"VLOOKUP(F875,'Object Codes'!$A:$C,3,0)","v":"Books - Other"},{"$f":"VLOOKUP(A875,Agencies!A:C,3,0)","v":"Mayoralty"},2.6846027397260275]
["002",2022,"001","261","2613","412",0,0,0,1003,3,0,0,0,0,0,0,0,0,0,3,0,3,0,0,3,{"$f":"_xlfn.XLOOKUP(F876,'Object Codes'!$A$18:$A$510,'Object Codes'!$H$18:$H$510)","v":"Other Services and Charges - General"},{"$f":"_xlfn.XLOOKUP(F876,'Object Codes'!$A$18:$A$510,'Object Codes'!$G$18:$G$510)","v":0},{"$f":"_xlfn.XLOOKUP(A876,Agencies!$A$9:$A$146,Agencies!$B$9:$B$146)","v":"General Government"},{"$f":"IF(_xlfn.XLOOKUP(A876,Agencies!A:A,Agencies!D:D)=\"Y\",IF(_xlfn.XLOOKUP(F876,'Object Codes'!A:A,'Object Codes'!I:I)=\"Y\",\"Y\",\"N\"),\"N\")","v":"Y"},{"$f":"VLOOKUP(F876,'Object Codes'!$A:$C,3,0)","v":"Rentals - Miscellaneous Equipment"},{"$f":"VLOOKUP(A876,Agencies!A:C,3,0)","v":"Mayoralty"},0]
["002",2022,"001","261","2613","453",0,0,0,300,0,0,0,0,0,0,0,0,0,0,0,0,0,0,0,0,{"$f":"_xlfn.XLOOKUP(F877,'Object Codes'!$A$18:$A$510,'Object Codes'!$H$18:$H$510)","v":"Other Services and Charges - General"},{"$f":"_xlfn.XLOOKUP(F877,'Object Codes'!$A$18:$A$510,'Object Codes'!$G$18:$G$510)","v":0},{"$f":"_xlfn.XLOOKUP(A877,Agencies!$A$9:$A$146,Agencies!$B$9:$B$146)","v":"General Government"},{"$f":"IF(_xlfn.XLOOKUP(A877,Agencies!A:A,Agencies!D:D)=\"Y\",IF(_xlfn.XLOOKUP(F877,'Object Codes'!A:A,'Object Codes'!I:I)=\"Y\",\"Y\",\"N\"),\"N\")","v":"Y"},{"$f":"VLOOKUP(F877,'Object Codes'!$A:$C,3,0)","v":"Overnight Travel Expenditures - General"},{"$f":"VLOOKUP(A877,Agencies!A:C,3,0)","v":"Mayoralty"},0]
["002",2022,"001","261","2613","622",0,0,0,7337,8437,0,0,0,0,0,8000,0,8000,8000,437,8000,437,8000,8000,437,{"$f":"_xlfn.XLOOKUP(F878,'Object Codes'!$A$18:$A$510,'Object Codes'!$H$18:$H$510)","v":"Contractual Services"},{"$f":"_xlfn.XLOOKUP(F878,'Object Codes'!$A$18:$A$510,'Object Codes'!$G$18:$G$510)","v":0},{"$f":"_xlfn.XLOOKUP(A878,Agencies!$A$9:$A$146,Agencies!$B$9:$B$146)","v":"General Government"},{"$f":"IF(_xlfn.XLOOKUP(A878,Agencies!A:A,Agencies!D:D)=\"Y\",IF(_xlfn.XLOOKUP(F878,'Object Codes'!A:A,'Object Codes'!I:I)=\"Y\",\"Y\",\"N\"),\"N\")","v":"Y"},{"$f":"VLOOKUP(F878,'Object Codes'!$A:$C,3,0)","v":"Temporary Services - Contractual"},{"$f":"VLOOKUP(A878,Agencies!A:C,3,0)","v":"Mayoralty"},21.917808219178081]
["002",2022,"001","261","2614","100",0,0,0,1384,4,0,0,0,0,0,0,0,0,0,4,0,4,0,0,4,{"$f":"_xlfn.XLOOKUP(F879,'Object Codes'!$A$18:$A$510,'Object Codes'!$H$18:$H$510)","v":"Supplies & Materials"},{"$f":"_xlfn.XLOOKUP(F879,'Object Codes'!$A$18:$A$510,'Object Codes'!$G$18:$G$510)","v":"A"},{"$f":"_xlfn.XLOOKUP(A879,Agencies!$A$9:$A$146,Agencies!$B$9:$B$146)","v":"General Government"},{"$f":"IF(_xlfn.XLOOKUP(A879,Agencies!A:A,Agencies!D:D)=\"Y\",IF(_xlfn.XLOOKUP(F879,'Object Codes'!A:A,'Object Codes'!I:I)=\"Y\",\"Y\",\"N\"),\"N\")","v":"Y"},{"$f":"VLOOKUP(F879,'Object Codes'!$A:$C,3,0)","v":"Supplies and Materials - General"},{"$f":"VLOOKUP(A879,Agencies!A:C,3,0)","v":"Mayoralty"},0]
["002",2022,"001","261","2614","300",0,0,0,0,200,0,0,0,0,0,159.97,0,159.97,159.97,40.03,159.97,40.03,159.97,159.97,40.03,{"$f":"_xlfn.XLOOKUP(F880,'Object Codes'!$A$18:$A$510,'Object Codes'!$H$18:$H$510)","v":"Equipment"},{"$f":"_xlfn.XLOOKUP(F880,'Object Codes'!$A$18:$A$510,'Object Codes'!$G$18:$G$510)","v":"A"},{"$f":"_xlfn.XLOOKUP(A880,Agencies!$A$9:$A$146,Agencies!$B$9:$B$146)","v":"General Government"},{"$f":"IF(_xlfn.XLOOKUP(A880,Agencies!A:A,Agencies!D:D)=\"Y\",IF(_xlfn.XLOOKUP(F880,'Object Codes'!A:A,'Object Codes'!I:I)=\"Y\",\"Y\",\"N\"),\"N\")","v":"Y"},{"$f":"VLOOKUP(F880,'Object Codes'!$A:$C,3,0)","v":"Equipment - General"},{"$f":"VLOOKUP(A880,Agencies!A:C,3,0)","v":"Mayoralty"},0.4382739726027397]
["002",2022,"001","261","2614","332",0,0,0,0,200,0,0,0,0,0,195.96,0,195.96,195.96,4.04,195.96,4.04,195.96,195.96,4.04,{"$f":"_xlfn.XLOOKUP(F881,'Object Codes'!$A$18:$A$510,'Object Codes'!$H$18:$H$510)","v":"Equipment"},{"$f":"_xlfn.XLOOKUP(F881,'Object Codes'!$A$18:$A$510,'Object Codes'!$G$18:$G$510)","v":"A"},{"$f":"_xlfn.XLOOKUP(A881,Agencies!$A$9:$A$146,Agencies!$B$9:$B$146)","v":"General Government"},{"$f":"IF(_xlfn.XLOOKUP(A881,Agencies!A:A,Agencies!D:D)=\"Y\",IF(_xlfn.XLOOKUP(F881,'Object Codes'!A:A,'Object Codes'!I:I)=\"Y\",\"Y\",\"N\"),\"N\")","v":"Y"},{"$f":"VLOOKUP(F881,'Object Codes'!$A:$C,3,0)","v":"Purchases of Data Processing Equipment"},{"$f":"VLOOKUP(A881,Agencies!A:C,3,0)","v":"Mayoralty"},0.5368767123287671]
["002",2022,"001","261","2614","337",0,0,0,1367,467,0,0,0,0,0,69.989999999999995,0,69.989999999999995,69.989999999999995,397.01,69.989999999999995,397.01,69.989999999999995,69.989999999999995,397.01,{"$f":"_xlfn.XLOOKUP(F882,'Object Codes'!$A$18:$A$510,'Object Codes'!$H$18:$H$510)","v":"Equipment"},{"$f":"_xlfn.XLOOKUP(F882,'Object Codes'!$A$18:$A$510,'Object Codes'!$G$18:$G$510)","v":"A"},{"$f":"_xlfn.XLOOKUP(A882,Agencies!$A$9:$A$146,Agencies!$B$9:$B$146)","v":"General Government"},{"$f":"IF(_xlfn.XLOOKUP(A882,Agencies!A:A,Agencies!D:D)=\"Y\",IF(_xlfn.XLOOKUP(F882,'Object Codes'!A:A,'Object Codes'!I:I)=\"Y\",\"Y\",\"N\"),\"N\")","v":"Y"},{"$f":"VLOOKUP(F882,'Object Codes'!$A:$C,3,0)","v":"Books - Other"},{"$f":"VLOOKUP(A882,Agencies!A:C,3,0)","v":"Mayoralty"},0.19175342465753423]
["002",2022,"001","261","2614","412",0,0,0,930,0,0,0,0,0,0,0,0,0,0,0,0,0,0,0,0,{"$f":"_xlfn.XLOOKUP(F883,'Object Codes'!$A$18:$A$510,'Object Codes'!$H$18:$H$510)","v":"Other Services and Charges - General"},{"$f":"_xlfn.XLOOKUP(F883,'Object Codes'!$A$18:$A$510,'Object Codes'!$G$18:$G$510)","v":0},{"$f":"_xlfn.XLOOKUP(A883,Agencies!$A$9:$A$146,Agencies!$B$9:$B$146)","v":"General Government"},{"$f":"IF(_xlfn.XLOOKUP(A883,Agencies!A:A,Agencies!D:D)=\"Y\",IF(_xlfn.XLOOKUP(F883,'Object Codes'!A:A,'Object Codes'!I:I)=\"Y\",\"Y\",\"N\"),\"N\")","v":"Y"},{"$f":"VLOOKUP(F883,'Object Codes'!$A:$C,3,0)","v":"Rentals - Miscellaneous Equipment"},{"$f":"VLOOKUP(A883,Agencies!A:C,3,0)","v":"Mayoralty"},0]
["002",2022,"001","261","2614","417",0,0,0,200,0,0,0,0,0,0,0,0,0,0,0,0,0,0,0,0,{"$f":"_xlfn.XLOOKUP(F884,'Object Codes'!$A$18:$A$510,'Object Codes'!$H$18:$H$510)","v":"Other Services and Charges - General"},{"$f":"_xlfn.XLOOKUP(F884,'Object Codes'!$A$18:$A$510,'Object Codes'!$G$18:$G$510)","v":0},{"$f":"_xlfn.XLOOKUP(A884,Agencies!$A$9:$A$146,Agencies!$B$9:$B$146)","v":"General Government"},{"$f":"IF(_xlfn.XLOOKUP(A884,Agencies!A:A,Agencies!D:D)=\"Y\",IF(_xlfn.XLOOKUP(F884,'Object Codes'!A:A,'Object Codes'!I:I)=\"Y\",\"Y\",\"N\"),\"N\")","v":"Y"},{"$f":"VLOOKUP(F884,'Object Codes'!$A:$C,3,0)","v":"Advertising"},{"$f":"VLOOKUP(A884,Agencies!A:C,3,0)","v":"Mayoralty"},0]
["002",2022,"001","261","2614","451",0,0,0,100,0,0,0,0,0,0,0,0,0,0,0,0,0,0,0,0,{"$f":"_xlfn.XLOOKUP(F885,'Object Codes'!$A$18:$A$510,'Object Codes'!$H$18:$H$510)","v":"Other Services and Charges - General"},{"$f":"_xlfn.XLOOKUP(F885,'Object Codes'!$A$18:$A$510,'Object Codes'!$G$18:$G$510)","v":0},{"$f":"_xlfn.XLOOKUP(A885,Agencies!$A$9:$A$146,Agencies!$B$9:$B$146)","v":"General Government"},{"$f":"IF(_xlfn.XLOOKUP(A885,Agencies!A:A,Agencies!D:D)=\"Y\",IF(_xlfn.XLOOKUP(F885,'Object Codes'!A:A,'Object Codes'!I:I)=\"Y\",\"Y\",\"N\"),\"N\")","v":"Y"},{"$f":"VLOOKUP(F885,'Object Codes'!$A:$C,3,0)","v":"Non Overnight Travel Expenditures - General"},{"$f":"VLOOKUP(A885,Agencies!A:C,3,0)","v":"Mayoralty"},0]
["002",2022,"001","261","2614","453",0,0,0,750,0,0,0,0,0,0,0,0,0,0,0,0,0,0,0,0,{"$f":"_xlfn.XLOOKUP(F886,'Object Codes'!$A$18:$A$510,'Object Codes'!$H$18:$H$510)","v":"Other Services and Charges - General"},{"$f":"_xlfn.XLOOKUP(F886,'Object Codes'!$A$18:$A$510,'Object Codes'!$G$18:$G$510)","v":0},{"$f":"_xlfn.XLOOKUP(A886,Agencies!$A$9:$A$146,Agencies!$B$9:$B$146)","v":"General Government"},{"$f":"IF(_xlfn.XLOOKUP(A886,Agencies!A:A,Agencies!D:D)=\"Y\",IF(_xlfn.XLOOKUP(F886,'Object Codes'!A:A,'Object Codes'!I:I)=\"Y\",\"Y\",\"N\"),\"N\")","v":"Y"},{"$f":"VLOOKUP(F886,'Object Codes'!$A:$C,3,0)","v":"Overnight Travel Expenditures - General"},{"$f":"VLOOKUP(A886,Agencies!A:C,3,0)","v":"Mayoralty"},0]
["002",2022,"001","261","2614","454",0,0,0,250,0,0,0,0,0,0,0,0,0,0,0,0,0,0,0,0,{"$f":"_xlfn.XLOOKUP(F887,'Object Codes'!$A$18:$A$510,'Object Codes'!$H$18:$H$510)","v":"Other Services and Charges - General"},{"$f":"_xlfn.XLOOKUP(F887,'Object Codes'!$A$18:$A$510,'Object Codes'!$G$18:$G$510)","v":0},{"$f":"_xlfn.XLOOKUP(A887,Agencies!$A$9:$A$146,Agencies!$B$9:$B$146)","v":"General Government"},{"$f":"IF(_xlfn.XLOOKUP(A887,Agencies!A:A,Agencies!D:D)=\"Y\",IF(_xlfn.XLOOKUP(F887,'Object Codes'!A:A,'Object Codes'!I:I)=\"Y\",\"Y\",\"N\"),\"N\")","v":"Y"},{"$f":"VLOOKUP(F887,'Object Codes'!$A:$C,3,0)","v":"Overnight Travel Expenditures - Special"},{"$f":"VLOOKUP(A887,Agencies!A:C,3,0)","v":"Mayoralty"},0]
["002",2022,"001","261","2614","613",0,0,0,0,3400,0,0,0,0,0,3385.48,0,3385.48,3385.48,14.52,3385.48,14.52,3385.48,3385.48,14.52,{"$f":"_xlfn.XLOOKUP(F888,'Object Codes'!$A$18:$A$510,'Object Codes'!$H$18:$H$510)","v":"Contractual Services"},{"$f":"_xlfn.XLOOKUP(F888,'Object Codes'!$A$18:$A$510,'Object Codes'!$G$18:$G$510)","v":0},{"$f":"_xlfn.XLOOKUP(A888,Agencies!$A$9:$A$146,Agencies!$B$9:$B$146)","v":"General Government"},{"$f":"IF(_xlfn.XLOOKUP(A888,Agencies!A:A,Agencies!D:D)=\"Y\",IF(_xlfn.XLOOKUP(F888,'Object Codes'!A:A,'Object Codes'!I:I)=\"Y\",\"Y\",\"N\"),\"N\")","v":"Y"},{"$f":"VLOOKUP(F888,'Object Codes'!$A:$C,3,0)","v":"Data Processing Equipment Maintenance - Contractual"},{"$f":"VLOOKUP(A888,Agencies!A:C,3,0)","v":"Mayoralty"},9.275287671232876]
["002",2022,"001","261","2614","622",0,0,0,8519,7859,0,0,0,0,0,7643.5,0,7643.5,7643.5,215.5,7643.5,215.5,7643.5,7643.5,215.5,{"$f":"_xlfn.XLOOKUP(F889,'Object Codes'!$A$18:$A$510,'Object Codes'!$H$18:$H$510)","v":"Contractual Services"},{"$f":"_xlfn.XLOOKUP(F889,'Object Codes'!$A$18:$A$510,'Object Codes'!$G$18:$G$510)","v":0},{"$f":"_xlfn.XLOOKUP(A889,Agencies!$A$9:$A$146,Agencies!$B$9:$B$146)","v":"General Government"},{"$f":"IF(_xlfn.XLOOKUP(A889,Agencies!A:A,Agencies!D:D)=\"Y\",IF(_xlfn.XLOOKUP(F889,'Object Codes'!A:A,'Object Codes'!I:I)=\"Y\",\"Y\",\"N\"),\"N\")","v":"Y"},{"$f":"VLOOKUP(F889,'Object Codes'!$A:$C,3,0)","v":"Temporary Services - Contractual"},{"$f":"VLOOKUP(A889,Agencies!A:C,3,0)","v":"Mayoralty"},20.94109589041096]
["002",2022,"001","261","2614","671",0,0,0,0,1370,0,0,0,0,0,1350,0,1350,1350,20,1350,20,1350,1350,20,{"$f":"_xlfn.XLOOKUP(F890,'Object Codes'!$A$18:$A$510,'Object Codes'!$H$18:$H$510)","v":"Contractual Services"},{"$f":"_xlfn.XLOOKUP(F890,'Object Codes'!$A$18:$A$510,'Object Codes'!$G$18:$G$510)","v":0},{"$f":"_xlfn.XLOOKUP(A890,Agencies!$A$9:$A$146,Agencies!$B$9:$B$146)","v":"General Government"},{"$f":"IF(_xlfn.XLOOKUP(A890,Agencies!A:A,Agencies!D:D)=\"Y\",IF(_xlfn.XLOOKUP(F890,'Object Codes'!A:A,'Object Codes'!I:I)=\"Y\",\"Y\",\"N\"),\"N\")","v":"Y"},{"$f":"VLOOKUP(F890,'Object Codes'!$A:$C,3,0)","v":"Training Program for City Employees - Contractual"},{"$f":"VLOOKUP(A890,Agencies!A:C,3,0)","v":"Mayoralty"},3.6986301369863015]
["002",2022,"001","261","2615","678",0,0,0,91150,0,0,0,0,0,0,0,0,0,0,0,0,0,0,0,0,{"$f":"_xlfn.XLOOKUP(F891,'Object Codes'!$A$18:$A$510,'Object Codes'!$H$18:$H$510)","v":"Contractual Services"},{"$f":"_xlfn.XLOOKUP(F891,'Object Codes'!$A$18:$A$510,'Object Codes'!$G$18:$G$510)","v":0},{"$f":"_xlfn.XLOOKUP(A891,Agencies!$A$9:$A$146,Agencies!$B$9:$B$146)","v":"General Government"},{"$f":"IF(_xlfn.XLOOKUP(A891,Agencies!A:A,Agencies!D:D)=\"Y\",IF(_xlfn.XLOOKUP(F891,'Object Codes'!A:A,'Object Codes'!I:I)=\"Y\",\"Y\",\"N\"),\"N\")","v":"Y"},{"$f":"VLOOKUP(F891,'Object Codes'!$A:$C,3,0)","v":"Payments to Delegate Agencies - Contractual"},{"$f":"VLOOKUP(A891,Agencies!A:C,3,0)","v":"Mayoralty"},0]
["002",2022,"001","340","3420","001",0,22,22,2018888,2018888,0,0,0,0,0,1593936.39,0,1593936.39,1593936.39,424951.61,1593936.39,424951.61,1593936.39,1593936.39,424951.61,{"$f":"_xlfn.XLOOKUP(F892,'Object Codes'!$A$18:$A$510,'Object Codes'!$H$18:$H$510)","v":"PS - Regular"},{"$f":"_xlfn.XLOOKUP(F892,'Object Codes'!$A$18:$A$510,'Object Codes'!$G$18:$G$510)","v":"C"},{"$f":"_xlfn.XLOOKUP(A892,Agencies!$A$9:$A$146,Agencies!$B$9:$B$146)","v":"General Government"},{"$f":"IF(_xlfn.XLOOKUP(A892,Agencies!A:A,Agencies!D:D)=\"Y\",IF(_xlfn.XLOOKUP(F892,'Object Codes'!A:A,'Object Codes'!I:I)=\"Y\",\"Y\",\"N\"),\"N\")","v":"Y"},{"$f":"VLOOKUP(F892,'Object Codes'!$A:$C,3,0)","v":"Full Year Positions"},{"$f":"VLOOKUP(A892,Agencies!A:C,3,0)","v":"Mayoralty"},4366.9490136986296]
["002",2022,"001","340","3420","004",0,0,0,0,0,0,0,0,0,0,11835.61,0,11835.61,11835.61,-11835.61,11835.61,-11835.61,11835.61,11835.61,-11835.61,{"$f":"_xlfn.XLOOKUP(F893,'Object Codes'!$A$18:$A$510,'Object Codes'!$H$18:$H$510)","v":"PS - Regular"},{"$f":"_xlfn.XLOOKUP(F893,'Object Codes'!$A$18:$A$510,'Object Codes'!$G$18:$G$510)","v":"U"},{"$f":"_xlfn.XLOOKUP(A893,Agencies!$A$9:$A$146,Agencies!$B$9:$B$146)","v":"General Government"},{"$f":"IF(_xlfn.XLOOKUP(A893,Agencies!A:A,Agencies!D:D)=\"Y\",IF(_xlfn.XLOOKUP(F893,'Object Codes'!A:A,'Object Codes'!I:I)=\"Y\",\"Y\",\"N\"),\"N\")","v":"Y"},{"$f":"VLOOKUP(F893,'Object Codes'!$A:$C,3,0)","v":"Full-Time Uniformed Personnel"},{"$f":"VLOOKUP(A893,Agencies!A:C,3,0)","v":"Mayoralty"},32.426328767123287]
["002",2022,"001","340","3420","046",0,0,0,0,0,0,0,0,0,0,25958.18,0,25958.18,25958.18,-25958.18,25958.18,-25958.18,25958.18,25958.18,-25958.18,{"$f":"_xlfn.XLOOKUP(F894,'Object Codes'!$A$18:$A$510,'Object Codes'!$H$18:$H$510)","v":"PS - Additional Gross"},{"$f":"_xlfn.XLOOKUP(F894,'Object Codes'!$A$18:$A$510,'Object Codes'!$G$18:$G$510)","v":"A"},{"$f":"_xlfn.XLOOKUP(A894,Agencies!$A$9:$A$146,Agencies!$B$9:$B$146)","v":"General Government"},{"$f":"IF(_xlfn.XLOOKUP(A894,Agencies!A:A,Agencies!D:D)=\"Y\",IF(_xlfn.XLOOKUP(F894,'Object Codes'!A:A,'Object Codes'!I:I)=\"Y\",\"Y\",\"N\"),\"N\")","v":"Y"},{"$f":"VLOOKUP(F894,'Object Codes'!$A:$C,3,0)","v":"Terminal Leave"},{"$f":"VLOOKUP(A894,Agencies!A:C,3,0)","v":"Mayoralty"},71.118301369863019]
["002",2022,"001","340","3420","057",0,0,0,0,500,0,0,0,0,0,500,0,500,500,0,500,0,500,500,0,{"$f":"_xlfn.XLOOKUP(F895,'Object Codes'!$A$18:$A$510,'Object Codes'!$H$18:$H$510)","v":"PS - Additional Gross"},{"$f":"_xlfn.XLOOKUP(F895,'Object Codes'!$A$18:$A$510,'Object Codes'!$G$18:$G$510)","v":"A"},{"$f":"_xlfn.XLOOKUP(A895,Agencies!$A$9:$A$146,Agencies!$B$9:$B$146)","v":"General Government"},{"$f":"IF(_xlfn.XLOOKUP(A895,Agencies!A:A,Agencies!D:D)=\"Y\",IF(_xlfn.XLOOKUP(F895,'Object Codes'!A:A,'Object Codes'!I:I)=\"Y\",\"Y\",\"N\"),\"N\")","v":"Y"},{"$f":"VLOOKUP(F895,'Object Codes'!$A:$C,3,0)","v":"Bonus Payments"},{"$f":"VLOOKUP(A895,Agencies!A:C,3,0)","v":"Mayoralty"},1.3698630136986301]
["002",2022,"001","340","3420","X46",0,0,0,0,0,0,0,0,0,0,12008.28,0,12008.28,12008.28,-12008.28,12008.28,-12008.28,12008.28,12008.28,-12008.28,{"$f":"_xlfn.XLOOKUP(F896,'Object Codes'!$A$18:$A$510,'Object Codes'!$H$18:$H$510)","v":"PS - Additional Gross"},{"$f":"_xlfn.XLOOKUP(F896,'Object Codes'!$A$18:$A$510,'Object Codes'!$G$18:$G$510)","v":"A"},{"$f":"_xlfn.XLOOKUP(A896,Agencies!$A$9:$A$146,Agencies!$B$9:$B$146)","v":"General Government"},{"$f":"IF(_xlfn.XLOOKUP(A896,Agencies!A:A,Agencies!D:D)=\"Y\",IF(_xlfn.XLOOKUP(F896,'Object Codes'!A:A,'Object Codes'!I:I)=\"Y\",\"Y\",\"N\"),\"N\")","v":"Y"},{"$f":"VLOOKUP(F896,'Object Codes'!$A:$C,3,0)","v":"PY TERMINAL LEAVE"},{"$f":"VLOOKUP(A896,Agencies!A:C,3,0)","v":"Mayoralty"},32.899397260273972]
["002",2022,"001","341","3424","100",0,0,0,3436,1136,0,0,0,0,0,1127.94,0,1127.94,1127.94,8.06,1127.94,8.06,1127.94,1127.94,8.06,{"$f":"_xlfn.XLOOKUP(F897,'Object Codes'!$A$18:$A$510,'Object Codes'!$H$18:$H$510)","v":"Supplies & Materials"},{"$f":"_xlfn.XLOOKUP(F897,'Object Codes'!$A$18:$A$510,'Object Codes'!$G$18:$G$510)","v":"A"},{"$f":"_xlfn.XLOOKUP(A897,Agencies!$A$9:$A$146,Agencies!$B$9:$B$146)","v":"General Government"},{"$f":"IF(_xlfn.XLOOKUP(A897,Agencies!A:A,Agencies!D:D)=\"Y\",IF(_xlfn.XLOOKUP(F897,'Object Codes'!A:A,'Object Codes'!I:I)=\"Y\",\"Y\",\"N\"),\"N\")","v":"Y"},{"$f":"VLOOKUP(F897,'Object Codes'!$A:$C,3,0)","v":"Supplies and Materials - General"},{"$f":"VLOOKUP(A897,Agencies!A:C,3,0)","v":"Mayoralty"},3.0902465753424657]
["002",2022,"001","341","3424","101",0,0,0,500,500,0,0,0,0,0,0,0,0,0,500,0,500,0,0,500,{"$f":"_xlfn.XLOOKUP(F898,'Object Codes'!$A$18:$A$510,'Object Codes'!$H$18:$H$510)","v":"Supplies & Materials"},{"$f":"_xlfn.XLOOKUP(F898,'Object Codes'!$A$18:$A$510,'Object Codes'!$G$18:$G$510)","v":"A"},{"$f":"_xlfn.XLOOKUP(A898,Agencies!$A$9:$A$146,Agencies!$B$9:$B$146)","v":"General Government"},{"$f":"IF(_xlfn.XLOOKUP(A898,Agencies!A:A,Agencies!D:D)=\"Y\",IF(_xlfn.XLOOKUP(F898,'Object Codes'!A:A,'Object Codes'!I:I)=\"Y\",\"Y\",\"N\"),\"N\")","v":"Y"},{"$f":"VLOOKUP(F898,'Object Codes'!$A:$C,3,0)","v":"Printing Supplies"},{"$f":"VLOOKUP(A898,Agencies!A:C,3,0)","v":"Mayoralty"},0]
["002",2022,"001","341","3424","110",0,0,0,500,500,0,0,0,0,0,0,0,0,0,500,0,500,0,0,500,{"$f":"_xlfn.XLOOKUP(F899,'Object Codes'!$A$18:$A$510,'Object Codes'!$H$18:$H$510)","v":"Supplies & Materials"},{"$f":"_xlfn.XLOOKUP(F899,'Object Codes'!$A$18:$A$510,'Object Codes'!$G$18:$G$510)","v":"A"},{"$f":"_xlfn.XLOOKUP(A899,Agencies!$A$9:$A$146,Agencies!$B$9:$B$146)","v":"General Government"},{"$f":"IF(_xlfn.XLOOKUP(A899,Agencies!A:A,Agencies!D:D)=\"Y\",IF(_xlfn.XLOOKUP(F899,'Object Codes'!A:A,'Object Codes'!I:I)=\"Y\",\"Y\",\"N\"),\"N\")","v":"Y"},{"$f":"VLOOKUP(F899,'Object Codes'!$A:$C,3,0)","v":"Food and Forage Supplies"},{"$f":"VLOOKUP(A899,Agencies!A:C,3,0)","v":"Mayoralty"},0]
["002",2022,"001","341","3424","117",0,0,0,1000,1000,0,0,0,0,0,0,0,0,0,1000,0,1000,0,0,1000,{"$f":"_xlfn.XLOOKUP(F900,'Object Codes'!$A$18:$A$510,'Object Codes'!$H$18:$H$510)","v":"Supplies & Materials"},{"$f":"_xlfn.XLOOKUP(F900,'Object Codes'!$A$18:$A$510,'Object Codes'!$G$18:$G$510)","v":"A"},{"$f":"_xlfn.XLOOKUP(A900,Agencies!$A$9:$A$146,Agencies!$B$9:$B$146)","v":"General Government"},{"$f":"IF(_xlfn.XLOOKUP(A900,Agencies!A:A,Agencies!D:D)=\"Y\",IF(_xlfn.XLOOKUP(F900,'Object Codes'!A:A,'Object Codes'!I:I)=\"Y\",\"Y\",\"N\"),\"N\")","v":"Y"},{"$f":"VLOOKUP(F900,'Object Codes'!$A:$C,3,0)","v":"Postage"},{"$f":"VLOOKUP(A900,Agencies!A:C,3,0)","v":"Mayoralty"},0]
["002",2022,"001","341","3424","332",0,0,0,1700,1700,0,0,0,0,0,0,0,0,0,1700,0,1700,0,0,1700,{"$f":"_xlfn.XLOOKUP(F901,'Object Codes'!$A$18:$A$510,'Object Codes'!$H$18:$H$510)","v":"Equipment"},{"$f":"_xlfn.XLOOKUP(F901,'Object Codes'!$A$18:$A$510,'Object Codes'!$G$18:$G$510)","v":"A"},{"$f":"_xlfn.XLOOKUP(A901,Agencies!$A$9:$A$146,Agencies!$B$9:$B$146)","v":"General Government"},{"$f":"IF(_xlfn.XLOOKUP(A901,Agencies!A:A,Agencies!D:D)=\"Y\",IF(_xlfn.XLOOKUP(F901,'Object Codes'!A:A,'Object Codes'!I:I)=\"Y\",\"Y\",\"N\"),\"N\")","v":"Y"},{"$f":"VLOOKUP(F901,'Object Codes'!$A:$C,3,0)","v":"Purchases of Data Processing Equipment"},{"$f":"VLOOKUP(A901,Agencies!A:C,3,0)","v":"Mayoralty"},0]
["002",2022,"001","341","3424","337",0,0,0,1100,1100,0,0,0,0,0,0,0,0,0,1100,0,1100,0,0,1100,{"$f":"_xlfn.XLOOKUP(F902,'Object Codes'!$A$18:$A$510,'Object Codes'!$H$18:$H$510)","v":"Equipment"},{"$f":"_xlfn.XLOOKUP(F902,'Object Codes'!$A$18:$A$510,'Object Codes'!$G$18:$G$510)","v":"A"},{"$f":"_xlfn.XLOOKUP(A902,Agencies!$A$9:$A$146,Agencies!$B$9:$B$146)","v":"General Government"},{"$f":"IF(_xlfn.XLOOKUP(A902,Agencies!A:A,Agencies!D:D)=\"Y\",IF(_xlfn.XLOOKUP(F902,'Object Codes'!A:A,'Object Codes'!I:I)=\"Y\",\"Y\",\"N\"),\"N\")","v":"Y"},{"$f":"VLOOKUP(F902,'Object Codes'!$A:$C,3,0)","v":"Books - Other"},{"$f":"VLOOKUP(A902,Agencies!A:C,3,0)","v":"Mayoralty"},0]
["002",2022,"001","341","3424","451",0,0,0,1000,1000,0,0,0,0,0,0,0,0,0,1000,0,1000,0,0,1000,{"$f":"_xlfn.XLOOKUP(F903,'Object Codes'!$A$18:$A$510,'Object Codes'!$H$18:$H$510)","v":"Other Services and Charges - General"},{"$f":"_xlfn.XLOOKUP(F903,'Object Codes'!$A$18:$A$510,'Object Codes'!$G$18:$G$510)","v":0},{"$f":"_xlfn.XLOOKUP(A903,Agencies!$A$9:$A$146,Agencies!$B$9:$B$146)","v":"General Government"},{"$f":"IF(_xlfn.XLOOKUP(A903,Agencies!A:A,Agencies!D:D)=\"Y\",IF(_xlfn.XLOOKUP(F903,'Object Codes'!A:A,'Object Codes'!I:I)=\"Y\",\"Y\",\"N\"),\"N\")","v":"Y"},{"$f":"VLOOKUP(F903,'Object Codes'!$A:$C,3,0)","v":"Non Overnight Travel Expenditures - General"},{"$f":"VLOOKUP(A903,Agencies!A:C,3,0)","v":"Mayoralty"},0]
["002",2022,"001","341","3424","454",0,0,0,0,4000,0,0,0,0,0,1451.6,0,1451.6,1451.6,2548.4,1451.6,2548.4,1451.6,1451.6,2548.4,{"$f":"_xlfn.XLOOKUP(F904,'Object Codes'!$A$18:$A$510,'Object Codes'!$H$18:$H$510)","v":"Other Services and Charges - General"},{"$f":"_xlfn.XLOOKUP(F904,'Object Codes'!$A$18:$A$510,'Object Codes'!$G$18:$G$510)","v":0},{"$f":"_xlfn.XLOOKUP(A904,Agencies!$A$9:$A$146,Agencies!$B$9:$B$146)","v":"General Government"},{"$f":"IF(_xlfn.XLOOKUP(A904,Agencies!A:A,Agencies!D:D)=\"Y\",IF(_xlfn.XLOOKUP(F904,'Object Codes'!A:A,'Object Codes'!I:I)=\"Y\",\"Y\",\"N\"),\"N\")","v":"Y"},{"$f":"VLOOKUP(F904,'Object Codes'!$A:$C,3,0)","v":"Overnight Travel Expenditures - Special"},{"$f":"VLOOKUP(A904,Agencies!A:C,3,0)","v":"Mayoralty"},3.976986301369863]
["002",2022,"001","341","3424","615",0,0,0,0,4300,0,0,0,0,0,4160.84,0,4160.84,4160.84,139.16,4160.84,139.16,4160.84,4160.84,139.16,{"$f":"_xlfn.XLOOKUP(F905,'Object Codes'!$A$18:$A$510,'Object Codes'!$H$18:$H$510)","v":"Contractual Services"},{"$f":"_xlfn.XLOOKUP(F905,'Object Codes'!$A$18:$A$510,'Object Codes'!$G$18:$G$510)","v":0},{"$f":"_xlfn.XLOOKUP(A905,Agencies!$A$9:$A$146,Agencies!$B$9:$B$146)","v":"General Government"},{"$f":"IF(_xlfn.XLOOKUP(A905,Agencies!A:A,Agencies!D:D)=\"Y\",IF(_xlfn.XLOOKUP(F905,'Object Codes'!A:A,'Object Codes'!I:I)=\"Y\",\"Y\",\"N\"),\"N\")","v":"Y"},{"$f":"VLOOKUP(F905,'Object Codes'!$A:$C,3,0)","v":"Printing Services - Contractual"},{"$f":"VLOOKUP(A905,Agencies!A:C,3,0)","v":"Mayoralty"},{"$f":"S905/365","v":11.399561643835616}]
["002",2022,"001","341","3424","622",0,0,0,20764,14264,0,0,0,0,0,0,0,0,0,14264,0,14264,0,0,14264,{"$f":"_xlfn.XLOOKUP(F906,'Object Codes'!$A$18:$A$510,'Object Codes'!$H$18:$H$510)","v":"Contractual Services"},{"$f":"_xlfn.XLOOKUP(F906,'Object Codes'!$A$18:$A$510,'Object Codes'!$G$18:$G$510)","v":0},{"$f":"_xlfn.XLOOKUP(A906,Agencies!$A$9:$A$146,Agencies!$B$9:$B$146)","v":"General Government"},{"$f":"IF(_xlfn.XLOOKUP(A906,Agencies!A:A,Agencies!D:D)=\"Y\",IF(_xlfn.XLOOKUP(F906,'Object Codes'!A:A,'Object Codes'!I:I)=\"Y\",\"Y\",\"N\"),\"N\")","v":"Y"},{"$f":"VLOOKUP(F906,'Object Codes'!$A:$C,3,0)","v":"Temporary Services - Contractual"},{"$f":"VLOOKUP(A906,Agencies!A:C,3,0)","v":"Mayoralty"},0]
["002",2022,"001","341","3424","633",0,0,0,0,500,0,0,0,0,0,0,0,0,0,500,0,500,0,0,500,{"$f":"_xlfn.XLOOKUP(F907,'Object Codes'!$A$18:$A$510,'Object Codes'!$H$18:$H$510)","v":"Contractual Services"},{"$f":"_xlfn.XLOOKUP(F907,'Object Codes'!$A$18:$A$510,'Object Codes'!$G$18:$G$510)","v":0},{"$f":"_xlfn.XLOOKUP(A907,Agencies!$A$9:$A$146,Agencies!$B$9:$B$146)","v":"General Government"},{"$f":"IF(_xlfn.XLOOKUP(A907,Agencies!A:A,Agencies!D:D)=\"Y\",IF(_xlfn.XLOOKUP(F907,'Object Codes'!A:A,'Object Codes'!I:I)=\"Y\",\"Y\",\"N\"),\"N\")","v":"Y"},{"$f":"VLOOKUP(F907,'Object Codes'!$A:$C,3,0)","v":"Transportation Services - Contractual"},{"$f":"VLOOKUP(A907,Agencies!A:C,3,0)","v":"Mayoralty"},0]
["002",2022,"001","350","3510","001",0,5,7,624695,795710,0,0,0,0,0,495880.51,0,495880.51,495880.51,299829.49,495880.51,299829.49,495880.51,495880.51,299829.49,{"$f":"_xlfn.XLOOKUP(F908,'Object Codes'!$A$18:$A$510,'Object Codes'!$H$18:$H$510)","v":"PS - Regular"},{"$f":"_xlfn.XLOOKUP(F908,'Object Codes'!$A$18:$A$510,'Object Codes'!$G$18:$G$510)","v":"C"},{"$f":"_xlfn.XLOOKUP(A908,Agencies!$A$9:$A$146,Agencies!$B$9:$B$146)","v":"General Government"},{"$f":"IF(_xlfn.XLOOKUP(A908,Agencies!A:A,Agencies!D:D)=\"Y\",IF(_xlfn.XLOOKUP(F908,'Object Codes'!A:A,'Object Codes'!I:I)=\"Y\",\"Y\",\"N\"),\"N\")","v":"Y"},{"$f":"VLOOKUP(F908,'Object Codes'!$A:$C,3,0)","v":"Full Year Positions"},{"$f":"VLOOKUP(A908,Agencies!A:C,3,0)","v":"Mayoralty"},1358.5767397260274]
["002",2022,"001","350","3510","046",0,0,0,0,0,0,0,0,0,0,6904.95,8932.9,15837.85,15837.85,-15837.85,15837.85,-15837.85,15837.85,15837.85,-15837.85,{"$f":"_xlfn.XLOOKUP(F909,'Object Codes'!$A$18:$A$510,'Object Codes'!$H$18:$H$510)","v":"PS - Additional Gross"},{"$f":"_xlfn.XLOOKUP(F909,'Object Codes'!$A$18:$A$510,'Object Codes'!$G$18:$G$510)","v":"A"},{"$f":"_xlfn.XLOOKUP(A909,Agencies!$A$9:$A$146,Agencies!$B$9:$B$146)","v":"General Government"},{"$f":"IF(_xlfn.XLOOKUP(A909,Agencies!A:A,Agencies!D:D)=\"Y\",IF(_xlfn.XLOOKUP(F909,'Object Codes'!A:A,'Object Codes'!I:I)=\"Y\",\"Y\",\"N\"),\"N\")","v":"Y"},{"$f":"VLOOKUP(F909,'Object Codes'!$A:$C,3,0)","v":"Terminal Leave"},{"$f":"VLOOKUP(A909,Agencies!A:C,3,0)","v":"Mayoralty"},43.391369863013701]
["002",2022,"001","351","3514","100",0,0,0,0,162171,0,0,0,0,0,0,0,0,0,162171,0,162171,0,0,162171,{"$f":"_xlfn.XLOOKUP(F910,'Object Codes'!$A$18:$A$510,'Object Codes'!$H$18:$H$510)","v":"Supplies & Materials"},{"$f":"_xlfn.XLOOKUP(F910,'Object Codes'!$A$18:$A$510,'Object Codes'!$G$18:$G$510)","v":"A"},{"$f":"_xlfn.XLOOKUP(A910,Agencies!$A$9:$A$146,Agencies!$B$9:$B$146)","v":"General Government"},{"$f":"IF(_xlfn.XLOOKUP(A910,Agencies!A:A,Agencies!D:D)=\"Y\",IF(_xlfn.XLOOKUP(F910,'Object Codes'!A:A,'Object Codes'!I:I)=\"Y\",\"Y\",\"N\"),\"N\")","v":"Y"},{"$f":"VLOOKUP(F910,'Object Codes'!$A:$C,3,0)","v":"Supplies and Materials - General"},{"$f":"VLOOKUP(A910,Agencies!A:C,3,0)","v":"Mayoralty"},0]
["002",2022,"001","351","3514","117",0,0,0,76,76,0,0,0,0,0,0,0,0,0,76,0,76,0,0,76,{"$f":"_xlfn.XLOOKUP(F911,'Object Codes'!$A$18:$A$510,'Object Codes'!$H$18:$H$510)","v":"Supplies & Materials"},{"$f":"_xlfn.XLOOKUP(F911,'Object Codes'!$A$18:$A$510,'Object Codes'!$G$18:$G$510)","v":"A"},{"$f":"_xlfn.XLOOKUP(A911,Agencies!$A$9:$A$146,Agencies!$B$9:$B$146)","v":"General Government"},{"$f":"IF(_xlfn.XLOOKUP(A911,Agencies!A:A,Agencies!D:D)=\"Y\",IF(_xlfn.XLOOKUP(F911,'Object Codes'!A:A,'Object Codes'!I:I)=\"Y\",\"Y\",\"N\"),\"N\")","v":"Y"},{"$f":"VLOOKUP(F911,'Object Codes'!$A:$C,3,0)","v":"Postage"},{"$f":"VLOOKUP(A911,Agencies!A:C,3,0)","v":"Mayoralty"},0]
["002",2022,"001","351","3514","337",0,0,0,100,100,0,0,0,0,0,0,0,0,0,100,0,100,0,0,100,{"$f":"_xlfn.XLOOKUP(F912,'Object Codes'!$A$18:$A$510,'Object Codes'!$H$18:$H$510)","v":"Equipment"},{"$f":"_xlfn.XLOOKUP(F912,'Object Codes'!$A$18:$A$510,'Object Codes'!$G$18:$G$510)","v":"A"},{"$f":"_xlfn.XLOOKUP(A912,Agencies!$A$9:$A$146,Agencies!$B$9:$B$146)","v":"General Government"},{"$f":"IF(_xlfn.XLOOKUP(A912,Agencies!A:A,Agencies!D:D)=\"Y\",IF(_xlfn.XLOOKUP(F912,'Object Codes'!A:A,'Object Codes'!I:I)=\"Y\",\"Y\",\"N\"),\"N\")","v":"Y"},{"$f":"VLOOKUP(F912,'Object Codes'!$A:$C,3,0)","v":"Books - Other"},{"$f":"VLOOKUP(A912,Agencies!A:C,3,0)","v":"Mayoralty"},0]
["002",2022,"001","351","3514","400",0,0,0,594,594,0,0,0,0,0,0,0,0,0,594,0,594,0,0,594,{"$f":"_xlfn.XLOOKUP(F913,'Object Codes'!$A$18:$A$510,'Object Codes'!$H$18:$H$510)","v":"Other Services and Charges - General"},{"$f":"_xlfn.XLOOKUP(F913,'Object Codes'!$A$18:$A$510,'Object Codes'!$G$18:$G$510)","v":0},{"$f":"_xlfn.XLOOKUP(A913,Agencies!$A$9:$A$146,Agencies!$B$9:$B$146)","v":"General Government"},{"$f":"IF(_xlfn.XLOOKUP(A913,Agencies!A:A,Agencies!D:D)=\"Y\",IF(_xlfn.XLOOKUP(F913,'Object Codes'!A:A,'Object Codes'!I:I)=\"Y\",\"Y\",\"N\"),\"N\")","v":"Y"},{"$f":"VLOOKUP(F913,'Object Codes'!$A:$C,3,0)","v":"Other Services and Charges - General"},{"$f":"VLOOKUP(A913,Agencies!A:C,3,0)","v":"Mayoralty"},0]
["002",2022,"001","351","3514","402",0,0,0,100,100,0,0,0,0,0,0,0,0,0,100,0,100,0,0,100,{"$f":"_xlfn.XLOOKUP(F914,'Object Codes'!$A$18:$A$510,'Object Codes'!$H$18:$H$510)","v":"Other Services and Charges - General"},{"$f":"_xlfn.XLOOKUP(F914,'Object Codes'!$A$18:$A$510,'Object Codes'!$G$18:$G$510)","v":0},{"$f":"_xlfn.XLOOKUP(A914,Agencies!$A$9:$A$146,Agencies!$B$9:$B$146)","v":"General Government"},{"$f":"IF(_xlfn.XLOOKUP(A914,Agencies!A:A,Agencies!D:D)=\"Y\",IF(_xlfn.XLOOKUP(F914,'Object Codes'!A:A,'Object Codes'!I:I)=\"Y\",\"Y\",\"N\"),\"N\")","v":"Y"},{"$f":"VLOOKUP(F914,'Object Codes'!$A:$C,3,0)","v":"Telephone and Other Communications"},{"$f":"VLOOKUP(A914,Agencies!A:C,3,0)","v":"Mayoralty"},0]
["002",2022,"001","351","3514","403",0,0,0,276,70276,0,0,0,0,0,0,0,0,0,70276,0,70276,0,0,70276,{"$f":"_xlfn.XLOOKUP(F915,'Object Codes'!$A$18:$A$510,'Object Codes'!$H$18:$H$510)","v":"Other Services and Charges - General"},{"$f":"_xlfn.XLOOKUP(F915,'Object Codes'!$A$18:$A$510,'Object Codes'!$G$18:$G$510)","v":0},{"$f":"_xlfn.XLOOKUP(A915,Agencies!$A$9:$A$146,Agencies!$B$9:$B$146)","v":"General Government"},{"$f":"IF(_xlfn.XLOOKUP(A915,Agencies!A:A,Agencies!D:D)=\"Y\",IF(_xlfn.XLOOKUP(F915,'Object Codes'!A:A,'Object Codes'!I:I)=\"Y\",\"Y\",\"N\"),\"N\")","v":"Y"},{"$f":"VLOOKUP(F915,'Object Codes'!$A:$C,3,0)","v":"Office Services"},{"$f":"VLOOKUP(A915,Agencies!A:C,3,0)","v":"Mayoralty"},0]
["002",2022,"001","351","3514","412",0,0,0,2860,2360,0,0,0,0,0,0,0,0,0,2360,0,2360,0,0,2360,{"$f":"_xlfn.XLOOKUP(F916,'Object Codes'!$A$18:$A$510,'Object Codes'!$H$18:$H$510)","v":"Other Services and Charges - General"},{"$f":"_xlfn.XLOOKUP(F916,'Object Codes'!$A$18:$A$510,'Object Codes'!$G$18:$G$510)","v":0},{"$f":"_xlfn.XLOOKUP(A916,Agencies!$A$9:$A$146,Agencies!$B$9:$B$146)","v":"General Government"},{"$f":"IF(_xlfn.XLOOKUP(A916,Agencies!A:A,Agencies!D:D)=\"Y\",IF(_xlfn.XLOOKUP(F916,'Object Codes'!A:A,'Object Codes'!I:I)=\"Y\",\"Y\",\"N\"),\"N\")","v":"Y"},{"$f":"VLOOKUP(F916,'Object Codes'!$A:$C,3,0)","v":"Rentals - Miscellaneous Equipment"},{"$f":"VLOOKUP(A916,Agencies!A:C,3,0)","v":"Mayoralty"},0]
["002",2022,"001","351","3514","451",0,0,0,300,300,0,0,0,0,0,264.01,0,264.01,264.01,35.99,264.01,35.99,264.01,264.01,35.99,{"$f":"_xlfn.XLOOKUP(F917,'Object Codes'!$A$18:$A$510,'Object Codes'!$H$18:$H$510)","v":"Other Services and Charges - General"},{"$f":"_xlfn.XLOOKUP(F917,'Object Codes'!$A$18:$A$510,'Object Codes'!$G$18:$G$510)","v":0},{"$f":"_xlfn.XLOOKUP(A917,Agencies!$A$9:$A$146,Agencies!$B$9:$B$146)","v":"General Government"},{"$f":"IF(_xlfn.XLOOKUP(A917,Agencies!A:A,Agencies!D:D)=\"Y\",IF(_xlfn.XLOOKUP(F917,'Object Codes'!A:A,'Object Codes'!I:I)=\"Y\",\"Y\",\"N\"),\"N\")","v":"Y"},{"$f":"VLOOKUP(F917,'Object Codes'!$A:$C,3,0)","v":"Non Overnight Travel Expenditures - General"},{"$f":"VLOOKUP(A917,Agencies!A:C,3,0)","v":"Mayoralty"},0.72331506849315064]
["002",2022,"001","351","3514","452",0,0,0,500,500,0,0,0,0,0,0,0,0,0,500,0,500,0,0,500,{"$f":"_xlfn.XLOOKUP(F918,'Object Codes'!$A$18:$A$510,'Object Codes'!$H$18:$H$510)","v":"Other Services and Charges - General"},{"$f":"_xlfn.XLOOKUP(F918,'Object Codes'!$A$18:$A$510,'Object Codes'!$G$18:$G$510)","v":0},{"$f":"_xlfn.XLOOKUP(A918,Agencies!$A$9:$A$146,Agencies!$B$9:$B$146)","v":"General Government"},{"$f":"IF(_xlfn.XLOOKUP(A918,Agencies!A:A,Agencies!D:D)=\"Y\",IF(_xlfn.XLOOKUP(F918,'Object Codes'!A:A,'Object Codes'!I:I)=\"Y\",\"Y\",\"N\"),\"N\")","v":"Y"},{"$f":"VLOOKUP(F918,'Object Codes'!$A:$C,3,0)","v":"Non Overnight Travel Expenditures - Special"},{"$f":"VLOOKUP(A918,Agencies!A:C,3,0)","v":"Mayoralty"},0]
["002",2022,"001","351","3514","453",0,0,0,194,194,0,0,0,0,0,0,0,0,0,194,0,194,0,0,194,{"$f":"_xlfn.XLOOKUP(F919,'Object Codes'!$A$18:$A$510,'Object Codes'!$H$18:$H$510)","v":"Other Services and Charges - General"},{"$f":"_xlfn.XLOOKUP(F919,'Object Codes'!$A$18:$A$510,'Object Codes'!$G$18:$G$510)","v":0},{"$f":"_xlfn.XLOOKUP(A919,Agencies!$A$9:$A$146,Agencies!$B$9:$B$146)","v":"General Government"},{"$f":"IF(_xlfn.XLOOKUP(A919,Agencies!A:A,Agencies!D:D)=\"Y\",IF(_xlfn.XLOOKUP(F919,'Object Codes'!A:A,'Object Codes'!I:I)=\"Y\",\"Y\",\"N\"),\"N\")","v":"Y"},{"$f":"VLOOKUP(F919,'Object Codes'!$A:$C,3,0)","v":"Overnight Travel Expenditures - General"},{"$f":"VLOOKUP(A919,Agencies!A:C,3,0)","v":"Mayoralty"},0]
["002",2022,"001","351","3514","622",0,0,0,0,500,0,0,0,0,0,420,0,420,420,80,420,80,420,420,80,{"$f":"_xlfn.XLOOKUP(F920,'Object Codes'!$A$18:$A$510,'Object Codes'!$H$18:$H$510)","v":"Contractual Services"},{"$f":"_xlfn.XLOOKUP(F920,'Object Codes'!$A$18:$A$510,'Object Codes'!$G$18:$G$510)","v":0},{"$f":"_xlfn.XLOOKUP(A920,Agencies!$A$9:$A$146,Agencies!$B$9:$B$146)","v":"General Government"},{"$f":"IF(_xlfn.XLOOKUP(A920,Agencies!A:A,Agencies!D:D)=\"Y\",IF(_xlfn.XLOOKUP(F920,'Object Codes'!A:A,'Object Codes'!I:I)=\"Y\",\"Y\",\"N\"),\"N\")","v":"Y"},{"$f":"VLOOKUP(F920,'Object Codes'!$A:$C,3,0)","v":"Temporary Services - Contractual"},{"$f":"VLOOKUP(A920,Agencies!A:C,3,0)","v":"Mayoralty"},1.1506849315068493]
["002",2022,"001","380","3810","001",0,35,35,3842678,3271328,0,0,0,0,0,2848492.41,0,2848492.41,2848492.41,422835.59,2848492.41,422835.59,2848492.41,2848492.41,422835.59,{"$f":"_xlfn.XLOOKUP(F921,'Object Codes'!$A$18:$A$510,'Object Codes'!$H$18:$H$510)","v":"PS - Regular"},{"$f":"_xlfn.XLOOKUP(F921,'Object Codes'!$A$18:$A$510,'Object Codes'!$G$18:$G$510)","v":"C"},{"$f":"_xlfn.XLOOKUP(A921,Agencies!$A$9:$A$146,Agencies!$B$9:$B$146)","v":"General Government"},{"$f":"IF(_xlfn.XLOOKUP(A921,Agencies!A:A,Agencies!D:D)=\"Y\",IF(_xlfn.XLOOKUP(F921,'Object Codes'!A:A,'Object Codes'!I:I)=\"Y\",\"Y\",\"N\"),\"N\")","v":"Y"},{"$f":"VLOOKUP(F921,'Object Codes'!$A:$C,3,0)","v":"Full Year Positions"},{"$f":"VLOOKUP(A921,Agencies!A:C,3,0)","v":"Mayoralty"},7804.0887945205486]
["002",2022,"001","380","3810","046",0,0,0,0,0,0,0,0,0,0,0,59463.63,59463.63,59463.63,-59463.63,59463.63,-59463.63,59463.63,59463.63,-59463.63,{"$f":"_xlfn.XLOOKUP(F922,'Object Codes'!$A$18:$A$510,'Object Codes'!$H$18:$H$510)","v":"PS - Additional Gross"},{"$f":"_xlfn.XLOOKUP(F922,'Object Codes'!$A$18:$A$510,'Object Codes'!$G$18:$G$510)","v":"A"},{"$f":"_xlfn.XLOOKUP(A922,Agencies!$A$9:$A$146,Agencies!$B$9:$B$146)","v":"General Government"},{"$f":"IF(_xlfn.XLOOKUP(A922,Agencies!A:A,Agencies!D:D)=\"Y\",IF(_xlfn.XLOOKUP(F922,'Object Codes'!A:A,'Object Codes'!I:I)=\"Y\",\"Y\",\"N\"),\"N\")","v":"Y"},{"$f":"VLOOKUP(F922,'Object Codes'!$A:$C,3,0)","v":"Terminal Leave"},{"$f":"VLOOKUP(A922,Agencies!A:C,3,0)","v":"Mayoralty"},162.91405479452055]
["002",2022,"001","380","3810","047",0,0,0,3735,3735,0,0,0,0,0,0,0,0,0,3735,0,3735,0,0,3735,{"$f":"_xlfn.XLOOKUP(F923,'Object Codes'!$A$18:$A$510,'Object Codes'!$H$18:$H$510)","v":"PS - Additional Gross"},{"$f":"_xlfn.XLOOKUP(F923,'Object Codes'!$A$18:$A$510,'Object Codes'!$G$18:$G$510)","v":"C"},{"$f":"_xlfn.XLOOKUP(A923,Agencies!$A$9:$A$146,Agencies!$B$9:$B$146)","v":"General Government"},{"$f":"IF(_xlfn.XLOOKUP(A923,Agencies!A:A,Agencies!D:D)=\"Y\",IF(_xlfn.XLOOKUP(F923,'Object Codes'!A:A,'Object Codes'!I:I)=\"Y\",\"Y\",\"N\"),\"N\")","v":"Y"},{"$f":"VLOOKUP(F923,'Object Codes'!$A:$C,3,0)","v":"Overtime"},{"$f":"VLOOKUP(A923,Agencies!A:C,3,0)","v":"Mayoralty"},0]
["002",2022,"001","380","3810","049",0,0,0,0,0,0,0,0,0,0,53.49,0,53.49,53.49,-53.49,53.49,-53.49,53.49,53.49,-53.49,{"$f":"_xlfn.XLOOKUP(F924,'Object Codes'!$A$18:$A$510,'Object Codes'!$H$18:$H$510)","v":"PS - Additional Gross"},{"$f":"_xlfn.XLOOKUP(F924,'Object Codes'!$A$18:$A$510,'Object Codes'!$G$18:$G$510)","v":"A"},{"$f":"_xlfn.XLOOKUP(A924,Agencies!$A$9:$A$146,Agencies!$B$9:$B$146)","v":"General Government"},{"$f":"IF(_xlfn.XLOOKUP(A924,Agencies!A:A,Agencies!D:D)=\"Y\",IF(_xlfn.XLOOKUP(F924,'Object Codes'!A:A,'Object Codes'!I:I)=\"Y\",\"Y\",\"N\"),\"N\")","v":"Y"},{"$f":"VLOOKUP(F924,'Object Codes'!$A:$C,3,0)","v":"Backpay"},{"$f":"VLOOKUP(A924,Agencies!A:C,3,0)","v":"Mayoralty"},0.14654794520547945]
["002",2022,"001","380","3810","057",0,0,0,0,500,0,0,0,0,0,500,0,500,500,0,500,0,500,500,0,{"$f":"_xlfn.XLOOKUP(F925,'Object Codes'!$A$18:$A$510,'Object Codes'!$H$18:$H$510)","v":"PS - Additional Gross"},{"$f":"_xlfn.XLOOKUP(F925,'Object Codes'!$A$18:$A$510,'Object Codes'!$G$18:$G$510)","v":"A"},{"$f":"_xlfn.XLOOKUP(A925,Agencies!$A$9:$A$146,Agencies!$B$9:$B$146)","v":"General Government"},{"$f":"IF(_xlfn.XLOOKUP(A925,Agencies!A:A,Agencies!D:D)=\"Y\",IF(_xlfn.XLOOKUP(F925,'Object Codes'!A:A,'Object Codes'!I:I)=\"Y\",\"Y\",\"N\"),\"N\")","v":"Y"},{"$f":"VLOOKUP(F925,'Object Codes'!$A:$C,3,0)","v":"Bonus Payments"},{"$f":"VLOOKUP(A925,Agencies!A:C,3,0)","v":"Mayoralty"},1.3698630136986301]
["002",2022,"001","380","3810","X46",0,0,0,0,0,0,0,0,0,0,113948.55,0,113948.55,113948.55,-113948.55,113948.55,-113948.55,113948.55,113948.55,-113948.55,{"$f":"_xlfn.XLOOKUP(F926,'Object Codes'!$A$18:$A$510,'Object Codes'!$H$18:$H$510)","v":"PS - Additional Gross"},{"$f":"_xlfn.XLOOKUP(F926,'Object Codes'!$A$18:$A$510,'Object Codes'!$G$18:$G$510)","v":"A"},{"$f":"_xlfn.XLOOKUP(A926,Agencies!$A$9:$A$146,Agencies!$B$9:$B$146)","v":"General Government"},{"$f":"IF(_xlfn.XLOOKUP(A926,Agencies!A:A,Agencies!D:D)=\"Y\",IF(_xlfn.XLOOKUP(F926,'Object Codes'!A:A,'Object Codes'!I:I)=\"Y\",\"Y\",\"N\"),\"N\")","v":"Y"},{"$f":"VLOOKUP(F926,'Object Codes'!$A:$C,3,0)","v":"PY TERMINAL LEAVE"},{"$f":"VLOOKUP(A926,Agencies!A:C,3,0)","v":"Mayoralty"},312.18780821917807]
["002",2022,"001","380","3812","001",0,8,8,887535,887535,0,0,0,0,0,622857.06000000006,0,622857.06000000006,622857.06000000006,264677.94,622857.06000000006,264677.94,622857.06000000006,622857.06000000006,264677.94,{"$f":"_xlfn.XLOOKUP(F927,'Object Codes'!$A$18:$A$510,'Object Codes'!$H$18:$H$510)","v":"PS - Regular"},{"$f":"_xlfn.XLOOKUP(F927,'Object Codes'!$A$18:$A$510,'Object Codes'!$G$18:$G$510)","v":"C"},{"$f":"_xlfn.XLOOKUP(A927,Agencies!$A$9:$A$146,Agencies!$B$9:$B$146)","v":"General Government"},{"$f":"IF(_xlfn.XLOOKUP(A927,Agencies!A:A,Agencies!D:D)=\"Y\",IF(_xlfn.XLOOKUP(F927,'Object Codes'!A:A,'Object Codes'!I:I)=\"Y\",\"Y\",\"N\"),\"N\")","v":"Y"},{"$f":"VLOOKUP(F927,'Object Codes'!$A:$C,3,0)","v":"Full Year Positions"},{"$f":"VLOOKUP(A927,Agencies!A:C,3,0)","v":"Mayoralty"},1706.4576986301372]
["002",2022,"001","380","3812","046",0,0,0,0,0,0,0,0,0,0,11972,0,11972,11972,-11972,11972,-11972,11972,11972,-11972,{"$f":"_xlfn.XLOOKUP(F928,'Object Codes'!$A$18:$A$510,'Object Codes'!$H$18:$H$510)","v":"PS - Additional Gross"},{"$f":"_xlfn.XLOOKUP(F928,'Object Codes'!$A$18:$A$510,'Object Codes'!$G$18:$G$510)","v":"A"},{"$f":"_xlfn.XLOOKUP(A928,Agencies!$A$9:$A$146,Agencies!$B$9:$B$146)","v":"General Government"},{"$f":"IF(_xlfn.XLOOKUP(A928,Agencies!A:A,Agencies!D:D)=\"Y\",IF(_xlfn.XLOOKUP(F928,'Object Codes'!A:A,'Object Codes'!I:I)=\"Y\",\"Y\",\"N\"),\"N\")","v":"Y"},{"$f":"VLOOKUP(F928,'Object Codes'!$A:$C,3,0)","v":"Terminal Leave"},{"$f":"VLOOKUP(A928,Agencies!A:C,3,0)","v":"Mayoralty"},32.799999999999997]
["002",2022,"001","380","3815","001",0,0,0,0,0,0,0,0,0,0,61977.62,0,61977.62,61977.62,-61977.62,61977.62,-61977.62,61977.62,61977.62,-61977.62,{"$f":"_xlfn.XLOOKUP(F929,'Object Codes'!$A$18:$A$510,'Object Codes'!$H$18:$H$510)","v":"PS - Regular"},{"$f":"_xlfn.XLOOKUP(F929,'Object Codes'!$A$18:$A$510,'Object Codes'!$G$18:$G$510)","v":"C"},{"$f":"_xlfn.XLOOKUP(A929,Agencies!$A$9:$A$146,Agencies!$B$9:$B$146)","v":"General Government"},{"$f":"IF(_xlfn.XLOOKUP(A929,Agencies!A:A,Agencies!D:D)=\"Y\",IF(_xlfn.XLOOKUP(F929,'Object Codes'!A:A,'Object Codes'!I:I)=\"Y\",\"Y\",\"N\"),\"N\")","v":"Y"},{"$f":"VLOOKUP(F929,'Object Codes'!$A:$C,3,0)","v":"Full Year Positions"},{"$f":"VLOOKUP(A929,Agencies!A:C,3,0)","v":"Mayoralty"},169.801698630137]
["002",2022,"001","380","3825","001",0,6,6,787841,537841,0,0,0,0,0,304439.98,0,304439.98,304439.98,233401.02,304439.98,233401.02,304439.98,304439.98,233401.02,{"$f":"_xlfn.XLOOKUP(F930,'Object Codes'!$A$18:$A$510,'Object Codes'!$H$18:$H$510)","v":"PS - Regular"},{"$f":"_xlfn.XLOOKUP(F930,'Object Codes'!$A$18:$A$510,'Object Codes'!$G$18:$G$510)","v":"C"},{"$f":"_xlfn.XLOOKUP(A930,Agencies!$A$9:$A$146,Agencies!$B$9:$B$146)","v":"General Government"},{"$f":"IF(_xlfn.XLOOKUP(A930,Agencies!A:A,Agencies!D:D)=\"Y\",IF(_xlfn.XLOOKUP(F930,'Object Codes'!A:A,'Object Codes'!I:I)=\"Y\",\"Y\",\"N\"),\"N\")","v":"Y"},{"$f":"VLOOKUP(F930,'Object Codes'!$A:$C,3,0)","v":"Full Year Positions"},{"$f":"VLOOKUP(A930,Agencies!A:C,3,0)","v":"Mayoralty"},834.08213698630129]
["002",2022,"001","380","3830","001",0,0,0,39397,39397,0,0,0,0,0,189427.45,0,189427.45,189427.45,-150030.45000000001,189427.45,-150030.45000000001,189427.45,189427.45,-150030.45000000001,{"$f":"_xlfn.XLOOKUP(F931,'Object Codes'!$A$18:$A$510,'Object Codes'!$H$18:$H$510)","v":"PS - Regular"},{"$f":"_xlfn.XLOOKUP(F931,'Object Codes'!$A$18:$A$510,'Object Codes'!$G$18:$G$510)","v":"C"},{"$f":"_xlfn.XLOOKUP(A931,Agencies!$A$9:$A$146,Agencies!$B$9:$B$146)","v":"General Government"},{"$f":"IF(_xlfn.XLOOKUP(A931,Agencies!A:A,Agencies!D:D)=\"Y\",IF(_xlfn.XLOOKUP(F931,'Object Codes'!A:A,'Object Codes'!I:I)=\"Y\",\"Y\",\"N\"),\"N\")","v":"Y"},{"$f":"VLOOKUP(F931,'Object Codes'!$A:$C,3,0)","v":"Full Year Positions"},{"$f":"VLOOKUP(A931,Agencies!A:C,3,0)","v":"Mayoralty"},518.97931506849318]
["002",2022,"001","380","3830","046",0,0,0,0,0,0,0,0,0,0,10984.96,0,10984.96,10984.96,-10984.96,10984.96,-10984.96,10984.96,10984.96,-10984.96,{"$f":"_xlfn.XLOOKUP(F932,'Object Codes'!$A$18:$A$510,'Object Codes'!$H$18:$H$510)","v":"PS - Additional Gross"},{"$f":"_xlfn.XLOOKUP(F932,'Object Codes'!$A$18:$A$510,'Object Codes'!$G$18:$G$510)","v":"A"},{"$f":"_xlfn.XLOOKUP(A932,Agencies!$A$9:$A$146,Agencies!$B$9:$B$146)","v":"General Government"},{"$f":"IF(_xlfn.XLOOKUP(A932,Agencies!A:A,Agencies!D:D)=\"Y\",IF(_xlfn.XLOOKUP(F932,'Object Codes'!A:A,'Object Codes'!I:I)=\"Y\",\"Y\",\"N\"),\"N\")","v":"Y"},{"$f":"VLOOKUP(F932,'Object Codes'!$A:$C,3,0)","v":"Terminal Leave"},{"$f":"VLOOKUP(A932,Agencies!A:C,3,0)","v":"Mayoralty"},30.095780821917806]
["002",2022,"001","380","3830","X46",0,0,0,0,0,0,0,0,0,0,8286.01,0,8286.01,8286.01,-8286.01,8286.01,-8286.01,8286.01,8286.01,-8286.01,{"$f":"_xlfn.XLOOKUP(F933,'Object Codes'!$A$18:$A$510,'Object Codes'!$H$18:$H$510)","v":"PS - Additional Gross"},{"$f":"_xlfn.XLOOKUP(F933,'Object Codes'!$A$18:$A$510,'Object Codes'!$G$18:$G$510)","v":"A"},{"$f":"_xlfn.XLOOKUP(A933,Agencies!$A$9:$A$146,Agencies!$B$9:$B$146)","v":"General Government"},{"$f":"IF(_xlfn.XLOOKUP(A933,Agencies!A:A,Agencies!D:D)=\"Y\",IF(_xlfn.XLOOKUP(F933,'Object Codes'!A:A,'Object Codes'!I:I)=\"Y\",\"Y\",\"N\"),\"N\")","v":"Y"},{"$f":"VLOOKUP(F933,'Object Codes'!$A:$C,3,0)","v":"PY TERMINAL LEAVE"},{"$f":"VLOOKUP(A933,Agencies!A:C,3,0)","v":"Mayoralty"},22.701397260273975]
["002",2022,"001","380","3835","001",0,0,0,0,0,0,0,0,0,0,80666.34,0,80666.34,80666.34,-80666.34,80666.34,-80666.34,80666.34,80666.34,-80666.34,{"$f":"_xlfn.XLOOKUP(F934,'Object Codes'!$A$18:$A$510,'Object Codes'!$H$18:$H$510)","v":"PS - Regular"},{"$f":"_xlfn.XLOOKUP(F934,'Object Codes'!$A$18:$A$510,'Object Codes'!$G$18:$G$510)","v":"C"},{"$f":"_xlfn.XLOOKUP(A934,Agencies!$A$9:$A$146,Agencies!$B$9:$B$146)","v":"General Government"},{"$f":"IF(_xlfn.XLOOKUP(A934,Agencies!A:A,Agencies!D:D)=\"Y\",IF(_xlfn.XLOOKUP(F934,'Object Codes'!A:A,'Object Codes'!I:I)=\"Y\",\"Y\",\"N\"),\"N\")","v":"Y"},{"$f":"VLOOKUP(F934,'Object Codes'!$A:$C,3,0)","v":"Full Year Positions"},{"$f":"VLOOKUP(A934,Agencies!A:C,3,0)","v":"Mayoralty"},221.00367123287671]
["002",2022,"001","380","3840","046",0,0,0,0,0,0,0,0,0,0,0,26300.23,26300.23,26300.23,-26300.23,26300.23,-26300.23,26300.23,26300.23,-26300.23,{"$f":"_xlfn.XLOOKUP(F935,'Object Codes'!$A$18:$A$510,'Object Codes'!$H$18:$H$510)","v":"PS - Additional Gross"},{"$f":"_xlfn.XLOOKUP(F935,'Object Codes'!$A$18:$A$510,'Object Codes'!$G$18:$G$510)","v":"A"},{"$f":"_xlfn.XLOOKUP(A935,Agencies!$A$9:$A$146,Agencies!$B$9:$B$146)","v":"General Government"},{"$f":"IF(_xlfn.XLOOKUP(A935,Agencies!A:A,Agencies!D:D)=\"Y\",IF(_xlfn.XLOOKUP(F935,'Object Codes'!A:A,'Object Codes'!I:I)=\"Y\",\"Y\",\"N\"),\"N\")","v":"Y"},{"$f":"VLOOKUP(F935,'Object Codes'!$A:$C,3,0)","v":"Terminal Leave"},{"$f":"VLOOKUP(A935,Agencies!A:C,3,0)","v":"Mayoralty"},72.055424657534246]
["002",2022,"001","380","3850","001",0,7,7,342002,341502,0,0,0,0,0,299747.06,0,299747.06,299747.06,41754.94,299747.06,41754.94,299747.06,299747.06,41754.94,{"$f":"_xlfn.XLOOKUP(F936,'Object Codes'!$A$18:$A$510,'Object Codes'!$H$18:$H$510)","v":"PS - Regular"},{"$f":"_xlfn.XLOOKUP(F936,'Object Codes'!$A$18:$A$510,'Object Codes'!$G$18:$G$510)","v":"C"},{"$f":"_xlfn.XLOOKUP(A936,Agencies!$A$9:$A$146,Agencies!$B$9:$B$146)","v":"General Government"},{"$f":"IF(_xlfn.XLOOKUP(A936,Agencies!A:A,Agencies!D:D)=\"Y\",IF(_xlfn.XLOOKUP(F936,'Object Codes'!A:A,'Object Codes'!I:I)=\"Y\",\"Y\",\"N\"),\"N\")","v":"Y"},{"$f":"VLOOKUP(F936,'Object Codes'!$A:$C,3,0)","v":"Full Year Positions"},{"$f":"VLOOKUP(A936,Agencies!A:C,3,0)","v":"Mayoralty"},821.22482191780819]
["002",2022,"001","380","3850","042",0,0,0,0,0,0,0,0,0,0,5150.9399999999996,0,5150.9399999999996,5150.9399999999996,-5150.9399999999996,5150.9399999999996,-5150.9399999999996,5150.9399999999996,5150.9399999999996,-5150.9399999999996,{"$f":"_xlfn.XLOOKUP(F937,'Object Codes'!$A$18:$A$510,'Object Codes'!$H$18:$H$510)","v":"PS - Additional Gross"},{"$f":"_xlfn.XLOOKUP(F937,'Object Codes'!$A$18:$A$510,'Object Codes'!$G$18:$G$510)","v":"A"},{"$f":"_xlfn.XLOOKUP(A937,Agencies!$A$9:$A$146,Agencies!$B$9:$B$146)","v":"General Government"},{"$f":"IF(_xlfn.XLOOKUP(A937,Agencies!A:A,Agencies!D:D)=\"Y\",IF(_xlfn.XLOOKUP(F937,'Object Codes'!A:A,'Object Codes'!I:I)=\"Y\",\"Y\",\"N\"),\"N\")","v":"Y"},{"$f":"VLOOKUP(F937,'Object Codes'!$A:$C,3,0)","v":"Longevity Differential"},{"$f":"VLOOKUP(A937,Agencies!A:C,3,0)","v":"Mayoralty"},14.112164383561643]
["002",2022,"001","380","3850","046",0,0,0,0,0,0,0,0,0,0,793.18,0,793.18,793.18,-793.18,793.18,-793.18,793.18,793.18,-793.18,{"$f":"_xlfn.XLOOKUP(F938,'Object Codes'!$A$18:$A$510,'Object Codes'!$H$18:$H$510)","v":"PS - Additional Gross"},{"$f":"_xlfn.XLOOKUP(F938,'Object Codes'!$A$18:$A$510,'Object Codes'!$G$18:$G$510)","v":"A"},{"$f":"_xlfn.XLOOKUP(A938,Agencies!$A$9:$A$146,Agencies!$B$9:$B$146)","v":"General Government"},{"$f":"IF(_xlfn.XLOOKUP(A938,Agencies!A:A,Agencies!D:D)=\"Y\",IF(_xlfn.XLOOKUP(F938,'Object Codes'!A:A,'Object Codes'!I:I)=\"Y\",\"Y\",\"N\"),\"N\")","v":"Y"},{"$f":"VLOOKUP(F938,'Object Codes'!$A:$C,3,0)","v":"Terminal Leave"},{"$f":"VLOOKUP(A938,Agencies!A:C,3,0)","v":"Mayoralty"},2.1730958904109587]
["002",2022,"001","380","3850","057",0,0,0,0,500,0,0,0,0,0,500,0,500,500,0,500,0,500,500,0,{"$f":"_xlfn.XLOOKUP(F939,'Object Codes'!$A$18:$A$510,'Object Codes'!$H$18:$H$510)","v":"PS - Additional Gross"},{"$f":"_xlfn.XLOOKUP(F939,'Object Codes'!$A$18:$A$510,'Object Codes'!$G$18:$G$510)","v":"A"},{"$f":"_xlfn.XLOOKUP(A939,Agencies!$A$9:$A$146,Agencies!$B$9:$B$146)","v":"General Government"},{"$f":"IF(_xlfn.XLOOKUP(A939,Agencies!A:A,Agencies!D:D)=\"Y\",IF(_xlfn.XLOOKUP(F939,'Object Codes'!A:A,'Object Codes'!I:I)=\"Y\",\"Y\",\"N\"),\"N\")","v":"Y"},{"$f":"VLOOKUP(F939,'Object Codes'!$A:$C,3,0)","v":"Bonus Payments"},{"$f":"VLOOKUP(A939,Agencies!A:C,3,0)","v":"Mayoralty"},1.3698630136986301]
["002",2022,"001","380","A600","001",0,24,24,2731021,2731021,0,0,0,0,0,2014293.85,0,2014293.85,2014293.85,716727.15,2014293.85,716727.15,2014293.85,2014293.85,716727.15,{"$f":"_xlfn.XLOOKUP(F940,'Object Codes'!$A$18:$A$510,'Object Codes'!$H$18:$H$510)","v":"PS - Regular"},{"$f":"_xlfn.XLOOKUP(F940,'Object Codes'!$A$18:$A$510,'Object Codes'!$G$18:$G$510)","v":"C"},{"$f":"_xlfn.XLOOKUP(A940,Agencies!$A$9:$A$146,Agencies!$B$9:$B$146)","v":"General Government"},{"$f":"IF(_xlfn.XLOOKUP(A940,Agencies!A:A,Agencies!D:D)=\"Y\",IF(_xlfn.XLOOKUP(F940,'Object Codes'!A:A,'Object Codes'!I:I)=\"Y\",\"Y\",\"N\"),\"N\")","v":"Y"},{"$f":"VLOOKUP(F940,'Object Codes'!$A:$C,3,0)","v":"Full Year Positions"},{"$f":"VLOOKUP(A940,Agencies!A:C,3,0)","v":"Mayoralty"},5518.6132876712327]
["002",2022,"001","380","A600","031",0,0,0,0,0,0,0,0,0,0,8164,0,8164,8164,-8164,8164,-8164,8164,8164,-8164,{"$f":"_xlfn.XLOOKUP(F941,'Object Codes'!$A$18:$A$510,'Object Codes'!$H$18:$H$510)","v":"PS - Regular"},{"$f":"_xlfn.XLOOKUP(F941,'Object Codes'!$A$18:$A$510,'Object Codes'!$G$18:$G$510)","v":"C"},{"$f":"_xlfn.XLOOKUP(A941,Agencies!$A$9:$A$146,Agencies!$B$9:$B$146)","v":"General Government"},{"$f":"IF(_xlfn.XLOOKUP(A941,Agencies!A:A,Agencies!D:D)=\"Y\",IF(_xlfn.XLOOKUP(F941,'Object Codes'!A:A,'Object Codes'!I:I)=\"Y\",\"Y\",\"N\"),\"N\")","v":"Y"},{"$f":"VLOOKUP(F941,'Object Codes'!$A:$C,3,0)","v":"Hourly Positions"},{"$f":"VLOOKUP(A941,Agencies!A:C,3,0)","v":"Mayoralty"},22.367123287671234]
["002",2022,"001","380","A600","046",0,0,0,0,0,0,0,0,0,0,16465.95,0,16465.95,16465.95,-16465.95,16465.95,-16465.95,16465.95,16465.95,-16465.95,{"$f":"_xlfn.XLOOKUP(F942,'Object Codes'!$A$18:$A$510,'Object Codes'!$H$18:$H$510)","v":"PS - Additional Gross"},{"$f":"_xlfn.XLOOKUP(F942,'Object Codes'!$A$18:$A$510,'Object Codes'!$G$18:$G$510)","v":"A"},{"$f":"_xlfn.XLOOKUP(A942,Agencies!$A$9:$A$146,Agencies!$B$9:$B$146)","v":"General Government"},{"$f":"IF(_xlfn.XLOOKUP(A942,Agencies!A:A,Agencies!D:D)=\"Y\",IF(_xlfn.XLOOKUP(F942,'Object Codes'!A:A,'Object Codes'!I:I)=\"Y\",\"Y\",\"N\"),\"N\")","v":"Y"},{"$f":"VLOOKUP(F942,'Object Codes'!$A:$C,3,0)","v":"Terminal Leave"},{"$f":"VLOOKUP(A942,Agencies!A:C,3,0)","v":"Mayoralty"},45.112191780821917]
["002",2022,"001","380","A600","X46",0,0,0,0,0,0,0,0,0,0,1618.61,0,1618.61,1618.61,-1618.61,1618.61,-1618.61,1618.61,1618.61,-1618.61,{"$f":"_xlfn.XLOOKUP(F943,'Object Codes'!$A$18:$A$510,'Object Codes'!$H$18:$H$510)","v":"PS - Additional Gross"},{"$f":"_xlfn.XLOOKUP(F943,'Object Codes'!$A$18:$A$510,'Object Codes'!$G$18:$G$510)","v":"A"},{"$f":"_xlfn.XLOOKUP(A943,Agencies!$A$9:$A$146,Agencies!$B$9:$B$146)","v":"General Government"},{"$f":"IF(_xlfn.XLOOKUP(A943,Agencies!A:A,Agencies!D:D)=\"Y\",IF(_xlfn.XLOOKUP(F943,'Object Codes'!A:A,'Object Codes'!I:I)=\"Y\",\"Y\",\"N\"),\"N\")","v":"Y"},{"$f":"VLOOKUP(F943,'Object Codes'!$A:$C,3,0)","v":"PY TERMINAL LEAVE"},{"$f":"VLOOKUP(A943,Agencies!A:C,3,0)","v":"Mayoralty"},4.4345479452054795]
["002",2022,"001","381","3814","100",0,0,0,23229,1501,0,0,0,0,0,1381.21,0,1381.21,1381.21,119.79,1381.21,119.79,1381.21,1381.21,119.79,{"$f":"_xlfn.XLOOKUP(F944,'Object Codes'!$A$18:$A$510,'Object Codes'!$H$18:$H$510)","v":"Supplies & Materials"},{"$f":"_xlfn.XLOOKUP(F944,'Object Codes'!$A$18:$A$510,'Object Codes'!$G$18:$G$510)","v":"A"},{"$f":"_xlfn.XLOOKUP(A944,Agencies!$A$9:$A$146,Agencies!$B$9:$B$146)","v":"General Government"},{"$f":"IF(_xlfn.XLOOKUP(A944,Agencies!A:A,Agencies!D:D)=\"Y\",IF(_xlfn.XLOOKUP(F944,'Object Codes'!A:A,'Object Codes'!I:I)=\"Y\",\"Y\",\"N\"),\"N\")","v":"Y"},{"$f":"VLOOKUP(F944,'Object Codes'!$A:$C,3,0)","v":"Supplies and Materials - General"},{"$f":"VLOOKUP(A944,Agencies!A:C,3,0)","v":"Mayoralty"},3.7841369863013701]
["002",2022,"001","381","3814","101",0,0,0,350,0,0,0,0,0,0,0,0,0,0,0,0,0,0,0,0,{"$f":"_xlfn.XLOOKUP(F945,'Object Codes'!$A$18:$A$510,'Object Codes'!$H$18:$H$510)","v":"Supplies & Materials"},{"$f":"_xlfn.XLOOKUP(F945,'Object Codes'!$A$18:$A$510,'Object Codes'!$G$18:$G$510)","v":"A"},{"$f":"_xlfn.XLOOKUP(A945,Agencies!$A$9:$A$146,Agencies!$B$9:$B$146)","v":"General Government"},{"$f":"IF(_xlfn.XLOOKUP(A945,Agencies!A:A,Agencies!D:D)=\"Y\",IF(_xlfn.XLOOKUP(F945,'Object Codes'!A:A,'Object Codes'!I:I)=\"Y\",\"Y\",\"N\"),\"N\")","v":"Y"},{"$f":"VLOOKUP(F945,'Object Codes'!$A:$C,3,0)","v":"Printing Supplies"},{"$f":"VLOOKUP(A945,Agencies!A:C,3,0)","v":"Mayoralty"},0]
["002",2022,"001","381","3814","10X",0,0,0,2016,2016,0,0,0,0,0,0,0,0,0,2016,0,2016,0,0,2016,{"$f":"_xlfn.XLOOKUP(F946,'Object Codes'!$A$18:$A$510,'Object Codes'!$H$18:$H$510)","v":"Supplies & Materials"},{"$f":"_xlfn.XLOOKUP(F946,'Object Codes'!$A$18:$A$510,'Object Codes'!$G$18:$G$510)","v":"A"},{"$f":"_xlfn.XLOOKUP(A946,Agencies!$A$9:$A$146,Agencies!$B$9:$B$146)","v":"General Government"},{"$f":"IF(_xlfn.XLOOKUP(A946,Agencies!A:A,Agencies!D:D)=\"Y\",IF(_xlfn.XLOOKUP(F946,'Object Codes'!A:A,'Object Codes'!I:I)=\"Y\",\"Y\",\"N\"),\"N\")","v":"Y"},{"$f":"VLOOKUP(F946,'Object Codes'!$A:$C,3,0)","v":"SUPPLIES + MATERIALS - GENERAL"},{"$f":"VLOOKUP(A946,Agencies!A:C,3,0)","v":"Mayoralty"},0]
["002",2022,"001","381","3814","110",0,0,0,1000,1585,0,0,0,0,0,1030.1199999999999,0,1030.1199999999999,1030.1199999999999,554.88,1030.1199999999999,554.88,1030.1199999999999,1030.1199999999999,554.88,{"$f":"_xlfn.XLOOKUP(F947,'Object Codes'!$A$18:$A$510,'Object Codes'!$H$18:$H$510)","v":"Supplies & Materials"},{"$f":"_xlfn.XLOOKUP(F947,'Object Codes'!$A$18:$A$510,'Object Codes'!$G$18:$G$510)","v":"A"},{"$f":"_xlfn.XLOOKUP(A947,Agencies!$A$9:$A$146,Agencies!$B$9:$B$146)","v":"General Government"},{"$f":"IF(_xlfn.XLOOKUP(A947,Agencies!A:A,Agencies!D:D)=\"Y\",IF(_xlfn.XLOOKUP(F947,'Object Codes'!A:A,'Object Codes'!I:I)=\"Y\",\"Y\",\"N\"),\"N\")","v":"Y"},{"$f":"VLOOKUP(F947,'Object Codes'!$A:$C,3,0)","v":"Food and Forage Supplies"},{"$f":"VLOOKUP(A947,Agencies!A:C,3,0)","v":"Mayoralty"},2.8222465753424655]
["002",2022,"001","381","3814","117",0,0,0,1152,0,0,0,0,0,0,0,0,0,0,0,0,0,0,0,0,{"$f":"_xlfn.XLOOKUP(F948,'Object Codes'!$A$18:$A$510,'Object Codes'!$H$18:$H$510)","v":"Supplies & Materials"},{"$f":"_xlfn.XLOOKUP(F948,'Object Codes'!$A$18:$A$510,'Object Codes'!$G$18:$G$510)","v":"A"},{"$f":"_xlfn.XLOOKUP(A948,Agencies!$A$9:$A$146,Agencies!$B$9:$B$146)","v":"General Government"},{"$f":"IF(_xlfn.XLOOKUP(A948,Agencies!A:A,Agencies!D:D)=\"Y\",IF(_xlfn.XLOOKUP(F948,'Object Codes'!A:A,'Object Codes'!I:I)=\"Y\",\"Y\",\"N\"),\"N\")","v":"Y"},{"$f":"VLOOKUP(F948,'Object Codes'!$A:$C,3,0)","v":"Postage"},{"$f":"VLOOKUP(A948,Agencies!A:C,3,0)","v":"Mayoralty"},0]
["002",2022,"001","381","3814","199",0,0,0,4950,0,0,0,0,0,0,0,0,0,0,0,0,0,0,0,0,{"$f":"_xlfn.XLOOKUP(F949,'Object Codes'!$A$18:$A$510,'Object Codes'!$H$18:$H$510)","v":"Supplies & Materials"},{"$f":"_xlfn.XLOOKUP(F949,'Object Codes'!$A$18:$A$510,'Object Codes'!$G$18:$G$510)","v":"A"},{"$f":"_xlfn.XLOOKUP(A949,Agencies!$A$9:$A$146,Agencies!$B$9:$B$146)","v":"General Government"},{"$f":"IF(_xlfn.XLOOKUP(A949,Agencies!A:A,Agencies!D:D)=\"Y\",IF(_xlfn.XLOOKUP(F949,'Object Codes'!A:A,'Object Codes'!I:I)=\"Y\",\"Y\",\"N\"),\"N\")","v":"Y"},{"$f":"VLOOKUP(F949,'Object Codes'!$A:$C,3,0)","v":"Data Processing Supplies"},{"$f":"VLOOKUP(A949,Agencies!A:C,3,0)","v":"Mayoralty"},0]
["002",2022,"001","381","3814","300",0,0,0,733,0,0,0,0,0,0,0,0,0,0,0,0,0,0,0,0,{"$f":"_xlfn.XLOOKUP(F950,'Object Codes'!$A$18:$A$510,'Object Codes'!$H$18:$H$510)","v":"Equipment"},{"$f":"_xlfn.XLOOKUP(F950,'Object Codes'!$A$18:$A$510,'Object Codes'!$G$18:$G$510)","v":"A"},{"$f":"_xlfn.XLOOKUP(A950,Agencies!$A$9:$A$146,Agencies!$B$9:$B$146)","v":"General Government"},{"$f":"IF(_xlfn.XLOOKUP(A950,Agencies!A:A,Agencies!D:D)=\"Y\",IF(_xlfn.XLOOKUP(F950,'Object Codes'!A:A,'Object Codes'!I:I)=\"Y\",\"Y\",\"N\"),\"N\")","v":"Y"},{"$f":"VLOOKUP(F950,'Object Codes'!$A:$C,3,0)","v":"Equipment - General"},{"$f":"VLOOKUP(A950,Agencies!A:C,3,0)","v":"Mayoralty"},0]
["002",2022,"001","381","3814","314",0,0,0,1150,0,0,0,0,0,0,0,0,0,0,0,0,0,0,0,0,{"$f":"_xlfn.XLOOKUP(F951,'Object Codes'!$A$18:$A$510,'Object Codes'!$H$18:$H$510)","v":"Equipment"},{"$f":"_xlfn.XLOOKUP(F951,'Object Codes'!$A$18:$A$510,'Object Codes'!$G$18:$G$510)","v":"A"},{"$f":"_xlfn.XLOOKUP(A951,Agencies!$A$9:$A$146,Agencies!$B$9:$B$146)","v":"General Government"},{"$f":"IF(_xlfn.XLOOKUP(A951,Agencies!A:A,Agencies!D:D)=\"Y\",IF(_xlfn.XLOOKUP(F951,'Object Codes'!A:A,'Object Codes'!I:I)=\"Y\",\"Y\",\"N\"),\"N\")","v":"Y"},{"$f":"VLOOKUP(F951,'Object Codes'!$A:$C,3,0)","v":"Office Furniture"},{"$f":"VLOOKUP(A951,Agencies!A:C,3,0)","v":"Mayoralty"},0]
["002",2022,"001","381","3814","315",0,0,0,519,0,0,0,0,0,0,0,0,0,0,0,0,0,0,0,0,{"$f":"_xlfn.XLOOKUP(F952,'Object Codes'!$A$18:$A$510,'Object Codes'!$H$18:$H$510)","v":"Equipment"},{"$f":"_xlfn.XLOOKUP(F952,'Object Codes'!$A$18:$A$510,'Object Codes'!$G$18:$G$510)","v":"A"},{"$f":"_xlfn.XLOOKUP(A952,Agencies!$A$9:$A$146,Agencies!$B$9:$B$146)","v":"General Government"},{"$f":"IF(_xlfn.XLOOKUP(A952,Agencies!A:A,Agencies!D:D)=\"Y\",IF(_xlfn.XLOOKUP(F952,'Object Codes'!A:A,'Object Codes'!I:I)=\"Y\",\"Y\",\"N\"),\"N\")","v":"Y"},{"$f":"VLOOKUP(F952,'Object Codes'!$A:$C,3,0)","v":"Office Equipment"},{"$f":"VLOOKUP(A952,Agencies!A:C,3,0)","v":"Mayoralty"},0]
["002",2022,"001","381","3814","332",0,0,0,4499,0,0,0,0,0,0,0,0,0,0,0,0,0,0,0,0,{"$f":"_xlfn.XLOOKUP(F953,'Object Codes'!$A$18:$A$510,'Object Codes'!$H$18:$H$510)","v":"Equipment"},{"$f":"_xlfn.XLOOKUP(F953,'Object Codes'!$A$18:$A$510,'Object Codes'!$G$18:$G$510)","v":"A"},{"$f":"_xlfn.XLOOKUP(A953,Agencies!$A$9:$A$146,Agencies!$B$9:$B$146)","v":"General Government"},{"$f":"IF(_xlfn.XLOOKUP(A953,Agencies!A:A,Agencies!D:D)=\"Y\",IF(_xlfn.XLOOKUP(F953,'Object Codes'!A:A,'Object Codes'!I:I)=\"Y\",\"Y\",\"N\"),\"N\")","v":"Y"},{"$f":"VLOOKUP(F953,'Object Codes'!$A:$C,3,0)","v":"Purchases of Data Processing Equipment"},{"$f":"VLOOKUP(A953,Agencies!A:C,3,0)","v":"Mayoralty"},0]
["002",2022,"001","381","3814","337",0,0,0,1000,4040,0,0,0,0,0,4040,0,4040,4040,0,4040,0,4040,4040,0,{"$f":"_xlfn.XLOOKUP(F954,'Object Codes'!$A$18:$A$510,'Object Codes'!$H$18:$H$510)","v":"Equipment"},{"$f":"_xlfn.XLOOKUP(F954,'Object Codes'!$A$18:$A$510,'Object Codes'!$G$18:$G$510)","v":"A"},{"$f":"_xlfn.XLOOKUP(A954,Agencies!$A$9:$A$146,Agencies!$B$9:$B$146)","v":"General Government"},{"$f":"IF(_xlfn.XLOOKUP(A954,Agencies!A:A,Agencies!D:D)=\"Y\",IF(_xlfn.XLOOKUP(F954,'Object Codes'!A:A,'Object Codes'!I:I)=\"Y\",\"Y\",\"N\"),\"N\")","v":"Y"},{"$f":"VLOOKUP(F954,'Object Codes'!$A:$C,3,0)","v":"Books - Other"},{"$f":"VLOOKUP(A954,Agencies!A:C,3,0)","v":"Mayoralty"},11.068493150684931]
["002",2022,"001","381","3814","400",0,0,0,1616,0,0,0,0,0,0,0,0,0,0,0,0,0,0,0,0,{"$f":"_xlfn.XLOOKUP(F955,'Object Codes'!$A$18:$A$510,'Object Codes'!$H$18:$H$510)","v":"Other Services and Charges - General"},{"$f":"_xlfn.XLOOKUP(F955,'Object Codes'!$A$18:$A$510,'Object Codes'!$G$18:$G$510)","v":0},{"$f":"_xlfn.XLOOKUP(A955,Agencies!$A$9:$A$146,Agencies!$B$9:$B$146)","v":"General Government"},{"$f":"IF(_xlfn.XLOOKUP(A955,Agencies!A:A,Agencies!D:D)=\"Y\",IF(_xlfn.XLOOKUP(F955,'Object Codes'!A:A,'Object Codes'!I:I)=\"Y\",\"Y\",\"N\"),\"N\")","v":"Y"},{"$f":"VLOOKUP(F955,'Object Codes'!$A:$C,3,0)","v":"Other Services and Charges - General"},{"$f":"VLOOKUP(A955,Agencies!A:C,3,0)","v":"Mayoralty"},0]
["002",2022,"001","381","3814","402",0,0,0,1575,0,0,0,0,0,0,0,0,0,0,0,0,0,0,0,0,{"$f":"_xlfn.XLOOKUP(F956,'Object Codes'!$A$18:$A$510,'Object Codes'!$H$18:$H$510)","v":"Other Services and Charges - General"},{"$f":"_xlfn.XLOOKUP(F956,'Object Codes'!$A$18:$A$510,'Object Codes'!$G$18:$G$510)","v":0},{"$f":"_xlfn.XLOOKUP(A956,Agencies!$A$9:$A$146,Agencies!$B$9:$B$146)","v":"General Government"},{"$f":"IF(_xlfn.XLOOKUP(A956,Agencies!A:A,Agencies!D:D)=\"Y\",IF(_xlfn.XLOOKUP(F956,'Object Codes'!A:A,'Object Codes'!I:I)=\"Y\",\"Y\",\"N\"),\"N\")","v":"Y"},{"$f":"VLOOKUP(F956,'Object Codes'!$A:$C,3,0)","v":"Telephone and Other Communications"},{"$f":"VLOOKUP(A956,Agencies!A:C,3,0)","v":"Mayoralty"},0]
["002",2022,"001","381","3814","403",0,0,0,7300,245,0,0,0,0,0,245,0,245,245,0,245,0,245,245,0,{"$f":"_xlfn.XLOOKUP(F957,'Object Codes'!$A$18:$A$510,'Object Codes'!$H$18:$H$510)","v":"Other Services and Charges - General"},{"$f":"_xlfn.XLOOKUP(F957,'Object Codes'!$A$18:$A$510,'Object Codes'!$G$18:$G$510)","v":0},{"$f":"_xlfn.XLOOKUP(A957,Agencies!$A$9:$A$146,Agencies!$B$9:$B$146)","v":"General Government"},{"$f":"IF(_xlfn.XLOOKUP(A957,Agencies!A:A,Agencies!D:D)=\"Y\",IF(_xlfn.XLOOKUP(F957,'Object Codes'!A:A,'Object Codes'!I:I)=\"Y\",\"Y\",\"N\"),\"N\")","v":"Y"},{"$f":"VLOOKUP(F957,'Object Codes'!$A:$C,3,0)","v":"Office Services"},{"$f":"VLOOKUP(A957,Agencies!A:C,3,0)","v":"Mayoralty"},0.67123287671232879]
["002",2022,"001","381","3814","404",0,0,0,195,0,0,0,0,0,0,0,0,0,0,0,0,0,0,0,0,{"$f":"_xlfn.XLOOKUP(F958,'Object Codes'!$A$18:$A$510,'Object Codes'!$H$18:$H$510)","v":"Other Services and Charges - General"},{"$f":"_xlfn.XLOOKUP(F958,'Object Codes'!$A$18:$A$510,'Object Codes'!$G$18:$G$510)","v":0},{"$f":"_xlfn.XLOOKUP(A958,Agencies!$A$9:$A$146,Agencies!$B$9:$B$146)","v":"General Government"},{"$f":"IF(_xlfn.XLOOKUP(A958,Agencies!A:A,Agencies!D:D)=\"Y\",IF(_xlfn.XLOOKUP(F958,'Object Codes'!A:A,'Object Codes'!I:I)=\"Y\",\"Y\",\"N\"),\"N\")","v":"Y"},{"$f":"VLOOKUP(F958,'Object Codes'!$A:$C,3,0)","v":"Traveling Expenses"},{"$f":"VLOOKUP(A958,Agencies!A:C,3,0)","v":"Mayoralty"},0]
["002",2022,"001","381","3814","407",0,0,0,299,0,0,0,0,0,0,0,0,0,0,0,0,0,0,0,0,{"$f":"_xlfn.XLOOKUP(F959,'Object Codes'!$A$18:$A$510,'Object Codes'!$H$18:$H$510)","v":"Other Services and Charges - General"},{"$f":"_xlfn.XLOOKUP(F959,'Object Codes'!$A$18:$A$510,'Object Codes'!$G$18:$G$510)","v":0},{"$f":"_xlfn.XLOOKUP(A959,Agencies!$A$9:$A$146,Agencies!$B$9:$B$146)","v":"General Government"},{"$f":"IF(_xlfn.XLOOKUP(A959,Agencies!A:A,Agencies!D:D)=\"Y\",IF(_xlfn.XLOOKUP(F959,'Object Codes'!A:A,'Object Codes'!I:I)=\"Y\",\"Y\",\"N\"),\"N\")","v":"Y"},{"$f":"VLOOKUP(F959,'Object Codes'!$A:$C,3,0)","v":"Maintenance and Repairs - Motor Vehicle Equipment"},{"$f":"VLOOKUP(A959,Agencies!A:C,3,0)","v":"Mayoralty"},0]
["002",2022,"001","381","3814","412",0,0,0,0,180,0,0,0,0,0,165,0,165,165,15,165,15,165,165,15,{"$f":"_xlfn.XLOOKUP(F960,'Object Codes'!$A$18:$A$510,'Object Codes'!$H$18:$H$510)","v":"Other Services and Charges - General"},{"$f":"_xlfn.XLOOKUP(F960,'Object Codes'!$A$18:$A$510,'Object Codes'!$G$18:$G$510)","v":0},{"$f":"_xlfn.XLOOKUP(A960,Agencies!$A$9:$A$146,Agencies!$B$9:$B$146)","v":"General Government"},{"$f":"IF(_xlfn.XLOOKUP(A960,Agencies!A:A,Agencies!D:D)=\"Y\",IF(_xlfn.XLOOKUP(F960,'Object Codes'!A:A,'Object Codes'!I:I)=\"Y\",\"Y\",\"N\"),\"N\")","v":"Y"},{"$f":"VLOOKUP(F960,'Object Codes'!$A:$C,3,0)","v":"Rentals - Miscellaneous Equipment"},{"$f":"VLOOKUP(A960,Agencies!A:C,3,0)","v":"Mayoralty"},0.45205479452054792]
["002",2022,"001","381","3814","417",0,0,0,9500,0,0,0,0,0,0,0,0,0,0,0,0,0,0,0,0,{"$f":"_xlfn.XLOOKUP(F961,'Object Codes'!$A$18:$A$510,'Object Codes'!$H$18:$H$510)","v":"Other Services and Charges - General"},{"$f":"_xlfn.XLOOKUP(F961,'Object Codes'!$A$18:$A$510,'Object Codes'!$G$18:$G$510)","v":0},{"$f":"_xlfn.XLOOKUP(A961,Agencies!$A$9:$A$146,Agencies!$B$9:$B$146)","v":"General Government"},{"$f":"IF(_xlfn.XLOOKUP(A961,Agencies!A:A,Agencies!D:D)=\"Y\",IF(_xlfn.XLOOKUP(F961,'Object Codes'!A:A,'Object Codes'!I:I)=\"Y\",\"Y\",\"N\"),\"N\")","v":"Y"},{"$f":"VLOOKUP(F961,'Object Codes'!$A:$C,3,0)","v":"Advertising"},{"$f":"VLOOKUP(A961,Agencies!A:C,3,0)","v":"Mayoralty"},0]
["002",2022,"001","381","3814","427",0,0,0,100,0,0,0,0,0,0,0,0,0,0,0,0,0,0,0,0,{"$f":"_xlfn.XLOOKUP(F962,'Object Codes'!$A$18:$A$510,'Object Codes'!$H$18:$H$510)","v":"Other Services and Charges - General"},{"$f":"_xlfn.XLOOKUP(F962,'Object Codes'!$A$18:$A$510,'Object Codes'!$G$18:$G$510)","v":0},{"$f":"_xlfn.XLOOKUP(A962,Agencies!$A$9:$A$146,Agencies!$B$9:$B$146)","v":"General Government"},{"$f":"IF(_xlfn.XLOOKUP(A962,Agencies!A:A,Agencies!D:D)=\"Y\",IF(_xlfn.XLOOKUP(F962,'Object Codes'!A:A,'Object Codes'!I:I)=\"Y\",\"Y\",\"N\"),\"N\")","v":"Y"},{"$f":"VLOOKUP(F962,'Object Codes'!$A:$C,3,0)","v":"Data Processing Services"},{"$f":"VLOOKUP(A962,Agencies!A:C,3,0)","v":"Mayoralty"},0]
["002",2022,"001","381","3814","451",0,0,0,8628,208,0,0,0,0,0,200,0,200,200,8,200,8,200,200,8,{"$f":"_xlfn.XLOOKUP(F963,'Object Codes'!$A$18:$A$510,'Object Codes'!$H$18:$H$510)","v":"Other Services and Charges - General"},{"$f":"_xlfn.XLOOKUP(F963,'Object Codes'!$A$18:$A$510,'Object Codes'!$G$18:$G$510)","v":0},{"$f":"_xlfn.XLOOKUP(A963,Agencies!$A$9:$A$146,Agencies!$B$9:$B$146)","v":"General Government"},{"$f":"IF(_xlfn.XLOOKUP(A963,Agencies!A:A,Agencies!D:D)=\"Y\",IF(_xlfn.XLOOKUP(F963,'Object Codes'!A:A,'Object Codes'!I:I)=\"Y\",\"Y\",\"N\"),\"N\")","v":"Y"},{"$f":"VLOOKUP(F963,'Object Codes'!$A:$C,3,0)","v":"Non Overnight Travel Expenditures - General"},{"$f":"VLOOKUP(A963,Agencies!A:C,3,0)","v":"Mayoralty"},0.54794520547945202]
["002",2022,"001","381","3814","452",0,0,0,1150,0,0,0,0,0,0,0,0,0,0,0,0,0,0,0,0,{"$f":"_xlfn.XLOOKUP(F964,'Object Codes'!$A$18:$A$510,'Object Codes'!$H$18:$H$510)","v":"Other Services and Charges - General"},{"$f":"_xlfn.XLOOKUP(F964,'Object Codes'!$A$18:$A$510,'Object Codes'!$G$18:$G$510)","v":0},{"$f":"_xlfn.XLOOKUP(A964,Agencies!$A$9:$A$146,Agencies!$B$9:$B$146)","v":"General Government"},{"$f":"IF(_xlfn.XLOOKUP(A964,Agencies!A:A,Agencies!D:D)=\"Y\",IF(_xlfn.XLOOKUP(F964,'Object Codes'!A:A,'Object Codes'!I:I)=\"Y\",\"Y\",\"N\"),\"N\")","v":"Y"},{"$f":"VLOOKUP(F964,'Object Codes'!$A:$C,3,0)","v":"Non Overnight Travel Expenditures - Special"},{"$f":"VLOOKUP(A964,Agencies!A:C,3,0)","v":"Mayoralty"},0]
["002",2022,"001","381","3814","453",0,0,0,6000,0,0,0,0,0,0,0,0,0,0,0,0,0,0,0,0,{"$f":"_xlfn.XLOOKUP(F965,'Object Codes'!$A$18:$A$510,'Object Codes'!$H$18:$H$510)","v":"Other Services and Charges - General"},{"$f":"_xlfn.XLOOKUP(F965,'Object Codes'!$A$18:$A$510,'Object Codes'!$G$18:$G$510)","v":0},{"$f":"_xlfn.XLOOKUP(A965,Agencies!$A$9:$A$146,Agencies!$B$9:$B$146)","v":"General Government"},{"$f":"IF(_xlfn.XLOOKUP(A965,Agencies!A:A,Agencies!D:D)=\"Y\",IF(_xlfn.XLOOKUP(F965,'Object Codes'!A:A,'Object Codes'!I:I)=\"Y\",\"Y\",\"N\"),\"N\")","v":"Y"},{"$f":"VLOOKUP(F965,'Object Codes'!$A:$C,3,0)","v":"Overnight Travel Expenditures - General"},{"$f":"VLOOKUP(A965,Agencies!A:C,3,0)","v":"Mayoralty"},0]
["002",2022,"001","381","3814","454",0,0,0,500,0,0,0,0,0,0,0,0,0,0,0,0,0,0,0,0,{"$f":"_xlfn.XLOOKUP(F966,'Object Codes'!$A$18:$A$510,'Object Codes'!$H$18:$H$510)","v":"Other Services and Charges - General"},{"$f":"_xlfn.XLOOKUP(F966,'Object Codes'!$A$18:$A$510,'Object Codes'!$G$18:$G$510)","v":0},{"$f":"_xlfn.XLOOKUP(A966,Agencies!$A$9:$A$146,Agencies!$B$9:$B$146)","v":"General Government"},{"$f":"IF(_xlfn.XLOOKUP(A966,Agencies!A:A,Agencies!D:D)=\"Y\",IF(_xlfn.XLOOKUP(F966,'Object Codes'!A:A,'Object Codes'!I:I)=\"Y\",\"Y\",\"N\"),\"N\")","v":"Y"},{"$f":"VLOOKUP(F966,'Object Codes'!$A:$C,3,0)","v":"Overnight Travel Expenditures - Special"},{"$f":"VLOOKUP(A966,Agencies!A:C,3,0)","v":"Mayoralty"},0]
["002",2022,"001","381","3814","600",0,0,0,0,40570,0,0,0,0,0,39270,0,39270,39270,1300,39270,1300,39270,39270,1300,{"$f":"_xlfn.XLOOKUP(F967,'Object Codes'!$A$18:$A$510,'Object Codes'!$H$18:$H$510)","v":"Contractual Services"},{"$f":"_xlfn.XLOOKUP(F967,'Object Codes'!$A$18:$A$510,'Object Codes'!$G$18:$G$510)","v":0},{"$f":"_xlfn.XLOOKUP(A967,Agencies!$A$9:$A$146,Agencies!$B$9:$B$146)","v":"General Government"},{"$f":"IF(_xlfn.XLOOKUP(A967,Agencies!A:A,Agencies!D:D)=\"Y\",IF(_xlfn.XLOOKUP(F967,'Object Codes'!A:A,'Object Codes'!I:I)=\"Y\",\"Y\",\"N\"),\"N\")","v":"Y"},{"$f":"VLOOKUP(F967,'Object Codes'!$A:$C,3,0)","v":"Contractual Services - General"},{"$f":"VLOOKUP(A967,Agencies!A:C,3,0)","v":"Mayoralty"},107.58904109589041]
["002",2022,"001","381","3814","608",0,0,0,3400,0,0,0,0,0,0,0,0,0,0,0,0,0,0,0,0,{"$f":"_xlfn.XLOOKUP(F968,'Object Codes'!$A$18:$A$510,'Object Codes'!$H$18:$H$510)","v":"Contractual Services"},{"$f":"_xlfn.XLOOKUP(F968,'Object Codes'!$A$18:$A$510,'Object Codes'!$G$18:$G$510)","v":0},{"$f":"_xlfn.XLOOKUP(A968,Agencies!$A$9:$A$146,Agencies!$B$9:$B$146)","v":"General Government"},{"$f":"IF(_xlfn.XLOOKUP(A968,Agencies!A:A,Agencies!D:D)=\"Y\",IF(_xlfn.XLOOKUP(F968,'Object Codes'!A:A,'Object Codes'!I:I)=\"Y\",\"Y\",\"N\"),\"N\")","v":"Y"},{"$f":"VLOOKUP(F968,'Object Codes'!$A:$C,3,0)","v":"Maintenance and Repairs - General - Contractual"},{"$f":"VLOOKUP(A968,Agencies!A:C,3,0)","v":"Mayoralty"},0]
["002",2022,"001","381","3814","612",0,0,0,1142,2,0,0,0,0,0,0,0,0,0,2,0,2,0,0,2,{"$f":"_xlfn.XLOOKUP(F969,'Object Codes'!$A$18:$A$510,'Object Codes'!$H$18:$H$510)","v":"Contractual Services"},{"$f":"_xlfn.XLOOKUP(F969,'Object Codes'!$A$18:$A$510,'Object Codes'!$G$18:$G$510)","v":0},{"$f":"_xlfn.XLOOKUP(A969,Agencies!$A$9:$A$146,Agencies!$B$9:$B$146)","v":"General Government"},{"$f":"IF(_xlfn.XLOOKUP(A969,Agencies!A:A,Agencies!D:D)=\"Y\",IF(_xlfn.XLOOKUP(F969,'Object Codes'!A:A,'Object Codes'!I:I)=\"Y\",\"Y\",\"N\"),\"N\")","v":"Y"},{"$f":"VLOOKUP(F969,'Object Codes'!$A:$C,3,0)","v":"Office Equipment Maintenance - Contractual"},{"$f":"VLOOKUP(A969,Agencies!A:C,3,0)","v":"Mayoralty"},{"$f":"S969/365","v":0}]
["002",2022,"001","381","3814","613",0,0,0,0,8300,0,0,0,0,0,8286,0,8286,8286,14,8286,14,8286,8286,14,{"$f":"_xlfn.XLOOKUP(F970,'Object Codes'!$A$18:$A$510,'Object Codes'!$H$18:$H$510)","v":"Contractual Services"},{"$f":"_xlfn.XLOOKUP(F970,'Object Codes'!$A$18:$A$510,'Object Codes'!$G$18:$G$510)","v":0},{"$f":"_xlfn.XLOOKUP(A970,Agencies!$A$9:$A$146,Agencies!$B$9:$B$146)","v":"General Government"},{"$f":"IF(_xlfn.XLOOKUP(A970,Agencies!A:A,Agencies!D:D)=\"Y\",IF(_xlfn.XLOOKUP(F970,'Object Codes'!A:A,'Object Codes'!I:I)=\"Y\",\"Y\",\"N\"),\"N\")","v":"Y"},{"$f":"VLOOKUP(F970,'Object Codes'!$A:$C,3,0)","v":"Data Processing Equipment Maintenance - Contractual"},{"$f":"VLOOKUP(A970,Agencies!A:C,3,0)","v":"Mayoralty"},22.701369863013699]
["002",2022,"001","381","3814","615",0,0,0,0,1160,0,0,0,0,0,1150,0,1150,1150,10,1150,10,1150,1150,10,{"$f":"_xlfn.XLOOKUP(F971,'Object Codes'!$A$18:$A$510,'Object Codes'!$H$18:$H$510)","v":"Contractual Services"},{"$f":"_xlfn.XLOOKUP(F971,'Object Codes'!$A$18:$A$510,'Object Codes'!$G$18:$G$510)","v":0},{"$f":"_xlfn.XLOOKUP(A971,Agencies!$A$9:$A$146,Agencies!$B$9:$B$146)","v":"General Government"},{"$f":"IF(_xlfn.XLOOKUP(A971,Agencies!A:A,Agencies!D:D)=\"Y\",IF(_xlfn.XLOOKUP(F971,'Object Codes'!A:A,'Object Codes'!I:I)=\"Y\",\"Y\",\"N\"),\"N\")","v":"Y"},{"$f":"VLOOKUP(F971,'Object Codes'!$A:$C,3,0)","v":"Printing Services - Contractual"},{"$f":"VLOOKUP(A971,Agencies!A:C,3,0)","v":"Mayoralty"},3.1506849315068495]
["002",2022,"001","381","3814","622",0,0,0,7997,12002,0,0,0,0,0,12000,0,12000,12000,2,12000,2,12000,12000,2,{"$f":"_xlfn.XLOOKUP(F972,'Object Codes'!$A$18:$A$510,'Object Codes'!$H$18:$H$510)","v":"Contractual Services"},{"$f":"_xlfn.XLOOKUP(F972,'Object Codes'!$A$18:$A$510,'Object Codes'!$G$18:$G$510)","v":0},{"$f":"_xlfn.XLOOKUP(A972,Agencies!$A$9:$A$146,Agencies!$B$9:$B$146)","v":"General Government"},{"$f":"IF(_xlfn.XLOOKUP(A972,Agencies!A:A,Agencies!D:D)=\"Y\",IF(_xlfn.XLOOKUP(F972,'Object Codes'!A:A,'Object Codes'!I:I)=\"Y\",\"Y\",\"N\"),\"N\")","v":"Y"},{"$f":"VLOOKUP(F972,'Object Codes'!$A:$C,3,0)","v":"Temporary Services - Contractual"},{"$f":"VLOOKUP(A972,Agencies!A:C,3,0)","v":"Mayoralty"},32.876712328767127]
["002",2022,"001","381","3814","633",0,0,0,0,2500,0,0,0,0,0,0,0,0,0,2500,0,2500,0,0,2500,{"$f":"_xlfn.XLOOKUP(F973,'Object Codes'!$A$18:$A$510,'Object Codes'!$H$18:$H$510)","v":"Contractual Services"},{"$f":"_xlfn.XLOOKUP(F973,'Object Codes'!$A$18:$A$510,'Object Codes'!$G$18:$G$510)","v":0},{"$f":"_xlfn.XLOOKUP(A973,Agencies!$A$9:$A$146,Agencies!$B$9:$B$146)","v":"General Government"},{"$f":"IF(_xlfn.XLOOKUP(A973,Agencies!A:A,Agencies!D:D)=\"Y\",IF(_xlfn.XLOOKUP(F973,'Object Codes'!A:A,'Object Codes'!I:I)=\"Y\",\"Y\",\"N\"),\"N\")","v":"Y"},{"$f":"VLOOKUP(F973,'Object Codes'!$A:$C,3,0)","v":"Transportation Services - Contractual"},{"$f":"VLOOKUP(A973,Agencies!A:C,3,0)","v":"Mayoralty"},0]
["002",2022,"001","381","3814","671",0,0,0,0,13890,0,0,0,0,0,0,0,0,0,13890,0,13890,0,0,13890,{"$f":"_xlfn.XLOOKUP(F974,'Object Codes'!$A$18:$A$510,'Object Codes'!$H$18:$H$510)","v":"Contractual Services"},{"$f":"_xlfn.XLOOKUP(F974,'Object Codes'!$A$18:$A$510,'Object Codes'!$G$18:$G$510)","v":0},{"$f":"_xlfn.XLOOKUP(A974,Agencies!$A$9:$A$146,Agencies!$B$9:$B$146)","v":"General Government"},{"$f":"IF(_xlfn.XLOOKUP(A974,Agencies!A:A,Agencies!D:D)=\"Y\",IF(_xlfn.XLOOKUP(F974,'Object Codes'!A:A,'Object Codes'!I:I)=\"Y\",\"Y\",\"N\"),\"N\")","v":"Y"},{"$f":"VLOOKUP(F974,'Object Codes'!$A:$C,3,0)","v":"Training Program for City Employees - Contractual"},{"$f":"VLOOKUP(A974,Agencies!A:C,3,0)","v":"Mayoralty"},0]
["002",2022,"001","381","3814","686",0,0,0,0,20001,0,0,0,0,0,19942.900000000001,0,19942.900000000001,19942.900000000001,58.1,19942.900000000001,58.1,19942.900000000001,19942.900000000001,58.1,{"$f":"_xlfn.XLOOKUP(F975,'Object Codes'!$A$18:$A$510,'Object Codes'!$H$18:$H$510)","v":"Contractual Services"},{"$f":"_xlfn.XLOOKUP(F975,'Object Codes'!$A$18:$A$510,'Object Codes'!$G$18:$G$510)","v":0},{"$f":"_xlfn.XLOOKUP(A975,Agencies!$A$9:$A$146,Agencies!$B$9:$B$146)","v":"General Government"},{"$f":"IF(_xlfn.XLOOKUP(A975,Agencies!A:A,Agencies!D:D)=\"Y\",IF(_xlfn.XLOOKUP(F975,'Object Codes'!A:A,'Object Codes'!I:I)=\"Y\",\"Y\",\"N\"),\"N\")","v":"Y"},{"$f":"VLOOKUP(F975,'Object Codes'!$A:$C,3,0)","v":"Professional Services - Other - Contractual"},{"$f":"VLOOKUP(A975,Agencies!A:C,3,0)","v":"Mayoralty"},54.638082191780825]
["002",2022,"001","381","3825","100",0,0,0,20000,0,0,0,0,0,0,0,0,0,0,0,0,0,0,0,0,{"$f":"_xlfn.XLOOKUP(F976,'Object Codes'!$A$18:$A$510,'Object Codes'!$H$18:$H$510)","v":"Supplies & Materials"},{"$f":"_xlfn.XLOOKUP(F976,'Object Codes'!$A$18:$A$510,'Object Codes'!$G$18:$G$510)","v":"A"},{"$f":"_xlfn.XLOOKUP(A976,Agencies!$A$9:$A$146,Agencies!$B$9:$B$146)","v":"General Government"},{"$f":"IF(_xlfn.XLOOKUP(A976,Agencies!A:A,Agencies!D:D)=\"Y\",IF(_xlfn.XLOOKUP(F976,'Object Codes'!A:A,'Object Codes'!I:I)=\"Y\",\"Y\",\"N\"),\"N\")","v":"Y"},{"$f":"VLOOKUP(F976,'Object Codes'!$A:$C,3,0)","v":"Supplies and Materials - General"},{"$f":"VLOOKUP(A976,Agencies!A:C,3,0)","v":"Mayoralty"},0]
["002",2022,"001","381","3825","337",0,0,0,0,1800,0,0,0,0,0,1800,0,1800,1800,0,1800,0,1800,1800,0,{"$f":"_xlfn.XLOOKUP(F977,'Object Codes'!$A$18:$A$510,'Object Codes'!$H$18:$H$510)","v":"Equipment"},{"$f":"_xlfn.XLOOKUP(F977,'Object Codes'!$A$18:$A$510,'Object Codes'!$G$18:$G$510)","v":"A"},{"$f":"_xlfn.XLOOKUP(A977,Agencies!$A$9:$A$146,Agencies!$B$9:$B$146)","v":"General Government"},{"$f":"IF(_xlfn.XLOOKUP(A977,Agencies!A:A,Agencies!D:D)=\"Y\",IF(_xlfn.XLOOKUP(F977,'Object Codes'!A:A,'Object Codes'!I:I)=\"Y\",\"Y\",\"N\"),\"N\")","v":"Y"},{"$f":"VLOOKUP(F977,'Object Codes'!$A:$C,3,0)","v":"Books - Other"},{"$f":"VLOOKUP(A977,Agencies!A:C,3,0)","v":"Mayoralty"},4.9315068493150687]
["002",2022,"001","381","3825","613",0,0,0,0,0,0,0,0,0,0,-149.1,0,-149.1,-149.1,149.1,-149.1,149.1,-149.1,-149.1,149.1,{"$f":"_xlfn.XLOOKUP(F978,'Object Codes'!$A$18:$A$510,'Object Codes'!$H$18:$H$510)","v":"Contractual Services"},{"$f":"_xlfn.XLOOKUP(F978,'Object Codes'!$A$18:$A$510,'Object Codes'!$G$18:$G$510)","v":0},{"$f":"_xlfn.XLOOKUP(A978,Agencies!$A$9:$A$146,Agencies!$B$9:$B$146)","v":"General Government"},{"$f":"IF(_xlfn.XLOOKUP(A978,Agencies!A:A,Agencies!D:D)=\"Y\",IF(_xlfn.XLOOKUP(F978,'Object Codes'!A:A,'Object Codes'!I:I)=\"Y\",\"Y\",\"N\"),\"N\")","v":"Y"},{"$f":"VLOOKUP(F978,'Object Codes'!$A:$C,3,0)","v":"Data Processing Equipment Maintenance - Contractual"},{"$f":"VLOOKUP(A978,Agencies!A:C,3,0)","v":"Mayoralty"},-0.40849315068493147]
["002",2022,"001","381","3850","199",0,0,0,0,0,0,0,0,0,0,58.46,0,58.46,58.46,-58.46,58.46,-58.46,58.46,58.46,-58.46,{"$f":"_xlfn.XLOOKUP(F979,'Object Codes'!$A$18:$A$510,'Object Codes'!$H$18:$H$510)","v":"Supplies & Materials"},{"$f":"_xlfn.XLOOKUP(F979,'Object Codes'!$A$18:$A$510,'Object Codes'!$G$18:$G$510)","v":"A"},{"$f":"_xlfn.XLOOKUP(A979,Agencies!$A$9:$A$146,Agencies!$B$9:$B$146)","v":"General Government"},{"$f":"IF(_xlfn.XLOOKUP(A979,Agencies!A:A,Agencies!D:D)=\"Y\",IF(_xlfn.XLOOKUP(F979,'Object Codes'!A:A,'Object Codes'!I:I)=\"Y\",\"Y\",\"N\"),\"N\")","v":"Y"},{"$f":"VLOOKUP(F979,'Object Codes'!$A:$C,3,0)","v":"Data Processing Supplies"},{"$f":"VLOOKUP(A979,Agencies!A:C,3,0)","v":"Mayoralty"},0.16016438356164384]
["002",2022,"001","381","A650","199",0,0,0,0,4200,0,0,0,0,0,0,0,0,0,4200,0,4200,0,0,4200,{"$f":"_xlfn.XLOOKUP(F980,'Object Codes'!$A$18:$A$510,'Object Codes'!$H$18:$H$510)","v":"Supplies & Materials"},{"$f":"_xlfn.XLOOKUP(F980,'Object Codes'!$A$18:$A$510,'Object Codes'!$G$18:$G$510)","v":"A"},{"$f":"_xlfn.XLOOKUP(A980,Agencies!$A$9:$A$146,Agencies!$B$9:$B$146)","v":"General Government"},{"$f":"IF(_xlfn.XLOOKUP(A980,Agencies!A:A,Agencies!D:D)=\"Y\",IF(_xlfn.XLOOKUP(F980,'Object Codes'!A:A,'Object Codes'!I:I)=\"Y\",\"Y\",\"N\"),\"N\")","v":"Y"},{"$f":"VLOOKUP(F980,'Object Codes'!$A:$C,3,0)","v":"Data Processing Supplies"},{"$f":"VLOOKUP(A980,Agencies!A:C,3,0)","v":"Mayoralty"},0]
["002",2022,"001","381","A650","337",0,0,0,0,2850,0,0,0,0,0,979.89,0,979.89,979.89,1870.11,979.89,1870.11,979.89,979.89,1870.11,{"$f":"_xlfn.XLOOKUP(F981,'Object Codes'!$A$18:$A$510,'Object Codes'!$H$18:$H$510)","v":"Equipment"},{"$f":"_xlfn.XLOOKUP(F981,'Object Codes'!$A$18:$A$510,'Object Codes'!$G$18:$G$510)","v":"A"},{"$f":"_xlfn.XLOOKUP(A981,Agencies!$A$9:$A$146,Agencies!$B$9:$B$146)","v":"General Government"},{"$f":"IF(_xlfn.XLOOKUP(A981,Agencies!A:A,Agencies!D:D)=\"Y\",IF(_xlfn.XLOOKUP(F981,'Object Codes'!A:A,'Object Codes'!I:I)=\"Y\",\"Y\",\"N\"),\"N\")","v":"Y"},{"$f":"VLOOKUP(F981,'Object Codes'!$A:$C,3,0)","v":"Books - Other"},{"$f":"VLOOKUP(A981,Agencies!A:C,3,0)","v":"Mayoralty"},2.6846301369863013]
["002",2022,"001","381","A650","454",0,0,0,30000,16156,0,0,0,0,0,0,0,0,0,16156,0,16156,0,0,16156,{"$f":"_xlfn.XLOOKUP(F982,'Object Codes'!$A$18:$A$510,'Object Codes'!$H$18:$H$510)","v":"Other Services and Charges - General"},{"$f":"_xlfn.XLOOKUP(F982,'Object Codes'!$A$18:$A$510,'Object Codes'!$G$18:$G$510)","v":0},{"$f":"_xlfn.XLOOKUP(A982,Agencies!$A$9:$A$146,Agencies!$B$9:$B$146)","v":"General Government"},{"$f":"IF(_xlfn.XLOOKUP(A982,Agencies!A:A,Agencies!D:D)=\"Y\",IF(_xlfn.XLOOKUP(F982,'Object Codes'!A:A,'Object Codes'!I:I)=\"Y\",\"Y\",\"N\"),\"N\")","v":"Y"},{"$f":"VLOOKUP(F982,'Object Codes'!$A:$C,3,0)","v":"Overnight Travel Expenditures - Special"},{"$f":"VLOOKUP(A982,Agencies!A:C,3,0)","v":"Mayoralty"},0]
["002",2022,"001","381","A650","613",0,0,0,0,3000,0,0,0,0,0,2445,0,2445,2445,555,2445,555,2445,2445,555,{"$f":"_xlfn.XLOOKUP(F983,'Object Codes'!$A$18:$A$510,'Object Codes'!$H$18:$H$510)","v":"Contractual Services"},{"$f":"_xlfn.XLOOKUP(F983,'Object Codes'!$A$18:$A$510,'Object Codes'!$G$18:$G$510)","v":0},{"$f":"_xlfn.XLOOKUP(A983,Agencies!$A$9:$A$146,Agencies!$B$9:$B$146)","v":"General Government"},{"$f":"IF(_xlfn.XLOOKUP(A983,Agencies!A:A,Agencies!D:D)=\"Y\",IF(_xlfn.XLOOKUP(F983,'Object Codes'!A:A,'Object Codes'!I:I)=\"Y\",\"Y\",\"N\"),\"N\")","v":"Y"},{"$f":"VLOOKUP(F983,'Object Codes'!$A:$C,3,0)","v":"Data Processing Equipment Maintenance - Contractual"},{"$f":"VLOOKUP(A983,Agencies!A:C,3,0)","v":"Mayoralty"},6.6986301369863011]
["002",2022,"001","381","A650","671",0,0,0,0,1000,0,0,0,0,0,125,0,125,125,875,125,875,125,125,875,{"$f":"_xlfn.XLOOKUP(F984,'Object Codes'!$A$18:$A$510,'Object Codes'!$H$18:$H$510)","v":"Contractual Services"},{"$f":"_xlfn.XLOOKUP(F984,'Object Codes'!$A$18:$A$510,'Object Codes'!$G$18:$G$510)","v":0},{"$f":"_xlfn.XLOOKUP(A984,Agencies!$A$9:$A$146,Agencies!$B$9:$B$146)","v":"General Government"},{"$f":"IF(_xlfn.XLOOKUP(A984,Agencies!A:A,Agencies!D:D)=\"Y\",IF(_xlfn.XLOOKUP(F984,'Object Codes'!A:A,'Object Codes'!I:I)=\"Y\",\"Y\",\"N\"),\"N\")","v":"Y"},{"$f":"VLOOKUP(F984,'Object Codes'!$A:$C,3,0)","v":"Training Program for City Employees - Contractual"},{"$f":"VLOOKUP(A984,Agencies!A:C,3,0)","v":"Mayoralty"},0.34246575342465752]
["002",2022,"001","560","5630","001",0,7,7,784499,784499,0,0,0,0,0,619427.03,0,619427.03,619427.03,165071.97,619427.03,165071.97,619427.03,619427.03,165071.97,{"$f":"_xlfn.XLOOKUP(F985,'Object Codes'!$A$18:$A$510,'Object Codes'!$H$18:$H$510)","v":"PS - Regular"},{"$f":"_xlfn.XLOOKUP(F985,'Object Codes'!$A$18:$A$510,'Object Codes'!$G$18:$G$510)","v":"C"},{"$f":"_xlfn.XLOOKUP(A985,Agencies!$A$9:$A$146,Agencies!$B$9:$B$146)","v":"General Government"},{"$f":"IF(_xlfn.XLOOKUP(A985,Agencies!A:A,Agencies!D:D)=\"Y\",IF(_xlfn.XLOOKUP(F985,'Object Codes'!A:A,'Object Codes'!I:I)=\"Y\",\"Y\",\"N\"),\"N\")","v":"Y"},{"$f":"VLOOKUP(F985,'Object Codes'!$A:$C,3,0)","v":"Full Year Positions"},{"$f":"VLOOKUP(A985,Agencies!A:C,3,0)","v":"Mayoralty"},1697.0603561643836]
["002",2022,"001","560","5630","031",0,0,0,74012,74012,0,0,0,0,0,0,0,0,0,74012,0,74012,0,0,74012,{"$f":"_xlfn.XLOOKUP(F986,'Object Codes'!$A$18:$A$510,'Object Codes'!$H$18:$H$510)","v":"PS - Regular"},{"$f":"_xlfn.XLOOKUP(F986,'Object Codes'!$A$18:$A$510,'Object Codes'!$G$18:$G$510)","v":"C"},{"$f":"_xlfn.XLOOKUP(A986,Agencies!$A$9:$A$146,Agencies!$B$9:$B$146)","v":"General Government"},{"$f":"IF(_xlfn.XLOOKUP(A986,Agencies!A:A,Agencies!D:D)=\"Y\",IF(_xlfn.XLOOKUP(F986,'Object Codes'!A:A,'Object Codes'!I:I)=\"Y\",\"Y\",\"N\"),\"N\")","v":"Y"},{"$f":"VLOOKUP(F986,'Object Codes'!$A:$C,3,0)","v":"Hourly Positions"},{"$f":"VLOOKUP(A986,Agencies!A:C,3,0)","v":"Mayoralty"},0]
["002",2022,"001","560","5630","047",0,0,0,0,0,0,0,0,0,0,4626.8599999999997,0,4626.8599999999997,4626.8599999999997,-4626.8599999999997,4626.8599999999997,-4626.8599999999997,4626.8599999999997,4626.8599999999997,-4626.8599999999997,{"$f":"_xlfn.XLOOKUP(F987,'Object Codes'!$A$18:$A$510,'Object Codes'!$H$18:$H$510)","v":"PS - Additional Gross"},{"$f":"_xlfn.XLOOKUP(F987,'Object Codes'!$A$18:$A$510,'Object Codes'!$G$18:$G$510)","v":"C"},{"$f":"_xlfn.XLOOKUP(A987,Agencies!$A$9:$A$146,Agencies!$B$9:$B$146)","v":"General Government"},{"$f":"IF(_xlfn.XLOOKUP(A987,Agencies!A:A,Agencies!D:D)=\"Y\",IF(_xlfn.XLOOKUP(F987,'Object Codes'!A:A,'Object Codes'!I:I)=\"Y\",\"Y\",\"N\"),\"N\")","v":"Y"},{"$f":"VLOOKUP(F987,'Object Codes'!$A:$C,3,0)","v":"Overtime"},{"$f":"VLOOKUP(A987,Agencies!A:C,3,0)","v":"Mayoralty"},12.676328767123287]
["002",2022,"001","560","5630","051",0,0,0,7176,7176,0,0,0,0,0,0,0,0,0,7176,0,7176,0,0,7176,{"$f":"_xlfn.XLOOKUP(F988,'Object Codes'!$A$18:$A$510,'Object Codes'!$H$18:$H$510)","v":"PS - Additional Gross"},{"$f":"_xlfn.XLOOKUP(F988,'Object Codes'!$A$18:$A$510,'Object Codes'!$G$18:$G$510)","v":"A"},{"$f":"_xlfn.XLOOKUP(A988,Agencies!$A$9:$A$146,Agencies!$B$9:$B$146)","v":"General Government"},{"$f":"IF(_xlfn.XLOOKUP(A988,Agencies!A:A,Agencies!D:D)=\"Y\",IF(_xlfn.XLOOKUP(F988,'Object Codes'!A:A,'Object Codes'!I:I)=\"Y\",\"Y\",\"N\"),\"N\")","v":"Y"},{"$f":"VLOOKUP(F988,'Object Codes'!$A:$C,3,0)","v":"Salary Adjustments"},{"$f":"VLOOKUP(A988,Agencies!A:C,3,0)","v":"Mayoralty"},0]
["002",2022,"001","561","5624","100",0,0,0,14695,3635,0,0,0,0,0,143.25,0,143.25,143.25,3491.75,143.25,3491.75,143.25,143.25,3491.75,{"$f":"_xlfn.XLOOKUP(F989,'Object Codes'!$A$18:$A$510,'Object Codes'!$H$18:$H$510)","v":"Supplies & Materials"},{"$f":"_xlfn.XLOOKUP(F989,'Object Codes'!$A$18:$A$510,'Object Codes'!$G$18:$G$510)","v":"A"},{"$f":"_xlfn.XLOOKUP(A989,Agencies!$A$9:$A$146,Agencies!$B$9:$B$146)","v":"General Government"},{"$f":"IF(_xlfn.XLOOKUP(A989,Agencies!A:A,Agencies!D:D)=\"Y\",IF(_xlfn.XLOOKUP(F989,'Object Codes'!A:A,'Object Codes'!I:I)=\"Y\",\"Y\",\"N\"),\"N\")","v":"Y"},{"$f":"VLOOKUP(F989,'Object Codes'!$A:$C,3,0)","v":"Supplies and Materials - General"},{"$f":"VLOOKUP(A989,Agencies!A:C,3,0)","v":"Mayoralty"},0.39246575342465756]
["002",2022,"001","561","5624","117",0,0,0,1600,1600,0,0,0,0,0,0,0,0,0,1600,0,1600,0,0,1600,{"$f":"_xlfn.XLOOKUP(F990,'Object Codes'!$A$18:$A$510,'Object Codes'!$H$18:$H$510)","v":"Supplies & Materials"},{"$f":"_xlfn.XLOOKUP(F990,'Object Codes'!$A$18:$A$510,'Object Codes'!$G$18:$G$510)","v":"A"},{"$f":"_xlfn.XLOOKUP(A990,Agencies!$A$9:$A$146,Agencies!$B$9:$B$146)","v":"General Government"},{"$f":"IF(_xlfn.XLOOKUP(A990,Agencies!A:A,Agencies!D:D)=\"Y\",IF(_xlfn.XLOOKUP(F990,'Object Codes'!A:A,'Object Codes'!I:I)=\"Y\",\"Y\",\"N\"),\"N\")","v":"Y"},{"$f":"VLOOKUP(F990,'Object Codes'!$A:$C,3,0)","v":"Postage"},{"$f":"VLOOKUP(A990,Agencies!A:C,3,0)","v":"Mayoralty"},0]
["002",2022,"001","561","5624","199",0,0,0,600,600,0,0,0,0,0,0,0,0,0,600,0,600,0,0,600,{"$f":"_xlfn.XLOOKUP(F991,'Object Codes'!$A$18:$A$510,'Object Codes'!$H$18:$H$510)","v":"Supplies & Materials"},{"$f":"_xlfn.XLOOKUP(F991,'Object Codes'!$A$18:$A$510,'Object Codes'!$G$18:$G$510)","v":"A"},{"$f":"_xlfn.XLOOKUP(A991,Agencies!$A$9:$A$146,Agencies!$B$9:$B$146)","v":"General Government"},{"$f":"IF(_xlfn.XLOOKUP(A991,Agencies!A:A,Agencies!D:D)=\"Y\",IF(_xlfn.XLOOKUP(F991,'Object Codes'!A:A,'Object Codes'!I:I)=\"Y\",\"Y\",\"N\"),\"N\")","v":"Y"},{"$f":"VLOOKUP(F991,'Object Codes'!$A:$C,3,0)","v":"Data Processing Supplies"},{"$f":"VLOOKUP(A991,Agencies!A:C,3,0)","v":"Mayoralty"},0]
["002",2022,"001","561","5624","300",0,0,0,700,700,0,0,0,0,0,0,0,0,0,700,0,700,0,0,700,{"$f":"_xlfn.XLOOKUP(F992,'Object Codes'!$A$18:$A$510,'Object Codes'!$H$18:$H$510)","v":"Equipment"},{"$f":"_xlfn.XLOOKUP(F992,'Object Codes'!$A$18:$A$510,'Object Codes'!$G$18:$G$510)","v":"A"},{"$f":"_xlfn.XLOOKUP(A992,Agencies!$A$9:$A$146,Agencies!$B$9:$B$146)","v":"General Government"},{"$f":"IF(_xlfn.XLOOKUP(A992,Agencies!A:A,Agencies!D:D)=\"Y\",IF(_xlfn.XLOOKUP(F992,'Object Codes'!A:A,'Object Codes'!I:I)=\"Y\",\"Y\",\"N\"),\"N\")","v":"Y"},{"$f":"VLOOKUP(F992,'Object Codes'!$A:$C,3,0)","v":"Equipment - General"},{"$f":"VLOOKUP(A992,Agencies!A:C,3,0)","v":"Mayoralty"},0]
["002",2022,"001","561","5624","315",0,0,0,142,142,0,0,0,0,0,0,0,0,0,142,0,142,0,0,142,{"$f":"_xlfn.XLOOKUP(F993,'Object Codes'!$A$18:$A$510,'Object Codes'!$H$18:$H$510)","v":"Equipment"},{"$f":"_xlfn.XLOOKUP(F993,'Object Codes'!$A$18:$A$510,'Object Codes'!$G$18:$G$510)","v":"A"},{"$f":"_xlfn.XLOOKUP(A993,Agencies!$A$9:$A$146,Agencies!$B$9:$B$146)","v":"General Government"},{"$f":"IF(_xlfn.XLOOKUP(A993,Agencies!A:A,Agencies!D:D)=\"Y\",IF(_xlfn.XLOOKUP(F993,'Object Codes'!A:A,'Object Codes'!I:I)=\"Y\",\"Y\",\"N\"),\"N\")","v":"Y"},{"$f":"VLOOKUP(F993,'Object Codes'!$A:$C,3,0)","v":"Office Equipment"},{"$f":"VLOOKUP(A993,Agencies!A:C,3,0)","v":"Mayoralty"},0]
["002",2022,"001","561","5624","332",0,0,0,253,253,0,0,0,0,0,0,0,0,0,253,0,253,0,0,253,{"$f":"_xlfn.XLOOKUP(F994,'Object Codes'!$A$18:$A$510,'Object Codes'!$H$18:$H$510)","v":"Equipment"},{"$f":"_xlfn.XLOOKUP(F994,'Object Codes'!$A$18:$A$510,'Object Codes'!$G$18:$G$510)","v":"A"},{"$f":"_xlfn.XLOOKUP(A994,Agencies!$A$9:$A$146,Agencies!$B$9:$B$146)","v":"General Government"},{"$f":"IF(_xlfn.XLOOKUP(A994,Agencies!A:A,Agencies!D:D)=\"Y\",IF(_xlfn.XLOOKUP(F994,'Object Codes'!A:A,'Object Codes'!I:I)=\"Y\",\"Y\",\"N\"),\"N\")","v":"Y"},{"$f":"VLOOKUP(F994,'Object Codes'!$A:$C,3,0)","v":"Purchases of Data Processing Equipment"},{"$f":"VLOOKUP(A994,Agencies!A:C,3,0)","v":"Mayoralty"},0]
["002",2022,"001","561","5624","337",0,0,0,8097,18097,0,0,0,0,0,11587.08,0,11587.08,11587.08,6509.92,11587.08,6509.92,11587.08,11587.08,6509.92,{"$f":"_xlfn.XLOOKUP(F995,'Object Codes'!$A$18:$A$510,'Object Codes'!$H$18:$H$510)","v":"Equipment"},{"$f":"_xlfn.XLOOKUP(F995,'Object Codes'!$A$18:$A$510,'Object Codes'!$G$18:$G$510)","v":"A"},{"$f":"_xlfn.XLOOKUP(A995,Agencies!$A$9:$A$146,Agencies!$B$9:$B$146)","v":"General Government"},{"$f":"IF(_xlfn.XLOOKUP(A995,Agencies!A:A,Agencies!D:D)=\"Y\",IF(_xlfn.XLOOKUP(F995,'Object Codes'!A:A,'Object Codes'!I:I)=\"Y\",\"Y\",\"N\"),\"N\")","v":"Y"},{"$f":"VLOOKUP(F995,'Object Codes'!$A:$C,3,0)","v":"Books - Other"},{"$f":"VLOOKUP(A995,Agencies!A:C,3,0)","v":"Mayoralty"},31.745424657534247]
["002",2022,"001","561","5624","400",0,0,0,182,182,0,0,0,0,0,0,0,0,0,182,0,182,0,0,182,{"$f":"_xlfn.XLOOKUP(F996,'Object Codes'!$A$18:$A$510,'Object Codes'!$H$18:$H$510)","v":"Other Services and Charges - General"},{"$f":"_xlfn.XLOOKUP(F996,'Object Codes'!$A$18:$A$510,'Object Codes'!$G$18:$G$510)","v":0},{"$f":"_xlfn.XLOOKUP(A996,Agencies!$A$9:$A$146,Agencies!$B$9:$B$146)","v":"General Government"},{"$f":"IF(_xlfn.XLOOKUP(A996,Agencies!A:A,Agencies!D:D)=\"Y\",IF(_xlfn.XLOOKUP(F996,'Object Codes'!A:A,'Object Codes'!I:I)=\"Y\",\"Y\",\"N\"),\"N\")","v":"Y"},{"$f":"VLOOKUP(F996,'Object Codes'!$A:$C,3,0)","v":"Other Services and Charges - General"},{"$f":"VLOOKUP(A996,Agencies!A:C,3,0)","v":"Mayoralty"},0]
["002",2022,"001","561","5624","402",0,0,0,500,500,0,0,0,0,0,0,0,0,0,500,0,500,0,0,500,{"$f":"_xlfn.XLOOKUP(F997,'Object Codes'!$A$18:$A$510,'Object Codes'!$H$18:$H$510)","v":"Other Services and Charges - General"},{"$f":"_xlfn.XLOOKUP(F997,'Object Codes'!$A$18:$A$510,'Object Codes'!$G$18:$G$510)","v":0},{"$f":"_xlfn.XLOOKUP(A997,Agencies!$A$9:$A$146,Agencies!$B$9:$B$146)","v":"General Government"},{"$f":"IF(_xlfn.XLOOKUP(A997,Agencies!A:A,Agencies!D:D)=\"Y\",IF(_xlfn.XLOOKUP(F997,'Object Codes'!A:A,'Object Codes'!I:I)=\"Y\",\"Y\",\"N\"),\"N\")","v":"Y"},{"$f":"VLOOKUP(F997,'Object Codes'!$A:$C,3,0)","v":"Telephone and Other Communications"},{"$f":"VLOOKUP(A997,Agencies!A:C,3,0)","v":"Mayoralty"},0]
["002",2022,"001","561","5624","403",0,0,0,0,60,0,0,0,0,0,60,0,60,60,0,60,0,60,60,0,{"$f":"_xlfn.XLOOKUP(F998,'Object Codes'!$A$18:$A$510,'Object Codes'!$H$18:$H$510)","v":"Other Services and Charges - General"},{"$f":"_xlfn.XLOOKUP(F998,'Object Codes'!$A$18:$A$510,'Object Codes'!$G$18:$G$510)","v":0},{"$f":"_xlfn.XLOOKUP(A998,Agencies!$A$9:$A$146,Agencies!$B$9:$B$146)","v":"General Government"},{"$f":"IF(_xlfn.XLOOKUP(A998,Agencies!A:A,Agencies!D:D)=\"Y\",IF(_xlfn.XLOOKUP(F998,'Object Codes'!A:A,'Object Codes'!I:I)=\"Y\",\"Y\",\"N\"),\"N\")","v":"Y"},{"$f":"VLOOKUP(F998,'Object Codes'!$A:$C,3,0)","v":"Office Services"},{"$f":"VLOOKUP(A998,Agencies!A:C,3,0)","v":"Mayoralty"},0.16438356164383561]
["002",2022,"001","561","5624","412",0,0,0,0,1000,0,0,0,0,0,788.16,0,788.16,788.16,211.84,788.16,211.84,788.16,788.16,211.84,{"$f":"_xlfn.XLOOKUP(F999,'Object Codes'!$A$18:$A$510,'Object Codes'!$H$18:$H$510)","v":"Other Services and Charges - General"},{"$f":"_xlfn.XLOOKUP(F999,'Object Codes'!$A$18:$A$510,'Object Codes'!$G$18:$G$510)","v":0},{"$f":"_xlfn.XLOOKUP(A999,Agencies!$A$9:$A$146,Agencies!$B$9:$B$146)","v":"General Government"},{"$f":"IF(_xlfn.XLOOKUP(A999,Agencies!A:A,Agencies!D:D)=\"Y\",IF(_xlfn.XLOOKUP(F999,'Object Codes'!A:A,'Object Codes'!I:I)=\"Y\",\"Y\",\"N\"),\"N\")","v":"Y"},{"$f":"VLOOKUP(F999,'Object Codes'!$A:$C,3,0)","v":"Rentals - Miscellaneous Equipment"},{"$f":"VLOOKUP(A999,Agencies!A:C,3,0)","v":"Mayoralty"},2.1593424657534244]
["002",2022,"001","561","5624","451",0,0,0,711,711,0,0,0,0,0,0,0,0,0,711,0,711,0,0,711,{"$f":"_xlfn.XLOOKUP(F1000,'Object Codes'!$A$18:$A$510,'Object Codes'!$H$18:$H$510)","v":"Other Services and Charges - General"},{"$f":"_xlfn.XLOOKUP(F1000,'Object Codes'!$A$18:$A$510,'Object Codes'!$G$18:$G$510)","v":0},{"$f":"_xlfn.XLOOKUP(A1000,Agencies!$A$9:$A$146,Agencies!$B$9:$B$146)","v":"General Government"},{"$f":"IF(_xlfn.XLOOKUP(A1000,Agencies!A:A,Agencies!D:D)=\"Y\",IF(_xlfn.XLOOKUP(F1000,'Object Codes'!A:A,'Object Codes'!I:I)=\"Y\",\"Y\",\"N\"),\"N\")","v":"Y"},{"$f":"VLOOKUP(F1000,'Object Codes'!$A:$C,3,0)","v":"Non Overnight Travel Expenditures - General"},{"$f":"VLOOKUP(A1000,Agencies!A:C,3,0)","v":"Mayoralty"},0]
["003",2022,"001","001","0201","095",0,0,0,0,0,0,0,963.5,0,0,-963.5,0,0,-963.5,963.5,-963.5,963.5,-963.5,-963.5,963.5,{"$f":"_xlfn.XLOOKUP(F1018,'Object Codes'!$A$18:$A$510,'Object Codes'!$H$18:$H$510)","v":"PS - Additional Gross"},{"$f":"_xlfn.XLOOKUP(F1018,'Object Codes'!$A$18:$A$510,'Object Codes'!$G$18:$G$510)","v":"A"},{"$f":"_xlfn.XLOOKUP(A1018,Agencies!$A$9:$A$146,Agencies!$B$9:$B$146)","v":"General Government"},{"$f":"IF(_xlfn.XLOOKUP(A1018,Agencies!A:A,Agencies!D:D)=\"Y\",IF(_xlfn.XLOOKUP(F1018,'Object Codes'!A:A,'Object Codes'!I:I)=\"Y\",\"Y\",\"N\"),\"N\")","v":"Y"},{"$f":"VLOOKUP(F1018,'Object Codes'!$A:$C,3,0)","v":"Payroll Refunds"},{"$f":"VLOOKUP(A1018,Agencies!A:C,3,0)","v":"Board of Elections"},0]
["003",2022,"001","001","0801","001",0,88,88,2738586,2738586,0,0,0,0,0,6659676.3399999999,0,6659676.3399999999,6659676.3399999999,-3921090.34,6659676.3399999999,-3921090.34,6659676.3399999999,6659676.3399999999,-3921090.34,{"$f":"_xlfn.XLOOKUP(F1060,'Object Codes'!$A$18:$A$510,'Object Codes'!$H$18:$H$510)","v":"PS - Regular"},{"$f":"_xlfn.XLOOKUP(F1060,'Object Codes'!$A$18:$A$510,'Object Codes'!$G$18:$G$510)","v":"C"},{"$f":"_xlfn.XLOOKUP(A1060,Agencies!$A$9:$A$146,Agencies!$B$9:$B$146)","v":"General Government"},{"$f":"IF(_xlfn.XLOOKUP(A1060,Agencies!A:A,Agencies!D:D)=\"Y\",IF(_xlfn.XLOOKUP(F1060,'Object Codes'!A:A,'Object Codes'!I:I)=\"Y\",\"Y\",\"N\"),\"N\")","v":"Y"},{"$f":"VLOOKUP(F1060,'Object Codes'!$A:$C,3,0)","v":"Full Year Positions"},{"$f":"VLOOKUP(A1060,Agencies!A:C,3,0)","v":"Board of Elections"},18245.688602739727]
["003",2022,"001","002","0201","199",0,0,0,426000,389000,0,0,0,0,0,318525.09000000003,0,318525.09000000003,318525.09000000003,70474.91,318525.09000000003,70474.91,318525.09000000003,318525.09000000003,70474.91,{"$f":"_xlfn.XLOOKUP(F1094,'Object Codes'!$A$18:$A$510,'Object Codes'!$H$18:$H$510)","v":"Supplies & Materials"},{"$f":"_xlfn.XLOOKUP(F1094,'Object Codes'!$A$18:$A$510,'Object Codes'!$G$18:$G$510)","v":"A"},{"$f":"_xlfn.XLOOKUP(A1094,Agencies!$A$9:$A$146,Agencies!$B$9:$B$146)","v":"General Government"},{"$f":"IF(_xlfn.XLOOKUP(A1094,Agencies!A:A,Agencies!D:D)=\"Y\",IF(_xlfn.XLOOKUP(F1094,'Object Codes'!A:A,'Object Codes'!I:I)=\"Y\",\"Y\",\"N\"),\"N\")","v":"Y"},{"$f":"VLOOKUP(F1094,'Object Codes'!$A:$C,3,0)","v":"Data Processing Supplies"},{"$f":"VLOOKUP(A1094,Agencies!A:C,3,0)","v":"Board of Elections"},872.67147945205488]
["004",2022,"001","002","2000","40G",0,0,0,1000,1000,0,0,0,0,0,405.7,0,405.7,405.7,594.29999999999995,405.7,594.29999999999995,405.7,405.7,594.29999999999995,{"$f":"_xlfn.XLOOKUP(F1179,'Object Codes'!$A$18:$A$510,'Object Codes'!$H$18:$H$510)","v":"Other Services and Charges - General"},{"$f":"_xlfn.XLOOKUP(F1179,'Object Codes'!$A$18:$A$510,'Object Codes'!$G$18:$G$510)","v":0},{"$f":"_xlfn.XLOOKUP(A1179,Agencies!$A$9:$A$146,Agencies!$B$9:$B$146)","v":"General Government"},{"$f":"IF(_xlfn.XLOOKUP(A1179,Agencies!A:A,Agencies!D:D)=\"Y\",IF(_xlfn.XLOOKUP(F1179,'Object Codes'!A:A,'Object Codes'!I:I)=\"Y\",\"Y\",\"N\"),\"N\")","v":"Y"},{"$f":"VLOOKUP(F1179,'Object Codes'!$A:$C,3,0)","v":"MAINT & REP OF MOTOR VEH EQUIP"},{"$f":"VLOOKUP(A1179,Agencies!A:C,3,0)","v":"Campaign Finance Board"},1.1115068493150684]
["008",2022,"001","100","1000","045",0,0,0,4000,4000,0,0,0,0,0,0,0,0,0,4000,0,4000,0,0,4000,{"$f":"_xlfn.XLOOKUP(F1203,'Object Codes'!$A$18:$A$510,'Object Codes'!$H$18:$H$510)","v":"PS - Additional Gross"},{"$f":"_xlfn.XLOOKUP(F1203,'Object Codes'!$A$18:$A$510,'Object Codes'!$G$18:$G$510)","v":"A"},{"$f":"_xlfn.XLOOKUP(A1203,Agencies!$A$9:$A$146,Agencies!$B$9:$B$146)","v":"General Government"},{"$f":"IF(_xlfn.XLOOKUP(A1203,Agencies!A:A,Agencies!D:D)=\"Y\",IF(_xlfn.XLOOKUP(F1203,'Object Codes'!A:A,'Object Codes'!I:I)=\"Y\",\"Y\",\"N\"),\"N\")","v":"Y"},{"$f":"VLOOKUP(F1203,'Object Codes'!$A:$C,3,0)","v":"Holiday Pay"},{"$f":"VLOOKUP(A1203,Agencies!A:C,3,0)","v":"Office of the Actuary"},0]
["008",2022,"001","200","2000","608",0,0,0,4500,1500,0,0,0,0,0,930,0,930,930,570,930,570,930,930,570,{"$f":"_xlfn.XLOOKUP(F1237,'Object Codes'!$A$18:$A$510,'Object Codes'!$H$18:$H$510)","v":"Contractual Services"},{"$f":"_xlfn.XLOOKUP(F1237,'Object Codes'!$A$18:$A$510,'Object Codes'!$G$18:$G$510)","v":0},{"$f":"_xlfn.XLOOKUP(A1237,Agencies!$A$9:$A$146,Agencies!$B$9:$B$146)","v":"General Government"},{"$f":"IF(_xlfn.XLOOKUP(A1237,Agencies!A:A,Agencies!D:D)=\"Y\",IF(_xlfn.XLOOKUP(F1237,'Object Codes'!A:A,'Object Codes'!I:I)=\"Y\",\"Y\",\"N\"),\"N\")","v":"Y"},{"$f":"VLOOKUP(F1237,'Object Codes'!$A:$C,3,0)","v":"Maintenance and Repairs - General - Contractual"},{"$f":"VLOOKUP(A1237,Agencies!A:C,3,0)","v":"Office of the Actuary"},2.547945205479452]
["010",2022,"001","002","0102","613",0,0,0,0,28919,0,0,0,0,0,28918.18,0,28918.18,28918.18,0.82,28918.18,0.82,28918.18,28918.18,0.82,{"$f":"_xlfn.XLOOKUP(F1282,'Object Codes'!$A$18:$A$510,'Object Codes'!$H$18:$H$510)","v":"Contractual Services"},{"$f":"_xlfn.XLOOKUP(F1282,'Object Codes'!$A$18:$A$510,'Object Codes'!$G$18:$G$510)","v":0},{"$f":"_xlfn.XLOOKUP(A1282,Agencies!$A$9:$A$146,Agencies!$B$9:$B$146)","v":"General Government"},{"$f":"IF(_xlfn.XLOOKUP(A1282,Agencies!A:A,Agencies!D:D)=\"Y\",IF(_xlfn.XLOOKUP(F1282,'Object Codes'!A:A,'Object Codes'!I:I)=\"Y\",\"Y\",\"N\"),\"N\")","v":"Y"},{"$f":"VLOOKUP(F1282,'Object Codes'!$A:$C,3,0)","v":"Data Processing Equipment Maintenance - Contractual"},{"$f":"VLOOKUP(A1282,Agencies!A:C,3,0)","v":"President,Borough of Manhattan"},79.227890410958906]
["011",2022,"001","002","0102","40B",0,0,0,153654,153654,0,0,0,0,0,94504,0,94504,94504,59150,94504,59150,94504,94504,59150,{"$f":"_xlfn.XLOOKUP(F1346,'Object Codes'!$A$18:$A$510,'Object Codes'!$H$18:$H$510)","v":"Other Services and Charges - General"},{"$f":"_xlfn.XLOOKUP(F1346,'Object Codes'!$A$18:$A$510,'Object Codes'!$G$18:$G$510)","v":0},{"$f":"_xlfn.XLOOKUP(A1346,Agencies!$A$9:$A$146,Agencies!$B$9:$B$146)","v":"General Government"},{"$f":"IF(_xlfn.XLOOKUP(A1346,Agencies!A:A,Agencies!D:D)=\"Y\",IF(_xlfn.XLOOKUP(F1346,'Object Codes'!A:A,'Object Codes'!I:I)=\"Y\",\"Y\",\"N\"),\"N\")","v":"Y"},{"$f":"VLOOKUP(F1346,'Object Codes'!$A:$C,3,0)","v":"TELEPHONE & OTHER COMMUNICATNS"},{"$f":"VLOOKUP(A1346,Agencies!A:C,3,0)","v":"President,Borough of the Bronx"},258.91506849315067]
["011",2022,"001","002","0102","686",0,0,0,10291,10291,0,0,0,0,0,0,0,0,0,10291,0,10291,0,0,10291,{"$f":"_xlfn.XLOOKUP(F1375,'Object Codes'!$A$18:$A$510,'Object Codes'!$H$18:$H$510)","v":"Contractual Services"},{"$f":"_xlfn.XLOOKUP(F1375,'Object Codes'!$A$18:$A$510,'Object Codes'!$G$18:$G$510)","v":0},{"$f":"_xlfn.XLOOKUP(A1375,Agencies!$A$9:$A$146,Agencies!$B$9:$B$146)","v":"General Government"},{"$f":"IF(_xlfn.XLOOKUP(A1375,Agencies!A:A,Agencies!D:D)=\"Y\",IF(_xlfn.XLOOKUP(F1375,'Object Codes'!A:A,'Object Codes'!I:I)=\"Y\",\"Y\",\"N\"),\"N\")","v":"Y"},{"$f":"VLOOKUP(F1375,'Object Codes'!$A:$C,3,0)","v":"Professional Services - Other - Contractual"},{"$f":"VLOOKUP(A1375,Agencies!A:C,3,0)","v":"President,Borough of the Bronx"},0]
["012",2022,"001","002","0102","332",0,0,0,30000,43000,0,0,0,0,0,37828.69,0,37828.69,37828.69,5171.3100000000004,37828.69,5171.3100000000004,37828.69,37828.69,5171.3100000000004,{"$f":"_xlfn.XLOOKUP(F1431,'Object Codes'!$A$18:$A$510,'Object Codes'!$H$18:$H$510)","v":"Equipment"},{"$f":"_xlfn.XLOOKUP(F1431,'Object Codes'!$A$18:$A$510,'Object Codes'!$G$18:$G$510)","v":"A"},{"$f":"_xlfn.XLOOKUP(A1431,Agencies!$A$9:$A$146,Agencies!$B$9:$B$146)","v":"General Government"},{"$f":"IF(_xlfn.XLOOKUP(A1431,Agencies!A:A,Agencies!D:D)=\"Y\",IF(_xlfn.XLOOKUP(F1431,'Object Codes'!A:A,'Object Codes'!I:I)=\"Y\",\"Y\",\"N\"),\"N\")","v":"Y"},{"$f":"VLOOKUP(F1431,'Object Codes'!$A:$C,3,0)","v":"Purchases of Data Processing Equipment"},{"$f":"VLOOKUP(A1431,Agencies!A:C,3,0)","v":"President,Borough of Brooklyn"},103.64024657534247]
["013",2022,"001","001","P001","053",0,-12,-12,0,0,0,0,0,0,0,0,0,0,0,0,0,0,0,0,0,{"$f":"_xlfn.XLOOKUP(F1489,'Object Codes'!$A$18:$A$510,'Object Codes'!$H$18:$H$510)","v":"PS - Additional Gross"},{"$f":"_xlfn.XLOOKUP(F1489,'Object Codes'!$A$18:$A$510,'Object Codes'!$G$18:$G$510)","v":"A"},{"$f":"_xlfn.XLOOKUP(A1489,Agencies!$A$9:$A$146,Agencies!$B$9:$B$146)","v":"General Government"},{"$f":"IF(_xlfn.XLOOKUP(A1489,Agencies!A:A,Agencies!D:D)=\"Y\",IF(_xlfn.XLOOKUP(F1489,'Object Codes'!A:A,'Object Codes'!I:I)=\"Y\",\"Y\",\"N\"),\"N\")","v":"Y"},{"$f":"VLOOKUP(F1489,'Object Codes'!$A:$C,3,0)","v":"Other Than Salary Adjustments"},{"$f":"VLOOKUP(A1489,Agencies!A:C,3,0)","v":"President,Borough of Queens"},0]
["013",2022,"001","002","0102","612",0,0,0,5000,5000,0,0,0,0,0,2812,0,2812,2812,2188,2812,2188,2812,2812,2188,{"$f":"_xlfn.XLOOKUP(F1518,'Object Codes'!$A$18:$A$510,'Object Codes'!$H$18:$H$510)","v":"Contractual Services"},{"$f":"_xlfn.XLOOKUP(F1518,'Object Codes'!$A$18:$A$510,'Object Codes'!$G$18:$G$510)","v":0},{"$f":"_xlfn.XLOOKUP(A1518,Agencies!$A$9:$A$146,Agencies!$B$9:$B$146)","v":"General Government"},{"$f":"IF(_xlfn.XLOOKUP(A1518,Agencies!A:A,Agencies!D:D)=\"Y\",IF(_xlfn.XLOOKUP(F1518,'Object Codes'!A:A,'Object Codes'!I:I)=\"Y\",\"Y\",\"N\"),\"N\")","v":"Y"},{"$f":"VLOOKUP(F1518,'Object Codes'!$A:$C,3,0)","v":"Office Equipment Maintenance - Contractual"},{"$f":"VLOOKUP(A1518,Agencies!A:C,3,0)","v":"President,Borough of Queens"},7.7041095890410958]
["014",2022,"001","002","0102","412",0,0,0,30436,30436,0,0,0,0,0,880,0,880,880,29556,880,29556,880,880,29556,{"$f":"_xlfn.XLOOKUP(F1580,'Object Codes'!$A$18:$A$510,'Object Codes'!$H$18:$H$510)","v":"Other Services and Charges - General"},{"$f":"_xlfn.XLOOKUP(F1580,'Object Codes'!$A$18:$A$510,'Object Codes'!$G$18:$G$510)","v":0},{"$f":"_xlfn.XLOOKUP(A1580,Agencies!$A$9:$A$146,Agencies!$B$9:$B$146)","v":"General Government"},{"$f":"IF(_xlfn.XLOOKUP(A1580,Agencies!A:A,Agencies!D:D)=\"Y\",IF(_xlfn.XLOOKUP(F1580,'Object Codes'!A:A,'Object Codes'!I:I)=\"Y\",\"Y\",\"N\"),\"N\")","v":"Y"},{"$f":"VLOOKUP(F1580,'Object Codes'!$A:$C,3,0)","v":"Rentals - Miscellaneous Equipment"},{"$f":"VLOOKUP(A1580,Agencies!A:C,3,0)","v":"President,Borough of S.I."},2.4109589041095889]
["015",2022,"001","002","0601","X47",0,0,0,0,0,0,0,0,0,0,480.29,0,480.29,480.29,-480.29,480.29,-480.29,480.29,480.29,-480.29,{"$f":"_xlfn.XLOOKUP(F1632,'Object Codes'!$A$18:$A$510,'Object Codes'!$H$18:$H$510)","v":"PS - Additional Gross"},{"$f":"_xlfn.XLOOKUP(F1632,'Object Codes'!$A$18:$A$510,'Object Codes'!$G$18:$G$510)","v":"A"},{"$f":"_xlfn.XLOOKUP(A1632,Agencies!$A$9:$A$146,Agencies!$B$9:$B$146)","v":"General Government"},{"$f":"IF(_xlfn.XLOOKUP(A1632,Agencies!A:A,Agencies!D:D)=\"Y\",IF(_xlfn.XLOOKUP(F1632,'Object Codes'!A:A,'Object Codes'!I:I)=\"Y\",\"Y\",\"N\"),\"N\")","v":"Y"},{"$f":"VLOOKUP(F1632,'Object Codes'!$A:$C,3,0)","v":"PY OVERTIME"},{"$f":"VLOOKUP(A1632,Agencies!A:C,3,0)","v":"Office of the Comptroller"},1.3158630136986302]
["015",2022,"001","002","0804","095",0,0,0,0,0,0,0,1901.48,0,0,-1901.48,0,0,-1901.48,1901.48,-1901.48,1901.48,-1901.48,-1901.48,1901.48,{"$f":"_xlfn.XLOOKUP(F1661,'Object Codes'!$A$18:$A$510,'Object Codes'!$H$18:$H$510)","v":"PS - Additional Gross"},{"$f":"_xlfn.XLOOKUP(F1661,'Object Codes'!$A$18:$A$510,'Object Codes'!$G$18:$G$510)","v":"A"},{"$f":"_xlfn.XLOOKUP(A1661,Agencies!$A$9:$A$146,Agencies!$B$9:$B$146)","v":"General Government"},{"$f":"IF(_xlfn.XLOOKUP(A1661,Agencies!A:A,Agencies!D:D)=\"Y\",IF(_xlfn.XLOOKUP(F1661,'Object Codes'!A:A,'Object Codes'!I:I)=\"Y\",\"Y\",\"N\"),\"N\")","v":"Y"},{"$f":"VLOOKUP(F1661,'Object Codes'!$A:$C,3,0)","v":"Payroll Refunds"},{"$f":"VLOOKUP(A1661,Agencies!A:C,3,0)","v":"Office of the Comptroller"},0]
["015",2022,"001","003","1205","043",0,0,0,0,0,0,0,0,0,0,9.3699999999999992,0,9.3699999999999992,9.3699999999999992,-9.3699999999999992,9.3699999999999992,-9.3699999999999992,9.3699999999999992,9.3699999999999992,-9.3699999999999992,{"$f":"_xlfn.XLOOKUP(F1729,'Object Codes'!$A$18:$A$510,'Object Codes'!$H$18:$H$510)","v":"PS - Additional Gross"},{"$f":"_xlfn.XLOOKUP(F1729,'Object Codes'!$A$18:$A$510,'Object Codes'!$G$18:$G$510)","v":"A"},{"$f":"_xlfn.XLOOKUP(A1729,Agencies!$A$9:$A$146,Agencies!$B$9:$B$146)","v":"General Government"},{"$f":"IF(_xlfn.XLOOKUP(A1729,Agencies!A:A,Agencies!D:D)=\"Y\",IF(_xlfn.XLOOKUP(F1729,'Object Codes'!A:A,'Object Codes'!I:I)=\"Y\",\"Y\",\"N\"),\"N\")","v":"Y"},{"$f":"VLOOKUP(F1729,'Object Codes'!$A:$C,3,0)","v":"Shift Differential"},{"$f":"VLOOKUP(A1729,Agencies!A:C,3,0)","v":"Office of the Comptroller"},2.5671232876712326E-2]
["015",2022,"001","005","0501","117",0,0,0,200000,70010,0,0,0,0,0,53304.95,0,53304.95,53304.95,16705.05,53304.95,16705.05,53304.95,53304.95,16705.05,{"$f":"_xlfn.XLOOKUP(F1770,'Object Codes'!$A$18:$A$510,'Object Codes'!$H$18:$H$510)","v":"Supplies & Materials"},{"$f":"_xlfn.XLOOKUP(F1770,'Object Codes'!$A$18:$A$510,'Object Codes'!$G$18:$G$510)","v":"A"},{"$f":"_xlfn.XLOOKUP(A1770,Agencies!$A$9:$A$146,Agencies!$B$9:$B$146)","v":"General Government"},{"$f":"IF(_xlfn.XLOOKUP(A1770,Agencies!A:A,Agencies!D:D)=\"Y\",IF(_xlfn.XLOOKUP(F1770,'Object Codes'!A:A,'Object Codes'!I:I)=\"Y\",\"Y\",\"N\"),\"N\")","v":"Y"},{"$f":"VLOOKUP(F1770,'Object Codes'!$A:$C,3,0)","v":"Postage"},{"$f":"VLOOKUP(A1770,Agencies!A:C,3,0)","v":"Office of the Comptroller"},146.04095890410957]
["015",2022,"001","005","0501","619",0,0,0,13227,13227,0,0,0,0,0,7877.09,0,7877.09,7877.09,5349.91,7877.09,5349.91,7877.09,7877.09,5349.91,{"$f":"_xlfn.XLOOKUP(F1804,'Object Codes'!$A$18:$A$510,'Object Codes'!$H$18:$H$510)","v":"Contractual Services"},{"$f":"_xlfn.XLOOKUP(F1804,'Object Codes'!$A$18:$A$510,'Object Codes'!$G$18:$G$510)","v":0},{"$f":"_xlfn.XLOOKUP(A1804,Agencies!$A$9:$A$146,Agencies!$B$9:$B$146)","v":"General Government"},{"$f":"IF(_xlfn.XLOOKUP(A1804,Agencies!A:A,Agencies!D:D)=\"Y\",IF(_xlfn.XLOOKUP(F1804,'Object Codes'!A:A,'Object Codes'!I:I)=\"Y\",\"Y\",\"N\"),\"N\")","v":"Y"},{"$f":"VLOOKUP(F1804,'Object Codes'!$A:$C,3,0)","v":"Security Services - Contractual"},{"$f":"VLOOKUP(A1804,Agencies!A:C,3,0)","v":"Office of the Comptroller"},21.581068493150685]
["015",2022,"001","008","1400","402",0,0,0,843,843,0,0,0,0,0,300,0,300,300,543,300,543,300,300,543,{"$f":"_xlfn.XLOOKUP(F1878,'Object Codes'!$A$18:$A$510,'Object Codes'!$H$18:$H$510)","v":"Other Services and Charges - General"},{"$f":"_xlfn.XLOOKUP(F1878,'Object Codes'!$A$18:$A$510,'Object Codes'!$G$18:$G$510)","v":0},{"$f":"_xlfn.XLOOKUP(A1878,Agencies!$A$9:$A$146,Agencies!$B$9:$B$146)","v":"General Government"},{"$f":"IF(_xlfn.XLOOKUP(A1878,Agencies!A:A,Agencies!D:D)=\"Y\",IF(_xlfn.XLOOKUP(F1878,'Object Codes'!A:A,'Object Codes'!I:I)=\"Y\",\"Y\",\"N\"),\"N\")","v":"Y"},{"$f":"VLOOKUP(F1878,'Object Codes'!$A:$C,3,0)","v":"Telephone and Other Communications"},{"$f":"VLOOKUP(A1878,Agencies!A:C,3,0)","v":"Office of the Comptroller"},0.82191780821917804]
["015",2022,"001","008","1405","615",0,0,0,50000,50000,0,0,0,0,0,744.5,0,744.5,744.5,49255.5,744.5,49255.5,744.5,744.5,49255.5,{"$f":"_xlfn.XLOOKUP(F1913,'Object Codes'!$A$18:$A$510,'Object Codes'!$H$18:$H$510)","v":"Contractual Services"},{"$f":"_xlfn.XLOOKUP(F1913,'Object Codes'!$A$18:$A$510,'Object Codes'!$G$18:$G$510)","v":0},{"$f":"_xlfn.XLOOKUP(A1913,Agencies!$A$9:$A$146,Agencies!$B$9:$B$146)","v":"General Government"},{"$f":"IF(_xlfn.XLOOKUP(A1913,Agencies!A:A,Agencies!D:D)=\"Y\",IF(_xlfn.XLOOKUP(F1913,'Object Codes'!A:A,'Object Codes'!I:I)=\"Y\",\"Y\",\"N\"),\"N\")","v":"Y"},{"$f":"VLOOKUP(F1913,'Object Codes'!$A:$C,3,0)","v":"Printing Services - Contractual"},{"$f":"VLOOKUP(A1913,Agencies!A:C,3,0)","v":"Office of the Comptroller"},2.0397260273972604]
["017",2022,"001","001","1121","061",0,0,0,0,60,0,0,0,0,0,85,0,85,85,-25,85,-25,85,85,-25,{"$f":"_xlfn.XLOOKUP(F1947,'Object Codes'!$A$18:$A$510,'Object Codes'!$H$18:$H$510)","v":"PS - Additional Gross"},{"$f":"_xlfn.XLOOKUP(F1947,'Object Codes'!$A$18:$A$510,'Object Codes'!$G$18:$G$510)","v":"A"},{"$f":"_xlfn.XLOOKUP(A1947,Agencies!$A$9:$A$146,Agencies!$B$9:$B$146)","v":"Public Safety & Judicial"},{"$f":"IF(_xlfn.XLOOKUP(A1947,Agencies!A:A,Agencies!D:D)=\"Y\",IF(_xlfn.XLOOKUP(F1947,'Object Codes'!A:A,'Object Codes'!I:I)=\"Y\",\"Y\",\"N\"),\"N\")","v":"Y"},{"$f":"VLOOKUP(F1947,'Object Codes'!$A:$C,3,0)","v":"Supper Money"},{"$f":"VLOOKUP(A1947,Agencies!A:C,3,0)","v":"Dept. of Emergency Management"},0.23287671232876711]
["017",2022,"001","002","0210","686",0,0,0,40791,799107,0,0,0,0,0,272316.34999999998,34000,306316.34999999998,306316.34999999998,492790.65,306316.34999999998,492790.65,306316.34999999998,306316.34999999998,492790.65,{"$f":"_xlfn.XLOOKUP(F2023,'Object Codes'!$A$18:$A$510,'Object Codes'!$H$18:$H$510)","v":"Contractual Services"},{"$f":"_xlfn.XLOOKUP(F2023,'Object Codes'!$A$18:$A$510,'Object Codes'!$G$18:$G$510)","v":0},{"$f":"_xlfn.XLOOKUP(A2023,Agencies!$A$9:$A$146,Agencies!$B$9:$B$146)","v":"Public Safety & Judicial"},{"$f":"IF(_xlfn.XLOOKUP(A2023,Agencies!A:A,Agencies!D:D)=\"Y\",IF(_xlfn.XLOOKUP(F2023,'Object Codes'!A:A,'Object Codes'!I:I)=\"Y\",\"Y\",\"N\"),\"N\")","v":"Y"},{"$f":"VLOOKUP(F2023,'Object Codes'!$A:$C,3,0)","v":"Professional Services - Other - Contractual"},{"$f":"VLOOKUP(A2023,Agencies!A:C,3,0)","v":"Dept. of Emergency Management"},839.22287671232868]
["017",2022,"001","002","2000","332",0,0,0,43000,0,0,0,0,0,0,0,0,0,0,0,0,0,0,0,0,{"$f":"_xlfn.XLOOKUP(F2039,'Object Codes'!$A$18:$A$510,'Object Codes'!$H$18:$H$510)","v":"Equipment"},{"$f":"_xlfn.XLOOKUP(F2039,'Object Codes'!$A$18:$A$510,'Object Codes'!$G$18:$G$510)","v":"A"},{"$f":"_xlfn.XLOOKUP(A2039,Agencies!$A$9:$A$146,Agencies!$B$9:$B$146)","v":"Public Safety & Judicial"},{"$f":"IF(_xlfn.XLOOKUP(A2039,Agencies!A:A,Agencies!D:D)=\"Y\",IF(_xlfn.XLOOKUP(F2039,'Object Codes'!A:A,'Object Codes'!I:I)=\"Y\",\"Y\",\"N\"),\"N\")","v":"Y"},{"$f":"VLOOKUP(F2039,'Object Codes'!$A:$C,3,0)","v":"Purchases of Data Processing Equipment"},{"$f":"VLOOKUP(A2039,Agencies!A:C,3,0)","v":"Dept. of Emergency Management"},0]
["017",2022,"001","002","2801","686",0,0,0,0,78416,0,0,0,0,0,78414.8,0,78414.8,78414.8,1.2,78414.8,1.2,78414.8,78414.8,1.2,{"$f":"_xlfn.XLOOKUP(F2090,'Object Codes'!$A$18:$A$510,'Object Codes'!$H$18:$H$510)","v":"Contractual Services"},{"$f":"_xlfn.XLOOKUP(F2090,'Object Codes'!$A$18:$A$510,'Object Codes'!$G$18:$G$510)","v":0},{"$f":"_xlfn.XLOOKUP(A2090,Agencies!$A$9:$A$146,Agencies!$B$9:$B$146)","v":"Public Safety & Judicial"},{"$f":"IF(_xlfn.XLOOKUP(A2090,Agencies!A:A,Agencies!D:D)=\"Y\",IF(_xlfn.XLOOKUP(F2090,'Object Codes'!A:A,'Object Codes'!I:I)=\"Y\",\"Y\",\"N\"),\"N\")","v":"Y"},{"$f":"VLOOKUP(F2090,'Object Codes'!$A:$C,3,0)","v":"Professional Services - Other - Contractual"},{"$f":"VLOOKUP(A2090,Agencies!A:C,3,0)","v":"Dept. of Emergency Management"},214.83506849315069]
["017",2022,"001","002","3000","412",0,0,0,40000,0,0,0,0,0,0,0,0,0,0,0,0,0,0,0,0,{"$f":"_xlfn.XLOOKUP(F2166,'Object Codes'!$A$18:$A$510,'Object Codes'!$H$18:$H$510)","v":"Other Services and Charges - General"},{"$f":"_xlfn.XLOOKUP(F2166,'Object Codes'!$A$18:$A$510,'Object Codes'!$G$18:$G$510)","v":0},{"$f":"_xlfn.XLOOKUP(A2166,Agencies!$A$9:$A$146,Agencies!$B$9:$B$146)","v":"Public Safety & Judicial"},{"$f":"IF(_xlfn.XLOOKUP(A2166,Agencies!A:A,Agencies!D:D)=\"Y\",IF(_xlfn.XLOOKUP(F2166,'Object Codes'!A:A,'Object Codes'!I:I)=\"Y\",\"Y\",\"N\"),\"N\")","v":"Y"},{"$f":"VLOOKUP(F2166,'Object Codes'!$A:$C,3,0)","v":"Rentals - Miscellaneous Equipment"},{"$f":"VLOOKUP(A2166,Agencies!A:C,3,0)","v":"Dept. of Emergency Management"},0]
["017",2022,"001","002","CV03","400",0,0,0,0,3788948,0,0,0,0,0,3788947.5,0,3788947.5,3788947.5,0.5,3788947.5,0.5,3788947.5,3788947.5,0.5,{"$f":"_xlfn.XLOOKUP(F2188,'Object Codes'!$A$18:$A$510,'Object Codes'!$H$18:$H$510)","v":"Other Services and Charges - General"},{"$f":"_xlfn.XLOOKUP(F2188,'Object Codes'!$A$18:$A$510,'Object Codes'!$G$18:$G$510)","v":0},{"$f":"_xlfn.XLOOKUP(A2188,Agencies!$A$9:$A$146,Agencies!$B$9:$B$146)","v":"Public Safety & Judicial"},{"$f":"IF(_xlfn.XLOOKUP(A2188,Agencies!A:A,Agencies!D:D)=\"Y\",IF(_xlfn.XLOOKUP(F2188,'Object Codes'!A:A,'Object Codes'!I:I)=\"Y\",\"Y\",\"N\"),\"N\")","v":"Y"},{"$f":"VLOOKUP(F2188,'Object Codes'!$A:$C,3,0)","v":"Other Services and Charges - General"},{"$f":"VLOOKUP(A2188,Agencies!A:C,3,0)","v":"Dept. of Emergency Management"},10380.67808219178]
["021",2022,"001","002","1001","199",0,0,0,6000,15500,0,0,0,0,0,14447.6,0,14447.6,14447.6,1052.4000000000001,14447.6,1052.4000000000001,14447.6,14447.6,1052.4000000000001,{"$f":"_xlfn.XLOOKUP(F2233,'Object Codes'!$A$18:$A$510,'Object Codes'!$H$18:$H$510)","v":"Supplies & Materials"},{"$f":"_xlfn.XLOOKUP(F2233,'Object Codes'!$A$18:$A$510,'Object Codes'!$G$18:$G$510)","v":"A"},{"$f":"_xlfn.XLOOKUP(A2233,Agencies!$A$9:$A$146,Agencies!$B$9:$B$146)","v":"General Government"},{"$f":"IF(_xlfn.XLOOKUP(A2233,Agencies!A:A,Agencies!D:D)=\"Y\",IF(_xlfn.XLOOKUP(F2233,'Object Codes'!A:A,'Object Codes'!I:I)=\"Y\",\"Y\",\"N\"),\"N\")","v":"Y"},{"$f":"VLOOKUP(F2233,'Object Codes'!$A:$C,3,0)","v":"Data Processing Supplies"},{"$f":"VLOOKUP(A2233,Agencies!A:C,3,0)","v":"Office of Admin. Tax Appeals"},39.582465753424657]
["025",2022,"001","001","0101","X43",0,0,0,0,0,0,0,0,0,0,8.61,0,8.61,8.61,-8.61,8.61,-8.61,8.61,8.61,-8.61,{"$f":"_xlfn.XLOOKUP(F2262,'Object Codes'!$A$18:$A$510,'Object Codes'!$H$18:$H$510)","v":"PS - Additional Gross"},{"$f":"_xlfn.XLOOKUP(F2262,'Object Codes'!$A$18:$A$510,'Object Codes'!$G$18:$G$510)","v":"A"},{"$f":"_xlfn.XLOOKUP(A2262,Agencies!$A$9:$A$146,Agencies!$B$9:$B$146)","v":"General Government"},{"$f":"IF(_xlfn.XLOOKUP(A2262,Agencies!A:A,Agencies!D:D)=\"Y\",IF(_xlfn.XLOOKUP(F2262,'Object Codes'!A:A,'Object Codes'!I:I)=\"Y\",\"Y\",\"N\"),\"N\")","v":"Y"},{"$f":"VLOOKUP(F2262,'Object Codes'!$A:$C,3,0)","v":"PY SHIFT DIFFERENTIAL"},{"$f":"VLOOKUP(A2262,Agencies!A:C,3,0)","v":"Law Department"},2.3589041095890408E-2]
["025",2022,"001","001","0902","042",0,0,0,0,20000,0,0,0,0,0,44594.54,0,44594.54,44594.54,-24594.54,44594.54,-24594.54,44594.54,44594.54,-24594.54,{"$f":"_xlfn.XLOOKUP(F2337,'Object Codes'!$A$18:$A$510,'Object Codes'!$H$18:$H$510)","v":"PS - Additional Gross"},{"$f":"_xlfn.XLOOKUP(F2337,'Object Codes'!$A$18:$A$510,'Object Codes'!$G$18:$G$510)","v":"A"},{"$f":"_xlfn.XLOOKUP(A2337,Agencies!$A$9:$A$146,Agencies!$B$9:$B$146)","v":"General Government"},{"$f":"IF(_xlfn.XLOOKUP(A2337,Agencies!A:A,Agencies!D:D)=\"Y\",IF(_xlfn.XLOOKUP(F2337,'Object Codes'!A:A,'Object Codes'!I:I)=\"Y\",\"Y\",\"N\"),\"N\")","v":"Y"},{"$f":"VLOOKUP(F2337,'Object Codes'!$A:$C,3,0)","v":"Longevity Differential"},{"$f":"VLOOKUP(A2337,Agencies!A:C,3,0)","v":"Law Department"},122.17682191780823]
["025",2022,"001","001","1301","001",0,41,41,4182386,3931936,0,0,0,0,0,3924432.2,0,3924432.2,3924432.2,7503.8,3924432.2,7503.8,3924432.2,3924432.2,7503.8,{"$f":"_xlfn.XLOOKUP(F2371,'Object Codes'!$A$18:$A$510,'Object Codes'!$H$18:$H$510)","v":"PS - Regular"},{"$f":"_xlfn.XLOOKUP(F2371,'Object Codes'!$A$18:$A$510,'Object Codes'!$G$18:$G$510)","v":"C"},{"$f":"_xlfn.XLOOKUP(A2371,Agencies!$A$9:$A$146,Agencies!$B$9:$B$146)","v":"General Government"},{"$f":"IF(_xlfn.XLOOKUP(A2371,Agencies!A:A,Agencies!D:D)=\"Y\",IF(_xlfn.XLOOKUP(F2371,'Object Codes'!A:A,'Object Codes'!I:I)=\"Y\",\"Y\",\"N\"),\"N\")","v":"Y"},{"$f":"VLOOKUP(F2371,'Object Codes'!$A:$C,3,0)","v":"Full Year Positions"},{"$f":"VLOOKUP(A2371,Agencies!A:C,3,0)","v":"Law Department"},10751.869041095892]
["025",2022,"001","001","2001","061",0,0,0,0,950,0,0,0,0,0,1342.5,0,1342.5,1342.5,-392.5,1342.5,-392.5,1342.5,1342.5,-392.5,{"$f":"_xlfn.XLOOKUP(F2405,'Object Codes'!$A$18:$A$510,'Object Codes'!$H$18:$H$510)","v":"PS - Additional Gross"},{"$f":"_xlfn.XLOOKUP(F2405,'Object Codes'!$A$18:$A$510,'Object Codes'!$G$18:$G$510)","v":"A"},{"$f":"_xlfn.XLOOKUP(A2405,Agencies!$A$9:$A$146,Agencies!$B$9:$B$146)","v":"General Government"},{"$f":"IF(_xlfn.XLOOKUP(A2405,Agencies!A:A,Agencies!D:D)=\"Y\",IF(_xlfn.XLOOKUP(F2405,'Object Codes'!A:A,'Object Codes'!I:I)=\"Y\",\"Y\",\"N\"),\"N\")","v":"Y"},{"$f":"VLOOKUP(F2405,'Object Codes'!$A:$C,3,0)","v":"Supper Money"},{"$f":"VLOOKUP(A2405,Agencies!A:C,3,0)","v":"Law Department"},3.6780821917808217]
["025",2022,"001","001","2901","041",0,0,0,0,47000,0,0,0,0,0,39664.480000000003,0,39664.480000000003,39664.480000000003,7335.52,39664.480000000003,7335.52,39664.480000000003,39664.480000000003,7335.52,{"$f":"_xlfn.XLOOKUP(F2486,'Object Codes'!$A$18:$A$510,'Object Codes'!$H$18:$H$510)","v":"PS - Additional Gross"},{"$f":"_xlfn.XLOOKUP(F2486,'Object Codes'!$A$18:$A$510,'Object Codes'!$G$18:$G$510)","v":"A"},{"$f":"_xlfn.XLOOKUP(A2486,Agencies!$A$9:$A$146,Agencies!$B$9:$B$146)","v":"General Government"},{"$f":"IF(_xlfn.XLOOKUP(A2486,Agencies!A:A,Agencies!D:D)=\"Y\",IF(_xlfn.XLOOKUP(F2486,'Object Codes'!A:A,'Object Codes'!I:I)=\"Y\",\"Y\",\"N\"),\"N\")","v":"Y"},{"$f":"VLOOKUP(F2486,'Object Codes'!$A:$C,3,0)","v":"Assignment Differential"},{"$f":"VLOOKUP(A2486,Agencies!A:C,3,0)","v":"Law Department"},108.66980821917809]
["025",2022,"001","001","3201","042",0,0,0,2599,49599,0,0,0,0,0,46083.11,0,46083.11,46083.11,3515.89,46083.11,3515.89,46083.11,46083.11,3515.89,{"$f":"_xlfn.XLOOKUP(F2514,'Object Codes'!$A$18:$A$510,'Object Codes'!$H$18:$H$510)","v":"PS - Additional Gross"},{"$f":"_xlfn.XLOOKUP(F2514,'Object Codes'!$A$18:$A$510,'Object Codes'!$G$18:$G$510)","v":"A"},{"$f":"_xlfn.XLOOKUP(A2514,Agencies!$A$9:$A$146,Agencies!$B$9:$B$146)","v":"General Government"},{"$f":"IF(_xlfn.XLOOKUP(A2514,Agencies!A:A,Agencies!D:D)=\"Y\",IF(_xlfn.XLOOKUP(F2514,'Object Codes'!A:A,'Object Codes'!I:I)=\"Y\",\"Y\",\"N\"),\"N\")","v":"Y"},{"$f":"VLOOKUP(F2514,'Object Codes'!$A:$C,3,0)","v":"Longevity Differential"},{"$f":"VLOOKUP(A2514,Agencies!A:C,3,0)","v":"Law Department"},126.25509589041096]
["025",2022,"001","002","0201","403",0,0,0,556077,1231077,0,0,2000,0,0,948526.68,280548.23,1231074.9099999999,1229074.9099999999,2002.09,1229074.9099999999,2002.09,1229074.9099999999,1229074.9099999999,2002.09,{"$f":"_xlfn.XLOOKUP(F2548,'Object Codes'!$A$18:$A$510,'Object Codes'!$H$18:$H$510)","v":"Other Services and Charges - General"},{"$f":"_xlfn.XLOOKUP(F2548,'Object Codes'!$A$18:$A$510,'Object Codes'!$G$18:$G$510)","v":0},{"$f":"_xlfn.XLOOKUP(A2548,Agencies!$A$9:$A$146,Agencies!$B$9:$B$146)","v":"General Government"},{"$f":"IF(_xlfn.XLOOKUP(A2548,Agencies!A:A,Agencies!D:D)=\"Y\",IF(_xlfn.XLOOKUP(F2548,'Object Codes'!A:A,'Object Codes'!I:I)=\"Y\",\"Y\",\"N\"),\"N\")","v":"Y"},{"$f":"VLOOKUP(F2548,'Object Codes'!$A:$C,3,0)","v":"Office Services"},{"$f":"VLOOKUP(A2548,Agencies!A:C,3,0)","v":"Law Department"},3372.8079726027395]
["025",2022,"001","002","0208","402",0,0,0,1000,1000,0,0,0,0,0,0,0,0,0,1000,0,1000,0,0,1000,{"$f":"_xlfn.XLOOKUP(F2589,'Object Codes'!$A$18:$A$510,'Object Codes'!$H$18:$H$510)","v":"Other Services and Charges - General"},{"$f":"_xlfn.XLOOKUP(F2589,'Object Codes'!$A$18:$A$510,'Object Codes'!$G$18:$G$510)","v":0},{"$f":"_xlfn.XLOOKUP(A2589,Agencies!$A$9:$A$146,Agencies!$B$9:$B$146)","v":"General Government"},{"$f":"IF(_xlfn.XLOOKUP(A2589,Agencies!A:A,Agencies!D:D)=\"Y\",IF(_xlfn.XLOOKUP(F2589,'Object Codes'!A:A,'Object Codes'!I:I)=\"Y\",\"Y\",\"N\"),\"N\")","v":"Y"},{"$f":"VLOOKUP(F2589,'Object Codes'!$A:$C,3,0)","v":"Telephone and Other Communications"},{"$f":"VLOOKUP(A2589,Agencies!A:C,3,0)","v":"Law Department"},0]
["030",2022,"001","001","1001","042",0,0,0,3038,3038,0,0,0,0,0,3903.4,0,3903.4,3903.4,-865.4,3903.4,-865.4,3903.4,3903.4,-865.4,{"$f":"_xlfn.XLOOKUP(F2657,'Object Codes'!$A$18:$A$510,'Object Codes'!$H$18:$H$510)","v":"PS - Additional Gross"},{"$f":"_xlfn.XLOOKUP(F2657,'Object Codes'!$A$18:$A$510,'Object Codes'!$G$18:$G$510)","v":"A"},{"$f":"_xlfn.XLOOKUP(A2657,Agencies!$A$9:$A$146,Agencies!$B$9:$B$146)","v":"General Government"},{"$f":"IF(_xlfn.XLOOKUP(A2657,Agencies!A:A,Agencies!D:D)=\"Y\",IF(_xlfn.XLOOKUP(F2657,'Object Codes'!A:A,'Object Codes'!I:I)=\"Y\",\"Y\",\"N\"),\"N\")","v":"Y"},{"$f":"VLOOKUP(F2657,'Object Codes'!$A:$C,3,0)","v":"Longevity Differential"},{"$f":"VLOOKUP(A2657,Agencies!A:C,3,0)","v":"Department of City Planning"},10.694246575342467]
["030",2022,"001","001","2301","042",0,0,0,26401,26401,0,0,0,0,0,20866.810000000001,0,20866.810000000001,20866.810000000001,5534.19,20866.810000000001,5534.19,20866.810000000001,20866.810000000001,5534.19,{"$f":"_xlfn.XLOOKUP(F2691,'Object Codes'!$A$18:$A$510,'Object Codes'!$H$18:$H$510)","v":"PS - Additional Gross"},{"$f":"_xlfn.XLOOKUP(F2691,'Object Codes'!$A$18:$A$510,'Object Codes'!$G$18:$G$510)","v":"A"},{"$f":"_xlfn.XLOOKUP(A2691,Agencies!$A$9:$A$146,Agencies!$B$9:$B$146)","v":"General Government"},{"$f":"IF(_xlfn.XLOOKUP(A2691,Agencies!A:A,Agencies!D:D)=\"Y\",IF(_xlfn.XLOOKUP(F2691,'Object Codes'!A:A,'Object Codes'!I:I)=\"Y\",\"Y\",\"N\"),\"N\")","v":"Y"},{"$f":"VLOOKUP(F2691,'Object Codes'!$A:$C,3,0)","v":"Longevity Differential"},{"$f":"VLOOKUP(A2691,Agencies!A:C,3,0)","v":"Department of City Planning"},57.169342465753431]
["030",2022,"001","001","5100","001",0,11,11,912362,922509,0,0,0,0,0,1212869.8,0,1212869.8,1212869.8,-290360.8,1212869.8,-290360.8,1212869.8,1212869.8,-290360.8,{"$f":"_xlfn.XLOOKUP(F2750,'Object Codes'!$A$18:$A$510,'Object Codes'!$H$18:$H$510)","v":"PS - Regular"},{"$f":"_xlfn.XLOOKUP(F2750,'Object Codes'!$A$18:$A$510,'Object Codes'!$G$18:$G$510)","v":"C"},{"$f":"_xlfn.XLOOKUP(A2750,Agencies!$A$9:$A$146,Agencies!$B$9:$B$146)","v":"General Government"},{"$f":"IF(_xlfn.XLOOKUP(A2750,Agencies!A:A,Agencies!D:D)=\"Y\",IF(_xlfn.XLOOKUP(F2750,'Object Codes'!A:A,'Object Codes'!I:I)=\"Y\",\"Y\",\"N\"),\"N\")","v":"Y"},{"$f":"VLOOKUP(F2750,'Object Codes'!$A:$C,3,0)","v":"Full Year Positions"},{"$f":"VLOOKUP(A2750,Agencies!A:C,3,0)","v":"Department of City Planning"},3322.9309589041095]
["030",2022,"001","002","0300","101",0,0,0,15750,14950,0,0,0,0,0,5617.75,0,5617.75,5617.75,9332.25,5617.75,9332.25,5617.75,5617.75,9332.25,{"$f":"_xlfn.XLOOKUP(F2800,'Object Codes'!$A$18:$A$510,'Object Codes'!$H$18:$H$510)","v":"Supplies & Materials"},{"$f":"_xlfn.XLOOKUP(F2800,'Object Codes'!$A$18:$A$510,'Object Codes'!$G$18:$G$510)","v":"A"},{"$f":"_xlfn.XLOOKUP(A2800,Agencies!$A$9:$A$146,Agencies!$B$9:$B$146)","v":"General Government"},{"$f":"IF(_xlfn.XLOOKUP(A2800,Agencies!A:A,Agencies!D:D)=\"Y\",IF(_xlfn.XLOOKUP(F2800,'Object Codes'!A:A,'Object Codes'!I:I)=\"Y\",\"Y\",\"N\"),\"N\")","v":"Y"},{"$f":"VLOOKUP(F2800,'Object Codes'!$A:$C,3,0)","v":"Printing Supplies"},{"$f":"VLOOKUP(A2800,Agencies!A:C,3,0)","v":"Department of City Planning"},15.391095890410959]
["030",2022,"001","002","0500","300",0,0,0,0,20000,0,0,0,0,0,0,0,0,0,20000,0,20000,0,0,20000,{"$f":"_xlfn.XLOOKUP(F2834,'Object Codes'!$A$18:$A$510,'Object Codes'!$H$18:$H$510)","v":"Equipment"},{"$f":"_xlfn.XLOOKUP(F2834,'Object Codes'!$A$18:$A$510,'Object Codes'!$G$18:$G$510)","v":"A"},{"$f":"_xlfn.XLOOKUP(A2834,Agencies!$A$9:$A$146,Agencies!$B$9:$B$146)","v":"General Government"},{"$f":"IF(_xlfn.XLOOKUP(A2834,Agencies!A:A,Agencies!D:D)=\"Y\",IF(_xlfn.XLOOKUP(F2834,'Object Codes'!A:A,'Object Codes'!I:I)=\"Y\",\"Y\",\"N\"),\"N\")","v":"Y"},{"$f":"VLOOKUP(F2834,'Object Codes'!$A:$C,3,0)","v":"Equipment - General"},{"$f":"VLOOKUP(A2834,Agencies!A:C,3,0)","v":"Department of City Planning"},0]
["030",2022,"001","002","4000","100",0,0,0,0,1935,0,0,0,0,0,33.5,0,33.5,33.5,1901.5,33.5,1901.5,33.5,33.5,1901.5,{"$f":"_xlfn.XLOOKUP(F2899,'Object Codes'!$A$18:$A$510,'Object Codes'!$H$18:$H$510)","v":"Supplies & Materials"},{"$f":"_xlfn.XLOOKUP(F2899,'Object Codes'!$A$18:$A$510,'Object Codes'!$G$18:$G$510)","v":"A"},{"$f":"_xlfn.XLOOKUP(A2899,Agencies!$A$9:$A$146,Agencies!$B$9:$B$146)","v":"General Government"},{"$f":"IF(_xlfn.XLOOKUP(A2899,Agencies!A:A,Agencies!D:D)=\"Y\",IF(_xlfn.XLOOKUP(F2899,'Object Codes'!A:A,'Object Codes'!I:I)=\"Y\",\"Y\",\"N\"),\"N\")","v":"Y"},{"$f":"VLOOKUP(F2899,'Object Codes'!$A:$C,3,0)","v":"Supplies and Materials - General"},{"$f":"VLOOKUP(A2899,Agencies!A:C,3,0)","v":"Department of City Planning"},9.1780821917808217E-2]
["030",2022,"001","004","4331","613",0,0,0,49799,49799,0,0,0,0,0,37259.160000000003,0,37259.160000000003,37259.160000000003,12539.84,37259.160000000003,12539.84,37259.160000000003,37259.160000000003,12539.84,{"$f":"_xlfn.XLOOKUP(F2943,'Object Codes'!$A$18:$A$510,'Object Codes'!$H$18:$H$510)","v":"Contractual Services"},{"$f":"_xlfn.XLOOKUP(F2943,'Object Codes'!$A$18:$A$510,'Object Codes'!$G$18:$G$510)","v":0},{"$f":"_xlfn.XLOOKUP(A2943,Agencies!$A$9:$A$146,Agencies!$B$9:$B$146)","v":"General Government"},{"$f":"IF(_xlfn.XLOOKUP(A2943,Agencies!A:A,Agencies!D:D)=\"Y\",IF(_xlfn.XLOOKUP(F2943,'Object Codes'!A:A,'Object Codes'!I:I)=\"Y\",\"Y\",\"N\"),\"N\")","v":"Y"},{"$f":"VLOOKUP(F2943,'Object Codes'!$A:$C,3,0)","v":"Data Processing Equipment Maintenance - Contractual"},{"$f":"VLOOKUP(A2943,Agencies!A:C,3,0)","v":"Department of City Planning"},102.07989041095891]
["032",2022,"001","001","0301","X43",0,0,0,0,0,0,0,0,0,0,0.1,0,0.1,0.1,-0.1,0.1,-0.1,0.1,0.1,-0.1,{"$f":"_xlfn.XLOOKUP(F2972,'Object Codes'!$A$18:$A$510,'Object Codes'!$H$18:$H$510)","v":"PS - Additional Gross"},{"$f":"_xlfn.XLOOKUP(F2972,'Object Codes'!$A$18:$A$510,'Object Codes'!$G$18:$G$510)","v":"A"},{"$f":"_xlfn.XLOOKUP(A2972,Agencies!$A$9:$A$146,Agencies!$B$9:$B$146)","v":"General Government"},{"$f":"IF(_xlfn.XLOOKUP(A2972,Agencies!A:A,Agencies!D:D)=\"Y\",IF(_xlfn.XLOOKUP(F2972,'Object Codes'!A:A,'Object Codes'!I:I)=\"Y\",\"Y\",\"N\"),\"N\")","v":"Y"},{"$f":"VLOOKUP(F2972,'Object Codes'!$A:$C,3,0)","v":"PY SHIFT DIFFERENTIAL"},{"$f":"VLOOKUP(A2972,Agencies!A:C,3,0)","v":"Department of Investigation"},2.7397260273972606E-4]
["032",2022,"001","001","5560","001",0,30,30,1843167,1843167,0,0,0,0,0,1690011.98,0,1690011.98,1690011.98,153155.01999999999,1690011.98,153155.01999999999,1690011.98,1690011.98,153155.01999999999,{"$f":"_xlfn.XLOOKUP(F3053,'Object Codes'!$A$18:$A$510,'Object Codes'!$H$18:$H$510)","v":"PS - Regular"},{"$f":"_xlfn.XLOOKUP(F3053,'Object Codes'!$A$18:$A$510,'Object Codes'!$G$18:$G$510)","v":"C"},{"$f":"_xlfn.XLOOKUP(A3053,Agencies!$A$9:$A$146,Agencies!$B$9:$B$146)","v":"General Government"},{"$f":"IF(_xlfn.XLOOKUP(A3053,Agencies!A:A,Agencies!D:D)=\"Y\",IF(_xlfn.XLOOKUP(F3053,'Object Codes'!A:A,'Object Codes'!I:I)=\"Y\",\"Y\",\"N\"),\"N\")","v":"Y"},{"$f":"VLOOKUP(F3053,'Object Codes'!$A:$C,3,0)","v":"Full Year Positions"},{"$f":"VLOOKUP(A3053,Agencies!A:C,3,0)","v":"Department of Investigation"},4630.1698082191779]
["032",2022,"001","001","8000","061",0,0,0,0,0,0,0,0,0,0,151.5,0,151.5,151.5,-151.5,151.5,-151.5,151.5,151.5,-151.5,{"$f":"_xlfn.XLOOKUP(F3094,'Object Codes'!$A$18:$A$510,'Object Codes'!$H$18:$H$510)","v":"PS - Additional Gross"},{"$f":"_xlfn.XLOOKUP(F3094,'Object Codes'!$A$18:$A$510,'Object Codes'!$G$18:$G$510)","v":"A"},{"$f":"_xlfn.XLOOKUP(A3094,Agencies!$A$9:$A$146,Agencies!$B$9:$B$146)","v":"General Government"},{"$f":"IF(_xlfn.XLOOKUP(A3094,Agencies!A:A,Agencies!D:D)=\"Y\",IF(_xlfn.XLOOKUP(F3094,'Object Codes'!A:A,'Object Codes'!I:I)=\"Y\",\"Y\",\"N\"),\"N\")","v":"Y"},{"$f":"VLOOKUP(F3094,'Object Codes'!$A:$C,3,0)","v":"Supper Money"},{"$f":"VLOOKUP(A3094,Agencies!A:C,3,0)","v":"Department of Investigation"},0.41506849315068495]
["032",2022,"001","002","3534","400",0,0,0,626031,1740046,0,0,0,0,0,1738817.03,0,1738817.03,1738817.03,1228.97,1738817.03,1228.97,1738817.03,1738817.03,1228.97,{"$f":"_xlfn.XLOOKUP(F3115,'Object Codes'!$A$18:$A$510,'Object Codes'!$H$18:$H$510)","v":"Other Services and Charges - General"},{"$f":"_xlfn.XLOOKUP(F3115,'Object Codes'!$A$18:$A$510,'Object Codes'!$G$18:$G$510)","v":0},{"$f":"_xlfn.XLOOKUP(A3115,Agencies!$A$9:$A$146,Agencies!$B$9:$B$146)","v":"General Government"},{"$f":"IF(_xlfn.XLOOKUP(A3115,Agencies!A:A,Agencies!D:D)=\"Y\",IF(_xlfn.XLOOKUP(F3115,'Object Codes'!A:A,'Object Codes'!I:I)=\"Y\",\"Y\",\"N\"),\"N\")","v":"Y"},{"$f":"VLOOKUP(F3115,'Object Codes'!$A:$C,3,0)","v":"Other Services and Charges - General"},{"$f":"VLOOKUP(A3115,Agencies!A:C,3,0)","v":"Department of Investigation"},4763.8822739726029]
["032",2022,"001","002","9110","100",0,0,0,1839800,106928,0,0,0,0,0,4013.86,0,4013.86,4013.86,102914.14,4013.86,102914.14,4013.86,4013.86,102914.14,{"$f":"_xlfn.XLOOKUP(F3149,'Object Codes'!$A$18:$A$510,'Object Codes'!$H$18:$H$510)","v":"Supplies & Materials"},{"$f":"_xlfn.XLOOKUP(F3149,'Object Codes'!$A$18:$A$510,'Object Codes'!$G$18:$G$510)","v":"A"},{"$f":"_xlfn.XLOOKUP(A3149,Agencies!$A$9:$A$146,Agencies!$B$9:$B$146)","v":"General Government"},{"$f":"IF(_xlfn.XLOOKUP(A3149,Agencies!A:A,Agencies!D:D)=\"Y\",IF(_xlfn.XLOOKUP(F3149,'Object Codes'!A:A,'Object Codes'!I:I)=\"Y\",\"Y\",\"N\"),\"N\")","v":"Y"},{"$f":"VLOOKUP(F3149,'Object Codes'!$A:$C,3,0)","v":"Supplies and Materials - General"},{"$f":"VLOOKUP(A3149,Agencies!A:C,3,0)","v":"Department of Investigation"},10.996876712328767]
["032",2022,"001","002","9120","110",0,0,0,200,1200,0,0,0,0,0,557.61,0,557.61,557.61,642.39,557.61,642.39,557.61,557.61,642.39,{"$f":"_xlfn.XLOOKUP(F3197,'Object Codes'!$A$18:$A$510,'Object Codes'!$H$18:$H$510)","v":"Supplies & Materials"},{"$f":"_xlfn.XLOOKUP(F3197,'Object Codes'!$A$18:$A$510,'Object Codes'!$G$18:$G$510)","v":"A"},{"$f":"_xlfn.XLOOKUP(A3197,Agencies!$A$9:$A$146,Agencies!$B$9:$B$146)","v":"General Government"},{"$f":"IF(_xlfn.XLOOKUP(A3197,Agencies!A:A,Agencies!D:D)=\"Y\",IF(_xlfn.XLOOKUP(F3197,'Object Codes'!A:A,'Object Codes'!I:I)=\"Y\",\"Y\",\"N\"),\"N\")","v":"Y"},{"$f":"VLOOKUP(F3197,'Object Codes'!$A:$C,3,0)","v":"Food and Forage Supplies"},{"$f":"VLOOKUP(A3197,Agencies!A:C,3,0)","v":"Department of Investigation"},1.5276986301369864]
["032",2022,"001","003","2539","047",0,0,0,0,0,0,0,0,0,0,3604.2,0,3604.2,3604.2,-3604.2,3604.2,-3604.2,3604.2,3604.2,-3604.2,{"$f":"_xlfn.XLOOKUP(F3258,'Object Codes'!$A$18:$A$510,'Object Codes'!$H$18:$H$510)","v":"PS - Additional Gross"},{"$f":"_xlfn.XLOOKUP(F3258,'Object Codes'!$A$18:$A$510,'Object Codes'!$G$18:$G$510)","v":"C"},{"$f":"_xlfn.XLOOKUP(A3258,Agencies!$A$9:$A$146,Agencies!$B$9:$B$146)","v":"General Government"},{"$f":"IF(_xlfn.XLOOKUP(A3258,Agencies!A:A,Agencies!D:D)=\"Y\",IF(_xlfn.XLOOKUP(F3258,'Object Codes'!A:A,'Object Codes'!I:I)=\"Y\",\"Y\",\"N\"),\"N\")","v":"Y"},{"$f":"VLOOKUP(F3258,'Object Codes'!$A:$C,3,0)","v":"Overtime"},{"$f":"VLOOKUP(A3258,Agencies!A:C,3,0)","v":"Department of Investigation"},9.8745205479452043]
["032",2022,"001","004","2534","403",0,0,0,0,2094,0,0,0,0,0,2094,0,2094,2094,0,2094,0,2094,2094,0,{"$f":"_xlfn.XLOOKUP(F3292,'Object Codes'!$A$18:$A$510,'Object Codes'!$H$18:$H$510)","v":"Other Services and Charges - General"},{"$f":"_xlfn.XLOOKUP(F3292,'Object Codes'!$A$18:$A$510,'Object Codes'!$G$18:$G$510)","v":0},{"$f":"_xlfn.XLOOKUP(A3292,Agencies!$A$9:$A$146,Agencies!$B$9:$B$146)","v":"General Government"},{"$f":"IF(_xlfn.XLOOKUP(A3292,Agencies!A:A,Agencies!D:D)=\"Y\",IF(_xlfn.XLOOKUP(F3292,'Object Codes'!A:A,'Object Codes'!I:I)=\"Y\",\"Y\",\"N\"),\"N\")","v":"Y"},{"$f":"VLOOKUP(F3292,'Object Codes'!$A:$C,3,0)","v":"Office Services"},{"$f":"VLOOKUP(A3292,Agencies!A:C,3,0)","v":"Department of Investigation"},5.7369863013698632]
["032",2022,"001","004","9170","451",0,0,0,3000,0,0,0,0,0,0,0,0,0,0,0,0,0,0,0,0,{"$f":"_xlfn.XLOOKUP(F3358,'Object Codes'!$A$18:$A$510,'Object Codes'!$H$18:$H$510)","v":"Other Services and Charges - General"},{"$f":"_xlfn.XLOOKUP(F3358,'Object Codes'!$A$18:$A$510,'Object Codes'!$G$18:$G$510)","v":0},{"$f":"_xlfn.XLOOKUP(A3358,Agencies!$A$9:$A$146,Agencies!$B$9:$B$146)","v":"General Government"},{"$f":"IF(_xlfn.XLOOKUP(A3358,Agencies!A:A,Agencies!D:D)=\"Y\",IF(_xlfn.XLOOKUP(F3358,'Object Codes'!A:A,'Object Codes'!I:I)=\"Y\",\"Y\",\"N\"),\"N\")","v":"Y"},{"$f":"VLOOKUP(F3358,'Object Codes'!$A:$C,3,0)","v":"Non Overnight Travel Expenditures - General"},{"$f":"VLOOKUP(A3358,Agencies!A:C,3,0)","v":"Department of Investigation"},0]
["038",2022,"001","001","8003","716",0,0,0,0,60000,0,0,0,0,0,60000,0,60000,60000,0,60000,0,60000,60000,0,{"$f":"_xlfn.XLOOKUP(F3401,'Object Codes'!$A$18:$A$510,'Object Codes'!$H$18:$H$510)","v":"Authorities & External Institutions - Libraries"},{"$f":"_xlfn.XLOOKUP(F3401,'Object Codes'!$A$18:$A$510,'Object Codes'!$G$18:$G$510)","v":0},{"$f":"_xlfn.XLOOKUP(A3401,Agencies!$A$9:$A$146,Agencies!$B$9:$B$146)","v":"Libraries"},{"$f":"IF(_xlfn.XLOOKUP(A3401,Agencies!A:A,Agencies!D:D)=\"Y\",IF(_xlfn.XLOOKUP(F3401,'Object Codes'!A:A,'Object Codes'!I:I)=\"Y\",\"Y\",\"N\"),\"N\")","v":"Y"},{"$f":"VLOOKUP(F3401,'Object Codes'!$A:$C,3,0)","v":"Payments to Libraries"},{"$f":"VLOOKUP(A3401,Agencies!A:C,3,0)","v":"Brooklyn Public Library"},{"$f":"S3401/365","v":164.38356164383561}]
["040",2022,"001","401","4301","057",0,0,0,0,0,0,0,0,0,0,71759.25,0,71759.25,71759.25,-71759.25,71759.25,-71759.25,71759.25,71759.25,-71759.25,{"$f":"_xlfn.XLOOKUP(F3435,'Object Codes'!$A$18:$A$510,'Object Codes'!$H$18:$H$510)","v":"PS - Additional Gross"},{"$f":"_xlfn.XLOOKUP(F3435,'Object Codes'!$A$18:$A$510,'Object Codes'!$G$18:$G$510)","v":"A"},{"$f":"_xlfn.XLOOKUP(A3435,Agencies!$A$9:$A$146,Agencies!$B$9:$B$146)","v":"Education"},{"$f":"IF(_xlfn.XLOOKUP(A3435,Agencies!A:A,Agencies!D:D)=\"Y\",IF(_xlfn.XLOOKUP(F3435,'Object Codes'!A:A,'Object Codes'!I:I)=\"Y\",\"Y\",\"N\"),\"N\")","v":"Y"},{"$f":"VLOOKUP(F3435,'Object Codes'!$A:$C,3,0)","v":"Bonus Payments"},{"$f":"VLOOKUP(A3435,Agencies!A:C,3,0)","v":"Department of Education"},196.60068493150686]
["040",2022,"001","401","4601","X42",0,0,0,0,0,0,0,0,0,0,-1226.6500000000001,0,-1226.6500000000001,-1226.6500000000001,1226.6500000000001,-1226.6500000000001,1226.6500000000001,-1226.6500000000001,-1226.6500000000001,1226.6500000000001,{"$f":"_xlfn.XLOOKUP(F3507,'Object Codes'!$A$18:$A$510,'Object Codes'!$H$18:$H$510)","v":"PS - Additional Gross"},{"$f":"_xlfn.XLOOKUP(F3507,'Object Codes'!$A$18:$A$510,'Object Codes'!$G$18:$G$510)","v":"A"},{"$f":"_xlfn.XLOOKUP(A3507,Agencies!$A$9:$A$146,Agencies!$B$9:$B$146)","v":"Education"},{"$f":"IF(_xlfn.XLOOKUP(A3507,Agencies!A:A,Agencies!D:D)=\"Y\",IF(_xlfn.XLOOKUP(F3507,'Object Codes'!A:A,'Object Codes'!I:I)=\"Y\",\"Y\",\"N\"),\"N\")","v":"Y"},{"$f":"VLOOKUP(F3507,'Object Codes'!$A:$C,3,0)","v":"PY LONGEVITY DIFFERENTIAL"},{"$f":"VLOOKUP(A3507,Agencies!A:C,3,0)","v":"Department of Education"},-3.3606849315068494]
["040",2022,"001","401","4625","042",0,0,0,10,10,0,0,0,0,0,0,0,0,0,10,0,10,0,0,10,{"$f":"_xlfn.XLOOKUP(F3544,'Object Codes'!$A$18:$A$510,'Object Codes'!$H$18:$H$510)","v":"PS - Additional Gross"},{"$f":"_xlfn.XLOOKUP(F3544,'Object Codes'!$A$18:$A$510,'Object Codes'!$G$18:$G$510)","v":"A"},{"$f":"_xlfn.XLOOKUP(A3544,Agencies!$A$9:$A$146,Agencies!$B$9:$B$146)","v":"Education"},{"$f":"IF(_xlfn.XLOOKUP(A3544,Agencies!A:A,Agencies!D:D)=\"Y\",IF(_xlfn.XLOOKUP(F3544,'Object Codes'!A:A,'Object Codes'!I:I)=\"Y\",\"Y\",\"N\"),\"N\")","v":"Y"},{"$f":"VLOOKUP(F3544,'Object Codes'!$A:$C,3,0)","v":"Longevity Differential"},{"$f":"VLOOKUP(A3544,Agencies!A:C,3,0)","v":"Department of Education"},0]
["040",2022,"001","401","4660","005",0,206,206,10539196,10539196,0,0,0,0,0,9716354.0999999996,0,9716354.0999999996,9716354.0999999996,822841.9,9716354.0999999996,822841.9,9716354.0999999996,9716354.0999999996,822841.9,{"$f":"_xlfn.XLOOKUP(F3573,'Object Codes'!$A$18:$A$510,'Object Codes'!$H$18:$H$510)","v":"PS - Regular"},{"$f":"_xlfn.XLOOKUP(F3573,'Object Codes'!$A$18:$A$510,'Object Codes'!$G$18:$G$510)","v":"P"},{"$f":"_xlfn.XLOOKUP(A3573,Agencies!$A$9:$A$146,Agencies!$B$9:$B$146)","v":"Education"},{"$f":"IF(_xlfn.XLOOKUP(A3573,Agencies!A:A,Agencies!D:D)=\"Y\",IF(_xlfn.XLOOKUP(F3573,'Object Codes'!A:A,'Object Codes'!I:I)=\"Y\",\"Y\",\"N\"),\"N\")","v":"Y"},{"$f":"VLOOKUP(F3573,'Object Codes'!$A:$C,3,0)","v":"Full-Time Pedagogical Personnel"},{"$f":"VLOOKUP(A3573,Agencies!A:C,3,0)","v":"Department of Education"},26620.148219178081]
["040",2022,"001","402","4221","402",0,0,0,3000,3000,0,0,0,0,0,0,0,0,0,3000,0,3000,0,0,3000,{"$f":"_xlfn.XLOOKUP(F3656,'Object Codes'!$A$18:$A$510,'Object Codes'!$H$18:$H$510)","v":"Other Services and Charges - General"},{"$f":"_xlfn.XLOOKUP(F3656,'Object Codes'!$A$18:$A$510,'Object Codes'!$G$18:$G$510)","v":0},{"$f":"_xlfn.XLOOKUP(A3656,Agencies!$A$9:$A$146,Agencies!$B$9:$B$146)","v":"Education"},{"$f":"IF(_xlfn.XLOOKUP(A3656,Agencies!A:A,Agencies!D:D)=\"Y\",IF(_xlfn.XLOOKUP(F3656,'Object Codes'!A:A,'Object Codes'!I:I)=\"Y\",\"Y\",\"N\"),\"N\")","v":"Y"},{"$f":"VLOOKUP(F3656,'Object Codes'!$A:$C,3,0)","v":"Telephone and Other Communications"},{"$f":"VLOOKUP(A3656,Agencies!A:C,3,0)","v":"Department of Education"},0]
["040",2022,"001","402","4301","684",0,0,0,40000,40000,0,0,0,0,0,63772.5,0,63772.5,63772.5,-23772.5,63772.5,-23772.5,63772.5,63772.5,-23772.5,{"$f":"_xlfn.XLOOKUP(F3687,'Object Codes'!$A$18:$A$510,'Object Codes'!$H$18:$H$510)","v":"Contractual Services"},{"$f":"_xlfn.XLOOKUP(F3687,'Object Codes'!$A$18:$A$510,'Object Codes'!$G$18:$G$510)","v":0},{"$f":"_xlfn.XLOOKUP(A3687,Agencies!$A$9:$A$146,Agencies!$B$9:$B$146)","v":"Education"},{"$f":"IF(_xlfn.XLOOKUP(A3687,Agencies!A:A,Agencies!D:D)=\"Y\",IF(_xlfn.XLOOKUP(F3687,'Object Codes'!A:A,'Object Codes'!I:I)=\"Y\",\"Y\",\"N\"),\"N\")","v":"Y"},{"$f":"VLOOKUP(F3687,'Object Codes'!$A:$C,3,0)","v":"Professional Services - Computer Services - Contractual"},{"$f":"VLOOKUP(A3687,Agencies!A:C,3,0)","v":"Department of Education"},174.71917808219177]
["040",2022,"001","402","4320","300",0,0,0,11067163,14355024,0,0,0,0,0,612799.15,0,612799.15,612799.15,13742224.85,612799.15,13742224.85,612799.15,612799.15,13742224.85,{"$f":"_xlfn.XLOOKUP(F3716,'Object Codes'!$A$18:$A$510,'Object Codes'!$H$18:$H$510)","v":"Equipment"},{"$f":"_xlfn.XLOOKUP(F3716,'Object Codes'!$A$18:$A$510,'Object Codes'!$G$18:$G$510)","v":"A"},{"$f":"_xlfn.XLOOKUP(A3716,Agencies!$A$9:$A$146,Agencies!$B$9:$B$146)","v":"Education"},{"$f":"IF(_xlfn.XLOOKUP(A3716,Agencies!A:A,Agencies!D:D)=\"Y\",IF(_xlfn.XLOOKUP(F3716,'Object Codes'!A:A,'Object Codes'!I:I)=\"Y\",\"Y\",\"N\"),\"N\")","v":"Y"},{"$f":"VLOOKUP(F3716,'Object Codes'!$A:$C,3,0)","v":"Equipment - General"},{"$f":"VLOOKUP(A3716,Agencies!A:C,3,0)","v":"Department of Education"},1678.9017808219178]
["040",2022,"001","402","4335","100",0,0,0,5287942,5287942,0,0,0,0,0,0,0,0,0,5287942,0,5287942,0,0,5287942,{"$f":"_xlfn.XLOOKUP(F3759,'Object Codes'!$A$18:$A$510,'Object Codes'!$H$18:$H$510)","v":"Supplies & Materials"},{"$f":"_xlfn.XLOOKUP(F3759,'Object Codes'!$A$18:$A$510,'Object Codes'!$G$18:$G$510)","v":"A"},{"$f":"_xlfn.XLOOKUP(A3759,Agencies!$A$9:$A$146,Agencies!$B$9:$B$146)","v":"Education"},{"$f":"IF(_xlfn.XLOOKUP(A3759,Agencies!A:A,Agencies!D:D)=\"Y\",IF(_xlfn.XLOOKUP(F3759,'Object Codes'!A:A,'Object Codes'!I:I)=\"Y\",\"Y\",\"N\"),\"N\")","v":"Y"},{"$f":"VLOOKUP(F3759,'Object Codes'!$A:$C,3,0)","v":"Supplies and Materials - General"},{"$f":"VLOOKUP(A3759,Agencies!A:C,3,0)","v":"Department of Education"},0]
["040",2022,"001","402","4620","689",0,0,0,56039,56039,0,0,0,0,0,203046,0,203046,203046,-147007,203046,-147007,203046,203046,-147007,{"$f":"_xlfn.XLOOKUP(F3830,'Object Codes'!$A$18:$A$510,'Object Codes'!$H$18:$H$510)","v":"Contractual Services"},{"$f":"_xlfn.XLOOKUP(F3830,'Object Codes'!$A$18:$A$510,'Object Codes'!$G$18:$G$510)","v":0},{"$f":"_xlfn.XLOOKUP(A3830,Agencies!$A$9:$A$146,Agencies!$B$9:$B$146)","v":"Education"},{"$f":"IF(_xlfn.XLOOKUP(A3830,Agencies!A:A,Agencies!D:D)=\"Y\",IF(_xlfn.XLOOKUP(F3830,'Object Codes'!A:A,'Object Codes'!I:I)=\"Y\",\"Y\",\"N\"),\"N\")","v":"Y"},{"$f":"VLOOKUP(F3830,'Object Codes'!$A:$C,3,0)","v":"Professional Services - Curriculum and Professional Development - Contractual"},{"$f":"VLOOKUP(A3830,Agencies!A:C,3,0)","v":"Department of Education"},556.29041095890409]
["040",2022,"001","402","4648","100",0,0,0,60552078,49975700,0,0,0,0,0,15467621.859999999,0,15467621.859999999,15467621.859999999,34508078.140000001,15467621.859999999,34508078.140000001,15467621.859999999,15467621.859999999,34508078.140000001,{"$f":"_xlfn.XLOOKUP(F3859,'Object Codes'!$A$18:$A$510,'Object Codes'!$H$18:$H$510)","v":"Supplies & Materials"},{"$f":"_xlfn.XLOOKUP(F3859,'Object Codes'!$A$18:$A$510,'Object Codes'!$G$18:$G$510)","v":"A"},{"$f":"_xlfn.XLOOKUP(A3859,Agencies!$A$9:$A$146,Agencies!$B$9:$B$146)","v":"Education"},{"$f":"IF(_xlfn.XLOOKUP(A3859,Agencies!A:A,Agencies!D:D)=\"Y\",IF(_xlfn.XLOOKUP(F3859,'Object Codes'!A:A,'Object Codes'!I:I)=\"Y\",\"Y\",\"N\"),\"N\")","v":"Y"},{"$f":"VLOOKUP(F3859,'Object Codes'!$A:$C,3,0)","v":"Supplies and Materials - General"},{"$f":"VLOOKUP(A3859,Agencies!A:C,3,0)","v":"Department of Education"},42377.046191780821]
["040",2022,"001","402","4664","676",0,0,0,25700,25700,0,0,0,0,0,0,0,0,0,25700,0,25700,0,0,25700,{"$f":"_xlfn.XLOOKUP(F3908,'Object Codes'!$A$18:$A$510,'Object Codes'!$H$18:$H$510)","v":"Contractual Services"},{"$f":"_xlfn.XLOOKUP(F3908,'Object Codes'!$A$18:$A$510,'Object Codes'!$G$18:$G$510)","v":0},{"$f":"_xlfn.XLOOKUP(A3908,Agencies!$A$9:$A$146,Agencies!$B$9:$B$146)","v":"Education"},{"$f":"IF(_xlfn.XLOOKUP(A3908,Agencies!A:A,Agencies!D:D)=\"Y\",IF(_xlfn.XLOOKUP(F3908,'Object Codes'!A:A,'Object Codes'!I:I)=\"Y\",\"Y\",\"N\"),\"N\")","v":"Y"},{"$f":"VLOOKUP(F3908,'Object Codes'!$A:$C,3,0)","v":"Maintenance and Operation of Infrastructure - Contractual"},{"$f":"VLOOKUP(A3908,Agencies!A:C,3,0)","v":"Department of Education"},0]
["040",2022,"001","403","4801","064",0,0,0,0,0,0,0,0,0,0,294,0,294,294,-294,294,-294,294,294,-294,{"$f":"_xlfn.XLOOKUP(F3968,'Object Codes'!$A$18:$A$510,'Object Codes'!$H$18:$H$510)","v":"PS - Other"},{"$f":"_xlfn.XLOOKUP(F3968,'Object Codes'!$A$18:$A$510,'Object Codes'!$G$18:$G$510)","v":"A"},{"$f":"_xlfn.XLOOKUP(A3968,Agencies!$A$9:$A$146,Agencies!$B$9:$B$146)","v":"Education"},{"$f":"IF(_xlfn.XLOOKUP(A3968,Agencies!A:A,Agencies!D:D)=\"Y\",IF(_xlfn.XLOOKUP(F3968,'Object Codes'!A:A,'Object Codes'!I:I)=\"Y\",\"Y\",\"N\"),\"N\")","v":"Y"},{"$f":"VLOOKUP(F3968,'Object Codes'!$A:$C,3,0)","v":"Allowance for Uniforms"},{"$f":"VLOOKUP(A3968,Agencies!A:C,3,0)","v":"Department of Education"},0.80547945205479454]
["040",2022,"001","403","4905","031",0,0,0,0,0,0,0,0,0,0,45298.48,0,45298.48,45298.48,-45298.48,45298.48,-45298.48,45298.48,45298.48,-45298.48,{"$f":"_xlfn.XLOOKUP(F4002,'Object Codes'!$A$18:$A$510,'Object Codes'!$H$18:$H$510)","v":"PS - Regular"},{"$f":"_xlfn.XLOOKUP(F4002,'Object Codes'!$A$18:$A$510,'Object Codes'!$G$18:$G$510)","v":"C"},{"$f":"_xlfn.XLOOKUP(A4002,Agencies!$A$9:$A$146,Agencies!$B$9:$B$146)","v":"Education"},{"$f":"IF(_xlfn.XLOOKUP(A4002,Agencies!A:A,Agencies!D:D)=\"Y\",IF(_xlfn.XLOOKUP(F4002,'Object Codes'!A:A,'Object Codes'!I:I)=\"Y\",\"Y\",\"N\"),\"N\")","v":"Y"},{"$f":"VLOOKUP(F4002,'Object Codes'!$A:$C,3,0)","v":"Hourly Positions"},{"$f":"VLOOKUP(A4002,Agencies!A:C,3,0)","v":"Department of Education"},124.10542465753426]
["040",2022,"001","403","C403","091",0,0,0,0,270685,0,0,0,0,0,270684.62,0,270684.62,270684.62,0.38,270684.62,0.38,270684.62,270684.62,0.38,{"$f":"_xlfn.XLOOKUP(F4036,'Object Codes'!$A$18:$A$510,'Object Codes'!$H$18:$H$510)","v":"PS - Additional Gross"},{"$f":"_xlfn.XLOOKUP(F4036,'Object Codes'!$A$18:$A$510,'Object Codes'!$G$18:$G$510)","v":"A"},{"$f":"_xlfn.XLOOKUP(A4036,Agencies!$A$9:$A$146,Agencies!$B$9:$B$146)","v":"Education"},{"$f":"IF(_xlfn.XLOOKUP(A4036,Agencies!A:A,Agencies!D:D)=\"Y\",IF(_xlfn.XLOOKUP(F4036,'Object Codes'!A:A,'Object Codes'!I:I)=\"Y\",\"Y\",\"N\"),\"N\")","v":"Y"},{"$f":"VLOOKUP(F4036,'Object Codes'!$A:$C,3,0)","v":"Payments Per Session"},{"$f":"VLOOKUP(A4036,Agencies!A:C,3,0)","v":"Department of Education"},741.60169863013698]
["040",2022,"001","407","8765","005",0,1196,1196,94222733,94222733,0,0,0,0,0,19152406.260000002,0,19152406.260000002,19152406.260000002,75070326.739999995,19152406.260000002,75070326.739999995,19152406.260000002,19152406.260000002,75070326.739999995,{"$f":"_xlfn.XLOOKUP(F4115,'Object Codes'!$A$18:$A$510,'Object Codes'!$H$18:$H$510)","v":"PS - Regular"},{"$f":"_xlfn.XLOOKUP(F4115,'Object Codes'!$A$18:$A$510,'Object Codes'!$G$18:$G$510)","v":"P"},{"$f":"_xlfn.XLOOKUP(A4115,Agencies!$A$9:$A$146,Agencies!$B$9:$B$146)","v":"Education"},{"$f":"IF(_xlfn.XLOOKUP(A4115,Agencies!A:A,Agencies!D:D)=\"Y\",IF(_xlfn.XLOOKUP(F4115,'Object Codes'!A:A,'Object Codes'!I:I)=\"Y\",\"Y\",\"N\"),\"N\")","v":"Y"},{"$f":"VLOOKUP(F4115,'Object Codes'!$A:$C,3,0)","v":"Full-Time Pedagogical Personnel"},{"$f":"VLOOKUP(A4115,Agencies!A:C,3,0)","v":"Department of Education"},52472.345917808227]
["040",2022,"001","407","8807","085",0,0,0,0,0,0,0,0,0,0,76368.75,0,76368.75,76368.75,-76368.75,76368.75,-76368.75,76368.75,76368.75,-76368.75,{"$f":"_xlfn.XLOOKUP(F4145,'Object Codes'!$A$18:$A$510,'Object Codes'!$H$18:$H$510)","v":"PS - Other"},{"$f":"_xlfn.XLOOKUP(F4145,'Object Codes'!$A$18:$A$510,'Object Codes'!$G$18:$G$510)","v":"A"},{"$f":"_xlfn.XLOOKUP(A4145,Agencies!$A$9:$A$146,Agencies!$B$9:$B$146)","v":"Education"},{"$f":"IF(_xlfn.XLOOKUP(A4145,Agencies!A:A,Agencies!D:D)=\"Y\",IF(_xlfn.XLOOKUP(F4145,'Object Codes'!A:A,'Object Codes'!I:I)=\"Y\",\"Y\",\"N\"),\"N\")","v":"Y"},{"$f":"VLOOKUP(F4145,'Object Codes'!$A:$C,3,0)","v":"Awards / Expenses - Workers' Compensation"},{"$f":"VLOOKUP(A4145,Agencies!A:C,3,0)","v":"Department of Education"},209.22945205479451]
["040",2022,"001","407","8918","005",0,43,43,3878604,3452356,0,0,0,0,0,2541706.94,0,2541706.94,2541706.94,910649.06,2541706.94,910649.06,2541706.94,2541706.94,910649.06,{"$f":"_xlfn.XLOOKUP(F4179,'Object Codes'!$A$18:$A$510,'Object Codes'!$H$18:$H$510)","v":"PS - Regular"},{"$f":"_xlfn.XLOOKUP(F4179,'Object Codes'!$A$18:$A$510,'Object Codes'!$G$18:$G$510)","v":"P"},{"$f":"_xlfn.XLOOKUP(A4179,Agencies!$A$9:$A$146,Agencies!$B$9:$B$146)","v":"Education"},{"$f":"IF(_xlfn.XLOOKUP(A4179,Agencies!A:A,Agencies!D:D)=\"Y\",IF(_xlfn.XLOOKUP(F4179,'Object Codes'!A:A,'Object Codes'!I:I)=\"Y\",\"Y\",\"N\"),\"N\")","v":"Y"},{"$f":"VLOOKUP(F4179,'Object Codes'!$A:$C,3,0)","v":"Full-Time Pedagogical Personnel"},{"$f":"VLOOKUP(A4179,Agencies!A:C,3,0)","v":"Department of Education"},6963.5806575342467]
["040",2022,"001","408","8807","684",0,0,0,2037975,2037975,0,0,0,0,0,565196.38,200387.62,765584,765584,1272391,765584,1272391,765584,765584,1272391,{"$f":"_xlfn.XLOOKUP(F4264,'Object Codes'!$A$18:$A$510,'Object Codes'!$H$18:$H$510)","v":"Contractual Services"},{"$f":"_xlfn.XLOOKUP(F4264,'Object Codes'!$A$18:$A$510,'Object Codes'!$G$18:$G$510)","v":0},{"$f":"_xlfn.XLOOKUP(A4264,Agencies!$A$9:$A$146,Agencies!$B$9:$B$146)","v":"Education"},{"$f":"IF(_xlfn.XLOOKUP(A4264,Agencies!A:A,Agencies!D:D)=\"Y\",IF(_xlfn.XLOOKUP(F4264,'Object Codes'!A:A,'Object Codes'!I:I)=\"Y\",\"Y\",\"N\"),\"N\")","v":"Y"},{"$f":"VLOOKUP(F4264,'Object Codes'!$A:$C,3,0)","v":"Professional Services - Computer Services - Contractual"},{"$f":"VLOOKUP(A4264,Agencies!A:C,3,0)","v":"Department of Education"},2097.4904109589042]
["040",2022,"001","408","A408","615",0,0,0,20000,0,0,0,0,0,0,0,0,0,0,0,0,0,0,0,0,{"$f":"_xlfn.XLOOKUP(F4288,'Object Codes'!$A$18:$A$510,'Object Codes'!$H$18:$H$510)","v":"Contractual Services"},{"$f":"_xlfn.XLOOKUP(F4288,'Object Codes'!$A$18:$A$510,'Object Codes'!$G$18:$G$510)","v":0},{"$f":"_xlfn.XLOOKUP(A4288,Agencies!$A$9:$A$146,Agencies!$B$9:$B$146)","v":"Education"},{"$f":"IF(_xlfn.XLOOKUP(A4288,Agencies!A:A,Agencies!D:D)=\"Y\",IF(_xlfn.XLOOKUP(F4288,'Object Codes'!A:A,'Object Codes'!I:I)=\"Y\",\"Y\",\"N\"),\"N\")","v":"Y"},{"$f":"VLOOKUP(F4288,'Object Codes'!$A:$C,3,0)","v":"Printing Services - Contractual"},{"$f":"VLOOKUP(A4288,Agencies!A:C,3,0)","v":"Department of Education"},0]
["040",2022,"001","409","6102","005",0,0,0,10485,10485,0,0,0,0,0,162068.64000000001,0,162068.64000000001,162068.64000000001,-151583.64000000001,162068.64000000001,-151583.64000000001,162068.64000000001,162068.64000000001,-151583.64000000001,{"$f":"_xlfn.XLOOKUP(F4317,'Object Codes'!$A$18:$A$510,'Object Codes'!$H$18:$H$510)","v":"PS - Regular"},{"$f":"_xlfn.XLOOKUP(F4317,'Object Codes'!$A$18:$A$510,'Object Codes'!$G$18:$G$510)","v":"P"},{"$f":"_xlfn.XLOOKUP(A4317,Agencies!$A$9:$A$146,Agencies!$B$9:$B$146)","v":"Education"},{"$f":"IF(_xlfn.XLOOKUP(A4317,Agencies!A:A,Agencies!D:D)=\"Y\",IF(_xlfn.XLOOKUP(F4317,'Object Codes'!A:A,'Object Codes'!I:I)=\"Y\",\"Y\",\"N\"),\"N\")","v":"Y"},{"$f":"VLOOKUP(F4317,'Object Codes'!$A:$C,3,0)","v":"Full-Time Pedagogical Personnel"},{"$f":"VLOOKUP(A4317,Agencies!A:C,3,0)","v":"Department of Education"},444.02367123287672]
["040",2022,"001","409","8408","001",0,0,0,0,0,0,0,0,0,0,14784.84,0,14784.84,14784.84,-14784.84,14784.84,-14784.84,14784.84,14784.84,-14784.84,{"$f":"_xlfn.XLOOKUP(F4367,'Object Codes'!$A$18:$A$510,'Object Codes'!$H$18:$H$510)","v":"PS - Regular"},{"$f":"_xlfn.XLOOKUP(F4367,'Object Codes'!$A$18:$A$510,'Object Codes'!$G$18:$G$510)","v":"C"},{"$f":"_xlfn.XLOOKUP(A4367,Agencies!$A$9:$A$146,Agencies!$B$9:$B$146)","v":"Education"},{"$f":"IF(_xlfn.XLOOKUP(A4367,Agencies!A:A,Agencies!D:D)=\"Y\",IF(_xlfn.XLOOKUP(F4367,'Object Codes'!A:A,'Object Codes'!I:I)=\"Y\",\"Y\",\"N\"),\"N\")","v":"Y"},{"$f":"VLOOKUP(F4367,'Object Codes'!$A:$C,3,0)","v":"Full Year Positions"},{"$f":"VLOOKUP(A4367,Agencies!A:C,3,0)","v":"Department of Education"},40.506410958904112]
["040",2022,"001","415","2317","005",0,5,5,2313761,2313761,0,0,0,0,0,24149547.93,0,24149547.93,24149547.93,-21835786.93,24149547.93,-21835786.93,24149547.93,24149547.93,-21835786.93,{"$f":"_xlfn.XLOOKUP(F4431,'Object Codes'!$A$18:$A$510,'Object Codes'!$H$18:$H$510)","v":"PS - Regular"},{"$f":"_xlfn.XLOOKUP(F4431,'Object Codes'!$A$18:$A$510,'Object Codes'!$G$18:$G$510)","v":"P"},{"$f":"_xlfn.XLOOKUP(A4431,Agencies!$A$9:$A$146,Agencies!$B$9:$B$146)","v":"Education"},{"$f":"IF(_xlfn.XLOOKUP(A4431,Agencies!A:A,Agencies!D:D)=\"Y\",IF(_xlfn.XLOOKUP(F4431,'Object Codes'!A:A,'Object Codes'!I:I)=\"Y\",\"Y\",\"N\"),\"N\")","v":"Y"},{"$f":"VLOOKUP(F4431,'Object Codes'!$A:$C,3,0)","v":"Full-Time Pedagogical Personnel"},{"$f":"VLOOKUP(A4431,Agencies!A:C,3,0)","v":"Department of Education"},66163.145013698624]
["040",2022,"001","415","2640","X42",0,0,0,0,0,0,0,0,0,0,1143.6400000000001,0,1143.6400000000001,1143.6400000000001,-1143.6400000000001,1143.6400000000001,-1143.6400000000001,1143.6400000000001,1143.6400000000001,-1143.6400000000001,{"$f":"_xlfn.XLOOKUP(F4460,'Object Codes'!$A$18:$A$510,'Object Codes'!$H$18:$H$510)","v":"PS - Additional Gross"},{"$f":"_xlfn.XLOOKUP(F4460,'Object Codes'!$A$18:$A$510,'Object Codes'!$G$18:$G$510)","v":"A"},{"$f":"_xlfn.XLOOKUP(A4460,Agencies!$A$9:$A$146,Agencies!$B$9:$B$146)","v":"Education"},{"$f":"IF(_xlfn.XLOOKUP(A4460,Agencies!A:A,Agencies!D:D)=\"Y\",IF(_xlfn.XLOOKUP(F4460,'Object Codes'!A:A,'Object Codes'!I:I)=\"Y\",\"Y\",\"N\"),\"N\")","v":"Y"},{"$f":"VLOOKUP(F4460,'Object Codes'!$A:$C,3,0)","v":"PY LONGEVITY DIFFERENTIAL"},{"$f":"VLOOKUP(A4460,Agencies!A:C,3,0)","v":"Department of Education"},3.1332602739726032]
["040",2022,"001","415","2647","042",0,0,0,0,0,0,0,0,0,0,336094.24,0,336094.24,336094.24,-336094.24,336094.24,-336094.24,336094.24,336094.24,-336094.24,{"$f":"_xlfn.XLOOKUP(F4516,'Object Codes'!$A$18:$A$510,'Object Codes'!$H$18:$H$510)","v":"PS - Additional Gross"},{"$f":"_xlfn.XLOOKUP(F4516,'Object Codes'!$A$18:$A$510,'Object Codes'!$G$18:$G$510)","v":"A"},{"$f":"_xlfn.XLOOKUP(A4516,Agencies!$A$9:$A$146,Agencies!$B$9:$B$146)","v":"Education"},{"$f":"IF(_xlfn.XLOOKUP(A4516,Agencies!A:A,Agencies!D:D)=\"Y\",IF(_xlfn.XLOOKUP(F4516,'Object Codes'!A:A,'Object Codes'!I:I)=\"Y\",\"Y\",\"N\"),\"N\")","v":"Y"},{"$f":"VLOOKUP(F4516,'Object Codes'!$A:$C,3,0)","v":"Longevity Differential"},{"$f":"VLOOKUP(A4516,Agencies!A:C,3,0)","v":"Department of Education"},920.80613698630134]
["040",2022,"001","416","2317","689",0,0,0,0,0,0,0,0,0,0,210295.5,0,210295.5,210295.5,-210295.5,210295.5,-210295.5,210295.5,210295.5,-210295.5,{"$f":"_xlfn.XLOOKUP(F4569,'Object Codes'!$A$18:$A$510,'Object Codes'!$H$18:$H$510)","v":"Contractual Services"},{"$f":"_xlfn.XLOOKUP(F4569,'Object Codes'!$A$18:$A$510,'Object Codes'!$G$18:$G$510)","v":0},{"$f":"_xlfn.XLOOKUP(A4569,Agencies!$A$9:$A$146,Agencies!$B$9:$B$146)","v":"Education"},{"$f":"IF(_xlfn.XLOOKUP(A4569,Agencies!A:A,Agencies!D:D)=\"Y\",IF(_xlfn.XLOOKUP(F4569,'Object Codes'!A:A,'Object Codes'!I:I)=\"Y\",\"Y\",\"N\"),\"N\")","v":"Y"},{"$f":"VLOOKUP(F4569,'Object Codes'!$A:$C,3,0)","v":"Professional Services - Curriculum and Professional Development - Contractual"},{"$f":"VLOOKUP(A4569,Agencies!A:C,3,0)","v":"Department of Education"},576.1520547945205]
["040",2022,"001","416","2641","612",0,0,0,27770,27770,0,0,0,0,0,0,0,0,0,27770,0,27770,0,0,27770,{"$f":"_xlfn.XLOOKUP(F4603,'Object Codes'!$A$18:$A$510,'Object Codes'!$H$18:$H$510)","v":"Contractual Services"},{"$f":"_xlfn.XLOOKUP(F4603,'Object Codes'!$A$18:$A$510,'Object Codes'!$G$18:$G$510)","v":0},{"$f":"_xlfn.XLOOKUP(A4603,Agencies!$A$9:$A$146,Agencies!$B$9:$B$146)","v":"Education"},{"$f":"IF(_xlfn.XLOOKUP(A4603,Agencies!A:A,Agencies!D:D)=\"Y\",IF(_xlfn.XLOOKUP(F4603,'Object Codes'!A:A,'Object Codes'!I:I)=\"Y\",\"Y\",\"N\"),\"N\")","v":"Y"},{"$f":"VLOOKUP(F4603,'Object Codes'!$A:$C,3,0)","v":"Office Equipment Maintenance - Contractual"},{"$f":"VLOOKUP(A4603,Agencies!A:C,3,0)","v":"Department of Education"},0]
["040",2022,"001","416","2647","300",0,0,0,385030,385030,0,0,0,0,0,661941.15,0,661941.15,661941.15,-276911.15000000002,661941.15,-276911.15000000002,661941.15,661941.15,-276911.15000000002,{"$f":"_xlfn.XLOOKUP(F4665,'Object Codes'!$A$18:$A$510,'Object Codes'!$H$18:$H$510)","v":"Equipment"},{"$f":"_xlfn.XLOOKUP(F4665,'Object Codes'!$A$18:$A$510,'Object Codes'!$G$18:$G$510)","v":"A"},{"$f":"_xlfn.XLOOKUP(A4665,Agencies!$A$9:$A$146,Agencies!$B$9:$B$146)","v":"Education"},{"$f":"IF(_xlfn.XLOOKUP(A4665,Agencies!A:A,Agencies!D:D)=\"Y\",IF(_xlfn.XLOOKUP(F4665,'Object Codes'!A:A,'Object Codes'!I:I)=\"Y\",\"Y\",\"N\"),\"N\")","v":"Y"},{"$f":"VLOOKUP(F4665,'Object Codes'!$A:$C,3,0)","v":"Equipment - General"},{"$f":"VLOOKUP(A4665,Agencies!A:C,3,0)","v":"Department of Education"},1813.537397260274]
["040",2022,"001","421","5101","061",0,0,0,0,0,0,0,0,0,0,224.62,0,224.62,224.62,-224.62,224.62,-224.62,224.62,224.62,-224.62,{"$f":"_xlfn.XLOOKUP(F4712,'Object Codes'!$A$18:$A$510,'Object Codes'!$H$18:$H$510)","v":"PS - Additional Gross"},{"$f":"_xlfn.XLOOKUP(F4712,'Object Codes'!$A$18:$A$510,'Object Codes'!$G$18:$G$510)","v":"A"},{"$f":"_xlfn.XLOOKUP(A4712,Agencies!$A$9:$A$146,Agencies!$B$9:$B$146)","v":"Education"},{"$f":"IF(_xlfn.XLOOKUP(A4712,Agencies!A:A,Agencies!D:D)=\"Y\",IF(_xlfn.XLOOKUP(F4712,'Object Codes'!A:A,'Object Codes'!I:I)=\"Y\",\"Y\",\"N\"),\"N\")","v":"Y"},{"$f":"VLOOKUP(F4712,'Object Codes'!$A:$C,3,0)","v":"Supper Money"},{"$f":"VLOOKUP(A4712,Agencies!A:C,3,0)","v":"Department of Education"},0.61539726027397257]
["040",2022,"001","421","5111","X57",0,0,0,0,0,0,0,0,0,0,36005,0,36005,36005,-36005,36005,-36005,36005,36005,-36005,{"$f":"_xlfn.XLOOKUP(F4746,'Object Codes'!$A$18:$A$510,'Object Codes'!$H$18:$H$510)","v":"PS - Additional Gross"},{"$f":"_xlfn.XLOOKUP(F4746,'Object Codes'!$A$18:$A$510,'Object Codes'!$G$18:$G$510)","v":"A"},{"$f":"_xlfn.XLOOKUP(A4746,Agencies!$A$9:$A$146,Agencies!$B$9:$B$146)","v":"Education"},{"$f":"IF(_xlfn.XLOOKUP(A4746,Agencies!A:A,Agencies!D:D)=\"Y\",IF(_xlfn.XLOOKUP(F4746,'Object Codes'!A:A,'Object Codes'!I:I)=\"Y\",\"Y\",\"N\"),\"N\")","v":"Y"},{"$f":"VLOOKUP(F4746,'Object Codes'!$A:$C,3,0)","v":"BONUS- NONPENSIONABLE"},{"$f":"VLOOKUP(A4746,Agencies!A:C,3,0)","v":"Department of Education"},98.643835616438352]
["040",2022,"001","422","5105","300",0,0,0,18000,18000,0,0,0,0,0,420071.15,0,420071.15,420071.15,-402071.15,420071.15,-402071.15,420071.15,420071.15,-402071.15,{"$f":"_xlfn.XLOOKUP(F4814,'Object Codes'!$A$18:$A$510,'Object Codes'!$H$18:$H$510)","v":"Equipment"},{"$f":"_xlfn.XLOOKUP(F4814,'Object Codes'!$A$18:$A$510,'Object Codes'!$G$18:$G$510)","v":"A"},{"$f":"_xlfn.XLOOKUP(A4814,Agencies!$A$9:$A$146,Agencies!$B$9:$B$146)","v":"Education"},{"$f":"IF(_xlfn.XLOOKUP(A4814,Agencies!A:A,Agencies!D:D)=\"Y\",IF(_xlfn.XLOOKUP(F4814,'Object Codes'!A:A,'Object Codes'!I:I)=\"Y\",\"Y\",\"N\"),\"N\")","v":"Y"},{"$f":"VLOOKUP(F4814,'Object Codes'!$A:$C,3,0)","v":"Equipment - General"},{"$f":"VLOOKUP(A4814,Agencies!A:C,3,0)","v":"Department of Education"},1150.8798630136987]
["040",2022,"001","422","5183","602",0,0,0,0,0,0,0,0,0,0,1836.19,0,1836.19,1836.19,-1836.19,1836.19,-1836.19,1836.19,1836.19,-1836.19,{"$f":"_xlfn.XLOOKUP(F4855,'Object Codes'!$A$18:$A$510,'Object Codes'!$H$18:$H$510)","v":"Contractual Services"},{"$f":"_xlfn.XLOOKUP(F4855,'Object Codes'!$A$18:$A$510,'Object Codes'!$G$18:$G$510)","v":0},{"$f":"_xlfn.XLOOKUP(A4855,Agencies!$A$9:$A$146,Agencies!$B$9:$B$146)","v":"Education"},{"$f":"IF(_xlfn.XLOOKUP(A4855,Agencies!A:A,Agencies!D:D)=\"Y\",IF(_xlfn.XLOOKUP(F4855,'Object Codes'!A:A,'Object Codes'!I:I)=\"Y\",\"Y\",\"N\"),\"N\")","v":"Y"},{"$f":"VLOOKUP(F4855,'Object Codes'!$A:$C,3,0)","v":"Telecommunications Maintenance - Contractual"},{"$f":"VLOOKUP(A4855,Agencies!A:C,3,0)","v":"Department of Education"},5.0306575342465756]
["040",2022,"001","423","5411","041",0,0,0,0,0,0,0,0,0,0,20560.38,0,20560.38,20560.38,-20560.38,20560.38,-20560.38,20560.38,20560.38,-20560.38,{"$f":"_xlfn.XLOOKUP(F4889,'Object Codes'!$A$18:$A$510,'Object Codes'!$H$18:$H$510)","v":"PS - Additional Gross"},{"$f":"_xlfn.XLOOKUP(F4889,'Object Codes'!$A$18:$A$510,'Object Codes'!$G$18:$G$510)","v":"A"},{"$f":"_xlfn.XLOOKUP(A4889,Agencies!$A$9:$A$146,Agencies!$B$9:$B$146)","v":"Education"},{"$f":"IF(_xlfn.XLOOKUP(A4889,Agencies!A:A,Agencies!D:D)=\"Y\",IF(_xlfn.XLOOKUP(F4889,'Object Codes'!A:A,'Object Codes'!I:I)=\"Y\",\"Y\",\"N\"),\"N\")","v":"Y"},{"$f":"VLOOKUP(F4889,'Object Codes'!$A:$C,3,0)","v":"Assignment Differential"},{"$f":"VLOOKUP(A4889,Agencies!A:C,3,0)","v":"Department of Education"},56.329808219178084]
["040",2022,"001","424","5411","400",0,0,0,10094191,10340813,0,0,0,0,0,8483364.9700000007,875806.19,9359171.1600000001,9359171.1600000001,981641.84,9359171.1600000001,981641.84,9359171.1600000001,9359171.1600000001,981641.84,{"$f":"_xlfn.XLOOKUP(F4929,'Object Codes'!$A$18:$A$510,'Object Codes'!$H$18:$H$510)","v":"Other Services and Charges - General"},{"$f":"_xlfn.XLOOKUP(F4929,'Object Codes'!$A$18:$A$510,'Object Codes'!$G$18:$G$510)","v":0},{"$f":"_xlfn.XLOOKUP(A4929,Agencies!$A$9:$A$146,Agencies!$B$9:$B$146)","v":"Education"},{"$f":"IF(_xlfn.XLOOKUP(A4929,Agencies!A:A,Agencies!D:D)=\"Y\",IF(_xlfn.XLOOKUP(F4929,'Object Codes'!A:A,'Object Codes'!I:I)=\"Y\",\"Y\",\"N\"),\"N\")","v":"Y"},{"$f":"VLOOKUP(F4929,'Object Codes'!$A:$C,3,0)","v":"Other Services and Charges - General"},{"$f":"VLOOKUP(A4929,Agencies!A:C,3,0)","v":"Department of Education"},25641.564821917807]
["040",2022,"001","435","Z042","001",0,0,0,54482,1921566,0,0,0,0,0,937956.54,0,937956.54,937956.54,983609.46,937956.54,983609.46,937956.54,937956.54,983609.46,{"$f":"_xlfn.XLOOKUP(F4998,'Object Codes'!$A$18:$A$510,'Object Codes'!$H$18:$H$510)","v":"PS - Regular"},{"$f":"_xlfn.XLOOKUP(F4998,'Object Codes'!$A$18:$A$510,'Object Codes'!$G$18:$G$510)","v":"C"},{"$f":"_xlfn.XLOOKUP(A4998,Agencies!$A$9:$A$146,Agencies!$B$9:$B$146)","v":"Education"},{"$f":"IF(_xlfn.XLOOKUP(A4998,Agencies!A:A,Agencies!D:D)=\"Y\",IF(_xlfn.XLOOKUP(F4998,'Object Codes'!A:A,'Object Codes'!I:I)=\"Y\",\"Y\",\"N\"),\"N\")","v":"Y"},{"$f":"VLOOKUP(F4998,'Object Codes'!$A:$C,3,0)","v":"Full Year Positions"},{"$f":"VLOOKUP(A4998,Agencies!A:C,3,0)","v":"Department of Education"},2569.7439452054796]
["040",2022,"001","436","1733","684",0,0,0,0,0,0,0,0,0,0,18387.3,0,18387.3,18387.3,-18387.3,18387.3,-18387.3,18387.3,18387.3,-18387.3,{"$f":"_xlfn.XLOOKUP(F5032,'Object Codes'!$A$18:$A$510,'Object Codes'!$H$18:$H$510)","v":"Contractual Services"},{"$f":"_xlfn.XLOOKUP(F5032,'Object Codes'!$A$18:$A$510,'Object Codes'!$G$18:$G$510)","v":0},{"$f":"_xlfn.XLOOKUP(A5032,Agencies!$A$9:$A$146,Agencies!$B$9:$B$146)","v":"Education"},{"$f":"IF(_xlfn.XLOOKUP(A5032,Agencies!A:A,Agencies!D:D)=\"Y\",IF(_xlfn.XLOOKUP(F5032,'Object Codes'!A:A,'Object Codes'!I:I)=\"Y\",\"Y\",\"N\"),\"N\")","v":"Y"},{"$f":"VLOOKUP(F5032,'Object Codes'!$A:$C,3,0)","v":"Professional Services - Computer Services - Contractual"},{"$f":"VLOOKUP(A5032,Agencies!A:C,3,0)","v":"Department of Education"},50.376164383561644]
["040",2022,"001","440","1226","700",0,0,0,1090700,1090700,0,0,0,0,0,0,0,0,0,1090700,0,1090700,0,0,1090700,{"$f":"_xlfn.XLOOKUP(F5108,'Object Codes'!$A$18:$A$510,'Object Codes'!$H$18:$H$510)","v":"Fixed Charges"},{"$f":"_xlfn.XLOOKUP(F5108,'Object Codes'!$A$18:$A$510,'Object Codes'!$G$18:$G$510)","v":0},{"$f":"_xlfn.XLOOKUP(A5108,Agencies!$A$9:$A$146,Agencies!$B$9:$B$146)","v":"Education"},{"$f":"IF(_xlfn.XLOOKUP(A5108,Agencies!A:A,Agencies!D:D)=\"Y\",IF(_xlfn.XLOOKUP(F5108,'Object Codes'!A:A,'Object Codes'!I:I)=\"Y\",\"Y\",\"N\"),\"N\")","v":"Y"},{"$f":"VLOOKUP(F5108,'Object Codes'!$A:$C,3,0)","v":"Fixed Charges - General"},{"$f":"VLOOKUP(A5108,Agencies!A:C,3,0)","v":"Department of Education"},0]
["040",2022,"001","440","1229","684",0,0,0,783595,783595,0,0,0,0,0,3410,0,3410,3410,780185,3410,780185,3410,3410,780185,{"$f":"_xlfn.XLOOKUP(F5124,'Object Codes'!$A$18:$A$510,'Object Codes'!$H$18:$H$510)","v":"Contractual Services"},{"$f":"_xlfn.XLOOKUP(F5124,'Object Codes'!$A$18:$A$510,'Object Codes'!$G$18:$G$510)","v":0},{"$f":"_xlfn.XLOOKUP(A5124,Agencies!$A$9:$A$146,Agencies!$B$9:$B$146)","v":"Education"},{"$f":"IF(_xlfn.XLOOKUP(A5124,Agencies!A:A,Agencies!D:D)=\"Y\",IF(_xlfn.XLOOKUP(F5124,'Object Codes'!A:A,'Object Codes'!I:I)=\"Y\",\"Y\",\"N\"),\"N\")","v":"Y"},{"$f":"VLOOKUP(F5124,'Object Codes'!$A:$C,3,0)","v":"Professional Services - Computer Services - Contractual"},{"$f":"VLOOKUP(A5124,Agencies!A:C,3,0)","v":"Department of Education"},9.3424657534246567]
["040",2022,"001","453","1140","043",0,0,0,0,0,0,0,0,0,0,3881.99,0,3881.99,3881.99,-3881.99,3881.99,-3881.99,3881.99,3881.99,-3881.99,{"$f":"_xlfn.XLOOKUP(F5175,'Object Codes'!$A$18:$A$510,'Object Codes'!$H$18:$H$510)","v":"PS - Additional Gross"},{"$f":"_xlfn.XLOOKUP(F5175,'Object Codes'!$A$18:$A$510,'Object Codes'!$G$18:$G$510)","v":"A"},{"$f":"_xlfn.XLOOKUP(A5175,Agencies!$A$9:$A$146,Agencies!$B$9:$B$146)","v":"Education"},{"$f":"IF(_xlfn.XLOOKUP(A5175,Agencies!A:A,Agencies!D:D)=\"Y\",IF(_xlfn.XLOOKUP(F5175,'Object Codes'!A:A,'Object Codes'!I:I)=\"Y\",\"Y\",\"N\"),\"N\")","v":"Y"},{"$f":"VLOOKUP(F5175,'Object Codes'!$A:$C,3,0)","v":"Shift Differential"},{"$f":"VLOOKUP(A5175,Agencies!A:C,3,0)","v":"Department of Education"},10.635589041095891]
["040",2022,"001","453","2145","X41",0,0,0,0,0,0,0,0,0,0,-157.56,0,-157.56,-157.56,157.56,-157.56,157.56,-157.56,-157.56,157.56,{"$f":"_xlfn.XLOOKUP(F5204,'Object Codes'!$A$18:$A$510,'Object Codes'!$H$18:$H$510)","v":"PS - Additional Gross"},{"$f":"_xlfn.XLOOKUP(F5204,'Object Codes'!$A$18:$A$510,'Object Codes'!$G$18:$G$510)","v":"A"},{"$f":"_xlfn.XLOOKUP(A5204,Agencies!$A$9:$A$146,Agencies!$B$9:$B$146)","v":"Education"},{"$f":"IF(_xlfn.XLOOKUP(A5204,Agencies!A:A,Agencies!D:D)=\"Y\",IF(_xlfn.XLOOKUP(F5204,'Object Codes'!A:A,'Object Codes'!I:I)=\"Y\",\"Y\",\"N\"),\"N\")","v":"Y"},{"$f":"VLOOKUP(F5204,'Object Codes'!$A:$C,3,0)","v":"PY ASSIGNMENT DIFFERENTIAL"},{"$f":"VLOOKUP(A5204,Agencies!A:C,3,0)","v":"Department of Education"},-0.43167123287671233]
["040",2022,"001","453","7238","005",0,0,0,1805680,1644211,0,0,0,0,0,1598694.85,0,1598694.85,1598694.85,45516.15,1598694.85,45516.15,1598694.85,1598694.85,45516.15,{"$f":"_xlfn.XLOOKUP(F5273,'Object Codes'!$A$18:$A$510,'Object Codes'!$H$18:$H$510)","v":"PS - Regular"},{"$f":"_xlfn.XLOOKUP(F5273,'Object Codes'!$A$18:$A$510,'Object Codes'!$G$18:$G$510)","v":"P"},{"$f":"_xlfn.XLOOKUP(A5273,Agencies!$A$9:$A$146,Agencies!$B$9:$B$146)","v":"Education"},{"$f":"IF(_xlfn.XLOOKUP(A5273,Agencies!A:A,Agencies!D:D)=\"Y\",IF(_xlfn.XLOOKUP(F5273,'Object Codes'!A:A,'Object Codes'!I:I)=\"Y\",\"Y\",\"N\"),\"N\")","v":"Y"},{"$f":"VLOOKUP(F5273,'Object Codes'!$A:$C,3,0)","v":"Full-Time Pedagogical Personnel"},{"$f":"VLOOKUP(A5273,Agencies!A:C,3,0)","v":"Department of Education"},4379.9858904109587]
["040",2022,"001","453","7251","X42",0,0,0,0,0,0,0,0,0,0,242.32,0,242.32,242.32,-242.32,242.32,-242.32,242.32,242.32,-242.32,{"$f":"_xlfn.XLOOKUP(F5313,'Object Codes'!$A$18:$A$510,'Object Codes'!$H$18:$H$510)","v":"PS - Additional Gross"},{"$f":"_xlfn.XLOOKUP(F5313,'Object Codes'!$A$18:$A$510,'Object Codes'!$G$18:$G$510)","v":"A"},{"$f":"_xlfn.XLOOKUP(A5313,Agencies!$A$9:$A$146,Agencies!$B$9:$B$146)","v":"Education"},{"$f":"IF(_xlfn.XLOOKUP(A5313,Agencies!A:A,Agencies!D:D)=\"Y\",IF(_xlfn.XLOOKUP(F5313,'Object Codes'!A:A,'Object Codes'!I:I)=\"Y\",\"Y\",\"N\"),\"N\")","v":"Y"},{"$f":"VLOOKUP(F5313,'Object Codes'!$A:$C,3,0)","v":"PY LONGEVITY DIFFERENTIAL"},{"$f":"VLOOKUP(A5313,Agencies!A:C,3,0)","v":"Department of Education"},0.66389041095890411]
["040",2022,"001","453","7261","049",0,0,0,0,0,0,0,0,0,0,763439.24,1436560.76,2200000,2200000,-2200000,2200000,-2200000,2200000,2200000,-2200000,{"$f":"_xlfn.XLOOKUP(F5347,'Object Codes'!$A$18:$A$510,'Object Codes'!$H$18:$H$510)","v":"PS - Additional Gross"},{"$f":"_xlfn.XLOOKUP(F5347,'Object Codes'!$A$18:$A$510,'Object Codes'!$G$18:$G$510)","v":"A"},{"$f":"_xlfn.XLOOKUP(A5347,Agencies!$A$9:$A$146,Agencies!$B$9:$B$146)","v":"Education"},{"$f":"IF(_xlfn.XLOOKUP(A5347,Agencies!A:A,Agencies!D:D)=\"Y\",IF(_xlfn.XLOOKUP(F5347,'Object Codes'!A:A,'Object Codes'!I:I)=\"Y\",\"Y\",\"N\"),\"N\")","v":"Y"},{"$f":"VLOOKUP(F5347,'Object Codes'!$A:$C,3,0)","v":"Backpay"},{"$f":"VLOOKUP(A5347,Agencies!A:C,3,0)","v":"Department of Education"},6027.3972602739723]
["040",2022,"001","453","7303","046",0,0,0,0,0,0,0,0,0,0,27391.42,0,27391.42,27391.42,-27391.42,27391.42,-27391.42,27391.42,27391.42,-27391.42,{"$f":"_xlfn.XLOOKUP(F5422,'Object Codes'!$A$18:$A$510,'Object Codes'!$H$18:$H$510)","v":"PS - Additional Gross"},{"$f":"_xlfn.XLOOKUP(F5422,'Object Codes'!$A$18:$A$510,'Object Codes'!$G$18:$G$510)","v":"A"},{"$f":"_xlfn.XLOOKUP(A5422,Agencies!$A$9:$A$146,Agencies!$B$9:$B$146)","v":"Education"},{"$f":"IF(_xlfn.XLOOKUP(A5422,Agencies!A:A,Agencies!D:D)=\"Y\",IF(_xlfn.XLOOKUP(F5422,'Object Codes'!A:A,'Object Codes'!I:I)=\"Y\",\"Y\",\"N\"),\"N\")","v":"Y"},{"$f":"VLOOKUP(F5422,'Object Codes'!$A:$C,3,0)","v":"Terminal Leave"},{"$f":"VLOOKUP(A5422,Agencies!A:C,3,0)","v":"Department of Education"},75.04498630136986]
["040",2022,"001","453","7415","055",0,0,0,0,0,0,0,0,0,0,28965.96,0,28965.96,28965.96,-28965.96,28965.96,-28965.96,28965.96,28965.96,-28965.96,{"$f":"_xlfn.XLOOKUP(F5456,'Object Codes'!$A$18:$A$510,'Object Codes'!$H$18:$H$510)","v":"PS - Additional Gross"},{"$f":"_xlfn.XLOOKUP(F5456,'Object Codes'!$A$18:$A$510,'Object Codes'!$G$18:$G$510)","v":"A"},{"$f":"_xlfn.XLOOKUP(A5456,Agencies!$A$9:$A$146,Agencies!$B$9:$B$146)","v":"Education"},{"$f":"IF(_xlfn.XLOOKUP(A5456,Agencies!A:A,Agencies!D:D)=\"Y\",IF(_xlfn.XLOOKUP(F5456,'Object Codes'!A:A,'Object Codes'!I:I)=\"Y\",\"Y\",\"N\"),\"N\")","v":"Y"},{"$f":"VLOOKUP(F5456,'Object Codes'!$A:$C,3,0)","v":"Salary Adjustments-Labor Reserve"},{"$f":"VLOOKUP(A5456,Agencies!A:C,3,0)","v":"Department of Education"},79.358794520547946]
["040",2022,"001","453","7715","061",0,0,0,76,76,0,0,0,0,0,2306.5,0,2306.5,2306.5,-2230.5,2306.5,-2230.5,2306.5,2306.5,-2230.5,{"$f":"_xlfn.XLOOKUP(F5490,'Object Codes'!$A$18:$A$510,'Object Codes'!$H$18:$H$510)","v":"PS - Additional Gross"},{"$f":"_xlfn.XLOOKUP(F5490,'Object Codes'!$A$18:$A$510,'Object Codes'!$G$18:$G$510)","v":"A"},{"$f":"_xlfn.XLOOKUP(A5490,Agencies!$A$9:$A$146,Agencies!$B$9:$B$146)","v":"Education"},{"$f":"IF(_xlfn.XLOOKUP(A5490,Agencies!A:A,Agencies!D:D)=\"Y\",IF(_xlfn.XLOOKUP(F5490,'Object Codes'!A:A,'Object Codes'!I:I)=\"Y\",\"Y\",\"N\"),\"N\")","v":"Y"},{"$f":"VLOOKUP(F5490,'Object Codes'!$A:$C,3,0)","v":"Supper Money"},{"$f":"VLOOKUP(A5490,Agencies!A:C,3,0)","v":"Department of Education"},6.3191780821917805]
["040",2022,"001","454","1048","100",0,0,0,113974,113974,0,0,0,0,0,32297.43,0,32297.43,32297.43,81676.570000000007,32297.43,81676.570000000007,32297.43,32297.43,81676.570000000007,{"$f":"_xlfn.XLOOKUP(F5537,'Object Codes'!$A$18:$A$510,'Object Codes'!$H$18:$H$510)","v":"Supplies & Materials"},{"$f":"_xlfn.XLOOKUP(F5537,'Object Codes'!$A$18:$A$510,'Object Codes'!$G$18:$G$510)","v":"A"},{"$f":"_xlfn.XLOOKUP(A5537,Agencies!$A$9:$A$146,Agencies!$B$9:$B$146)","v":"Education"},{"$f":"IF(_xlfn.XLOOKUP(A5537,Agencies!A:A,Agencies!D:D)=\"Y\",IF(_xlfn.XLOOKUP(F5537,'Object Codes'!A:A,'Object Codes'!I:I)=\"Y\",\"Y\",\"N\"),\"N\")","v":"Y"},{"$f":"VLOOKUP(F5537,'Object Codes'!$A:$C,3,0)","v":"Supplies and Materials - General"},{"$f":"VLOOKUP(A5537,Agencies!A:C,3,0)","v":"Department of Education"},88.486109589041092]
["040",2022,"001","454","7207","669",0,0,0,3150,3150,0,0,0,0,0,0,0,0,0,3150,0,3150,0,0,3150,{"$f":"_xlfn.XLOOKUP(F5599,'Object Codes'!$A$18:$A$510,'Object Codes'!$H$18:$H$510)","v":"Contractual Services"},{"$f":"_xlfn.XLOOKUP(F5599,'Object Codes'!$A$18:$A$510,'Object Codes'!$G$18:$G$510)","v":0},{"$f":"_xlfn.XLOOKUP(A5599,Agencies!$A$9:$A$146,Agencies!$B$9:$B$146)","v":"Education"},{"$f":"IF(_xlfn.XLOOKUP(A5599,Agencies!A:A,Agencies!D:D)=\"Y\",IF(_xlfn.XLOOKUP(F5599,'Object Codes'!A:A,'Object Codes'!I:I)=\"Y\",\"Y\",\"N\"),\"N\")","v":"Y"},{"$f":"VLOOKUP(F5599,'Object Codes'!$A:$C,3,0)","v":"Transportation of Pupils - Contractual"},{"$f":"VLOOKUP(A5599,Agencies!A:C,3,0)","v":"Department of Education"},0]
["040",2022,"001","454","7215","685",0,0,0,67850,67850,0,0,0,0,0,0,0,0,0,67850,0,67850,0,0,67850,{"$f":"_xlfn.XLOOKUP(F5633,'Object Codes'!$A$18:$A$510,'Object Codes'!$H$18:$H$510)","v":"Contractual Services"},{"$f":"_xlfn.XLOOKUP(F5633,'Object Codes'!$A$18:$A$510,'Object Codes'!$G$18:$G$510)","v":0},{"$f":"_xlfn.XLOOKUP(A5633,Agencies!$A$9:$A$146,Agencies!$B$9:$B$146)","v":"Education"},{"$f":"IF(_xlfn.XLOOKUP(A5633,Agencies!A:A,Agencies!D:D)=\"Y\",IF(_xlfn.XLOOKUP(F5633,'Object Codes'!A:A,'Object Codes'!I:I)=\"Y\",\"Y\",\"N\"),\"N\")","v":"Y"},{"$f":"VLOOKUP(F5633,'Object Codes'!$A:$C,3,0)","v":"Professional Services - Direct Educational Services to Students - Contractual"},{"$f":"VLOOKUP(A5633,Agencies!A:C,3,0)","v":"Department of Education"},0]
["040",2022,"001","454","7253","79D",0,0,0,0,230084,0,0,0,0,0,230323.46,0,230323.46,230323.46,-239.46,230323.46,-239.46,230323.46,230323.46,-239.46,{"$f":"_xlfn.XLOOKUP(F5686,'Object Codes'!$A$18:$A$510,'Object Codes'!$H$18:$H$510)","v":"Fixed Charges"},{"$f":"_xlfn.XLOOKUP(F5686,'Object Codes'!$A$18:$A$510,'Object Codes'!$G$18:$G$510)","v":0},{"$f":"_xlfn.XLOOKUP(A5686,Agencies!$A$9:$A$146,Agencies!$B$9:$B$146)","v":"Education"},{"$f":"IF(_xlfn.XLOOKUP(A5686,Agencies!A:A,Agencies!D:D)=\"Y\",IF(_xlfn.XLOOKUP(F5686,'Object Codes'!A:A,'Object Codes'!I:I)=\"Y\",\"Y\",\"N\"),\"N\")","v":"Y"},{"$f":"VLOOKUP(F5686,'Object Codes'!$A:$C,3,0)","v":"TRAINING CITY EMPLOYEES"},{"$f":"VLOOKUP(A5686,Agencies!A:C,3,0)","v":"Department of Education"},631.02317808219175]
["040",2022,"001","454","7271","100",0,0,0,4200,4200,0,0,0,0,0,69701.97,0,69701.97,69701.97,-65501.97,69701.97,-65501.97,69701.97,69701.97,-65501.97,{"$f":"_xlfn.XLOOKUP(F5742,'Object Codes'!$A$18:$A$510,'Object Codes'!$H$18:$H$510)","v":"Supplies & Materials"},{"$f":"_xlfn.XLOOKUP(F5742,'Object Codes'!$A$18:$A$510,'Object Codes'!$G$18:$G$510)","v":"A"},{"$f":"_xlfn.XLOOKUP(A5742,Agencies!$A$9:$A$146,Agencies!$B$9:$B$146)","v":"Education"},{"$f":"IF(_xlfn.XLOOKUP(A5742,Agencies!A:A,Agencies!D:D)=\"Y\",IF(_xlfn.XLOOKUP(F5742,'Object Codes'!A:A,'Object Codes'!I:I)=\"Y\",\"Y\",\"N\"),\"N\")","v":"Y"},{"$f":"VLOOKUP(F5742,'Object Codes'!$A:$C,3,0)","v":"Supplies and Materials - General"},{"$f":"VLOOKUP(A5742,Agencies!A:C,3,0)","v":"Department of Education"},190.96430136986302]
["040",2022,"001","454","7285","300",0,0,0,140973,140973,0,0,0,0,0,7063.27,0,7063.27,7063.27,133909.73000000001,7063.27,133909.73000000001,7063.27,7063.27,133909.73000000001,{"$f":"_xlfn.XLOOKUP(F5776,'Object Codes'!$A$18:$A$510,'Object Codes'!$H$18:$H$510)","v":"Equipment"},{"$f":"_xlfn.XLOOKUP(F5776,'Object Codes'!$A$18:$A$510,'Object Codes'!$G$18:$G$510)","v":"A"},{"$f":"_xlfn.XLOOKUP(A5776,Agencies!$A$9:$A$146,Agencies!$B$9:$B$146)","v":"Education"},{"$f":"IF(_xlfn.XLOOKUP(A5776,Agencies!A:A,Agencies!D:D)=\"Y\",IF(_xlfn.XLOOKUP(F5776,'Object Codes'!A:A,'Object Codes'!I:I)=\"Y\",\"Y\",\"N\"),\"N\")","v":"Y"},{"$f":"VLOOKUP(F5776,'Object Codes'!$A:$C,3,0)","v":"Equipment - General"},{"$f":"VLOOKUP(A5776,Agencies!A:C,3,0)","v":"Department of Education"},19.351424657534249]
["040",2022,"001","454","7339","402",0,0,0,15000,15000,0,0,0,0,0,3743.04,0,3743.04,3743.04,11256.96,3743.04,11256.96,3743.04,3743.04,11256.96,{"$f":"_xlfn.XLOOKUP(F5835,'Object Codes'!$A$18:$A$510,'Object Codes'!$H$18:$H$510)","v":"Other Services and Charges - General"},{"$f":"_xlfn.XLOOKUP(F5835,'Object Codes'!$A$18:$A$510,'Object Codes'!$G$18:$G$510)","v":0},{"$f":"_xlfn.XLOOKUP(A5835,Agencies!$A$9:$A$146,Agencies!$B$9:$B$146)","v":"Education"},{"$f":"IF(_xlfn.XLOOKUP(A5835,Agencies!A:A,Agencies!D:D)=\"Y\",IF(_xlfn.XLOOKUP(F5835,'Object Codes'!A:A,'Object Codes'!I:I)=\"Y\",\"Y\",\"N\"),\"N\")","v":"Y"},{"$f":"VLOOKUP(F5835,'Object Codes'!$A:$C,3,0)","v":"Telephone and Other Communications"},{"$f":"VLOOKUP(A5835,Agencies!A:C,3,0)","v":"Department of Education"},10.254904109589042]
["040",2022,"001","454","7701","622",0,0,0,5600,5600,0,0,0,0,0,492788.08,0,492788.08,492788.08,-487188.08,492788.08,-487188.08,492788.08,492788.08,-487188.08,{"$f":"_xlfn.XLOOKUP(F5885,'Object Codes'!$A$18:$A$510,'Object Codes'!$H$18:$H$510)","v":"Contractual Services"},{"$f":"_xlfn.XLOOKUP(F5885,'Object Codes'!$A$18:$A$510,'Object Codes'!$G$18:$G$510)","v":0},{"$f":"_xlfn.XLOOKUP(A5885,Agencies!$A$9:$A$146,Agencies!$B$9:$B$146)","v":"Education"},{"$f":"IF(_xlfn.XLOOKUP(A5885,Agencies!A:A,Agencies!D:D)=\"Y\",IF(_xlfn.XLOOKUP(F5885,'Object Codes'!A:A,'Object Codes'!I:I)=\"Y\",\"Y\",\"N\"),\"N\")","v":"Y"},{"$f":"VLOOKUP(F5885,'Object Codes'!$A:$C,3,0)","v":"Temporary Services - Contractual"},{"$f":"VLOOKUP(A5885,Agencies!A:C,3,0)","v":"Department of Education"},1350.1043287671234]
["040",2022,"001","454","7731","684",0,0,0,86644,86644,0,0,0,0,0,0,0,0,0,86644,0,86644,0,0,86644,{"$f":"_xlfn.XLOOKUP(F5914,'Object Codes'!$A$18:$A$510,'Object Codes'!$H$18:$H$510)","v":"Contractual Services"},{"$f":"_xlfn.XLOOKUP(F5914,'Object Codes'!$A$18:$A$510,'Object Codes'!$G$18:$G$510)","v":0},{"$f":"_xlfn.XLOOKUP(A5914,Agencies!$A$9:$A$146,Agencies!$B$9:$B$146)","v":"Education"},{"$f":"IF(_xlfn.XLOOKUP(A5914,Agencies!A:A,Agencies!D:D)=\"Y\",IF(_xlfn.XLOOKUP(F5914,'Object Codes'!A:A,'Object Codes'!I:I)=\"Y\",\"Y\",\"N\"),\"N\")","v":"Y"},{"$f":"VLOOKUP(F5914,'Object Codes'!$A:$C,3,0)","v":"Professional Services - Computer Services - Contractual"},{"$f":"VLOOKUP(A5914,Agencies!A:C,3,0)","v":"Department of Education"},0]
["040",2022,"001","481","8816","031",0,0,0,451201,451201,0,0,0,0,0,86217.33,0,86217.33,86217.33,364983.67,86217.33,364983.67,86217.33,86217.33,364983.67,{"$f":"_xlfn.XLOOKUP(F5984,'Object Codes'!$A$18:$A$510,'Object Codes'!$H$18:$H$510)","v":"PS - Regular"},{"$f":"_xlfn.XLOOKUP(F5984,'Object Codes'!$A$18:$A$510,'Object Codes'!$G$18:$G$510)","v":"C"},{"$f":"_xlfn.XLOOKUP(A5984,Agencies!$A$9:$A$146,Agencies!$B$9:$B$146)","v":"Education"},{"$f":"IF(_xlfn.XLOOKUP(A5984,Agencies!A:A,Agencies!D:D)=\"Y\",IF(_xlfn.XLOOKUP(F5984,'Object Codes'!A:A,'Object Codes'!I:I)=\"Y\",\"Y\",\"N\"),\"N\")","v":"Y"},{"$f":"VLOOKUP(F5984,'Object Codes'!$A:$C,3,0)","v":"Hourly Positions"},{"$f":"VLOOKUP(A5984,Agencies!A:C,3,0)","v":"Department of Education"},236.21186301369863]
["040",2022,"001","481","8836","065",0,0,0,56086,56086,0,0,0,0,0,30142.5,0,30142.5,30142.5,25943.5,30142.5,25943.5,30142.5,30142.5,25943.5,{"$f":"_xlfn.XLOOKUP(F6028,'Object Codes'!$A$18:$A$510,'Object Codes'!$H$18:$H$510)","v":"PS - Other"},{"$f":"_xlfn.XLOOKUP(F6028,'Object Codes'!$A$18:$A$510,'Object Codes'!$G$18:$G$510)","v":"A"},{"$f":"_xlfn.XLOOKUP(A6028,Agencies!$A$9:$A$146,Agencies!$B$9:$B$146)","v":"Education"},{"$f":"IF(_xlfn.XLOOKUP(A6028,Agencies!A:A,Agencies!D:D)=\"Y\",IF(_xlfn.XLOOKUP(F6028,'Object Codes'!A:A,'Object Codes'!I:I)=\"Y\",\"Y\",\"N\"),\"N\")","v":"Y"},{"$f":"VLOOKUP(F6028,'Object Codes'!$A:$C,3,0)","v":"Social Security Contributions"},{"$f":"VLOOKUP(A6028,Agencies!A:C,3,0)","v":"Department of Education"},82.582191780821915]
["040",2022,"001","481","8843","041",0,0,0,0,0,0,0,0,0,0,5167.88,0,5167.88,5167.88,-5167.88,5167.88,-5167.88,5167.88,5167.88,-5167.88,{"$f":"_xlfn.XLOOKUP(F6057,'Object Codes'!$A$18:$A$510,'Object Codes'!$H$18:$H$510)","v":"PS - Additional Gross"},{"$f":"_xlfn.XLOOKUP(F6057,'Object Codes'!$A$18:$A$510,'Object Codes'!$G$18:$G$510)","v":"A"},{"$f":"_xlfn.XLOOKUP(A6057,Agencies!$A$9:$A$146,Agencies!$B$9:$B$146)","v":"Education"},{"$f":"IF(_xlfn.XLOOKUP(A6057,Agencies!A:A,Agencies!D:D)=\"Y\",IF(_xlfn.XLOOKUP(F6057,'Object Codes'!A:A,'Object Codes'!I:I)=\"Y\",\"Y\",\"N\"),\"N\")","v":"Y"},{"$f":"VLOOKUP(F6057,'Object Codes'!$A:$C,3,0)","v":"Assignment Differential"},{"$f":"VLOOKUP(A6057,Agencies!A:C,3,0)","v":"Department of Education"},14.158575342465754]
["040",2022,"001","481","8848","055",0,0,0,0,0,0,0,0,0,0,4772704.07,0,4772704.07,4772704.07,-4772704.07,4772704.07,-4772704.07,4772704.07,4772704.07,-4772704.07,{"$f":"_xlfn.XLOOKUP(F6091,'Object Codes'!$A$18:$A$510,'Object Codes'!$H$18:$H$510)","v":"PS - Additional Gross"},{"$f":"_xlfn.XLOOKUP(F6091,'Object Codes'!$A$18:$A$510,'Object Codes'!$G$18:$G$510)","v":"A"},{"$f":"_xlfn.XLOOKUP(A6091,Agencies!$A$9:$A$146,Agencies!$B$9:$B$146)","v":"Education"},{"$f":"IF(_xlfn.XLOOKUP(A6091,Agencies!A:A,Agencies!D:D)=\"Y\",IF(_xlfn.XLOOKUP(F6091,'Object Codes'!A:A,'Object Codes'!I:I)=\"Y\",\"Y\",\"N\"),\"N\")","v":"Y"},{"$f":"VLOOKUP(F6091,'Object Codes'!$A:$C,3,0)","v":"Salary Adjustments-Labor Reserve"},{"$f":"VLOOKUP(A6091,Agencies!A:C,3,0)","v":"Department of Education"},13075.901561643837]
["040",2022,"001","481","8888","085",0,0,0,76846,76846,0,0,0,0,0,172763.94,0,172763.94,172763.94,-95917.94,172763.94,-95917.94,172763.94,172763.94,-95917.94,{"$f":"_xlfn.XLOOKUP(F6145,'Object Codes'!$A$18:$A$510,'Object Codes'!$H$18:$H$510)","v":"PS - Other"},{"$f":"_xlfn.XLOOKUP(F6145,'Object Codes'!$A$18:$A$510,'Object Codes'!$G$18:$G$510)","v":"A"},{"$f":"_xlfn.XLOOKUP(A6145,Agencies!$A$9:$A$146,Agencies!$B$9:$B$146)","v":"Education"},{"$f":"IF(_xlfn.XLOOKUP(A6145,Agencies!A:A,Agencies!D:D)=\"Y\",IF(_xlfn.XLOOKUP(F6145,'Object Codes'!A:A,'Object Codes'!I:I)=\"Y\",\"Y\",\"N\"),\"N\")","v":"Y"},{"$f":"VLOOKUP(F6145,'Object Codes'!$A:$C,3,0)","v":"Awards / Expenses - Workers' Compensation"},{"$f":"VLOOKUP(A6145,Agencies!A:C,3,0)","v":"Department of Education"},473.32586301369861]
["040",2022,"001","481","L481","067",0,0,0,0,1277773,0,0,0,0,0,1277773.22,0,1277773.22,1277773.22,-0.22,1277773.22,-0.22,1277773.22,1277773.22,-0.22,{"$f":"_xlfn.XLOOKUP(F6200,'Object Codes'!$A$18:$A$510,'Object Codes'!$H$18:$H$510)","v":"PS - Other"},{"$f":"_xlfn.XLOOKUP(F6200,'Object Codes'!$A$18:$A$510,'Object Codes'!$G$18:$G$510)","v":"A"},{"$f":"_xlfn.XLOOKUP(A6200,Agencies!$A$9:$A$146,Agencies!$B$9:$B$146)","v":"Education"},{"$f":"IF(_xlfn.XLOOKUP(A6200,Agencies!A:A,Agencies!D:D)=\"Y\",IF(_xlfn.XLOOKUP(F6200,'Object Codes'!A:A,'Object Codes'!I:I)=\"Y\",\"Y\",\"N\"),\"N\")","v":"Y"},{"$f":"VLOOKUP(F6200,'Object Codes'!$A:$C,3,0)","v":"Supplemental Employee Welfare Benefits"},{"$f":"VLOOKUP(A6200,Agencies!A:C,3,0)","v":"Department of Education"},3500.7485479452052]
["040",2022,"001","482","8843","602",0,0,0,130008,130008,0,0,0,0,0,411486.73,109228.92,520715.65,520715.65,-390707.65,520715.65,-390707.65,520715.65,520715.65,-390707.65,{"$f":"_xlfn.XLOOKUP(F6234,'Object Codes'!$A$18:$A$510,'Object Codes'!$H$18:$H$510)","v":"Contractual Services"},{"$f":"_xlfn.XLOOKUP(F6234,'Object Codes'!$A$18:$A$510,'Object Codes'!$G$18:$G$510)","v":0},{"$f":"_xlfn.XLOOKUP(A6234,Agencies!$A$9:$A$146,Agencies!$B$9:$B$146)","v":"Education"},{"$f":"IF(_xlfn.XLOOKUP(A6234,Agencies!A:A,Agencies!D:D)=\"Y\",IF(_xlfn.XLOOKUP(F6234,'Object Codes'!A:A,'Object Codes'!I:I)=\"Y\",\"Y\",\"N\"),\"N\")","v":"Y"},{"$f":"VLOOKUP(F6234,'Object Codes'!$A:$C,3,0)","v":"Telecommunications Maintenance - Contractual"},{"$f":"VLOOKUP(A6234,Agencies!A:C,3,0)","v":"Department of Education"},1426.6182191780822]
["040",2022,"001","482","8870","337",0,0,0,341188,2283278,0,0,0,0,0,14125942.16,636876.09,14762818.25,14762818.25,-12479540.25,14762818.25,-12479540.25,14762818.25,14762818.25,-12479540.25,{"$f":"_xlfn.XLOOKUP(F6294,'Object Codes'!$A$18:$A$510,'Object Codes'!$H$18:$H$510)","v":"Equipment"},{"$f":"_xlfn.XLOOKUP(F6294,'Object Codes'!$A$18:$A$510,'Object Codes'!$G$18:$G$510)","v":"A"},{"$f":"_xlfn.XLOOKUP(A6294,Agencies!$A$9:$A$146,Agencies!$B$9:$B$146)","v":"Education"},{"$f":"IF(_xlfn.XLOOKUP(A6294,Agencies!A:A,Agencies!D:D)=\"Y\",IF(_xlfn.XLOOKUP(F6294,'Object Codes'!A:A,'Object Codes'!I:I)=\"Y\",\"Y\",\"N\"),\"N\")","v":"Y"},{"$f":"VLOOKUP(F6294,'Object Codes'!$A:$C,3,0)","v":"Books - Other"},{"$f":"VLOOKUP(A6294,Agencies!A:C,3,0)","v":"Department of Education"},40446.077397260276]
["040",2022,"001","482","A481","337",0,0,0,718000,387582,0,0,0,0,0,387581.7,0,387581.7,387581.7,0.3,387581.7,0.3,387581.7,387581.7,0.3,{"$f":"_xlfn.XLOOKUP(F6343,'Object Codes'!$A$18:$A$510,'Object Codes'!$H$18:$H$510)","v":"Equipment"},{"$f":"_xlfn.XLOOKUP(F6343,'Object Codes'!$A$18:$A$510,'Object Codes'!$G$18:$G$510)","v":"A"},{"$f":"_xlfn.XLOOKUP(A6343,Agencies!$A$9:$A$146,Agencies!$B$9:$B$146)","v":"Education"},{"$f":"IF(_xlfn.XLOOKUP(A6343,Agencies!A:A,Agencies!D:D)=\"Y\",IF(_xlfn.XLOOKUP(F6343,'Object Codes'!A:A,'Object Codes'!I:I)=\"Y\",\"Y\",\"N\"),\"N\")","v":"Y"},{"$f":"VLOOKUP(F6343,'Object Codes'!$A:$C,3,0)","v":"Books - Other"},{"$f":"VLOOKUP(A6343,Agencies!A:C,3,0)","v":"Department of Education"},1061.8676712328768]
["040",2022,"001","482","C481","684",0,0,0,0,53842116,0,0,0,0,0,40195173.329999998,13646942.1,53842115.43,53842115.43,0.56999999999999995,53842115.43,0.56999999999999995,53842115.43,53842115.43,0.56999999999999995,{"$f":"_xlfn.XLOOKUP(F6377,'Object Codes'!$A$18:$A$510,'Object Codes'!$H$18:$H$510)","v":"Contractual Services"},{"$f":"_xlfn.XLOOKUP(F6377,'Object Codes'!$A$18:$A$510,'Object Codes'!$G$18:$G$510)","v":0},{"$f":"_xlfn.XLOOKUP(A6377,Agencies!$A$9:$A$146,Agencies!$B$9:$B$146)","v":"Education"},{"$f":"IF(_xlfn.XLOOKUP(A6377,Agencies!A:A,Agencies!D:D)=\"Y\",IF(_xlfn.XLOOKUP(F6377,'Object Codes'!A:A,'Object Codes'!I:I)=\"Y\",\"Y\",\"N\"),\"N\")","v":"Y"},{"$f":"VLOOKUP(F6377,'Object Codes'!$A:$C,3,0)","v":"Professional Services - Computer Services - Contractual"},{"$f":"VLOOKUP(A6377,Agencies!A:C,3,0)","v":"Department of Education"},147512.64501369864]
["042",2022,"001","001","2450","300",0,0,0,60000,574004,0,0,0,0,0,331963.99,0,331963.99,331963.99,242040.01,331963.99,242040.01,331963.99,331963.99,242040.01,{"$f":"_xlfn.XLOOKUP(F6443,'Object Codes'!$A$18:$A$510,'Object Codes'!$H$18:$H$510)","v":"Equipment"},{"$f":"_xlfn.XLOOKUP(F6443,'Object Codes'!$A$18:$A$510,'Object Codes'!$G$18:$G$510)","v":"A"},{"$f":"_xlfn.XLOOKUP(A6443,Agencies!$A$9:$A$146,Agencies!$B$9:$B$146)","v":"City University"},{"$f":"IF(_xlfn.XLOOKUP(A6443,Agencies!A:A,Agencies!D:D)=\"Y\",IF(_xlfn.XLOOKUP(F6443,'Object Codes'!A:A,'Object Codes'!I:I)=\"Y\",\"Y\",\"N\"),\"N\")","v":"Y"},{"$f":"VLOOKUP(F6443,'Object Codes'!$A:$C,3,0)","v":"Equipment - General"},{"$f":"VLOOKUP(A6443,Agencies!A:C,3,0)","v":"City University"},909.49038356164385]
["042",2022,"001","001","6200","314",0,0,0,27000,10268,0,0,0,0,0,4243.6400000000003,0,4243.6400000000003,4243.6400000000003,6024.36,4243.6400000000003,6024.36,4243.6400000000003,4243.6400000000003,6024.36,{"$f":"_xlfn.XLOOKUP(F6486,'Object Codes'!$A$18:$A$510,'Object Codes'!$H$18:$H$510)","v":"Equipment"},{"$f":"_xlfn.XLOOKUP(F6486,'Object Codes'!$A$18:$A$510,'Object Codes'!$G$18:$G$510)","v":"A"},{"$f":"_xlfn.XLOOKUP(A6486,Agencies!$A$9:$A$146,Agencies!$B$9:$B$146)","v":"City University"},{"$f":"IF(_xlfn.XLOOKUP(A6486,Agencies!A:A,Agencies!D:D)=\"Y\",IF(_xlfn.XLOOKUP(F6486,'Object Codes'!A:A,'Object Codes'!I:I)=\"Y\",\"Y\",\"N\"),\"N\")","v":"Y"},{"$f":"VLOOKUP(F6486,'Object Codes'!$A:$C,3,0)","v":"Office Furniture"},{"$f":"VLOOKUP(A6486,Agencies!A:C,3,0)","v":"City University"},11.62641095890411]
["042",2022,"001","001","6215","400",0,0,0,12000,12000,0,0,0,0,0,0,0,0,0,12000,0,12000,0,0,12000,{"$f":"_xlfn.XLOOKUP(F6515,'Object Codes'!$A$18:$A$510,'Object Codes'!$H$18:$H$510)","v":"Other Services and Charges - General"},{"$f":"_xlfn.XLOOKUP(F6515,'Object Codes'!$A$18:$A$510,'Object Codes'!$G$18:$G$510)","v":0},{"$f":"_xlfn.XLOOKUP(A6515,Agencies!$A$9:$A$146,Agencies!$B$9:$B$146)","v":"City University"},{"$f":"IF(_xlfn.XLOOKUP(A6515,Agencies!A:A,Agencies!D:D)=\"Y\",IF(_xlfn.XLOOKUP(F6515,'Object Codes'!A:A,'Object Codes'!I:I)=\"Y\",\"Y\",\"N\"),\"N\")","v":"Y"},{"$f":"VLOOKUP(F6515,'Object Codes'!$A:$C,3,0)","v":"Other Services and Charges - General"},{"$f":"VLOOKUP(A6515,Agencies!A:C,3,0)","v":"City University"},0]
["042",2022,"001","001","6347","314",0,0,0,0,2025,0,0,0,0,0,1142.0999999999999,0,1142.0999999999999,1142.0999999999999,882.9,1142.0999999999999,882.9,1142.0999999999999,1142.0999999999999,882.9,{"$f":"_xlfn.XLOOKUP(F6592,'Object Codes'!$A$18:$A$510,'Object Codes'!$H$18:$H$510)","v":"Equipment"},{"$f":"_xlfn.XLOOKUP(F6592,'Object Codes'!$A$18:$A$510,'Object Codes'!$G$18:$G$510)","v":"A"},{"$f":"_xlfn.XLOOKUP(A6592,Agencies!$A$9:$A$146,Agencies!$B$9:$B$146)","v":"City University"},{"$f":"IF(_xlfn.XLOOKUP(A6592,Agencies!A:A,Agencies!D:D)=\"Y\",IF(_xlfn.XLOOKUP(F6592,'Object Codes'!A:A,'Object Codes'!I:I)=\"Y\",\"Y\",\"N\"),\"N\")","v":"Y"},{"$f":"VLOOKUP(F6592,'Object Codes'!$A:$C,3,0)","v":"Office Furniture"},{"$f":"VLOOKUP(A6592,Agencies!A:C,3,0)","v":"City University"},3.1290410958904107]
["042",2022,"001","001","6400","417",0,0,0,135725,65250,0,0,0,0,0,59171.32,0,59171.32,59171.32,6078.68,59171.32,6078.68,59171.32,59171.32,6078.68,{"$f":"_xlfn.XLOOKUP(F6629,'Object Codes'!$A$18:$A$510,'Object Codes'!$H$18:$H$510)","v":"Other Services and Charges - General"},{"$f":"_xlfn.XLOOKUP(F6629,'Object Codes'!$A$18:$A$510,'Object Codes'!$G$18:$G$510)","v":0},{"$f":"_xlfn.XLOOKUP(A6629,Agencies!$A$9:$A$146,Agencies!$B$9:$B$146)","v":"City University"},{"$f":"IF(_xlfn.XLOOKUP(A6629,Agencies!A:A,Agencies!D:D)=\"Y\",IF(_xlfn.XLOOKUP(F6629,'Object Codes'!A:A,'Object Codes'!I:I)=\"Y\",\"Y\",\"N\"),\"N\")","v":"Y"},{"$f":"VLOOKUP(F6629,'Object Codes'!$A:$C,3,0)","v":"Advertising"},{"$f":"VLOOKUP(A6629,Agencies!A:C,3,0)","v":"City University"},162.11320547945206]
["042",2022,"001","001","6415","332",0,0,0,237863,658439,0,0,0,0,0,658436.44999999995,0,658436.44999999995,658436.44999999995,2.5499999999999998,658436.44999999995,2.5499999999999998,658436.44999999995,658436.44999999995,2.5499999999999998,{"$f":"_xlfn.XLOOKUP(F6658,'Object Codes'!$A$18:$A$510,'Object Codes'!$H$18:$H$510)","v":"Equipment"},{"$f":"_xlfn.XLOOKUP(F6658,'Object Codes'!$A$18:$A$510,'Object Codes'!$G$18:$G$510)","v":"A"},{"$f":"_xlfn.XLOOKUP(A6658,Agencies!$A$9:$A$146,Agencies!$B$9:$B$146)","v":"City University"},{"$f":"IF(_xlfn.XLOOKUP(A6658,Agencies!A:A,Agencies!D:D)=\"Y\",IF(_xlfn.XLOOKUP(F6658,'Object Codes'!A:A,'Object Codes'!I:I)=\"Y\",\"Y\",\"N\"),\"N\")","v":"Y"},{"$f":"VLOOKUP(F6658,'Object Codes'!$A:$C,3,0)","v":"Purchases of Data Processing Equipment"},{"$f":"VLOOKUP(A6658,Agencies!A:C,3,0)","v":"City University"},1803.9354794520548]
["042",2022,"001","001","6515","676",0,0,0,65663,663,0,0,0,0,0,0,0,0,0,663,0,663,0,0,663,{"$f":"_xlfn.XLOOKUP(F6741,'Object Codes'!$A$18:$A$510,'Object Codes'!$H$18:$H$510)","v":"Contractual Services"},{"$f":"_xlfn.XLOOKUP(F6741,'Object Codes'!$A$18:$A$510,'Object Codes'!$G$18:$G$510)","v":0},{"$f":"_xlfn.XLOOKUP(A6741,Agencies!$A$9:$A$146,Agencies!$B$9:$B$146)","v":"City University"},{"$f":"IF(_xlfn.XLOOKUP(A6741,Agencies!A:A,Agencies!D:D)=\"Y\",IF(_xlfn.XLOOKUP(F6741,'Object Codes'!A:A,'Object Codes'!I:I)=\"Y\",\"Y\",\"N\"),\"N\")","v":"Y"},{"$f":"VLOOKUP(F6741,'Object Codes'!$A:$C,3,0)","v":"Maintenance and Operation of Infrastructure - Contractual"},{"$f":"VLOOKUP(A6741,Agencies!A:C,3,0)","v":"City University"},0]
["042",2022,"001","001","6600","613",0,0,0,444000,372550,0,0,0,0,0,341824.94,0,341824.94,341824.94,30725.06,341824.94,30725.06,341824.94,341824.94,30725.06,{"$f":"_xlfn.XLOOKUP(F6772,'Object Codes'!$A$18:$A$510,'Object Codes'!$H$18:$H$510)","v":"Contractual Services"},{"$f":"_xlfn.XLOOKUP(F6772,'Object Codes'!$A$18:$A$510,'Object Codes'!$G$18:$G$510)","v":0},{"$f":"_xlfn.XLOOKUP(A6772,Agencies!$A$9:$A$146,Agencies!$B$9:$B$146)","v":"City University"},{"$f":"IF(_xlfn.XLOOKUP(A6772,Agencies!A:A,Agencies!D:D)=\"Y\",IF(_xlfn.XLOOKUP(F6772,'Object Codes'!A:A,'Object Codes'!I:I)=\"Y\",\"Y\",\"N\"),\"N\")","v":"Y"},{"$f":"VLOOKUP(F6772,'Object Codes'!$A:$C,3,0)","v":"Data Processing Equipment Maintenance - Contractual"},{"$f":"VLOOKUP(A6772,Agencies!A:C,3,0)","v":"City University"},936.50668493150681]
["042",2022,"001","001","6647","300",0,0,0,2000,2630,0,0,0,0,0,2613.67,0,2613.67,2613.67,16.329999999999998,2613.67,16.329999999999998,2613.67,2613.67,16.329999999999998,{"$f":"_xlfn.XLOOKUP(F6801,'Object Codes'!$A$18:$A$510,'Object Codes'!$H$18:$H$510)","v":"Equipment"},{"$f":"_xlfn.XLOOKUP(F6801,'Object Codes'!$A$18:$A$510,'Object Codes'!$G$18:$G$510)","v":"A"},{"$f":"_xlfn.XLOOKUP(A6801,Agencies!$A$9:$A$146,Agencies!$B$9:$B$146)","v":"City University"},{"$f":"IF(_xlfn.XLOOKUP(A6801,Agencies!A:A,Agencies!D:D)=\"Y\",IF(_xlfn.XLOOKUP(F6801,'Object Codes'!A:A,'Object Codes'!I:I)=\"Y\",\"Y\",\"N\"),\"N\")","v":"Y"},{"$f":"VLOOKUP(F6801,'Object Codes'!$A:$C,3,0)","v":"Equipment - General"},{"$f":"VLOOKUP(A6801,Agencies!A:C,3,0)","v":"City University"},7.1607397260273977]
["042",2022,"001","001","6800","493",0,0,0,1000000,1100276,0,0,0,0,0,1092712,0,1092712,1092712,7564,1092712,7564,1092712,1092712,7564,{"$f":"_xlfn.XLOOKUP(F6844,'Object Codes'!$A$18:$A$510,'Object Codes'!$H$18:$H$510)","v":"Other Services and Charges - General"},{"$f":"_xlfn.XLOOKUP(F6844,'Object Codes'!$A$18:$A$510,'Object Codes'!$G$18:$G$510)","v":"P"},{"$f":"_xlfn.XLOOKUP(A6844,Agencies!$A$9:$A$146,Agencies!$B$9:$B$146)","v":"City University"},{"$f":"IF(_xlfn.XLOOKUP(A6844,Agencies!A:A,Agencies!D:D)=\"Y\",IF(_xlfn.XLOOKUP(F6844,'Object Codes'!A:A,'Object Codes'!I:I)=\"Y\",\"Y\",\"N\"),\"N\")","v":"Y"},{"$f":"VLOOKUP(F6844,'Object Codes'!$A:$C,3,0)","v":"Financial Assistance - College Students"},{"$f":"VLOOKUP(A6844,Agencies!A:C,3,0)","v":"City University"},2993.7315068493149]
["042",2022,"001","001","6900","452",0,0,0,2000,5380,0,0,0,0,0,0,0,0,0,5380,0,5380,0,0,5380,{"$f":"_xlfn.XLOOKUP(F6910,'Object Codes'!$A$18:$A$510,'Object Codes'!$H$18:$H$510)","v":"Other Services and Charges - General"},{"$f":"_xlfn.XLOOKUP(F6910,'Object Codes'!$A$18:$A$510,'Object Codes'!$G$18:$G$510)","v":0},{"$f":"_xlfn.XLOOKUP(A6910,Agencies!$A$9:$A$146,Agencies!$B$9:$B$146)","v":"City University"},{"$f":"IF(_xlfn.XLOOKUP(A6910,Agencies!A:A,Agencies!D:D)=\"Y\",IF(_xlfn.XLOOKUP(F6910,'Object Codes'!A:A,'Object Codes'!I:I)=\"Y\",\"Y\",\"N\"),\"N\")","v":"Y"},{"$f":"VLOOKUP(F6910,'Object Codes'!$A:$C,3,0)","v":"Non Overnight Travel Expenditures - Special"},{"$f":"VLOOKUP(A6910,Agencies!A:C,3,0)","v":"City University"},0]
["042",2022,"001","001","CRA3","100",0,0,0,9556387,0,0,0,0,0,0,0,0,0,0,0,0,0,0,0,0,{"$f":"_xlfn.XLOOKUP(F6944,'Object Codes'!$A$18:$A$510,'Object Codes'!$H$18:$H$510)","v":"Supplies & Materials"},{"$f":"_xlfn.XLOOKUP(F6944,'Object Codes'!$A$18:$A$510,'Object Codes'!$G$18:$G$510)","v":"A"},{"$f":"_xlfn.XLOOKUP(A6944,Agencies!$A$9:$A$146,Agencies!$B$9:$B$146)","v":"City University"},{"$f":"IF(_xlfn.XLOOKUP(A6944,Agencies!A:A,Agencies!D:D)=\"Y\",IF(_xlfn.XLOOKUP(F6944,'Object Codes'!A:A,'Object Codes'!I:I)=\"Y\",\"Y\",\"N\"),\"N\")","v":"Y"},{"$f":"VLOOKUP(F6944,'Object Codes'!$A:$C,3,0)","v":"Supplies and Materials - General"},{"$f":"VLOOKUP(A6944,Agencies!A:C,3,0)","v":"City University"},0]
["042",2022,"001","002","6200","045",0,0,0,0,11000,0,0,0,0,0,8448.84,0,8448.84,8448.84,2551.16,8448.84,2551.16,8448.84,8448.84,2551.16,{"$f":"_xlfn.XLOOKUP(F6993,'Object Codes'!$A$18:$A$510,'Object Codes'!$H$18:$H$510)","v":"PS - Additional Gross"},{"$f":"_xlfn.XLOOKUP(F6993,'Object Codes'!$A$18:$A$510,'Object Codes'!$G$18:$G$510)","v":"A"},{"$f":"_xlfn.XLOOKUP(A6993,Agencies!$A$9:$A$146,Agencies!$B$9:$B$146)","v":"City University"},{"$f":"IF(_xlfn.XLOOKUP(A6993,Agencies!A:A,Agencies!D:D)=\"Y\",IF(_xlfn.XLOOKUP(F6993,'Object Codes'!A:A,'Object Codes'!I:I)=\"Y\",\"Y\",\"N\"),\"N\")","v":"Y"},{"$f":"VLOOKUP(F6993,'Object Codes'!$A:$C,3,0)","v":"Holiday Pay"},{"$f":"VLOOKUP(A6993,Agencies!A:C,3,0)","v":"City University"},23.147506849315068]
["042",2022,"001","002","6400","X41",0,0,0,0,0,0,0,0,0,0,6.85,0,6.85,6.85,-6.85,6.85,-6.85,6.85,6.85,-6.85,{"$f":"_xlfn.XLOOKUP(F7053,'Object Codes'!$A$18:$A$510,'Object Codes'!$H$18:$H$510)","v":"PS - Additional Gross"},{"$f":"_xlfn.XLOOKUP(F7053,'Object Codes'!$A$18:$A$510,'Object Codes'!$G$18:$G$510)","v":"A"},{"$f":"_xlfn.XLOOKUP(A7053,Agencies!$A$9:$A$146,Agencies!$B$9:$B$146)","v":"City University"},{"$f":"IF(_xlfn.XLOOKUP(A7053,Agencies!A:A,Agencies!D:D)=\"Y\",IF(_xlfn.XLOOKUP(F7053,'Object Codes'!A:A,'Object Codes'!I:I)=\"Y\",\"Y\",\"N\"),\"N\")","v":"Y"},{"$f":"VLOOKUP(F7053,'Object Codes'!$A:$C,3,0)","v":"PY ASSIGNMENT DIFFERENTIAL"},{"$f":"VLOOKUP(A7053,Agencies!A:C,3,0)","v":"City University"},1.8767123287671231E-2]
["042",2022,"001","002","6500","X43",0,0,0,0,0,0,0,0,0,0,448.93,0,448.93,448.93,-448.93,448.93,-448.93,448.93,448.93,-448.93,{"$f":"_xlfn.XLOOKUP(F7087,'Object Codes'!$A$18:$A$510,'Object Codes'!$H$18:$H$510)","v":"PS - Additional Gross"},{"$f":"_xlfn.XLOOKUP(F7087,'Object Codes'!$A$18:$A$510,'Object Codes'!$G$18:$G$510)","v":"A"},{"$f":"_xlfn.XLOOKUP(A7087,Agencies!$A$9:$A$146,Agencies!$B$9:$B$146)","v":"City University"},{"$f":"IF(_xlfn.XLOOKUP(A7087,Agencies!A:A,Agencies!D:D)=\"Y\",IF(_xlfn.XLOOKUP(F7087,'Object Codes'!A:A,'Object Codes'!I:I)=\"Y\",\"Y\",\"N\"),\"N\")","v":"Y"},{"$f":"VLOOKUP(F7087,'Object Codes'!$A:$C,3,0)","v":"PY SHIFT DIFFERENTIAL"},{"$f":"VLOOKUP(A7087,Agencies!A:C,3,0)","v":"City University"},1.229945205479452]
["042",2022,"001","002","6600","X45",0,0,0,0,0,0,0,0,0,0,2254.08,0,2254.08,2254.08,-2254.08,2254.08,-2254.08,2254.08,2254.08,-2254.08,{"$f":"_xlfn.XLOOKUP(F7116,'Object Codes'!$A$18:$A$510,'Object Codes'!$H$18:$H$510)","v":"PS - Additional Gross"},{"$f":"_xlfn.XLOOKUP(F7116,'Object Codes'!$A$18:$A$510,'Object Codes'!$G$18:$G$510)","v":"A"},{"$f":"_xlfn.XLOOKUP(A7116,Agencies!$A$9:$A$146,Agencies!$B$9:$B$146)","v":"City University"},{"$f":"IF(_xlfn.XLOOKUP(A7116,Agencies!A:A,Agencies!D:D)=\"Y\",IF(_xlfn.XLOOKUP(F7116,'Object Codes'!A:A,'Object Codes'!I:I)=\"Y\",\"Y\",\"N\"),\"N\")","v":"Y"},{"$f":"VLOOKUP(F7116,'Object Codes'!$A:$C,3,0)","v":"PY HOLIDAY PAY"},{"$f":"VLOOKUP(A7116,Agencies!A:C,3,0)","v":"City University"},6.175561643835616]
["042",2022,"001","002","6910","065",0,0,0,175000,186700,0,0,0,0,0,109492.03,0,109492.03,109492.03,77207.97,109492.03,77207.97,109492.03,109492.03,77207.97,{"$f":"_xlfn.XLOOKUP(F7200,'Object Codes'!$A$18:$A$510,'Object Codes'!$H$18:$H$510)","v":"PS - Other"},{"$f":"_xlfn.XLOOKUP(F7200,'Object Codes'!$A$18:$A$510,'Object Codes'!$G$18:$G$510)","v":"A"},{"$f":"_xlfn.XLOOKUP(A7200,Agencies!$A$9:$A$146,Agencies!$B$9:$B$146)","v":"City University"},{"$f":"IF(_xlfn.XLOOKUP(A7200,Agencies!A:A,Agencies!D:D)=\"Y\",IF(_xlfn.XLOOKUP(F7200,'Object Codes'!A:A,'Object Codes'!I:I)=\"Y\",\"Y\",\"N\"),\"N\")","v":"Y"},{"$f":"VLOOKUP(F7200,'Object Codes'!$A:$C,3,0)","v":"Social Security Contributions"},{"$f":"VLOOKUP(A7200,Agencies!A:C,3,0)","v":"City University"},299.97816438356165]
["042",2022,"001","003","CRA7","100",0,0,0,0,174008,0,0,0,0,0,174007.81,0,174007.81,174007.81,0.19,174007.81,0.19,174007.81,174007.81,0.19,{"$f":"_xlfn.XLOOKUP(F7230,'Object Codes'!$A$18:$A$510,'Object Codes'!$H$18:$H$510)","v":"Supplies & Materials"},{"$f":"_xlfn.XLOOKUP(F7230,'Object Codes'!$A$18:$A$510,'Object Codes'!$G$18:$G$510)","v":"A"},{"$f":"_xlfn.XLOOKUP(A7230,Agencies!$A$9:$A$146,Agencies!$B$9:$B$146)","v":"City University"},{"$f":"IF(_xlfn.XLOOKUP(A7230,Agencies!A:A,Agencies!D:D)=\"Y\",IF(_xlfn.XLOOKUP(F7230,'Object Codes'!A:A,'Object Codes'!I:I)=\"Y\",\"Y\",\"N\"),\"N\")","v":"Y"},{"$f":"VLOOKUP(F7230,'Object Codes'!$A:$C,3,0)","v":"Supplies and Materials - General"},{"$f":"VLOOKUP(A7230,Agencies!A:C,3,0)","v":"City University"},476.73372602739727]
["054",2022,"001","001","1000","022",0,0,0,0,0,0,0,0,0,0,1228.23,0,1228.23,1228.23,-1228.23,1228.23,-1228.23,1228.23,1228.23,-1228.23,{"$f":"_xlfn.XLOOKUP(F7259,'Object Codes'!$A$18:$A$510,'Object Codes'!$H$18:$H$510)","v":"PS - Regular"},{"$f":"_xlfn.XLOOKUP(F7259,'Object Codes'!$A$18:$A$510,'Object Codes'!$G$18:$G$510)","v":"C"},{"$f":"_xlfn.XLOOKUP(A7259,Agencies!$A$9:$A$146,Agencies!$B$9:$B$146)","v":"Public Safety & Judicial"},{"$f":"IF(_xlfn.XLOOKUP(A7259,Agencies!A:A,Agencies!D:D)=\"Y\",IF(_xlfn.XLOOKUP(F7259,'Object Codes'!A:A,'Object Codes'!I:I)=\"Y\",\"Y\",\"N\"),\"N\")","v":"Y"},{"$f":"VLOOKUP(F7259,'Object Codes'!$A:$C,3,0)","v":"Seasonal Positions"},{"$f":"VLOOKUP(A7259,Agencies!A:C,3,0)","v":"Civilian Complaint Review Bd."},3.3650136986301371]
["054",2022,"001","002","2000","332",0,0,0,40132,310606,0,0,0,0,0,189900.74,0,189900.74,189900.74,120705.26,189900.74,120705.26,189900.74,189900.74,120705.26,{"$f":"_xlfn.XLOOKUP(F7303,'Object Codes'!$A$18:$A$510,'Object Codes'!$H$18:$H$510)","v":"Equipment"},{"$f":"_xlfn.XLOOKUP(F7303,'Object Codes'!$A$18:$A$510,'Object Codes'!$G$18:$G$510)","v":"A"},{"$f":"_xlfn.XLOOKUP(A7303,Agencies!$A$9:$A$146,Agencies!$B$9:$B$146)","v":"Public Safety & Judicial"},{"$f":"IF(_xlfn.XLOOKUP(A7303,Agencies!A:A,Agencies!D:D)=\"Y\",IF(_xlfn.XLOOKUP(F7303,'Object Codes'!A:A,'Object Codes'!I:I)=\"Y\",\"Y\",\"N\"),\"N\")","v":"Y"},{"$f":"VLOOKUP(F7303,'Object Codes'!$A:$C,3,0)","v":"Purchases of Data Processing Equipment"},{"$f":"VLOOKUP(A7303,Agencies!A:C,3,0)","v":"Civilian Complaint Review Bd."},520.27599999999995]
["056",2022,"001","001","0030","X48",0,0,0,0,0,0,0,0,0,0,866.93,0,866.93,866.93,-866.93,866.93,-866.93,866.93,866.93,-866.93,{"$f":"_xlfn.XLOOKUP(F7373,'Object Codes'!$A$18:$A$510,'Object Codes'!$H$18:$H$510)","v":"PS - Additional Gross"},{"$f":"_xlfn.XLOOKUP(F7373,'Object Codes'!$A$18:$A$510,'Object Codes'!$G$18:$G$510)","v":"U"},{"$f":"_xlfn.XLOOKUP(A7373,Agencies!$A$9:$A$146,Agencies!$B$9:$B$146)","v":"Public Safety & Judicial"},{"$f":"IF(_xlfn.XLOOKUP(A7373,Agencies!A:A,Agencies!D:D)=\"Y\",IF(_xlfn.XLOOKUP(F7373,'Object Codes'!A:A,'Object Codes'!I:I)=\"Y\",\"Y\",\"N\"),\"N\")","v":"Y"},{"$f":"VLOOKUP(F7373,'Object Codes'!$A:$C,3,0)","v":"PY OVERTIME UNIFORM FORCES"},{"$f":"VLOOKUP(A7373,Agencies!A:C,3,0)","v":"Police Department"},2.3751506849315067]
["056",2022,"001","001","0090","095",0,0,0,0,0,0,0,1077.6400000000001,0,0,-1077.6400000000001,0,0,-1077.6400000000001,1077.6400000000001,-1077.6400000000001,1077.6400000000001,-1077.6400000000001,-1077.6400000000001,1077.6400000000001,{"$f":"_xlfn.XLOOKUP(F7402,'Object Codes'!$A$18:$A$510,'Object Codes'!$H$18:$H$510)","v":"PS - Additional Gross"},{"$f":"_xlfn.XLOOKUP(F7402,'Object Codes'!$A$18:$A$510,'Object Codes'!$G$18:$G$510)","v":"A"},{"$f":"_xlfn.XLOOKUP(A7402,Agencies!$A$9:$A$146,Agencies!$B$9:$B$146)","v":"Public Safety & Judicial"},{"$f":"IF(_xlfn.XLOOKUP(A7402,Agencies!A:A,Agencies!D:D)=\"Y\",IF(_xlfn.XLOOKUP(F7402,'Object Codes'!A:A,'Object Codes'!I:I)=\"Y\",\"Y\",\"N\"),\"N\")","v":"Y"},{"$f":"VLOOKUP(F7402,'Object Codes'!$A:$C,3,0)","v":"Payroll Refunds"},{"$f":"VLOOKUP(A7402,Agencies!A:C,3,0)","v":"Police Department"},0]
["056",2022,"001","001","0190","095",0,0,0,0,0,0,0,927,0,0,-927,0,0,-927,927,-927,927,-927,-927,927,{"$f":"_xlfn.XLOOKUP(F7452,'Object Codes'!$A$18:$A$510,'Object Codes'!$H$18:$H$510)","v":"PS - Additional Gross"},{"$f":"_xlfn.XLOOKUP(F7452,'Object Codes'!$A$18:$A$510,'Object Codes'!$G$18:$G$510)","v":"A"},{"$f":"_xlfn.XLOOKUP(A7452,Agencies!$A$9:$A$146,Agencies!$B$9:$B$146)","v":"Public Safety & Judicial"},{"$f":"IF(_xlfn.XLOOKUP(A7452,Agencies!A:A,Agencies!D:D)=\"Y\",IF(_xlfn.XLOOKUP(F7452,'Object Codes'!A:A,'Object Codes'!I:I)=\"Y\",\"Y\",\"N\"),\"N\")","v":"Y"},{"$f":"VLOOKUP(F7452,'Object Codes'!$A:$C,3,0)","v":"Payroll Refunds"},{"$f":"VLOOKUP(A7452,Agencies!A:C,3,0)","v":"Police Department"},0]
["056",2022,"001","001","0320","004",0,255,255,14695999,15197348,0,0,0,0,0,12439422.449999999,0,12439422.449999999,12439422.449999999,2757925.55,12439422.449999999,2757925.55,12439422.449999999,12439422.449999999,2757925.55,{"$f":"_xlfn.XLOOKUP(F7511,'Object Codes'!$A$18:$A$510,'Object Codes'!$H$18:$H$510)","v":"PS - Regular"},{"$f":"_xlfn.XLOOKUP(F7511,'Object Codes'!$A$18:$A$510,'Object Codes'!$G$18:$G$510)","v":"U"},{"$f":"_xlfn.XLOOKUP(A7511,Agencies!$A$9:$A$146,Agencies!$B$9:$B$146)","v":"Public Safety & Judicial"},{"$f":"IF(_xlfn.XLOOKUP(A7511,Agencies!A:A,Agencies!D:D)=\"Y\",IF(_xlfn.XLOOKUP(F7511,'Object Codes'!A:A,'Object Codes'!I:I)=\"Y\",\"Y\",\"N\"),\"N\")","v":"Y"},{"$f":"VLOOKUP(F7511,'Object Codes'!$A:$C,3,0)","v":"Full-Time Uniformed Personnel"},{"$f":"VLOOKUP(A7511,Agencies!A:C,3,0)","v":"Police Department"},34080.609452054792]
["056",2022,"001","001","0410","004",0,215,215,13965176,14117029,0,0,0,0,0,10193184.93,0,10193184.93,10193184.93,3923844.07,10193184.93,3923844.07,10193184.93,10193184.93,3923844.07,{"$f":"_xlfn.XLOOKUP(F7545,'Object Codes'!$A$18:$A$510,'Object Codes'!$H$18:$H$510)","v":"PS - Regular"},{"$f":"_xlfn.XLOOKUP(F7545,'Object Codes'!$A$18:$A$510,'Object Codes'!$G$18:$G$510)","v":"U"},{"$f":"_xlfn.XLOOKUP(A7545,Agencies!$A$9:$A$146,Agencies!$B$9:$B$146)","v":"Public Safety & Judicial"},{"$f":"IF(_xlfn.XLOOKUP(A7545,Agencies!A:A,Agencies!D:D)=\"Y\",IF(_xlfn.XLOOKUP(F7545,'Object Codes'!A:A,'Object Codes'!I:I)=\"Y\",\"Y\",\"N\"),\"N\")","v":"Y"},{"$f":"VLOOKUP(F7545,'Object Codes'!$A:$C,3,0)","v":"Full-Time Uniformed Personnel"},{"$f":"VLOOKUP(A7545,Agencies!A:C,3,0)","v":"Police Department"},27926.53405479452]
["056",2022,"001","001","0490","001",0,15,15,723265,810265,0,0,0,0,0,829224.35,0,829224.35,829224.35,-18959.349999999999,829224.35,-18959.349999999999,829224.35,829224.35,-18959.349999999999,{"$f":"_xlfn.XLOOKUP(F7601,'Object Codes'!$A$18:$A$510,'Object Codes'!$H$18:$H$510)","v":"PS - Regular"},{"$f":"_xlfn.XLOOKUP(F7601,'Object Codes'!$A$18:$A$510,'Object Codes'!$G$18:$G$510)","v":"C"},{"$f":"_xlfn.XLOOKUP(A7601,Agencies!$A$9:$A$146,Agencies!$B$9:$B$146)","v":"Public Safety & Judicial"},{"$f":"IF(_xlfn.XLOOKUP(A7601,Agencies!A:A,Agencies!D:D)=\"Y\",IF(_xlfn.XLOOKUP(F7601,'Object Codes'!A:A,'Object Codes'!I:I)=\"Y\",\"Y\",\"N\"),\"N\")","v":"Y"},{"$f":"VLOOKUP(F7601,'Object Codes'!$A:$C,3,0)","v":"Full Year Positions"},{"$f":"VLOOKUP(A7601,Agencies!A:C,3,0)","v":"Police Department"},2271.8475342465754]
["056",2022,"001","001","0630","061",0,0,0,0,0,0,0,0,0,0,627.5,0,627.5,627.5,-627.5,627.5,-627.5,627.5,627.5,-627.5,{"$f":"_xlfn.XLOOKUP(F7654,'Object Codes'!$A$18:$A$510,'Object Codes'!$H$18:$H$510)","v":"PS - Additional Gross"},{"$f":"_xlfn.XLOOKUP(F7654,'Object Codes'!$A$18:$A$510,'Object Codes'!$G$18:$G$510)","v":"A"},{"$f":"_xlfn.XLOOKUP(A7654,Agencies!$A$9:$A$146,Agencies!$B$9:$B$146)","v":"Public Safety & Judicial"},{"$f":"IF(_xlfn.XLOOKUP(A7654,Agencies!A:A,Agencies!D:D)=\"Y\",IF(_xlfn.XLOOKUP(F7654,'Object Codes'!A:A,'Object Codes'!I:I)=\"Y\",\"Y\",\"N\"),\"N\")","v":"Y"},{"$f":"VLOOKUP(F7654,'Object Codes'!$A:$C,3,0)","v":"Supper Money"},{"$f":"VLOOKUP(A7654,Agencies!A:C,3,0)","v":"Police Department"},1.7191780821917808]
["056",2022,"001","001","0690","042",0,0,0,786693,786693,0,0,0,0,0,678344.25,0,678344.25,678344.25,108348.75,678344.25,108348.75,678344.25,678344.25,108348.75,{"$f":"_xlfn.XLOOKUP(F7688,'Object Codes'!$A$18:$A$510,'Object Codes'!$H$18:$H$510)","v":"PS - Additional Gross"},{"$f":"_xlfn.XLOOKUP(F7688,'Object Codes'!$A$18:$A$510,'Object Codes'!$G$18:$G$510)","v":"A"},{"$f":"_xlfn.XLOOKUP(A7688,Agencies!$A$9:$A$146,Agencies!$B$9:$B$146)","v":"Public Safety & Judicial"},{"$f":"IF(_xlfn.XLOOKUP(A7688,Agencies!A:A,Agencies!D:D)=\"Y\",IF(_xlfn.XLOOKUP(F7688,'Object Codes'!A:A,'Object Codes'!I:I)=\"Y\",\"Y\",\"N\"),\"N\")","v":"Y"},{"$f":"VLOOKUP(F7688,'Object Codes'!$A:$C,3,0)","v":"Longevity Differential"},{"$f":"VLOOKUP(A7688,Agencies!A:C,3,0)","v":"Police Department"},1858.4773972602741]
["056",2022,"001","001","0830","031",0,0,0,708675,708675,0,0,0,0,0,606060.72,0,606060.72,606060.72,102614.28,606060.72,102614.28,606060.72,606060.72,102614.28,{"$f":"_xlfn.XLOOKUP(F7762,'Object Codes'!$A$18:$A$510,'Object Codes'!$H$18:$H$510)","v":"PS - Regular"},{"$f":"_xlfn.XLOOKUP(F7762,'Object Codes'!$A$18:$A$510,'Object Codes'!$G$18:$G$510)","v":"C"},{"$f":"_xlfn.XLOOKUP(A7762,Agencies!$A$9:$A$146,Agencies!$B$9:$B$146)","v":"Public Safety & Judicial"},{"$f":"IF(_xlfn.XLOOKUP(A7762,Agencies!A:A,Agencies!D:D)=\"Y\",IF(_xlfn.XLOOKUP(F7762,'Object Codes'!A:A,'Object Codes'!I:I)=\"Y\",\"Y\",\"N\"),\"N\")","v":"Y"},{"$f":"VLOOKUP(F7762,'Object Codes'!$A:$C,3,0)","v":"Hourly Positions"},{"$f":"VLOOKUP(A7762,Agencies!A:C,3,0)","v":"Police Department"},1660.4403287671232]
["056",2022,"001","001","0940","042",0,0,0,833463,833463,0,0,0,0,0,704492.93,0,704492.93,704492.93,128970.07,704492.93,128970.07,704492.93,704492.93,128970.07,{"$f":"_xlfn.XLOOKUP(F7797,'Object Codes'!$A$18:$A$510,'Object Codes'!$H$18:$H$510)","v":"PS - Additional Gross"},{"$f":"_xlfn.XLOOKUP(F7797,'Object Codes'!$A$18:$A$510,'Object Codes'!$G$18:$G$510)","v":"A"},{"$f":"_xlfn.XLOOKUP(A7797,Agencies!$A$9:$A$146,Agencies!$B$9:$B$146)","v":"Public Safety & Judicial"},{"$f":"IF(_xlfn.XLOOKUP(A7797,Agencies!A:A,Agencies!D:D)=\"Y\",IF(_xlfn.XLOOKUP(F7797,'Object Codes'!A:A,'Object Codes'!I:I)=\"Y\",\"Y\",\"N\"),\"N\")","v":"Y"},{"$f":"VLOOKUP(F7797,'Object Codes'!$A:$C,3,0)","v":"Longevity Differential"},{"$f":"VLOOKUP(A7797,Agencies!A:C,3,0)","v":"Police Department"},1930.1176164383562]
["056",2022,"001","001","1040","057",0,0,0,0,0,0,0,0,0,0,15500,0,15500,15500,-15500,15500,-15500,15500,15500,-15500,{"$f":"_xlfn.XLOOKUP(F7831,'Object Codes'!$A$18:$A$510,'Object Codes'!$H$18:$H$510)","v":"PS - Additional Gross"},{"$f":"_xlfn.XLOOKUP(F7831,'Object Codes'!$A$18:$A$510,'Object Codes'!$G$18:$G$510)","v":"A"},{"$f":"_xlfn.XLOOKUP(A7831,Agencies!$A$9:$A$146,Agencies!$B$9:$B$146)","v":"Public Safety & Judicial"},{"$f":"IF(_xlfn.XLOOKUP(A7831,Agencies!A:A,Agencies!D:D)=\"Y\",IF(_xlfn.XLOOKUP(F7831,'Object Codes'!A:A,'Object Codes'!I:I)=\"Y\",\"Y\",\"N\"),\"N\")","v":"Y"},{"$f":"VLOOKUP(F7831,'Object Codes'!$A:$C,3,0)","v":"Bonus Payments"},{"$f":"VLOOKUP(A7831,Agencies!A:C,3,0)","v":"Police Department"},42.465753424657535]
["056",2022,"001","001","1090","095",0,0,0,0,0,0,0,79.45,0,0,-79.45,0,0,-79.45,79.45,-79.45,79.45,-79.45,-79.45,79.45,{"$f":"_xlfn.XLOOKUP(F7865,'Object Codes'!$A$18:$A$510,'Object Codes'!$H$18:$H$510)","v":"PS - Additional Gross"},{"$f":"_xlfn.XLOOKUP(F7865,'Object Codes'!$A$18:$A$510,'Object Codes'!$G$18:$G$510)","v":"A"},{"$f":"_xlfn.XLOOKUP(A7865,Agencies!$A$9:$A$146,Agencies!$B$9:$B$146)","v":"Public Safety & Judicial"},{"$f":"IF(_xlfn.XLOOKUP(A7865,Agencies!A:A,Agencies!D:D)=\"Y\",IF(_xlfn.XLOOKUP(F7865,'Object Codes'!A:A,'Object Codes'!I:I)=\"Y\",\"Y\",\"N\"),\"N\")","v":"Y"},{"$f":"VLOOKUP(F7865,'Object Codes'!$A:$C,3,0)","v":"Payroll Refunds"},{"$f":"VLOOKUP(A7865,Agencies!A:C,3,0)","v":"Police Department"},0]
["056",2022,"001","001","1200","042",0,0,0,1518771,1518771,0,0,0,0,0,1365376.49,0,1365376.49,1365376.49,153394.51,1365376.49,153394.51,1365376.49,1365376.49,153394.51,{"$f":"_xlfn.XLOOKUP(F7940,'Object Codes'!$A$18:$A$510,'Object Codes'!$H$18:$H$510)","v":"PS - Additional Gross"},{"$f":"_xlfn.XLOOKUP(F7940,'Object Codes'!$A$18:$A$510,'Object Codes'!$G$18:$G$510)","v":"A"},{"$f":"_xlfn.XLOOKUP(A7940,Agencies!$A$9:$A$146,Agencies!$B$9:$B$146)","v":"Public Safety & Judicial"},{"$f":"IF(_xlfn.XLOOKUP(A7940,Agencies!A:A,Agencies!D:D)=\"Y\",IF(_xlfn.XLOOKUP(F7940,'Object Codes'!A:A,'Object Codes'!I:I)=\"Y\",\"Y\",\"N\"),\"N\")","v":"Y"},{"$f":"VLOOKUP(F7940,'Object Codes'!$A:$C,3,0)","v":"Longevity Differential"},{"$f":"VLOOKUP(A7940,Agencies!A:C,3,0)","v":"Police Department"},3740.7575068493152]
["056",2022,"001","001","1230","031",0,0,0,583785,583785,0,0,0,0,0,661945.13,0,661945.13,661945.13,-78160.13,661945.13,-78160.13,661945.13,661945.13,-78160.13,{"$f":"_xlfn.XLOOKUP(F7974,'Object Codes'!$A$18:$A$510,'Object Codes'!$H$18:$H$510)","v":"PS - Regular"},{"$f":"_xlfn.XLOOKUP(F7974,'Object Codes'!$A$18:$A$510,'Object Codes'!$G$18:$G$510)","v":"C"},{"$f":"_xlfn.XLOOKUP(A7974,Agencies!$A$9:$A$146,Agencies!$B$9:$B$146)","v":"Public Safety & Judicial"},{"$f":"IF(_xlfn.XLOOKUP(A7974,Agencies!A:A,Agencies!D:D)=\"Y\",IF(_xlfn.XLOOKUP(F7974,'Object Codes'!A:A,'Object Codes'!I:I)=\"Y\",\"Y\",\"N\"),\"N\")","v":"Y"},{"$f":"VLOOKUP(F7974,'Object Codes'!$A:$C,3,0)","v":"Hourly Positions"},{"$f":"VLOOKUP(A7974,Agencies!A:C,3,0)","v":"Police Department"},1813.5483013698631]
["056",2022,"001","001","1260","061",0,0,0,0,0,0,0,0,0,0,272.75,0,272.75,272.75,-272.75,272.75,-272.75,272.75,272.75,-272.75,{"$f":"_xlfn.XLOOKUP(F8014,'Object Codes'!$A$18:$A$510,'Object Codes'!$H$18:$H$510)","v":"PS - Additional Gross"},{"$f":"_xlfn.XLOOKUP(F8014,'Object Codes'!$A$18:$A$510,'Object Codes'!$G$18:$G$510)","v":"A"},{"$f":"_xlfn.XLOOKUP(A8014,Agencies!$A$9:$A$146,Agencies!$B$9:$B$146)","v":"Public Safety & Judicial"},{"$f":"IF(_xlfn.XLOOKUP(A8014,Agencies!A:A,Agencies!D:D)=\"Y\",IF(_xlfn.XLOOKUP(F8014,'Object Codes'!A:A,'Object Codes'!I:I)=\"Y\",\"Y\",\"N\"),\"N\")","v":"Y"},{"$f":"VLOOKUP(F8014,'Object Codes'!$A:$C,3,0)","v":"Supper Money"},{"$f":"VLOOKUP(A8014,Agencies!A:C,3,0)","v":"Police Department"},0.74726027397260275]
["056",2022,"001","001","1504","049",0,0,0,0,0,0,0,0,0,0,121.44,0,121.44,121.44,-121.44,121.44,-121.44,121.44,121.44,-121.44,{"$f":"_xlfn.XLOOKUP(F8083,'Object Codes'!$A$18:$A$510,'Object Codes'!$H$18:$H$510)","v":"PS - Additional Gross"},{"$f":"_xlfn.XLOOKUP(F8083,'Object Codes'!$A$18:$A$510,'Object Codes'!$G$18:$G$510)","v":"A"},{"$f":"_xlfn.XLOOKUP(A8083,Agencies!$A$9:$A$146,Agencies!$B$9:$B$146)","v":"Public Safety & Judicial"},{"$f":"IF(_xlfn.XLOOKUP(A8083,Agencies!A:A,Agencies!D:D)=\"Y\",IF(_xlfn.XLOOKUP(F8083,'Object Codes'!A:A,'Object Codes'!I:I)=\"Y\",\"Y\",\"N\"),\"N\")","v":"Y"},{"$f":"VLOOKUP(F8083,'Object Codes'!$A:$C,3,0)","v":"Backpay"},{"$f":"VLOOKUP(A8083,Agencies!A:C,3,0)","v":"Police Department"},0.33271232876712326]
["056",2022,"001","001","1540","041",0,0,0,462,462,0,0,0,0,0,884616.97,0,884616.97,884616.97,-884154.97,884616.97,-884154.97,884616.97,884616.97,-884154.97,{"$f":"_xlfn.XLOOKUP(F8112,'Object Codes'!$A$18:$A$510,'Object Codes'!$H$18:$H$510)","v":"PS - Additional Gross"},{"$f":"_xlfn.XLOOKUP(F8112,'Object Codes'!$A$18:$A$510,'Object Codes'!$G$18:$G$510)","v":"A"},{"$f":"_xlfn.XLOOKUP(A8112,Agencies!$A$9:$A$146,Agencies!$B$9:$B$146)","v":"Public Safety & Judicial"},{"$f":"IF(_xlfn.XLOOKUP(A8112,Agencies!A:A,Agencies!D:D)=\"Y\",IF(_xlfn.XLOOKUP(F8112,'Object Codes'!A:A,'Object Codes'!I:I)=\"Y\",\"Y\",\"N\"),\"N\")","v":"Y"},{"$f":"VLOOKUP(F8112,'Object Codes'!$A:$C,3,0)","v":"Assignment Differential"},{"$f":"VLOOKUP(A8112,Agencies!A:C,3,0)","v":"Police Department"},2423.6081369863014]
["056",2022,"001","001","1600","X48",0,0,0,0,0,0,0,0,0,0,6641.7,0,6641.7,6641.7,-6641.7,6641.7,-6641.7,6641.7,6641.7,-6641.7,{"$f":"_xlfn.XLOOKUP(F8146,'Object Codes'!$A$18:$A$510,'Object Codes'!$H$18:$H$510)","v":"PS - Additional Gross"},{"$f":"_xlfn.XLOOKUP(F8146,'Object Codes'!$A$18:$A$510,'Object Codes'!$G$18:$G$510)","v":"U"},{"$f":"_xlfn.XLOOKUP(A8146,Agencies!$A$9:$A$146,Agencies!$B$9:$B$146)","v":"Public Safety & Judicial"},{"$f":"IF(_xlfn.XLOOKUP(A8146,Agencies!A:A,Agencies!D:D)=\"Y\",IF(_xlfn.XLOOKUP(F8146,'Object Codes'!A:A,'Object Codes'!I:I)=\"Y\",\"Y\",\"N\"),\"N\")","v":"Y"},{"$f":"VLOOKUP(F8146,'Object Codes'!$A:$C,3,0)","v":"PY OVERTIME UNIFORM FORCES"},{"$f":"VLOOKUP(A8146,Agencies!A:C,3,0)","v":"Police Department"},18.196438356164382]
["056",2022,"001","001","1730","X48",0,0,0,0,0,0,0,0,0,0,35714.82,0,35714.82,35714.82,-35714.82,35714.82,-35714.82,35714.82,35714.82,-35714.82,{"$f":"_xlfn.XLOOKUP(F8209,'Object Codes'!$A$18:$A$510,'Object Codes'!$H$18:$H$510)","v":"PS - Additional Gross"},{"$f":"_xlfn.XLOOKUP(F8209,'Object Codes'!$A$18:$A$510,'Object Codes'!$G$18:$G$510)","v":"U"},{"$f":"_xlfn.XLOOKUP(A8209,Agencies!$A$9:$A$146,Agencies!$B$9:$B$146)","v":"Public Safety & Judicial"},{"$f":"IF(_xlfn.XLOOKUP(A8209,Agencies!A:A,Agencies!D:D)=\"Y\",IF(_xlfn.XLOOKUP(F8209,'Object Codes'!A:A,'Object Codes'!I:I)=\"Y\",\"Y\",\"N\"),\"N\")","v":"Y"},{"$f":"VLOOKUP(F8209,'Object Codes'!$A:$C,3,0)","v":"PY OVERTIME UNIFORM FORCES"},{"$f":"VLOOKUP(A8209,Agencies!A:C,3,0)","v":"Police Department"},97.848821917808223]
["056",2022,"001","001","1810","047",0,0,0,0,0,0,0,0,0,0,66383.679999999993,0,66383.679999999993,66383.679999999993,-66383.679999999993,66383.679999999993,-66383.679999999993,66383.679999999993,66383.679999999993,-66383.679999999993,{"$f":"_xlfn.XLOOKUP(F8255,'Object Codes'!$A$18:$A$510,'Object Codes'!$H$18:$H$510)","v":"PS - Additional Gross"},{"$f":"_xlfn.XLOOKUP(F8255,'Object Codes'!$A$18:$A$510,'Object Codes'!$G$18:$G$510)","v":"C"},{"$f":"_xlfn.XLOOKUP(A8255,Agencies!$A$9:$A$146,Agencies!$B$9:$B$146)","v":"Public Safety & Judicial"},{"$f":"IF(_xlfn.XLOOKUP(A8255,Agencies!A:A,Agencies!D:D)=\"Y\",IF(_xlfn.XLOOKUP(F8255,'Object Codes'!A:A,'Object Codes'!I:I)=\"Y\",\"Y\",\"N\"),\"N\")","v":"Y"},{"$f":"VLOOKUP(F8255,'Object Codes'!$A:$C,3,0)","v":"Overtime"},{"$f":"VLOOKUP(A8255,Agencies!A:C,3,0)","v":"Police Department"},181.87309589041095]
["056",2022,"001","001","1860","047",0,0,0,0,0,0,0,0,0,0,13227.65,0,13227.65,13227.65,-13227.65,13227.65,-13227.65,13227.65,13227.65,-13227.65,{"$f":"_xlfn.XLOOKUP(F8289,'Object Codes'!$A$18:$A$510,'Object Codes'!$H$18:$H$510)","v":"PS - Additional Gross"},{"$f":"_xlfn.XLOOKUP(F8289,'Object Codes'!$A$18:$A$510,'Object Codes'!$G$18:$G$510)","v":"C"},{"$f":"_xlfn.XLOOKUP(A8289,Agencies!$A$9:$A$146,Agencies!$B$9:$B$146)","v":"Public Safety & Judicial"},{"$f":"IF(_xlfn.XLOOKUP(A8289,Agencies!A:A,Agencies!D:D)=\"Y\",IF(_xlfn.XLOOKUP(F8289,'Object Codes'!A:A,'Object Codes'!I:I)=\"Y\",\"Y\",\"N\"),\"N\")","v":"Y"},{"$f":"VLOOKUP(F8289,'Object Codes'!$A:$C,3,0)","v":"Overtime"},{"$f":"VLOOKUP(A8289,Agencies!A:C,3,0)","v":"Police Department"},36.240136986301366]
["056",2022,"001","001","1920","061",0,0,0,0,0,0,0,0,0,0,1486,0,1486,1486,-1486,1486,-1486,1486,1486,-1486,{"$f":"_xlfn.XLOOKUP(F8358,'Object Codes'!$A$18:$A$510,'Object Codes'!$H$18:$H$510)","v":"PS - Additional Gross"},{"$f":"_xlfn.XLOOKUP(F8358,'Object Codes'!$A$18:$A$510,'Object Codes'!$G$18:$G$510)","v":"A"},{"$f":"_xlfn.XLOOKUP(A8358,Agencies!$A$9:$A$146,Agencies!$B$9:$B$146)","v":"Public Safety & Judicial"},{"$f":"IF(_xlfn.XLOOKUP(A8358,Agencies!A:A,Agencies!D:D)=\"Y\",IF(_xlfn.XLOOKUP(F8358,'Object Codes'!A:A,'Object Codes'!I:I)=\"Y\",\"Y\",\"N\"),\"N\")","v":"Y"},{"$f":"VLOOKUP(F8358,'Object Codes'!$A:$C,3,0)","v":"Supper Money"},{"$f":"VLOOKUP(A8358,Agencies!A:C,3,0)","v":"Police Department"},4.0712328767123287]
["056",2022,"001","001","1990","X42",0,0,0,0,0,0,0,0,0,0,988.58,0,988.58,988.58,-988.58,988.58,-988.58,988.58,988.58,-988.58,{"$f":"_xlfn.XLOOKUP(F8398,'Object Codes'!$A$18:$A$510,'Object Codes'!$H$18:$H$510)","v":"PS - Additional Gross"},{"$f":"_xlfn.XLOOKUP(F8398,'Object Codes'!$A$18:$A$510,'Object Codes'!$G$18:$G$510)","v":"A"},{"$f":"_xlfn.XLOOKUP(A8398,Agencies!$A$9:$A$146,Agencies!$B$9:$B$146)","v":"Public Safety & Judicial"},{"$f":"IF(_xlfn.XLOOKUP(A8398,Agencies!A:A,Agencies!D:D)=\"Y\",IF(_xlfn.XLOOKUP(F8398,'Object Codes'!A:A,'Object Codes'!I:I)=\"Y\",\"Y\",\"N\"),\"N\")","v":"Y"},{"$f":"VLOOKUP(F8398,'Object Codes'!$A:$C,3,0)","v":"PY LONGEVITY DIFFERENTIAL"},{"$f":"VLOOKUP(A8398,Agencies!A:C,3,0)","v":"Police Department"},2.7084383561643839]
["056",2022,"001","002","2000","061",0,0,0,0,228000,0,0,0,0,0,686.75,0,686.75,686.75,227313.25,686.75,227313.25,686.75,686.75,227313.25,{"$f":"_xlfn.XLOOKUP(F8432,'Object Codes'!$A$18:$A$510,'Object Codes'!$H$18:$H$510)","v":"PS - Additional Gross"},{"$f":"_xlfn.XLOOKUP(F8432,'Object Codes'!$A$18:$A$510,'Object Codes'!$G$18:$G$510)","v":"A"},{"$f":"_xlfn.XLOOKUP(A8432,Agencies!$A$9:$A$146,Agencies!$B$9:$B$146)","v":"Public Safety & Judicial"},{"$f":"IF(_xlfn.XLOOKUP(A8432,Agencies!A:A,Agencies!D:D)=\"Y\",IF(_xlfn.XLOOKUP(F8432,'Object Codes'!A:A,'Object Codes'!I:I)=\"Y\",\"Y\",\"N\"),\"N\")","v":"Y"},{"$f":"VLOOKUP(F8432,'Object Codes'!$A:$C,3,0)","v":"Supper Money"},{"$f":"VLOOKUP(A8432,Agencies!A:C,3,0)","v":"Police Department"},1.8815068493150684]
["056",2022,"001","002","2040","031",0,0,0,1240716,937716,0,0,0,0,0,77028.25,0,77028.25,77028.25,860687.75,77028.25,860687.75,77028.25,77028.25,860687.75,{"$f":"_xlfn.XLOOKUP(F8473,'Object Codes'!$A$18:$A$510,'Object Codes'!$H$18:$H$510)","v":"PS - Regular"},{"$f":"_xlfn.XLOOKUP(F8473,'Object Codes'!$A$18:$A$510,'Object Codes'!$G$18:$G$510)","v":"C"},{"$f":"_xlfn.XLOOKUP(A8473,Agencies!$A$9:$A$146,Agencies!$B$9:$B$146)","v":"Public Safety & Judicial"},{"$f":"IF(_xlfn.XLOOKUP(A8473,Agencies!A:A,Agencies!D:D)=\"Y\",IF(_xlfn.XLOOKUP(F8473,'Object Codes'!A:A,'Object Codes'!I:I)=\"Y\",\"Y\",\"N\"),\"N\")","v":"Y"},{"$f":"VLOOKUP(F8473,'Object Codes'!$A:$C,3,0)","v":"Hourly Positions"},{"$f":"VLOOKUP(A8473,Agencies!A:C,3,0)","v":"Police Department"},211.03630136986303]
["056",2022,"001","002","2400","042",0,0,0,2585,2585,0,0,0,0,0,0,0,0,0,2585,0,2585,0,0,2585,{"$f":"_xlfn.XLOOKUP(F8541,'Object Codes'!$A$18:$A$510,'Object Codes'!$H$18:$H$510)","v":"PS - Additional Gross"},{"$f":"_xlfn.XLOOKUP(F8541,'Object Codes'!$A$18:$A$510,'Object Codes'!$G$18:$G$510)","v":"A"},{"$f":"_xlfn.XLOOKUP(A8541,Agencies!$A$9:$A$146,Agencies!$B$9:$B$146)","v":"Public Safety & Judicial"},{"$f":"IF(_xlfn.XLOOKUP(A8541,Agencies!A:A,Agencies!D:D)=\"Y\",IF(_xlfn.XLOOKUP(F8541,'Object Codes'!A:A,'Object Codes'!I:I)=\"Y\",\"Y\",\"N\"),\"N\")","v":"Y"},{"$f":"VLOOKUP(F8541,'Object Codes'!$A:$C,3,0)","v":"Longevity Differential"},{"$f":"VLOOKUP(A8541,Agencies!A:C,3,0)","v":"Police Department"},0]
["056",2022,"001","002","2520","064",0,0,0,0,0,0,0,0,0,0,80514,0,80514,80514,-80514,80514,-80514,80514,80514,-80514,{"$f":"_xlfn.XLOOKUP(F8575,'Object Codes'!$A$18:$A$510,'Object Codes'!$H$18:$H$510)","v":"PS - Other"},{"$f":"_xlfn.XLOOKUP(F8575,'Object Codes'!$A$18:$A$510,'Object Codes'!$G$18:$G$510)","v":"A"},{"$f":"_xlfn.XLOOKUP(A8575,Agencies!$A$9:$A$146,Agencies!$B$9:$B$146)","v":"Public Safety & Judicial"},{"$f":"IF(_xlfn.XLOOKUP(A8575,Agencies!A:A,Agencies!D:D)=\"Y\",IF(_xlfn.XLOOKUP(F8575,'Object Codes'!A:A,'Object Codes'!I:I)=\"Y\",\"Y\",\"N\"),\"N\")","v":"Y"},{"$f":"VLOOKUP(F8575,'Object Codes'!$A:$C,3,0)","v":"Allowance for Uniforms"},{"$f":"VLOOKUP(A8575,Agencies!A:C,3,0)","v":"Police Department"},220.58630136986301]
["056",2022,"001","002","2720","061",0,0,0,0,0,0,0,0,0,0,33,0,33,33,-33,33,-33,33,33,-33,{"$f":"_xlfn.XLOOKUP(F8622,'Object Codes'!$A$18:$A$510,'Object Codes'!$H$18:$H$510)","v":"PS - Additional Gross"},{"$f":"_xlfn.XLOOKUP(F8622,'Object Codes'!$A$18:$A$510,'Object Codes'!$G$18:$G$510)","v":"A"},{"$f":"_xlfn.XLOOKUP(A8622,Agencies!$A$9:$A$146,Agencies!$B$9:$B$146)","v":"Public Safety & Judicial"},{"$f":"IF(_xlfn.XLOOKUP(A8622,Agencies!A:A,Agencies!D:D)=\"Y\",IF(_xlfn.XLOOKUP(F8622,'Object Codes'!A:A,'Object Codes'!I:I)=\"Y\",\"Y\",\"N\"),\"N\")","v":"Y"},{"$f":"VLOOKUP(F8622,'Object Codes'!$A:$C,3,0)","v":"Supper Money"},{"$f":"VLOOKUP(A8622,Agencies!A:C,3,0)","v":"Police Department"},9.0410958904109592E-2]
["056",2022,"001","002","P002","057",0,0,0,0,293000,0,0,0,0,0,0,0,0,0,293000,0,293000,0,0,293000,{"$f":"_xlfn.XLOOKUP(F8684,'Object Codes'!$A$18:$A$510,'Object Codes'!$H$18:$H$510)","v":"PS - Additional Gross"},{"$f":"_xlfn.XLOOKUP(F8684,'Object Codes'!$A$18:$A$510,'Object Codes'!$G$18:$G$510)","v":"A"},{"$f":"_xlfn.XLOOKUP(A8684,Agencies!$A$9:$A$146,Agencies!$B$9:$B$146)","v":"Public Safety & Judicial"},{"$f":"IF(_xlfn.XLOOKUP(A8684,Agencies!A:A,Agencies!D:D)=\"Y\",IF(_xlfn.XLOOKUP(F8684,'Object Codes'!A:A,'Object Codes'!I:I)=\"Y\",\"Y\",\"N\"),\"N\")","v":"Y"},{"$f":"VLOOKUP(F8684,'Object Codes'!$A:$C,3,0)","v":"Bonus Payments"},{"$f":"VLOOKUP(A8684,Agencies!A:C,3,0)","v":"Police Department"},0]
["056",2022,"001","003","3100","045",0,0,0,70579,70579,0,0,0,0,0,183126.26,0,183126.26,183126.26,-112547.26,183126.26,-112547.26,183126.26,183126.26,-112547.26,{"$f":"_xlfn.XLOOKUP(F8713,'Object Codes'!$A$18:$A$510,'Object Codes'!$H$18:$H$510)","v":"PS - Additional Gross"},{"$f":"_xlfn.XLOOKUP(F8713,'Object Codes'!$A$18:$A$510,'Object Codes'!$G$18:$G$510)","v":"A"},{"$f":"_xlfn.XLOOKUP(A8713,Agencies!$A$9:$A$146,Agencies!$B$9:$B$146)","v":"Public Safety & Judicial"},{"$f":"IF(_xlfn.XLOOKUP(A8713,Agencies!A:A,Agencies!D:D)=\"Y\",IF(_xlfn.XLOOKUP(F8713,'Object Codes'!A:A,'Object Codes'!I:I)=\"Y\",\"Y\",\"N\"),\"N\")","v":"Y"},{"$f":"VLOOKUP(F8713,'Object Codes'!$A:$C,3,0)","v":"Holiday Pay"},{"$f":"VLOOKUP(A8713,Agencies!A:C,3,0)","v":"Police Department"},{"$f":"S8713/365","v":501.71578082191786}]
["056",2022,"001","004","4500","001",0,10,10,5826183,13864527,0,0,0,0,0,24000410.559999999,0,24000410.559999999,24000410.559999999,-10135883.560000001,24000410.559999999,-10135883.560000001,24000410.559999999,24000410.559999999,-10135883.560000001,{"$f":"_xlfn.XLOOKUP(F8771,'Object Codes'!$A$18:$A$510,'Object Codes'!$H$18:$H$510)","v":"PS - Regular"},{"$f":"_xlfn.XLOOKUP(F8771,'Object Codes'!$A$18:$A$510,'Object Codes'!$G$18:$G$510)","v":"C"},{"$f":"_xlfn.XLOOKUP(A8771,Agencies!$A$9:$A$146,Agencies!$B$9:$B$146)","v":"Public Safety & Judicial"},{"$f":"IF(_xlfn.XLOOKUP(A8771,Agencies!A:A,Agencies!D:D)=\"Y\",IF(_xlfn.XLOOKUP(F8771,'Object Codes'!A:A,'Object Codes'!I:I)=\"Y\",\"Y\",\"N\"),\"N\")","v":"Y"},{"$f":"VLOOKUP(F8771,'Object Codes'!$A:$C,3,0)","v":"Full Year Positions"},{"$f":"VLOOKUP(A8771,Agencies!A:C,3,0)","v":"Police Department"},65754.549479452049]
["056",2022,"001","004","4620","X47",0,0,0,0,0,0,0,0,0,0,377.29,0,377.29,377.29,-377.29,377.29,-377.29,377.29,377.29,-377.29,{"$f":"_xlfn.XLOOKUP(F8827,'Object Codes'!$A$18:$A$510,'Object Codes'!$H$18:$H$510)","v":"PS - Additional Gross"},{"$f":"_xlfn.XLOOKUP(F8827,'Object Codes'!$A$18:$A$510,'Object Codes'!$G$18:$G$510)","v":"A"},{"$f":"_xlfn.XLOOKUP(A8827,Agencies!$A$9:$A$146,Agencies!$B$9:$B$146)","v":"Public Safety & Judicial"},{"$f":"IF(_xlfn.XLOOKUP(A8827,Agencies!A:A,Agencies!D:D)=\"Y\",IF(_xlfn.XLOOKUP(F8827,'Object Codes'!A:A,'Object Codes'!I:I)=\"Y\",\"Y\",\"N\"),\"N\")","v":"Y"},{"$f":"VLOOKUP(F8827,'Object Codes'!$A:$C,3,0)","v":"PY OVERTIME"},{"$f":"VLOOKUP(A8827,Agencies!A:C,3,0)","v":"Police Department"},1.0336712328767124]
["056",2022,"001","004","4950","031",0,0,0,1778,1778,0,0,0,0,0,5481.44,0,5481.44,5481.44,-3703.44,5481.44,-3703.44,5481.44,5481.44,-3703.44,{"$f":"_xlfn.XLOOKUP(F8856,'Object Codes'!$A$18:$A$510,'Object Codes'!$H$18:$H$510)","v":"PS - Regular"},{"$f":"_xlfn.XLOOKUP(F8856,'Object Codes'!$A$18:$A$510,'Object Codes'!$G$18:$G$510)","v":"C"},{"$f":"_xlfn.XLOOKUP(A8856,Agencies!$A$9:$A$146,Agencies!$B$9:$B$146)","v":"Public Safety & Judicial"},{"$f":"IF(_xlfn.XLOOKUP(A8856,Agencies!A:A,Agencies!D:D)=\"Y\",IF(_xlfn.XLOOKUP(F8856,'Object Codes'!A:A,'Object Codes'!I:I)=\"Y\",\"Y\",\"N\"),\"N\")","v":"Y"},{"$f":"VLOOKUP(F8856,'Object Codes'!$A:$C,3,0)","v":"Hourly Positions"},{"$f":"VLOOKUP(A8856,Agencies!A:C,3,0)","v":"Police Department"},15.017643835616438]
["056",2022,"001","004","5300","061",0,0,0,0,0,0,0,0,0,0,13667.75,0,13667.75,13667.75,-13667.75,13667.75,-13667.75,13667.75,13667.75,-13667.75,{"$f":"_xlfn.XLOOKUP(F8920,'Object Codes'!$A$18:$A$510,'Object Codes'!$H$18:$H$510)","v":"PS - Additional Gross"},{"$f":"_xlfn.XLOOKUP(F8920,'Object Codes'!$A$18:$A$510,'Object Codes'!$G$18:$G$510)","v":"A"},{"$f":"_xlfn.XLOOKUP(A8920,Agencies!$A$9:$A$146,Agencies!$B$9:$B$146)","v":"Public Safety & Judicial"},{"$f":"IF(_xlfn.XLOOKUP(A8920,Agencies!A:A,Agencies!D:D)=\"Y\",IF(_xlfn.XLOOKUP(F8920,'Object Codes'!A:A,'Object Codes'!I:I)=\"Y\",\"Y\",\"N\"),\"N\")","v":"Y"},{"$f":"VLOOKUP(F8920,'Object Codes'!$A:$C,3,0)","v":"Supper Money"},{"$f":"VLOOKUP(A8920,Agencies!A:C,3,0)","v":"Police Department"},37.445890410958903]
["056",2022,"001","006","6110","X48",0,0,0,0,0,0,0,0,0,0,14904.82,0,14904.82,14904.82,-14904.82,14904.82,-14904.82,14904.82,14904.82,-14904.82,{"$f":"_xlfn.XLOOKUP(F8970,'Object Codes'!$A$18:$A$510,'Object Codes'!$H$18:$H$510)","v":"PS - Additional Gross"},{"$f":"_xlfn.XLOOKUP(F8970,'Object Codes'!$A$18:$A$510,'Object Codes'!$G$18:$G$510)","v":"U"},{"$f":"_xlfn.XLOOKUP(A8970,Agencies!$A$9:$A$146,Agencies!$B$9:$B$146)","v":"Public Safety & Judicial"},{"$f":"IF(_xlfn.XLOOKUP(A8970,Agencies!A:A,Agencies!D:D)=\"Y\",IF(_xlfn.XLOOKUP(F8970,'Object Codes'!A:A,'Object Codes'!I:I)=\"Y\",\"Y\",\"N\"),\"N\")","v":"Y"},{"$f":"VLOOKUP(F8970,'Object Codes'!$A:$C,3,0)","v":"PY OVERTIME UNIFORM FORCES"},{"$f":"VLOOKUP(A8970,Agencies!A:C,3,0)","v":"Police Department"},40.83512328767123]
["056",2022,"001","007","7400","064",0,0,0,245962,245962,0,0,0,0,0,0,0,0,0,245962,0,245962,0,0,245962,{"$f":"_xlfn.XLOOKUP(F8999,'Object Codes'!$A$18:$A$510,'Object Codes'!$H$18:$H$510)","v":"PS - Other"},{"$f":"_xlfn.XLOOKUP(F8999,'Object Codes'!$A$18:$A$510,'Object Codes'!$G$18:$G$510)","v":"A"},{"$f":"_xlfn.XLOOKUP(A8999,Agencies!$A$9:$A$146,Agencies!$B$9:$B$146)","v":"Public Safety & Judicial"},{"$f":"IF(_xlfn.XLOOKUP(A8999,Agencies!A:A,Agencies!D:D)=\"Y\",IF(_xlfn.XLOOKUP(F8999,'Object Codes'!A:A,'Object Codes'!I:I)=\"Y\",\"Y\",\"N\"),\"N\")","v":"Y"},{"$f":"VLOOKUP(F8999,'Object Codes'!$A:$C,3,0)","v":"Allowance for Uniforms"},{"$f":"VLOOKUP(A8999,Agencies!A:C,3,0)","v":"Police Department"},0]
["056",2022,"001","007","7440","X41",0,0,0,0,0,0,0,0,0,0,29.73,0,29.73,29.73,-29.73,29.73,-29.73,29.73,29.73,-29.73,{"$f":"_xlfn.XLOOKUP(F9069,'Object Codes'!$A$18:$A$510,'Object Codes'!$H$18:$H$510)","v":"PS - Additional Gross"},{"$f":"_xlfn.XLOOKUP(F9069,'Object Codes'!$A$18:$A$510,'Object Codes'!$G$18:$G$510)","v":"A"},{"$f":"_xlfn.XLOOKUP(A9069,Agencies!$A$9:$A$146,Agencies!$B$9:$B$146)","v":"Public Safety & Judicial"},{"$f":"IF(_xlfn.XLOOKUP(A9069,Agencies!A:A,Agencies!D:D)=\"Y\",IF(_xlfn.XLOOKUP(F9069,'Object Codes'!A:A,'Object Codes'!I:I)=\"Y\",\"Y\",\"N\"),\"N\")","v":"Y"},{"$f":"VLOOKUP(F9069,'Object Codes'!$A:$C,3,0)","v":"PY ASSIGNMENT DIFFERENTIAL"},{"$f":"VLOOKUP(A9069,Agencies!A:C,3,0)","v":"Police Department"},8.1452054794520543E-2]
["056",2022,"001","007","7470","X42",0,0,0,0,0,0,0,0,0,0,1100.1199999999999,0,1100.1199999999999,1100.1199999999999,-1100.1199999999999,1100.1199999999999,-1100.1199999999999,1100.1199999999999,1100.1199999999999,-1100.1199999999999,{"$f":"_xlfn.XLOOKUP(F9108,'Object Codes'!$A$18:$A$510,'Object Codes'!$H$18:$H$510)","v":"PS - Additional Gross"},{"$f":"_xlfn.XLOOKUP(F9108,'Object Codes'!$A$18:$A$510,'Object Codes'!$G$18:$G$510)","v":"A"},{"$f":"_xlfn.XLOOKUP(A9108,Agencies!$A$9:$A$146,Agencies!$B$9:$B$146)","v":"Public Safety & Judicial"},{"$f":"IF(_xlfn.XLOOKUP(A9108,Agencies!A:A,Agencies!D:D)=\"Y\",IF(_xlfn.XLOOKUP(F9108,'Object Codes'!A:A,'Object Codes'!I:I)=\"Y\",\"Y\",\"N\"),\"N\")","v":"Y"},{"$f":"VLOOKUP(F9108,'Object Codes'!$A:$C,3,0)","v":"PY LONGEVITY DIFFERENTIAL"},{"$f":"VLOOKUP(A9108,Agencies!A:C,3,0)","v":"Police Department"},3.0140273972602736]
["056",2022,"001","008","8000","095",0,0,0,0,0,0,0,7194.86,0,0,-7194.86,0,0,-7194.86,7194.86,-7194.86,7194.86,-7194.86,-7194.86,7194.86,{"$f":"_xlfn.XLOOKUP(F9142,'Object Codes'!$A$18:$A$510,'Object Codes'!$H$18:$H$510)","v":"PS - Additional Gross"},{"$f":"_xlfn.XLOOKUP(F9142,'Object Codes'!$A$18:$A$510,'Object Codes'!$G$18:$G$510)","v":"A"},{"$f":"_xlfn.XLOOKUP(A9142,Agencies!$A$9:$A$146,Agencies!$B$9:$B$146)","v":"Public Safety & Judicial"},{"$f":"IF(_xlfn.XLOOKUP(A9142,Agencies!A:A,Agencies!D:D)=\"Y\",IF(_xlfn.XLOOKUP(F9142,'Object Codes'!A:A,'Object Codes'!I:I)=\"Y\",\"Y\",\"N\"),\"N\")","v":"Y"},{"$f":"VLOOKUP(F9142,'Object Codes'!$A:$C,3,0)","v":"Payroll Refunds"},{"$f":"VLOOKUP(A9142,Agencies!A:C,3,0)","v":"Police Department"},0]
["056",2022,"001","100","0031","337",0,0,0,3325,1430,0,0,0,0,0,1430,0,1430,1430,0,1430,0,1430,1430,0,{"$f":"_xlfn.XLOOKUP(F9176,'Object Codes'!$A$18:$A$510,'Object Codes'!$H$18:$H$510)","v":"Equipment"},{"$f":"_xlfn.XLOOKUP(F9176,'Object Codes'!$A$18:$A$510,'Object Codes'!$G$18:$G$510)","v":"A"},{"$f":"_xlfn.XLOOKUP(A9176,Agencies!$A$9:$A$146,Agencies!$B$9:$B$146)","v":"Public Safety & Judicial"},{"$f":"IF(_xlfn.XLOOKUP(A9176,Agencies!A:A,Agencies!D:D)=\"Y\",IF(_xlfn.XLOOKUP(F9176,'Object Codes'!A:A,'Object Codes'!I:I)=\"Y\",\"Y\",\"N\"),\"N\")","v":"Y"},{"$f":"VLOOKUP(F9176,'Object Codes'!$A:$C,3,0)","v":"Books - Other"},{"$f":"VLOOKUP(A9176,Agencies!A:C,3,0)","v":"Police Department"},3.9178082191780823]
["056",2022,"001","100","1406","671",0,0,0,0,8400,0,0,0,0,0,8400,0,8400,8400,0,8400,0,8400,8400,0,{"$f":"_xlfn.XLOOKUP(F9230,'Object Codes'!$A$18:$A$510,'Object Codes'!$H$18:$H$510)","v":"Contractual Services"},{"$f":"_xlfn.XLOOKUP(F9230,'Object Codes'!$A$18:$A$510,'Object Codes'!$G$18:$G$510)","v":0},{"$f":"_xlfn.XLOOKUP(A9230,Agencies!$A$9:$A$146,Agencies!$B$9:$B$146)","v":"Public Safety & Judicial"},{"$f":"IF(_xlfn.XLOOKUP(A9230,Agencies!A:A,Agencies!D:D)=\"Y\",IF(_xlfn.XLOOKUP(F9230,'Object Codes'!A:A,'Object Codes'!I:I)=\"Y\",\"Y\",\"N\"),\"N\")","v":"Y"},{"$f":"VLOOKUP(F9230,'Object Codes'!$A:$C,3,0)","v":"Training Program for City Employees - Contractual"},{"$f":"VLOOKUP(A9230,Agencies!A:C,3,0)","v":"Police Department"},23.013698630136986]
["056",2022,"001","100","1581","307",0,0,0,30990,2460656,0,0,0,0,0,1465268.32,981745.32,2447013.64,2447013.64,13642.36,2447013.64,13642.36,2447013.64,2447013.64,13642.36,{"$f":"_xlfn.XLOOKUP(F9285,'Object Codes'!$A$18:$A$510,'Object Codes'!$H$18:$H$510)","v":"Equipment"},{"$f":"_xlfn.XLOOKUP(F9285,'Object Codes'!$A$18:$A$510,'Object Codes'!$G$18:$G$510)","v":"A"},{"$f":"_xlfn.XLOOKUP(A9285,Agencies!$A$9:$A$146,Agencies!$B$9:$B$146)","v":"Public Safety & Judicial"},{"$f":"IF(_xlfn.XLOOKUP(A9285,Agencies!A:A,Agencies!D:D)=\"Y\",IF(_xlfn.XLOOKUP(F9285,'Object Codes'!A:A,'Object Codes'!I:I)=\"Y\",\"Y\",\"N\"),\"N\")","v":"Y"},{"$f":"VLOOKUP(F9285,'Object Codes'!$A:$C,3,0)","v":"Medical, Surgical and Laboratory Equipment"},{"$f":"VLOOKUP(A9285,Agencies!A:C,3,0)","v":"Police Department"},6704.1469589041099]
["056",2022,"001","100","1611","607",0,0,0,0,1416,0,0,0,0,0,180,500,680,680,736,680,736,680,680,736,{"$f":"_xlfn.XLOOKUP(F9319,'Object Codes'!$A$18:$A$510,'Object Codes'!$H$18:$H$510)","v":"Contractual Services"},{"$f":"_xlfn.XLOOKUP(F9319,'Object Codes'!$A$18:$A$510,'Object Codes'!$G$18:$G$510)","v":0},{"$f":"_xlfn.XLOOKUP(A9319,Agencies!$A$9:$A$146,Agencies!$B$9:$B$146)","v":"Public Safety & Judicial"},{"$f":"IF(_xlfn.XLOOKUP(A9319,Agencies!A:A,Agencies!D:D)=\"Y\",IF(_xlfn.XLOOKUP(F9319,'Object Codes'!A:A,'Object Codes'!I:I)=\"Y\",\"Y\",\"N\"),\"N\")","v":"Y"},{"$f":"VLOOKUP(F9319,'Object Codes'!$A:$C,3,0)","v":"Maintenance and Repairs - Motor Vehicle Equipment - Contractual"},{"$f":"VLOOKUP(A9319,Agencies!A:C,3,0)","v":"Police Department"},1.8630136986301369]
["056",2022,"001","100","1765","300",0,0,0,0,301557,0,0,0,0,0,301556.8,0,301556.8,301556.8,0.2,301556.8,0.2,301556.8,301556.8,0.2,{"$f":"_xlfn.XLOOKUP(F9379,'Object Codes'!$A$18:$A$510,'Object Codes'!$H$18:$H$510)","v":"Equipment"},{"$f":"_xlfn.XLOOKUP(F9379,'Object Codes'!$A$18:$A$510,'Object Codes'!$G$18:$G$510)","v":"A"},{"$f":"_xlfn.XLOOKUP(A9379,Agencies!$A$9:$A$146,Agencies!$B$9:$B$146)","v":"Public Safety & Judicial"},{"$f":"IF(_xlfn.XLOOKUP(A9379,Agencies!A:A,Agencies!D:D)=\"Y\",IF(_xlfn.XLOOKUP(F9379,'Object Codes'!A:A,'Object Codes'!I:I)=\"Y\",\"Y\",\"N\"),\"N\")","v":"Y"},{"$f":"VLOOKUP(F9379,'Object Codes'!$A:$C,3,0)","v":"Equipment - General"},{"$f":"VLOOKUP(A9379,Agencies!A:C,3,0)","v":"Police Department"},826.18301369863013]
["056",2022,"001","100","1823","305",0,0,0,0,57728,0,0,0,0,0,57727.9,0,57727.9,57727.9,0.1,57727.9,0.1,57727.9,57727.9,0.1,{"$f":"_xlfn.XLOOKUP(F9428,'Object Codes'!$A$18:$A$510,'Object Codes'!$H$18:$H$510)","v":"Equipment"},{"$f":"_xlfn.XLOOKUP(F9428,'Object Codes'!$A$18:$A$510,'Object Codes'!$G$18:$G$510)","v":"A"},{"$f":"_xlfn.XLOOKUP(A9428,Agencies!$A$9:$A$146,Agencies!$B$9:$B$146)","v":"Public Safety & Judicial"},{"$f":"IF(_xlfn.XLOOKUP(A9428,Agencies!A:A,Agencies!D:D)=\"Y\",IF(_xlfn.XLOOKUP(F9428,'Object Codes'!A:A,'Object Codes'!I:I)=\"Y\",\"Y\",\"N\"),\"N\")","v":"Y"},{"$f":"VLOOKUP(F9428,'Object Codes'!$A:$C,3,0)","v":"Motor Vehicles"},{"$f":"VLOOKUP(A9428,Agencies!A:C,3,0)","v":"Police Department"},158.15863013698632]
["056",2022,"001","100","1853","199",0,0,0,0,3672,0,0,0,0,0,3671.48,0,3671.48,3671.48,0.52,3671.48,0.52,3671.48,3671.48,0.52,{"$f":"_xlfn.XLOOKUP(F9457,'Object Codes'!$A$18:$A$510,'Object Codes'!$H$18:$H$510)","v":"Supplies & Materials"},{"$f":"_xlfn.XLOOKUP(F9457,'Object Codes'!$A$18:$A$510,'Object Codes'!$G$18:$G$510)","v":"A"},{"$f":"_xlfn.XLOOKUP(A9457,Agencies!$A$9:$A$146,Agencies!$B$9:$B$146)","v":"Public Safety & Judicial"},{"$f":"IF(_xlfn.XLOOKUP(A9457,Agencies!A:A,Agencies!D:D)=\"Y\",IF(_xlfn.XLOOKUP(F9457,'Object Codes'!A:A,'Object Codes'!I:I)=\"Y\",\"Y\",\"N\"),\"N\")","v":"Y"},{"$f":"VLOOKUP(F9457,'Object Codes'!$A:$C,3,0)","v":"Data Processing Supplies"},{"$f":"VLOOKUP(A9457,Agencies!A:C,3,0)","v":"Police Department"},10.058849315068493]
["056",2022,"001","200","2041","199",0,0,0,9000,22282,0,0,0,0,0,19721.439999999999,0,19721.439999999999,19721.439999999999,2560.56,19721.439999999999,2560.56,19721.439999999999,19721.439999999999,2560.56,{"$f":"_xlfn.XLOOKUP(F9528,'Object Codes'!$A$18:$A$510,'Object Codes'!$H$18:$H$510)","v":"Supplies & Materials"},{"$f":"_xlfn.XLOOKUP(F9528,'Object Codes'!$A$18:$A$510,'Object Codes'!$G$18:$G$510)","v":"A"},{"$f":"_xlfn.XLOOKUP(A9528,Agencies!$A$9:$A$146,Agencies!$B$9:$B$146)","v":"Public Safety & Judicial"},{"$f":"IF(_xlfn.XLOOKUP(A9528,Agencies!A:A,Agencies!D:D)=\"Y\",IF(_xlfn.XLOOKUP(F9528,'Object Codes'!A:A,'Object Codes'!I:I)=\"Y\",\"Y\",\"N\"),\"N\")","v":"Y"},{"$f":"VLOOKUP(F9528,'Object Codes'!$A:$C,3,0)","v":"Data Processing Supplies"},{"$f":"VLOOKUP(A9528,Agencies!A:C,3,0)","v":"Police Department"},54.031342465753418]
["056",2022,"001","200","2051","460",0,0,0,253090,3016299,0,0,0,0,0,3016298.45,0,3016298.45,3016298.45,0.55000000000000004,3016298.45,0.55000000000000004,3016298.45,3016298.45,0.55000000000000004,{"$f":"_xlfn.XLOOKUP(F9571,'Object Codes'!$A$18:$A$510,'Object Codes'!$H$18:$H$510)","v":"Other Services and Charges - General"},{"$f":"_xlfn.XLOOKUP(F9571,'Object Codes'!$A$18:$A$510,'Object Codes'!$G$18:$G$510)","v":0},{"$f":"_xlfn.XLOOKUP(A9571,Agencies!$A$9:$A$146,Agencies!$B$9:$B$146)","v":"Public Safety & Judicial"},{"$f":"IF(_xlfn.XLOOKUP(A9571,Agencies!A:A,Agencies!D:D)=\"Y\",IF(_xlfn.XLOOKUP(F9571,'Object Codes'!A:A,'Object Codes'!I:I)=\"Y\",\"Y\",\"N\"),\"N\")","v":"Y"},{"$f":"VLOOKUP(F9571,'Object Codes'!$A:$C,3,0)","v":"Special Expenditures"},{"$f":"VLOOKUP(A9571,Agencies!A:C,3,0)","v":"Police Department"},8263.8313698630136]
["056",2022,"001","200","2131","454",0,0,0,60000,21563,0,0,0,0,0,21562.22,0,21562.22,21562.22,0.78,21562.22,0.78,21562.22,21562.22,0.78,{"$f":"_xlfn.XLOOKUP(F9600,'Object Codes'!$A$18:$A$510,'Object Codes'!$H$18:$H$510)","v":"Other Services and Charges - General"},{"$f":"_xlfn.XLOOKUP(F9600,'Object Codes'!$A$18:$A$510,'Object Codes'!$G$18:$G$510)","v":0},{"$f":"_xlfn.XLOOKUP(A9600,Agencies!$A$9:$A$146,Agencies!$B$9:$B$146)","v":"Public Safety & Judicial"},{"$f":"IF(_xlfn.XLOOKUP(A9600,Agencies!A:A,Agencies!D:D)=\"Y\",IF(_xlfn.XLOOKUP(F9600,'Object Codes'!A:A,'Object Codes'!I:I)=\"Y\",\"Y\",\"N\"),\"N\")","v":"Y"},{"$f":"VLOOKUP(F9600,'Object Codes'!$A:$C,3,0)","v":"Overnight Travel Expenditures - Special"},{"$f":"VLOOKUP(A9600,Agencies!A:C,3,0)","v":"Police Department"},59.074575342465756]
["056",2022,"001","200","2511","671",0,0,0,7800,1212,0,0,0,0,0,1135,0,1135,1135,77,1135,77,1135,1135,77,{"$f":"_xlfn.XLOOKUP(F9677,'Object Codes'!$A$18:$A$510,'Object Codes'!$H$18:$H$510)","v":"Contractual Services"},{"$f":"_xlfn.XLOOKUP(F9677,'Object Codes'!$A$18:$A$510,'Object Codes'!$G$18:$G$510)","v":0},{"$f":"_xlfn.XLOOKUP(A9677,Agencies!$A$9:$A$146,Agencies!$B$9:$B$146)","v":"Public Safety & Judicial"},{"$f":"IF(_xlfn.XLOOKUP(A9677,Agencies!A:A,Agencies!D:D)=\"Y\",IF(_xlfn.XLOOKUP(F9677,'Object Codes'!A:A,'Object Codes'!I:I)=\"Y\",\"Y\",\"N\"),\"N\")","v":"Y"},{"$f":"VLOOKUP(F9677,'Object Codes'!$A:$C,3,0)","v":"Training Program for City Employees - Contractual"},{"$f":"VLOOKUP(A9677,Agencies!A:C,3,0)","v":"Police Department"},3.1095890410958904]
["056",2022,"001","200","2901","454",0,0,0,2924,9116,0,0,0,0,0,9115.43,0,9115.43,9115.43,0.56999999999999995,9115.43,0.56999999999999995,9115.43,9115.43,0.56999999999999995,{"$f":"_xlfn.XLOOKUP(F9709,'Object Codes'!$A$18:$A$510,'Object Codes'!$H$18:$H$510)","v":"Other Services and Charges - General"},{"$f":"_xlfn.XLOOKUP(F9709,'Object Codes'!$A$18:$A$510,'Object Codes'!$G$18:$G$510)","v":0},{"$f":"_xlfn.XLOOKUP(A9709,Agencies!$A$9:$A$146,Agencies!$B$9:$B$146)","v":"Public Safety & Judicial"},{"$f":"IF(_xlfn.XLOOKUP(A9709,Agencies!A:A,Agencies!D:D)=\"Y\",IF(_xlfn.XLOOKUP(F9709,'Object Codes'!A:A,'Object Codes'!I:I)=\"Y\",\"Y\",\"N\"),\"N\")","v":"Y"},{"$f":"VLOOKUP(F9709,'Object Codes'!$A:$C,3,0)","v":"Overnight Travel Expenditures - Special"},{"$f":"VLOOKUP(A9709,Agencies!A:C,3,0)","v":"Police Department"},24.97378082191781]
["056",2022,"001","300","3001","602",0,0,0,120000,0,0,0,0,0,0,0,0,0,0,0,0,0,0,0,0,{"$f":"_xlfn.XLOOKUP(F9743,'Object Codes'!$A$18:$A$510,'Object Codes'!$H$18:$H$510)","v":"Contractual Services"},{"$f":"_xlfn.XLOOKUP(F9743,'Object Codes'!$A$18:$A$510,'Object Codes'!$G$18:$G$510)","v":0},{"$f":"_xlfn.XLOOKUP(A9743,Agencies!$A$9:$A$146,Agencies!$B$9:$B$146)","v":"Public Safety & Judicial"},{"$f":"IF(_xlfn.XLOOKUP(A9743,Agencies!A:A,Agencies!D:D)=\"Y\",IF(_xlfn.XLOOKUP(F9743,'Object Codes'!A:A,'Object Codes'!I:I)=\"Y\",\"Y\",\"N\"),\"N\")","v":"Y"},{"$f":"VLOOKUP(F9743,'Object Codes'!$A:$C,3,0)","v":"Telecommunications Maintenance - Contractual"},{"$f":"VLOOKUP(A9743,Agencies!A:C,3,0)","v":"Police Department"},0]
["056",2022,"001","400","4011","169",0,0,0,0,10000,0,0,0,0,0,8653.27,0,8653.27,8653.27,1346.73,8653.27,1346.73,8653.27,8653.27,1346.73,{"$f":"_xlfn.XLOOKUP(F9780,'Object Codes'!$A$18:$A$510,'Object Codes'!$H$18:$H$510)","v":"Supplies & Materials"},{"$f":"_xlfn.XLOOKUP(F9780,'Object Codes'!$A$18:$A$510,'Object Codes'!$G$18:$G$510)","v":"A"},{"$f":"_xlfn.XLOOKUP(A9780,Agencies!$A$9:$A$146,Agencies!$B$9:$B$146)","v":"Public Safety & Judicial"},{"$f":"IF(_xlfn.XLOOKUP(A9780,Agencies!A:A,Agencies!D:D)=\"Y\",IF(_xlfn.XLOOKUP(F9780,'Object Codes'!A:A,'Object Codes'!I:I)=\"Y\",\"Y\",\"N\"),\"N\")","v":"Y"},{"$f":"VLOOKUP(F9780,'Object Codes'!$A:$C,3,0)","v":"Maintenance Supplies"},{"$f":"VLOOKUP(A9780,Agencies!A:C,3,0)","v":"Police Department"},23.707589041095893]
["056",2022,"001","400","4302","460",0,0,0,3929420,1470800,0,0,0,0,0,1251776.48,0,1251776.48,1251776.48,219023.52,1251776.48,219023.52,1251776.48,1251776.48,219023.52,{"$f":"_xlfn.XLOOKUP(F9852,'Object Codes'!$A$18:$A$510,'Object Codes'!$H$18:$H$510)","v":"Other Services and Charges - General"},{"$f":"_xlfn.XLOOKUP(F9852,'Object Codes'!$A$18:$A$510,'Object Codes'!$G$18:$G$510)","v":0},{"$f":"_xlfn.XLOOKUP(A9852,Agencies!$A$9:$A$146,Agencies!$B$9:$B$146)","v":"Public Safety & Judicial"},{"$f":"IF(_xlfn.XLOOKUP(A9852,Agencies!A:A,Agencies!D:D)=\"Y\",IF(_xlfn.XLOOKUP(F9852,'Object Codes'!A:A,'Object Codes'!I:I)=\"Y\",\"Y\",\"N\"),\"N\")","v":"Y"},{"$f":"VLOOKUP(F9852,'Object Codes'!$A:$C,3,0)","v":"Special Expenditures"},{"$f":"VLOOKUP(A9852,Agencies!A:C,3,0)","v":"Police Department"},3429.5246027397261]
["056",2022,"001","400","4521","431",0,0,0,100000,60000,0,0,0,0,0,53146.8,0,53146.8,53146.8,6853.2,53146.8,6853.2,53146.8,53146.8,6853.2,{"$f":"_xlfn.XLOOKUP(F9886,'Object Codes'!$A$18:$A$510,'Object Codes'!$H$18:$H$510)","v":"Other Services and Charges - General"},{"$f":"_xlfn.XLOOKUP(F9886,'Object Codes'!$A$18:$A$510,'Object Codes'!$G$18:$G$510)","v":0},{"$f":"_xlfn.XLOOKUP(A9886,Agencies!$A$9:$A$146,Agencies!$B$9:$B$146)","v":"Public Safety & Judicial"},{"$f":"IF(_xlfn.XLOOKUP(A9886,Agencies!A:A,Agencies!D:D)=\"Y\",IF(_xlfn.XLOOKUP(F9886,'Object Codes'!A:A,'Object Codes'!I:I)=\"Y\",\"Y\",\"N\"),\"N\")","v":"Y"},{"$f":"VLOOKUP(F9886,'Object Codes'!$A:$C,3,0)","v":"Leasing of Miscellaneous Equipment"},{"$f":"VLOOKUP(A9886,Agencies!A:C,3,0)","v":"Police Department"},145.60767123287673]
["056",2022,"001","400","4561","337",0,0,0,5000,0,0,0,0,0,0,0,0,0,0,0,0,0,0,0,0,{"$f":"_xlfn.XLOOKUP(F9929,'Object Codes'!$A$18:$A$510,'Object Codes'!$H$18:$H$510)","v":"Equipment"},{"$f":"_xlfn.XLOOKUP(F9929,'Object Codes'!$A$18:$A$510,'Object Codes'!$G$18:$G$510)","v":"A"},{"$f":"_xlfn.XLOOKUP(A9929,Agencies!$A$9:$A$146,Agencies!$B$9:$B$146)","v":"Public Safety & Judicial"},{"$f":"IF(_xlfn.XLOOKUP(A9929,Agencies!A:A,Agencies!D:D)=\"Y\",IF(_xlfn.XLOOKUP(F9929,'Object Codes'!A:A,'Object Codes'!I:I)=\"Y\",\"Y\",\"N\"),\"N\")","v":"Y"},{"$f":"VLOOKUP(F9929,'Object Codes'!$A:$C,3,0)","v":"Books - Other"},{"$f":"VLOOKUP(A9929,Agencies!A:C,3,0)","v":"Police Department"},{"$f":"S9929/365","v":0}]
["056",2022,"001","400","4931","400",0,0,0,425780,466098,0,0,0,0,0,318857.57,0,318857.57,318857.57,147240.43,318857.57,147240.43,318857.57,318857.57,147240.43,{"$f":"_xlfn.XLOOKUP(F9995,'Object Codes'!$A$18:$A$510,'Object Codes'!$H$18:$H$510)","v":"Other Services and Charges - General"},{"$f":"_xlfn.XLOOKUP(F9995,'Object Codes'!$A$18:$A$510,'Object Codes'!$G$18:$G$510)","v":0},{"$f":"_xlfn.XLOOKUP(A9995,Agencies!$A$9:$A$146,Agencies!$B$9:$B$146)","v":"Public Safety & Judicial"},{"$f":"IF(_xlfn.XLOOKUP(A9995,Agencies!A:A,Agencies!D:D)=\"Y\",IF(_xlfn.XLOOKUP(F9995,'Object Codes'!A:A,'Object Codes'!I:I)=\"Y\",\"Y\",\"N\"),\"N\")","v":"Y"},{"$f":"VLOOKUP(F9995,'Object Codes'!$A:$C,3,0)","v":"Other Services and Charges - General"},{"$f":"VLOOKUP(A9995,Agencies!A:C,3,0)","v":"Police Department"},873.58238356164384]
["056",2022,"001","400","4971","460",0,0,0,4718370,3502097,0,0,0,0,0,3351003.34,0,3351003.34,3351003.34,151093.66,3351003.34,151093.66,3351003.34,3351003.34,151093.66,{"$f":"_xlfn.XLOOKUP(F10029,'Object Codes'!$A$18:$A$510,'Object Codes'!$H$18:$H$510)","v":"Other Services and Charges - General"},{"$f":"_xlfn.XLOOKUP(F10029,'Object Codes'!$A$18:$A$510,'Object Codes'!$G$18:$G$510)","v":0},{"$f":"_xlfn.XLOOKUP(A10029,Agencies!$A$9:$A$146,Agencies!$B$9:$B$146)","v":"Public Safety & Judicial"},{"$f":"IF(_xlfn.XLOOKUP(A10029,Agencies!A:A,Agencies!D:D)=\"Y\",IF(_xlfn.XLOOKUP(F10029,'Object Codes'!A:A,'Object Codes'!I:I)=\"Y\",\"Y\",\"N\"),\"N\")","v":"Y"},{"$f":"VLOOKUP(F10029,'Object Codes'!$A:$C,3,0)","v":"Special Expenditures"},{"$f":"VLOOKUP(A10029,Agencies!A:C,3,0)","v":"Police Department"},9180.8310684931512]
["056",2022,"001","400","5601","307",0,0,0,2167,38017,0,0,0,0,0,34918.71,0,34918.71,34918.71,3098.29,34918.71,3098.29,34918.71,34918.71,3098.29,{"$f":"_xlfn.XLOOKUP(F10090,'Object Codes'!$A$18:$A$510,'Object Codes'!$H$18:$H$510)","v":"Equipment"},{"$f":"_xlfn.XLOOKUP(F10090,'Object Codes'!$A$18:$A$510,'Object Codes'!$G$18:$G$510)","v":"A"},{"$f":"_xlfn.XLOOKUP(A10090,Agencies!$A$9:$A$146,Agencies!$B$9:$B$146)","v":"Public Safety & Judicial"},{"$f":"IF(_xlfn.XLOOKUP(A10090,Agencies!A:A,Agencies!D:D)=\"Y\",IF(_xlfn.XLOOKUP(F10090,'Object Codes'!A:A,'Object Codes'!I:I)=\"Y\",\"Y\",\"N\"),\"N\")","v":"Y"},{"$f":"VLOOKUP(F10090,'Object Codes'!$A:$C,3,0)","v":"Medical, Surgical and Laboratory Equipment"},{"$f":"VLOOKUP(A10090,Agencies!A:C,3,0)","v":"Police Department"},95.667698630136982]
["056",2022,"001","600","6101","100",0,0,0,103931,3615,0,0,0,0,0,3614.89,0,3614.89,3614.89,0.11,3614.89,0.11,3614.89,3614.89,0.11,{"$f":"_xlfn.XLOOKUP(F10138,'Object Codes'!$A$18:$A$510,'Object Codes'!$H$18:$H$510)","v":"Supplies & Materials"},{"$f":"_xlfn.XLOOKUP(F10138,'Object Codes'!$A$18:$A$510,'Object Codes'!$G$18:$G$510)","v":"A"},{"$f":"_xlfn.XLOOKUP(A10138,Agencies!$A$9:$A$146,Agencies!$B$9:$B$146)","v":"Public Safety & Judicial"},{"$f":"IF(_xlfn.XLOOKUP(A10138,Agencies!A:A,Agencies!D:D)=\"Y\",IF(_xlfn.XLOOKUP(F10138,'Object Codes'!A:A,'Object Codes'!I:I)=\"Y\",\"Y\",\"N\"),\"N\")","v":"Y"},{"$f":"VLOOKUP(F10138,'Object Codes'!$A:$C,3,0)","v":"Supplies and Materials - General"},{"$f":"VLOOKUP(A10138,Agencies!A:C,3,0)","v":"Police Department"},9.9038082191780816]
["056",2022,"001","700","7401","10E",0,0,0,38294,65664,0,0,0,0,0,65663.73,0,65663.73,65663.73,0.27,65663.73,0.27,65663.73,65663.73,0.27,{"$f":"_xlfn.XLOOKUP(F10172,'Object Codes'!$A$18:$A$510,'Object Codes'!$H$18:$H$510)","v":"Supplies & Materials"},{"$f":"_xlfn.XLOOKUP(F10172,'Object Codes'!$A$18:$A$510,'Object Codes'!$G$18:$G$510)","v":"A"},{"$f":"_xlfn.XLOOKUP(A10172,Agencies!$A$9:$A$146,Agencies!$B$9:$B$146)","v":"Public Safety & Judicial"},{"$f":"IF(_xlfn.XLOOKUP(A10172,Agencies!A:A,Agencies!D:D)=\"Y\",IF(_xlfn.XLOOKUP(F10172,'Object Codes'!A:A,'Object Codes'!I:I)=\"Y\",\"Y\",\"N\"),\"N\")","v":"Y"},{"$f":"VLOOKUP(F10172,'Object Codes'!$A:$C,3,0)","v":"AUTOMOTIVE SUPPLIES & MATERIAL"},{"$f":"VLOOKUP(A10172,Agencies!A:C,3,0)","v":"Police Department"},179.90063013698628]
["056",2022,"001","700","7405","607",0,0,0,0,25402,0,0,0,0,0,25402,0,25402,25402,0,25402,0,25402,25402,0,{"$f":"_xlfn.XLOOKUP(F10201,'Object Codes'!$A$18:$A$510,'Object Codes'!$H$18:$H$510)","v":"Contractual Services"},{"$f":"_xlfn.XLOOKUP(F10201,'Object Codes'!$A$18:$A$510,'Object Codes'!$G$18:$G$510)","v":0},{"$f":"_xlfn.XLOOKUP(A10201,Agencies!$A$9:$A$146,Agencies!$B$9:$B$146)","v":"Public Safety & Judicial"},{"$f":"IF(_xlfn.XLOOKUP(A10201,Agencies!A:A,Agencies!D:D)=\"Y\",IF(_xlfn.XLOOKUP(F10201,'Object Codes'!A:A,'Object Codes'!I:I)=\"Y\",\"Y\",\"N\"),\"N\")","v":"Y"},{"$f":"VLOOKUP(F10201,'Object Codes'!$A:$C,3,0)","v":"Maintenance and Repairs - Motor Vehicle Equipment - Contractual"},{"$f":"VLOOKUP(A10201,Agencies!A:C,3,0)","v":"Police Department"},69.594520547945208]
["057",2022,"001","001","1200","061",0,0,0,658,658,0,0,0,0,0,305,0,305,305,353,305,353,305,305,353,{"$f":"_xlfn.XLOOKUP(F10285,'Object Codes'!$A$18:$A$510,'Object Codes'!$H$18:$H$510)","v":"PS - Additional Gross"},{"$f":"_xlfn.XLOOKUP(F10285,'Object Codes'!$A$18:$A$510,'Object Codes'!$G$18:$G$510)","v":"A"},{"$f":"_xlfn.XLOOKUP(A10285,Agencies!$A$9:$A$146,Agencies!$B$9:$B$146)","v":"Public Safety & Judicial"},{"$f":"IF(_xlfn.XLOOKUP(A10285,Agencies!A:A,Agencies!D:D)=\"Y\",IF(_xlfn.XLOOKUP(F10285,'Object Codes'!A:A,'Object Codes'!I:I)=\"Y\",\"Y\",\"N\"),\"N\")","v":"Y"},{"$f":"VLOOKUP(F10285,'Object Codes'!$A:$C,3,0)","v":"Supper Money"},{"$f":"VLOOKUP(A10285,Agencies!A:C,3,0)","v":"Fire Department"},0.83561643835616439]
["057",2022,"001","001","1601","064",0,0,0,2910,2910,0,0,0,0,0,0,0,0,0,2910,0,2910,0,0,2910,{"$f":"_xlfn.XLOOKUP(F10310,'Object Codes'!$A$18:$A$510,'Object Codes'!$H$18:$H$510)","v":"PS - Other"},{"$f":"_xlfn.XLOOKUP(F10310,'Object Codes'!$A$18:$A$510,'Object Codes'!$G$18:$G$510)","v":"A"},{"$f":"_xlfn.XLOOKUP(A10310,Agencies!$A$9:$A$146,Agencies!$B$9:$B$146)","v":"Public Safety & Judicial"},{"$f":"IF(_xlfn.XLOOKUP(A10310,Agencies!A:A,Agencies!D:D)=\"Y\",IF(_xlfn.XLOOKUP(F10310,'Object Codes'!A:A,'Object Codes'!I:I)=\"Y\",\"Y\",\"N\"),\"N\")","v":"Y"},{"$f":"VLOOKUP(F10310,'Object Codes'!$A:$C,3,0)","v":"Allowance for Uniforms"},{"$f":"VLOOKUP(A10310,Agencies!A:C,3,0)","v":"Fire Department"},0]
["057",2022,"001","001","3100","057",0,0,0,0,0,0,0,0,0,0,500,0,500,500,-500,500,-500,500,500,-500,{"$f":"_xlfn.XLOOKUP(F10344,'Object Codes'!$A$18:$A$510,'Object Codes'!$H$18:$H$510)","v":"PS - Additional Gross"},{"$f":"_xlfn.XLOOKUP(F10344,'Object Codes'!$A$18:$A$510,'Object Codes'!$G$18:$G$510)","v":"A"},{"$f":"_xlfn.XLOOKUP(A10344,Agencies!$A$9:$A$146,Agencies!$B$9:$B$146)","v":"Public Safety & Judicial"},{"$f":"IF(_xlfn.XLOOKUP(A10344,Agencies!A:A,Agencies!D:D)=\"Y\",IF(_xlfn.XLOOKUP(F10344,'Object Codes'!A:A,'Object Codes'!I:I)=\"Y\",\"Y\",\"N\"),\"N\")","v":"Y"},{"$f":"VLOOKUP(F10344,'Object Codes'!$A:$C,3,0)","v":"Bonus Payments"},{"$f":"VLOOKUP(A10344,Agencies!A:C,3,0)","v":"Fire Department"},1.3698630136986301]
["057",2022,"001","001","3330","043",0,0,0,0,0,0,0,0,0,0,3518.11,0,3518.11,3518.11,-3518.11,3518.11,-3518.11,3518.11,3518.11,-3518.11,{"$f":"_xlfn.XLOOKUP(F10388,'Object Codes'!$A$18:$A$510,'Object Codes'!$H$18:$H$510)","v":"PS - Additional Gross"},{"$f":"_xlfn.XLOOKUP(F10388,'Object Codes'!$A$18:$A$510,'Object Codes'!$G$18:$G$510)","v":"A"},{"$f":"_xlfn.XLOOKUP(A10388,Agencies!$A$9:$A$146,Agencies!$B$9:$B$146)","v":"Public Safety & Judicial"},{"$f":"IF(_xlfn.XLOOKUP(A10388,Agencies!A:A,Agencies!D:D)=\"Y\",IF(_xlfn.XLOOKUP(F10388,'Object Codes'!A:A,'Object Codes'!I:I)=\"Y\",\"Y\",\"N\"),\"N\")","v":"Y"},{"$f":"VLOOKUP(F10388,'Object Codes'!$A:$C,3,0)","v":"Shift Differential"},{"$f":"VLOOKUP(A10388,Agencies!A:C,3,0)","v":"Fire Department"},9.6386575342465761]
["057",2022,"001","001","4010","061",0,0,0,0,0,0,0,0,0,0,181.5,0,181.5,181.5,-181.5,181.5,-181.5,181.5,181.5,-181.5,{"$f":"_xlfn.XLOOKUP(F10453,'Object Codes'!$A$18:$A$510,'Object Codes'!$H$18:$H$510)","v":"PS - Additional Gross"},{"$f":"_xlfn.XLOOKUP(F10453,'Object Codes'!$A$18:$A$510,'Object Codes'!$G$18:$G$510)","v":"A"},{"$f":"_xlfn.XLOOKUP(A10453,Agencies!$A$9:$A$146,Agencies!$B$9:$B$146)","v":"Public Safety & Judicial"},{"$f":"IF(_xlfn.XLOOKUP(A10453,Agencies!A:A,Agencies!D:D)=\"Y\",IF(_xlfn.XLOOKUP(F10453,'Object Codes'!A:A,'Object Codes'!I:I)=\"Y\",\"Y\",\"N\"),\"N\")","v":"Y"},{"$f":"VLOOKUP(F10453,'Object Codes'!$A:$C,3,0)","v":"Supper Money"},{"$f":"VLOOKUP(A10453,Agencies!A:C,3,0)","v":"Fire Department"},0.49726027397260275]
["057",2022,"001","001","4200","061",0,0,0,729,729,0,0,0,0,0,5235,0,5235,5235,-4506,5235,-4506,5235,5235,-4506,{"$f":"_xlfn.XLOOKUP(F10487,'Object Codes'!$A$18:$A$510,'Object Codes'!$H$18:$H$510)","v":"PS - Additional Gross"},{"$f":"_xlfn.XLOOKUP(F10487,'Object Codes'!$A$18:$A$510,'Object Codes'!$G$18:$G$510)","v":"A"},{"$f":"_xlfn.XLOOKUP(A10487,Agencies!$A$9:$A$146,Agencies!$B$9:$B$146)","v":"Public Safety & Judicial"},{"$f":"IF(_xlfn.XLOOKUP(A10487,Agencies!A:A,Agencies!D:D)=\"Y\",IF(_xlfn.XLOOKUP(F10487,'Object Codes'!A:A,'Object Codes'!I:I)=\"Y\",\"Y\",\"N\"),\"N\")","v":"Y"},{"$f":"VLOOKUP(F10487,'Object Codes'!$A:$C,3,0)","v":"Supper Money"},{"$f":"VLOOKUP(A10487,Agencies!A:C,3,0)","v":"Fire Department"},14.342465753424657]
["057",2022,"001","001","5130","001",0,0,0,0,0,0,0,0,0,0,101369.84,0,101369.84,101369.84,-101369.84,101369.84,-101369.84,101369.84,101369.84,-101369.84,{"$f":"_xlfn.XLOOKUP(F10537,'Object Codes'!$A$18:$A$510,'Object Codes'!$H$18:$H$510)","v":"PS - Regular"},{"$f":"_xlfn.XLOOKUP(F10537,'Object Codes'!$A$18:$A$510,'Object Codes'!$G$18:$G$510)","v":"C"},{"$f":"_xlfn.XLOOKUP(A10537,Agencies!$A$9:$A$146,Agencies!$B$9:$B$146)","v":"Public Safety & Judicial"},{"$f":"IF(_xlfn.XLOOKUP(A10537,Agencies!A:A,Agencies!D:D)=\"Y\",IF(_xlfn.XLOOKUP(F10537,'Object Codes'!A:A,'Object Codes'!I:I)=\"Y\",\"Y\",\"N\"),\"N\")","v":"Y"},{"$f":"VLOOKUP(F10537,'Object Codes'!$A:$C,3,0)","v":"Full Year Positions"},{"$f":"VLOOKUP(A10537,Agencies!A:C,3,0)","v":"Fire Department"},277.72558904109587]
["057",2022,"001","001","5240","041",0,0,0,2434,2434,0,0,0,0,0,0,0,0,0,2434,0,2434,0,0,2434,{"$f":"_xlfn.XLOOKUP(F10596,'Object Codes'!$A$18:$A$510,'Object Codes'!$H$18:$H$510)","v":"PS - Additional Gross"},{"$f":"_xlfn.XLOOKUP(F10596,'Object Codes'!$A$18:$A$510,'Object Codes'!$G$18:$G$510)","v":"A"},{"$f":"_xlfn.XLOOKUP(A10596,Agencies!$A$9:$A$146,Agencies!$B$9:$B$146)","v":"Public Safety & Judicial"},{"$f":"IF(_xlfn.XLOOKUP(A10596,Agencies!A:A,Agencies!D:D)=\"Y\",IF(_xlfn.XLOOKUP(F10596,'Object Codes'!A:A,'Object Codes'!I:I)=\"Y\",\"Y\",\"N\"),\"N\")","v":"Y"},{"$f":"VLOOKUP(F10596,'Object Codes'!$A:$C,3,0)","v":"Assignment Differential"},{"$f":"VLOOKUP(A10596,Agencies!A:C,3,0)","v":"Fire Department"},0]
["057",2022,"001","001","5472","057",0,0,0,0,0,0,0,0,0,0,2500,0,2500,2500,-2500,2500,-2500,2500,2500,-2500,{"$f":"_xlfn.XLOOKUP(F10630,'Object Codes'!$A$18:$A$510,'Object Codes'!$H$18:$H$510)","v":"PS - Additional Gross"},{"$f":"_xlfn.XLOOKUP(F10630,'Object Codes'!$A$18:$A$510,'Object Codes'!$G$18:$G$510)","v":"A"},{"$f":"_xlfn.XLOOKUP(A10630,Agencies!$A$9:$A$146,Agencies!$B$9:$B$146)","v":"Public Safety & Judicial"},{"$f":"IF(_xlfn.XLOOKUP(A10630,Agencies!A:A,Agencies!D:D)=\"Y\",IF(_xlfn.XLOOKUP(F10630,'Object Codes'!A:A,'Object Codes'!I:I)=\"Y\",\"Y\",\"N\"),\"N\")","v":"Y"},{"$f":"VLOOKUP(F10630,'Object Codes'!$A:$C,3,0)","v":"Bonus Payments"},{"$f":"VLOOKUP(A10630,Agencies!A:C,3,0)","v":"Fire Department"},6.8493150684931505]
["057",2022,"001","001","5521","042",0,0,0,8000,8000,0,0,0,0,0,0,0,0,0,8000,0,8000,0,0,8000,{"$f":"_xlfn.XLOOKUP(F10698,'Object Codes'!$A$18:$A$510,'Object Codes'!$H$18:$H$510)","v":"PS - Additional Gross"},{"$f":"_xlfn.XLOOKUP(F10698,'Object Codes'!$A$18:$A$510,'Object Codes'!$G$18:$G$510)","v":"A"},{"$f":"_xlfn.XLOOKUP(A10698,Agencies!$A$9:$A$146,Agencies!$B$9:$B$146)","v":"Public Safety & Judicial"},{"$f":"IF(_xlfn.XLOOKUP(A10698,Agencies!A:A,Agencies!D:D)=\"Y\",IF(_xlfn.XLOOKUP(F10698,'Object Codes'!A:A,'Object Codes'!I:I)=\"Y\",\"Y\",\"N\"),\"N\")","v":"Y"},{"$f":"VLOOKUP(F10698,'Object Codes'!$A:$C,3,0)","v":"Longevity Differential"},{"$f":"VLOOKUP(A10698,Agencies!A:C,3,0)","v":"Fire Department"},0]
["057",2022,"001","001","5540","X47",0,0,0,0,0,0,0,0,0,0,4258.8900000000003,0,4258.8900000000003,4258.8900000000003,-4258.8900000000003,4258.8900000000003,-4258.8900000000003,4258.8900000000003,4258.8900000000003,-4258.8900000000003,{"$f":"_xlfn.XLOOKUP(F10739,'Object Codes'!$A$18:$A$510,'Object Codes'!$H$18:$H$510)","v":"PS - Additional Gross"},{"$f":"_xlfn.XLOOKUP(F10739,'Object Codes'!$A$18:$A$510,'Object Codes'!$G$18:$G$510)","v":"A"},{"$f":"_xlfn.XLOOKUP(A10739,Agencies!$A$9:$A$146,Agencies!$B$9:$B$146)","v":"Public Safety & Judicial"},{"$f":"IF(_xlfn.XLOOKUP(A10739,Agencies!A:A,Agencies!D:D)=\"Y\",IF(_xlfn.XLOOKUP(F10739,'Object Codes'!A:A,'Object Codes'!I:I)=\"Y\",\"Y\",\"N\"),\"N\")","v":"Y"},{"$f":"VLOOKUP(F10739,'Object Codes'!$A:$C,3,0)","v":"PY OVERTIME"},{"$f":"VLOOKUP(A10739,Agencies!A:C,3,0)","v":"Fire Department"},11.668191780821919]
["057",2022,"001","001","WTC1","X41",0,0,0,0,0,0,0,0,0,0,7.23,0,7.23,7.23,-7.23,7.23,-7.23,7.23,7.23,-7.23,{"$f":"_xlfn.XLOOKUP(F10773,'Object Codes'!$A$18:$A$510,'Object Codes'!$H$18:$H$510)","v":"PS - Additional Gross"},{"$f":"_xlfn.XLOOKUP(F10773,'Object Codes'!$A$18:$A$510,'Object Codes'!$G$18:$G$510)","v":"A"},{"$f":"_xlfn.XLOOKUP(A10773,Agencies!$A$9:$A$146,Agencies!$B$9:$B$146)","v":"Public Safety & Judicial"},{"$f":"IF(_xlfn.XLOOKUP(A10773,Agencies!A:A,Agencies!D:D)=\"Y\",IF(_xlfn.XLOOKUP(F10773,'Object Codes'!A:A,'Object Codes'!I:I)=\"Y\",\"Y\",\"N\"),\"N\")","v":"Y"},{"$f":"VLOOKUP(F10773,'Object Codes'!$A:$C,3,0)","v":"PY ASSIGNMENT DIFFERENTIAL"},{"$f":"VLOOKUP(A10773,Agencies!A:C,3,0)","v":"Fire Department"},1.9808219178082193E-2]
["057",2022,"001","002","6100","057",0,0,0,0,0,0,0,0,0,0,175500,0,175500,175500,-175500,175500,-175500,175500,175500,-175500,{"$f":"_xlfn.XLOOKUP(F10847,'Object Codes'!$A$18:$A$510,'Object Codes'!$H$18:$H$510)","v":"PS - Additional Gross"},{"$f":"_xlfn.XLOOKUP(F10847,'Object Codes'!$A$18:$A$510,'Object Codes'!$G$18:$G$510)","v":"A"},{"$f":"_xlfn.XLOOKUP(A10847,Agencies!$A$9:$A$146,Agencies!$B$9:$B$146)","v":"Public Safety & Judicial"},{"$f":"IF(_xlfn.XLOOKUP(A10847,Agencies!A:A,Agencies!D:D)=\"Y\",IF(_xlfn.XLOOKUP(F10847,'Object Codes'!A:A,'Object Codes'!I:I)=\"Y\",\"Y\",\"N\"),\"N\")","v":"Y"},{"$f":"VLOOKUP(F10847,'Object Codes'!$A:$C,3,0)","v":"Bonus Payments"},{"$f":"VLOOKUP(A10847,Agencies!A:C,3,0)","v":"Fire Department"},480.82191780821915]
["057",2022,"001","002","6120","X45",0,0,0,0,0,0,0,0,0,0,196.58,0,196.58,196.58,-196.58,196.58,-196.58,196.58,196.58,-196.58,{"$f":"_xlfn.XLOOKUP(F10882,'Object Codes'!$A$18:$A$510,'Object Codes'!$H$18:$H$510)","v":"PS - Additional Gross"},{"$f":"_xlfn.XLOOKUP(F10882,'Object Codes'!$A$18:$A$510,'Object Codes'!$G$18:$G$510)","v":"A"},{"$f":"_xlfn.XLOOKUP(A10882,Agencies!$A$9:$A$146,Agencies!$B$9:$B$146)","v":"Public Safety & Judicial"},{"$f":"IF(_xlfn.XLOOKUP(A10882,Agencies!A:A,Agencies!D:D)=\"Y\",IF(_xlfn.XLOOKUP(F10882,'Object Codes'!A:A,'Object Codes'!I:I)=\"Y\",\"Y\",\"N\"),\"N\")","v":"Y"},{"$f":"VLOOKUP(F10882,'Object Codes'!$A:$C,3,0)","v":"PY HOLIDAY PAY"},{"$f":"VLOOKUP(A10882,Agencies!A:C,3,0)","v":"Fire Department"},0.53857534246575345]
["057",2022,"001","002","6201","048",0,0,0,663202,663202,0,0,0,0,0,468754.34,0,468754.34,468754.34,194447.66,468754.34,194447.66,468754.34,468754.34,194447.66,{"$f":"_xlfn.XLOOKUP(F10916,'Object Codes'!$A$18:$A$510,'Object Codes'!$H$18:$H$510)","v":"PS - Additional Gross"},{"$f":"_xlfn.XLOOKUP(F10916,'Object Codes'!$A$18:$A$510,'Object Codes'!$G$18:$G$510)","v":"U"},{"$f":"_xlfn.XLOOKUP(A10916,Agencies!$A$9:$A$146,Agencies!$B$9:$B$146)","v":"Public Safety & Judicial"},{"$f":"IF(_xlfn.XLOOKUP(A10916,Agencies!A:A,Agencies!D:D)=\"Y\",IF(_xlfn.XLOOKUP(F10916,'Object Codes'!A:A,'Object Codes'!I:I)=\"Y\",\"Y\",\"N\"),\"N\")","v":"Y"},{"$f":"VLOOKUP(F10916,'Object Codes'!$A:$C,3,0)","v":"Overtime-Uniformed Forces"},{"$f":"VLOOKUP(A10916,Agencies!A:C,3,0)","v":"Fire Department"},1284.2584657534246]
["057",2022,"001","002","6300","055",0,0,0,0,0,0,0,0,0,0,436.68,0,436.68,436.68,-436.68,436.68,-436.68,436.68,436.68,-436.68,{"$f":"_xlfn.XLOOKUP(F10950,'Object Codes'!$A$18:$A$510,'Object Codes'!$H$18:$H$510)","v":"PS - Additional Gross"},{"$f":"_xlfn.XLOOKUP(F10950,'Object Codes'!$A$18:$A$510,'Object Codes'!$G$18:$G$510)","v":"A"},{"$f":"_xlfn.XLOOKUP(A10950,Agencies!$A$9:$A$146,Agencies!$B$9:$B$146)","v":"Public Safety & Judicial"},{"$f":"IF(_xlfn.XLOOKUP(A10950,Agencies!A:A,Agencies!D:D)=\"Y\",IF(_xlfn.XLOOKUP(F10950,'Object Codes'!A:A,'Object Codes'!I:I)=\"Y\",\"Y\",\"N\"),\"N\")","v":"Y"},{"$f":"VLOOKUP(F10950,'Object Codes'!$A:$C,3,0)","v":"Salary Adjustments-Labor Reserve"},{"$f":"VLOOKUP(A10950,Agencies!A:C,3,0)","v":"Fire Department"},1.1963835616438356]
["057",2022,"001","002","7782","061",0,0,0,0,0,0,0,0,0,0,177.75,0,177.75,177.75,-177.75,177.75,-177.75,177.75,177.75,-177.75,{"$f":"_xlfn.XLOOKUP(F11025,'Object Codes'!$A$18:$A$510,'Object Codes'!$H$18:$H$510)","v":"PS - Additional Gross"},{"$f":"_xlfn.XLOOKUP(F11025,'Object Codes'!$A$18:$A$510,'Object Codes'!$G$18:$G$510)","v":"A"},{"$f":"_xlfn.XLOOKUP(A11025,Agencies!$A$9:$A$146,Agencies!$B$9:$B$146)","v":"Public Safety & Judicial"},{"$f":"IF(_xlfn.XLOOKUP(A11025,Agencies!A:A,Agencies!D:D)=\"Y\",IF(_xlfn.XLOOKUP(F11025,'Object Codes'!A:A,'Object Codes'!I:I)=\"Y\",\"Y\",\"N\"),\"N\")","v":"Y"},{"$f":"VLOOKUP(F11025,'Object Codes'!$A:$C,3,0)","v":"Supper Money"},{"$f":"VLOOKUP(A11025,Agencies!A:C,3,0)","v":"Fire Department"},0.48698630136986304]
["057",2022,"001","002","7822","042",0,0,0,0,0,0,0,0,0,0,35.619999999999997,0,35.619999999999997,35.619999999999997,-35.619999999999997,35.619999999999997,-35.619999999999997,35.619999999999997,35.619999999999997,-35.619999999999997,{"$f":"_xlfn.XLOOKUP(F11054,'Object Codes'!$A$18:$A$510,'Object Codes'!$H$18:$H$510)","v":"PS - Additional Gross"},{"$f":"_xlfn.XLOOKUP(F11054,'Object Codes'!$A$18:$A$510,'Object Codes'!$G$18:$G$510)","v":"A"},{"$f":"_xlfn.XLOOKUP(A11054,Agencies!$A$9:$A$146,Agencies!$B$9:$B$146)","v":"Public Safety & Judicial"},{"$f":"IF(_xlfn.XLOOKUP(A11054,Agencies!A:A,Agencies!D:D)=\"Y\",IF(_xlfn.XLOOKUP(F11054,'Object Codes'!A:A,'Object Codes'!I:I)=\"Y\",\"Y\",\"N\"),\"N\")","v":"Y"},{"$f":"VLOOKUP(F11054,'Object Codes'!$A:$C,3,0)","v":"Longevity Differential"},{"$f":"VLOOKUP(A11054,Agencies!A:C,3,0)","v":"Fire Department"},9.7589041095890408E-2]
["057",2022,"001","003","8001","057",0,0,0,0,0,0,0,0,0,0,13000,0,13000,13000,-13000,13000,-13000,13000,13000,-13000,{"$f":"_xlfn.XLOOKUP(F11099,'Object Codes'!$A$18:$A$510,'Object Codes'!$H$18:$H$510)","v":"PS - Additional Gross"},{"$f":"_xlfn.XLOOKUP(F11099,'Object Codes'!$A$18:$A$510,'Object Codes'!$G$18:$G$510)","v":"A"},{"$f":"_xlfn.XLOOKUP(A11099,Agencies!$A$9:$A$146,Agencies!$B$9:$B$146)","v":"Public Safety & Judicial"},{"$f":"IF(_xlfn.XLOOKUP(A11099,Agencies!A:A,Agencies!D:D)=\"Y\",IF(_xlfn.XLOOKUP(F11099,'Object Codes'!A:A,'Object Codes'!I:I)=\"Y\",\"Y\",\"N\"),\"N\")","v":"Y"},{"$f":"VLOOKUP(F11099,'Object Codes'!$A:$C,3,0)","v":"Bonus Payments"},{"$f":"VLOOKUP(A11099,Agencies!A:C,3,0)","v":"Fire Department"},35.61643835616438]
["057",2022,"001","004","5630","064",0,0,0,0,0,0,0,0,0,0,25000,0,25000,25000,-25000,25000,-25000,25000,25000,-25000,{"$f":"_xlfn.XLOOKUP(F11168,'Object Codes'!$A$18:$A$510,'Object Codes'!$H$18:$H$510)","v":"PS - Other"},{"$f":"_xlfn.XLOOKUP(F11168,'Object Codes'!$A$18:$A$510,'Object Codes'!$G$18:$G$510)","v":"A"},{"$f":"_xlfn.XLOOKUP(A11168,Agencies!$A$9:$A$146,Agencies!$B$9:$B$146)","v":"Public Safety & Judicial"},{"$f":"IF(_xlfn.XLOOKUP(A11168,Agencies!A:A,Agencies!D:D)=\"Y\",IF(_xlfn.XLOOKUP(F11168,'Object Codes'!A:A,'Object Codes'!I:I)=\"Y\",\"Y\",\"N\"),\"N\")","v":"Y"},{"$f":"VLOOKUP(F11168,'Object Codes'!$A:$C,3,0)","v":"Allowance for Uniforms"},{"$f":"VLOOKUP(A11168,Agencies!A:C,3,0)","v":"Fire Department"},68.493150684931507]
["057",2022,"001","004","5660","001",0,6,6,587087,587087,0,0,0,0,0,603702.23,0,603702.23,603702.23,-16615.23,603702.23,-16615.23,603702.23,603702.23,-16615.23,{"$f":"_xlfn.XLOOKUP(F11197,'Object Codes'!$A$18:$A$510,'Object Codes'!$H$18:$H$510)","v":"PS - Regular"},{"$f":"_xlfn.XLOOKUP(F11197,'Object Codes'!$A$18:$A$510,'Object Codes'!$G$18:$G$510)","v":"C"},{"$f":"_xlfn.XLOOKUP(A11197,Agencies!$A$9:$A$146,Agencies!$B$9:$B$146)","v":"Public Safety & Judicial"},{"$f":"IF(_xlfn.XLOOKUP(A11197,Agencies!A:A,Agencies!D:D)=\"Y\",IF(_xlfn.XLOOKUP(F11197,'Object Codes'!A:A,'Object Codes'!I:I)=\"Y\",\"Y\",\"N\"),\"N\")","v":"Y"},{"$f":"VLOOKUP(F11197,'Object Codes'!$A:$C,3,0)","v":"Full Year Positions"},{"$f":"VLOOKUP(A11197,Agencies!A:C,3,0)","v":"Fire Department"},1653.978712328767]
["057",2022,"001","004","5701","064",0,0,0,900,900,0,0,0,0,0,0,0,0,0,900,0,900,0,0,900,{"$f":"_xlfn.XLOOKUP(F11231,'Object Codes'!$A$18:$A$510,'Object Codes'!$H$18:$H$510)","v":"PS - Other"},{"$f":"_xlfn.XLOOKUP(F11231,'Object Codes'!$A$18:$A$510,'Object Codes'!$G$18:$G$510)","v":"A"},{"$f":"_xlfn.XLOOKUP(A11231,Agencies!$A$9:$A$146,Agencies!$B$9:$B$146)","v":"Public Safety & Judicial"},{"$f":"IF(_xlfn.XLOOKUP(A11231,Agencies!A:A,Agencies!D:D)=\"Y\",IF(_xlfn.XLOOKUP(F11231,'Object Codes'!A:A,'Object Codes'!I:I)=\"Y\",\"Y\",\"N\"),\"N\")","v":"Y"},{"$f":"VLOOKUP(F11231,'Object Codes'!$A:$C,3,0)","v":"Allowance for Uniforms"},{"$f":"VLOOKUP(A11231,Agencies!A:C,3,0)","v":"Fire Department"},0]
["057",2022,"001","005","1207","412",0,0,0,15000,5118,0,0,0,0,0,0,5104,5104,5104,14,5104,14,5104,5104,14,{"$f":"_xlfn.XLOOKUP(F11306,'Object Codes'!$A$18:$A$510,'Object Codes'!$H$18:$H$510)","v":"Other Services and Charges - General"},{"$f":"_xlfn.XLOOKUP(F11306,'Object Codes'!$A$18:$A$510,'Object Codes'!$G$18:$G$510)","v":0},{"$f":"_xlfn.XLOOKUP(A11306,Agencies!$A$9:$A$146,Agencies!$B$9:$B$146)","v":"Public Safety & Judicial"},{"$f":"IF(_xlfn.XLOOKUP(A11306,Agencies!A:A,Agencies!D:D)=\"Y\",IF(_xlfn.XLOOKUP(F11306,'Object Codes'!A:A,'Object Codes'!I:I)=\"Y\",\"Y\",\"N\"),\"N\")","v":"Y"},{"$f":"VLOOKUP(F11306,'Object Codes'!$A:$C,3,0)","v":"Rentals - Miscellaneous Equipment"},{"$f":"VLOOKUP(A11306,Agencies!A:C,3,0)","v":"Fire Department"},13.983561643835616]
["057",2022,"001","005","3117","412",0,0,0,278001,0,0,0,0,0,0,0,0,0,0,0,0,0,0,0,0,{"$f":"_xlfn.XLOOKUP(F11340,'Object Codes'!$A$18:$A$510,'Object Codes'!$H$18:$H$510)","v":"Other Services and Charges - General"},{"$f":"_xlfn.XLOOKUP(F11340,'Object Codes'!$A$18:$A$510,'Object Codes'!$G$18:$G$510)","v":0},{"$f":"_xlfn.XLOOKUP(A11340,Agencies!$A$9:$A$146,Agencies!$B$9:$B$146)","v":"Public Safety & Judicial"},{"$f":"IF(_xlfn.XLOOKUP(A11340,Agencies!A:A,Agencies!D:D)=\"Y\",IF(_xlfn.XLOOKUP(F11340,'Object Codes'!A:A,'Object Codes'!I:I)=\"Y\",\"Y\",\"N\"),\"N\")","v":"Y"},{"$f":"VLOOKUP(F11340,'Object Codes'!$A:$C,3,0)","v":"Rentals - Miscellaneous Equipment"},{"$f":"VLOOKUP(A11340,Agencies!A:C,3,0)","v":"Fire Department"},0]
["057",2022,"001","005","3607","100",0,0,0,3500,7351,0,0,0,0,0,5974.44,0,5974.44,5974.44,1376.56,5974.44,1376.56,5974.44,5974.44,1376.56,{"$f":"_xlfn.XLOOKUP(F11374,'Object Codes'!$A$18:$A$510,'Object Codes'!$H$18:$H$510)","v":"Supplies & Materials"},{"$f":"_xlfn.XLOOKUP(F11374,'Object Codes'!$A$18:$A$510,'Object Codes'!$G$18:$G$510)","v":"A"},{"$f":"_xlfn.XLOOKUP(A11374,Agencies!$A$9:$A$146,Agencies!$B$9:$B$146)","v":"Public Safety & Judicial"},{"$f":"IF(_xlfn.XLOOKUP(A11374,Agencies!A:A,Agencies!D:D)=\"Y\",IF(_xlfn.XLOOKUP(F11374,'Object Codes'!A:A,'Object Codes'!I:I)=\"Y\",\"Y\",\"N\"),\"N\")","v":"Y"},{"$f":"VLOOKUP(F11374,'Object Codes'!$A:$C,3,0)","v":"Supplies and Materials - General"},{"$f":"VLOOKUP(A11374,Agencies!A:C,3,0)","v":"Fire Department"},16.368328767123288]
["057",2022,"001","005","4042","613",0,0,0,0,156035,0,0,0,0,0,156035.19,0,156035.19,156035.19,-0.19,156035.19,-0.19,156035.19,156035.19,-0.19,{"$f":"_xlfn.XLOOKUP(F11455,'Object Codes'!$A$18:$A$510,'Object Codes'!$H$18:$H$510)","v":"Contractual Services"},{"$f":"_xlfn.XLOOKUP(F11455,'Object Codes'!$A$18:$A$510,'Object Codes'!$G$18:$G$510)","v":0},{"$f":"_xlfn.XLOOKUP(A11455,Agencies!$A$9:$A$146,Agencies!$B$9:$B$146)","v":"Public Safety & Judicial"},{"$f":"IF(_xlfn.XLOOKUP(A11455,Agencies!A:A,Agencies!D:D)=\"Y\",IF(_xlfn.XLOOKUP(F11455,'Object Codes'!A:A,'Object Codes'!I:I)=\"Y\",\"Y\",\"N\"),\"N\")","v":"Y"},{"$f":"VLOOKUP(F11455,'Object Codes'!$A:$C,3,0)","v":"Data Processing Equipment Maintenance - Contractual"},{"$f":"VLOOKUP(A11455,Agencies!A:C,3,0)","v":"Fire Department"},427.49367123287669]
["057",2022,"001","005","4102","307",0,0,0,0,6070,0,0,0,0,0,6069.51,0,6069.51,6069.51,0.49,6069.51,0.49,6069.51,6069.51,0.49,{"$f":"_xlfn.XLOOKUP(F11483,'Object Codes'!$A$18:$A$510,'Object Codes'!$H$18:$H$510)","v":"Equipment"},{"$f":"_xlfn.XLOOKUP(F11483,'Object Codes'!$A$18:$A$510,'Object Codes'!$G$18:$G$510)","v":"A"},{"$f":"_xlfn.XLOOKUP(A11483,Agencies!$A$9:$A$146,Agencies!$B$9:$B$146)","v":"Public Safety & Judicial"},{"$f":"IF(_xlfn.XLOOKUP(A11483,Agencies!A:A,Agencies!D:D)=\"Y\",IF(_xlfn.XLOOKUP(F11483,'Object Codes'!A:A,'Object Codes'!I:I)=\"Y\",\"Y\",\"N\"),\"N\")","v":"Y"},{"$f":"VLOOKUP(F11483,'Object Codes'!$A:$C,3,0)","v":"Medical, Surgical and Laboratory Equipment"},{"$f":"VLOOKUP(A11483,Agencies!A:C,3,0)","v":"Fire Department"},16.628794520547945]
["057",2022,"001","005","4152","453",0,0,0,0,119524,0,0,0,0,0,119523.18,0,119523.18,119523.18,0.82,119523.18,0.82,119523.18,119523.18,0.82,{"$f":"_xlfn.XLOOKUP(F11517,'Object Codes'!$A$18:$A$510,'Object Codes'!$H$18:$H$510)","v":"Other Services and Charges - General"},{"$f":"_xlfn.XLOOKUP(F11517,'Object Codes'!$A$18:$A$510,'Object Codes'!$G$18:$G$510)","v":0},{"$f":"_xlfn.XLOOKUP(A11517,Agencies!$A$9:$A$146,Agencies!$B$9:$B$146)","v":"Public Safety & Judicial"},{"$f":"IF(_xlfn.XLOOKUP(A11517,Agencies!A:A,Agencies!D:D)=\"Y\",IF(_xlfn.XLOOKUP(F11517,'Object Codes'!A:A,'Object Codes'!I:I)=\"Y\",\"Y\",\"N\"),\"N\")","v":"Y"},{"$f":"VLOOKUP(F11517,'Object Codes'!$A:$C,3,0)","v":"Overnight Travel Expenditures - General"},{"$f":"VLOOKUP(A11517,Agencies!A:C,3,0)","v":"Fire Department"},327.46076712328767]
["057",2022,"001","005","5207","100",0,0,0,516161,62689,0,0,0,0,0,62415.53,0,62415.53,62415.53,273.47000000000003,62415.53,273.47000000000003,62415.53,62415.53,273.47000000000003,{"$f":"_xlfn.XLOOKUP(F11558,'Object Codes'!$A$18:$A$510,'Object Codes'!$H$18:$H$510)","v":"Supplies & Materials"},{"$f":"_xlfn.XLOOKUP(F11558,'Object Codes'!$A$18:$A$510,'Object Codes'!$G$18:$G$510)","v":"A"},{"$f":"_xlfn.XLOOKUP(A11558,Agencies!$A$9:$A$146,Agencies!$B$9:$B$146)","v":"Public Safety & Judicial"},{"$f":"IF(_xlfn.XLOOKUP(A11558,Agencies!A:A,Agencies!D:D)=\"Y\",IF(_xlfn.XLOOKUP(F11558,'Object Codes'!A:A,'Object Codes'!I:I)=\"Y\",\"Y\",\"N\"),\"N\")","v":"Y"},{"$f":"VLOOKUP(F11558,'Object Codes'!$A:$C,3,0)","v":"Supplies and Materials - General"},{"$f":"VLOOKUP(A11558,Agencies!A:C,3,0)","v":"Fire Department"},171.00145205479453]
["057",2022,"001","005","E012","100",0,0,0,0,9454,0,0,0,0,0,9453.3799999999992,0,9453.3799999999992,9453.3799999999992,0.62,9453.3799999999992,0.62,9453.3799999999992,9453.3799999999992,0.62,{"$f":"_xlfn.XLOOKUP(F11626,'Object Codes'!$A$18:$A$510,'Object Codes'!$H$18:$H$510)","v":"Supplies & Materials"},{"$f":"_xlfn.XLOOKUP(F11626,'Object Codes'!$A$18:$A$510,'Object Codes'!$G$18:$G$510)","v":"A"},{"$f":"_xlfn.XLOOKUP(A11626,Agencies!$A$9:$A$146,Agencies!$B$9:$B$146)","v":"Public Safety & Judicial"},{"$f":"IF(_xlfn.XLOOKUP(A11626,Agencies!A:A,Agencies!D:D)=\"Y\",IF(_xlfn.XLOOKUP(F11626,'Object Codes'!A:A,'Object Codes'!I:I)=\"Y\",\"Y\",\"N\"),\"N\")","v":"Y"},{"$f":"VLOOKUP(F11626,'Object Codes'!$A:$C,3,0)","v":"Supplies and Materials - General"},{"$f":"VLOOKUP(A11626,Agencies!A:C,3,0)","v":"Fire Department"},25.89967123287671]
["057",2022,"001","006","4500","100",0,0,0,25000,11874,0,0,0,0,0,11873.1,0,11873.1,11873.1,0.9,11873.1,0.9,11873.1,11873.1,0.9,{"$f":"_xlfn.XLOOKUP(F11655,'Object Codes'!$A$18:$A$510,'Object Codes'!$H$18:$H$510)","v":"Supplies & Materials"},{"$f":"_xlfn.XLOOKUP(F11655,'Object Codes'!$A$18:$A$510,'Object Codes'!$G$18:$G$510)","v":"A"},{"$f":"_xlfn.XLOOKUP(A11655,Agencies!$A$9:$A$146,Agencies!$B$9:$B$146)","v":"Public Safety & Judicial"},{"$f":"IF(_xlfn.XLOOKUP(A11655,Agencies!A:A,Agencies!D:D)=\"Y\",IF(_xlfn.XLOOKUP(F11655,'Object Codes'!A:A,'Object Codes'!I:I)=\"Y\",\"Y\",\"N\"),\"N\")","v":"Y"},{"$f":"VLOOKUP(F11655,'Object Codes'!$A:$C,3,0)","v":"Supplies and Materials - General"},{"$f":"VLOOKUP(A11655,Agencies!A:C,3,0)","v":"Fire Department"},32.529041095890413]
["057",2022,"001","006","7107","602",0,0,0,90000,261816,0,0,0,0,0,283459.8,11879.79,295339.59000000003,295339.59000000003,-33523.589999999997,295339.59000000003,-33523.589999999997,295339.59000000003,295339.59000000003,-33523.589999999997,{"$f":"_xlfn.XLOOKUP(F11707,'Object Codes'!$A$18:$A$510,'Object Codes'!$H$18:$H$510)","v":"Contractual Services"},{"$f":"_xlfn.XLOOKUP(F11707,'Object Codes'!$A$18:$A$510,'Object Codes'!$G$18:$G$510)","v":0},{"$f":"_xlfn.XLOOKUP(A11707,Agencies!$A$9:$A$146,Agencies!$B$9:$B$146)","v":"Public Safety & Judicial"},{"$f":"IF(_xlfn.XLOOKUP(A11707,Agencies!A:A,Agencies!D:D)=\"Y\",IF(_xlfn.XLOOKUP(F11707,'Object Codes'!A:A,'Object Codes'!I:I)=\"Y\",\"Y\",\"N\"),\"N\")","v":"Y"},{"$f":"VLOOKUP(F11707,'Object Codes'!$A:$C,3,0)","v":"Telecommunications Maintenance - Contractual"},{"$f":"VLOOKUP(A11707,Agencies!A:C,3,0)","v":"Fire Department"},809.14956164383568]
["057",2022,"001","009","9200","095",0,0,0,0,0,0,0,57890.239999999998,0,0,-57890.239999999998,0,0,-57890.239999999998,57890.239999999998,-57890.239999999998,57890.239999999998,-57890.239999999998,-57890.239999999998,57890.239999999998,{"$f":"_xlfn.XLOOKUP(F11769,'Object Codes'!$A$18:$A$510,'Object Codes'!$H$18:$H$510)","v":"PS - Additional Gross"},{"$f":"_xlfn.XLOOKUP(F11769,'Object Codes'!$A$18:$A$510,'Object Codes'!$G$18:$G$510)","v":"A"},{"$f":"_xlfn.XLOOKUP(A11769,Agencies!$A$9:$A$146,Agencies!$B$9:$B$146)","v":"Public Safety & Judicial"},{"$f":"IF(_xlfn.XLOOKUP(A11769,Agencies!A:A,Agencies!D:D)=\"Y\",IF(_xlfn.XLOOKUP(F11769,'Object Codes'!A:A,'Object Codes'!I:I)=\"Y\",\"Y\",\"N\"),\"N\")","v":"Y"},{"$f":"VLOOKUP(F11769,'Object Codes'!$A:$C,3,0)","v":"Payroll Refunds"},{"$f":"VLOOKUP(A11769,Agencies!A:C,3,0)","v":"Fire Department"},0]
["057",2022,"001","009","9220","045",0,0,0,12657,13247,0,0,0,0,0,12516.45,0,12516.45,12516.45,730.55,12516.45,730.55,12516.45,12516.45,730.55,{"$f":"_xlfn.XLOOKUP(F11798,'Object Codes'!$A$18:$A$510,'Object Codes'!$H$18:$H$510)","v":"PS - Additional Gross"},{"$f":"_xlfn.XLOOKUP(F11798,'Object Codes'!$A$18:$A$510,'Object Codes'!$G$18:$G$510)","v":"A"},{"$f":"_xlfn.XLOOKUP(A11798,Agencies!$A$9:$A$146,Agencies!$B$9:$B$146)","v":"Public Safety & Judicial"},{"$f":"IF(_xlfn.XLOOKUP(A11798,Agencies!A:A,Agencies!D:D)=\"Y\",IF(_xlfn.XLOOKUP(F11798,'Object Codes'!A:A,'Object Codes'!I:I)=\"Y\",\"Y\",\"N\"),\"N\")","v":"Y"},{"$f":"VLOOKUP(F11798,'Object Codes'!$A:$C,3,0)","v":"Holiday Pay"},{"$f":"VLOOKUP(A11798,Agencies!A:C,3,0)","v":"Fire Department"},34.291643835616441]
["057",2022,"001","009","9242","089",0,0,0,0,19632,0,0,0,0,0,0,0,0,0,19632,0,19632,0,0,19632,{"$f":"_xlfn.XLOOKUP(F11856,'Object Codes'!$A$18:$A$510,'Object Codes'!$H$18:$H$510)","v":"PS - Other"},{"$f":"_xlfn.XLOOKUP(F11856,'Object Codes'!$A$18:$A$510,'Object Codes'!$G$18:$G$510)","v":"A"},{"$f":"_xlfn.XLOOKUP(A11856,Agencies!$A$9:$A$146,Agencies!$B$9:$B$146)","v":"Public Safety & Judicial"},{"$f":"IF(_xlfn.XLOOKUP(A11856,Agencies!A:A,Agencies!D:D)=\"Y\",IF(_xlfn.XLOOKUP(F11856,'Object Codes'!A:A,'Object Codes'!I:I)=\"Y\",\"Y\",\"N\"),\"N\")","v":"Y"},{"$f":"VLOOKUP(F11856,'Object Codes'!$A:$C,3,0)","v":"Fringe Benefits - Other"},{"$f":"VLOOKUP(A11856,Agencies!A:C,3,0)","v":"Fire Department"},0]
["057",2022,"001","009","9350","064",0,0,0,51,51,0,0,0,0,0,1272,0,1272,1272,-1221,1272,-1221,1272,1272,-1221,{"$f":"_xlfn.XLOOKUP(F11912,'Object Codes'!$A$18:$A$510,'Object Codes'!$H$18:$H$510)","v":"PS - Other"},{"$f":"_xlfn.XLOOKUP(F11912,'Object Codes'!$A$18:$A$510,'Object Codes'!$G$18:$G$510)","v":"A"},{"$f":"_xlfn.XLOOKUP(A11912,Agencies!$A$9:$A$146,Agencies!$B$9:$B$146)","v":"Public Safety & Judicial"},{"$f":"IF(_xlfn.XLOOKUP(A11912,Agencies!A:A,Agencies!D:D)=\"Y\",IF(_xlfn.XLOOKUP(F11912,'Object Codes'!A:A,'Object Codes'!I:I)=\"Y\",\"Y\",\"N\"),\"N\")","v":"Y"},{"$f":"VLOOKUP(F11912,'Object Codes'!$A:$C,3,0)","v":"Allowance for Uniforms"},{"$f":"VLOOKUP(A11912,Agencies!A:C,3,0)","v":"Fire Department"},3.484931506849315]
["057",2022,"001","009","9722","001",0,0,0,0,399007,0,0,0,0,0,399006.56,0,399006.56,399006.56,0.44,399006.56,0.44,399006.56,399006.56,0.44,{"$f":"_xlfn.XLOOKUP(F11941,'Object Codes'!$A$18:$A$510,'Object Codes'!$H$18:$H$510)","v":"PS - Regular"},{"$f":"_xlfn.XLOOKUP(F11941,'Object Codes'!$A$18:$A$510,'Object Codes'!$G$18:$G$510)","v":"C"},{"$f":"_xlfn.XLOOKUP(A11941,Agencies!$A$9:$A$146,Agencies!$B$9:$B$146)","v":"Public Safety & Judicial"},{"$f":"IF(_xlfn.XLOOKUP(A11941,Agencies!A:A,Agencies!D:D)=\"Y\",IF(_xlfn.XLOOKUP(F11941,'Object Codes'!A:A,'Object Codes'!I:I)=\"Y\",\"Y\",\"N\"),\"N\")","v":"Y"},{"$f":"VLOOKUP(F11941,'Object Codes'!$A:$C,3,0)","v":"Full Year Positions"},{"$f":"VLOOKUP(A11941,Agencies!A:C,3,0)","v":"Fire Department"},1093.1686575342467]
["057",2022,"001","010","9337","600",0,0,0,0,10000,0,0,0,0,0,0,0,0,0,10000,0,10000,0,0,10000,{"$f":"_xlfn.XLOOKUP(F12005,'Object Codes'!$A$18:$A$510,'Object Codes'!$H$18:$H$510)","v":"Contractual Services"},{"$f":"_xlfn.XLOOKUP(F12005,'Object Codes'!$A$18:$A$510,'Object Codes'!$G$18:$G$510)","v":0},{"$f":"_xlfn.XLOOKUP(A12005,Agencies!$A$9:$A$146,Agencies!$B$9:$B$146)","v":"Public Safety & Judicial"},{"$f":"IF(_xlfn.XLOOKUP(A12005,Agencies!A:A,Agencies!D:D)=\"Y\",IF(_xlfn.XLOOKUP(F12005,'Object Codes'!A:A,'Object Codes'!I:I)=\"Y\",\"Y\",\"N\"),\"N\")","v":"Y"},{"$f":"VLOOKUP(F12005,'Object Codes'!$A:$C,3,0)","v":"Contractual Services - General"},{"$f":"VLOOKUP(A12005,Agencies!A:C,3,0)","v":"Fire Department"},0]
["063",2022,"001","002","0630","10F",0,0,0,0,1406,0,0,0,0,0,1405.84,0,1405.84,1405.84,0.16,1405.84,0.16,1405.84,1405.84,0.16,{"$f":"_xlfn.XLOOKUP(F12050,'Object Codes'!$A$18:$A$510,'Object Codes'!$H$18:$H$510)","v":"Supplies & Materials"},{"$f":"_xlfn.XLOOKUP(F12050,'Object Codes'!$A$18:$A$510,'Object Codes'!$G$18:$G$510)","v":"A"},{"$f":"_xlfn.XLOOKUP(A12050,Agencies!$A$9:$A$146,Agencies!$B$9:$B$146)","v":"General Government"},{"$f":"IF(_xlfn.XLOOKUP(A12050,Agencies!A:A,Agencies!D:D)=\"Y\",IF(_xlfn.XLOOKUP(F12050,'Object Codes'!A:A,'Object Codes'!I:I)=\"Y\",\"Y\",\"N\"),\"N\")","v":"Y"},{"$f":"VLOOKUP(F12050,'Object Codes'!$A:$C,3,0)","v":"MOTOR VEHICLE FUEL"},{"$f":"VLOOKUP(A12050,Agencies!A:C,3,0)","v":"Dept. of Veterans' Services"},3.8516164383561642]
["068",2022,"001","001","0104","031",0,0,0,0,0,0,0,0,0,0,138012.53,0,138012.53,138012.53,-138012.53,138012.53,-138012.53,138012.53,138012.53,-138012.53,{"$f":"_xlfn.XLOOKUP(F12084,'Object Codes'!$A$18:$A$510,'Object Codes'!$H$18:$H$510)","v":"PS - Regular"},{"$f":"_xlfn.XLOOKUP(F12084,'Object Codes'!$A$18:$A$510,'Object Codes'!$G$18:$G$510)","v":"C"},{"$f":"_xlfn.XLOOKUP(A12084,Agencies!$A$9:$A$146,Agencies!$B$9:$B$146)","v":"Social Services"},{"$f":"IF(_xlfn.XLOOKUP(A12084,Agencies!A:A,Agencies!D:D)=\"Y\",IF(_xlfn.XLOOKUP(F12084,'Object Codes'!A:A,'Object Codes'!I:I)=\"Y\",\"Y\",\"N\"),\"N\")","v":"Y"},{"$f":"VLOOKUP(F12084,'Object Codes'!$A:$C,3,0)","v":"Hourly Positions"},{"$f":"VLOOKUP(A12084,Agencies!A:C,3,0)","v":"Admin. for Children Services"},378.11652054794519]
["068",2022,"001","001","0408","049",0,0,0,0,0,0,0,0,0,0,-22.36,0,-22.36,-22.36,22.36,-22.36,22.36,-22.36,-22.36,22.36,{"$f":"_xlfn.XLOOKUP(F12154,'Object Codes'!$A$18:$A$510,'Object Codes'!$H$18:$H$510)","v":"PS - Additional Gross"},{"$f":"_xlfn.XLOOKUP(F12154,'Object Codes'!$A$18:$A$510,'Object Codes'!$G$18:$G$510)","v":"A"},{"$f":"_xlfn.XLOOKUP(A12154,Agencies!$A$9:$A$146,Agencies!$B$9:$B$146)","v":"Social Services"},{"$f":"IF(_xlfn.XLOOKUP(A12154,Agencies!A:A,Agencies!D:D)=\"Y\",IF(_xlfn.XLOOKUP(F12154,'Object Codes'!A:A,'Object Codes'!I:I)=\"Y\",\"Y\",\"N\"),\"N\")","v":"Y"},{"$f":"VLOOKUP(F12154,'Object Codes'!$A:$C,3,0)","v":"Backpay"},{"$f":"VLOOKUP(A12154,Agencies!A:C,3,0)","v":"Admin. for Children Services"},-6.1260273972602738E-2]
["068",2022,"001","001","0503","043",0,0,0,68167,68167,0,0,0,0,0,43581.03,0,43581.03,43581.03,24585.97,43581.03,24585.97,43581.03,43581.03,24585.97,{"$f":"_xlfn.XLOOKUP(F12193,'Object Codes'!$A$18:$A$510,'Object Codes'!$H$18:$H$510)","v":"PS - Additional Gross"},{"$f":"_xlfn.XLOOKUP(F12193,'Object Codes'!$A$18:$A$510,'Object Codes'!$G$18:$G$510)","v":"A"},{"$f":"_xlfn.XLOOKUP(A12193,Agencies!$A$9:$A$146,Agencies!$B$9:$B$146)","v":"Social Services"},{"$f":"IF(_xlfn.XLOOKUP(A12193,Agencies!A:A,Agencies!D:D)=\"Y\",IF(_xlfn.XLOOKUP(F12193,'Object Codes'!A:A,'Object Codes'!I:I)=\"Y\",\"Y\",\"N\"),\"N\")","v":"Y"},{"$f":"VLOOKUP(F12193,'Object Codes'!$A:$C,3,0)","v":"Shift Differential"},{"$f":"VLOOKUP(A12193,Agencies!A:C,3,0)","v":"Admin. for Children Services"},119.40008219178083]
["068",2022,"001","001","0505","049",0,0,0,0,0,0,0,0,0,0,-13946.07,0,-13946.07,-13946.07,13946.07,-13946.07,13946.07,-13946.07,-13946.07,13946.07,{"$f":"_xlfn.XLOOKUP(F12227,'Object Codes'!$A$18:$A$510,'Object Codes'!$H$18:$H$510)","v":"PS - Additional Gross"},{"$f":"_xlfn.XLOOKUP(F12227,'Object Codes'!$A$18:$A$510,'Object Codes'!$G$18:$G$510)","v":"A"},{"$f":"_xlfn.XLOOKUP(A12227,Agencies!$A$9:$A$146,Agencies!$B$9:$B$146)","v":"Social Services"},{"$f":"IF(_xlfn.XLOOKUP(A12227,Agencies!A:A,Agencies!D:D)=\"Y\",IF(_xlfn.XLOOKUP(F12227,'Object Codes'!A:A,'Object Codes'!I:I)=\"Y\",\"Y\",\"N\"),\"N\")","v":"Y"},{"$f":"VLOOKUP(F12227,'Object Codes'!$A:$C,3,0)","v":"Backpay"},{"$f":"VLOOKUP(A12227,Agencies!A:C,3,0)","v":"Admin. for Children Services"},-38.208410958904111]
["068",2022,"001","001","0507","042",0,0,0,182082,182082,0,0,0,0,0,162206.51999999999,0,162206.51999999999,162206.51999999999,19875.48,162206.51999999999,19875.48,162206.51999999999,162206.51999999999,19875.48,{"$f":"_xlfn.XLOOKUP(F12256,'Object Codes'!$A$18:$A$510,'Object Codes'!$H$18:$H$510)","v":"PS - Additional Gross"},{"$f":"_xlfn.XLOOKUP(F12256,'Object Codes'!$A$18:$A$510,'Object Codes'!$G$18:$G$510)","v":"A"},{"$f":"_xlfn.XLOOKUP(A12256,Agencies!$A$9:$A$146,Agencies!$B$9:$B$146)","v":"Social Services"},{"$f":"IF(_xlfn.XLOOKUP(A12256,Agencies!A:A,Agencies!D:D)=\"Y\",IF(_xlfn.XLOOKUP(F12256,'Object Codes'!A:A,'Object Codes'!I:I)=\"Y\",\"Y\",\"N\"),\"N\")","v":"Y"},{"$f":"VLOOKUP(F12256,'Object Codes'!$A:$C,3,0)","v":"Longevity Differential"},{"$f":"VLOOKUP(A12256,Agencies!A:C,3,0)","v":"Admin. for Children Services"},444.40142465753422]
["068",2022,"001","001","0516","031",0,0,0,0,0,0,0,0,0,0,46090.53,0,46090.53,46090.53,-46090.53,46090.53,-46090.53,46090.53,46090.53,-46090.53,{"$f":"_xlfn.XLOOKUP(F12315,'Object Codes'!$A$18:$A$510,'Object Codes'!$H$18:$H$510)","v":"PS - Regular"},{"$f":"_xlfn.XLOOKUP(F12315,'Object Codes'!$A$18:$A$510,'Object Codes'!$G$18:$G$510)","v":"C"},{"$f":"_xlfn.XLOOKUP(A12315,Agencies!$A$9:$A$146,Agencies!$B$9:$B$146)","v":"Social Services"},{"$f":"IF(_xlfn.XLOOKUP(A12315,Agencies!A:A,Agencies!D:D)=\"Y\",IF(_xlfn.XLOOKUP(F12315,'Object Codes'!A:A,'Object Codes'!I:I)=\"Y\",\"Y\",\"N\"),\"N\")","v":"Y"},{"$f":"VLOOKUP(F12315,'Object Codes'!$A:$C,3,0)","v":"Hourly Positions"},{"$f":"VLOOKUP(A12315,Agencies!A:C,3,0)","v":"Admin. for Children Services"},126.27542465753424]
["068",2022,"001","001","0523","057",0,0,0,0,500,0,0,0,0,0,500,0,500,500,0,500,0,500,500,0,{"$f":"_xlfn.XLOOKUP(F12370,'Object Codes'!$A$18:$A$510,'Object Codes'!$H$18:$H$510)","v":"PS - Additional Gross"},{"$f":"_xlfn.XLOOKUP(F12370,'Object Codes'!$A$18:$A$510,'Object Codes'!$G$18:$G$510)","v":"A"},{"$f":"_xlfn.XLOOKUP(A12370,Agencies!$A$9:$A$146,Agencies!$B$9:$B$146)","v":"Social Services"},{"$f":"IF(_xlfn.XLOOKUP(A12370,Agencies!A:A,Agencies!D:D)=\"Y\",IF(_xlfn.XLOOKUP(F12370,'Object Codes'!A:A,'Object Codes'!I:I)=\"Y\",\"Y\",\"N\"),\"N\")","v":"Y"},{"$f":"VLOOKUP(F12370,'Object Codes'!$A:$C,3,0)","v":"Bonus Payments"},{"$f":"VLOOKUP(A12370,Agencies!A:C,3,0)","v":"Admin. for Children Services"},1.3698630136986301]
["068",2022,"001","001","0527","043",0,0,0,3067,3067,0,0,0,0,0,487.64,0,487.64,487.64,2579.36,487.64,2579.36,487.64,487.64,2579.36,{"$f":"_xlfn.XLOOKUP(F12399,'Object Codes'!$A$18:$A$510,'Object Codes'!$H$18:$H$510)","v":"PS - Additional Gross"},{"$f":"_xlfn.XLOOKUP(F12399,'Object Codes'!$A$18:$A$510,'Object Codes'!$G$18:$G$510)","v":"A"},{"$f":"_xlfn.XLOOKUP(A12399,Agencies!$A$9:$A$146,Agencies!$B$9:$B$146)","v":"Social Services"},{"$f":"IF(_xlfn.XLOOKUP(A12399,Agencies!A:A,Agencies!D:D)=\"Y\",IF(_xlfn.XLOOKUP(F12399,'Object Codes'!A:A,'Object Codes'!I:I)=\"Y\",\"Y\",\"N\"),\"N\")","v":"Y"},{"$f":"VLOOKUP(F12399,'Object Codes'!$A:$C,3,0)","v":"Shift Differential"},{"$f":"VLOOKUP(A12399,Agencies!A:C,3,0)","v":"Admin. for Children Services"},1.3359999999999999]
["068",2022,"001","001","0556","095",0,0,0,0,0,0,0,24618.49,0,0,-24618.49,0,0,-24618.49,24618.49,-24618.49,24618.49,-24618.49,-24618.49,24618.49,{"$f":"_xlfn.XLOOKUP(F12464,'Object Codes'!$A$18:$A$510,'Object Codes'!$H$18:$H$510)","v":"PS - Additional Gross"},{"$f":"_xlfn.XLOOKUP(F12464,'Object Codes'!$A$18:$A$510,'Object Codes'!$G$18:$G$510)","v":"A"},{"$f":"_xlfn.XLOOKUP(A12464,Agencies!$A$9:$A$146,Agencies!$B$9:$B$146)","v":"Social Services"},{"$f":"IF(_xlfn.XLOOKUP(A12464,Agencies!A:A,Agencies!D:D)=\"Y\",IF(_xlfn.XLOOKUP(F12464,'Object Codes'!A:A,'Object Codes'!I:I)=\"Y\",\"Y\",\"N\"),\"N\")","v":"Y"},{"$f":"VLOOKUP(F12464,'Object Codes'!$A:$C,3,0)","v":"Payroll Refunds"},{"$f":"VLOOKUP(A12464,Agencies!A:C,3,0)","v":"Admin. for Children Services"},0]
["068",2022,"001","001","0584","042",0,0,0,0,0,0,0,0,0,0,13556.24,0,13556.24,13556.24,-13556.24,13556.24,-13556.24,13556.24,13556.24,-13556.24,{"$f":"_xlfn.XLOOKUP(F12513,'Object Codes'!$A$18:$A$510,'Object Codes'!$H$18:$H$510)","v":"PS - Additional Gross"},{"$f":"_xlfn.XLOOKUP(F12513,'Object Codes'!$A$18:$A$510,'Object Codes'!$G$18:$G$510)","v":"A"},{"$f":"_xlfn.XLOOKUP(A12513,Agencies!$A$9:$A$146,Agencies!$B$9:$B$146)","v":"Social Services"},{"$f":"IF(_xlfn.XLOOKUP(A12513,Agencies!A:A,Agencies!D:D)=\"Y\",IF(_xlfn.XLOOKUP(F12513,'Object Codes'!A:A,'Object Codes'!I:I)=\"Y\",\"Y\",\"N\"),\"N\")","v":"Y"},{"$f":"VLOOKUP(F12513,'Object Codes'!$A:$C,3,0)","v":"Longevity Differential"},{"$f":"VLOOKUP(A12513,Agencies!A:C,3,0)","v":"Admin. for Children Services"},37.140383561643837]
["068",2022,"001","001","0604","X43",0,0,0,0,0,0,0,0,0,0,2,0,2,2,-2,2,-2,2,2,-2,{"$f":"_xlfn.XLOOKUP(F12542,'Object Codes'!$A$18:$A$510,'Object Codes'!$H$18:$H$510)","v":"PS - Additional Gross"},{"$f":"_xlfn.XLOOKUP(F12542,'Object Codes'!$A$18:$A$510,'Object Codes'!$G$18:$G$510)","v":"A"},{"$f":"_xlfn.XLOOKUP(A12542,Agencies!$A$9:$A$146,Agencies!$B$9:$B$146)","v":"Social Services"},{"$f":"IF(_xlfn.XLOOKUP(A12542,Agencies!A:A,Agencies!D:D)=\"Y\",IF(_xlfn.XLOOKUP(F12542,'Object Codes'!A:A,'Object Codes'!I:I)=\"Y\",\"Y\",\"N\"),\"N\")","v":"Y"},{"$f":"VLOOKUP(F12542,'Object Codes'!$A:$C,3,0)","v":"PY SHIFT DIFFERENTIAL"},{"$f":"VLOOKUP(A12542,Agencies!A:C,3,0)","v":"Admin. for Children Services"},5.4794520547945206E-3]
["068",2022,"001","001","0662","045",0,0,0,0,219,0,0,0,0,0,218,0,218,218,1,218,1,218,218,1,{"$f":"_xlfn.XLOOKUP(F12613,'Object Codes'!$A$18:$A$510,'Object Codes'!$H$18:$H$510)","v":"PS - Additional Gross"},{"$f":"_xlfn.XLOOKUP(F12613,'Object Codes'!$A$18:$A$510,'Object Codes'!$G$18:$G$510)","v":"A"},{"$f":"_xlfn.XLOOKUP(A12613,Agencies!$A$9:$A$146,Agencies!$B$9:$B$146)","v":"Social Services"},{"$f":"IF(_xlfn.XLOOKUP(A12613,Agencies!A:A,Agencies!D:D)=\"Y\",IF(_xlfn.XLOOKUP(F12613,'Object Codes'!A:A,'Object Codes'!I:I)=\"Y\",\"Y\",\"N\"),\"N\")","v":"Y"},{"$f":"VLOOKUP(F12613,'Object Codes'!$A:$C,3,0)","v":"Holiday Pay"},{"$f":"VLOOKUP(A12613,Agencies!A:C,3,0)","v":"Admin. for Children Services"},0.59726027397260273]
["068",2022,"001","001","0674","061",0,0,0,0,0,0,0,0,0,0,35.25,0,35.25,35.25,-35.25,35.25,-35.25,35.25,35.25,-35.25,{"$f":"_xlfn.XLOOKUP(F12651,'Object Codes'!$A$18:$A$510,'Object Codes'!$H$18:$H$510)","v":"PS - Additional Gross"},{"$f":"_xlfn.XLOOKUP(F12651,'Object Codes'!$A$18:$A$510,'Object Codes'!$G$18:$G$510)","v":"A"},{"$f":"_xlfn.XLOOKUP(A12651,Agencies!$A$9:$A$146,Agencies!$B$9:$B$146)","v":"Social Services"},{"$f":"IF(_xlfn.XLOOKUP(A12651,Agencies!A:A,Agencies!D:D)=\"Y\",IF(_xlfn.XLOOKUP(F12651,'Object Codes'!A:A,'Object Codes'!I:I)=\"Y\",\"Y\",\"N\"),\"N\")","v":"Y"},{"$f":"VLOOKUP(F12651,'Object Codes'!$A:$C,3,0)","v":"Supper Money"},{"$f":"VLOOKUP(A12651,Agencies!A:C,3,0)","v":"Admin. for Children Services"},9.657534246575343E-2]
["068",2022,"001","001","0691","061",0,0,0,0,0,0,0,0,0,0,253.5,0,253.5,253.5,-253.5,253.5,-253.5,253.5,253.5,-253.5,{"$f":"_xlfn.XLOOKUP(F12685,'Object Codes'!$A$18:$A$510,'Object Codes'!$H$18:$H$510)","v":"PS - Additional Gross"},{"$f":"_xlfn.XLOOKUP(F12685,'Object Codes'!$A$18:$A$510,'Object Codes'!$G$18:$G$510)","v":"A"},{"$f":"_xlfn.XLOOKUP(A12685,Agencies!$A$9:$A$146,Agencies!$B$9:$B$146)","v":"Social Services"},{"$f":"IF(_xlfn.XLOOKUP(A12685,Agencies!A:A,Agencies!D:D)=\"Y\",IF(_xlfn.XLOOKUP(F12685,'Object Codes'!A:A,'Object Codes'!I:I)=\"Y\",\"Y\",\"N\"),\"N\")","v":"Y"},{"$f":"VLOOKUP(F12685,'Object Codes'!$A:$C,3,0)","v":"Supper Money"},{"$f":"VLOOKUP(A12685,Agencies!A:C,3,0)","v":"Admin. for Children Services"},0.69452054794520546]
["068",2022,"001","002","6500","40X",0,0,0,473428,473428,0,0,0,0,0,259387.65,0,259387.65,259387.65,214040.35,259387.65,214040.35,259387.65,259387.65,214040.35,{"$f":"_xlfn.XLOOKUP(F12762,'Object Codes'!$A$18:$A$510,'Object Codes'!$H$18:$H$510)","v":"Other Services and Charges - General"},{"$f":"_xlfn.XLOOKUP(F12762,'Object Codes'!$A$18:$A$510,'Object Codes'!$G$18:$G$510)","v":0},{"$f":"_xlfn.XLOOKUP(A12762,Agencies!$A$9:$A$146,Agencies!$B$9:$B$146)","v":"Social Services"},{"$f":"IF(_xlfn.XLOOKUP(A12762,Agencies!A:A,Agencies!D:D)=\"Y\",IF(_xlfn.XLOOKUP(F12762,'Object Codes'!A:A,'Object Codes'!I:I)=\"Y\",\"Y\",\"N\"),\"N\")","v":"Y"},{"$f":"VLOOKUP(F12762,'Object Codes'!$A:$C,3,0)","v":"CONTRACTUAL SERVICES-GENERAL"},{"$f":"VLOOKUP(A12762,Agencies!A:C,3,0)","v":"Admin. for Children Services"},710.65109589041094]
["068",2022,"001","002","6624","100",0,0,0,13500,18500,0,0,0,0,0,17463.599999999999,1036.4000000000001,18500,18500,0,18500,0,18500,18500,0,{"$f":"_xlfn.XLOOKUP(F12794,'Object Codes'!$A$18:$A$510,'Object Codes'!$H$18:$H$510)","v":"Supplies & Materials"},{"$f":"_xlfn.XLOOKUP(F12794,'Object Codes'!$A$18:$A$510,'Object Codes'!$G$18:$G$510)","v":"A"},{"$f":"_xlfn.XLOOKUP(A12794,Agencies!$A$9:$A$146,Agencies!$B$9:$B$146)","v":"Social Services"},{"$f":"IF(_xlfn.XLOOKUP(A12794,Agencies!A:A,Agencies!D:D)=\"Y\",IF(_xlfn.XLOOKUP(F12794,'Object Codes'!A:A,'Object Codes'!I:I)=\"Y\",\"Y\",\"N\"),\"N\")","v":"Y"},{"$f":"VLOOKUP(F12794,'Object Codes'!$A:$C,3,0)","v":"Supplies and Materials - General"},{"$f":"VLOOKUP(A12794,Agencies!A:C,3,0)","v":"Admin. for Children Services"},50.684931506849317]
["068",2022,"001","002","6633","684",0,0,0,2584303,5172202,0,0,0,0,0,2360876.5,2829700.5,5190577,5190577,-18375,5190577,-18375,5190577,5190577,-18375,{"$f":"_xlfn.XLOOKUP(F12828,'Object Codes'!$A$18:$A$510,'Object Codes'!$H$18:$H$510)","v":"Contractual Services"},{"$f":"_xlfn.XLOOKUP(F12828,'Object Codes'!$A$18:$A$510,'Object Codes'!$G$18:$G$510)","v":0},{"$f":"_xlfn.XLOOKUP(A12828,Agencies!$A$9:$A$146,Agencies!$B$9:$B$146)","v":"Social Services"},{"$f":"IF(_xlfn.XLOOKUP(A12828,Agencies!A:A,Agencies!D:D)=\"Y\",IF(_xlfn.XLOOKUP(F12828,'Object Codes'!A:A,'Object Codes'!I:I)=\"Y\",\"Y\",\"N\"),\"N\")","v":"Y"},{"$f":"VLOOKUP(F12828,'Object Codes'!$A:$C,3,0)","v":"Professional Services - Computer Services - Contractual"},{"$f":"VLOOKUP(A12828,Agencies!A:C,3,0)","v":"Admin. for Children Services"},14220.758904109589]
["068",2022,"001","003","0347","001",0,131,131,6271339,4805041,0,0,0,0,0,3117413.74,10856,3128269.74,3128269.74,1676771.26,3128269.74,1676771.26,3128269.74,3128269.74,1676771.26,{"$f":"_xlfn.XLOOKUP(F12877,'Object Codes'!$A$18:$A$510,'Object Codes'!$H$18:$H$510)","v":"PS - Regular"},{"$f":"_xlfn.XLOOKUP(F12877,'Object Codes'!$A$18:$A$510,'Object Codes'!$G$18:$G$510)","v":"C"},{"$f":"_xlfn.XLOOKUP(A12877,Agencies!$A$9:$A$146,Agencies!$B$9:$B$146)","v":"Social Services"},{"$f":"IF(_xlfn.XLOOKUP(A12877,Agencies!A:A,Agencies!D:D)=\"Y\",IF(_xlfn.XLOOKUP(F12877,'Object Codes'!A:A,'Object Codes'!I:I)=\"Y\",\"Y\",\"N\"),\"N\")","v":"Y"},{"$f":"VLOOKUP(F12877,'Object Codes'!$A:$C,3,0)","v":"Full Year Positions"},{"$f":"VLOOKUP(A12877,Agencies!A:C,3,0)","v":"Admin. for Children Services"},8570.6020273972608]
["068",2022,"001","005","0102","042",0,0,0,0,0,0,0,0,0,0,5280.5,0,5280.5,5280.5,-5280.5,5280.5,-5280.5,5280.5,5280.5,-5280.5,{"$f":"_xlfn.XLOOKUP(F12937,'Object Codes'!$A$18:$A$510,'Object Codes'!$H$18:$H$510)","v":"PS - Additional Gross"},{"$f":"_xlfn.XLOOKUP(F12937,'Object Codes'!$A$18:$A$510,'Object Codes'!$G$18:$G$510)","v":"A"},{"$f":"_xlfn.XLOOKUP(A12937,Agencies!$A$9:$A$146,Agencies!$B$9:$B$146)","v":"Social Services"},{"$f":"IF(_xlfn.XLOOKUP(A12937,Agencies!A:A,Agencies!D:D)=\"Y\",IF(_xlfn.XLOOKUP(F12937,'Object Codes'!A:A,'Object Codes'!I:I)=\"Y\",\"Y\",\"N\"),\"N\")","v":"Y"},{"$f":"VLOOKUP(F12937,'Object Codes'!$A:$C,3,0)","v":"Longevity Differential"},{"$f":"VLOOKUP(A12937,Agencies!A:C,3,0)","v":"Admin. for Children Services"},{"$f":"S12937/365","v":14.467123287671233}]
["068",2022,"001","005","0209","047",0,0,0,0,0,0,0,0,0,0,1423.73,0,1423.73,1423.73,-1423.73,1423.73,-1423.73,1423.73,1423.73,-1423.73,{"$f":"_xlfn.XLOOKUP(F12971,'Object Codes'!$A$18:$A$510,'Object Codes'!$H$18:$H$510)","v":"PS - Additional Gross"},{"$f":"_xlfn.XLOOKUP(F12971,'Object Codes'!$A$18:$A$510,'Object Codes'!$G$18:$G$510)","v":"C"},{"$f":"_xlfn.XLOOKUP(A12971,Agencies!$A$9:$A$146,Agencies!$B$9:$B$146)","v":"Social Services"},{"$f":"IF(_xlfn.XLOOKUP(A12971,Agencies!A:A,Agencies!D:D)=\"Y\",IF(_xlfn.XLOOKUP(F12971,'Object Codes'!A:A,'Object Codes'!I:I)=\"Y\",\"Y\",\"N\"),\"N\")","v":"Y"},{"$f":"VLOOKUP(F12971,'Object Codes'!$A:$C,3,0)","v":"Overtime"},{"$f":"VLOOKUP(A12971,Agencies!A:C,3,0)","v":"Admin. for Children Services"},3.9006301369863015]
["068",2022,"001","005","0301","057",0,0,0,0,4000,0,0,0,0,0,4000,0,4000,4000,0,4000,0,4000,4000,0,{"$f":"_xlfn.XLOOKUP(F13026,'Object Codes'!$A$18:$A$510,'Object Codes'!$H$18:$H$510)","v":"PS - Additional Gross"},{"$f":"_xlfn.XLOOKUP(F13026,'Object Codes'!$A$18:$A$510,'Object Codes'!$G$18:$G$510)","v":"A"},{"$f":"_xlfn.XLOOKUP(A13026,Agencies!$A$9:$A$146,Agencies!$B$9:$B$146)","v":"Social Services"},{"$f":"IF(_xlfn.XLOOKUP(A13026,Agencies!A:A,Agencies!D:D)=\"Y\",IF(_xlfn.XLOOKUP(F13026,'Object Codes'!A:A,'Object Codes'!I:I)=\"Y\",\"Y\",\"N\"),\"N\")","v":"Y"},{"$f":"VLOOKUP(F13026,'Object Codes'!$A:$C,3,0)","v":"Bonus Payments"},{"$f":"VLOOKUP(A13026,Agencies!A:C,3,0)","v":"Admin. for Children Services"},10.95890410958904]
["068",2022,"001","005","0304","X41",0,0,0,0,0,0,0,0,0,0,-254.8,0,-254.8,-254.8,254.8,-254.8,254.8,-254.8,-254.8,254.8,{"$f":"_xlfn.XLOOKUP(F13080,'Object Codes'!$A$18:$A$510,'Object Codes'!$H$18:$H$510)","v":"PS - Additional Gross"},{"$f":"_xlfn.XLOOKUP(F13080,'Object Codes'!$A$18:$A$510,'Object Codes'!$G$18:$G$510)","v":"A"},{"$f":"_xlfn.XLOOKUP(A13080,Agencies!$A$9:$A$146,Agencies!$B$9:$B$146)","v":"Social Services"},{"$f":"IF(_xlfn.XLOOKUP(A13080,Agencies!A:A,Agencies!D:D)=\"Y\",IF(_xlfn.XLOOKUP(F13080,'Object Codes'!A:A,'Object Codes'!I:I)=\"Y\",\"Y\",\"N\"),\"N\")","v":"Y"},{"$f":"VLOOKUP(F13080,'Object Codes'!$A:$C,3,0)","v":"PY ASSIGNMENT DIFFERENTIAL"},{"$f":"VLOOKUP(A13080,Agencies!A:C,3,0)","v":"Admin. for Children Services"},-0.69808219178082198]
["068",2022,"001","005","0307","X47",0,0,0,0,0,0,0,0,0,0,47.97,0,47.97,47.97,-47.97,47.97,-47.97,47.97,47.97,-47.97,{"$f":"_xlfn.XLOOKUP(F13114,'Object Codes'!$A$18:$A$510,'Object Codes'!$H$18:$H$510)","v":"PS - Additional Gross"},{"$f":"_xlfn.XLOOKUP(F13114,'Object Codes'!$A$18:$A$510,'Object Codes'!$G$18:$G$510)","v":"A"},{"$f":"_xlfn.XLOOKUP(A13114,Agencies!$A$9:$A$146,Agencies!$B$9:$B$146)","v":"Social Services"},{"$f":"IF(_xlfn.XLOOKUP(A13114,Agencies!A:A,Agencies!D:D)=\"Y\",IF(_xlfn.XLOOKUP(F13114,'Object Codes'!A:A,'Object Codes'!I:I)=\"Y\",\"Y\",\"N\"),\"N\")","v":"Y"},{"$f":"VLOOKUP(F13114,'Object Codes'!$A:$C,3,0)","v":"PY OVERTIME"},{"$f":"VLOOKUP(A13114,Agencies!A:C,3,0)","v":"Admin. for Children Services"},0.13142465753424656]
["068",2022,"001","005","0312","X43",0,0,0,0,0,0,0,0,0,0,1.05,0,1.05,1.05,-1.05,1.05,-1.05,1.05,1.05,-1.05,{"$f":"_xlfn.XLOOKUP(F13143,'Object Codes'!$A$18:$A$510,'Object Codes'!$H$18:$H$510)","v":"PS - Additional Gross"},{"$f":"_xlfn.XLOOKUP(F13143,'Object Codes'!$A$18:$A$510,'Object Codes'!$G$18:$G$510)","v":"A"},{"$f":"_xlfn.XLOOKUP(A13143,Agencies!$A$9:$A$146,Agencies!$B$9:$B$146)","v":"Social Services"},{"$f":"IF(_xlfn.XLOOKUP(A13143,Agencies!A:A,Agencies!D:D)=\"Y\",IF(_xlfn.XLOOKUP(F13143,'Object Codes'!A:A,'Object Codes'!I:I)=\"Y\",\"Y\",\"N\"),\"N\")","v":"Y"},{"$f":"VLOOKUP(F13143,'Object Codes'!$A:$C,3,0)","v":"PY SHIFT DIFFERENTIAL"},{"$f":"VLOOKUP(A13143,Agencies!A:C,3,0)","v":"Admin. for Children Services"},2.8767123287671234E-3]
["068",2022,"001","005","0401","057",0,0,0,0,500,0,0,0,0,0,500,0,500,500,0,500,0,500,500,0,{"$f":"_xlfn.XLOOKUP(F13221,'Object Codes'!$A$18:$A$510,'Object Codes'!$H$18:$H$510)","v":"PS - Additional Gross"},{"$f":"_xlfn.XLOOKUP(F13221,'Object Codes'!$A$18:$A$510,'Object Codes'!$G$18:$G$510)","v":"A"},{"$f":"_xlfn.XLOOKUP(A13221,Agencies!$A$9:$A$146,Agencies!$B$9:$B$146)","v":"Social Services"},{"$f":"IF(_xlfn.XLOOKUP(A13221,Agencies!A:A,Agencies!D:D)=\"Y\",IF(_xlfn.XLOOKUP(F13221,'Object Codes'!A:A,'Object Codes'!I:I)=\"Y\",\"Y\",\"N\"),\"N\")","v":"Y"},{"$f":"VLOOKUP(F13221,'Object Codes'!$A:$C,3,0)","v":"Bonus Payments"},{"$f":"VLOOKUP(A13221,Agencies!A:C,3,0)","v":"Admin. for Children Services"},1.3698630136986301]
["068",2022,"001","005","2302","095",0,0,0,0,0,0,0,8298.06,0,0,-8298.06,0,0,-8298.06,8298.06,-8298.06,8298.06,-8298.06,-8298.06,8298.06,{"$f":"_xlfn.XLOOKUP(F13252,'Object Codes'!$A$18:$A$510,'Object Codes'!$H$18:$H$510)","v":"PS - Additional Gross"},{"$f":"_xlfn.XLOOKUP(F13252,'Object Codes'!$A$18:$A$510,'Object Codes'!$G$18:$G$510)","v":"A"},{"$f":"_xlfn.XLOOKUP(A13252,Agencies!$A$9:$A$146,Agencies!$B$9:$B$146)","v":"Social Services"},{"$f":"IF(_xlfn.XLOOKUP(A13252,Agencies!A:A,Agencies!D:D)=\"Y\",IF(_xlfn.XLOOKUP(F13252,'Object Codes'!A:A,'Object Codes'!I:I)=\"Y\",\"Y\",\"N\"),\"N\")","v":"Y"},{"$f":"VLOOKUP(F13252,'Object Codes'!$A:$C,3,0)","v":"Payroll Refunds"},{"$f":"VLOOKUP(A13252,Agencies!A:C,3,0)","v":"Admin. for Children Services"},0]
["068",2022,"001","006","1605","643",0,0,0,1333000,3218189,0,0,0,0,0,1369790.71,1902625.87,3272416.58,3272416.58,-54227.58,3272416.58,-54227.58,3272416.58,3272416.58,-54227.58,{"$f":"_xlfn.XLOOKUP(F13286,'Object Codes'!$A$18:$A$510,'Object Codes'!$H$18:$H$510)","v":"Contractual Services"},{"$f":"_xlfn.XLOOKUP(F13286,'Object Codes'!$A$18:$A$510,'Object Codes'!$G$18:$G$510)","v":0},{"$f":"_xlfn.XLOOKUP(A13286,Agencies!$A$9:$A$146,Agencies!$B$9:$B$146)","v":"Social Services"},{"$f":"IF(_xlfn.XLOOKUP(A13286,Agencies!A:A,Agencies!D:D)=\"Y\",IF(_xlfn.XLOOKUP(F13286,'Object Codes'!A:A,'Object Codes'!I:I)=\"Y\",\"Y\",\"N\"),\"N\")","v":"Y"},{"$f":"VLOOKUP(F13286,'Object Codes'!$A:$C,3,0)","v":"Child Welfare Services - Contractual"},{"$f":"VLOOKUP(A13286,Agencies!A:C,3,0)","v":"Admin. for Children Services"},8965.5248767123285]
["068",2022,"001","007","0405","095",0,0,0,0,0,0,0,1658.5,0,0,-1658.5,0,0,-1658.5,1658.5,-1658.5,1658.5,-1658.5,-1658.5,1658.5,{"$f":"_xlfn.XLOOKUP(F13370,'Object Codes'!$A$18:$A$510,'Object Codes'!$H$18:$H$510)","v":"PS - Additional Gross"},{"$f":"_xlfn.XLOOKUP(F13370,'Object Codes'!$A$18:$A$510,'Object Codes'!$G$18:$G$510)","v":"A"},{"$f":"_xlfn.XLOOKUP(A13370,Agencies!$A$9:$A$146,Agencies!$B$9:$B$146)","v":"Social Services"},{"$f":"IF(_xlfn.XLOOKUP(A13370,Agencies!A:A,Agencies!D:D)=\"Y\",IF(_xlfn.XLOOKUP(F13370,'Object Codes'!A:A,'Object Codes'!I:I)=\"Y\",\"Y\",\"N\"),\"N\")","v":"Y"},{"$f":"VLOOKUP(F13370,'Object Codes'!$A:$C,3,0)","v":"Payroll Refunds"},{"$f":"VLOOKUP(A13370,Agencies!A:C,3,0)","v":"Admin. for Children Services"},0]
["068",2022,"001","007","0901","045",0,0,0,0,14076,0,0,0,0,0,132361.19,0,132361.19,132361.19,-118285.19,132361.19,-118285.19,132361.19,132361.19,-118285.19,{"$f":"_xlfn.XLOOKUP(F13395,'Object Codes'!$A$18:$A$510,'Object Codes'!$H$18:$H$510)","v":"PS - Additional Gross"},{"$f":"_xlfn.XLOOKUP(F13395,'Object Codes'!$A$18:$A$510,'Object Codes'!$G$18:$G$510)","v":"A"},{"$f":"_xlfn.XLOOKUP(A13395,Agencies!$A$9:$A$146,Agencies!$B$9:$B$146)","v":"Social Services"},{"$f":"IF(_xlfn.XLOOKUP(A13395,Agencies!A:A,Agencies!D:D)=\"Y\",IF(_xlfn.XLOOKUP(F13395,'Object Codes'!A:A,'Object Codes'!I:I)=\"Y\",\"Y\",\"N\"),\"N\")","v":"Y"},{"$f":"VLOOKUP(F13395,'Object Codes'!$A:$C,3,0)","v":"Holiday Pay"},{"$f":"VLOOKUP(A13395,Agencies!A:C,3,0)","v":"Admin. for Children Services"},362.63339726027397]
["068",2022,"001","007","0903","042",0,0,0,211,211,0,0,0,0,0,509.16,0,509.16,509.16,-298.16000000000003,509.16,-298.16000000000003,509.16,509.16,-298.16000000000003,{"$f":"_xlfn.XLOOKUP(F13429,'Object Codes'!$A$18:$A$510,'Object Codes'!$H$18:$H$510)","v":"PS - Additional Gross"},{"$f":"_xlfn.XLOOKUP(F13429,'Object Codes'!$A$18:$A$510,'Object Codes'!$G$18:$G$510)","v":"A"},{"$f":"_xlfn.XLOOKUP(A13429,Agencies!$A$9:$A$146,Agencies!$B$9:$B$146)","v":"Social Services"},{"$f":"IF(_xlfn.XLOOKUP(A13429,Agencies!A:A,Agencies!D:D)=\"Y\",IF(_xlfn.XLOOKUP(F13429,'Object Codes'!A:A,'Object Codes'!I:I)=\"Y\",\"Y\",\"N\"),\"N\")","v":"Y"},{"$f":"VLOOKUP(F13429,'Object Codes'!$A:$C,3,0)","v":"Longevity Differential"},{"$f":"VLOOKUP(A13429,Agencies!A:C,3,0)","v":"Admin. for Children Services"},1.3949589041095891]
["068",2022,"001","007","0910","001",0,0,0,255643,255643,0,0,0,0,0,255099.79,0,255099.79,255099.79,543.21,255099.79,543.21,255099.79,255099.79,543.21,{"$f":"_xlfn.XLOOKUP(F13473,'Object Codes'!$A$18:$A$510,'Object Codes'!$H$18:$H$510)","v":"PS - Regular"},{"$f":"_xlfn.XLOOKUP(F13473,'Object Codes'!$A$18:$A$510,'Object Codes'!$G$18:$G$510)","v":"C"},{"$f":"_xlfn.XLOOKUP(A13473,Agencies!$A$9:$A$146,Agencies!$B$9:$B$146)","v":"Social Services"},{"$f":"IF(_xlfn.XLOOKUP(A13473,Agencies!A:A,Agencies!D:D)=\"Y\",IF(_xlfn.XLOOKUP(F13473,'Object Codes'!A:A,'Object Codes'!I:I)=\"Y\",\"Y\",\"N\"),\"N\")","v":"Y"},{"$f":"VLOOKUP(F13473,'Object Codes'!$A:$C,3,0)","v":"Full Year Positions"},{"$f":"VLOOKUP(A13473,Agencies!A:C,3,0)","v":"Admin. for Children Services"},698.90353424657542]
["068",2022,"001","007","0942","047",0,0,0,0,0,0,0,0,0,0,284780.02,0,284780.02,284780.02,-284780.02,284780.02,-284780.02,284780.02,284780.02,-284780.02,{"$f":"_xlfn.XLOOKUP(F13538,'Object Codes'!$A$18:$A$510,'Object Codes'!$H$18:$H$510)","v":"PS - Additional Gross"},{"$f":"_xlfn.XLOOKUP(F13538,'Object Codes'!$A$18:$A$510,'Object Codes'!$G$18:$G$510)","v":"C"},{"$f":"_xlfn.XLOOKUP(A13538,Agencies!$A$9:$A$146,Agencies!$B$9:$B$146)","v":"Social Services"},{"$f":"IF(_xlfn.XLOOKUP(A13538,Agencies!A:A,Agencies!D:D)=\"Y\",IF(_xlfn.XLOOKUP(F13538,'Object Codes'!A:A,'Object Codes'!I:I)=\"Y\",\"Y\",\"N\"),\"N\")","v":"Y"},{"$f":"VLOOKUP(F13538,'Object Codes'!$A:$C,3,0)","v":"Overtime"},{"$f":"VLOOKUP(A13538,Agencies!A:C,3,0)","v":"Admin. for Children Services"},780.21923287671234]
["068",2022,"001","008","2100","10F",0,0,0,0,25900,0,0,0,0,0,25893.14,0,25893.14,25893.14,6.86,25893.14,6.86,25893.14,25893.14,6.86,{"$f":"_xlfn.XLOOKUP(F13572,'Object Codes'!$A$18:$A$510,'Object Codes'!$H$18:$H$510)","v":"Supplies & Materials"},{"$f":"_xlfn.XLOOKUP(F13572,'Object Codes'!$A$18:$A$510,'Object Codes'!$G$18:$G$510)","v":"A"},{"$f":"_xlfn.XLOOKUP(A13572,Agencies!$A$9:$A$146,Agencies!$B$9:$B$146)","v":"Social Services"},{"$f":"IF(_xlfn.XLOOKUP(A13572,Agencies!A:A,Agencies!D:D)=\"Y\",IF(_xlfn.XLOOKUP(F13572,'Object Codes'!A:A,'Object Codes'!I:I)=\"Y\",\"Y\",\"N\"),\"N\")","v":"Y"},{"$f":"VLOOKUP(F13572,'Object Codes'!$A:$C,3,0)","v":"MOTOR VEHICLE FUEL"},{"$f":"VLOOKUP(A13572,Agencies!A:C,3,0)","v":"Admin. for Children Services"},70.9401095890411]
["068",2022,"001","008","2550","40X",0,0,0,0,5220080,0,0,0,0,0,5220079.78,0,5220079.78,5220079.78,0.22,5220079.78,0.22,5220079.78,5220079.78,0.22,{"$f":"_xlfn.XLOOKUP(F13634,'Object Codes'!$A$18:$A$510,'Object Codes'!$H$18:$H$510)","v":"Other Services and Charges - General"},{"$f":"_xlfn.XLOOKUP(F13634,'Object Codes'!$A$18:$A$510,'Object Codes'!$G$18:$G$510)","v":0},{"$f":"_xlfn.XLOOKUP(A13634,Agencies!$A$9:$A$146,Agencies!$B$9:$B$146)","v":"Social Services"},{"$f":"IF(_xlfn.XLOOKUP(A13634,Agencies!A:A,Agencies!D:D)=\"Y\",IF(_xlfn.XLOOKUP(F13634,'Object Codes'!A:A,'Object Codes'!I:I)=\"Y\",\"Y\",\"N\"),\"N\")","v":"Y"},{"$f":"VLOOKUP(F13634,'Object Codes'!$A:$C,3,0)","v":"CONTRACTUAL SERVICES-GENERAL"},{"$f":"VLOOKUP(A13634,Agencies!A:C,3,0)","v":"Admin. for Children Services"},14301.588438356164]
["068",2022,"001","009","0641","043",0,0,0,0,0,0,0,0,0,0,488.16,0,488.16,488.16,-488.16,488.16,-488.16,488.16,488.16,-488.16,{"$f":"_xlfn.XLOOKUP(F13681,'Object Codes'!$A$18:$A$510,'Object Codes'!$H$18:$H$510)","v":"PS - Additional Gross"},{"$f":"_xlfn.XLOOKUP(F13681,'Object Codes'!$A$18:$A$510,'Object Codes'!$G$18:$G$510)","v":"A"},{"$f":"_xlfn.XLOOKUP(A13681,Agencies!$A$9:$A$146,Agencies!$B$9:$B$146)","v":"Social Services"},{"$f":"IF(_xlfn.XLOOKUP(A13681,Agencies!A:A,Agencies!D:D)=\"Y\",IF(_xlfn.XLOOKUP(F13681,'Object Codes'!A:A,'Object Codes'!I:I)=\"Y\",\"Y\",\"N\"),\"N\")","v":"Y"},{"$f":"VLOOKUP(F13681,'Object Codes'!$A:$C,3,0)","v":"Shift Differential"},{"$f":"VLOOKUP(A13681,Agencies!A:C,3,0)","v":"Admin. for Children Services"},1.3374246575342466]
["069",2022,"001","101","0739","739",0,0,0,0,515858,0,0,0,0,0,515858,0,515858,515858,0,515858,0,515858,515858,0,{"$f":"_xlfn.XLOOKUP(F13715,'Object Codes'!$A$18:$A$510,'Object Codes'!$H$18:$H$510)","v":"Fixed Charges"},{"$f":"_xlfn.XLOOKUP(F13715,'Object Codes'!$A$18:$A$510,'Object Codes'!$G$18:$G$510)","v":0},{"$f":"_xlfn.XLOOKUP(A13715,Agencies!$A$9:$A$146,Agencies!$B$9:$B$146)","v":"Social Services"},{"$f":"IF(_xlfn.XLOOKUP(A13715,Agencies!A:A,Agencies!D:D)=\"Y\",IF(_xlfn.XLOOKUP(F13715,'Object Codes'!A:A,'Object Codes'!I:I)=\"Y\",\"Y\",\"N\"),\"N\")","v":"Y"},{"$f":"VLOOKUP(F13715,'Object Codes'!$A:$C,3,0)","v":"Pollution Remediation Cost"},{"$f":"VLOOKUP(A13715,Agencies!A:C,3,0)","v":"Department of Social Services"},1413.3095890410959]
["069",2022,"001","101","9911","619",0,0,0,16568770,29218770,0,0,0,0,0,32148339.98,0,32148339.98,32148339.98,-2929569.98,32148339.98,-2929569.98,32148339.98,32148339.98,-2929569.98,{"$f":"_xlfn.XLOOKUP(F13783,'Object Codes'!$A$18:$A$510,'Object Codes'!$H$18:$H$510)","v":"Contractual Services"},{"$f":"_xlfn.XLOOKUP(F13783,'Object Codes'!$A$18:$A$510,'Object Codes'!$G$18:$G$510)","v":0},{"$f":"_xlfn.XLOOKUP(A13783,Agencies!$A$9:$A$146,Agencies!$B$9:$B$146)","v":"Social Services"},{"$f":"IF(_xlfn.XLOOKUP(A13783,Agencies!A:A,Agencies!D:D)=\"Y\",IF(_xlfn.XLOOKUP(F13783,'Object Codes'!A:A,'Object Codes'!I:I)=\"Y\",\"Y\",\"N\"),\"N\")","v":"Y"},{"$f":"VLOOKUP(F13783,'Object Codes'!$A:$C,3,0)","v":"Security Services - Contractual"},{"$f":"VLOOKUP(A13783,Agencies!A:C,3,0)","v":"Department of Social Services"},88077.64378082192]
["069",2022,"001","101","9926","686",0,0,0,0,4160000,0,0,0,0,0,4012346.09,217450.36,4229796.45,4229796.45,-69796.45,4229796.45,-69796.45,4229796.45,4229796.45,-69796.45,{"$f":"_xlfn.XLOOKUP(F13824,'Object Codes'!$A$18:$A$510,'Object Codes'!$H$18:$H$510)","v":"Contractual Services"},{"$f":"_xlfn.XLOOKUP(F13824,'Object Codes'!$A$18:$A$510,'Object Codes'!$G$18:$G$510)","v":0},{"$f":"_xlfn.XLOOKUP(A13824,Agencies!$A$9:$A$146,Agencies!$B$9:$B$146)","v":"Social Services"},{"$f":"IF(_xlfn.XLOOKUP(A13824,Agencies!A:A,Agencies!D:D)=\"Y\",IF(_xlfn.XLOOKUP(F13824,'Object Codes'!A:A,'Object Codes'!I:I)=\"Y\",\"Y\",\"N\"),\"N\")","v":"Y"},{"$f":"VLOOKUP(F13824,'Object Codes'!$A:$C,3,0)","v":"Professional Services - Other - Contractual"},{"$f":"VLOOKUP(A13824,Agencies!A:C,3,0)","v":"Department of Social Services"},11588.483424657536]
["069",2022,"001","101","CV11","706",0,0,0,0,0,0,0,0,0,0,12555.78,0,12555.78,12555.78,-12555.78,12555.78,-12555.78,12555.78,12555.78,-12555.78,{"$f":"_xlfn.XLOOKUP(F13853,'Object Codes'!$A$18:$A$510,'Object Codes'!$H$18:$H$510)","v":"Fixed Charges"},{"$f":"_xlfn.XLOOKUP(F13853,'Object Codes'!$A$18:$A$510,'Object Codes'!$G$18:$G$510)","v":0},{"$f":"_xlfn.XLOOKUP(A13853,Agencies!$A$9:$A$146,Agencies!$B$9:$B$146)","v":"Social Services"},{"$f":"IF(_xlfn.XLOOKUP(A13853,Agencies!A:A,Agencies!D:D)=\"Y\",IF(_xlfn.XLOOKUP(F13853,'Object Codes'!A:A,'Object Codes'!I:I)=\"Y\",\"Y\",\"N\"),\"N\")","v":"Y"},{"$f":"VLOOKUP(F13853,'Object Codes'!$A:$C,3,0)","v":"Prompt Payments Interest"},{"$f":"VLOOKUP(A13853,Agencies!A:C,3,0)","v":"Department of Social Services"},34.399397260273972]
["069",2022,"001","103","9513","514",0,0,0,804279483,788279483,0,0,0,0,0,758274472.75,0,758274472.75,758274472.75,30005010.25,758274472.75,30005010.25,758274472.75,758274472.75,30005010.25,{"$f":"_xlfn.XLOOKUP(F13886,'Object Codes'!$A$18:$A$510,'Object Codes'!$H$18:$H$510)","v":"Social Services"},{"$f":"_xlfn.XLOOKUP(F13886,'Object Codes'!$A$18:$A$510,'Object Codes'!$G$18:$G$510)","v":0},{"$f":"_xlfn.XLOOKUP(A13886,Agencies!$A$9:$A$146,Agencies!$B$9:$B$146)","v":"Social Services"},{"$f":"IF(_xlfn.XLOOKUP(A13886,Agencies!A:A,Agencies!D:D)=\"Y\",IF(_xlfn.XLOOKUP(F13886,'Object Codes'!A:A,'Object Codes'!I:I)=\"Y\",\"Y\",\"N\"),\"N\")","v":"Y"},{"$f":"VLOOKUP(F13886,'Object Codes'!$A:$C,3,0)","v":"Aid to Dependent Children"},{"$f":"VLOOKUP(A13886,Agencies!A:C,3,0)","v":"Department of Social Services"},2077464.3089041095]
["069",2022,"001","103","9923","600",0,0,0,477000,979000,0,0,0,0,0,469251.99,27369.68,496621.67,496621.67,482378.33,496621.67,482378.33,496621.67,496621.67,482378.33,{"$f":"_xlfn.XLOOKUP(F13967,'Object Codes'!$A$18:$A$510,'Object Codes'!$H$18:$H$510)","v":"Contractual Services"},{"$f":"_xlfn.XLOOKUP(F13967,'Object Codes'!$A$18:$A$510,'Object Codes'!$G$18:$G$510)","v":0},{"$f":"_xlfn.XLOOKUP(A13967,Agencies!$A$9:$A$146,Agencies!$B$9:$B$146)","v":"Social Services"},{"$f":"IF(_xlfn.XLOOKUP(A13967,Agencies!A:A,Agencies!D:D)=\"Y\",IF(_xlfn.XLOOKUP(F13967,'Object Codes'!A:A,'Object Codes'!I:I)=\"Y\",\"Y\",\"N\"),\"N\")","v":"Y"},{"$f":"VLOOKUP(F13967,'Object Codes'!$A:$C,3,0)","v":"Contractual Services - General"},{"$f":"VLOOKUP(A13967,Agencies!A:C,3,0)","v":"Department of Social Services"},1360.6073150684931]
["069",2022,"001","103","9933","688",0,0,0,124403,0,0,0,0,0,0,1339000,0,1339000,1339000,-1339000,1339000,-1339000,1339000,1339000,-1339000,{"$f":"_xlfn.XLOOKUP(F13996,'Object Codes'!$A$18:$A$510,'Object Codes'!$H$18:$H$510)","v":"Contractual Services"},{"$f":"_xlfn.XLOOKUP(F13996,'Object Codes'!$A$18:$A$510,'Object Codes'!$G$18:$G$510)","v":0},{"$f":"_xlfn.XLOOKUP(A13996,Agencies!$A$9:$A$146,Agencies!$B$9:$B$146)","v":"Social Services"},{"$f":"IF(_xlfn.XLOOKUP(A13996,Agencies!A:A,Agencies!D:D)=\"Y\",IF(_xlfn.XLOOKUP(F13996,'Object Codes'!A:A,'Object Codes'!I:I)=\"Y\",\"Y\",\"N\"),\"N\")","v":"Y"},{"$f":"VLOOKUP(F13996,'Object Codes'!$A:$C,3,0)","v":"Bank Charges - Public Assistance Accounts - Contractual"},{"$f":"VLOOKUP(A13996,Agencies!A:C,3,0)","v":"Department of Social Services"},3668.4931506849316]
["069",2022,"001","104","9534","647",0,0,0,40300000,40300000,0,0,0,0,0,37446156.130000003,0,37446156.130000003,37446156.130000003,2853843.87,37446156.130000003,2853843.87,37446156.130000003,37446156.130000003,2853843.87,{"$f":"_xlfn.XLOOKUP(F14035,'Object Codes'!$A$18:$A$510,'Object Codes'!$H$18:$H$510)","v":"Contractual Services"},{"$f":"_xlfn.XLOOKUP(F14035,'Object Codes'!$A$18:$A$510,'Object Codes'!$G$18:$G$510)","v":0},{"$f":"_xlfn.XLOOKUP(A14035,Agencies!$A$9:$A$146,Agencies!$B$9:$B$146)","v":"Social Services"},{"$f":"IF(_xlfn.XLOOKUP(A14035,Agencies!A:A,Agencies!D:D)=\"Y\",IF(_xlfn.XLOOKUP(F14035,'Object Codes'!A:A,'Object Codes'!I:I)=\"Y\",\"Y\",\"N\"),\"N\")","v":"Y"},{"$f":"VLOOKUP(F14035,'Object Codes'!$A:$C,3,0)","v":"Home Care Services - Contractual"},{"$f":"VLOOKUP(A14035,Agencies!A:C,3,0)","v":"Department of Social Services"},102592.20857534248]
["069",2022,"001","105","9945","600",0,0,0,409619,96295,0,0,0,0,0,41881.54,3445,45326.54,45326.54,50968.46,45326.54,50968.46,45326.54,45326.54,50968.46,{"$f":"_xlfn.XLOOKUP(F14110,'Object Codes'!$A$18:$A$510,'Object Codes'!$H$18:$H$510)","v":"Contractual Services"},{"$f":"_xlfn.XLOOKUP(F14110,'Object Codes'!$A$18:$A$510,'Object Codes'!$G$18:$G$510)","v":0},{"$f":"_xlfn.XLOOKUP(A14110,Agencies!$A$9:$A$146,Agencies!$B$9:$B$146)","v":"Social Services"},{"$f":"IF(_xlfn.XLOOKUP(A14110,Agencies!A:A,Agencies!D:D)=\"Y\",IF(_xlfn.XLOOKUP(F14110,'Object Codes'!A:A,'Object Codes'!I:I)=\"Y\",\"Y\",\"N\"),\"N\")","v":"Y"},{"$f":"VLOOKUP(F14110,'Object Codes'!$A:$C,3,0)","v":"Contractual Services - General"},{"$f":"VLOOKUP(A14110,Agencies!A:C,3,0)","v":"Department of Social Services"},124.18230136986301]
["069",2022,"001","107","CR02","650",0,0,0,15605000,15605000,0,0,0,0,0,6194900.8600000003,8534714.5399999991,14729615.4,14729615.4,875384.6,14729615.4,875384.6,14729615.4,14729615.4,875384.6,{"$f":"_xlfn.XLOOKUP(F14139,'Object Codes'!$A$18:$A$510,'Object Codes'!$H$18:$H$510)","v":"Contractual Services"},{"$f":"_xlfn.XLOOKUP(F14139,'Object Codes'!$A$18:$A$510,'Object Codes'!$G$18:$G$510)","v":0},{"$f":"_xlfn.XLOOKUP(A14139,Agencies!$A$9:$A$146,Agencies!$B$9:$B$146)","v":"Social Services"},{"$f":"IF(_xlfn.XLOOKUP(A14139,Agencies!A:A,Agencies!D:D)=\"Y\",IF(_xlfn.XLOOKUP(F14139,'Object Codes'!A:A,'Object Codes'!I:I)=\"Y\",\"Y\",\"N\"),\"N\")","v":"Y"},{"$f":"VLOOKUP(F14139,'Object Codes'!$A:$C,3,0)","v":"Homeless Family Services - Contractual"},{"$f":"VLOOKUP(A14139,Agencies!A:C,3,0)","v":"Department of Social Services"},40355.110684931511]
["069",2022,"001","109","9424","624",0,0,0,50000,50000,0,0,0,0,0,13099.22,5214.8599999999997,18314.080000000002,18314.080000000002,31685.919999999998,18314.080000000002,31685.919999999998,18314.080000000002,18314.080000000002,31685.919999999998,{"$f":"_xlfn.XLOOKUP(F14173,'Object Codes'!$A$18:$A$510,'Object Codes'!$H$18:$H$510)","v":"Contractual Services"},{"$f":"_xlfn.XLOOKUP(F14173,'Object Codes'!$A$18:$A$510,'Object Codes'!$G$18:$G$510)","v":0},{"$f":"_xlfn.XLOOKUP(A14173,Agencies!$A$9:$A$146,Agencies!$B$9:$B$146)","v":"Social Services"},{"$f":"IF(_xlfn.XLOOKUP(A14173,Agencies!A:A,Agencies!D:D)=\"Y\",IF(_xlfn.XLOOKUP(F14173,'Object Codes'!A:A,'Object Codes'!I:I)=\"Y\",\"Y\",\"N\"),\"N\")","v":"Y"},{"$f":"VLOOKUP(F14173,'Object Codes'!$A:$C,3,0)","v":"Cleaning Services - Contractual"},{"$f":"VLOOKUP(A14173,Agencies!A:C,3,0)","v":"Department of Social Services"},50.175561643835621]
["069",2022,"001","201","0015","057",0,0,0,0,500,0,0,0,0,0,500,0,500,500,0,500,0,500,500,0,{"$f":"_xlfn.XLOOKUP(F14242,'Object Codes'!$A$18:$A$510,'Object Codes'!$H$18:$H$510)","v":"PS - Additional Gross"},{"$f":"_xlfn.XLOOKUP(F14242,'Object Codes'!$A$18:$A$510,'Object Codes'!$G$18:$G$510)","v":"A"},{"$f":"_xlfn.XLOOKUP(A14242,Agencies!$A$9:$A$146,Agencies!$B$9:$B$146)","v":"Social Services"},{"$f":"IF(_xlfn.XLOOKUP(A14242,Agencies!A:A,Agencies!D:D)=\"Y\",IF(_xlfn.XLOOKUP(F14242,'Object Codes'!A:A,'Object Codes'!I:I)=\"Y\",\"Y\",\"N\"),\"N\")","v":"Y"},{"$f":"VLOOKUP(F14242,'Object Codes'!$A:$C,3,0)","v":"Bonus Payments"},{"$f":"VLOOKUP(A14242,Agencies!A:C,3,0)","v":"Department of Social Services"},1.3698630136986301]
["069",2022,"001","201","0023","049",0,0,0,0,0,0,0,0,0,0,37334.980000000003,0,37334.980000000003,37334.980000000003,-37334.980000000003,37334.980000000003,-37334.980000000003,37334.980000000003,37334.980000000003,-37334.980000000003,{"$f":"_xlfn.XLOOKUP(F14282,'Object Codes'!$A$18:$A$510,'Object Codes'!$H$18:$H$510)","v":"PS - Additional Gross"},{"$f":"_xlfn.XLOOKUP(F14282,'Object Codes'!$A$18:$A$510,'Object Codes'!$G$18:$G$510)","v":"A"},{"$f":"_xlfn.XLOOKUP(A14282,Agencies!$A$9:$A$146,Agencies!$B$9:$B$146)","v":"Social Services"},{"$f":"IF(_xlfn.XLOOKUP(A14282,Agencies!A:A,Agencies!D:D)=\"Y\",IF(_xlfn.XLOOKUP(F14282,'Object Codes'!A:A,'Object Codes'!I:I)=\"Y\",\"Y\",\"N\"),\"N\")","v":"Y"},{"$f":"VLOOKUP(F14282,'Object Codes'!$A:$C,3,0)","v":"Backpay"},{"$f":"VLOOKUP(A14282,Agencies!A:C,3,0)","v":"Department of Social Services"},102.28761643835617]
["069",2022,"001","201","0027","045",0,0,0,0,0,0,0,0,0,0,5467.03,0,5467.03,5467.03,-5467.03,5467.03,-5467.03,5467.03,5467.03,-5467.03,{"$f":"_xlfn.XLOOKUP(F14316,'Object Codes'!$A$18:$A$510,'Object Codes'!$H$18:$H$510)","v":"PS - Additional Gross"},{"$f":"_xlfn.XLOOKUP(F14316,'Object Codes'!$A$18:$A$510,'Object Codes'!$G$18:$G$510)","v":"A"},{"$f":"_xlfn.XLOOKUP(A14316,Agencies!$A$9:$A$146,Agencies!$B$9:$B$146)","v":"Social Services"},{"$f":"IF(_xlfn.XLOOKUP(A14316,Agencies!A:A,Agencies!D:D)=\"Y\",IF(_xlfn.XLOOKUP(F14316,'Object Codes'!A:A,'Object Codes'!I:I)=\"Y\",\"Y\",\"N\"),\"N\")","v":"Y"},{"$f":"VLOOKUP(F14316,'Object Codes'!$A:$C,3,0)","v":"Holiday Pay"},{"$f":"VLOOKUP(A14316,Agencies!A:C,3,0)","v":"Department of Social Services"},14.978164383561642]
["069",2022,"001","201","0041","001",0,707,641,54005418,69005418,0,0,0,0,0,56559208.170000002,0,56559208.170000002,56559208.170000002,12446209.83,56559208.170000002,12446209.83,56559208.170000002,56559208.170000002,12446209.83,{"$f":"_xlfn.XLOOKUP(F14391,'Object Codes'!$A$18:$A$510,'Object Codes'!$H$18:$H$510)","v":"PS - Regular"},{"$f":"_xlfn.XLOOKUP(F14391,'Object Codes'!$A$18:$A$510,'Object Codes'!$G$18:$G$510)","v":"C"},{"$f":"_xlfn.XLOOKUP(A14391,Agencies!$A$9:$A$146,Agencies!$B$9:$B$146)","v":"Social Services"},{"$f":"IF(_xlfn.XLOOKUP(A14391,Agencies!A:A,Agencies!D:D)=\"Y\",IF(_xlfn.XLOOKUP(F14391,'Object Codes'!A:A,'Object Codes'!I:I)=\"Y\",\"Y\",\"N\"),\"N\")","v":"Y"},{"$f":"VLOOKUP(F14391,'Object Codes'!$A:$C,3,0)","v":"Full Year Positions"},{"$f":"VLOOKUP(A14391,Agencies!A:C,3,0)","v":"Department of Social Services"},154956.73471232876]
["069",2022,"001","201","0056","001",0,0,0,16818,16818,0,0,0,0,0,787486.61,0,787486.61,787486.61,-770668.61,787486.61,-770668.61,787486.61,787486.61,-770668.61,{"$f":"_xlfn.XLOOKUP(F14425,'Object Codes'!$A$18:$A$510,'Object Codes'!$H$18:$H$510)","v":"PS - Regular"},{"$f":"_xlfn.XLOOKUP(F14425,'Object Codes'!$A$18:$A$510,'Object Codes'!$G$18:$G$510)","v":"C"},{"$f":"_xlfn.XLOOKUP(A14425,Agencies!$A$9:$A$146,Agencies!$B$9:$B$146)","v":"Social Services"},{"$f":"IF(_xlfn.XLOOKUP(A14425,Agencies!A:A,Agencies!D:D)=\"Y\",IF(_xlfn.XLOOKUP(F14425,'Object Codes'!A:A,'Object Codes'!I:I)=\"Y\",\"Y\",\"N\"),\"N\")","v":"Y"},{"$f":"VLOOKUP(F14425,'Object Codes'!$A:$C,3,0)","v":"Full Year Positions"},{"$f":"VLOOKUP(A14425,Agencies!A:C,3,0)","v":"Department of Social Services"},2157.4975616438355]
["069",2022,"001","201","0060","057",0,0,0,0,500,0,0,0,0,0,500,0,500,500,0,500,0,500,500,0,{"$f":"_xlfn.XLOOKUP(F14454,'Object Codes'!$A$18:$A$510,'Object Codes'!$H$18:$H$510)","v":"PS - Additional Gross"},{"$f":"_xlfn.XLOOKUP(F14454,'Object Codes'!$A$18:$A$510,'Object Codes'!$G$18:$G$510)","v":"A"},{"$f":"_xlfn.XLOOKUP(A14454,Agencies!$A$9:$A$146,Agencies!$B$9:$B$146)","v":"Social Services"},{"$f":"IF(_xlfn.XLOOKUP(A14454,Agencies!A:A,Agencies!D:D)=\"Y\",IF(_xlfn.XLOOKUP(F14454,'Object Codes'!A:A,'Object Codes'!I:I)=\"Y\",\"Y\",\"N\"),\"N\")","v":"Y"},{"$f":"VLOOKUP(F14454,'Object Codes'!$A:$C,3,0)","v":"Bonus Payments"},{"$f":"VLOOKUP(A14454,Agencies!A:C,3,0)","v":"Department of Social Services"},1.3698630136986301]
["069",2022,"001","201","0065","001",0,87,113,4418630,4418630,0,0,0,0,0,7037236.3099999996,0,7037236.3099999996,7037236.3099999996,-2618606.31,7037236.3099999996,-2618606.31,7037236.3099999996,7037236.3099999996,-2618606.31,{"$f":"_xlfn.XLOOKUP(F14494,'Object Codes'!$A$18:$A$510,'Object Codes'!$H$18:$H$510)","v":"PS - Regular"},{"$f":"_xlfn.XLOOKUP(F14494,'Object Codes'!$A$18:$A$510,'Object Codes'!$G$18:$G$510)","v":"C"},{"$f":"_xlfn.XLOOKUP(A14494,Agencies!$A$9:$A$146,Agencies!$B$9:$B$146)","v":"Social Services"},{"$f":"IF(_xlfn.XLOOKUP(A14494,Agencies!A:A,Agencies!D:D)=\"Y\",IF(_xlfn.XLOOKUP(F14494,'Object Codes'!A:A,'Object Codes'!I:I)=\"Y\",\"Y\",\"N\"),\"N\")","v":"Y"},{"$f":"VLOOKUP(F14494,'Object Codes'!$A:$C,3,0)","v":"Full Year Positions"},{"$f":"VLOOKUP(A14494,Agencies!A:C,3,0)","v":"Department of Social Services"},19280.099479452052]
["069",2022,"001","201","0090","045",0,0,0,0,0,0,0,0,0,0,69550.92,0,69550.92,69550.92,-69550.92,69550.92,-69550.92,69550.92,69550.92,-69550.92,{"$f":"_xlfn.XLOOKUP(F14568,'Object Codes'!$A$18:$A$510,'Object Codes'!$H$18:$H$510)","v":"PS - Additional Gross"},{"$f":"_xlfn.XLOOKUP(F14568,'Object Codes'!$A$18:$A$510,'Object Codes'!$G$18:$G$510)","v":"A"},{"$f":"_xlfn.XLOOKUP(A14568,Agencies!$A$9:$A$146,Agencies!$B$9:$B$146)","v":"Social Services"},{"$f":"IF(_xlfn.XLOOKUP(A14568,Agencies!A:A,Agencies!D:D)=\"Y\",IF(_xlfn.XLOOKUP(F14568,'Object Codes'!A:A,'Object Codes'!I:I)=\"Y\",\"Y\",\"N\"),\"N\")","v":"Y"},{"$f":"VLOOKUP(F14568,'Object Codes'!$A:$C,3,0)","v":"Holiday Pay"},{"$f":"VLOOKUP(A14568,Agencies!A:C,3,0)","v":"Department of Social Services"},190.55046575342465]
["069",2022,"001","201","0162","001",0,0,0,0,0,0,0,0,0,0,-11267.21,0,-11267.21,-11267.21,11267.21,-11267.21,11267.21,-11267.21,-11267.21,11267.21,{"$f":"_xlfn.XLOOKUP(F14597,'Object Codes'!$A$18:$A$510,'Object Codes'!$H$18:$H$510)","v":"PS - Regular"},{"$f":"_xlfn.XLOOKUP(F14597,'Object Codes'!$A$18:$A$510,'Object Codes'!$G$18:$G$510)","v":"C"},{"$f":"_xlfn.XLOOKUP(A14597,Agencies!$A$9:$A$146,Agencies!$B$9:$B$146)","v":"Social Services"},{"$f":"IF(_xlfn.XLOOKUP(A14597,Agencies!A:A,Agencies!D:D)=\"Y\",IF(_xlfn.XLOOKUP(F14597,'Object Codes'!A:A,'Object Codes'!I:I)=\"Y\",\"Y\",\"N\"),\"N\")","v":"Y"},{"$f":"VLOOKUP(F14597,'Object Codes'!$A:$C,3,0)","v":"Full Year Positions"},{"$f":"VLOOKUP(A14597,Agencies!A:C,3,0)","v":"Department of Social Services"},-30.869068493150682]
["069",2022,"001","201","1026","049",0,0,0,0,0,0,0,0,0,0,2376.4699999999998,0,2376.4699999999998,2376.4699999999998,-2376.4699999999998,2376.4699999999998,-2376.4699999999998,2376.4699999999998,2376.4699999999998,-2376.4699999999998,{"$f":"_xlfn.XLOOKUP(F14643,'Object Codes'!$A$18:$A$510,'Object Codes'!$H$18:$H$510)","v":"PS - Additional Gross"},{"$f":"_xlfn.XLOOKUP(F14643,'Object Codes'!$A$18:$A$510,'Object Codes'!$G$18:$G$510)","v":"A"},{"$f":"_xlfn.XLOOKUP(A14643,Agencies!$A$9:$A$146,Agencies!$B$9:$B$146)","v":"Social Services"},{"$f":"IF(_xlfn.XLOOKUP(A14643,Agencies!A:A,Agencies!D:D)=\"Y\",IF(_xlfn.XLOOKUP(F14643,'Object Codes'!A:A,'Object Codes'!I:I)=\"Y\",\"Y\",\"N\"),\"N\")","v":"Y"},{"$f":"VLOOKUP(F14643,'Object Codes'!$A:$C,3,0)","v":"Backpay"},{"$f":"VLOOKUP(A14643,Agencies!A:C,3,0)","v":"Department of Social Services"},6.5108767123287663]
["069",2022,"001","201","1052","001",0,128,122,6177362,5677362,0,0,0,0,0,5322627.12,0,5322627.12,5322627.12,354734.88,5322627.12,354734.88,5322627.12,5322627.12,354734.88,{"$f":"_xlfn.XLOOKUP(F14711,'Object Codes'!$A$18:$A$510,'Object Codes'!$H$18:$H$510)","v":"PS - Regular"},{"$f":"_xlfn.XLOOKUP(F14711,'Object Codes'!$A$18:$A$510,'Object Codes'!$G$18:$G$510)","v":"C"},{"$f":"_xlfn.XLOOKUP(A14711,Agencies!$A$9:$A$146,Agencies!$B$9:$B$146)","v":"Social Services"},{"$f":"IF(_xlfn.XLOOKUP(A14711,Agencies!A:A,Agencies!D:D)=\"Y\",IF(_xlfn.XLOOKUP(F14711,'Object Codes'!A:A,'Object Codes'!I:I)=\"Y\",\"Y\",\"N\"),\"N\")","v":"Y"},{"$f":"VLOOKUP(F14711,'Object Codes'!$A:$C,3,0)","v":"Full Year Positions"},{"$f":"VLOOKUP(A14711,Agencies!A:C,3,0)","v":"Department of Social Services"},14582.540054794521]
["069",2022,"001","201","1067","042",0,0,0,0,0,0,0,0,0,0,155850.91,0,155850.91,155850.91,-155850.91,155850.91,-155850.91,155850.91,155850.91,-155850.91,{"$f":"_xlfn.XLOOKUP(F14740,'Object Codes'!$A$18:$A$510,'Object Codes'!$H$18:$H$510)","v":"PS - Additional Gross"},{"$f":"_xlfn.XLOOKUP(F14740,'Object Codes'!$A$18:$A$510,'Object Codes'!$G$18:$G$510)","v":"A"},{"$f":"_xlfn.XLOOKUP(A14740,Agencies!$A$9:$A$146,Agencies!$B$9:$B$146)","v":"Social Services"},{"$f":"IF(_xlfn.XLOOKUP(A14740,Agencies!A:A,Agencies!D:D)=\"Y\",IF(_xlfn.XLOOKUP(F14740,'Object Codes'!A:A,'Object Codes'!I:I)=\"Y\",\"Y\",\"N\"),\"N\")","v":"Y"},{"$f":"VLOOKUP(F14740,'Object Codes'!$A:$C,3,0)","v":"Longevity Differential"},{"$f":"VLOOKUP(A14740,Agencies!A:C,3,0)","v":"Department of Social Services"},426.98879452054797]
["069",2022,"001","201","1090","041",0,0,0,0,0,0,0,0,0,0,64958.46,0,64958.46,64958.46,-64958.46,64958.46,-64958.46,64958.46,64958.46,-64958.46,{"$f":"_xlfn.XLOOKUP(F14792,'Object Codes'!$A$18:$A$510,'Object Codes'!$H$18:$H$510)","v":"PS - Additional Gross"},{"$f":"_xlfn.XLOOKUP(F14792,'Object Codes'!$A$18:$A$510,'Object Codes'!$G$18:$G$510)","v":"A"},{"$f":"_xlfn.XLOOKUP(A14792,Agencies!$A$9:$A$146,Agencies!$B$9:$B$146)","v":"Social Services"},{"$f":"IF(_xlfn.XLOOKUP(A14792,Agencies!A:A,Agencies!D:D)=\"Y\",IF(_xlfn.XLOOKUP(F14792,'Object Codes'!A:A,'Object Codes'!I:I)=\"Y\",\"Y\",\"N\"),\"N\")","v":"Y"},{"$f":"VLOOKUP(F14792,'Object Codes'!$A:$C,3,0)","v":"Assignment Differential"},{"$f":"VLOOKUP(A14792,Agencies!A:C,3,0)","v":"Department of Social Services"},177.96838356164383]
["069",2022,"001","203","0300","047",0,0,0,952319,952319,0,0,0,0,0,1109631.03,0,1109631.03,1109631.03,-157312.03,1109631.03,-157312.03,1109631.03,1109631.03,-157312.03,{"$f":"_xlfn.XLOOKUP(F14849,'Object Codes'!$A$18:$A$510,'Object Codes'!$H$18:$H$510)","v":"PS - Additional Gross"},{"$f":"_xlfn.XLOOKUP(F14849,'Object Codes'!$A$18:$A$510,'Object Codes'!$G$18:$G$510)","v":"C"},{"$f":"_xlfn.XLOOKUP(A14849,Agencies!$A$9:$A$146,Agencies!$B$9:$B$146)","v":"Social Services"},{"$f":"IF(_xlfn.XLOOKUP(A14849,Agencies!A:A,Agencies!D:D)=\"Y\",IF(_xlfn.XLOOKUP(F14849,'Object Codes'!A:A,'Object Codes'!I:I)=\"Y\",\"Y\",\"N\"),\"N\")","v":"Y"},{"$f":"VLOOKUP(F14849,'Object Codes'!$A:$C,3,0)","v":"Overtime"},{"$f":"VLOOKUP(A14849,Agencies!A:C,3,0)","v":"Department of Social Services"},3040.0850136986301]
["069",2022,"001","203","0305","052",0,0,0,58600,58600,0,0,0,0,0,0,0,0,0,58600,0,58600,0,0,58600,{"$f":"_xlfn.XLOOKUP(F14883,'Object Codes'!$A$18:$A$510,'Object Codes'!$H$18:$H$510)","v":"PS - Additional Gross"},{"$f":"_xlfn.XLOOKUP(F14883,'Object Codes'!$A$18:$A$510,'Object Codes'!$G$18:$G$510)","v":"A"},{"$f":"_xlfn.XLOOKUP(A14883,Agencies!$A$9:$A$146,Agencies!$B$9:$B$146)","v":"Social Services"},{"$f":"IF(_xlfn.XLOOKUP(A14883,Agencies!A:A,Agencies!D:D)=\"Y\",IF(_xlfn.XLOOKUP(F14883,'Object Codes'!A:A,'Object Codes'!I:I)=\"Y\",\"Y\",\"N\"),\"N\")","v":"Y"},{"$f":"VLOOKUP(F14883,'Object Codes'!$A:$C,3,0)","v":"Severance Payments"},{"$f":"VLOOKUP(A14883,Agencies!A:C,3,0)","v":"Department of Social Services"},0]
["069",2022,"001","203","0320","042",0,0,0,0,0,0,0,0,0,0,6807.79,0,6807.79,6807.79,-6807.79,6807.79,-6807.79,6807.79,6807.79,-6807.79,{"$f":"_xlfn.XLOOKUP(F14941,'Object Codes'!$A$18:$A$510,'Object Codes'!$H$18:$H$510)","v":"PS - Additional Gross"},{"$f":"_xlfn.XLOOKUP(F14941,'Object Codes'!$A$18:$A$510,'Object Codes'!$G$18:$G$510)","v":"A"},{"$f":"_xlfn.XLOOKUP(A14941,Agencies!$A$9:$A$146,Agencies!$B$9:$B$146)","v":"Social Services"},{"$f":"IF(_xlfn.XLOOKUP(A14941,Agencies!A:A,Agencies!D:D)=\"Y\",IF(_xlfn.XLOOKUP(F14941,'Object Codes'!A:A,'Object Codes'!I:I)=\"Y\",\"Y\",\"N\"),\"N\")","v":"Y"},{"$f":"VLOOKUP(F14941,'Object Codes'!$A:$C,3,0)","v":"Longevity Differential"},{"$f":"VLOOKUP(A14941,Agencies!A:C,3,0)","v":"Department of Social Services"},18.651479452054794]
["069",2022,"001","203","0336","043",0,0,0,0,0,0,0,0,0,0,2053.75,0,2053.75,2053.75,-2053.75,2053.75,-2053.75,2053.75,2053.75,-2053.75,{"$f":"_xlfn.XLOOKUP(F14992,'Object Codes'!$A$18:$A$510,'Object Codes'!$H$18:$H$510)","v":"PS - Additional Gross"},{"$f":"_xlfn.XLOOKUP(F14992,'Object Codes'!$A$18:$A$510,'Object Codes'!$G$18:$G$510)","v":"A"},{"$f":"_xlfn.XLOOKUP(A14992,Agencies!$A$9:$A$146,Agencies!$B$9:$B$146)","v":"Social Services"},{"$f":"IF(_xlfn.XLOOKUP(A14992,Agencies!A:A,Agencies!D:D)=\"Y\",IF(_xlfn.XLOOKUP(F14992,'Object Codes'!A:A,'Object Codes'!I:I)=\"Y\",\"Y\",\"N\"),\"N\")","v":"Y"},{"$f":"VLOOKUP(F14992,'Object Codes'!$A:$C,3,0)","v":"Shift Differential"},{"$f":"VLOOKUP(A14992,Agencies!A:C,3,0)","v":"Department of Social Services"},5.6267123287671232]
["069",2022,"001","203","0358","041",0,0,0,0,0,0,0,0,0,0,3799.12,0,3799.12,3799.12,-3799.12,3799.12,-3799.12,3799.12,3799.12,-3799.12,{"$f":"_xlfn.XLOOKUP(F15026,'Object Codes'!$A$18:$A$510,'Object Codes'!$H$18:$H$510)","v":"PS - Additional Gross"},{"$f":"_xlfn.XLOOKUP(F15026,'Object Codes'!$A$18:$A$510,'Object Codes'!$G$18:$G$510)","v":"A"},{"$f":"_xlfn.XLOOKUP(A15026,Agencies!$A$9:$A$146,Agencies!$B$9:$B$146)","v":"Social Services"},{"$f":"IF(_xlfn.XLOOKUP(A15026,Agencies!A:A,Agencies!D:D)=\"Y\",IF(_xlfn.XLOOKUP(F15026,'Object Codes'!A:A,'Object Codes'!I:I)=\"Y\",\"Y\",\"N\"),\"N\")","v":"Y"},{"$f":"VLOOKUP(F15026,'Object Codes'!$A:$C,3,0)","v":"Assignment Differential"},{"$f":"VLOOKUP(A15026,Agencies!A:C,3,0)","v":"Department of Social Services"},10.408547945205479]
["069",2022,"001","203","1315","041",0,0,0,0,0,0,0,0,0,0,840627.11,0,840627.11,840627.11,-840627.11,840627.11,-840627.11,840627.11,840627.11,-840627.11,{"$f":"_xlfn.XLOOKUP(F15090,'Object Codes'!$A$18:$A$510,'Object Codes'!$H$18:$H$510)","v":"PS - Additional Gross"},{"$f":"_xlfn.XLOOKUP(F15090,'Object Codes'!$A$18:$A$510,'Object Codes'!$G$18:$G$510)","v":"A"},{"$f":"_xlfn.XLOOKUP(A15090,Agencies!$A$9:$A$146,Agencies!$B$9:$B$146)","v":"Social Services"},{"$f":"IF(_xlfn.XLOOKUP(A15090,Agencies!A:A,Agencies!D:D)=\"Y\",IF(_xlfn.XLOOKUP(F15090,'Object Codes'!A:A,'Object Codes'!I:I)=\"Y\",\"Y\",\"N\"),\"N\")","v":"Y"},{"$f":"VLOOKUP(F15090,'Object Codes'!$A:$C,3,0)","v":"Assignment Differential"},{"$f":"VLOOKUP(A15090,Agencies!A:C,3,0)","v":"Department of Social Services"},2303.0879726027397]
["069",2022,"001","203","CR16","047",0,0,0,0,0,0,0,0,0,0,36988.949999999997,0,36988.949999999997,36988.949999999997,-36988.949999999997,36988.949999999997,-36988.949999999997,36988.949999999997,36988.949999999997,-36988.949999999997,{"$f":"_xlfn.XLOOKUP(F15135,'Object Codes'!$A$18:$A$510,'Object Codes'!$H$18:$H$510)","v":"PS - Additional Gross"},{"$f":"_xlfn.XLOOKUP(F15135,'Object Codes'!$A$18:$A$510,'Object Codes'!$G$18:$G$510)","v":"C"},{"$f":"_xlfn.XLOOKUP(A15135,Agencies!$A$9:$A$146,Agencies!$B$9:$B$146)","v":"Social Services"},{"$f":"IF(_xlfn.XLOOKUP(A15135,Agencies!A:A,Agencies!D:D)=\"Y\",IF(_xlfn.XLOOKUP(F15135,'Object Codes'!A:A,'Object Codes'!I:I)=\"Y\",\"Y\",\"N\"),\"N\")","v":"Y"},{"$f":"VLOOKUP(F15135,'Object Codes'!$A:$C,3,0)","v":"Overtime"},{"$f":"VLOOKUP(A15135,Agencies!A:C,3,0)","v":"Department of Social Services"},101.33958904109588]
["069",2022,"001","204","0410","042",0,0,0,89642,89642,0,0,0,0,0,0,0,0,0,89642,0,89642,0,0,89642,{"$f":"_xlfn.XLOOKUP(F15169,'Object Codes'!$A$18:$A$510,'Object Codes'!$H$18:$H$510)","v":"PS - Additional Gross"},{"$f":"_xlfn.XLOOKUP(F15169,'Object Codes'!$A$18:$A$510,'Object Codes'!$G$18:$G$510)","v":"A"},{"$f":"_xlfn.XLOOKUP(A15169,Agencies!$A$9:$A$146,Agencies!$B$9:$B$146)","v":"Social Services"},{"$f":"IF(_xlfn.XLOOKUP(A15169,Agencies!A:A,Agencies!D:D)=\"Y\",IF(_xlfn.XLOOKUP(F15169,'Object Codes'!A:A,'Object Codes'!I:I)=\"Y\",\"Y\",\"N\"),\"N\")","v":"Y"},{"$f":"VLOOKUP(F15169,'Object Codes'!$A:$C,3,0)","v":"Longevity Differential"},{"$f":"VLOOKUP(A15169,Agencies!A:C,3,0)","v":"Department of Social Services"},0]
["069",2022,"001","204","1404","001",0,5,5,206240,206240,0,0,0,0,0,0,0,0,0,206240,0,206240,0,0,206240,{"$f":"_xlfn.XLOOKUP(F15198,'Object Codes'!$A$18:$A$510,'Object Codes'!$H$18:$H$510)","v":"PS - Regular"},{"$f":"_xlfn.XLOOKUP(F15198,'Object Codes'!$A$18:$A$510,'Object Codes'!$G$18:$G$510)","v":"C"},{"$f":"_xlfn.XLOOKUP(A15198,Agencies!$A$9:$A$146,Agencies!$B$9:$B$146)","v":"Social Services"},{"$f":"IF(_xlfn.XLOOKUP(A15198,Agencies!A:A,Agencies!D:D)=\"Y\",IF(_xlfn.XLOOKUP(F15198,'Object Codes'!A:A,'Object Codes'!I:I)=\"Y\",\"Y\",\"N\"),\"N\")","v":"Y"},{"$f":"VLOOKUP(F15198,'Object Codes'!$A:$C,3,0)","v":"Full Year Positions"},{"$f":"VLOOKUP(A15198,Agencies!A:C,3,0)","v":"Department of Social Services"},0]
["069",2022,"001","205","0814","049",0,0,0,0,0,0,0,0,0,0,0,209466,209466,209466,-209466,209466,-209466,209466,209466,-209466,{"$f":"_xlfn.XLOOKUP(F15251,'Object Codes'!$A$18:$A$510,'Object Codes'!$H$18:$H$510)","v":"PS - Additional Gross"},{"$f":"_xlfn.XLOOKUP(F15251,'Object Codes'!$A$18:$A$510,'Object Codes'!$G$18:$G$510)","v":"A"},{"$f":"_xlfn.XLOOKUP(A15251,Agencies!$A$9:$A$146,Agencies!$B$9:$B$146)","v":"Social Services"},{"$f":"IF(_xlfn.XLOOKUP(A15251,Agencies!A:A,Agencies!D:D)=\"Y\",IF(_xlfn.XLOOKUP(F15251,'Object Codes'!A:A,'Object Codes'!I:I)=\"Y\",\"Y\",\"N\"),\"N\")","v":"Y"},{"$f":"VLOOKUP(F15251,'Object Codes'!$A:$C,3,0)","v":"Backpay"},{"$f":"VLOOKUP(A15251,Agencies!A:C,3,0)","v":"Department of Social Services"},573.87945205479457]
["069",2022,"001","205","1808","001",0,3,3,249542,249542,0,0,0,0,0,162994.93,0,162994.93,162994.93,86547.07,162994.93,86547.07,162994.93,162994.93,86547.07,{"$f":"_xlfn.XLOOKUP(F15312,'Object Codes'!$A$18:$A$510,'Object Codes'!$H$18:$H$510)","v":"PS - Regular"},{"$f":"_xlfn.XLOOKUP(F15312,'Object Codes'!$A$18:$A$510,'Object Codes'!$G$18:$G$510)","v":"C"},{"$f":"_xlfn.XLOOKUP(A15312,Agencies!$A$9:$A$146,Agencies!$B$9:$B$146)","v":"Social Services"},{"$f":"IF(_xlfn.XLOOKUP(A15312,Agencies!A:A,Agencies!D:D)=\"Y\",IF(_xlfn.XLOOKUP(F15312,'Object Codes'!A:A,'Object Codes'!I:I)=\"Y\",\"Y\",\"N\"),\"N\")","v":"Y"},{"$f":"VLOOKUP(F15312,'Object Codes'!$A:$C,3,0)","v":"Full Year Positions"},{"$f":"VLOOKUP(A15312,Agencies!A:C,3,0)","v":"Department of Social Services"},446.56145205479453]
["069",2022,"001","205","1890","043",0,0,0,0,0,0,0,0,0,0,702.75,0,702.75,702.75,-702.75,702.75,-702.75,702.75,702.75,-702.75,{"$f":"_xlfn.XLOOKUP(F15341,'Object Codes'!$A$18:$A$510,'Object Codes'!$H$18:$H$510)","v":"PS - Additional Gross"},{"$f":"_xlfn.XLOOKUP(F15341,'Object Codes'!$A$18:$A$510,'Object Codes'!$G$18:$G$510)","v":"A"},{"$f":"_xlfn.XLOOKUP(A15341,Agencies!$A$9:$A$146,Agencies!$B$9:$B$146)","v":"Social Services"},{"$f":"IF(_xlfn.XLOOKUP(A15341,Agencies!A:A,Agencies!D:D)=\"Y\",IF(_xlfn.XLOOKUP(F15341,'Object Codes'!A:A,'Object Codes'!I:I)=\"Y\",\"Y\",\"N\"),\"N\")","v":"Y"},{"$f":"VLOOKUP(F15341,'Object Codes'!$A:$C,3,0)","v":"Shift Differential"},{"$f":"VLOOKUP(A15341,Agencies!A:C,3,0)","v":"Department of Social Services"},1.9253424657534246]
["069",2022,"001","209","1262","049",0,0,0,0,0,0,0,0,0,0,2099.98,0,2099.98,2099.98,-2099.98,2099.98,-2099.98,2099.98,2099.98,-2099.98,{"$f":"_xlfn.XLOOKUP(F15400,'Object Codes'!$A$18:$A$510,'Object Codes'!$H$18:$H$510)","v":"PS - Additional Gross"},{"$f":"_xlfn.XLOOKUP(F15400,'Object Codes'!$A$18:$A$510,'Object Codes'!$G$18:$G$510)","v":"A"},{"$f":"_xlfn.XLOOKUP(A15400,Agencies!$A$9:$A$146,Agencies!$B$9:$B$146)","v":"Social Services"},{"$f":"IF(_xlfn.XLOOKUP(A15400,Agencies!A:A,Agencies!D:D)=\"Y\",IF(_xlfn.XLOOKUP(F15400,'Object Codes'!A:A,'Object Codes'!I:I)=\"Y\",\"Y\",\"N\"),\"N\")","v":"Y"},{"$f":"VLOOKUP(F15400,'Object Codes'!$A:$C,3,0)","v":"Backpay"},{"$f":"VLOOKUP(A15400,Agencies!A:C,3,0)","v":"Department of Social Services"},5.7533698630136989]
["071",2022,"001","100","0103","042",0,0,0,5470,0,0,0,0,0,0,0,0,0,0,0,0,0,0,0,0,{"$f":"_xlfn.XLOOKUP(F15450,'Object Codes'!$A$18:$A$510,'Object Codes'!$H$18:$H$510)","v":"PS - Additional Gross"},{"$f":"_xlfn.XLOOKUP(F15450,'Object Codes'!$A$18:$A$510,'Object Codes'!$G$18:$G$510)","v":"A"},{"$f":"_xlfn.XLOOKUP(A15450,Agencies!$A$9:$A$146,Agencies!$B$9:$B$146)","v":"Social Services"},{"$f":"IF(_xlfn.XLOOKUP(A15450,Agencies!A:A,Agencies!D:D)=\"Y\",IF(_xlfn.XLOOKUP(F15450,'Object Codes'!A:A,'Object Codes'!I:I)=\"Y\",\"Y\",\"N\"),\"N\")","v":"Y"},{"$f":"VLOOKUP(F15450,'Object Codes'!$A:$C,3,0)","v":"Longevity Differential"},{"$f":"VLOOKUP(A15450,Agencies!A:C,3,0)","v":"Dept. of Homeless Services"},0]
["071",2022,"001","100","0115","042",0,0,0,0,0,0,0,0,0,0,56856.33,0,56856.33,56856.33,-56856.33,56856.33,-56856.33,56856.33,56856.33,-56856.33,{"$f":"_xlfn.XLOOKUP(F15484,'Object Codes'!$A$18:$A$510,'Object Codes'!$H$18:$H$510)","v":"PS - Additional Gross"},{"$f":"_xlfn.XLOOKUP(F15484,'Object Codes'!$A$18:$A$510,'Object Codes'!$G$18:$G$510)","v":"A"},{"$f":"_xlfn.XLOOKUP(A15484,Agencies!$A$9:$A$146,Agencies!$B$9:$B$146)","v":"Social Services"},{"$f":"IF(_xlfn.XLOOKUP(A15484,Agencies!A:A,Agencies!D:D)=\"Y\",IF(_xlfn.XLOOKUP(F15484,'Object Codes'!A:A,'Object Codes'!I:I)=\"Y\",\"Y\",\"N\"),\"N\")","v":"Y"},{"$f":"VLOOKUP(F15484,'Object Codes'!$A:$C,3,0)","v":"Longevity Differential"},{"$f":"VLOOKUP(A15484,Agencies!A:C,3,0)","v":"Dept. of Homeless Services"},155.77076712328767]
["071",2022,"001","100","0140","046",0,0,0,5,0,0,0,0,0,0,0,0,0,0,0,0,0,0,0,0,{"$f":"_xlfn.XLOOKUP(F15549,'Object Codes'!$A$18:$A$510,'Object Codes'!$H$18:$H$510)","v":"PS - Additional Gross"},{"$f":"_xlfn.XLOOKUP(F15549,'Object Codes'!$A$18:$A$510,'Object Codes'!$G$18:$G$510)","v":"A"},{"$f":"_xlfn.XLOOKUP(A15549,Agencies!$A$9:$A$146,Agencies!$B$9:$B$146)","v":"Social Services"},{"$f":"IF(_xlfn.XLOOKUP(A15549,Agencies!A:A,Agencies!D:D)=\"Y\",IF(_xlfn.XLOOKUP(F15549,'Object Codes'!A:A,'Object Codes'!I:I)=\"Y\",\"Y\",\"N\"),\"N\")","v":"Y"},{"$f":"VLOOKUP(F15549,'Object Codes'!$A:$C,3,0)","v":"Terminal Leave"},{"$f":"VLOOKUP(A15549,Agencies!A:C,3,0)","v":"Dept. of Homeless Services"},0]
["071",2022,"001","100","0150","X46",0,0,0,5,0,0,0,0,0,0,0,0,0,0,0,0,0,0,0,0,{"$f":"_xlfn.XLOOKUP(F15593,'Object Codes'!$A$18:$A$510,'Object Codes'!$H$18:$H$510)","v":"PS - Additional Gross"},{"$f":"_xlfn.XLOOKUP(F15593,'Object Codes'!$A$18:$A$510,'Object Codes'!$G$18:$G$510)","v":"A"},{"$f":"_xlfn.XLOOKUP(A15593,Agencies!$A$9:$A$146,Agencies!$B$9:$B$146)","v":"Social Services"},{"$f":"IF(_xlfn.XLOOKUP(A15593,Agencies!A:A,Agencies!D:D)=\"Y\",IF(_xlfn.XLOOKUP(F15593,'Object Codes'!A:A,'Object Codes'!I:I)=\"Y\",\"Y\",\"N\"),\"N\")","v":"Y"},{"$f":"VLOOKUP(F15593,'Object Codes'!$A:$C,3,0)","v":"PY TERMINAL LEAVE"},{"$f":"VLOOKUP(A15593,Agencies!A:C,3,0)","v":"Dept. of Homeless Services"},0]
["071",2022,"001","100","0316","064",0,0,0,4000,4000,0,0,0,0,0,4500,0,4500,4500,-500,4500,-500,4500,4500,-500,{"$f":"_xlfn.XLOOKUP(F15627,'Object Codes'!$A$18:$A$510,'Object Codes'!$H$18:$H$510)","v":"PS - Other"},{"$f":"_xlfn.XLOOKUP(F15627,'Object Codes'!$A$18:$A$510,'Object Codes'!$G$18:$G$510)","v":"A"},{"$f":"_xlfn.XLOOKUP(A15627,Agencies!$A$9:$A$146,Agencies!$B$9:$B$146)","v":"Social Services"},{"$f":"IF(_xlfn.XLOOKUP(A15627,Agencies!A:A,Agencies!D:D)=\"Y\",IF(_xlfn.XLOOKUP(F15627,'Object Codes'!A:A,'Object Codes'!I:I)=\"Y\",\"Y\",\"N\"),\"N\")","v":"Y"},{"$f":"VLOOKUP(F15627,'Object Codes'!$A:$C,3,0)","v":"Allowance for Uniforms"},{"$f":"VLOOKUP(A15627,Agencies!A:C,3,0)","v":"Dept. of Homeless Services"},12.328767123287671]
["071",2022,"001","100","0401","043",0,0,0,32000,32000,0,0,0,0,0,15163.46,35714,50877.46,50877.46,-18877.46,50877.46,-18877.46,50877.46,50877.46,-18877.46,{"$f":"_xlfn.XLOOKUP(F15698,'Object Codes'!$A$18:$A$510,'Object Codes'!$H$18:$H$510)","v":"PS - Additional Gross"},{"$f":"_xlfn.XLOOKUP(F15698,'Object Codes'!$A$18:$A$510,'Object Codes'!$G$18:$G$510)","v":"A"},{"$f":"_xlfn.XLOOKUP(A15698,Agencies!$A$9:$A$146,Agencies!$B$9:$B$146)","v":"Social Services"},{"$f":"IF(_xlfn.XLOOKUP(A15698,Agencies!A:A,Agencies!D:D)=\"Y\",IF(_xlfn.XLOOKUP(F15698,'Object Codes'!A:A,'Object Codes'!I:I)=\"Y\",\"Y\",\"N\"),\"N\")","v":"Y"},{"$f":"VLOOKUP(F15698,'Object Codes'!$A:$C,3,0)","v":"Shift Differential"},{"$f":"VLOOKUP(A15698,Agencies!A:C,3,0)","v":"Dept. of Homeless Services"},139.39030136986301]
["071",2022,"001","100","0403","064",0,0,0,2005,2005,0,0,0,0,0,10458,0,10458,10458,-8453,10458,-8453,10458,10458,-8453,{"$f":"_xlfn.XLOOKUP(F15736,'Object Codes'!$A$18:$A$510,'Object Codes'!$H$18:$H$510)","v":"PS - Other"},{"$f":"_xlfn.XLOOKUP(F15736,'Object Codes'!$A$18:$A$510,'Object Codes'!$G$18:$G$510)","v":"A"},{"$f":"_xlfn.XLOOKUP(A15736,Agencies!$A$9:$A$146,Agencies!$B$9:$B$146)","v":"Social Services"},{"$f":"IF(_xlfn.XLOOKUP(A15736,Agencies!A:A,Agencies!D:D)=\"Y\",IF(_xlfn.XLOOKUP(F15736,'Object Codes'!A:A,'Object Codes'!I:I)=\"Y\",\"Y\",\"N\"),\"N\")","v":"Y"},{"$f":"VLOOKUP(F15736,'Object Codes'!$A:$C,3,0)","v":"Allowance for Uniforms"},{"$f":"VLOOKUP(A15736,Agencies!A:C,3,0)","v":"Dept. of Homeless Services"},28.652054794520549]
["071",2022,"001","100","0406","001",0,50,112,4502691,6002952,0,0,0,0,0,5624677.46,0,5624677.46,5624677.46,378274.54,5624677.46,378274.54,5624677.46,5624677.46,378274.54,{"$f":"_xlfn.XLOOKUP(F15770,'Object Codes'!$A$18:$A$510,'Object Codes'!$H$18:$H$510)","v":"PS - Regular"},{"$f":"_xlfn.XLOOKUP(F15770,'Object Codes'!$A$18:$A$510,'Object Codes'!$G$18:$G$510)","v":"C"},{"$f":"_xlfn.XLOOKUP(A15770,Agencies!$A$9:$A$146,Agencies!$B$9:$B$146)","v":"Social Services"},{"$f":"IF(_xlfn.XLOOKUP(A15770,Agencies!A:A,Agencies!D:D)=\"Y\",IF(_xlfn.XLOOKUP(F15770,'Object Codes'!A:A,'Object Codes'!I:I)=\"Y\",\"Y\",\"N\"),\"N\")","v":"Y"},{"$f":"VLOOKUP(F15770,'Object Codes'!$A:$C,3,0)","v":"Full Year Positions"},{"$f":"VLOOKUP(A15770,Agencies!A:C,3,0)","v":"Dept. of Homeless Services"},15410.075232876712]
["071",2022,"001","100","0410","041",0,0,0,0,0,0,0,0,0,0,10377.58,0,10377.58,10377.58,-10377.58,10377.58,-10377.58,10377.58,10377.58,-10377.58,{"$f":"_xlfn.XLOOKUP(F15813,'Object Codes'!$A$18:$A$510,'Object Codes'!$H$18:$H$510)","v":"PS - Additional Gross"},{"$f":"_xlfn.XLOOKUP(F15813,'Object Codes'!$A$18:$A$510,'Object Codes'!$G$18:$G$510)","v":"A"},{"$f":"_xlfn.XLOOKUP(A15813,Agencies!$A$9:$A$146,Agencies!$B$9:$B$146)","v":"Social Services"},{"$f":"IF(_xlfn.XLOOKUP(A15813,Agencies!A:A,Agencies!D:D)=\"Y\",IF(_xlfn.XLOOKUP(F15813,'Object Codes'!A:A,'Object Codes'!I:I)=\"Y\",\"Y\",\"N\"),\"N\")","v":"Y"},{"$f":"VLOOKUP(F15813,'Object Codes'!$A:$C,3,0)","v":"Assignment Differential"},{"$f":"VLOOKUP(A15813,Agencies!A:C,3,0)","v":"Dept. of Homeless Services"},28.431726027397261]
["071",2022,"001","100","0421","047",0,0,0,61428,0,0,0,0,0,0,40840.6,0,40840.6,40840.6,-40840.6,40840.6,-40840.6,40840.6,40840.6,-40840.6,{"$f":"_xlfn.XLOOKUP(F15879,'Object Codes'!$A$18:$A$510,'Object Codes'!$H$18:$H$510)","v":"PS - Additional Gross"},{"$f":"_xlfn.XLOOKUP(F15879,'Object Codes'!$A$18:$A$510,'Object Codes'!$G$18:$G$510)","v":"C"},{"$f":"_xlfn.XLOOKUP(A15879,Agencies!$A$9:$A$146,Agencies!$B$9:$B$146)","v":"Social Services"},{"$f":"IF(_xlfn.XLOOKUP(A15879,Agencies!A:A,Agencies!D:D)=\"Y\",IF(_xlfn.XLOOKUP(F15879,'Object Codes'!A:A,'Object Codes'!I:I)=\"Y\",\"Y\",\"N\"),\"N\")","v":"Y"},{"$f":"VLOOKUP(F15879,'Object Codes'!$A:$C,3,0)","v":"Overtime"},{"$f":"VLOOKUP(A15879,Agencies!A:C,3,0)","v":"Dept. of Homeless Services"},111.89205479452055]
["071",2022,"001","100","0424","X45",0,0,0,12,12,0,0,0,0,0,30.48,0,30.48,30.48,-18.48,30.48,-18.48,30.48,30.48,-18.48,{"$f":"_xlfn.XLOOKUP(F15913,'Object Codes'!$A$18:$A$510,'Object Codes'!$H$18:$H$510)","v":"PS - Additional Gross"},{"$f":"_xlfn.XLOOKUP(F15913,'Object Codes'!$A$18:$A$510,'Object Codes'!$G$18:$G$510)","v":"A"},{"$f":"_xlfn.XLOOKUP(A15913,Agencies!$A$9:$A$146,Agencies!$B$9:$B$146)","v":"Social Services"},{"$f":"IF(_xlfn.XLOOKUP(A15913,Agencies!A:A,Agencies!D:D)=\"Y\",IF(_xlfn.XLOOKUP(F15913,'Object Codes'!A:A,'Object Codes'!I:I)=\"Y\",\"Y\",\"N\"),\"N\")","v":"Y"},{"$f":"VLOOKUP(F15913,'Object Codes'!$A:$C,3,0)","v":"PY HOLIDAY PAY"},{"$f":"VLOOKUP(A15913,Agencies!A:C,3,0)","v":"Dept. of Homeless Services"},8.3506849315068493E-2]
["071",2022,"001","100","0468","047",0,0,0,51946,192846,0,0,0,0,0,229779.95,0,229779.95,229779.95,-36933.949999999997,229779.95,-36933.949999999997,229779.95,229779.95,-36933.949999999997,{"$f":"_xlfn.XLOOKUP(F15962,'Object Codes'!$A$18:$A$510,'Object Codes'!$H$18:$H$510)","v":"PS - Additional Gross"},{"$f":"_xlfn.XLOOKUP(F15962,'Object Codes'!$A$18:$A$510,'Object Codes'!$G$18:$G$510)","v":"C"},{"$f":"_xlfn.XLOOKUP(A15962,Agencies!$A$9:$A$146,Agencies!$B$9:$B$146)","v":"Social Services"},{"$f":"IF(_xlfn.XLOOKUP(A15962,Agencies!A:A,Agencies!D:D)=\"Y\",IF(_xlfn.XLOOKUP(F15962,'Object Codes'!A:A,'Object Codes'!I:I)=\"Y\",\"Y\",\"N\"),\"N\")","v":"Y"},{"$f":"VLOOKUP(F15962,'Object Codes'!$A:$C,3,0)","v":"Overtime"},{"$f":"VLOOKUP(A15962,Agencies!A:C,3,0)","v":"Dept. of Homeless Services"},629.53410958904112]
["071",2022,"001","100","0507","X43",0,0,0,0,0,0,0,0,0,0,37.04,0,37.04,37.04,-37.04,37.04,-37.04,37.04,37.04,-37.04,{"$f":"_xlfn.XLOOKUP(F16022,'Object Codes'!$A$18:$A$510,'Object Codes'!$H$18:$H$510)","v":"PS - Additional Gross"},{"$f":"_xlfn.XLOOKUP(F16022,'Object Codes'!$A$18:$A$510,'Object Codes'!$G$18:$G$510)","v":"A"},{"$f":"_xlfn.XLOOKUP(A16022,Agencies!$A$9:$A$146,Agencies!$B$9:$B$146)","v":"Social Services"},{"$f":"IF(_xlfn.XLOOKUP(A16022,Agencies!A:A,Agencies!D:D)=\"Y\",IF(_xlfn.XLOOKUP(F16022,'Object Codes'!A:A,'Object Codes'!I:I)=\"Y\",\"Y\",\"N\"),\"N\")","v":"Y"},{"$f":"VLOOKUP(F16022,'Object Codes'!$A:$C,3,0)","v":"PY SHIFT DIFFERENTIAL"},{"$f":"VLOOKUP(A16022,Agencies!A:C,3,0)","v":"Dept. of Homeless Services"},0.10147945205479451]
["071",2022,"001","100","0515","041",0,0,0,0,0,0,0,0,0,0,7.57,0,7.57,7.57,-7.57,7.57,-7.57,7.57,7.57,-7.57,{"$f":"_xlfn.XLOOKUP(F16056,'Object Codes'!$A$18:$A$510,'Object Codes'!$H$18:$H$510)","v":"PS - Additional Gross"},{"$f":"_xlfn.XLOOKUP(F16056,'Object Codes'!$A$18:$A$510,'Object Codes'!$G$18:$G$510)","v":"A"},{"$f":"_xlfn.XLOOKUP(A16056,Agencies!$A$9:$A$146,Agencies!$B$9:$B$146)","v":"Social Services"},{"$f":"IF(_xlfn.XLOOKUP(A16056,Agencies!A:A,Agencies!D:D)=\"Y\",IF(_xlfn.XLOOKUP(F16056,'Object Codes'!A:A,'Object Codes'!I:I)=\"Y\",\"Y\",\"N\"),\"N\")","v":"Y"},{"$f":"VLOOKUP(F16056,'Object Codes'!$A:$C,3,0)","v":"Assignment Differential"},{"$f":"VLOOKUP(A16056,Agencies!A:C,3,0)","v":"Dept. of Homeless Services"},2.0739726027397262E-2]
["071",2022,"001","100","0521","064",0,0,0,0,0,0,0,0,0,0,1500,0,1500,1500,-1500,1500,-1500,1500,1500,-1500,{"$f":"_xlfn.XLOOKUP(F16111,'Object Codes'!$A$18:$A$510,'Object Codes'!$H$18:$H$510)","v":"PS - Other"},{"$f":"_xlfn.XLOOKUP(F16111,'Object Codes'!$A$18:$A$510,'Object Codes'!$G$18:$G$510)","v":"A"},{"$f":"_xlfn.XLOOKUP(A16111,Agencies!$A$9:$A$146,Agencies!$B$9:$B$146)","v":"Social Services"},{"$f":"IF(_xlfn.XLOOKUP(A16111,Agencies!A:A,Agencies!D:D)=\"Y\",IF(_xlfn.XLOOKUP(F16111,'Object Codes'!A:A,'Object Codes'!I:I)=\"Y\",\"Y\",\"N\"),\"N\")","v":"Y"},{"$f":"VLOOKUP(F16111,'Object Codes'!$A:$C,3,0)","v":"Allowance for Uniforms"},{"$f":"VLOOKUP(A16111,Agencies!A:C,3,0)","v":"Dept. of Homeless Services"},4.1095890410958908]
["071",2022,"001","100","1123","001",0,0,17,55325,973511,0,0,0,0,0,821256.89,0,821256.89,821256.89,152254.10999999999,821256.89,152254.10999999999,821256.89,821256.89,152254.10999999999,{"$f":"_xlfn.XLOOKUP(F16165,'Object Codes'!$A$18:$A$510,'Object Codes'!$H$18:$H$510)","v":"PS - Regular"},{"$f":"_xlfn.XLOOKUP(F16165,'Object Codes'!$A$18:$A$510,'Object Codes'!$G$18:$G$510)","v":"C"},{"$f":"_xlfn.XLOOKUP(A16165,Agencies!$A$9:$A$146,Agencies!$B$9:$B$146)","v":"Social Services"},{"$f":"IF(_xlfn.XLOOKUP(A16165,Agencies!A:A,Agencies!D:D)=\"Y\",IF(_xlfn.XLOOKUP(F16165,'Object Codes'!A:A,'Object Codes'!I:I)=\"Y\",\"Y\",\"N\"),\"N\")","v":"Y"},{"$f":"VLOOKUP(F16165,'Object Codes'!$A:$C,3,0)","v":"Full Year Positions"},{"$f":"VLOOKUP(A16165,Agencies!A:C,3,0)","v":"Dept. of Homeless Services"},2250.0188767123286]
["071",2022,"001","100","1131","X43",0,0,0,0,0,0,0,0,0,0,20.56,0,20.56,20.56,-20.56,20.56,-20.56,20.56,20.56,-20.56,{"$f":"_xlfn.XLOOKUP(F16194,'Object Codes'!$A$18:$A$510,'Object Codes'!$H$18:$H$510)","v":"PS - Additional Gross"},{"$f":"_xlfn.XLOOKUP(F16194,'Object Codes'!$A$18:$A$510,'Object Codes'!$G$18:$G$510)","v":"A"},{"$f":"_xlfn.XLOOKUP(A16194,Agencies!$A$9:$A$146,Agencies!$B$9:$B$146)","v":"Social Services"},{"$f":"IF(_xlfn.XLOOKUP(A16194,Agencies!A:A,Agencies!D:D)=\"Y\",IF(_xlfn.XLOOKUP(F16194,'Object Codes'!A:A,'Object Codes'!I:I)=\"Y\",\"Y\",\"N\"),\"N\")","v":"Y"},{"$f":"VLOOKUP(F16194,'Object Codes'!$A:$C,3,0)","v":"PY SHIFT DIFFERENTIAL"},{"$f":"VLOOKUP(A16194,Agencies!A:C,3,0)","v":"Dept. of Homeless Services"},5.6328767123287667E-2]
["071",2022,"001","101","0112","X42",0,0,0,0,0,0,0,0,0,0,2048.83,0,2048.83,2048.83,-2048.83,2048.83,-2048.83,2048.83,2048.83,-2048.83,{"$f":"_xlfn.XLOOKUP(F16228,'Object Codes'!$A$18:$A$510,'Object Codes'!$H$18:$H$510)","v":"PS - Additional Gross"},{"$f":"_xlfn.XLOOKUP(F16228,'Object Codes'!$A$18:$A$510,'Object Codes'!$G$18:$G$510)","v":"A"},{"$f":"_xlfn.XLOOKUP(A16228,Agencies!$A$9:$A$146,Agencies!$B$9:$B$146)","v":"Social Services"},{"$f":"IF(_xlfn.XLOOKUP(A16228,Agencies!A:A,Agencies!D:D)=\"Y\",IF(_xlfn.XLOOKUP(F16228,'Object Codes'!A:A,'Object Codes'!I:I)=\"Y\",\"Y\",\"N\"),\"N\")","v":"Y"},{"$f":"VLOOKUP(F16228,'Object Codes'!$A:$C,3,0)","v":"PY LONGEVITY DIFFERENTIAL"},{"$f":"VLOOKUP(A16228,Agencies!A:C,3,0)","v":"Dept. of Homeless Services"},5.6132328767123285]
["071",2022,"001","101","0122","042",0,0,0,0,0,0,0,0,0,0,11415.13,0,11415.13,11415.13,-11415.13,11415.13,-11415.13,11415.13,11415.13,-11415.13,{"$f":"_xlfn.XLOOKUP(F16306,'Object Codes'!$A$18:$A$510,'Object Codes'!$H$18:$H$510)","v":"PS - Additional Gross"},{"$f":"_xlfn.XLOOKUP(F16306,'Object Codes'!$A$18:$A$510,'Object Codes'!$G$18:$G$510)","v":"A"},{"$f":"_xlfn.XLOOKUP(A16306,Agencies!$A$9:$A$146,Agencies!$B$9:$B$146)","v":"Social Services"},{"$f":"IF(_xlfn.XLOOKUP(A16306,Agencies!A:A,Agencies!D:D)=\"Y\",IF(_xlfn.XLOOKUP(F16306,'Object Codes'!A:A,'Object Codes'!I:I)=\"Y\",\"Y\",\"N\"),\"N\")","v":"Y"},{"$f":"VLOOKUP(F16306,'Object Codes'!$A:$C,3,0)","v":"Longevity Differential"},{"$f":"VLOOKUP(A16306,Agencies!A:C,3,0)","v":"Dept. of Homeless Services"},31.274328767123286]
["071",2022,"001","102","0444","X47",0,0,0,0,0,0,0,0,0,0,5028.7700000000004,0,5028.7700000000004,5028.7700000000004,-5028.7700000000004,5028.7700000000004,-5028.7700000000004,5028.7700000000004,5028.7700000000004,-5028.7700000000004,{"$f":"_xlfn.XLOOKUP(F16337,'Object Codes'!$A$18:$A$510,'Object Codes'!$H$18:$H$510)","v":"PS - Additional Gross"},{"$f":"_xlfn.XLOOKUP(F16337,'Object Codes'!$A$18:$A$510,'Object Codes'!$G$18:$G$510)","v":"A"},{"$f":"_xlfn.XLOOKUP(A16337,Agencies!$A$9:$A$146,Agencies!$B$9:$B$146)","v":"Social Services"},{"$f":"IF(_xlfn.XLOOKUP(A16337,Agencies!A:A,Agencies!D:D)=\"Y\",IF(_xlfn.XLOOKUP(F16337,'Object Codes'!A:A,'Object Codes'!I:I)=\"Y\",\"Y\",\"N\"),\"N\")","v":"Y"},{"$f":"VLOOKUP(F16337,'Object Codes'!$A:$C,3,0)","v":"PY OVERTIME"},{"$f":"VLOOKUP(A16337,Agencies!A:C,3,0)","v":"Dept. of Homeless Services"},13.777452054794521]
["071",2022,"001","200","8910","686",0,0,0,0,105202,0,0,0,0,0,35357.65,69844.350000000006,105202,105202,0,105202,0,105202,105202,0,{"$f":"_xlfn.XLOOKUP(F16371,'Object Codes'!$A$18:$A$510,'Object Codes'!$H$18:$H$510)","v":"Contractual Services"},{"$f":"_xlfn.XLOOKUP(F16371,'Object Codes'!$A$18:$A$510,'Object Codes'!$G$18:$G$510)","v":0},{"$f":"_xlfn.XLOOKUP(A16371,Agencies!$A$9:$A$146,Agencies!$B$9:$B$146)","v":"Social Services"},{"$f":"IF(_xlfn.XLOOKUP(A16371,Agencies!A:A,Agencies!D:D)=\"Y\",IF(_xlfn.XLOOKUP(F16371,'Object Codes'!A:A,'Object Codes'!I:I)=\"Y\",\"Y\",\"N\"),\"N\")","v":"Y"},{"$f":"VLOOKUP(F16371,'Object Codes'!$A:$C,3,0)","v":"Professional Services - Other - Contractual"},{"$f":"VLOOKUP(A16371,Agencies!A:C,3,0)","v":"Dept. of Homeless Services"},288.2246575342466]
["071",2022,"001","200","9408","659",0,0,0,770000,0,0,0,0,0,0,0,0,0,0,0,0,0,0,0,0,{"$f":"_xlfn.XLOOKUP(F16421,'Object Codes'!$A$18:$A$510,'Object Codes'!$H$18:$H$510)","v":"Contractual Services"},{"$f":"_xlfn.XLOOKUP(F16421,'Object Codes'!$A$18:$A$510,'Object Codes'!$G$18:$G$510)","v":0},{"$f":"_xlfn.XLOOKUP(A16421,Agencies!$A$9:$A$146,Agencies!$B$9:$B$146)","v":"Social Services"},{"$f":"IF(_xlfn.XLOOKUP(A16421,Agencies!A:A,Agencies!D:D)=\"Y\",IF(_xlfn.XLOOKUP(F16421,'Object Codes'!A:A,'Object Codes'!I:I)=\"Y\",\"Y\",\"N\"),\"N\")","v":"Y"},{"$f":"VLOOKUP(F16421,'Object Codes'!$A:$C,3,0)","v":"Homeless Individual Services - Contractual"},{"$f":"VLOOKUP(A16421,Agencies!A:C,3,0)","v":"Dept. of Homeless Services"},0]
["071",2022,"001","200","9540","117",0,0,0,500,0,0,0,0,0,0,0,0,0,0,0,0,0,0,0,0,{"$f":"_xlfn.XLOOKUP(F16480,'Object Codes'!$A$18:$A$510,'Object Codes'!$H$18:$H$510)","v":"Supplies & Materials"},{"$f":"_xlfn.XLOOKUP(F16480,'Object Codes'!$A$18:$A$510,'Object Codes'!$G$18:$G$510)","v":"A"},{"$f":"_xlfn.XLOOKUP(A16480,Agencies!$A$9:$A$146,Agencies!$B$9:$B$146)","v":"Social Services"},{"$f":"IF(_xlfn.XLOOKUP(A16480,Agencies!A:A,Agencies!D:D)=\"Y\",IF(_xlfn.XLOOKUP(F16480,'Object Codes'!A:A,'Object Codes'!I:I)=\"Y\",\"Y\",\"N\"),\"N\")","v":"Y"},{"$f":"VLOOKUP(F16480,'Object Codes'!$A:$C,3,0)","v":"Postage"},{"$f":"VLOOKUP(A16480,Agencies!A:C,3,0)","v":"Dept. of Homeless Services"},0]
["071",2022,"001","200","9550","315",0,0,0,2600,0,0,0,0,0,0,0,0,0,0,0,0,0,0,0,0,{"$f":"_xlfn.XLOOKUP(F16514,'Object Codes'!$A$18:$A$510,'Object Codes'!$H$18:$H$510)","v":"Equipment"},{"$f":"_xlfn.XLOOKUP(F16514,'Object Codes'!$A$18:$A$510,'Object Codes'!$G$18:$G$510)","v":"A"},{"$f":"_xlfn.XLOOKUP(A16514,Agencies!$A$9:$A$146,Agencies!$B$9:$B$146)","v":"Social Services"},{"$f":"IF(_xlfn.XLOOKUP(A16514,Agencies!A:A,Agencies!D:D)=\"Y\",IF(_xlfn.XLOOKUP(F16514,'Object Codes'!A:A,'Object Codes'!I:I)=\"Y\",\"Y\",\"N\"),\"N\")","v":"Y"},{"$f":"VLOOKUP(F16514,'Object Codes'!$A:$C,3,0)","v":"Office Equipment"},{"$f":"VLOOKUP(A16514,Agencies!A:C,3,0)","v":"Dept. of Homeless Services"},0]
["071",2022,"001","200","9590","615",0,0,0,2000,0,0,0,0,0,0,0,0,0,0,0,0,0,0,0,0,{"$f":"_xlfn.XLOOKUP(F16570,'Object Codes'!$A$18:$A$510,'Object Codes'!$H$18:$H$510)","v":"Contractual Services"},{"$f":"_xlfn.XLOOKUP(F16570,'Object Codes'!$A$18:$A$510,'Object Codes'!$G$18:$G$510)","v":0},{"$f":"_xlfn.XLOOKUP(A16570,Agencies!$A$9:$A$146,Agencies!$B$9:$B$146)","v":"Social Services"},{"$f":"IF(_xlfn.XLOOKUP(A16570,Agencies!A:A,Agencies!D:D)=\"Y\",IF(_xlfn.XLOOKUP(F16570,'Object Codes'!A:A,'Object Codes'!I:I)=\"Y\",\"Y\",\"N\"),\"N\")","v":"Y"},{"$f":"VLOOKUP(F16570,'Object Codes'!$A:$C,3,0)","v":"Printing Services - Contractual"},{"$f":"VLOOKUP(A16570,Agencies!A:C,3,0)","v":"Dept. of Homeless Services"},0]
["071",2022,"001","201","9105","412",0,0,0,237490,237490,0,0,0,0,0,0,49861.45,49861.45,49861.45,187628.55,49861.45,187628.55,49861.45,49861.45,187628.55,{"$f":"_xlfn.XLOOKUP(F16623,'Object Codes'!$A$18:$A$510,'Object Codes'!$H$18:$H$510)","v":"Other Services and Charges - General"},{"$f":"_xlfn.XLOOKUP(F16623,'Object Codes'!$A$18:$A$510,'Object Codes'!$G$18:$G$510)","v":0},{"$f":"_xlfn.XLOOKUP(A16623,Agencies!$A$9:$A$146,Agencies!$B$9:$B$146)","v":"Social Services"},{"$f":"IF(_xlfn.XLOOKUP(A16623,Agencies!A:A,Agencies!D:D)=\"Y\",IF(_xlfn.XLOOKUP(F16623,'Object Codes'!A:A,'Object Codes'!I:I)=\"Y\",\"Y\",\"N\"),\"N\")","v":"Y"},{"$f":"VLOOKUP(F16623,'Object Codes'!$A:$C,3,0)","v":"Rentals - Miscellaneous Equipment"},{"$f":"VLOOKUP(A16623,Agencies!A:C,3,0)","v":"Dept. of Homeless Services"},136.60671232876712]
["071",2022,"001","201","9175","706",0,0,0,0,94,0,0,0,0,0,93.4,0,93.4,93.4,0.6,93.4,0.6,93.4,93.4,0.6,{"$f":"_xlfn.XLOOKUP(F16657,'Object Codes'!$A$18:$A$510,'Object Codes'!$H$18:$H$510)","v":"Fixed Charges"},{"$f":"_xlfn.XLOOKUP(F16657,'Object Codes'!$A$18:$A$510,'Object Codes'!$G$18:$G$510)","v":0},{"$f":"_xlfn.XLOOKUP(A16657,Agencies!$A$9:$A$146,Agencies!$B$9:$B$146)","v":"Social Services"},{"$f":"IF(_xlfn.XLOOKUP(A16657,Agencies!A:A,Agencies!D:D)=\"Y\",IF(_xlfn.XLOOKUP(F16657,'Object Codes'!A:A,'Object Codes'!I:I)=\"Y\",\"Y\",\"N\"),\"N\")","v":"Y"},{"$f":"VLOOKUP(F16657,'Object Codes'!$A:$C,3,0)","v":"Prompt Payments Interest"},{"$f":"VLOOKUP(A16657,Agencies!A:C,3,0)","v":"Dept. of Homeless Services"},0.25589041095890414]
["071",2022,"001","202","9457","100",0,0,0,300000,6634,0,0,0,0,0,6633.9,0,6633.9,6633.9,0.1,6633.9,0.1,6633.9,6633.9,0.1,{"$f":"_xlfn.XLOOKUP(F16719,'Object Codes'!$A$18:$A$510,'Object Codes'!$H$18:$H$510)","v":"Supplies & Materials"},{"$f":"_xlfn.XLOOKUP(F16719,'Object Codes'!$A$18:$A$510,'Object Codes'!$G$18:$G$510)","v":"A"},{"$f":"_xlfn.XLOOKUP(A16719,Agencies!$A$9:$A$146,Agencies!$B$9:$B$146)","v":"Social Services"},{"$f":"IF(_xlfn.XLOOKUP(A16719,Agencies!A:A,Agencies!D:D)=\"Y\",IF(_xlfn.XLOOKUP(F16719,'Object Codes'!A:A,'Object Codes'!I:I)=\"Y\",\"Y\",\"N\"),\"N\")","v":"Y"},{"$f":"VLOOKUP(F16719,'Object Codes'!$A:$C,3,0)","v":"Supplies and Materials - General"},{"$f":"VLOOKUP(A16719,Agencies!A:C,3,0)","v":"Dept. of Homeless Services"},18.175068493150683]
["072",2022,"001","001","0202","004",0,12,12,1215571,1223850,0,0,0,0,0,734873.45,0,734873.45,734873.45,488976.55,734873.45,488976.55,734873.45,734873.45,488976.55,{"$f":"_xlfn.XLOOKUP(F16766,'Object Codes'!$A$18:$A$510,'Object Codes'!$H$18:$H$510)","v":"PS - Regular"},{"$f":"_xlfn.XLOOKUP(F16766,'Object Codes'!$A$18:$A$510,'Object Codes'!$G$18:$G$510)","v":"U"},{"$f":"_xlfn.XLOOKUP(A16766,Agencies!$A$9:$A$146,Agencies!$B$9:$B$146)","v":"Public Safety & Judicial"},{"$f":"IF(_xlfn.XLOOKUP(A16766,Agencies!A:A,Agencies!D:D)=\"Y\",IF(_xlfn.XLOOKUP(F16766,'Object Codes'!A:A,'Object Codes'!I:I)=\"Y\",\"Y\",\"N\"),\"N\")","v":"Y"},{"$f":"VLOOKUP(F16766,'Object Codes'!$A:$C,3,0)","v":"Full-Time Uniformed Personnel"},{"$f":"VLOOKUP(A16766,Agencies!A:C,3,0)","v":"Department of Correction"},2013.351917808219]
["072",2022,"001","001","0301","042",0,0,0,0,0,0,0,0,0,0,55818.11,0,55818.11,55818.11,-55818.11,55818.11,-55818.11,55818.11,55818.11,-55818.11,{"$f":"_xlfn.XLOOKUP(F16795,'Object Codes'!$A$18:$A$510,'Object Codes'!$H$18:$H$510)","v":"PS - Additional Gross"},{"$f":"_xlfn.XLOOKUP(F16795,'Object Codes'!$A$18:$A$510,'Object Codes'!$G$18:$G$510)","v":"A"},{"$f":"_xlfn.XLOOKUP(A16795,Agencies!$A$9:$A$146,Agencies!$B$9:$B$146)","v":"Public Safety & Judicial"},{"$f":"IF(_xlfn.XLOOKUP(A16795,Agencies!A:A,Agencies!D:D)=\"Y\",IF(_xlfn.XLOOKUP(F16795,'Object Codes'!A:A,'Object Codes'!I:I)=\"Y\",\"Y\",\"N\"),\"N\")","v":"Y"},{"$f":"VLOOKUP(F16795,'Object Codes'!$A:$C,3,0)","v":"Longevity Differential"},{"$f":"VLOOKUP(A16795,Agencies!A:C,3,0)","v":"Department of Correction"},152.92632876712329]
["072",2022,"001","001","0507","064",0,0,0,0,0,0,0,0,0,0,11380,0,11380,11380,-11380,11380,-11380,11380,11380,-11380,{"$f":"_xlfn.XLOOKUP(F16868,'Object Codes'!$A$18:$A$510,'Object Codes'!$H$18:$H$510)","v":"PS - Other"},{"$f":"_xlfn.XLOOKUP(F16868,'Object Codes'!$A$18:$A$510,'Object Codes'!$G$18:$G$510)","v":"A"},{"$f":"_xlfn.XLOOKUP(A16868,Agencies!$A$9:$A$146,Agencies!$B$9:$B$146)","v":"Public Safety & Judicial"},{"$f":"IF(_xlfn.XLOOKUP(A16868,Agencies!A:A,Agencies!D:D)=\"Y\",IF(_xlfn.XLOOKUP(F16868,'Object Codes'!A:A,'Object Codes'!I:I)=\"Y\",\"Y\",\"N\"),\"N\")","v":"Y"},{"$f":"VLOOKUP(F16868,'Object Codes'!$A:$C,3,0)","v":"Allowance for Uniforms"},{"$f":"VLOOKUP(A16868,Agencies!A:C,3,0)","v":"Department of Correction"},31.17808219178082]
["072",2022,"001","001","0801","045",0,0,0,0,0,0,0,0,0,0,4799.28,0,4799.28,4799.28,-4799.28,4799.28,-4799.28,4799.28,4799.28,-4799.28,{"$f":"_xlfn.XLOOKUP(F16909,'Object Codes'!$A$18:$A$510,'Object Codes'!$H$18:$H$510)","v":"PS - Additional Gross"},{"$f":"_xlfn.XLOOKUP(F16909,'Object Codes'!$A$18:$A$510,'Object Codes'!$G$18:$G$510)","v":"A"},{"$f":"_xlfn.XLOOKUP(A16909,Agencies!$A$9:$A$146,Agencies!$B$9:$B$146)","v":"Public Safety & Judicial"},{"$f":"IF(_xlfn.XLOOKUP(A16909,Agencies!A:A,Agencies!D:D)=\"Y\",IF(_xlfn.XLOOKUP(F16909,'Object Codes'!A:A,'Object Codes'!I:I)=\"Y\",\"Y\",\"N\"),\"N\")","v":"Y"},{"$f":"VLOOKUP(F16909,'Object Codes'!$A:$C,3,0)","v":"Holiday Pay"},{"$f":"VLOOKUP(A16909,Agencies!A:C,3,0)","v":"Department of Correction"},13.148712328767122]
["072",2022,"001","002","1501","048",0,0,0,79846127,131846127,0,0,0,0,0,5144031.8600000003,0,5144031.8600000003,5144031.8600000003,126702095.14,5144031.8600000003,126702095.14,5144031.8600000003,5144031.8600000003,126702095.14,{"$f":"_xlfn.XLOOKUP(F16938,'Object Codes'!$A$18:$A$510,'Object Codes'!$H$18:$H$510)","v":"PS - Additional Gross"},{"$f":"_xlfn.XLOOKUP(F16938,'Object Codes'!$A$18:$A$510,'Object Codes'!$G$18:$G$510)","v":"U"},{"$f":"_xlfn.XLOOKUP(A16938,Agencies!$A$9:$A$146,Agencies!$B$9:$B$146)","v":"Public Safety & Judicial"},{"$f":"IF(_xlfn.XLOOKUP(A16938,Agencies!A:A,Agencies!D:D)=\"Y\",IF(_xlfn.XLOOKUP(F16938,'Object Codes'!A:A,'Object Codes'!I:I)=\"Y\",\"Y\",\"N\"),\"N\")","v":"Y"},{"$f":"VLOOKUP(F16938,'Object Codes'!$A:$C,3,0)","v":"Overtime-Uniformed Forces"},{"$f":"VLOOKUP(A16938,Agencies!A:C,3,0)","v":"Department of Correction"},14093.237972602741]
["072",2022,"001","002","1503","048",0,0,0,0,0,0,0,0,0,0,13030583.92,0,13030583.92,13030583.92,-13030583.92,13030583.92,-13030583.92,13030583.92,13030583.92,-13030583.92,{"$f":"_xlfn.XLOOKUP(F16971,'Object Codes'!$A$18:$A$510,'Object Codes'!$H$18:$H$510)","v":"PS - Additional Gross"},{"$f":"_xlfn.XLOOKUP(F16971,'Object Codes'!$A$18:$A$510,'Object Codes'!$G$18:$G$510)","v":"U"},{"$f":"_xlfn.XLOOKUP(A16971,Agencies!$A$9:$A$146,Agencies!$B$9:$B$146)","v":"Public Safety & Judicial"},{"$f":"IF(_xlfn.XLOOKUP(A16971,Agencies!A:A,Agencies!D:D)=\"Y\",IF(_xlfn.XLOOKUP(F16971,'Object Codes'!A:A,'Object Codes'!I:I)=\"Y\",\"Y\",\"N\"),\"N\")","v":"Y"},{"$f":"VLOOKUP(F16971,'Object Codes'!$A:$C,3,0)","v":"Overtime-Uniformed Forces"},{"$f":"VLOOKUP(A16971,Agencies!A:C,3,0)","v":"Department of Correction"},35700.229917808218]
["072",2022,"001","002","1600","043",0,0,0,0,0,0,0,0,0,0,50103.53,0,50103.53,50103.53,-50103.53,50103.53,-50103.53,50103.53,50103.53,-50103.53,{"$f":"_xlfn.XLOOKUP(F17047,'Object Codes'!$A$18:$A$510,'Object Codes'!$H$18:$H$510)","v":"PS - Additional Gross"},{"$f":"_xlfn.XLOOKUP(F17047,'Object Codes'!$A$18:$A$510,'Object Codes'!$G$18:$G$510)","v":"A"},{"$f":"_xlfn.XLOOKUP(A17047,Agencies!$A$9:$A$146,Agencies!$B$9:$B$146)","v":"Public Safety & Judicial"},{"$f":"IF(_xlfn.XLOOKUP(A17047,Agencies!A:A,Agencies!D:D)=\"Y\",IF(_xlfn.XLOOKUP(F17047,'Object Codes'!A:A,'Object Codes'!I:I)=\"Y\",\"Y\",\"N\"),\"N\")","v":"Y"},{"$f":"VLOOKUP(F17047,'Object Codes'!$A:$C,3,0)","v":"Shift Differential"},{"$f":"VLOOKUP(A17047,Agencies!A:C,3,0)","v":"Department of Correction"},137.26994520547944]
["072",2022,"001","002","2001","042",0,0,0,0,0,0,0,0,0,0,547649.75,0,547649.75,547649.75,-547649.75,547649.75,-547649.75,547649.75,547649.75,-547649.75,{"$f":"_xlfn.XLOOKUP(F17081,'Object Codes'!$A$18:$A$510,'Object Codes'!$H$18:$H$510)","v":"PS - Additional Gross"},{"$f":"_xlfn.XLOOKUP(F17081,'Object Codes'!$A$18:$A$510,'Object Codes'!$G$18:$G$510)","v":"A"},{"$f":"_xlfn.XLOOKUP(A17081,Agencies!$A$9:$A$146,Agencies!$B$9:$B$146)","v":"Public Safety & Judicial"},{"$f":"IF(_xlfn.XLOOKUP(A17081,Agencies!A:A,Agencies!D:D)=\"Y\",IF(_xlfn.XLOOKUP(F17081,'Object Codes'!A:A,'Object Codes'!I:I)=\"Y\",\"Y\",\"N\"),\"N\")","v":"Y"},{"$f":"VLOOKUP(F17081,'Object Codes'!$A:$C,3,0)","v":"Longevity Differential"},{"$f":"VLOOKUP(A17081,Agencies!A:C,3,0)","v":"Department of Correction"},1500.4102739726027]
["072",2022,"001","002","2431","042",0,0,0,0,0,0,0,0,0,0,1783964,0,1783964,1783964,-1783964,1783964,-1783964,1783964,1783964,-1783964,{"$f":"_xlfn.XLOOKUP(F17120,'Object Codes'!$A$18:$A$510,'Object Codes'!$H$18:$H$510)","v":"PS - Additional Gross"},{"$f":"_xlfn.XLOOKUP(F17120,'Object Codes'!$A$18:$A$510,'Object Codes'!$G$18:$G$510)","v":"A"},{"$f":"_xlfn.XLOOKUP(A17120,Agencies!$A$9:$A$146,Agencies!$B$9:$B$146)","v":"Public Safety & Judicial"},{"$f":"IF(_xlfn.XLOOKUP(A17120,Agencies!A:A,Agencies!D:D)=\"Y\",IF(_xlfn.XLOOKUP(F17120,'Object Codes'!A:A,'Object Codes'!I:I)=\"Y\",\"Y\",\"N\"),\"N\")","v":"Y"},{"$f":"VLOOKUP(F17120,'Object Codes'!$A:$C,3,0)","v":"Longevity Differential"},{"$f":"VLOOKUP(A17120,Agencies!A:C,3,0)","v":"Department of Correction"},4887.5726027397259]
["072",2022,"001","002","2621","095",0,0,0,0,0,0,0,71751.7,0,0,-71751.7,0,0,-71751.7,71751.7,-71751.7,71751.7,-71751.7,-71751.7,71751.7,{"$f":"_xlfn.XLOOKUP(F17190,'Object Codes'!$A$18:$A$510,'Object Codes'!$H$18:$H$510)","v":"PS - Additional Gross"},{"$f":"_xlfn.XLOOKUP(F17190,'Object Codes'!$A$18:$A$510,'Object Codes'!$G$18:$G$510)","v":"A"},{"$f":"_xlfn.XLOOKUP(A17190,Agencies!$A$9:$A$146,Agencies!$B$9:$B$146)","v":"Public Safety & Judicial"},{"$f":"IF(_xlfn.XLOOKUP(A17190,Agencies!A:A,Agencies!D:D)=\"Y\",IF(_xlfn.XLOOKUP(F17190,'Object Codes'!A:A,'Object Codes'!I:I)=\"Y\",\"Y\",\"N\"),\"N\")","v":"Y"},{"$f":"VLOOKUP(F17190,'Object Codes'!$A:$C,3,0)","v":"Payroll Refunds"},{"$f":"VLOOKUP(A17190,Agencies!A:C,3,0)","v":"Department of Correction"},0]
["072",2022,"001","002","2801","042",0,0,0,0,0,0,0,0,0,0,963631.05,0,963631.05,963631.05,-963631.05,963631.05,-963631.05,963631.05,963631.05,-963631.05,{"$f":"_xlfn.XLOOKUP(F17224,'Object Codes'!$A$18:$A$510,'Object Codes'!$H$18:$H$510)","v":"PS - Additional Gross"},{"$f":"_xlfn.XLOOKUP(F17224,'Object Codes'!$A$18:$A$510,'Object Codes'!$G$18:$G$510)","v":"A"},{"$f":"_xlfn.XLOOKUP(A17224,Agencies!$A$9:$A$146,Agencies!$B$9:$B$146)","v":"Public Safety & Judicial"},{"$f":"IF(_xlfn.XLOOKUP(A17224,Agencies!A:A,Agencies!D:D)=\"Y\",IF(_xlfn.XLOOKUP(F17224,'Object Codes'!A:A,'Object Codes'!I:I)=\"Y\",\"Y\",\"N\"),\"N\")","v":"Y"},{"$f":"VLOOKUP(F17224,'Object Codes'!$A:$C,3,0)","v":"Longevity Differential"},{"$f":"VLOOKUP(A17224,Agencies!A:C,3,0)","v":"Department of Correction"},2640.0850684931506]
["072",2022,"001","002","3101","057",0,0,0,0,9000,0,0,0,0,0,9000,0,9000,9000,0,9000,0,9000,9000,0,{"$f":"_xlfn.XLOOKUP(F17258,'Object Codes'!$A$18:$A$510,'Object Codes'!$H$18:$H$510)","v":"PS - Additional Gross"},{"$f":"_xlfn.XLOOKUP(F17258,'Object Codes'!$A$18:$A$510,'Object Codes'!$G$18:$G$510)","v":"A"},{"$f":"_xlfn.XLOOKUP(A17258,Agencies!$A$9:$A$146,Agencies!$B$9:$B$146)","v":"Public Safety & Judicial"},{"$f":"IF(_xlfn.XLOOKUP(A17258,Agencies!A:A,Agencies!D:D)=\"Y\",IF(_xlfn.XLOOKUP(F17258,'Object Codes'!A:A,'Object Codes'!I:I)=\"Y\",\"Y\",\"N\"),\"N\")","v":"Y"},{"$f":"VLOOKUP(F17258,'Object Codes'!$A:$C,3,0)","v":"Bonus Payments"},{"$f":"VLOOKUP(A17258,Agencies!A:C,3,0)","v":"Department of Correction"},24.657534246575342]
["072",2022,"001","002","5043","057",0,0,0,0,1000,0,0,0,0,0,1000,0,1000,1000,0,1000,0,1000,1000,0,{"$f":"_xlfn.XLOOKUP(F17327,'Object Codes'!$A$18:$A$510,'Object Codes'!$H$18:$H$510)","v":"PS - Additional Gross"},{"$f":"_xlfn.XLOOKUP(F17327,'Object Codes'!$A$18:$A$510,'Object Codes'!$G$18:$G$510)","v":"A"},{"$f":"_xlfn.XLOOKUP(A17327,Agencies!$A$9:$A$146,Agencies!$B$9:$B$146)","v":"Public Safety & Judicial"},{"$f":"IF(_xlfn.XLOOKUP(A17327,Agencies!A:A,Agencies!D:D)=\"Y\",IF(_xlfn.XLOOKUP(F17327,'Object Codes'!A:A,'Object Codes'!I:I)=\"Y\",\"Y\",\"N\"),\"N\")","v":"Y"},{"$f":"VLOOKUP(F17327,'Object Codes'!$A:$C,3,0)","v":"Bonus Payments"},{"$f":"VLOOKUP(A17327,Agencies!A:C,3,0)","v":"Department of Correction"},2.7397260273972601]
["072",2022,"001","003","0401","400",0,0,0,0,275000,0,0,0,0,0,258565,0,258565,258565,16435,258565,16435,258565,258565,16435,{"$f":"_xlfn.XLOOKUP(F17367,'Object Codes'!$A$18:$A$510,'Object Codes'!$H$18:$H$510)","v":"Other Services and Charges - General"},{"$f":"_xlfn.XLOOKUP(F17367,'Object Codes'!$A$18:$A$510,'Object Codes'!$G$18:$G$510)","v":0},{"$f":"_xlfn.XLOOKUP(A17367,Agencies!$A$9:$A$146,Agencies!$B$9:$B$146)","v":"Public Safety & Judicial"},{"$f":"IF(_xlfn.XLOOKUP(A17367,Agencies!A:A,Agencies!D:D)=\"Y\",IF(_xlfn.XLOOKUP(F17367,'Object Codes'!A:A,'Object Codes'!I:I)=\"Y\",\"Y\",\"N\"),\"N\")","v":"Y"},{"$f":"VLOOKUP(F17367,'Object Codes'!$A:$C,3,0)","v":"Other Services and Charges - General"},{"$f":"VLOOKUP(A17367,Agencies!A:C,3,0)","v":"Department of Correction"},708.39726027397262]
["072",2022,"001","003","0501","79D",0,0,0,0,120000,0,0,0,0,0,26292.03,0,26292.03,26292.03,93707.97,26292.03,93707.97,26292.03,26292.03,93707.97,{"$f":"_xlfn.XLOOKUP(F17396,'Object Codes'!$A$18:$A$510,'Object Codes'!$H$18:$H$510)","v":"Fixed Charges"},{"$f":"_xlfn.XLOOKUP(F17396,'Object Codes'!$A$18:$A$510,'Object Codes'!$G$18:$G$510)","v":0},{"$f":"_xlfn.XLOOKUP(A17396,Agencies!$A$9:$A$146,Agencies!$B$9:$B$146)","v":"Public Safety & Judicial"},{"$f":"IF(_xlfn.XLOOKUP(A17396,Agencies!A:A,Agencies!D:D)=\"Y\",IF(_xlfn.XLOOKUP(F17396,'Object Codes'!A:A,'Object Codes'!I:I)=\"Y\",\"Y\",\"N\"),\"N\")","v":"Y"},{"$f":"VLOOKUP(F17396,'Object Codes'!$A:$C,3,0)","v":"TRAINING CITY EMPLOYEES"},{"$f":"VLOOKUP(A17396,Agencies!A:C,3,0)","v":"Department of Correction"},72.032958904109591]
["072",2022,"001","003","1602","684",0,0,0,0,482176,0,0,0,0,0,516278.25,580,516858.25,516858.25,-34682.25,516858.25,-34682.25,516858.25,516858.25,-34682.25,{"$f":"_xlfn.XLOOKUP(F17476,'Object Codes'!$A$18:$A$510,'Object Codes'!$H$18:$H$510)","v":"Contractual Services"},{"$f":"_xlfn.XLOOKUP(F17476,'Object Codes'!$A$18:$A$510,'Object Codes'!$G$18:$G$510)","v":0},{"$f":"_xlfn.XLOOKUP(A17476,Agencies!$A$9:$A$146,Agencies!$B$9:$B$146)","v":"Public Safety & Judicial"},{"$f":"IF(_xlfn.XLOOKUP(A17476,Agencies!A:A,Agencies!D:D)=\"Y\",IF(_xlfn.XLOOKUP(F17476,'Object Codes'!A:A,'Object Codes'!I:I)=\"Y\",\"Y\",\"N\"),\"N\")","v":"Y"},{"$f":"VLOOKUP(F17476,'Object Codes'!$A:$C,3,0)","v":"Professional Services - Computer Services - Contractual"},{"$f":"VLOOKUP(A17476,Agencies!A:C,3,0)","v":"Department of Correction"},1416.05]
["072",2022,"001","003","5032","671",0,0,0,0,15750,0,0,0,0,0,15750,0,15750,15750,0,15750,0,15750,15750,0,{"$f":"_xlfn.XLOOKUP(F17510,'Object Codes'!$A$18:$A$510,'Object Codes'!$H$18:$H$510)","v":"Contractual Services"},{"$f":"_xlfn.XLOOKUP(F17510,'Object Codes'!$A$18:$A$510,'Object Codes'!$G$18:$G$510)","v":0},{"$f":"_xlfn.XLOOKUP(A17510,Agencies!$A$9:$A$146,Agencies!$B$9:$B$146)","v":"Public Safety & Judicial"},{"$f":"IF(_xlfn.XLOOKUP(A17510,Agencies!A:A,Agencies!D:D)=\"Y\",IF(_xlfn.XLOOKUP(F17510,'Object Codes'!A:A,'Object Codes'!I:I)=\"Y\",\"Y\",\"N\"),\"N\")","v":"Y"},{"$f":"VLOOKUP(F17510,'Object Codes'!$A:$C,3,0)","v":"Training Program for City Employees - Contractual"},{"$f":"VLOOKUP(A17510,Agencies!A:C,3,0)","v":"Department of Correction"},43.150684931506852]
["072",2022,"001","003","6008","332",0,0,0,187500,0,0,0,0,0,0,0,0,0,0,0,0,0,0,0,0,{"$f":"_xlfn.XLOOKUP(F17539,'Object Codes'!$A$18:$A$510,'Object Codes'!$H$18:$H$510)","v":"Equipment"},{"$f":"_xlfn.XLOOKUP(F17539,'Object Codes'!$A$18:$A$510,'Object Codes'!$G$18:$G$510)","v":"A"},{"$f":"_xlfn.XLOOKUP(A17539,Agencies!$A$9:$A$146,Agencies!$B$9:$B$146)","v":"Public Safety & Judicial"},{"$f":"IF(_xlfn.XLOOKUP(A17539,Agencies!A:A,Agencies!D:D)=\"Y\",IF(_xlfn.XLOOKUP(F17539,'Object Codes'!A:A,'Object Codes'!I:I)=\"Y\",\"Y\",\"N\"),\"N\")","v":"Y"},{"$f":"VLOOKUP(F17539,'Object Codes'!$A:$C,3,0)","v":"Purchases of Data Processing Equipment"},{"$f":"VLOOKUP(A17539,Agencies!A:C,3,0)","v":"Department of Correction"},0]
["072",2022,"001","004","0204","100",0,0,0,146570,96570,0,0,0,0,0,13923.26,43505.36,57428.62,57428.62,39141.379999999997,57428.62,39141.379999999997,57428.62,57428.62,39141.379999999997,{"$f":"_xlfn.XLOOKUP(F17579,'Object Codes'!$A$18:$A$510,'Object Codes'!$H$18:$H$510)","v":"Supplies & Materials"},{"$f":"_xlfn.XLOOKUP(F17579,'Object Codes'!$A$18:$A$510,'Object Codes'!$G$18:$G$510)","v":"A"},{"$f":"_xlfn.XLOOKUP(A17579,Agencies!$A$9:$A$146,Agencies!$B$9:$B$146)","v":"Public Safety & Judicial"},{"$f":"IF(_xlfn.XLOOKUP(A17579,Agencies!A:A,Agencies!D:D)=\"Y\",IF(_xlfn.XLOOKUP(F17579,'Object Codes'!A:A,'Object Codes'!I:I)=\"Y\",\"Y\",\"N\"),\"N\")","v":"Y"},{"$f":"VLOOKUP(F17579,'Object Codes'!$A:$C,3,0)","v":"Supplies and Materials - General"},{"$f":"VLOOKUP(A17579,Agencies!A:C,3,0)","v":"Department of Correction"},157.33868493150686]
["095",2022,"001","002","0425","080",0,0,0,1167540,1167540,0,0,0,0,0,735077.04,0,735077.04,735077.04,432462.96,735077.04,432462.96,735077.04,735077.04,432462.96,{"$f":"_xlfn.XLOOKUP(F17653,'Object Codes'!$A$18:$A$510,'Object Codes'!$H$18:$H$510)","v":"PS - Other"},{"$f":"_xlfn.XLOOKUP(F17653,'Object Codes'!$A$18:$A$510,'Object Codes'!$G$18:$G$510)","v":"P"},{"$f":"_xlfn.XLOOKUP(A17653,Agencies!$A$9:$A$146,Agencies!$B$9:$B$146)","v":"Pensions"},{"$f":"IF(_xlfn.XLOOKUP(A17653,Agencies!A:A,Agencies!D:D)=\"Y\",IF(_xlfn.XLOOKUP(F17653,'Object Codes'!A:A,'Object Codes'!I:I)=\"Y\",\"Y\",\"N\"),\"N\")","v":"Y"},{"$f":"VLOOKUP(F17653,'Object Codes'!$A:$C,3,0)","v":"Teachers' Insurance Annuity Association - College Retirement Equities Fund"},{"$f":"VLOOKUP(A17653,Agencies!A:C,3,0)","v":"Citywide Pension Contributions"},2013.9096986301372]
["098",2022,"001","002","2002","678",0,0,0,0,18280000,0,0,0,0,0,18270000,0,18270000,18270000,10000,18270000,10000,18270000,18270000,10000,{"$f":"_xlfn.XLOOKUP(F17682,'Object Codes'!$A$18:$A$510,'Object Codes'!$H$18:$H$510)","v":"Contractual Services"},{"$f":"_xlfn.XLOOKUP(F17682,'Object Codes'!$A$18:$A$510,'Object Codes'!$G$18:$G$510)","v":0},{"$f":"_xlfn.XLOOKUP(A17682,Agencies!$A$9:$A$146,Agencies!$B$9:$B$146)","v":"Miscellanous"},{"$f":"IF(_xlfn.XLOOKUP(A17682,Agencies!A:A,Agencies!D:D)=\"Y\",IF(_xlfn.XLOOKUP(F17682,'Object Codes'!A:A,'Object Codes'!I:I)=\"Y\",\"Y\",\"N\"),\"N\")","v":"Y"},{"$f":"VLOOKUP(F17682,'Object Codes'!$A:$C,3,0)","v":"Payments to Delegate Agencies - Contractual"},{"$f":"VLOOKUP(A17682,Agencies!A:C,3,0)","v":"Miscellaneous"},50054.794520547948]
["098",2022,"001","003","3004","085",0,0,0,409696474,505593820,0,0,0,0,0,505593819.58999997,0,505593819.58999997,505593819.58999997,0.41,505593819.58999997,0.41,505593819.58999997,505593819.58999997,0.41,{"$f":"_xlfn.XLOOKUP(F17728,'Object Codes'!$A$18:$A$510,'Object Codes'!$H$18:$H$510)","v":"PS - Other"},{"$f":"_xlfn.XLOOKUP(F17728,'Object Codes'!$A$18:$A$510,'Object Codes'!$G$18:$G$510)","v":"A"},{"$f":"_xlfn.XLOOKUP(A17728,Agencies!$A$9:$A$146,Agencies!$B$9:$B$146)","v":"Miscellanous"},{"$f":"IF(_xlfn.XLOOKUP(A17728,Agencies!A:A,Agencies!D:D)=\"Y\",IF(_xlfn.XLOOKUP(F17728,'Object Codes'!A:A,'Object Codes'!I:I)=\"Y\",\"Y\",\"N\"),\"N\")","v":"Y"},{"$f":"VLOOKUP(F17728,'Object Codes'!$A:$C,3,0)","v":"Awards / Expenses - Workers' Compensation"},{"$f":"VLOOKUP(A17728,Agencies!A:C,3,0)","v":"Miscellaneous"},1385188.5468219176]
["101",2022,"001","002","0101","305",0,0,0,8500,278,0,0,0,0,0,0,0,0,0,278,0,278,0,0,278,{"$f":"_xlfn.XLOOKUP(F17791,'Object Codes'!$A$18:$A$510,'Object Codes'!$H$18:$H$510)","v":"Equipment"},{"$f":"_xlfn.XLOOKUP(F17791,'Object Codes'!$A$18:$A$510,'Object Codes'!$G$18:$G$510)","v":"A"},{"$f":"_xlfn.XLOOKUP(A17791,Agencies!$A$9:$A$146,Agencies!$B$9:$B$146)","v":"General Government"},{"$f":"IF(_xlfn.XLOOKUP(A17791,Agencies!A:A,Agencies!D:D)=\"Y\",IF(_xlfn.XLOOKUP(F17791,'Object Codes'!A:A,'Object Codes'!I:I)=\"Y\",\"Y\",\"N\"),\"N\")","v":"Y"},{"$f":"VLOOKUP(F17791,'Object Codes'!$A:$C,3,0)","v":"Motor Vehicles"},{"$f":"VLOOKUP(A17791,Agencies!A:C,3,0)","v":"Public Advocate"},0]
["102",2022,"001","002","4202","001",0,0,0,0,175000,0,0,0,0,0,167849.34,0,167849.34,167849.34,7150.66,167849.34,7150.66,167849.34,167849.34,7150.66,{"$f":"_xlfn.XLOOKUP(F17825,'Object Codes'!$A$18:$A$510,'Object Codes'!$H$18:$H$510)","v":"PS - Regular"},{"$f":"_xlfn.XLOOKUP(F17825,'Object Codes'!$A$18:$A$510,'Object Codes'!$G$18:$G$510)","v":"C"},{"$f":"_xlfn.XLOOKUP(A17825,Agencies!$A$9:$A$146,Agencies!$B$9:$B$146)","v":"General Government"},{"$f":"IF(_xlfn.XLOOKUP(A17825,Agencies!A:A,Agencies!D:D)=\"Y\",IF(_xlfn.XLOOKUP(F17825,'Object Codes'!A:A,'Object Codes'!I:I)=\"Y\",\"Y\",\"N\"),\"N\")","v":"Y"},{"$f":"VLOOKUP(F17825,'Object Codes'!$A:$C,3,0)","v":"Full Year Positions"},{"$f":"VLOOKUP(A17825,Agencies!A:C,3,0)","v":"City Council"},459.86120547945205]
["102",2022,"001","200","2001","42G",0,0,0,110000,0,0,0,0,0,0,0,0,0,0,0,0,0,0,0,0,{"$f":"_xlfn.XLOOKUP(F17877,'Object Codes'!$A$18:$A$510,'Object Codes'!$H$18:$H$510)","v":"Other Services and Charges - General"},{"$f":"_xlfn.XLOOKUP(F17877,'Object Codes'!$A$18:$A$510,'Object Codes'!$G$18:$G$510)","v":0},{"$f":"_xlfn.XLOOKUP(A17877,Agencies!$A$9:$A$146,Agencies!$B$9:$B$146)","v":"General Government"},{"$f":"IF(_xlfn.XLOOKUP(A17877,Agencies!A:A,Agencies!D:D)=\"Y\",IF(_xlfn.XLOOKUP(F17877,'Object Codes'!A:A,'Object Codes'!I:I)=\"Y\",\"Y\",\"N\"),\"N\")","v":"Y"},{"$f":"VLOOKUP(F17877,'Object Codes'!$A:$C,3,0)","v":"DATA PROCESSING SERVICES"},{"$f":"VLOOKUP(A17877,Agencies!A:C,3,0)","v":"City Council"},0]
["102",2022,"001","800","8000","499",0,0,0,1,1,0,0,0,0,0,0,0,0,0,1,0,1,0,0,1,{"$f":"_xlfn.XLOOKUP(F17934,'Object Codes'!$A$18:$A$510,'Object Codes'!$H$18:$H$510)","v":"Other Services and Charges - General"},{"$f":"_xlfn.XLOOKUP(F17934,'Object Codes'!$A$18:$A$510,'Object Codes'!$G$18:$G$510)","v":0},{"$f":"_xlfn.XLOOKUP(A17934,Agencies!$A$9:$A$146,Agencies!$B$9:$B$146)","v":"General Government"},{"$f":"IF(_xlfn.XLOOKUP(A17934,Agencies!A:A,Agencies!D:D)=\"Y\",IF(_xlfn.XLOOKUP(F17934,'Object Codes'!A:A,'Object Codes'!I:I)=\"Y\",\"Y\",\"N\"),\"N\")","v":"Y"},{"$f":"VLOOKUP(F17934,'Object Codes'!$A:$C,3,0)","v":"Other Expenditures - General"},{"$f":"VLOOKUP(A17934,Agencies!A:C,3,0)","v":"City Council"},0]
["102",2022,"001","887","8870","499",0,0,0,1,1,0,0,0,0,0,0,0,0,0,1,0,1,0,0,1,{"$f":"_xlfn.XLOOKUP(F17968,'Object Codes'!$A$18:$A$510,'Object Codes'!$H$18:$H$510)","v":"Other Services and Charges - General"},{"$f":"_xlfn.XLOOKUP(F17968,'Object Codes'!$A$18:$A$510,'Object Codes'!$G$18:$G$510)","v":0},{"$f":"_xlfn.XLOOKUP(A17968,Agencies!$A$9:$A$146,Agencies!$B$9:$B$146)","v":"General Government"},{"$f":"IF(_xlfn.XLOOKUP(A17968,Agencies!A:A,Agencies!D:D)=\"Y\",IF(_xlfn.XLOOKUP(F17968,'Object Codes'!A:A,'Object Codes'!I:I)=\"Y\",\"Y\",\"N\"),\"N\")","v":"Y"},{"$f":"VLOOKUP(F17968,'Object Codes'!$A:$C,3,0)","v":"Other Expenditures - General"},{"$f":"VLOOKUP(A17968,Agencies!A:C,3,0)","v":"City Council"},0]
["125",2022,"001","001","0241","043",0,0,0,0,0,0,0,0,0,0,8.5399999999999991,0,8.5399999999999991,8.5399999999999991,-8.5399999999999991,8.5399999999999991,-8.5399999999999991,8.5399999999999991,8.5399999999999991,-8.5399999999999991,{"$f":"_xlfn.XLOOKUP(F18038,'Object Codes'!$A$18:$A$510,'Object Codes'!$H$18:$H$510)","v":"PS - Additional Gross"},{"$f":"_xlfn.XLOOKUP(F18038,'Object Codes'!$A$18:$A$510,'Object Codes'!$G$18:$G$510)","v":"A"},{"$f":"_xlfn.XLOOKUP(A18038,Agencies!$A$9:$A$146,Agencies!$B$9:$B$146)","v":"Social Services"},{"$f":"IF(_xlfn.XLOOKUP(A18038,Agencies!A:A,Agencies!D:D)=\"Y\",IF(_xlfn.XLOOKUP(F18038,'Object Codes'!A:A,'Object Codes'!I:I)=\"Y\",\"Y\",\"N\"),\"N\")","v":"Y"},{"$f":"VLOOKUP(F18038,'Object Codes'!$A:$C,3,0)","v":"Shift Differential"},{"$f":"VLOOKUP(A18038,Agencies!A:C,3,0)","v":"Department for the Aging"},2.3397260273972601E-2]
["125",2022,"001","001","0531","047",0,0,0,0,15400,0,0,0,0,0,20327.830000000002,0,20327.830000000002,20327.830000000002,-4927.83,20327.830000000002,-4927.83,20327.830000000002,20327.830000000002,-4927.83,{"$f":"_xlfn.XLOOKUP(F18077,'Object Codes'!$A$18:$A$510,'Object Codes'!$H$18:$H$510)","v":"PS - Additional Gross"},{"$f":"_xlfn.XLOOKUP(F18077,'Object Codes'!$A$18:$A$510,'Object Codes'!$G$18:$G$510)","v":"C"},{"$f":"_xlfn.XLOOKUP(A18077,Agencies!$A$9:$A$146,Agencies!$B$9:$B$146)","v":"Social Services"},{"$f":"IF(_xlfn.XLOOKUP(A18077,Agencies!A:A,Agencies!D:D)=\"Y\",IF(_xlfn.XLOOKUP(F18077,'Object Codes'!A:A,'Object Codes'!I:I)=\"Y\",\"Y\",\"N\"),\"N\")","v":"Y"},{"$f":"VLOOKUP(F18077,'Object Codes'!$A:$C,3,0)","v":"Overtime"},{"$f":"VLOOKUP(A18077,Agencies!A:C,3,0)","v":"Department for the Aging"},55.692684931506854]
["125",2022,"001","001","0571","049",0,0,0,0,0,0,0,0,0,0,-6111,0,-6111,-6111,6111,-6111,6111,-6111,-6111,6111,{"$f":"_xlfn.XLOOKUP(F18111,'Object Codes'!$A$18:$A$510,'Object Codes'!$H$18:$H$510)","v":"PS - Additional Gross"},{"$f":"_xlfn.XLOOKUP(F18111,'Object Codes'!$A$18:$A$510,'Object Codes'!$G$18:$G$510)","v":"A"},{"$f":"_xlfn.XLOOKUP(A18111,Agencies!$A$9:$A$146,Agencies!$B$9:$B$146)","v":"Social Services"},{"$f":"IF(_xlfn.XLOOKUP(A18111,Agencies!A:A,Agencies!D:D)=\"Y\",IF(_xlfn.XLOOKUP(F18111,'Object Codes'!A:A,'Object Codes'!I:I)=\"Y\",\"Y\",\"N\"),\"N\")","v":"Y"},{"$f":"VLOOKUP(F18111,'Object Codes'!$A:$C,3,0)","v":"Backpay"},{"$f":"VLOOKUP(A18111,Agencies!A:C,3,0)","v":"Department for the Aging"},-16.742465753424657]
["125",2022,"001","002","0223","031",0,0,0,3751,3751,0,0,0,0,0,28867.1,0,28867.1,28867.1,-25116.1,28867.1,-25116.1,28867.1,28867.1,-25116.1,{"$f":"_xlfn.XLOOKUP(F18141,'Object Codes'!$A$18:$A$510,'Object Codes'!$H$18:$H$510)","v":"PS - Regular"},{"$f":"_xlfn.XLOOKUP(F18141,'Object Codes'!$A$18:$A$510,'Object Codes'!$G$18:$G$510)","v":"C"},{"$f":"_xlfn.XLOOKUP(A18141,Agencies!$A$9:$A$146,Agencies!$B$9:$B$146)","v":"Social Services"},{"$f":"IF(_xlfn.XLOOKUP(A18141,Agencies!A:A,Agencies!D:D)=\"Y\",IF(_xlfn.XLOOKUP(F18141,'Object Codes'!A:A,'Object Codes'!I:I)=\"Y\",\"Y\",\"N\"),\"N\")","v":"Y"},{"$f":"VLOOKUP(F18141,'Object Codes'!$A:$C,3,0)","v":"Hourly Positions"},{"$f":"VLOOKUP(A18141,Agencies!A:C,3,0)","v":"Department for the Aging"},79.087945205479443]
["125",2022,"001","002","1688","031",0,0,0,963955,400124,0,0,0,0,0,400123.55,0,400123.55,400123.55,0.45,400123.55,0.45,400123.55,400123.55,0.45,{"$f":"_xlfn.XLOOKUP(F18220,'Object Codes'!$A$18:$A$510,'Object Codes'!$H$18:$H$510)","v":"PS - Regular"},{"$f":"_xlfn.XLOOKUP(F18220,'Object Codes'!$A$18:$A$510,'Object Codes'!$G$18:$G$510)","v":"C"},{"$f":"_xlfn.XLOOKUP(A18220,Agencies!$A$9:$A$146,Agencies!$B$9:$B$146)","v":"Social Services"},{"$f":"IF(_xlfn.XLOOKUP(A18220,Agencies!A:A,Agencies!D:D)=\"Y\",IF(_xlfn.XLOOKUP(F18220,'Object Codes'!A:A,'Object Codes'!I:I)=\"Y\",\"Y\",\"N\"),\"N\")","v":"Y"},{"$f":"VLOOKUP(F18220,'Object Codes'!$A:$C,3,0)","v":"Hourly Positions"},{"$f":"VLOOKUP(A18220,Agencies!A:C,3,0)","v":"Department for the Aging"},1096.2289041095889]
["125",2022,"001","002","2114","001",0,3,3,202687,202687,0,0,0,0,0,73039.100000000006,0,73039.100000000006,73039.100000000006,129647.9,73039.100000000006,129647.9,73039.100000000006,73039.100000000006,129647.9,{"$f":"_xlfn.XLOOKUP(F18254,'Object Codes'!$A$18:$A$510,'Object Codes'!$H$18:$H$510)","v":"PS - Regular"},{"$f":"_xlfn.XLOOKUP(F18254,'Object Codes'!$A$18:$A$510,'Object Codes'!$G$18:$G$510)","v":"C"},{"$f":"_xlfn.XLOOKUP(A18254,Agencies!$A$9:$A$146,Agencies!$B$9:$B$146)","v":"Social Services"},{"$f":"IF(_xlfn.XLOOKUP(A18254,Agencies!A:A,Agencies!D:D)=\"Y\",IF(_xlfn.XLOOKUP(F18254,'Object Codes'!A:A,'Object Codes'!I:I)=\"Y\",\"Y\",\"N\"),\"N\")","v":"Y"},{"$f":"VLOOKUP(F18254,'Object Codes'!$A:$C,3,0)","v":"Full Year Positions"},{"$f":"VLOOKUP(A18254,Agencies!A:C,3,0)","v":"Department for the Aging"},200.10712328767124]
["125",2022,"001","003","0501","100",0,0,0,55000,206475,0,0,0,0,0,75654.7,44328.24,119982.94,119982.94,86492.06,119982.94,86492.06,119982.94,119982.94,86492.06,{"$f":"_xlfn.XLOOKUP(F18283,'Object Codes'!$A$18:$A$510,'Object Codes'!$H$18:$H$510)","v":"Supplies & Materials"},{"$f":"_xlfn.XLOOKUP(F18283,'Object Codes'!$A$18:$A$510,'Object Codes'!$G$18:$G$510)","v":"A"},{"$f":"_xlfn.XLOOKUP(A18283,Agencies!$A$9:$A$146,Agencies!$B$9:$B$146)","v":"Social Services"},{"$f":"IF(_xlfn.XLOOKUP(A18283,Agencies!A:A,Agencies!D:D)=\"Y\",IF(_xlfn.XLOOKUP(F18283,'Object Codes'!A:A,'Object Codes'!I:I)=\"Y\",\"Y\",\"N\"),\"N\")","v":"Y"},{"$f":"VLOOKUP(F18283,'Object Codes'!$A:$C,3,0)","v":"Supplies and Materials - General"},{"$f":"VLOOKUP(A18283,Agencies!A:C,3,0)","v":"Department for the Aging"},328.72038356164381]
["125",2022,"001","003","0505","417",0,0,0,0,1000,0,0,0,0,0,0,0,0,0,1000,0,1000,0,0,1000,{"$f":"_xlfn.XLOOKUP(F18336,'Object Codes'!$A$18:$A$510,'Object Codes'!$H$18:$H$510)","v":"Other Services and Charges - General"},{"$f":"_xlfn.XLOOKUP(F18336,'Object Codes'!$A$18:$A$510,'Object Codes'!$G$18:$G$510)","v":0},{"$f":"_xlfn.XLOOKUP(A18336,Agencies!$A$9:$A$146,Agencies!$B$9:$B$146)","v":"Social Services"},{"$f":"IF(_xlfn.XLOOKUP(A18336,Agencies!A:A,Agencies!D:D)=\"Y\",IF(_xlfn.XLOOKUP(F18336,'Object Codes'!A:A,'Object Codes'!I:I)=\"Y\",\"Y\",\"N\"),\"N\")","v":"Y"},{"$f":"VLOOKUP(F18336,'Object Codes'!$A:$C,3,0)","v":"Advertising"},{"$f":"VLOOKUP(A18336,Agencies!A:C,3,0)","v":"Department for the Aging"},0]
["125",2022,"001","003","2231","452",0,0,0,44780,4000,0,0,0,0,0,3722.13,0,3722.13,3722.13,277.87,3722.13,277.87,3722.13,3722.13,277.87,{"$f":"_xlfn.XLOOKUP(F18392,'Object Codes'!$A$18:$A$510,'Object Codes'!$H$18:$H$510)","v":"Other Services and Charges - General"},{"$f":"_xlfn.XLOOKUP(F18392,'Object Codes'!$A$18:$A$510,'Object Codes'!$G$18:$G$510)","v":0},{"$f":"_xlfn.XLOOKUP(A18392,Agencies!$A$9:$A$146,Agencies!$B$9:$B$146)","v":"Social Services"},{"$f":"IF(_xlfn.XLOOKUP(A18392,Agencies!A:A,Agencies!D:D)=\"Y\",IF(_xlfn.XLOOKUP(F18392,'Object Codes'!A:A,'Object Codes'!I:I)=\"Y\",\"Y\",\"N\"),\"N\")","v":"Y"},{"$f":"VLOOKUP(F18392,'Object Codes'!$A:$C,3,0)","v":"Non Overnight Travel Expenditures - Special"},{"$f":"VLOOKUP(A18392,Agencies!A:C,3,0)","v":"Department for the Aging"},10.197616438356164]
["125",2022,"001","003","5571","678",0,0,0,0,6400325,0,0,0,0,0,3471173.04,2929151.96,6400325,6400325,0,6400325,0,6400325,6400325,0,{"$f":"_xlfn.XLOOKUP(F18426,'Object Codes'!$A$18:$A$510,'Object Codes'!$H$18:$H$510)","v":"Contractual Services"},{"$f":"_xlfn.XLOOKUP(F18426,'Object Codes'!$A$18:$A$510,'Object Codes'!$G$18:$G$510)","v":0},{"$f":"_xlfn.XLOOKUP(A18426,Agencies!$A$9:$A$146,Agencies!$B$9:$B$146)","v":"Social Services"},{"$f":"IF(_xlfn.XLOOKUP(A18426,Agencies!A:A,Agencies!D:D)=\"Y\",IF(_xlfn.XLOOKUP(F18426,'Object Codes'!A:A,'Object Codes'!I:I)=\"Y\",\"Y\",\"N\"),\"N\")","v":"Y"},{"$f":"VLOOKUP(F18426,'Object Codes'!$A:$C,3,0)","v":"Payments to Delegate Agencies - Contractual"},{"$f":"VLOOKUP(A18426,Agencies!A:C,3,0)","v":"Department for the Aging"},17535.136986301372]
["125",2022,"001","004","0580","412",0,0,0,2400,1200,0,0,0,0,0,568.65,0,568.65,568.65,631.35,568.65,631.35,568.65,568.65,631.35,{"$f":"_xlfn.XLOOKUP(F18485,'Object Codes'!$A$18:$A$510,'Object Codes'!$H$18:$H$510)","v":"Other Services and Charges - General"},{"$f":"_xlfn.XLOOKUP(F18485,'Object Codes'!$A$18:$A$510,'Object Codes'!$G$18:$G$510)","v":0},{"$f":"_xlfn.XLOOKUP(A18485,Agencies!$A$9:$A$146,Agencies!$B$9:$B$146)","v":"Social Services"},{"$f":"IF(_xlfn.XLOOKUP(A18485,Agencies!A:A,Agencies!D:D)=\"Y\",IF(_xlfn.XLOOKUP(F18485,'Object Codes'!A:A,'Object Codes'!I:I)=\"Y\",\"Y\",\"N\"),\"N\")","v":"Y"},{"$f":"VLOOKUP(F18485,'Object Codes'!$A:$C,3,0)","v":"Rentals - Miscellaneous Equipment"},{"$f":"VLOOKUP(A18485,Agencies!A:C,3,0)","v":"Department for the Aging"},1.557945205479452]
["125",2022,"001","005","6050","499",0,0,0,58582,58582,0,0,0,0,0,0,0,0,0,58582,0,58582,0,0,58582,{"$f":"_xlfn.XLOOKUP(F18535,'Object Codes'!$A$18:$A$510,'Object Codes'!$H$18:$H$510)","v":"Other Services and Charges - General"},{"$f":"_xlfn.XLOOKUP(F18535,'Object Codes'!$A$18:$A$510,'Object Codes'!$G$18:$G$510)","v":0},{"$f":"_xlfn.XLOOKUP(A18535,Agencies!$A$9:$A$146,Agencies!$B$9:$B$146)","v":"Social Services"},{"$f":"IF(_xlfn.XLOOKUP(A18535,Agencies!A:A,Agencies!D:D)=\"Y\",IF(_xlfn.XLOOKUP(F18535,'Object Codes'!A:A,'Object Codes'!I:I)=\"Y\",\"Y\",\"N\"),\"N\")","v":"Y"},{"$f":"VLOOKUP(F18535,'Object Codes'!$A:$C,3,0)","v":"Other Expenditures - General"},{"$f":"VLOOKUP(A18535,Agencies!A:C,3,0)","v":"Department for the Aging"},0]
["125",2022,"001","006","7021","049",0,0,0,0,0,0,0,0,0,0,3531.38,0,3531.38,3531.38,-3531.38,3531.38,-3531.38,3531.38,3531.38,-3531.38,{"$f":"_xlfn.XLOOKUP(F18569,'Object Codes'!$A$18:$A$510,'Object Codes'!$H$18:$H$510)","v":"PS - Additional Gross"},{"$f":"_xlfn.XLOOKUP(F18569,'Object Codes'!$A$18:$A$510,'Object Codes'!$G$18:$G$510)","v":"A"},{"$f":"_xlfn.XLOOKUP(A18569,Agencies!$A$9:$A$146,Agencies!$B$9:$B$146)","v":"Social Services"},{"$f":"IF(_xlfn.XLOOKUP(A18569,Agencies!A:A,Agencies!D:D)=\"Y\",IF(_xlfn.XLOOKUP(F18569,'Object Codes'!A:A,'Object Codes'!I:I)=\"Y\",\"Y\",\"N\"),\"N\")","v":"Y"},{"$f":"VLOOKUP(F18569,'Object Codes'!$A:$C,3,0)","v":"Backpay"},{"$f":"VLOOKUP(A18569,Agencies!A:C,3,0)","v":"Department for the Aging"},{"$f":"S18569/365","v":9.6750136986301367}]
["126",2022,"001","001","0130","X42",0,0,0,0,0,0,0,0,0,0,646.74,0,646.74,646.74,-646.74,646.74,-646.74,646.74,646.74,-646.74,{"$f":"_xlfn.XLOOKUP(F18600,'Object Codes'!$A$18:$A$510,'Object Codes'!$H$18:$H$510)","v":"PS - Additional Gross"},{"$f":"_xlfn.XLOOKUP(F18600,'Object Codes'!$A$18:$A$510,'Object Codes'!$G$18:$G$510)","v":"A"},{"$f":"_xlfn.XLOOKUP(A18600,Agencies!$A$9:$A$146,Agencies!$B$9:$B$146)","v":"Parks, Recreation and Cultural Activities"},{"$f":"IF(_xlfn.XLOOKUP(A18600,Agencies!A:A,Agencies!D:D)=\"Y\",IF(_xlfn.XLOOKUP(F18600,'Object Codes'!A:A,'Object Codes'!I:I)=\"Y\",\"Y\",\"N\"),\"N\")","v":"Y"},{"$f":"VLOOKUP(F18600,'Object Codes'!$A:$C,3,0)","v":"PY LONGEVITY DIFFERENTIAL"},{"$f":"VLOOKUP(A18600,Agencies!A:C,3,0)","v":"Department of Cultural Affairs"},1.7718904109589042]
["126",2022,"001","002","0145","117",0,0,0,2000,1451,0,0,0,0,0,0,0,0,0,1451,0,1451,0,0,1451,{"$f":"_xlfn.XLOOKUP(F18678,'Object Codes'!$A$18:$A$510,'Object Codes'!$H$18:$H$510)","v":"Supplies & Materials"},{"$f":"_xlfn.XLOOKUP(F18678,'Object Codes'!$A$18:$A$510,'Object Codes'!$G$18:$G$510)","v":"A"},{"$f":"_xlfn.XLOOKUP(A18678,Agencies!$A$9:$A$146,Agencies!$B$9:$B$146)","v":"Parks, Recreation and Cultural Activities"},{"$f":"IF(_xlfn.XLOOKUP(A18678,Agencies!A:A,Agencies!D:D)=\"Y\",IF(_xlfn.XLOOKUP(F18678,'Object Codes'!A:A,'Object Codes'!I:I)=\"Y\",\"Y\",\"N\"),\"N\")","v":"Y"},{"$f":"VLOOKUP(F18678,'Object Codes'!$A:$C,3,0)","v":"Postage"},{"$f":"VLOOKUP(A18678,Agencies!A:C,3,0)","v":"Department of Cultural Affairs"},0]
["126",2022,"001","003","3804","667",0,0,0,0,50000,0,0,0,0,0,0,0,0,0,50000,0,50000,0,0,50000,{"$f":"_xlfn.XLOOKUP(F18712,'Object Codes'!$A$18:$A$510,'Object Codes'!$H$18:$H$510)","v":"Contractual Services"},{"$f":"_xlfn.XLOOKUP(F18712,'Object Codes'!$A$18:$A$510,'Object Codes'!$G$18:$G$510)","v":0},{"$f":"_xlfn.XLOOKUP(A18712,Agencies!$A$9:$A$146,Agencies!$B$9:$B$146)","v":"Parks, Recreation and Cultural Activities"},{"$f":"IF(_xlfn.XLOOKUP(A18712,Agencies!A:A,Agencies!D:D)=\"Y\",IF(_xlfn.XLOOKUP(F18712,'Object Codes'!A:A,'Object Codes'!I:I)=\"Y\",\"Y\",\"N\"),\"N\")","v":"Y"},{"$f":"VLOOKUP(F18712,'Object Codes'!$A:$C,3,0)","v":"Payments to Cultural Institutions - Contractual"},{"$f":"VLOOKUP(A18712,Agencies!A:C,3,0)","v":"Department of Cultural Affairs"},0]
["126",2022,"001","013","0121","715",0,0,0,1031156,1112156,0,0,0,0,0,1112156,0,1112156,1112156,0,1112156,0,1112156,1112156,0,{"$f":"_xlfn.XLOOKUP(F18749,'Object Codes'!$A$18:$A$510,'Object Codes'!$H$18:$H$510)","v":"Fixed Charges"},{"$f":"_xlfn.XLOOKUP(F18749,'Object Codes'!$A$18:$A$510,'Object Codes'!$G$18:$G$510)","v":0},{"$f":"_xlfn.XLOOKUP(A18749,Agencies!$A$9:$A$146,Agencies!$B$9:$B$146)","v":"Parks, Recreation and Cultural Activities"},{"$f":"IF(_xlfn.XLOOKUP(A18749,Agencies!A:A,Agencies!D:D)=\"Y\",IF(_xlfn.XLOOKUP(F18749,'Object Codes'!A:A,'Object Codes'!I:I)=\"Y\",\"Y\",\"N\"),\"N\")","v":"Y"},{"$f":"VLOOKUP(F18749,'Object Codes'!$A:$C,3,0)","v":"Payments to Cultural Institutions"},{"$f":"VLOOKUP(A18749,Agencies!A:C,3,0)","v":"Department of Cultural Affairs"},3047.0027397260274]
["127",2022,"001","001","0100","047",0,0,0,49064,29064,0,0,0,0,0,34776.559999999998,0,34776.559999999998,34776.559999999998,-5712.56,34776.559999999998,-5712.56,34776.559999999998,34776.559999999998,-5712.56,{"$f":"_xlfn.XLOOKUP(F18821,'Object Codes'!$A$18:$A$510,'Object Codes'!$H$18:$H$510)","v":"PS - Additional Gross"},{"$f":"_xlfn.XLOOKUP(F18821,'Object Codes'!$A$18:$A$510,'Object Codes'!$G$18:$G$510)","v":"C"},{"$f":"_xlfn.XLOOKUP(A18821,Agencies!$A$9:$A$146,Agencies!$B$9:$B$146)","v":"General Government"},{"$f":"IF(_xlfn.XLOOKUP(A18821,Agencies!A:A,Agencies!D:D)=\"Y\",IF(_xlfn.XLOOKUP(F18821,'Object Codes'!A:A,'Object Codes'!I:I)=\"Y\",\"Y\",\"N\"),\"N\")","v":"Y"},{"$f":"VLOOKUP(F18821,'Object Codes'!$A:$C,3,0)","v":"Overtime"},{"$f":"VLOOKUP(A18821,Agencies!A:C,3,0)","v":"Financial Info. Serv. Agency"},95.278246575342465]
["127",2022,"001","002","0101","110",0,0,0,0,8727,0,0,0,0,0,460.44,0,460.44,460.44,8266.56,460.44,8266.56,460.44,460.44,8266.56,{"$f":"_xlfn.XLOOKUP(F18855,'Object Codes'!$A$18:$A$510,'Object Codes'!$H$18:$H$510)","v":"Supplies & Materials"},{"$f":"_xlfn.XLOOKUP(F18855,'Object Codes'!$A$18:$A$510,'Object Codes'!$G$18:$G$510)","v":"A"},{"$f":"_xlfn.XLOOKUP(A18855,Agencies!$A$9:$A$146,Agencies!$B$9:$B$146)","v":"General Government"},{"$f":"IF(_xlfn.XLOOKUP(A18855,Agencies!A:A,Agencies!D:D)=\"Y\",IF(_xlfn.XLOOKUP(F18855,'Object Codes'!A:A,'Object Codes'!I:I)=\"Y\",\"Y\",\"N\"),\"N\")","v":"Y"},{"$f":"VLOOKUP(F18855,'Object Codes'!$A:$C,3,0)","v":"Food and Forage Supplies"},{"$f":"VLOOKUP(A18855,Agencies!A:C,3,0)","v":"Financial Info. Serv. Agency"},1.2614794520547945]
["127",2022,"001","002","CV11","100",0,0,0,0,91100,0,0,0,0,0,91100,0,91100,91100,0,91100,0,91100,91100,0,{"$f":"_xlfn.XLOOKUP(F18898,'Object Codes'!$A$18:$A$510,'Object Codes'!$H$18:$H$510)","v":"Supplies & Materials"},{"$f":"_xlfn.XLOOKUP(F18898,'Object Codes'!$A$18:$A$510,'Object Codes'!$G$18:$G$510)","v":"A"},{"$f":"_xlfn.XLOOKUP(A18898,Agencies!$A$9:$A$146,Agencies!$B$9:$B$146)","v":"General Government"},{"$f":"IF(_xlfn.XLOOKUP(A18898,Agencies!A:A,Agencies!D:D)=\"Y\",IF(_xlfn.XLOOKUP(F18898,'Object Codes'!A:A,'Object Codes'!I:I)=\"Y\",\"Y\",\"N\"),\"N\")","v":"Y"},{"$f":"VLOOKUP(F18898,'Object Codes'!$A:$C,3,0)","v":"Supplies and Materials - General"},{"$f":"VLOOKUP(A18898,Agencies!A:C,3,0)","v":"Financial Info. Serv. Agency"},249.58904109589042]
["131",2022,"001","200","1000","684",0,0,0,21900,1900,0,0,0,0,0,0,0,0,0,1900,0,1900,0,0,1900,{"$f":"_xlfn.XLOOKUP(F18964,'Object Codes'!$A$18:$A$510,'Object Codes'!$H$18:$H$510)","v":"Contractual Services"},{"$f":"_xlfn.XLOOKUP(F18964,'Object Codes'!$A$18:$A$510,'Object Codes'!$G$18:$G$510)","v":0},{"$f":"_xlfn.XLOOKUP(A18964,Agencies!$A$9:$A$146,Agencies!$B$9:$B$146)","v":"General Government"},{"$f":"IF(_xlfn.XLOOKUP(A18964,Agencies!A:A,Agencies!D:D)=\"Y\",IF(_xlfn.XLOOKUP(F18964,'Object Codes'!A:A,'Object Codes'!I:I)=\"Y\",\"Y\",\"N\"),\"N\")","v":"Y"},{"$f":"VLOOKUP(F18964,'Object Codes'!$A:$C,3,0)","v":"Professional Services - Computer Services - Contractual"},{"$f":"VLOOKUP(A18964,Agencies!A:C,3,0)","v":"Office of Payroll Admin."},0]
["132",2022,"001","002","2000","412",0,0,0,3000,3000,0,0,0,0,0,1654,0,1654,1654,1346,1654,1346,1654,1654,1346,{"$f":"_xlfn.XLOOKUP(F18993,'Object Codes'!$A$18:$A$510,'Object Codes'!$H$18:$H$510)","v":"Other Services and Charges - General"},{"$f":"_xlfn.XLOOKUP(F18993,'Object Codes'!$A$18:$A$510,'Object Codes'!$G$18:$G$510)","v":0},{"$f":"_xlfn.XLOOKUP(A18993,Agencies!$A$9:$A$146,Agencies!$B$9:$B$146)","v":"General Government"},{"$f":"IF(_xlfn.XLOOKUP(A18993,Agencies!A:A,Agencies!D:D)=\"Y\",IF(_xlfn.XLOOKUP(F18993,'Object Codes'!A:A,'Object Codes'!I:I)=\"Y\",\"Y\",\"N\"),\"N\")","v":"Y"},{"$f":"VLOOKUP(F18993,'Object Codes'!$A:$C,3,0)","v":"Rentals - Miscellaneous Equipment"},{"$f":"VLOOKUP(A18993,Agencies!A:C,3,0)","v":"Independent Budget Office"},4.5315068493150683]
["134",2022,"001","001","1000","001",0,8,8,653969,653969,0,0,0,0,0,566387.86,0,566387.86,566387.86,87581.14,566387.86,87581.14,566387.86,566387.86,87581.14,{"$f":"_xlfn.XLOOKUP(F19047,'Object Codes'!$A$18:$A$510,'Object Codes'!$H$18:$H$510)","v":"PS - Regular"},{"$f":"_xlfn.XLOOKUP(F19047,'Object Codes'!$A$18:$A$510,'Object Codes'!$G$18:$G$510)","v":"C"},{"$f":"_xlfn.XLOOKUP(A19047,Agencies!$A$9:$A$146,Agencies!$B$9:$B$146)","v":"General Government"},{"$f":"IF(_xlfn.XLOOKUP(A19047,Agencies!A:A,Agencies!D:D)=\"Y\",IF(_xlfn.XLOOKUP(F19047,'Object Codes'!A:A,'Object Codes'!I:I)=\"Y\",\"Y\",\"N\"),\"N\")","v":"Y"},{"$f":"VLOOKUP(F19047,'Object Codes'!$A:$C,3,0)","v":"Full Year Positions"},{"$f":"VLOOKUP(A19047,Agencies!A:C,3,0)","v":"Civil Service Commission"},1551.7475616438355]
["136",2022,"001","001","2000","046",0,0,0,2916,2916,0,0,0,0,0,0,0,0,0,2916,0,2916,0,0,2916,{"$f":"_xlfn.XLOOKUP(F19107,'Object Codes'!$A$18:$A$510,'Object Codes'!$H$18:$H$510)","v":"PS - Additional Gross"},{"$f":"_xlfn.XLOOKUP(F19107,'Object Codes'!$A$18:$A$510,'Object Codes'!$G$18:$G$510)","v":"A"},{"$f":"_xlfn.XLOOKUP(A19107,Agencies!$A$9:$A$146,Agencies!$B$9:$B$146)","v":"General Government"},{"$f":"IF(_xlfn.XLOOKUP(A19107,Agencies!A:A,Agencies!D:D)=\"Y\",IF(_xlfn.XLOOKUP(F19107,'Object Codes'!A:A,'Object Codes'!I:I)=\"Y\",\"Y\",\"N\"),\"N\")","v":"Y"},{"$f":"VLOOKUP(F19107,'Object Codes'!$A:$C,3,0)","v":"Terminal Leave"},{"$f":"VLOOKUP(A19107,Agencies!A:C,3,0)","v":"Landmarks Preservation Comm."},0]
["136",2022,"001","002","1000","615",0,0,0,9266,2374,0,0,0,0,0,2373.06,0,2373.06,2373.06,0.94,2373.06,0.94,2373.06,2373.06,0.94,{"$f":"_xlfn.XLOOKUP(F19136,'Object Codes'!$A$18:$A$510,'Object Codes'!$H$18:$H$510)","v":"Contractual Services"},{"$f":"_xlfn.XLOOKUP(F19136,'Object Codes'!$A$18:$A$510,'Object Codes'!$G$18:$G$510)","v":0},{"$f":"_xlfn.XLOOKUP(A19136,Agencies!$A$9:$A$146,Agencies!$B$9:$B$146)","v":"General Government"},{"$f":"IF(_xlfn.XLOOKUP(A19136,Agencies!A:A,Agencies!D:D)=\"Y\",IF(_xlfn.XLOOKUP(F19136,'Object Codes'!A:A,'Object Codes'!I:I)=\"Y\",\"Y\",\"N\"),\"N\")","v":"Y"},{"$f":"VLOOKUP(F19136,'Object Codes'!$A:$C,3,0)","v":"Printing Services - Contractual"},{"$f":"VLOOKUP(A19136,Agencies!A:C,3,0)","v":"Landmarks Preservation Comm."},6.5015342465753427]
["156",2022,"001","001","0401","001",0,251,251,16520263,16539366,0,0,0,0,0,13368645.25,0,13368645.25,13368645.25,3170720.75,13368645.25,3170720.75,13368645.25,13368645.25,3170720.75,{"$f":"_xlfn.XLOOKUP(F19196,'Object Codes'!$A$18:$A$510,'Object Codes'!$H$18:$H$510)","v":"PS - Regular"},{"$f":"_xlfn.XLOOKUP(F19196,'Object Codes'!$A$18:$A$510,'Object Codes'!$G$18:$G$510)","v":"C"},{"$f":"_xlfn.XLOOKUP(A19196,Agencies!$A$9:$A$146,Agencies!$B$9:$B$146)","v":"Public Safety & Judicial"},{"$f":"IF(_xlfn.XLOOKUP(A19196,Agencies!A:A,Agencies!D:D)=\"Y\",IF(_xlfn.XLOOKUP(F19196,'Object Codes'!A:A,'Object Codes'!I:I)=\"Y\",\"Y\",\"N\"),\"N\")","v":"Y"},{"$f":"VLOOKUP(F19196,'Object Codes'!$A:$C,3,0)","v":"Full Year Positions"},{"$f":"VLOOKUP(A19196,Agencies!A:C,3,0)","v":"Taxi & Limousine Commission"},36626.425342465751]
["156",2022,"001","002","0201","305",0,0,0,0,37627,0,0,0,0,0,36464,0,36464,36464,1163,36464,1163,36464,36464,1163,{"$f":"_xlfn.XLOOKUP(F19250,'Object Codes'!$A$18:$A$510,'Object Codes'!$H$18:$H$510)","v":"Equipment"},{"$f":"_xlfn.XLOOKUP(F19250,'Object Codes'!$A$18:$A$510,'Object Codes'!$G$18:$G$510)","v":"A"},{"$f":"_xlfn.XLOOKUP(A19250,Agencies!$A$9:$A$146,Agencies!$B$9:$B$146)","v":"Public Safety & Judicial"},{"$f":"IF(_xlfn.XLOOKUP(A19250,Agencies!A:A,Agencies!D:D)=\"Y\",IF(_xlfn.XLOOKUP(F19250,'Object Codes'!A:A,'Object Codes'!I:I)=\"Y\",\"Y\",\"N\"),\"N\")","v":"Y"},{"$f":"VLOOKUP(F19250,'Object Codes'!$A:$C,3,0)","v":"Motor Vehicles"},{"$f":"VLOOKUP(A19250,Agencies!A:C,3,0)","v":"Taxi & Limousine Commission"},99.901369863013699]
["156",2022,"001","002","0201","624",0,0,0,306312,430799,0,0,0,0,0,268382.01,0,268382.01,268382.01,162416.99,268382.01,162416.99,268382.01,268382.01,162416.99,{"$f":"_xlfn.XLOOKUP(F19279,'Object Codes'!$A$18:$A$510,'Object Codes'!$H$18:$H$510)","v":"Contractual Services"},{"$f":"_xlfn.XLOOKUP(F19279,'Object Codes'!$A$18:$A$510,'Object Codes'!$G$18:$G$510)","v":0},{"$f":"_xlfn.XLOOKUP(A19279,Agencies!$A$9:$A$146,Agencies!$B$9:$B$146)","v":"Public Safety & Judicial"},{"$f":"IF(_xlfn.XLOOKUP(A19279,Agencies!A:A,Agencies!D:D)=\"Y\",IF(_xlfn.XLOOKUP(F19279,'Object Codes'!A:A,'Object Codes'!I:I)=\"Y\",\"Y\",\"N\"),\"N\")","v":"Y"},{"$f":"VLOOKUP(F19279,'Object Codes'!$A:$C,3,0)","v":"Cleaning Services - Contractual"},{"$f":"VLOOKUP(A19279,Agencies!A:C,3,0)","v":"Taxi & Limousine Commission"},735.29317808219184]
["226",2022,"001","001","0204","001",0,0,0,27856,27856,0,0,0,0,0,103093.62,0,103093.62,103093.62,-75237.62,103093.62,-75237.62,103093.62,103093.62,-75237.62,{"$f":"_xlfn.XLOOKUP(F19313,'Object Codes'!$A$18:$A$510,'Object Codes'!$H$18:$H$510)","v":"PS - Regular"},{"$f":"_xlfn.XLOOKUP(F19313,'Object Codes'!$A$18:$A$510,'Object Codes'!$G$18:$G$510)","v":"C"},{"$f":"_xlfn.XLOOKUP(A19313,Agencies!$A$9:$A$146,Agencies!$B$9:$B$146)","v":"General Government"},{"$f":"IF(_xlfn.XLOOKUP(A19313,Agencies!A:A,Agencies!D:D)=\"Y\",IF(_xlfn.XLOOKUP(F19313,'Object Codes'!A:A,'Object Codes'!I:I)=\"Y\",\"Y\",\"N\"),\"N\")","v":"Y"},{"$f":"VLOOKUP(F19313,'Object Codes'!$A:$C,3,0)","v":"Full Year Positions"},{"$f":"VLOOKUP(A19313,Agencies!A:C,3,0)","v":"Commission on Human Rights"},282.44827397260275]
["226",2022,"001","002","0201","402",0,0,0,1323,0,0,0,0,0,0,0,0,0,0,0,0,0,0,0,0,{"$f":"_xlfn.XLOOKUP(F19357,'Object Codes'!$A$18:$A$510,'Object Codes'!$H$18:$H$510)","v":"Other Services and Charges - General"},{"$f":"_xlfn.XLOOKUP(F19357,'Object Codes'!$A$18:$A$510,'Object Codes'!$G$18:$G$510)","v":0},{"$f":"_xlfn.XLOOKUP(A19357,Agencies!$A$9:$A$146,Agencies!$B$9:$B$146)","v":"General Government"},{"$f":"IF(_xlfn.XLOOKUP(A19357,Agencies!A:A,Agencies!D:D)=\"Y\",IF(_xlfn.XLOOKUP(F19357,'Object Codes'!A:A,'Object Codes'!I:I)=\"Y\",\"Y\",\"N\"),\"N\")","v":"Y"},{"$f":"VLOOKUP(F19357,'Object Codes'!$A:$C,3,0)","v":"Telephone and Other Communications"},{"$f":"VLOOKUP(A19357,Agencies!A:C,3,0)","v":"Commission on Human Rights"},0]
["226",2022,"001","004","0234","608",0,0,0,1125,0,0,0,0,0,0,0,0,0,0,0,0,0,0,0,0,{"$f":"_xlfn.XLOOKUP(F19422,'Object Codes'!$A$18:$A$510,'Object Codes'!$H$18:$H$510)","v":"Contractual Services"},{"$f":"_xlfn.XLOOKUP(F19422,'Object Codes'!$A$18:$A$510,'Object Codes'!$G$18:$G$510)","v":0},{"$f":"_xlfn.XLOOKUP(A19422,Agencies!$A$9:$A$146,Agencies!$B$9:$B$146)","v":"General Government"},{"$f":"IF(_xlfn.XLOOKUP(A19422,Agencies!A:A,Agencies!D:D)=\"Y\",IF(_xlfn.XLOOKUP(F19422,'Object Codes'!A:A,'Object Codes'!I:I)=\"Y\",\"Y\",\"N\"),\"N\")","v":"Y"},{"$f":"VLOOKUP(F19422,'Object Codes'!$A:$C,3,0)","v":"Maintenance and Repairs - General - Contractual"},{"$f":"VLOOKUP(A19422,Agencies!A:C,3,0)","v":"Commission on Human Rights"},0]
["226",2022,"001","004","0350","706",0,0,0,0,113,0,0,0,0,0,112.42,0,112.42,112.42,0.57999999999999996,112.42,0.57999999999999996,112.42,112.42,0.57999999999999996,{"$f":"_xlfn.XLOOKUP(F19456,'Object Codes'!$A$18:$A$510,'Object Codes'!$H$18:$H$510)","v":"Fixed Charges"},{"$f":"_xlfn.XLOOKUP(F19456,'Object Codes'!$A$18:$A$510,'Object Codes'!$G$18:$G$510)","v":0},{"$f":"_xlfn.XLOOKUP(A19456,Agencies!$A$9:$A$146,Agencies!$B$9:$B$146)","v":"General Government"},{"$f":"IF(_xlfn.XLOOKUP(A19456,Agencies!A:A,Agencies!D:D)=\"Y\",IF(_xlfn.XLOOKUP(F19456,'Object Codes'!A:A,'Object Codes'!I:I)=\"Y\",\"Y\",\"N\"),\"N\")","v":"Y"},{"$f":"VLOOKUP(F19456,'Object Codes'!$A:$C,3,0)","v":"Prompt Payments Interest"},{"$f":"VLOOKUP(A19456,Agencies!A:C,3,0)","v":"Commission on Human Rights"},0.308]
["260",2022,"001","005","3712","724",0,0,0,3123250,8672798,0,0,0,0,0,8672798,0,8672798,8672798,0,8672798,0,8672798,8672798,0,{"$f":"_xlfn.XLOOKUP(F19506,'Object Codes'!$A$18:$A$510,'Object Codes'!$H$18:$H$510)","v":"Fixed Charges"},{"$f":"_xlfn.XLOOKUP(F19506,'Object Codes'!$A$18:$A$510,'Object Codes'!$G$18:$G$510)","v":0},{"$f":"_xlfn.XLOOKUP(A19506,Agencies!$A$9:$A$146,Agencies!$B$9:$B$146)","v":"General Government"},{"$f":"IF(_xlfn.XLOOKUP(A19506,Agencies!A:A,Agencies!D:D)=\"Y\",IF(_xlfn.XLOOKUP(F19506,'Object Codes'!A:A,'Object Codes'!I:I)=\"Y\",\"Y\",\"N\"),\"N\")","v":"Y"},{"$f":"VLOOKUP(F19506,'Object Codes'!$A:$C,3,0)","v":"Job Training Partnership Act - Wages"},{"$f":"VLOOKUP(A19506,Agencies!A:C,3,0)","v":"Youth & Community Development"},23761.090410958903]
["260",2022,"001","105","1000","047",0,0,0,0,0,0,0,0,0,0,202.44,0,202.44,202.44,-202.44,202.44,-202.44,202.44,202.44,-202.44,{"$f":"_xlfn.XLOOKUP(F19565,'Object Codes'!$A$18:$A$510,'Object Codes'!$H$18:$H$510)","v":"PS - Additional Gross"},{"$f":"_xlfn.XLOOKUP(F19565,'Object Codes'!$A$18:$A$510,'Object Codes'!$G$18:$G$510)","v":"C"},{"$f":"_xlfn.XLOOKUP(A19565,Agencies!$A$9:$A$146,Agencies!$B$9:$B$146)","v":"General Government"},{"$f":"IF(_xlfn.XLOOKUP(A19565,Agencies!A:A,Agencies!D:D)=\"Y\",IF(_xlfn.XLOOKUP(F19565,'Object Codes'!A:A,'Object Codes'!I:I)=\"Y\",\"Y\",\"N\"),\"N\")","v":"Y"},{"$f":"VLOOKUP(F19565,'Object Codes'!$A:$C,3,0)","v":"Overtime"},{"$f":"VLOOKUP(A19565,Agencies!A:C,3,0)","v":"Youth & Community Development"},0.55463013698630137]
["260",2022,"001","106","1010","689",0,0,0,0,247500,0,0,0,0,0,247500,0,247500,247500,0,247500,0,247500,247500,0,{"$f":"_xlfn.XLOOKUP(F19594,'Object Codes'!$A$18:$A$510,'Object Codes'!$H$18:$H$510)","v":"Contractual Services"},{"$f":"_xlfn.XLOOKUP(F19594,'Object Codes'!$A$18:$A$510,'Object Codes'!$G$18:$G$510)","v":0},{"$f":"_xlfn.XLOOKUP(A19594,Agencies!$A$9:$A$146,Agencies!$B$9:$B$146)","v":"General Government"},{"$f":"IF(_xlfn.XLOOKUP(A19594,Agencies!A:A,Agencies!D:D)=\"Y\",IF(_xlfn.XLOOKUP(F19594,'Object Codes'!A:A,'Object Codes'!I:I)=\"Y\",\"Y\",\"N\"),\"N\")","v":"Y"},{"$f":"VLOOKUP(F19594,'Object Codes'!$A:$C,3,0)","v":"Professional Services - Curriculum and Professional Development - Contractual"},{"$f":"VLOOKUP(A19594,Agencies!A:C,3,0)","v":"Youth & Community Development"},678.08219178082197]
["260",2022,"001","106","1031","724",0,0,0,0,1493498,0,0,0,0,0,0,0,0,0,1493498,0,1493498,0,0,1493498,{"$f":"_xlfn.XLOOKUP(F19655,'Object Codes'!$A$18:$A$510,'Object Codes'!$H$18:$H$510)","v":"Fixed Charges"},{"$f":"_xlfn.XLOOKUP(F19655,'Object Codes'!$A$18:$A$510,'Object Codes'!$G$18:$G$510)","v":0},{"$f":"_xlfn.XLOOKUP(A19655,Agencies!$A$9:$A$146,Agencies!$B$9:$B$146)","v":"General Government"},{"$f":"IF(_xlfn.XLOOKUP(A19655,Agencies!A:A,Agencies!D:D)=\"Y\",IF(_xlfn.XLOOKUP(F19655,'Object Codes'!A:A,'Object Codes'!I:I)=\"Y\",\"Y\",\"N\"),\"N\")","v":"Y"},{"$f":"VLOOKUP(F19655,'Object Codes'!$A:$C,3,0)","v":"Job Training Partnership Act - Wages"},{"$f":"VLOOKUP(A19655,Agencies!A:C,3,0)","v":"Youth & Community Development"},0]
["260",2022,"001","311","3006","061",0,0,0,0,0,0,0,0,0,0,423.25,0,423.25,423.25,-423.25,423.25,-423.25,423.25,423.25,-423.25,{"$f":"_xlfn.XLOOKUP(F19708,'Object Codes'!$A$18:$A$510,'Object Codes'!$H$18:$H$510)","v":"PS - Additional Gross"},{"$f":"_xlfn.XLOOKUP(F19708,'Object Codes'!$A$18:$A$510,'Object Codes'!$G$18:$G$510)","v":"A"},{"$f":"_xlfn.XLOOKUP(A19708,Agencies!$A$9:$A$146,Agencies!$B$9:$B$146)","v":"General Government"},{"$f":"IF(_xlfn.XLOOKUP(A19708,Agencies!A:A,Agencies!D:D)=\"Y\",IF(_xlfn.XLOOKUP(F19708,'Object Codes'!A:A,'Object Codes'!I:I)=\"Y\",\"Y\",\"N\"),\"N\")","v":"Y"},{"$f":"VLOOKUP(F19708,'Object Codes'!$A:$C,3,0)","v":"Supper Money"},{"$f":"VLOOKUP(A19708,Agencies!A:C,3,0)","v":"Youth & Community Development"},1.1595890410958904]
["260",2022,"001","311","3560","031",0,0,0,6987,6987,0,0,0,0,0,73040.23,0,73040.23,73040.23,-66053.23,73040.23,-66053.23,73040.23,73040.23,-66053.23,{"$f":"_xlfn.XLOOKUP(F19737,'Object Codes'!$A$18:$A$510,'Object Codes'!$H$18:$H$510)","v":"PS - Regular"},{"$f":"_xlfn.XLOOKUP(F19737,'Object Codes'!$A$18:$A$510,'Object Codes'!$G$18:$G$510)","v":"C"},{"$f":"_xlfn.XLOOKUP(A19737,Agencies!$A$9:$A$146,Agencies!$B$9:$B$146)","v":"General Government"},{"$f":"IF(_xlfn.XLOOKUP(A19737,Agencies!A:A,Agencies!D:D)=\"Y\",IF(_xlfn.XLOOKUP(F19737,'Object Codes'!A:A,'Object Codes'!I:I)=\"Y\",\"Y\",\"N\"),\"N\")","v":"Y"},{"$f":"VLOOKUP(F19737,'Object Codes'!$A:$C,3,0)","v":"Hourly Positions"},{"$f":"VLOOKUP(A19737,Agencies!A:C,3,0)","v":"Youth & Community Development"},200.11021917808219]
["260",2022,"001","311","4306","047",0,0,0,0,652,0,0,0,0,0,3606.04,0,3606.04,3606.04,-2954.04,3606.04,-2954.04,3606.04,3606.04,-2954.04,{"$f":"_xlfn.XLOOKUP(F19804,'Object Codes'!$A$18:$A$510,'Object Codes'!$H$18:$H$510)","v":"PS - Additional Gross"},{"$f":"_xlfn.XLOOKUP(F19804,'Object Codes'!$A$18:$A$510,'Object Codes'!$G$18:$G$510)","v":"C"},{"$f":"_xlfn.XLOOKUP(A19804,Agencies!$A$9:$A$146,Agencies!$B$9:$B$146)","v":"General Government"},{"$f":"IF(_xlfn.XLOOKUP(A19804,Agencies!A:A,Agencies!D:D)=\"Y\",IF(_xlfn.XLOOKUP(F19804,'Object Codes'!A:A,'Object Codes'!I:I)=\"Y\",\"Y\",\"N\"),\"N\")","v":"Y"},{"$f":"VLOOKUP(F19804,'Object Codes'!$A:$C,3,0)","v":"Overtime"},{"$f":"VLOOKUP(A19804,Agencies!A:C,3,0)","v":"Youth & Community Development"},9.8795616438356166]
["260",2022,"001","311","5201","061",0,0,0,0,0,0,0,0,0,0,3002.25,0,3002.25,3002.25,-3002.25,3002.25,-3002.25,3002.25,3002.25,-3002.25,{"$f":"_xlfn.XLOOKUP(F19851,'Object Codes'!$A$18:$A$510,'Object Codes'!$H$18:$H$510)","v":"PS - Additional Gross"},{"$f":"_xlfn.XLOOKUP(F19851,'Object Codes'!$A$18:$A$510,'Object Codes'!$G$18:$G$510)","v":"A"},{"$f":"_xlfn.XLOOKUP(A19851,Agencies!$A$9:$A$146,Agencies!$B$9:$B$146)","v":"General Government"},{"$f":"IF(_xlfn.XLOOKUP(A19851,Agencies!A:A,Agencies!D:D)=\"Y\",IF(_xlfn.XLOOKUP(F19851,'Object Codes'!A:A,'Object Codes'!I:I)=\"Y\",\"Y\",\"N\"),\"N\")","v":"Y"},{"$f":"VLOOKUP(F19851,'Object Codes'!$A:$C,3,0)","v":"Supper Money"},{"$f":"VLOOKUP(A19851,Agencies!A:C,3,0)","v":"Youth & Community Development"},8.2253424657534246]
["260",2022,"001","312","3550","499",0,0,0,2762313,0,0,0,0,0,0,0,0,0,0,0,0,0,0,0,0,{"$f":"_xlfn.XLOOKUP(F19880,'Object Codes'!$A$18:$A$510,'Object Codes'!$H$18:$H$510)","v":"Other Services and Charges - General"},{"$f":"_xlfn.XLOOKUP(F19880,'Object Codes'!$A$18:$A$510,'Object Codes'!$G$18:$G$510)","v":0},{"$f":"_xlfn.XLOOKUP(A19880,Agencies!$A$9:$A$146,Agencies!$B$9:$B$146)","v":"General Government"},{"$f":"IF(_xlfn.XLOOKUP(A19880,Agencies!A:A,Agencies!D:D)=\"Y\",IF(_xlfn.XLOOKUP(F19880,'Object Codes'!A:A,'Object Codes'!I:I)=\"Y\",\"Y\",\"N\"),\"N\")","v":"Y"},{"$f":"VLOOKUP(F19880,'Object Codes'!$A:$C,3,0)","v":"Other Expenditures - General"},{"$f":"VLOOKUP(A19880,Agencies!A:C,3,0)","v":"Youth & Community Development"},0]
["260",2022,"001","312","3603","695",0,0,0,8000000,2849600,0,0,0,0,0,1216318.2,678518.6,1894836.8,1894836.8,954763.2,1894836.8,954763.2,1894836.8,1894836.8,954763.2,{"$f":"_xlfn.XLOOKUP(F19907,'Object Codes'!$A$18:$A$510,'Object Codes'!$H$18:$H$510)","v":"Contractual Services"},{"$f":"_xlfn.XLOOKUP(F19907,'Object Codes'!$A$18:$A$510,'Object Codes'!$G$18:$G$510)","v":0},{"$f":"_xlfn.XLOOKUP(A19907,Agencies!$A$9:$A$146,Agencies!$B$9:$B$146)","v":"General Government"},{"$f":"IF(_xlfn.XLOOKUP(A19907,Agencies!A:A,Agencies!D:D)=\"Y\",IF(_xlfn.XLOOKUP(F19907,'Object Codes'!A:A,'Object Codes'!I:I)=\"Y\",\"Y\",\"N\"),\"N\")","v":"Y"},{"$f":"VLOOKUP(F19907,'Object Codes'!$A:$C,3,0)","v":"Educational and Recreational Expenditures for Youth Programs - Contractual"},{"$f":"VLOOKUP(A19907,Agencies!A:C,3,0)","v":"Youth & Community Development"},5191.3336986301374]
["260",2022,"001","312","3705","199",0,0,0,1200,0,0,0,0,0,0,0,0,0,0,0,0,0,0,0,0,{"$f":"_xlfn.XLOOKUP(F19989,'Object Codes'!$A$18:$A$510,'Object Codes'!$H$18:$H$510)","v":"Supplies & Materials"},{"$f":"_xlfn.XLOOKUP(F19989,'Object Codes'!$A$18:$A$510,'Object Codes'!$G$18:$G$510)","v":"A"},{"$f":"_xlfn.XLOOKUP(A19989,Agencies!$A$9:$A$146,Agencies!$B$9:$B$146)","v":"General Government"},{"$f":"IF(_xlfn.XLOOKUP(A19989,Agencies!A:A,Agencies!D:D)=\"Y\",IF(_xlfn.XLOOKUP(F19989,'Object Codes'!A:A,'Object Codes'!I:I)=\"Y\",\"Y\",\"N\"),\"N\")","v":"Y"},{"$f":"VLOOKUP(F19989,'Object Codes'!$A:$C,3,0)","v":"Data Processing Supplies"},{"$f":"VLOOKUP(A19989,Agencies!A:C,3,0)","v":"Youth & Community Development"},0]
["312",2022,"001","001","CR12","001",0,2,2,143000,143000,0,0,0,0,0,142836,0,142836,142836,164,142836,164,142836,142836,164,{"$f":"_xlfn.XLOOKUP(F20023,'Object Codes'!$A$18:$A$510,'Object Codes'!$H$18:$H$510)","v":"PS - Regular"},{"$f":"_xlfn.XLOOKUP(F20023,'Object Codes'!$A$18:$A$510,'Object Codes'!$G$18:$G$510)","v":"C"},{"$f":"_xlfn.XLOOKUP(A20023,Agencies!$A$9:$A$146,Agencies!$B$9:$B$146)","v":"General Government"},{"$f":"IF(_xlfn.XLOOKUP(A20023,Agencies!A:A,Agencies!D:D)=\"Y\",IF(_xlfn.XLOOKUP(F20023,'Object Codes'!A:A,'Object Codes'!I:I)=\"Y\",\"Y\",\"N\"),\"N\")","v":"Y"},{"$f":"VLOOKUP(F20023,'Object Codes'!$A:$C,3,0)","v":"Full Year Positions"},{"$f":"VLOOKUP(A20023,Agencies!A:C,3,0)","v":"Conflicts of Interest Board"},391.33150684931508]
["313",2022,"001","001","0101","049",0,0,0,0,0,0,0,0,0,0,10518.6,0,10518.6,10518.6,-10518.6,10518.6,-10518.6,10518.6,10518.6,-10518.6,{"$f":"_xlfn.XLOOKUP(F20056,'Object Codes'!$A$18:$A$510,'Object Codes'!$H$18:$H$510)","v":"PS - Additional Gross"},{"$f":"_xlfn.XLOOKUP(F20056,'Object Codes'!$A$18:$A$510,'Object Codes'!$G$18:$G$510)","v":"A"},{"$f":"_xlfn.XLOOKUP(A20056,Agencies!$A$9:$A$146,Agencies!$B$9:$B$146)","v":"General Government"},{"$f":"IF(_xlfn.XLOOKUP(A20056,Agencies!A:A,Agencies!D:D)=\"Y\",IF(_xlfn.XLOOKUP(F20056,'Object Codes'!A:A,'Object Codes'!I:I)=\"Y\",\"Y\",\"N\"),\"N\")","v":"Y"},{"$f":"VLOOKUP(F20056,'Object Codes'!$A:$C,3,0)","v":"Backpay"},{"$f":"VLOOKUP(A20056,Agencies!A:C,3,0)","v":"Office of Collective Barg."},28.818082191780825]
["343",2022,"001","001","1000","001",0,4,4,246201,233701,0,0,0,0,0,182923.91,0,182923.91,182923.91,50777.09,182923.91,50777.09,182923.91,182923.91,50777.09,{"$f":"_xlfn.XLOOKUP(F20132,'Object Codes'!$A$18:$A$510,'Object Codes'!$H$18:$H$510)","v":"PS - Regular"},{"$f":"_xlfn.XLOOKUP(F20132,'Object Codes'!$A$18:$A$510,'Object Codes'!$G$18:$G$510)","v":"C"},{"$f":"_xlfn.XLOOKUP(A20132,Agencies!$A$9:$A$146,Agencies!$B$9:$B$146)","v":"General Government"},{"$f":"IF(_xlfn.XLOOKUP(A20132,Agencies!A:A,Agencies!D:D)=\"Y\",IF(_xlfn.XLOOKUP(F20132,'Object Codes'!A:A,'Object Codes'!I:I)=\"Y\",\"Y\",\"N\"),\"N\")","v":"Y"},{"$f":"VLOOKUP(F20132,'Object Codes'!$A:$C,3,0)","v":"Full Year Positions"},{"$f":"VLOOKUP(A20132,Agencies!A:C,3,0)","v":"Community Board"},501.16139726027399]
["344",2022,"001","002","1000","499",0,0,0,27781,11781,0,0,0,0,0,0,0,0,0,11781,0,11781,0,0,11781,{"$f":"_xlfn.XLOOKUP(F20166,'Object Codes'!$A$18:$A$510,'Object Codes'!$H$18:$H$510)","v":"Other Services and Charges - General"},{"$f":"_xlfn.XLOOKUP(F20166,'Object Codes'!$A$18:$A$510,'Object Codes'!$G$18:$G$510)","v":0},{"$f":"_xlfn.XLOOKUP(A20166,Agencies!$A$9:$A$146,Agencies!$B$9:$B$146)","v":"General Government"},{"$f":"IF(_xlfn.XLOOKUP(A20166,Agencies!A:A,Agencies!D:D)=\"Y\",IF(_xlfn.XLOOKUP(F20166,'Object Codes'!A:A,'Object Codes'!I:I)=\"Y\",\"Y\",\"N\"),\"N\")","v":"Y"},{"$f":"VLOOKUP(F20166,'Object Codes'!$A:$C,3,0)","v":"Other Expenditures - General"},{"$f":"VLOOKUP(A20166,Agencies!A:C,3,0)","v":"Community Board"},0]
["347",2022,"001","001","1000","001",0,3,3,233349,199037,0,0,0,0,0,167088.82999999999,0,167088.82999999999,167088.82999999999,31948.17,167088.82999999999,31948.17,167088.82999999999,167088.82999999999,31948.17,{"$f":"_xlfn.XLOOKUP(F20205,'Object Codes'!$A$18:$A$510,'Object Codes'!$H$18:$H$510)","v":"PS - Regular"},{"$f":"_xlfn.XLOOKUP(F20205,'Object Codes'!$A$18:$A$510,'Object Codes'!$G$18:$G$510)","v":"C"},{"$f":"_xlfn.XLOOKUP(A20205,Agencies!$A$9:$A$146,Agencies!$B$9:$B$146)","v":"General Government"},{"$f":"IF(_xlfn.XLOOKUP(A20205,Agencies!A:A,Agencies!D:D)=\"Y\",IF(_xlfn.XLOOKUP(F20205,'Object Codes'!A:A,'Object Codes'!I:I)=\"Y\",\"Y\",\"N\"),\"N\")","v":"Y"},{"$f":"VLOOKUP(F20205,'Object Codes'!$A:$C,3,0)","v":"Full Year Positions"},{"$f":"VLOOKUP(A20205,Agencies!A:C,3,0)","v":"Community Board"},457.77761643835612]
["351",2022,"001","001","1000","001",0,3,3,221358,209968,0,0,0,0,0,173940.43,0,173940.43,173940.43,36027.57,173940.43,36027.57,173940.43,173940.43,36027.57,{"$f":"_xlfn.XLOOKUP(F20275,'Object Codes'!$A$18:$A$510,'Object Codes'!$H$18:$H$510)","v":"PS - Regular"},{"$f":"_xlfn.XLOOKUP(F20275,'Object Codes'!$A$18:$A$510,'Object Codes'!$G$18:$G$510)","v":"C"},{"$f":"_xlfn.XLOOKUP(A20275,Agencies!$A$9:$A$146,Agencies!$B$9:$B$146)","v":"General Government"},{"$f":"IF(_xlfn.XLOOKUP(A20275,Agencies!A:A,Agencies!D:D)=\"Y\",IF(_xlfn.XLOOKUP(F20275,'Object Codes'!A:A,'Object Codes'!I:I)=\"Y\",\"Y\",\"N\"),\"N\")","v":"Y"},{"$f":"VLOOKUP(F20275,'Object Codes'!$A:$C,3,0)","v":"Full Year Positions"},{"$f":"VLOOKUP(A20275,Agencies!A:C,3,0)","v":"Community Board"},476.54912328767119]
["352",2022,"001","002","1000","40B",0,0,0,3297,3297,0,0,0,0,0,3297,0,3297,3297,0,3297,0,3297,3297,0,{"$f":"_xlfn.XLOOKUP(F20309,'Object Codes'!$A$18:$A$510,'Object Codes'!$H$18:$H$510)","v":"Other Services and Charges - General"},{"$f":"_xlfn.XLOOKUP(F20309,'Object Codes'!$A$18:$A$510,'Object Codes'!$G$18:$G$510)","v":0},{"$f":"_xlfn.XLOOKUP(A20309,Agencies!$A$9:$A$146,Agencies!$B$9:$B$146)","v":"General Government"},{"$f":"IF(_xlfn.XLOOKUP(A20309,Agencies!A:A,Agencies!D:D)=\"Y\",IF(_xlfn.XLOOKUP(F20309,'Object Codes'!A:A,'Object Codes'!I:I)=\"Y\",\"Y\",\"N\"),\"N\")","v":"Y"},{"$f":"VLOOKUP(F20309,'Object Codes'!$A:$C,3,0)","v":"TELEPHONE & OTHER COMMUNICATNS"},{"$f":"VLOOKUP(A20309,Agencies!A:C,3,0)","v":"Community Board"},9.0328767123287665]
["382",2022,"001","002","1000","100",0,0,0,2264,4364,0,0,0,0,0,3869.32,0,3869.32,3869.32,494.68,3869.32,494.68,3869.32,3869.32,494.68,{"$f":"_xlfn.XLOOKUP(F20338,'Object Codes'!$A$18:$A$510,'Object Codes'!$H$18:$H$510)","v":"Supplies & Materials"},{"$f":"_xlfn.XLOOKUP(F20338,'Object Codes'!$A$18:$A$510,'Object Codes'!$G$18:$G$510)","v":"A"},{"$f":"_xlfn.XLOOKUP(A20338,Agencies!$A$9:$A$146,Agencies!$B$9:$B$146)","v":"General Government"},{"$f":"IF(_xlfn.XLOOKUP(A20338,Agencies!A:A,Agencies!D:D)=\"Y\",IF(_xlfn.XLOOKUP(F20338,'Object Codes'!A:A,'Object Codes'!I:I)=\"Y\",\"Y\",\"N\"),\"N\")","v":"Y"},{"$f":"VLOOKUP(F20338,'Object Codes'!$A:$C,3,0)","v":"Supplies and Materials - General"},{"$f":"VLOOKUP(A20338,Agencies!A:C,3,0)","v":"Community Board"},10.600876712328768]
["386",2022,"001","001","1000","031",0,0,0,2504,2504,0,0,0,0,0,17091.61,0,17091.61,17091.61,-14587.61,17091.61,-14587.61,17091.61,17091.61,-14587.61,{"$f":"_xlfn.XLOOKUP(F20412,'Object Codes'!$A$18:$A$510,'Object Codes'!$H$18:$H$510)","v":"PS - Regular"},{"$f":"_xlfn.XLOOKUP(F20412,'Object Codes'!$A$18:$A$510,'Object Codes'!$G$18:$G$510)","v":"C"},{"$f":"_xlfn.XLOOKUP(A20412,Agencies!$A$9:$A$146,Agencies!$B$9:$B$146)","v":"General Government"},{"$f":"IF(_xlfn.XLOOKUP(A20412,Agencies!A:A,Agencies!D:D)=\"Y\",IF(_xlfn.XLOOKUP(F20412,'Object Codes'!A:A,'Object Codes'!I:I)=\"Y\",\"Y\",\"N\"),\"N\")","v":"Y"},{"$f":"VLOOKUP(F20412,'Object Codes'!$A:$C,3,0)","v":"Hourly Positions"},{"$f":"VLOOKUP(A20412,Agencies!A:C,3,0)","v":"Community Board"},46.826328767123286]
["387",2022,"001","002","1000","671",0,0,0,3200,0,0,0,0,0,0,0,0,0,0,0,0,0,0,0,0,{"$f":"_xlfn.XLOOKUP(F20452,'Object Codes'!$A$18:$A$510,'Object Codes'!$H$18:$H$510)","v":"Contractual Services"},{"$f":"_xlfn.XLOOKUP(F20452,'Object Codes'!$A$18:$A$510,'Object Codes'!$G$18:$G$510)","v":0},{"$f":"_xlfn.XLOOKUP(A20452,Agencies!$A$9:$A$146,Agencies!$B$9:$B$146)","v":"General Government"},{"$f":"IF(_xlfn.XLOOKUP(A20452,Agencies!A:A,Agencies!D:D)=\"Y\",IF(_xlfn.XLOOKUP(F20452,'Object Codes'!A:A,'Object Codes'!I:I)=\"Y\",\"Y\",\"N\"),\"N\")","v":"Y"},{"$f":"VLOOKUP(F20452,'Object Codes'!$A:$C,3,0)","v":"Training Program for City Employees - Contractual"},{"$f":"VLOOKUP(A20452,Agencies!A:C,3,0)","v":"Community Board"},0]
["388",2022,"001","002","2000","499",0,0,0,1,1,0,0,0,0,0,0,0,0,0,1,0,1,0,0,1,{"$f":"_xlfn.XLOOKUP(F20481,'Object Codes'!$A$18:$A$510,'Object Codes'!$H$18:$H$510)","v":"Other Services and Charges - General"},{"$f":"_xlfn.XLOOKUP(F20481,'Object Codes'!$A$18:$A$510,'Object Codes'!$G$18:$G$510)","v":0},{"$f":"_xlfn.XLOOKUP(A20481,Agencies!$A$9:$A$146,Agencies!$B$9:$B$146)","v":"General Government"},{"$f":"IF(_xlfn.XLOOKUP(A20481,Agencies!A:A,Agencies!D:D)=\"Y\",IF(_xlfn.XLOOKUP(F20481,'Object Codes'!A:A,'Object Codes'!I:I)=\"Y\",\"Y\",\"N\"),\"N\")","v":"Y"},{"$f":"VLOOKUP(F20481,'Object Codes'!$A:$C,3,0)","v":"Other Expenditures - General"},{"$f":"VLOOKUP(A20481,Agencies!A:C,3,0)","v":"Community Board"},0]
["390",2022,"001","002","1000","402",0,0,0,0,420,0,0,0,0,0,228.06,0,228.06,228.06,191.94,228.06,191.94,228.06,228.06,191.94,{"$f":"_xlfn.XLOOKUP(F20515,'Object Codes'!$A$18:$A$510,'Object Codes'!$H$18:$H$510)","v":"Other Services and Charges - General"},{"$f":"_xlfn.XLOOKUP(F20515,'Object Codes'!$A$18:$A$510,'Object Codes'!$G$18:$G$510)","v":0},{"$f":"_xlfn.XLOOKUP(A20515,Agencies!$A$9:$A$146,Agencies!$B$9:$B$146)","v":"General Government"},{"$f":"IF(_xlfn.XLOOKUP(A20515,Agencies!A:A,Agencies!D:D)=\"Y\",IF(_xlfn.XLOOKUP(F20515,'Object Codes'!A:A,'Object Codes'!I:I)=\"Y\",\"Y\",\"N\"),\"N\")","v":"Y"},{"$f":"VLOOKUP(F20515,'Object Codes'!$A:$C,3,0)","v":"Telephone and Other Communications"},{"$f":"VLOOKUP(A20515,Agencies!A:C,3,0)","v":"Community Board"},0.62482191780821916]
["431",2022,"001","002","1000","499",0,0,0,30669,0,0,0,0,0,0,0,0,0,0,0,0,0,0,0,0,{"$f":"_xlfn.XLOOKUP(F20590,'Object Codes'!$A$18:$A$510,'Object Codes'!$H$18:$H$510)","v":"Other Services and Charges - General"},{"$f":"_xlfn.XLOOKUP(F20590,'Object Codes'!$A$18:$A$510,'Object Codes'!$G$18:$G$510)","v":0},{"$f":"_xlfn.XLOOKUP(A20590,Agencies!$A$9:$A$146,Agencies!$B$9:$B$146)","v":"General Government"},{"$f":"IF(_xlfn.XLOOKUP(A20590,Agencies!A:A,Agencies!D:D)=\"Y\",IF(_xlfn.XLOOKUP(F20590,'Object Codes'!A:A,'Object Codes'!I:I)=\"Y\",\"Y\",\"N\"),\"N\")","v":"Y"},{"$f":"VLOOKUP(F20590,'Object Codes'!$A:$C,3,0)","v":"Other Expenditures - General"},{"$f":"VLOOKUP(A20590,Agencies!A:C,3,0)","v":"Community Board"},0]
["433",2022,"001","001","1000","001",0,5,5,215114,215114,0,0,0,0,0,198250.13,0,198250.13,198250.13,16863.87,198250.13,16863.87,198250.13,198250.13,16863.87,{"$f":"_xlfn.XLOOKUP(F20624,'Object Codes'!$A$18:$A$510,'Object Codes'!$H$18:$H$510)","v":"PS - Regular"},{"$f":"_xlfn.XLOOKUP(F20624,'Object Codes'!$A$18:$A$510,'Object Codes'!$G$18:$G$510)","v":"C"},{"$f":"_xlfn.XLOOKUP(A20624,Agencies!$A$9:$A$146,Agencies!$B$9:$B$146)","v":"General Government"},{"$f":"IF(_xlfn.XLOOKUP(A20624,Agencies!A:A,Agencies!D:D)=\"Y\",IF(_xlfn.XLOOKUP(F20624,'Object Codes'!A:A,'Object Codes'!I:I)=\"Y\",\"Y\",\"N\"),\"N\")","v":"Y"},{"$f":"VLOOKUP(F20624,'Object Codes'!$A:$C,3,0)","v":"Full Year Positions"},{"$f":"VLOOKUP(A20624,Agencies!A:C,3,0)","v":"Community Board"},543.15104109589038]
["434",2022,"001","002","1000","40B",0,0,0,2772,2772,0,0,0,0,0,2772,0,2772,2772,0,2772,0,2772,2772,0,{"$f":"_xlfn.XLOOKUP(F20664,'Object Codes'!$A$18:$A$510,'Object Codes'!$H$18:$H$510)","v":"Other Services and Charges - General"},{"$f":"_xlfn.XLOOKUP(F20664,'Object Codes'!$A$18:$A$510,'Object Codes'!$G$18:$G$510)","v":0},{"$f":"_xlfn.XLOOKUP(A20664,Agencies!$A$9:$A$146,Agencies!$B$9:$B$146)","v":"General Government"},{"$f":"IF(_xlfn.XLOOKUP(A20664,Agencies!A:A,Agencies!D:D)=\"Y\",IF(_xlfn.XLOOKUP(F20664,'Object Codes'!A:A,'Object Codes'!I:I)=\"Y\",\"Y\",\"N\"),\"N\")","v":"Y"},{"$f":"VLOOKUP(F20664,'Object Codes'!$A:$C,3,0)","v":"TELEPHONE & OTHER COMMUNICATNS"},{"$f":"VLOOKUP(A20664,Agencies!A:C,3,0)","v":"Community Board"},7.5945205479452058]
["437",2022,"001","002","1000","117",0,0,0,2000,6590,0,0,0,0,0,6590,0,6590,6590,0,6590,0,6590,6590,0,{"$f":"_xlfn.XLOOKUP(F20733,'Object Codes'!$A$18:$A$510,'Object Codes'!$H$18:$H$510)","v":"Supplies & Materials"},{"$f":"_xlfn.XLOOKUP(F20733,'Object Codes'!$A$18:$A$510,'Object Codes'!$G$18:$G$510)","v":"A"},{"$f":"_xlfn.XLOOKUP(A20733,Agencies!$A$9:$A$146,Agencies!$B$9:$B$146)","v":"General Government"},{"$f":"IF(_xlfn.XLOOKUP(A20733,Agencies!A:A,Agencies!D:D)=\"Y\",IF(_xlfn.XLOOKUP(F20733,'Object Codes'!A:A,'Object Codes'!I:I)=\"Y\",\"Y\",\"N\"),\"N\")","v":"Y"},{"$f":"VLOOKUP(F20733,'Object Codes'!$A:$C,3,0)","v":"Postage"},{"$f":"VLOOKUP(A20733,Agencies!A:C,3,0)","v":"Community Board"},18.054794520547944]
["438",2022,"001","002","1000","624",0,0,0,1560,6848,0,0,0,0,0,7164,0,7164,7164,-316,7164,-316,7164,7164,-316,{"$f":"_xlfn.XLOOKUP(F20767,'Object Codes'!$A$18:$A$510,'Object Codes'!$H$18:$H$510)","v":"Contractual Services"},{"$f":"_xlfn.XLOOKUP(F20767,'Object Codes'!$A$18:$A$510,'Object Codes'!$G$18:$G$510)","v":0},{"$f":"_xlfn.XLOOKUP(A20767,Agencies!$A$9:$A$146,Agencies!$B$9:$B$146)","v":"General Government"},{"$f":"IF(_xlfn.XLOOKUP(A20767,Agencies!A:A,Agencies!D:D)=\"Y\",IF(_xlfn.XLOOKUP(F20767,'Object Codes'!A:A,'Object Codes'!I:I)=\"Y\",\"Y\",\"N\"),\"N\")","v":"Y"},{"$f":"VLOOKUP(F20767,'Object Codes'!$A:$C,3,0)","v":"Cleaning Services - Contractual"},{"$f":"VLOOKUP(A20767,Agencies!A:C,3,0)","v":"Community Board"},19.627397260273973]
["440",2022,"001","002","1000","624",0,0,0,264,264,0,0,0,0,0,264,0,264,264,0,264,0,264,264,0,{"$f":"_xlfn.XLOOKUP(F20813,'Object Codes'!$A$18:$A$510,'Object Codes'!$H$18:$H$510)","v":"Contractual Services"},{"$f":"_xlfn.XLOOKUP(F20813,'Object Codes'!$A$18:$A$510,'Object Codes'!$G$18:$G$510)","v":0},{"$f":"_xlfn.XLOOKUP(A20813,Agencies!$A$9:$A$146,Agencies!$B$9:$B$146)","v":"General Government"},{"$f":"IF(_xlfn.XLOOKUP(A20813,Agencies!A:A,Agencies!D:D)=\"Y\",IF(_xlfn.XLOOKUP(F20813,'Object Codes'!A:A,'Object Codes'!I:I)=\"Y\",\"Y\",\"N\"),\"N\")","v":"Y"},{"$f":"VLOOKUP(F20813,'Object Codes'!$A:$C,3,0)","v":"Cleaning Services - Contractual"},{"$f":"VLOOKUP(A20813,Agencies!A:C,3,0)","v":"Community Board"},0.72328767123287674]
["443",2022,"001","002","1000","40B",0,0,0,2923,2923,0,0,0,0,0,341,0,341,341,2582,341,2582,341,341,2582,{"$f":"_xlfn.XLOOKUP(F20876,'Object Codes'!$A$18:$A$510,'Object Codes'!$H$18:$H$510)","v":"Other Services and Charges - General"},{"$f":"_xlfn.XLOOKUP(F20876,'Object Codes'!$A$18:$A$510,'Object Codes'!$G$18:$G$510)","v":0},{"$f":"_xlfn.XLOOKUP(A20876,Agencies!$A$9:$A$146,Agencies!$B$9:$B$146)","v":"General Government"},{"$f":"IF(_xlfn.XLOOKUP(A20876,Agencies!A:A,Agencies!D:D)=\"Y\",IF(_xlfn.XLOOKUP(F20876,'Object Codes'!A:A,'Object Codes'!I:I)=\"Y\",\"Y\",\"N\"),\"N\")","v":"Y"},{"$f":"VLOOKUP(F20876,'Object Codes'!$A:$C,3,0)","v":"TELEPHONE & OTHER COMMUNICATNS"},{"$f":"VLOOKUP(A20876,Agencies!A:C,3,0)","v":"Community Board"},0.9342465753424658]
["471",2022,"001","002","1000","100",0,0,0,3493,2807,0,0,0,0,0,2806.34,0,2806.34,2806.34,0.66,2806.34,0.66,2806.34,2806.34,0.66,{"$f":"_xlfn.XLOOKUP(F20910,'Object Codes'!$A$18:$A$510,'Object Codes'!$H$18:$H$510)","v":"Supplies & Materials"},{"$f":"_xlfn.XLOOKUP(F20910,'Object Codes'!$A$18:$A$510,'Object Codes'!$G$18:$G$510)","v":"A"},{"$f":"_xlfn.XLOOKUP(A20910,Agencies!$A$9:$A$146,Agencies!$B$9:$B$146)","v":"General Government"},{"$f":"IF(_xlfn.XLOOKUP(A20910,Agencies!A:A,Agencies!D:D)=\"Y\",IF(_xlfn.XLOOKUP(F20910,'Object Codes'!A:A,'Object Codes'!I:I)=\"Y\",\"Y\",\"N\"),\"N\")","v":"Y"},{"$f":"VLOOKUP(F20910,'Object Codes'!$A:$C,3,0)","v":"Supplies and Materials - General"},{"$f":"VLOOKUP(A20910,Agencies!A:C,3,0)","v":"Community Board"},7.6886027397260275]
["473",2022,"001","002","1000","314",0,0,0,1000,0,0,0,0,0,0,0,0,0,0,0,0,0,0,0,0,{"$f":"_xlfn.XLOOKUP(F20974,'Object Codes'!$A$18:$A$510,'Object Codes'!$H$18:$H$510)","v":"Equipment"},{"$f":"_xlfn.XLOOKUP(F20974,'Object Codes'!$A$18:$A$510,'Object Codes'!$G$18:$G$510)","v":"A"},{"$f":"_xlfn.XLOOKUP(A20974,Agencies!$A$9:$A$146,Agencies!$B$9:$B$146)","v":"General Government"},{"$f":"IF(_xlfn.XLOOKUP(A20974,Agencies!A:A,Agencies!D:D)=\"Y\",IF(_xlfn.XLOOKUP(F20974,'Object Codes'!A:A,'Object Codes'!I:I)=\"Y\",\"Y\",\"N\"),\"N\")","v":"Y"},{"$f":"VLOOKUP(F20974,'Object Codes'!$A:$C,3,0)","v":"Office Furniture"},{"$f":"VLOOKUP(A20974,Agencies!A:C,3,0)","v":"Community Board"},0]
["474",2022,"001","003","4000","499",0,0,0,2,2,0,0,0,0,0,0,0,0,0,2,0,2,0,0,2,{"$f":"_xlfn.XLOOKUP(F21019,'Object Codes'!$A$18:$A$510,'Object Codes'!$H$18:$H$510)","v":"Other Services and Charges - General"},{"$f":"_xlfn.XLOOKUP(F21019,'Object Codes'!$A$18:$A$510,'Object Codes'!$G$18:$G$510)","v":0},{"$f":"_xlfn.XLOOKUP(A21019,Agencies!$A$9:$A$146,Agencies!$B$9:$B$146)","v":"General Government"},{"$f":"IF(_xlfn.XLOOKUP(A21019,Agencies!A:A,Agencies!D:D)=\"Y\",IF(_xlfn.XLOOKUP(F21019,'Object Codes'!A:A,'Object Codes'!I:I)=\"Y\",\"Y\",\"N\"),\"N\")","v":"Y"},{"$f":"VLOOKUP(F21019,'Object Codes'!$A:$C,3,0)","v":"Other Expenditures - General"},{"$f":"VLOOKUP(A21019,Agencies!A:C,3,0)","v":"Community Board"},0]
["476",2022,"001","002","1000","499",0,0,0,15662,8862,0,0,0,0,0,0,0,0,0,8862,0,8862,0,0,8862,{"$f":"_xlfn.XLOOKUP(F21053,'Object Codes'!$A$18:$A$510,'Object Codes'!$H$18:$H$510)","v":"Other Services and Charges - General"},{"$f":"_xlfn.XLOOKUP(F21053,'Object Codes'!$A$18:$A$510,'Object Codes'!$G$18:$G$510)","v":0},{"$f":"_xlfn.XLOOKUP(A21053,Agencies!$A$9:$A$146,Agencies!$B$9:$B$146)","v":"General Government"},{"$f":"IF(_xlfn.XLOOKUP(A21053,Agencies!A:A,Agencies!D:D)=\"Y\",IF(_xlfn.XLOOKUP(F21053,'Object Codes'!A:A,'Object Codes'!I:I)=\"Y\",\"Y\",\"N\"),\"N\")","v":"Y"},{"$f":"VLOOKUP(F21053,'Object Codes'!$A:$C,3,0)","v":"Other Expenditures - General"},{"$f":"VLOOKUP(A21053,Agencies!A:C,3,0)","v":"Community Board"},0]
["478",2022,"001","001","1000","061",0,0,0,0,0,0,0,0,0,0,264.5,0,264.5,264.5,-264.5,264.5,-264.5,264.5,264.5,-264.5,{"$f":"_xlfn.XLOOKUP(F21077,'Object Codes'!$A$18:$A$510,'Object Codes'!$H$18:$H$510)","v":"PS - Additional Gross"},{"$f":"_xlfn.XLOOKUP(F21077,'Object Codes'!$A$18:$A$510,'Object Codes'!$G$18:$G$510)","v":"A"},{"$f":"_xlfn.XLOOKUP(A21077,Agencies!$A$9:$A$146,Agencies!$B$9:$B$146)","v":"General Government"},{"$f":"IF(_xlfn.XLOOKUP(A21077,Agencies!A:A,Agencies!D:D)=\"Y\",IF(_xlfn.XLOOKUP(F21077,'Object Codes'!A:A,'Object Codes'!I:I)=\"Y\",\"Y\",\"N\"),\"N\")","v":"Y"},{"$f":"VLOOKUP(F21077,'Object Codes'!$A:$C,3,0)","v":"Supper Money"},{"$f":"VLOOKUP(A21077,Agencies!A:C,3,0)","v":"Community Board"},0.72465753424657531]
["481",2022,"001","001","1000","031",0,0,0,22234,22234,0,0,0,0,0,26396.67,0,26396.67,26396.67,-4162.67,26396.67,-4162.67,26396.67,26396.67,-4162.67,{"$f":"_xlfn.XLOOKUP(F21162,'Object Codes'!$A$18:$A$510,'Object Codes'!$H$18:$H$510)","v":"PS - Regular"},{"$f":"_xlfn.XLOOKUP(F21162,'Object Codes'!$A$18:$A$510,'Object Codes'!$G$18:$G$510)","v":"C"},{"$f":"_xlfn.XLOOKUP(A21162,Agencies!$A$9:$A$146,Agencies!$B$9:$B$146)","v":"General Government"},{"$f":"IF(_xlfn.XLOOKUP(A21162,Agencies!A:A,Agencies!D:D)=\"Y\",IF(_xlfn.XLOOKUP(F21162,'Object Codes'!A:A,'Object Codes'!I:I)=\"Y\",\"Y\",\"N\"),\"N\")","v":"Y"},{"$f":"VLOOKUP(F21162,'Object Codes'!$A:$C,3,0)","v":"Hourly Positions"},{"$f":"VLOOKUP(A21162,Agencies!A:C,3,0)","v":"Community Board"},72.319643835616432]
["482",2022,"001","001","1000","049",0,0,0,0,0,0,0,0,0,0,6336.93,0,6336.93,6336.93,-6336.93,6336.93,-6336.93,6336.93,6336.93,-6336.93,{"$f":"_xlfn.XLOOKUP(F21191,'Object Codes'!$A$18:$A$510,'Object Codes'!$H$18:$H$510)","v":"PS - Additional Gross"},{"$f":"_xlfn.XLOOKUP(F21191,'Object Codes'!$A$18:$A$510,'Object Codes'!$G$18:$G$510)","v":"A"},{"$f":"_xlfn.XLOOKUP(A21191,Agencies!$A$9:$A$146,Agencies!$B$9:$B$146)","v":"General Government"},{"$f":"IF(_xlfn.XLOOKUP(A21191,Agencies!A:A,Agencies!D:D)=\"Y\",IF(_xlfn.XLOOKUP(F21191,'Object Codes'!A:A,'Object Codes'!I:I)=\"Y\",\"Y\",\"N\"),\"N\")","v":"Y"},{"$f":"VLOOKUP(F21191,'Object Codes'!$A:$C,3,0)","v":"Backpay"},{"$f":"VLOOKUP(A21191,Agencies!A:C,3,0)","v":"Community Board"},17.361452054794523]
["483",2022,"001","002","1000","117",0,0,0,2000,0,0,0,0,0,0,0,0,0,0,0,0,0,0,0,0,{"$f":"_xlfn.XLOOKUP(F21226,'Object Codes'!$A$18:$A$510,'Object Codes'!$H$18:$H$510)","v":"Supplies & Materials"},{"$f":"_xlfn.XLOOKUP(F21226,'Object Codes'!$A$18:$A$510,'Object Codes'!$G$18:$G$510)","v":"A"},{"$f":"_xlfn.XLOOKUP(A21226,Agencies!$A$9:$A$146,Agencies!$B$9:$B$146)","v":"General Government"},{"$f":"IF(_xlfn.XLOOKUP(A21226,Agencies!A:A,Agencies!D:D)=\"Y\",IF(_xlfn.XLOOKUP(F21226,'Object Codes'!A:A,'Object Codes'!I:I)=\"Y\",\"Y\",\"N\"),\"N\")","v":"Y"},{"$f":"VLOOKUP(F21226,'Object Codes'!$A:$C,3,0)","v":"Postage"},{"$f":"VLOOKUP(A21226,Agencies!A:C,3,0)","v":"Community Board"},0]
["486",2022,"001","002","1001","499",0,0,0,0,2000,0,0,0,0,0,0,0,0,0,2000,0,2000,0,0,2000,{"$f":"_xlfn.XLOOKUP(F21305,'Object Codes'!$A$18:$A$510,'Object Codes'!$H$18:$H$510)","v":"Other Services and Charges - General"},{"$f":"_xlfn.XLOOKUP(F21305,'Object Codes'!$A$18:$A$510,'Object Codes'!$G$18:$G$510)","v":0},{"$f":"_xlfn.XLOOKUP(A21305,Agencies!$A$9:$A$146,Agencies!$B$9:$B$146)","v":"General Government"},{"$f":"IF(_xlfn.XLOOKUP(A21305,Agencies!A:A,Agencies!D:D)=\"Y\",IF(_xlfn.XLOOKUP(F21305,'Object Codes'!A:A,'Object Codes'!I:I)=\"Y\",\"Y\",\"N\"),\"N\")","v":"Y"},{"$f":"VLOOKUP(F21305,'Object Codes'!$A:$C,3,0)","v":"Other Expenditures - General"},{"$f":"VLOOKUP(A21305,Agencies!A:C,3,0)","v":"Community Board"},0]
["487",2022,"001","002","1001","615",0,0,0,0,205,0,0,0,0,0,0,205,205,205,0,205,0,205,205,0,{"$f":"_xlfn.XLOOKUP(F21334,'Object Codes'!$A$18:$A$510,'Object Codes'!$H$18:$H$510)","v":"Contractual Services"},{"$f":"_xlfn.XLOOKUP(F21334,'Object Codes'!$A$18:$A$510,'Object Codes'!$G$18:$G$510)","v":0},{"$f":"_xlfn.XLOOKUP(A21334,Agencies!$A$9:$A$146,Agencies!$B$9:$B$146)","v":"General Government"},{"$f":"IF(_xlfn.XLOOKUP(A21334,Agencies!A:A,Agencies!D:D)=\"Y\",IF(_xlfn.XLOOKUP(F21334,'Object Codes'!A:A,'Object Codes'!I:I)=\"Y\",\"Y\",\"N\"),\"N\")","v":"Y"},{"$f":"VLOOKUP(F21334,'Object Codes'!$A:$C,3,0)","v":"Printing Services - Contractual"},{"$f":"VLOOKUP(A21334,Agencies!A:C,3,0)","v":"Community Board"},0.56164383561643838]
["488",2022,"001","002","1000","676",0,0,0,0,6665,0,0,0,0,0,6665,0,6665,6665,0,6665,0,6665,6665,0,{"$f":"_xlfn.XLOOKUP(F21368,'Object Codes'!$A$18:$A$510,'Object Codes'!$H$18:$H$510)","v":"Contractual Services"},{"$f":"_xlfn.XLOOKUP(F21368,'Object Codes'!$A$18:$A$510,'Object Codes'!$G$18:$G$510)","v":0},{"$f":"_xlfn.XLOOKUP(A21368,Agencies!$A$9:$A$146,Agencies!$B$9:$B$146)","v":"General Government"},{"$f":"IF(_xlfn.XLOOKUP(A21368,Agencies!A:A,Agencies!D:D)=\"Y\",IF(_xlfn.XLOOKUP(F21368,'Object Codes'!A:A,'Object Codes'!I:I)=\"Y\",\"Y\",\"N\"),\"N\")","v":"Y"},{"$f":"VLOOKUP(F21368,'Object Codes'!$A:$C,3,0)","v":"Maintenance and Operation of Infrastructure - Contractual"},{"$f":"VLOOKUP(A21368,Agencies!A:C,3,0)","v":"Community Board"},18.260273972602739]
["493",2022,"001","002","1000","100",0,0,0,1400,2366,0,0,0,0,0,1557.11,0,1557.11,1557.11,808.89,1557.11,808.89,1557.11,1557.11,808.89,{"$f":"_xlfn.XLOOKUP(F21421,'Object Codes'!$A$18:$A$510,'Object Codes'!$H$18:$H$510)","v":"Supplies & Materials"},{"$f":"_xlfn.XLOOKUP(F21421,'Object Codes'!$A$18:$A$510,'Object Codes'!$G$18:$G$510)","v":"A"},{"$f":"_xlfn.XLOOKUP(A21421,Agencies!$A$9:$A$146,Agencies!$B$9:$B$146)","v":"General Government"},{"$f":"IF(_xlfn.XLOOKUP(A21421,Agencies!A:A,Agencies!D:D)=\"Y\",IF(_xlfn.XLOOKUP(F21421,'Object Codes'!A:A,'Object Codes'!I:I)=\"Y\",\"Y\",\"N\"),\"N\")","v":"Y"},{"$f":"VLOOKUP(F21421,'Object Codes'!$A:$C,3,0)","v":"Supplies and Materials - General"},{"$f":"VLOOKUP(A21421,Agencies!A:C,3,0)","v":"Community Board"},4.2660547945205476]
["781",2022,"001","001","E001","001",0,0,0,0,49973,0,0,0,0,0,49972.61,0,49972.61,49972.61,0.39,49972.61,0.39,49972.61,49972.61,0.39,{"$f":"_xlfn.XLOOKUP(F21477,'Object Codes'!$A$18:$A$510,'Object Codes'!$H$18:$H$510)","v":"PS - Regular"},{"$f":"_xlfn.XLOOKUP(F21477,'Object Codes'!$A$18:$A$510,'Object Codes'!$G$18:$G$510)","v":"C"},{"$f":"_xlfn.XLOOKUP(A21477,Agencies!$A$9:$A$146,Agencies!$B$9:$B$146)","v":"Public Safety & Judicial"},{"$f":"IF(_xlfn.XLOOKUP(A21477,Agencies!A:A,Agencies!D:D)=\"Y\",IF(_xlfn.XLOOKUP(F21477,'Object Codes'!A:A,'Object Codes'!I:I)=\"Y\",\"Y\",\"N\"),\"N\")","v":"Y"},{"$f":"VLOOKUP(F21477,'Object Codes'!$A:$C,3,0)","v":"Full Year Positions"},{"$f":"VLOOKUP(A21477,Agencies!A:C,3,0)","v":"Department of Probation"},136.9112602739726]
["781",2022,"001","002","3001","031",0,0,0,0,0,0,0,0,0,0,11914.65,0,11914.65,11914.65,-11914.65,11914.65,-11914.65,11914.65,11914.65,-11914.65,{"$f":"_xlfn.XLOOKUP(F21511,'Object Codes'!$A$18:$A$510,'Object Codes'!$H$18:$H$510)","v":"PS - Regular"},{"$f":"_xlfn.XLOOKUP(F21511,'Object Codes'!$A$18:$A$510,'Object Codes'!$G$18:$G$510)","v":"C"},{"$f":"_xlfn.XLOOKUP(A21511,Agencies!$A$9:$A$146,Agencies!$B$9:$B$146)","v":"Public Safety & Judicial"},{"$f":"IF(_xlfn.XLOOKUP(A21511,Agencies!A:A,Agencies!D:D)=\"Y\",IF(_xlfn.XLOOKUP(F21511,'Object Codes'!A:A,'Object Codes'!I:I)=\"Y\",\"Y\",\"N\"),\"N\")","v":"Y"},{"$f":"VLOOKUP(F21511,'Object Codes'!$A:$C,3,0)","v":"Hourly Positions"},{"$f":"VLOOKUP(A21511,Agencies!A:C,3,0)","v":"Department of Probation"},32.642876712328764]
["781",2022,"001","002","4100","042",0,0,0,0,0,0,0,0,0,0,21779.16,0,21779.16,21779.16,-21779.16,21779.16,-21779.16,21779.16,21779.16,-21779.16,{"$f":"_xlfn.XLOOKUP(F21582,'Object Codes'!$A$18:$A$510,'Object Codes'!$H$18:$H$510)","v":"PS - Additional Gross"},{"$f":"_xlfn.XLOOKUP(F21582,'Object Codes'!$A$18:$A$510,'Object Codes'!$G$18:$G$510)","v":"A"},{"$f":"_xlfn.XLOOKUP(A21582,Agencies!$A$9:$A$146,Agencies!$B$9:$B$146)","v":"Public Safety & Judicial"},{"$f":"IF(_xlfn.XLOOKUP(A21582,Agencies!A:A,Agencies!D:D)=\"Y\",IF(_xlfn.XLOOKUP(F21582,'Object Codes'!A:A,'Object Codes'!I:I)=\"Y\",\"Y\",\"N\"),\"N\")","v":"Y"},{"$f":"VLOOKUP(F21582,'Object Codes'!$A:$C,3,0)","v":"Longevity Differential"},{"$f":"VLOOKUP(A21582,Agencies!A:C,3,0)","v":"Department of Probation"},59.668931506849312]
["781",2022,"001","002","4109","042",0,0,0,0,0,0,0,0,0,0,1769.2,0,1769.2,1769.2,-1769.2,1769.2,-1769.2,1769.2,1769.2,-1769.2,{"$f":"_xlfn.XLOOKUP(F21620,'Object Codes'!$A$18:$A$510,'Object Codes'!$H$18:$H$510)","v":"PS - Additional Gross"},{"$f":"_xlfn.XLOOKUP(F21620,'Object Codes'!$A$18:$A$510,'Object Codes'!$G$18:$G$510)","v":"A"},{"$f":"_xlfn.XLOOKUP(A21620,Agencies!$A$9:$A$146,Agencies!$B$9:$B$146)","v":"Public Safety & Judicial"},{"$f":"IF(_xlfn.XLOOKUP(A21620,Agencies!A:A,Agencies!D:D)=\"Y\",IF(_xlfn.XLOOKUP(F21620,'Object Codes'!A:A,'Object Codes'!I:I)=\"Y\",\"Y\",\"N\"),\"N\")","v":"Y"},{"$f":"VLOOKUP(F21620,'Object Codes'!$A:$C,3,0)","v":"Longevity Differential"},{"$f":"VLOOKUP(A21620,Agencies!A:C,3,0)","v":"Department of Probation"},4.8471232876712333]
["781",2022,"001","002","4114","047",0,0,0,0,0,0,0,0,0,0,2156.5,0,2156.5,2156.5,-2156.5,2156.5,-2156.5,2156.5,2156.5,-2156.5,{"$f":"_xlfn.XLOOKUP(F21654,'Object Codes'!$A$18:$A$510,'Object Codes'!$H$18:$H$510)","v":"PS - Additional Gross"},{"$f":"_xlfn.XLOOKUP(F21654,'Object Codes'!$A$18:$A$510,'Object Codes'!$G$18:$G$510)","v":"C"},{"$f":"_xlfn.XLOOKUP(A21654,Agencies!$A$9:$A$146,Agencies!$B$9:$B$146)","v":"Public Safety & Judicial"},{"$f":"IF(_xlfn.XLOOKUP(A21654,Agencies!A:A,Agencies!D:D)=\"Y\",IF(_xlfn.XLOOKUP(F21654,'Object Codes'!A:A,'Object Codes'!I:I)=\"Y\",\"Y\",\"N\"),\"N\")","v":"Y"},{"$f":"VLOOKUP(F21654,'Object Codes'!$A:$C,3,0)","v":"Overtime"},{"$f":"VLOOKUP(A21654,Agencies!A:C,3,0)","v":"Department of Probation"},5.9082191780821915]
["781",2022,"001","002","7101","X47",0,0,0,0,0,0,0,0,0,0,369.17,0,369.17,369.17,-369.17,369.17,-369.17,369.17,369.17,-369.17,{"$f":"_xlfn.XLOOKUP(F21685,'Object Codes'!$A$18:$A$510,'Object Codes'!$H$18:$H$510)","v":"PS - Additional Gross"},{"$f":"_xlfn.XLOOKUP(F21685,'Object Codes'!$A$18:$A$510,'Object Codes'!$G$18:$G$510)","v":"A"},{"$f":"_xlfn.XLOOKUP(A21685,Agencies!$A$9:$A$146,Agencies!$B$9:$B$146)","v":"Public Safety & Judicial"},{"$f":"IF(_xlfn.XLOOKUP(A21685,Agencies!A:A,Agencies!D:D)=\"Y\",IF(_xlfn.XLOOKUP(F21685,'Object Codes'!A:A,'Object Codes'!I:I)=\"Y\",\"Y\",\"N\"),\"N\")","v":"Y"},{"$f":"VLOOKUP(F21685,'Object Codes'!$A:$C,3,0)","v":"PY OVERTIME"},{"$f":"VLOOKUP(A21685,Agencies!A:C,3,0)","v":"Department of Probation"},1.0114246575342467]
["781",2022,"001","003","4103","460",0,0,0,750,750,0,0,0,0,0,0,0,0,0,750,0,750,0,0,750,{"$f":"_xlfn.XLOOKUP(F21763,'Object Codes'!$A$18:$A$510,'Object Codes'!$H$18:$H$510)","v":"Other Services and Charges - General"},{"$f":"_xlfn.XLOOKUP(F21763,'Object Codes'!$A$18:$A$510,'Object Codes'!$G$18:$G$510)","v":0},{"$f":"_xlfn.XLOOKUP(A21763,Agencies!$A$9:$A$146,Agencies!$B$9:$B$146)","v":"Public Safety & Judicial"},{"$f":"IF(_xlfn.XLOOKUP(A21763,Agencies!A:A,Agencies!D:D)=\"Y\",IF(_xlfn.XLOOKUP(F21763,'Object Codes'!A:A,'Object Codes'!I:I)=\"Y\",\"Y\",\"N\"),\"N\")","v":"Y"},{"$f":"VLOOKUP(F21763,'Object Codes'!$A:$C,3,0)","v":"Special Expenditures"},{"$f":"VLOOKUP(A21763,Agencies!A:C,3,0)","v":"Department of Probation"},0]
["781",2022,"001","003","4122","686",0,0,0,0,56000,0,0,0,0,0,42499.98,0,42499.98,42499.98,13500.02,42499.98,13500.02,42499.98,42499.98,13500.02,{"$f":"_xlfn.XLOOKUP(F21797,'Object Codes'!$A$18:$A$510,'Object Codes'!$H$18:$H$510)","v":"Contractual Services"},{"$f":"_xlfn.XLOOKUP(F21797,'Object Codes'!$A$18:$A$510,'Object Codes'!$G$18:$G$510)","v":0},{"$f":"_xlfn.XLOOKUP(A21797,Agencies!$A$9:$A$146,Agencies!$B$9:$B$146)","v":"Public Safety & Judicial"},{"$f":"IF(_xlfn.XLOOKUP(A21797,Agencies!A:A,Agencies!D:D)=\"Y\",IF(_xlfn.XLOOKUP(F21797,'Object Codes'!A:A,'Object Codes'!I:I)=\"Y\",\"Y\",\"N\"),\"N\")","v":"Y"},{"$f":"VLOOKUP(F21797,'Object Codes'!$A:$C,3,0)","v":"Professional Services - Other - Contractual"},{"$f":"VLOOKUP(A21797,Agencies!A:C,3,0)","v":"Department of Probation"},116.43830136986303]
["781",2022,"001","003","P003","600",0,0,0,-200000,-200000,0,0,0,0,0,0,0,0,0,-200000,0,-200000,0,0,-200000,{"$f":"_xlfn.XLOOKUP(F21834,'Object Codes'!$A$18:$A$510,'Object Codes'!$H$18:$H$510)","v":"Contractual Services"},{"$f":"_xlfn.XLOOKUP(F21834,'Object Codes'!$A$18:$A$510,'Object Codes'!$G$18:$G$510)","v":0},{"$f":"_xlfn.XLOOKUP(A21834,Agencies!$A$9:$A$146,Agencies!$B$9:$B$146)","v":"Public Safety & Judicial"},{"$f":"IF(_xlfn.XLOOKUP(A21834,Agencies!A:A,Agencies!D:D)=\"Y\",IF(_xlfn.XLOOKUP(F21834,'Object Codes'!A:A,'Object Codes'!I:I)=\"Y\",\"Y\",\"N\"),\"N\")","v":"Y"},{"$f":"VLOOKUP(F21834,'Object Codes'!$A:$C,3,0)","v":"Contractual Services - General"},{"$f":"VLOOKUP(A21834,Agencies!A:C,3,0)","v":"Department of Probation"},0]
["801",2022,"001","001","1305","031",0,0,0,0,62500,0,0,0,0,0,61180,0,61180,61180,1320,61180,1320,61180,61180,1320,{"$f":"_xlfn.XLOOKUP(F21906,'Object Codes'!$A$18:$A$510,'Object Codes'!$H$18:$H$510)","v":"PS - Regular"},{"$f":"_xlfn.XLOOKUP(F21906,'Object Codes'!$A$18:$A$510,'Object Codes'!$G$18:$G$510)","v":"C"},{"$f":"_xlfn.XLOOKUP(A21906,Agencies!$A$9:$A$146,Agencies!$B$9:$B$146)","v":"General Government"},{"$f":"IF(_xlfn.XLOOKUP(A21906,Agencies!A:A,Agencies!D:D)=\"Y\",IF(_xlfn.XLOOKUP(F21906,'Object Codes'!A:A,'Object Codes'!I:I)=\"Y\",\"Y\",\"N\"),\"N\")","v":"Y"},{"$f":"VLOOKUP(F21906,'Object Codes'!$A:$C,3,0)","v":"Hourly Positions"},{"$f":"VLOOKUP(A21906,Agencies!A:C,3,0)","v":"Dept. Small Business Services"},167.61643835616439]
["801",2022,"001","001","1321","061",0,0,0,49769,769,0,0,0,0,0,416.81,0,416.81,416.81,352.19,416.81,352.19,416.81,416.81,352.19,{"$f":"_xlfn.XLOOKUP(F21935,'Object Codes'!$A$18:$A$510,'Object Codes'!$H$18:$H$510)","v":"PS - Additional Gross"},{"$f":"_xlfn.XLOOKUP(F21935,'Object Codes'!$A$18:$A$510,'Object Codes'!$G$18:$G$510)","v":"A"},{"$f":"_xlfn.XLOOKUP(A21935,Agencies!$A$9:$A$146,Agencies!$B$9:$B$146)","v":"General Government"},{"$f":"IF(_xlfn.XLOOKUP(A21935,Agencies!A:A,Agencies!D:D)=\"Y\",IF(_xlfn.XLOOKUP(F21935,'Object Codes'!A:A,'Object Codes'!I:I)=\"Y\",\"Y\",\"N\"),\"N\")","v":"Y"},{"$f":"VLOOKUP(F21935,'Object Codes'!$A:$C,3,0)","v":"Supper Money"},{"$f":"VLOOKUP(A21935,Agencies!A:C,3,0)","v":"Dept. Small Business Services"},1.1419452054794521]
["801",2022,"001","002","0395","106",0,0,0,0,50,0,0,0,0,0,0,0,0,0,50,0,50,0,0,50,{"$f":"_xlfn.XLOOKUP(F21983,'Object Codes'!$A$18:$A$510,'Object Codes'!$H$18:$H$510)","v":"Supplies & Materials"},{"$f":"_xlfn.XLOOKUP(F21983,'Object Codes'!$A$18:$A$510,'Object Codes'!$G$18:$G$510)","v":"A"},{"$f":"_xlfn.XLOOKUP(A21983,Agencies!$A$9:$A$146,Agencies!$B$9:$B$146)","v":"General Government"},{"$f":"IF(_xlfn.XLOOKUP(A21983,Agencies!A:A,Agencies!D:D)=\"Y\",IF(_xlfn.XLOOKUP(F21983,'Object Codes'!A:A,'Object Codes'!I:I)=\"Y\",\"Y\",\"N\"),\"N\")","v":"Y"},{"$f":"VLOOKUP(F21983,'Object Codes'!$A:$C,3,0)","v":"Motor Vehicle Fuel"},{"$f":"VLOOKUP(A21983,Agencies!A:C,3,0)","v":"Dept. Small Business Services"},0]
["801",2022,"001","002","1151","100",0,0,0,249,249,0,0,0,0,0,0,0,0,0,249,0,249,0,0,249,{"$f":"_xlfn.XLOOKUP(F22049,'Object Codes'!$A$18:$A$510,'Object Codes'!$H$18:$H$510)","v":"Supplies & Materials"},{"$f":"_xlfn.XLOOKUP(F22049,'Object Codes'!$A$18:$A$510,'Object Codes'!$G$18:$G$510)","v":"A"},{"$f":"_xlfn.XLOOKUP(A22049,Agencies!$A$9:$A$146,Agencies!$B$9:$B$146)","v":"General Government"},{"$f":"IF(_xlfn.XLOOKUP(A22049,Agencies!A:A,Agencies!D:D)=\"Y\",IF(_xlfn.XLOOKUP(F22049,'Object Codes'!A:A,'Object Codes'!I:I)=\"Y\",\"Y\",\"N\"),\"N\")","v":"Y"},{"$f":"VLOOKUP(F22049,'Object Codes'!$A:$C,3,0)","v":"Supplies and Materials - General"},{"$f":"VLOOKUP(A22049,Agencies!A:C,3,0)","v":"Dept. Small Business Services"},0]
["801",2022,"001","002","1305","683",0,0,0,0,82625,0,0,0,0,0,10887.5,0,10887.5,10887.5,71737.5,10887.5,71737.5,10887.5,10887.5,71737.5,{"$f":"_xlfn.XLOOKUP(F22078,'Object Codes'!$A$18:$A$510,'Object Codes'!$H$18:$H$510)","v":"Contractual Services"},{"$f":"_xlfn.XLOOKUP(F22078,'Object Codes'!$A$18:$A$510,'Object Codes'!$G$18:$G$510)","v":0},{"$f":"_xlfn.XLOOKUP(A22078,Agencies!$A$9:$A$146,Agencies!$B$9:$B$146)","v":"General Government"},{"$f":"IF(_xlfn.XLOOKUP(A22078,Agencies!A:A,Agencies!D:D)=\"Y\",IF(_xlfn.XLOOKUP(F22078,'Object Codes'!A:A,'Object Codes'!I:I)=\"Y\",\"Y\",\"N\"),\"N\")","v":"Y"},{"$f":"VLOOKUP(F22078,'Object Codes'!$A:$C,3,0)","v":"Professional Services  Engineering and Architectural Services - Contractual"},{"$f":"VLOOKUP(A22078,Agencies!A:C,3,0)","v":"Dept. Small Business Services"},29.828767123287673]
["801",2022,"001","002","1321","412",0,0,0,1500,1500,0,0,0,0,0,0,0,0,0,1500,0,1500,0,0,1500,{"$f":"_xlfn.XLOOKUP(F22132,'Object Codes'!$A$18:$A$510,'Object Codes'!$H$18:$H$510)","v":"Other Services and Charges - General"},{"$f":"_xlfn.XLOOKUP(F22132,'Object Codes'!$A$18:$A$510,'Object Codes'!$G$18:$G$510)","v":0},{"$f":"_xlfn.XLOOKUP(A22132,Agencies!$A$9:$A$146,Agencies!$B$9:$B$146)","v":"General Government"},{"$f":"IF(_xlfn.XLOOKUP(A22132,Agencies!A:A,Agencies!D:D)=\"Y\",IF(_xlfn.XLOOKUP(F22132,'Object Codes'!A:A,'Object Codes'!I:I)=\"Y\",\"Y\",\"N\"),\"N\")","v":"Y"},{"$f":"VLOOKUP(F22132,'Object Codes'!$A:$C,3,0)","v":"Rentals - Miscellaneous Equipment"},{"$f":"VLOOKUP(A22132,Agencies!A:C,3,0)","v":"Dept. Small Business Services"},0]
["801",2022,"001","002","CR26","600",0,0,0,30000000,0,0,0,0,0,0,0,0,0,0,0,0,0,0,0,0,{"$f":"_xlfn.XLOOKUP(F22187,'Object Codes'!$A$18:$A$510,'Object Codes'!$H$18:$H$510)","v":"Contractual Services"},{"$f":"_xlfn.XLOOKUP(F22187,'Object Codes'!$A$18:$A$510,'Object Codes'!$G$18:$G$510)","v":0},{"$f":"_xlfn.XLOOKUP(A22187,Agencies!$A$9:$A$146,Agencies!$B$9:$B$146)","v":"General Government"},{"$f":"IF(_xlfn.XLOOKUP(A22187,Agencies!A:A,Agencies!D:D)=\"Y\",IF(_xlfn.XLOOKUP(F22187,'Object Codes'!A:A,'Object Codes'!I:I)=\"Y\",\"Y\",\"N\"),\"N\")","v":"Y"},{"$f":"VLOOKUP(F22187,'Object Codes'!$A:$C,3,0)","v":"Contractual Services - General"},{"$f":"VLOOKUP(A22187,Agencies!A:C,3,0)","v":"Dept. Small Business Services"},0]
["801",2022,"001","004","1418","061",0,0,0,0,5,0,0,0,0,0,0.27,0,0.27,0.27,4.7300000000000004,0.27,4.7300000000000004,0.27,0.27,4.7300000000000004,{"$f":"_xlfn.XLOOKUP(F22221,'Object Codes'!$A$18:$A$510,'Object Codes'!$H$18:$H$510)","v":"PS - Additional Gross"},{"$f":"_xlfn.XLOOKUP(F22221,'Object Codes'!$A$18:$A$510,'Object Codes'!$G$18:$G$510)","v":"A"},{"$f":"_xlfn.XLOOKUP(A22221,Agencies!$A$9:$A$146,Agencies!$B$9:$B$146)","v":"General Government"},{"$f":"IF(_xlfn.XLOOKUP(A22221,Agencies!A:A,Agencies!D:D)=\"Y\",IF(_xlfn.XLOOKUP(F22221,'Object Codes'!A:A,'Object Codes'!I:I)=\"Y\",\"Y\",\"N\"),\"N\")","v":"Y"},{"$f":"VLOOKUP(F22221,'Object Codes'!$A:$C,3,0)","v":"Supper Money"},{"$f":"VLOOKUP(A22221,Agencies!A:C,3,0)","v":"Dept. Small Business Services"},7.3972602739726036E-4]
["801",2022,"001","006","1703","660",0,0,0,114000,8418,0,0,0,0,0,0,0,0,0,8418,0,8418,0,0,8418,{"$f":"_xlfn.XLOOKUP(F22281,'Object Codes'!$A$18:$A$510,'Object Codes'!$H$18:$H$510)","v":"Authorities & External Institutions - EDC"},{"$f":"_xlfn.XLOOKUP(F22281,'Object Codes'!$A$18:$A$510,'Object Codes'!$G$18:$G$510)","v":0},{"$f":"_xlfn.XLOOKUP(A22281,Agencies!$A$9:$A$146,Agencies!$B$9:$B$146)","v":"General Government"},{"$f":"IF(_xlfn.XLOOKUP(A22281,Agencies!A:A,Agencies!D:D)=\"Y\",IF(_xlfn.XLOOKUP(F22281,'Object Codes'!A:A,'Object Codes'!I:I)=\"Y\",\"Y\",\"N\"),\"N\")","v":"Y"},{"$f":"VLOOKUP(F22281,'Object Codes'!$A:$C,3,0)","v":"Economic Development - Contractual"},{"$f":"VLOOKUP(A22281,Agencies!A:C,3,0)","v":"Dept. Small Business Services"},{"$f":"S22281/365","v":0}]
["801",2022,"001","006","A800","660",0,0,0,0,38890,0,0,0,0,0,0,0,0,0,38890,0,38890,0,0,38890,{"$f":"_xlfn.XLOOKUP(F22330,'Object Codes'!$A$18:$A$510,'Object Codes'!$H$18:$H$510)","v":"Authorities & External Institutions - EDC"},{"$f":"_xlfn.XLOOKUP(F22330,'Object Codes'!$A$18:$A$510,'Object Codes'!$G$18:$G$510)","v":0},{"$f":"_xlfn.XLOOKUP(A22330,Agencies!$A$9:$A$146,Agencies!$B$9:$B$146)","v":"General Government"},{"$f":"IF(_xlfn.XLOOKUP(A22330,Agencies!A:A,Agencies!D:D)=\"Y\",IF(_xlfn.XLOOKUP(F22330,'Object Codes'!A:A,'Object Codes'!I:I)=\"Y\",\"Y\",\"N\"),\"N\")","v":"Y"},{"$f":"VLOOKUP(F22330,'Object Codes'!$A:$C,3,0)","v":"Economic Development - Contractual"},{"$f":"VLOOKUP(A22330,Agencies!A:C,3,0)","v":"Dept. Small Business Services"},0]
["801",2022,"001","010","1210","061",0,0,0,0,100,0,0,0,0,0,74.25,0,74.25,74.25,25.75,74.25,25.75,74.25,74.25,25.75,{"$f":"_xlfn.XLOOKUP(F22364,'Object Codes'!$A$18:$A$510,'Object Codes'!$H$18:$H$510)","v":"PS - Additional Gross"},{"$f":"_xlfn.XLOOKUP(F22364,'Object Codes'!$A$18:$A$510,'Object Codes'!$G$18:$G$510)","v":"A"},{"$f":"_xlfn.XLOOKUP(A22364,Agencies!$A$9:$A$146,Agencies!$B$9:$B$146)","v":"General Government"},{"$f":"IF(_xlfn.XLOOKUP(A22364,Agencies!A:A,Agencies!D:D)=\"Y\",IF(_xlfn.XLOOKUP(F22364,'Object Codes'!A:A,'Object Codes'!I:I)=\"Y\",\"Y\",\"N\"),\"N\")","v":"Y"},{"$f":"VLOOKUP(F22364,'Object Codes'!$A:$C,3,0)","v":"Supper Money"},{"$f":"VLOOKUP(A22364,Agencies!A:C,3,0)","v":"Dept. Small Business Services"},0.20342465753424657]
["801",2022,"001","010","2111","042",0,0,0,96,96,0,0,0,0,0,0,0,0,0,96,0,96,0,0,96,{"$f":"_xlfn.XLOOKUP(F22398,'Object Codes'!$A$18:$A$510,'Object Codes'!$H$18:$H$510)","v":"PS - Additional Gross"},{"$f":"_xlfn.XLOOKUP(F22398,'Object Codes'!$A$18:$A$510,'Object Codes'!$G$18:$G$510)","v":"A"},{"$f":"_xlfn.XLOOKUP(A22398,Agencies!$A$9:$A$146,Agencies!$B$9:$B$146)","v":"General Government"},{"$f":"IF(_xlfn.XLOOKUP(A22398,Agencies!A:A,Agencies!D:D)=\"Y\",IF(_xlfn.XLOOKUP(F22398,'Object Codes'!A:A,'Object Codes'!I:I)=\"Y\",\"Y\",\"N\"),\"N\")","v":"Y"},{"$f":"VLOOKUP(F22398,'Object Codes'!$A:$C,3,0)","v":"Longevity Differential"},{"$f":"VLOOKUP(A22398,Agencies!A:C,3,0)","v":"Dept. Small Business Services"},0]
["801",2022,"001","011","0526","600",0,0,0,0,436500,0,0,0,0,0,427293.8,7189.8,434483.6,434483.6,2016.4,434483.6,2016.4,434483.6,434483.6,2016.4,{"$f":"_xlfn.XLOOKUP(F22442,'Object Codes'!$A$18:$A$510,'Object Codes'!$H$18:$H$510)","v":"Contractual Services"},{"$f":"_xlfn.XLOOKUP(F22442,'Object Codes'!$A$18:$A$510,'Object Codes'!$G$18:$G$510)","v":0},{"$f":"_xlfn.XLOOKUP(A22442,Agencies!$A$9:$A$146,Agencies!$B$9:$B$146)","v":"General Government"},{"$f":"IF(_xlfn.XLOOKUP(A22442,Agencies!A:A,Agencies!D:D)=\"Y\",IF(_xlfn.XLOOKUP(F22442,'Object Codes'!A:A,'Object Codes'!I:I)=\"Y\",\"Y\",\"N\"),\"N\")","v":"Y"},{"$f":"VLOOKUP(F22442,'Object Codes'!$A:$C,3,0)","v":"Contractual Services - General"},{"$f":"VLOOKUP(A22442,Agencies!A:C,3,0)","v":"Dept. Small Business Services"},1190.3660273972603]
["801",2022,"001","011","1290","684",0,0,0,0,400000,0,0,0,0,0,338125.58,0,338125.58,338125.58,61874.42,338125.58,61874.42,338125.58,338125.58,61874.42,{"$f":"_xlfn.XLOOKUP(F22507,'Object Codes'!$A$18:$A$510,'Object Codes'!$H$18:$H$510)","v":"Contractual Services"},{"$f":"_xlfn.XLOOKUP(F22507,'Object Codes'!$A$18:$A$510,'Object Codes'!$G$18:$G$510)","v":0},{"$f":"_xlfn.XLOOKUP(A22507,Agencies!$A$9:$A$146,Agencies!$B$9:$B$146)","v":"General Government"},{"$f":"IF(_xlfn.XLOOKUP(A22507,Agencies!A:A,Agencies!D:D)=\"Y\",IF(_xlfn.XLOOKUP(F22507,'Object Codes'!A:A,'Object Codes'!I:I)=\"Y\",\"Y\",\"N\"),\"N\")","v":"Y"},{"$f":"VLOOKUP(F22507,'Object Codes'!$A:$C,3,0)","v":"Professional Services - Computer Services - Contractual"},{"$f":"VLOOKUP(A22507,Agencies!A:C,3,0)","v":"Dept. Small Business Services"},926.37145205479453]
["806",2022,"001","001","1000","061",0,0,0,0,0,0,0,0,0,0,277.25,0,277.25,277.25,-277.25,277.25,-277.25,277.25,277.25,-277.25,{"$f":"_xlfn.XLOOKUP(F22536,'Object Codes'!$A$18:$A$510,'Object Codes'!$H$18:$H$510)","v":"PS - Additional Gross"},{"$f":"_xlfn.XLOOKUP(F22536,'Object Codes'!$A$18:$A$510,'Object Codes'!$G$18:$G$510)","v":"A"},{"$f":"_xlfn.XLOOKUP(A22536,Agencies!$A$9:$A$146,Agencies!$B$9:$B$146)","v":"Housing"},{"$f":"IF(_xlfn.XLOOKUP(A22536,Agencies!A:A,Agencies!D:D)=\"Y\",IF(_xlfn.XLOOKUP(F22536,'Object Codes'!A:A,'Object Codes'!I:I)=\"Y\",\"Y\",\"N\"),\"N\")","v":"Y"},{"$f":"VLOOKUP(F22536,'Object Codes'!$A:$C,3,0)","v":"Supper Money"},{"$f":"VLOOKUP(A22536,Agencies!A:C,3,0)","v":"Housing Preservation & Dev."},0.75958904109589043]
["806",2022,"001","001","1107","042",0,0,0,0,0,0,0,0,0,0,421.67,0,421.67,421.67,-421.67,421.67,-421.67,421.67,421.67,-421.67,{"$f":"_xlfn.XLOOKUP(F22591,'Object Codes'!$A$18:$A$510,'Object Codes'!$H$18:$H$510)","v":"PS - Additional Gross"},{"$f":"_xlfn.XLOOKUP(F22591,'Object Codes'!$A$18:$A$510,'Object Codes'!$G$18:$G$510)","v":"A"},{"$f":"_xlfn.XLOOKUP(A22591,Agencies!$A$9:$A$146,Agencies!$B$9:$B$146)","v":"Housing"},{"$f":"IF(_xlfn.XLOOKUP(A22591,Agencies!A:A,Agencies!D:D)=\"Y\",IF(_xlfn.XLOOKUP(F22591,'Object Codes'!A:A,'Object Codes'!I:I)=\"Y\",\"Y\",\"N\"),\"N\")","v":"Y"},{"$f":"VLOOKUP(F22591,'Object Codes'!$A:$C,3,0)","v":"Longevity Differential"},{"$f":"VLOOKUP(A22591,Agencies!A:C,3,0)","v":"Housing Preservation & Dev."},1.1552602739726028]
["806",2022,"001","001","1275","043",0,0,0,0,0,0,0,0,0,0,49.48,0,49.48,49.48,-49.48,49.48,-49.48,49.48,49.48,-49.48,{"$f":"_xlfn.XLOOKUP(F22650,'Object Codes'!$A$18:$A$510,'Object Codes'!$H$18:$H$510)","v":"PS - Additional Gross"},{"$f":"_xlfn.XLOOKUP(F22650,'Object Codes'!$A$18:$A$510,'Object Codes'!$G$18:$G$510)","v":"A"},{"$f":"_xlfn.XLOOKUP(A22650,Agencies!$A$9:$A$146,Agencies!$B$9:$B$146)","v":"Housing"},{"$f":"IF(_xlfn.XLOOKUP(A22650,Agencies!A:A,Agencies!D:D)=\"Y\",IF(_xlfn.XLOOKUP(F22650,'Object Codes'!A:A,'Object Codes'!I:I)=\"Y\",\"Y\",\"N\"),\"N\")","v":"Y"},{"$f":"VLOOKUP(F22650,'Object Codes'!$A:$C,3,0)","v":"Shift Differential"},{"$f":"VLOOKUP(A22650,Agencies!A:C,3,0)","v":"Housing Preservation & Dev."},0.13556164383561642]
["806",2022,"001","001","1302","061",0,0,0,0,0,0,0,0,0,0,486.75,0,486.75,486.75,-486.75,486.75,-486.75,486.75,486.75,-486.75,{"$f":"_xlfn.XLOOKUP(F22679,'Object Codes'!$A$18:$A$510,'Object Codes'!$H$18:$H$510)","v":"PS - Additional Gross"},{"$f":"_xlfn.XLOOKUP(F22679,'Object Codes'!$A$18:$A$510,'Object Codes'!$G$18:$G$510)","v":"A"},{"$f":"_xlfn.XLOOKUP(A22679,Agencies!$A$9:$A$146,Agencies!$B$9:$B$146)","v":"Housing"},{"$f":"IF(_xlfn.XLOOKUP(A22679,Agencies!A:A,Agencies!D:D)=\"Y\",IF(_xlfn.XLOOKUP(F22679,'Object Codes'!A:A,'Object Codes'!I:I)=\"Y\",\"Y\",\"N\"),\"N\")","v":"Y"},{"$f":"VLOOKUP(F22679,'Object Codes'!$A:$C,3,0)","v":"Supper Money"},{"$f":"VLOOKUP(A22679,Agencies!A:C,3,0)","v":"Housing Preservation & Dev."},1.3335616438356164]
["806",2022,"001","001","1509","041",0,0,0,0,0,0,0,0,0,0,2560.9699999999998,0,2560.9699999999998,2560.9699999999998,-2560.9699999999998,2560.9699999999998,-2560.9699999999998,2560.9699999999998,2560.9699999999998,-2560.9699999999998,{"$f":"_xlfn.XLOOKUP(F22740,'Object Codes'!$A$18:$A$510,'Object Codes'!$H$18:$H$510)","v":"PS - Additional Gross"},{"$f":"_xlfn.XLOOKUP(F22740,'Object Codes'!$A$18:$A$510,'Object Codes'!$G$18:$G$510)","v":"A"},{"$f":"_xlfn.XLOOKUP(A22740,Agencies!$A$9:$A$146,Agencies!$B$9:$B$146)","v":"Housing"},{"$f":"IF(_xlfn.XLOOKUP(A22740,Agencies!A:A,Agencies!D:D)=\"Y\",IF(_xlfn.XLOOKUP(F22740,'Object Codes'!A:A,'Object Codes'!I:I)=\"Y\",\"Y\",\"N\"),\"N\")","v":"Y"},{"$f":"VLOOKUP(F22740,'Object Codes'!$A:$C,3,0)","v":"Assignment Differential"},{"$f":"VLOOKUP(A22740,Agencies!A:C,3,0)","v":"Housing Preservation & Dev."},7.016356164383561]
["806",2022,"001","001","1555","001",0,1,1,28669,28669,0,0,0,0,0,0,0,0,0,28669,0,28669,0,0,28669,{"$f":"_xlfn.XLOOKUP(F22793,'Object Codes'!$A$18:$A$510,'Object Codes'!$H$18:$H$510)","v":"PS - Regular"},{"$f":"_xlfn.XLOOKUP(F22793,'Object Codes'!$A$18:$A$510,'Object Codes'!$G$18:$G$510)","v":"C"},{"$f":"_xlfn.XLOOKUP(A22793,Agencies!$A$9:$A$146,Agencies!$B$9:$B$146)","v":"Housing"},{"$f":"IF(_xlfn.XLOOKUP(A22793,Agencies!A:A,Agencies!D:D)=\"Y\",IF(_xlfn.XLOOKUP(F22793,'Object Codes'!A:A,'Object Codes'!I:I)=\"Y\",\"Y\",\"N\"),\"N\")","v":"Y"},{"$f":"VLOOKUP(F22793,'Object Codes'!$A:$C,3,0)","v":"Full Year Positions"},{"$f":"VLOOKUP(A22793,Agencies!A:C,3,0)","v":"Housing Preservation & Dev."},{"$f":"S22793/365","v":0}]
["806",2022,"001","001","1607","057",0,0,0,0,0,0,0,0,0,0,500,0,500,500,-500,500,-500,500,500,-500,{"$f":"_xlfn.XLOOKUP(F22822,'Object Codes'!$A$18:$A$510,'Object Codes'!$H$18:$H$510)","v":"PS - Additional Gross"},{"$f":"_xlfn.XLOOKUP(F22822,'Object Codes'!$A$18:$A$510,'Object Codes'!$G$18:$G$510)","v":"A"},{"$f":"_xlfn.XLOOKUP(A22822,Agencies!$A$9:$A$146,Agencies!$B$9:$B$146)","v":"Housing"},{"$f":"IF(_xlfn.XLOOKUP(A22822,Agencies!A:A,Agencies!D:D)=\"Y\",IF(_xlfn.XLOOKUP(F22822,'Object Codes'!A:A,'Object Codes'!I:I)=\"Y\",\"Y\",\"N\"),\"N\")","v":"Y"},{"$f":"VLOOKUP(F22822,'Object Codes'!$A:$C,3,0)","v":"Bonus Payments"},{"$f":"VLOOKUP(A22822,Agencies!A:C,3,0)","v":"Housing Preservation & Dev."},1.3698630136986301]
["806",2022,"001","002","2002","061",0,0,0,4700,4700,0,0,0,0,0,817.5,0,817.5,817.5,3882.5,817.5,3882.5,817.5,817.5,3882.5,{"$f":"_xlfn.XLOOKUP(F22889,'Object Codes'!$A$18:$A$510,'Object Codes'!$H$18:$H$510)","v":"PS - Additional Gross"},{"$f":"_xlfn.XLOOKUP(F22889,'Object Codes'!$A$18:$A$510,'Object Codes'!$G$18:$G$510)","v":"A"},{"$f":"_xlfn.XLOOKUP(A22889,Agencies!$A$9:$A$146,Agencies!$B$9:$B$146)","v":"Housing"},{"$f":"IF(_xlfn.XLOOKUP(A22889,Agencies!A:A,Agencies!D:D)=\"Y\",IF(_xlfn.XLOOKUP(F22889,'Object Codes'!A:A,'Object Codes'!I:I)=\"Y\",\"Y\",\"N\"),\"N\")","v":"Y"},{"$f":"VLOOKUP(F22889,'Object Codes'!$A:$C,3,0)","v":"Supper Money"},{"$f":"VLOOKUP(A22889,Agencies!A:C,3,0)","v":"Housing Preservation & Dev."},2.2397260273972601]
["806",2022,"001","002","2025","042",0,0,0,21000,21000,0,0,0,0,0,13712.15,0,13712.15,13712.15,7287.85,13712.15,7287.85,13712.15,13712.15,7287.85,{"$f":"_xlfn.XLOOKUP(F22931,'Object Codes'!$A$18:$A$510,'Object Codes'!$H$18:$H$510)","v":"PS - Additional Gross"},{"$f":"_xlfn.XLOOKUP(F22931,'Object Codes'!$A$18:$A$510,'Object Codes'!$G$18:$G$510)","v":"A"},{"$f":"_xlfn.XLOOKUP(A22931,Agencies!$A$9:$A$146,Agencies!$B$9:$B$146)","v":"Housing"},{"$f":"IF(_xlfn.XLOOKUP(A22931,Agencies!A:A,Agencies!D:D)=\"Y\",IF(_xlfn.XLOOKUP(F22931,'Object Codes'!A:A,'Object Codes'!I:I)=\"Y\",\"Y\",\"N\"),\"N\")","v":"Y"},{"$f":"VLOOKUP(F22931,'Object Codes'!$A:$C,3,0)","v":"Longevity Differential"},{"$f":"VLOOKUP(A22931,Agencies!A:C,3,0)","v":"Housing Preservation & Dev."},37.567534246575342]
["806",2022,"001","002","2265","042",0,0,0,0,0,0,0,0,0,0,368.03,0,368.03,368.03,-368.03,368.03,-368.03,368.03,368.03,-368.03,{"$f":"_xlfn.XLOOKUP(F22965,'Object Codes'!$A$18:$A$510,'Object Codes'!$H$18:$H$510)","v":"PS - Additional Gross"},{"$f":"_xlfn.XLOOKUP(F22965,'Object Codes'!$A$18:$A$510,'Object Codes'!$G$18:$G$510)","v":"A"},{"$f":"_xlfn.XLOOKUP(A22965,Agencies!$A$9:$A$146,Agencies!$B$9:$B$146)","v":"Housing"},{"$f":"IF(_xlfn.XLOOKUP(A22965,Agencies!A:A,Agencies!D:D)=\"Y\",IF(_xlfn.XLOOKUP(F22965,'Object Codes'!A:A,'Object Codes'!I:I)=\"Y\",\"Y\",\"N\"),\"N\")","v":"Y"},{"$f":"VLOOKUP(F22965,'Object Codes'!$A:$C,3,0)","v":"Longevity Differential"},{"$f":"VLOOKUP(A22965,Agencies!A:C,3,0)","v":"Housing Preservation & Dev."},1.0083013698630137]
["806",2022,"001","002","2366","042",0,0,0,9000,9000,0,0,0,0,0,6197.05,0,6197.05,6197.05,2802.95,6197.05,2802.95,6197.05,6197.05,2802.95,{"$f":"_xlfn.XLOOKUP(F22992,'Object Codes'!$A$18:$A$510,'Object Codes'!$H$18:$H$510)","v":"PS - Additional Gross"},{"$f":"_xlfn.XLOOKUP(F22992,'Object Codes'!$A$18:$A$510,'Object Codes'!$G$18:$G$510)","v":"A"},{"$f":"_xlfn.XLOOKUP(A22992,Agencies!$A$9:$A$146,Agencies!$B$9:$B$146)","v":"Housing"},{"$f":"IF(_xlfn.XLOOKUP(A22992,Agencies!A:A,Agencies!D:D)=\"Y\",IF(_xlfn.XLOOKUP(F22992,'Object Codes'!A:A,'Object Codes'!I:I)=\"Y\",\"Y\",\"N\"),\"N\")","v":"Y"},{"$f":"VLOOKUP(F22992,'Object Codes'!$A:$C,3,0)","v":"Longevity Differential"},{"$f":"VLOOKUP(A22992,Agencies!A:C,3,0)","v":"Housing Preservation & Dev."},16.978219178082192]
["806",2022,"001","002","2513","043",0,0,0,0,0,0,0,0,0,0,19.11,0,19.11,19.11,-19.11,19.11,-19.11,19.11,19.11,-19.11,{"$f":"_xlfn.XLOOKUP(F23074,'Object Codes'!$A$18:$A$510,'Object Codes'!$H$18:$H$510)","v":"PS - Additional Gross"},{"$f":"_xlfn.XLOOKUP(F23074,'Object Codes'!$A$18:$A$510,'Object Codes'!$G$18:$G$510)","v":"A"},{"$f":"_xlfn.XLOOKUP(A23074,Agencies!$A$9:$A$146,Agencies!$B$9:$B$146)","v":"Housing"},{"$f":"IF(_xlfn.XLOOKUP(A23074,Agencies!A:A,Agencies!D:D)=\"Y\",IF(_xlfn.XLOOKUP(F23074,'Object Codes'!A:A,'Object Codes'!I:I)=\"Y\",\"Y\",\"N\"),\"N\")","v":"Y"},{"$f":"VLOOKUP(F23074,'Object Codes'!$A:$C,3,0)","v":"Shift Differential"},{"$f":"VLOOKUP(A23074,Agencies!A:C,3,0)","v":"Housing Preservation & Dev."},5.2356164383561644E-2]
["806",2022,"001","002","A102","001",0,0,0,108103,108103,0,0,0,0,0,32663.040000000001,0,32663.040000000001,32663.040000000001,75439.960000000006,32663.040000000001,75439.960000000006,32663.040000000001,32663.040000000001,75439.960000000006,{"$f":"_xlfn.XLOOKUP(F23108,'Object Codes'!$A$18:$A$510,'Object Codes'!$H$18:$H$510)","v":"PS - Regular"},{"$f":"_xlfn.XLOOKUP(F23108,'Object Codes'!$A$18:$A$510,'Object Codes'!$G$18:$G$510)","v":"C"},{"$f":"_xlfn.XLOOKUP(A23108,Agencies!$A$9:$A$146,Agencies!$B$9:$B$146)","v":"Housing"},{"$f":"IF(_xlfn.XLOOKUP(A23108,Agencies!A:A,Agencies!D:D)=\"Y\",IF(_xlfn.XLOOKUP(F23108,'Object Codes'!A:A,'Object Codes'!I:I)=\"Y\",\"Y\",\"N\"),\"N\")","v":"Y"},{"$f":"VLOOKUP(F23108,'Object Codes'!$A:$C,3,0)","v":"Full Year Positions"},{"$f":"VLOOKUP(A23108,Agencies!A:C,3,0)","v":"Housing Preservation & Dev."},89.487780821917809]
["806",2022,"001","003","4608","X47",0,0,0,0,0,0,0,0,0,0,7240.42,0,7240.42,7240.42,-7240.42,7240.42,-7240.42,7240.42,7240.42,-7240.42,{"$f":"_xlfn.XLOOKUP(F23153,'Object Codes'!$A$18:$A$510,'Object Codes'!$H$18:$H$510)","v":"PS - Additional Gross"},{"$f":"_xlfn.XLOOKUP(F23153,'Object Codes'!$A$18:$A$510,'Object Codes'!$G$18:$G$510)","v":"A"},{"$f":"_xlfn.XLOOKUP(A23153,Agencies!$A$9:$A$146,Agencies!$B$9:$B$146)","v":"Housing"},{"$f":"IF(_xlfn.XLOOKUP(A23153,Agencies!A:A,Agencies!D:D)=\"Y\",IF(_xlfn.XLOOKUP(F23153,'Object Codes'!A:A,'Object Codes'!I:I)=\"Y\",\"Y\",\"N\"),\"N\")","v":"Y"},{"$f":"VLOOKUP(F23153,'Object Codes'!$A:$C,3,0)","v":"PY OVERTIME"},{"$f":"VLOOKUP(A23153,Agencies!A:C,3,0)","v":"Housing Preservation & Dev."},19.836767123287672]
["806",2022,"001","004","3050","042",0,0,0,32370,32370,0,0,0,0,0,35323.07,0,35323.07,35323.07,-2953.07,35323.07,-2953.07,35323.07,35323.07,-2953.07,{"$f":"_xlfn.XLOOKUP(F23217,'Object Codes'!$A$18:$A$510,'Object Codes'!$H$18:$H$510)","v":"PS - Additional Gross"},{"$f":"_xlfn.XLOOKUP(F23217,'Object Codes'!$A$18:$A$510,'Object Codes'!$G$18:$G$510)","v":"A"},{"$f":"_xlfn.XLOOKUP(A23217,Agencies!$A$9:$A$146,Agencies!$B$9:$B$146)","v":"Housing"},{"$f":"IF(_xlfn.XLOOKUP(A23217,Agencies!A:A,Agencies!D:D)=\"Y\",IF(_xlfn.XLOOKUP(F23217,'Object Codes'!A:A,'Object Codes'!I:I)=\"Y\",\"Y\",\"N\"),\"N\")","v":"Y"},{"$f":"VLOOKUP(F23217,'Object Codes'!$A:$C,3,0)","v":"Longevity Differential"},{"$f":"VLOOKUP(A23217,Agencies!A:C,3,0)","v":"Housing Preservation & Dev."},96.775534246575347]
["806",2022,"001","004","3100","041",0,0,0,0,0,0,0,0,0,0,2059.91,0,2059.91,2059.91,-2059.91,2059.91,-2059.91,2059.91,2059.91,-2059.91,{"$f":"_xlfn.XLOOKUP(F23251,'Object Codes'!$A$18:$A$510,'Object Codes'!$H$18:$H$510)","v":"PS - Additional Gross"},{"$f":"_xlfn.XLOOKUP(F23251,'Object Codes'!$A$18:$A$510,'Object Codes'!$G$18:$G$510)","v":"A"},{"$f":"_xlfn.XLOOKUP(A23251,Agencies!$A$9:$A$146,Agencies!$B$9:$B$146)","v":"Housing"},{"$f":"IF(_xlfn.XLOOKUP(A23251,Agencies!A:A,Agencies!D:D)=\"Y\",IF(_xlfn.XLOOKUP(F23251,'Object Codes'!A:A,'Object Codes'!I:I)=\"Y\",\"Y\",\"N\"),\"N\")","v":"Y"},{"$f":"VLOOKUP(F23251,'Object Codes'!$A:$C,3,0)","v":"Assignment Differential"},{"$f":"VLOOKUP(A23251,Agencies!A:C,3,0)","v":"Housing Preservation & Dev."},5.6435890410958898]
["806",2022,"001","004","3263","042",0,0,0,225151,225151,0,0,0,0,0,168234.93,0,168234.93,168234.93,56916.07,168234.93,56916.07,168234.93,168234.93,56916.07,{"$f":"_xlfn.XLOOKUP(F23302,'Object Codes'!$A$18:$A$510,'Object Codes'!$H$18:$H$510)","v":"PS - Additional Gross"},{"$f":"_xlfn.XLOOKUP(F23302,'Object Codes'!$A$18:$A$510,'Object Codes'!$G$18:$G$510)","v":"A"},{"$f":"_xlfn.XLOOKUP(A23302,Agencies!$A$9:$A$146,Agencies!$B$9:$B$146)","v":"Housing"},{"$f":"IF(_xlfn.XLOOKUP(A23302,Agencies!A:A,Agencies!D:D)=\"Y\",IF(_xlfn.XLOOKUP(F23302,'Object Codes'!A:A,'Object Codes'!I:I)=\"Y\",\"Y\",\"N\"),\"N\")","v":"Y"},{"$f":"VLOOKUP(F23302,'Object Codes'!$A:$C,3,0)","v":"Longevity Differential"},{"$f":"VLOOKUP(A23302,Agencies!A:C,3,0)","v":"Housing Preservation & Dev."},460.91761643835616]
["806",2022,"001","004","3460","047",0,0,0,0,0,0,0,0,0,0,14819.57,0,14819.57,14819.57,-14819.57,14819.57,-14819.57,14819.57,14819.57,-14819.57,{"$f":"_xlfn.XLOOKUP(F23360,'Object Codes'!$A$18:$A$510,'Object Codes'!$H$18:$H$510)","v":"PS - Additional Gross"},{"$f":"_xlfn.XLOOKUP(F23360,'Object Codes'!$A$18:$A$510,'Object Codes'!$G$18:$G$510)","v":"C"},{"$f":"_xlfn.XLOOKUP(A23360,Agencies!$A$9:$A$146,Agencies!$B$9:$B$146)","v":"Housing"},{"$f":"IF(_xlfn.XLOOKUP(A23360,Agencies!A:A,Agencies!D:D)=\"Y\",IF(_xlfn.XLOOKUP(F23360,'Object Codes'!A:A,'Object Codes'!I:I)=\"Y\",\"Y\",\"N\"),\"N\")","v":"Y"},{"$f":"VLOOKUP(F23360,'Object Codes'!$A:$C,3,0)","v":"Overtime"},{"$f":"VLOOKUP(A23360,Agencies!A:C,3,0)","v":"Housing Preservation & Dev."},40.601561643835616]
["806",2022,"001","004","3525","X43",0,0,0,0,0,0,0,0,0,0,0.03,0,0.03,0.03,-0.03,0.03,-0.03,0.03,0.03,-0.03,{"$f":"_xlfn.XLOOKUP(F23394,'Object Codes'!$A$18:$A$510,'Object Codes'!$H$18:$H$510)","v":"PS - Additional Gross"},{"$f":"_xlfn.XLOOKUP(F23394,'Object Codes'!$A$18:$A$510,'Object Codes'!$G$18:$G$510)","v":"A"},{"$f":"_xlfn.XLOOKUP(A23394,Agencies!$A$9:$A$146,Agencies!$B$9:$B$146)","v":"Housing"},{"$f":"IF(_xlfn.XLOOKUP(A23394,Agencies!A:A,Agencies!D:D)=\"Y\",IF(_xlfn.XLOOKUP(F23394,'Object Codes'!A:A,'Object Codes'!I:I)=\"Y\",\"Y\",\"N\"),\"N\")","v":"Y"},{"$f":"VLOOKUP(F23394,'Object Codes'!$A:$C,3,0)","v":"PY SHIFT DIFFERENTIAL"},{"$f":"VLOOKUP(A23394,Agencies!A:C,3,0)","v":"Housing Preservation & Dev."},8.219178082191781E-5]
["806",2022,"001","004","3710","001",0,4,4,380000,380000,0,0,0,0,0,353177.33,0,353177.33,353177.33,26822.67,353177.33,26822.67,353177.33,353177.33,26822.67,{"$f":"_xlfn.XLOOKUP(F23423,'Object Codes'!$A$18:$A$510,'Object Codes'!$H$18:$H$510)","v":"PS - Regular"},{"$f":"_xlfn.XLOOKUP(F23423,'Object Codes'!$A$18:$A$510,'Object Codes'!$G$18:$G$510)","v":"C"},{"$f":"_xlfn.XLOOKUP(A23423,Agencies!$A$9:$A$146,Agencies!$B$9:$B$146)","v":"Housing"},{"$f":"IF(_xlfn.XLOOKUP(A23423,Agencies!A:A,Agencies!D:D)=\"Y\",IF(_xlfn.XLOOKUP(F23423,'Object Codes'!A:A,'Object Codes'!I:I)=\"Y\",\"Y\",\"N\"),\"N\")","v":"Y"},{"$f":"VLOOKUP(F23423,'Object Codes'!$A:$C,3,0)","v":"Full Year Positions"},{"$f":"VLOOKUP(A23423,Agencies!A:C,3,0)","v":"Housing Preservation & Dev."},967.60912328767131]
["806",2022,"001","004","3735","042",0,0,0,135680,135680,0,0,0,0,0,92758.86,0,92758.86,92758.86,42921.14,92758.86,42921.14,92758.86,92758.86,42921.14,{"$f":"_xlfn.XLOOKUP(F23497,'Object Codes'!$A$18:$A$510,'Object Codes'!$H$18:$H$510)","v":"PS - Additional Gross"},{"$f":"_xlfn.XLOOKUP(F23497,'Object Codes'!$A$18:$A$510,'Object Codes'!$G$18:$G$510)","v":"A"},{"$f":"_xlfn.XLOOKUP(A23497,Agencies!$A$9:$A$146,Agencies!$B$9:$B$146)","v":"Housing"},{"$f":"IF(_xlfn.XLOOKUP(A23497,Agencies!A:A,Agencies!D:D)=\"Y\",IF(_xlfn.XLOOKUP(F23497,'Object Codes'!A:A,'Object Codes'!I:I)=\"Y\",\"Y\",\"N\"),\"N\")","v":"Y"},{"$f":"VLOOKUP(F23497,'Object Codes'!$A:$C,3,0)","v":"Longevity Differential"},{"$f":"VLOOKUP(A23497,Agencies!A:C,3,0)","v":"Housing Preservation & Dev."},{"$f":"S23497/365","v":254.13386301369863}]
["806",2022,"001","004","3748","041",0,0,0,0,0,0,0,0,0,0,4324.8599999999997,0,4324.8599999999997,4324.8599999999997,-4324.8599999999997,4324.8599999999997,-4324.8599999999997,4324.8599999999997,4324.8599999999997,-4324.8599999999997,{"$f":"_xlfn.XLOOKUP(F23532,'Object Codes'!$A$18:$A$510,'Object Codes'!$H$18:$H$510)","v":"PS - Additional Gross"},{"$f":"_xlfn.XLOOKUP(F23532,'Object Codes'!$A$18:$A$510,'Object Codes'!$G$18:$G$510)","v":"A"},{"$f":"_xlfn.XLOOKUP(A23532,Agencies!$A$9:$A$146,Agencies!$B$9:$B$146)","v":"Housing"},{"$f":"IF(_xlfn.XLOOKUP(A23532,Agencies!A:A,Agencies!D:D)=\"Y\",IF(_xlfn.XLOOKUP(F23532,'Object Codes'!A:A,'Object Codes'!I:I)=\"Y\",\"Y\",\"N\"),\"N\")","v":"Y"},{"$f":"VLOOKUP(F23532,'Object Codes'!$A:$C,3,0)","v":"Assignment Differential"},{"$f":"VLOOKUP(A23532,Agencies!A:C,3,0)","v":"Housing Preservation & Dev."},11.848931506849315]
["806",2022,"001","004","3760","055",0,0,0,0,0,0,0,0,0,0,4000,0,4000,4000,-4000,4000,-4000,4000,4000,-4000,{"$f":"_xlfn.XLOOKUP(F23566,'Object Codes'!$A$18:$A$510,'Object Codes'!$H$18:$H$510)","v":"PS - Additional Gross"},{"$f":"_xlfn.XLOOKUP(F23566,'Object Codes'!$A$18:$A$510,'Object Codes'!$G$18:$G$510)","v":"A"},{"$f":"_xlfn.XLOOKUP(A23566,Agencies!$A$9:$A$146,Agencies!$B$9:$B$146)","v":"Housing"},{"$f":"IF(_xlfn.XLOOKUP(A23566,Agencies!A:A,Agencies!D:D)=\"Y\",IF(_xlfn.XLOOKUP(F23566,'Object Codes'!A:A,'Object Codes'!I:I)=\"Y\",\"Y\",\"N\"),\"N\")","v":"Y"},{"$f":"VLOOKUP(F23566,'Object Codes'!$A:$C,3,0)","v":"Salary Adjustments-Labor Reserve"},{"$f":"VLOOKUP(A23566,Agencies!A:C,3,0)","v":"Housing Preservation & Dev."},10.95890410958904]
["806",2022,"001","004","3775","041",0,0,0,5000,5000,0,0,0,0,0,3386.28,0,3386.28,3386.28,1613.72,3386.28,1613.72,3386.28,3386.28,1613.72,{"$f":"_xlfn.XLOOKUP(F23600,'Object Codes'!$A$18:$A$510,'Object Codes'!$H$18:$H$510)","v":"PS - Additional Gross"},{"$f":"_xlfn.XLOOKUP(F23600,'Object Codes'!$A$18:$A$510,'Object Codes'!$G$18:$G$510)","v":"A"},{"$f":"_xlfn.XLOOKUP(A23600,Agencies!$A$9:$A$146,Agencies!$B$9:$B$146)","v":"Housing"},{"$f":"IF(_xlfn.XLOOKUP(A23600,Agencies!A:A,Agencies!D:D)=\"Y\",IF(_xlfn.XLOOKUP(F23600,'Object Codes'!A:A,'Object Codes'!I:I)=\"Y\",\"Y\",\"N\"),\"N\")","v":"Y"},{"$f":"VLOOKUP(F23600,'Object Codes'!$A:$C,3,0)","v":"Assignment Differential"},{"$f":"VLOOKUP(A23600,Agencies!A:C,3,0)","v":"Housing Preservation & Dev."},9.277479452054795]
["806",2022,"001","004","3905","042",0,0,0,19456,19456,0,0,0,0,0,18576.830000000002,0,18576.830000000002,18576.830000000002,879.17,18576.830000000002,879.17,18576.830000000002,18576.830000000002,879.17,{"$f":"_xlfn.XLOOKUP(F23675,'Object Codes'!$A$18:$A$510,'Object Codes'!$H$18:$H$510)","v":"PS - Additional Gross"},{"$f":"_xlfn.XLOOKUP(F23675,'Object Codes'!$A$18:$A$510,'Object Codes'!$G$18:$G$510)","v":"A"},{"$f":"_xlfn.XLOOKUP(A23675,Agencies!$A$9:$A$146,Agencies!$B$9:$B$146)","v":"Housing"},{"$f":"IF(_xlfn.XLOOKUP(A23675,Agencies!A:A,Agencies!D:D)=\"Y\",IF(_xlfn.XLOOKUP(F23675,'Object Codes'!A:A,'Object Codes'!I:I)=\"Y\",\"Y\",\"N\"),\"N\")","v":"Y"},{"$f":"VLOOKUP(F23675,'Object Codes'!$A:$C,3,0)","v":"Longevity Differential"},{"$f":"VLOOKUP(A23675,Agencies!A:C,3,0)","v":"Housing Preservation & Dev."},50.895424657534249]
["806",2022,"001","004","5205","064",0,0,0,0,0,0,0,0,0,0,212,0,212,212,-212,212,-212,212,212,-212,{"$f":"_xlfn.XLOOKUP(F23709,'Object Codes'!$A$18:$A$510,'Object Codes'!$H$18:$H$510)","v":"PS - Other"},{"$f":"_xlfn.XLOOKUP(F23709,'Object Codes'!$A$18:$A$510,'Object Codes'!$G$18:$G$510)","v":"A"},{"$f":"_xlfn.XLOOKUP(A23709,Agencies!$A$9:$A$146,Agencies!$B$9:$B$146)","v":"Housing"},{"$f":"IF(_xlfn.XLOOKUP(A23709,Agencies!A:A,Agencies!D:D)=\"Y\",IF(_xlfn.XLOOKUP(F23709,'Object Codes'!A:A,'Object Codes'!I:I)=\"Y\",\"Y\",\"N\"),\"N\")","v":"Y"},{"$f":"VLOOKUP(F23709,'Object Codes'!$A:$C,3,0)","v":"Allowance for Uniforms"},{"$f":"VLOOKUP(A23709,Agencies!A:C,3,0)","v":"Housing Preservation & Dev."},0.58082191780821912]
["806",2022,"001","006","4037","001",0,9,12,439489,750489,0,0,0,0,0,701490.08,0,701490.08,701490.08,48998.92,701490.08,48998.92,701490.08,701490.08,48998.92,{"$f":"_xlfn.XLOOKUP(F23761,'Object Codes'!$A$18:$A$510,'Object Codes'!$H$18:$H$510)","v":"PS - Regular"},{"$f":"_xlfn.XLOOKUP(F23761,'Object Codes'!$A$18:$A$510,'Object Codes'!$G$18:$G$510)","v":"C"},{"$f":"_xlfn.XLOOKUP(A23761,Agencies!$A$9:$A$146,Agencies!$B$9:$B$146)","v":"Housing"},{"$f":"IF(_xlfn.XLOOKUP(A23761,Agencies!A:A,Agencies!D:D)=\"Y\",IF(_xlfn.XLOOKUP(F23761,'Object Codes'!A:A,'Object Codes'!I:I)=\"Y\",\"Y\",\"N\"),\"N\")","v":"Y"},{"$f":"VLOOKUP(F23761,'Object Codes'!$A:$C,3,0)","v":"Full Year Positions"},{"$f":"VLOOKUP(A23761,Agencies!A:C,3,0)","v":"Housing Preservation & Dev."},1921.8906301369861]
["806",2022,"001","006","4140","X41",0,0,0,0,0,0,0,0,0,0,-961.95,0,-961.95,-961.95,961.95,-961.95,961.95,-961.95,-961.95,961.95,{"$f":"_xlfn.XLOOKUP(F23818,'Object Codes'!$A$18:$A$510,'Object Codes'!$H$18:$H$510)","v":"PS - Additional Gross"},{"$f":"_xlfn.XLOOKUP(F23818,'Object Codes'!$A$18:$A$510,'Object Codes'!$G$18:$G$510)","v":"A"},{"$f":"_xlfn.XLOOKUP(A23818,Agencies!$A$9:$A$146,Agencies!$B$9:$B$146)","v":"Housing"},{"$f":"IF(_xlfn.XLOOKUP(A23818,Agencies!A:A,Agencies!D:D)=\"Y\",IF(_xlfn.XLOOKUP(F23818,'Object Codes'!A:A,'Object Codes'!I:I)=\"Y\",\"Y\",\"N\"),\"N\")","v":"Y"},{"$f":"VLOOKUP(F23818,'Object Codes'!$A:$C,3,0)","v":"PY ASSIGNMENT DIFFERENTIAL"},{"$f":"VLOOKUP(A23818,Agencies!A:C,3,0)","v":"Housing Preservation & Dev."},-2.6354794520547946]
["806",2022,"001","006","4225","042",0,0,0,4000,4000,0,0,0,0,0,5150.9399999999996,0,5150.9399999999996,5150.9399999999996,-1150.94,5150.9399999999996,-1150.94,5150.9399999999996,5150.9399999999996,-1150.94,{"$f":"_xlfn.XLOOKUP(F23852,'Object Codes'!$A$18:$A$510,'Object Codes'!$H$18:$H$510)","v":"PS - Additional Gross"},{"$f":"_xlfn.XLOOKUP(F23852,'Object Codes'!$A$18:$A$510,'Object Codes'!$G$18:$G$510)","v":"A"},{"$f":"_xlfn.XLOOKUP(A23852,Agencies!$A$9:$A$146,Agencies!$B$9:$B$146)","v":"Housing"},{"$f":"IF(_xlfn.XLOOKUP(A23852,Agencies!A:A,Agencies!D:D)=\"Y\",IF(_xlfn.XLOOKUP(F23852,'Object Codes'!A:A,'Object Codes'!I:I)=\"Y\",\"Y\",\"N\"),\"N\")","v":"Y"},{"$f":"VLOOKUP(F23852,'Object Codes'!$A:$C,3,0)","v":"Longevity Differential"},{"$f":"VLOOKUP(A23852,Agencies!A:C,3,0)","v":"Housing Preservation & Dev."},14.112164383561643]
["806",2022,"001","006","4508","X43",0,0,0,0,0,0,0,0,0,0,1.45,0,1.45,1.45,-1.45,1.45,-1.45,1.45,1.45,-1.45,{"$f":"_xlfn.XLOOKUP(F23910,'Object Codes'!$A$18:$A$510,'Object Codes'!$H$18:$H$510)","v":"PS - Additional Gross"},{"$f":"_xlfn.XLOOKUP(F23910,'Object Codes'!$A$18:$A$510,'Object Codes'!$G$18:$G$510)","v":"A"},{"$f":"_xlfn.XLOOKUP(A23910,Agencies!$A$9:$A$146,Agencies!$B$9:$B$146)","v":"Housing"},{"$f":"IF(_xlfn.XLOOKUP(A23910,Agencies!A:A,Agencies!D:D)=\"Y\",IF(_xlfn.XLOOKUP(F23910,'Object Codes'!A:A,'Object Codes'!I:I)=\"Y\",\"Y\",\"N\"),\"N\")","v":"Y"},{"$f":"VLOOKUP(F23910,'Object Codes'!$A:$C,3,0)","v":"PY SHIFT DIFFERENTIAL"},{"$f":"VLOOKUP(A23910,Agencies!A:C,3,0)","v":"Housing Preservation & Dev."},3.9726027397260274E-3]
["806",2022,"001","008","1550","117",0,0,0,0,21,0,0,0,0,0,20.85,0,20.85,20.85,0.15,20.85,0.15,20.85,20.85,0.15,{"$f":"_xlfn.XLOOKUP(F23961,'Object Codes'!$A$18:$A$510,'Object Codes'!$H$18:$H$510)","v":"Supplies & Materials"},{"$f":"_xlfn.XLOOKUP(F23961,'Object Codes'!$A$18:$A$510,'Object Codes'!$G$18:$G$510)","v":"A"},{"$f":"_xlfn.XLOOKUP(A23961,Agencies!$A$9:$A$146,Agencies!$B$9:$B$146)","v":"Housing"},{"$f":"IF(_xlfn.XLOOKUP(A23961,Agencies!A:A,Agencies!D:D)=\"Y\",IF(_xlfn.XLOOKUP(F23961,'Object Codes'!A:A,'Object Codes'!I:I)=\"Y\",\"Y\",\"N\"),\"N\")","v":"Y"},{"$f":"VLOOKUP(F23961,'Object Codes'!$A:$C,3,0)","v":"Postage"},{"$f":"VLOOKUP(A23961,Agencies!A:C,3,0)","v":"Housing Preservation & Dev."},5.7123287671232884E-2]
["806",2022,"001","008","6306","300",0,0,0,100,1305,0,0,0,0,0,783.25,0,783.25,783.25,521.75,783.25,521.75,783.25,783.25,521.75,{"$f":"_xlfn.XLOOKUP(F23995,'Object Codes'!$A$18:$A$510,'Object Codes'!$H$18:$H$510)","v":"Equipment"},{"$f":"_xlfn.XLOOKUP(F23995,'Object Codes'!$A$18:$A$510,'Object Codes'!$G$18:$G$510)","v":"A"},{"$f":"_xlfn.XLOOKUP(A23995,Agencies!$A$9:$A$146,Agencies!$B$9:$B$146)","v":"Housing"},{"$f":"IF(_xlfn.XLOOKUP(A23995,Agencies!A:A,Agencies!D:D)=\"Y\",IF(_xlfn.XLOOKUP(F23995,'Object Codes'!A:A,'Object Codes'!I:I)=\"Y\",\"Y\",\"N\"),\"N\")","v":"Y"},{"$f":"VLOOKUP(F23995,'Object Codes'!$A:$C,3,0)","v":"Equipment - General"},{"$f":"VLOOKUP(A23995,Agencies!A:C,3,0)","v":"Housing Preservation & Dev."},2.1458904109589043]
["806",2022,"001","009","7007","454",0,0,0,0,2132,0,0,0,0,0,2131.36,0,2131.36,2131.36,0.64,2131.36,0.64,2131.36,2131.36,0.64,{"$f":"_xlfn.XLOOKUP(F24059,'Object Codes'!$A$18:$A$510,'Object Codes'!$H$18:$H$510)","v":"Other Services and Charges - General"},{"$f":"_xlfn.XLOOKUP(F24059,'Object Codes'!$A$18:$A$510,'Object Codes'!$G$18:$G$510)","v":0},{"$f":"_xlfn.XLOOKUP(A24059,Agencies!$A$9:$A$146,Agencies!$B$9:$B$146)","v":"Housing"},{"$f":"IF(_xlfn.XLOOKUP(A24059,Agencies!A:A,Agencies!D:D)=\"Y\",IF(_xlfn.XLOOKUP(F24059,'Object Codes'!A:A,'Object Codes'!I:I)=\"Y\",\"Y\",\"N\"),\"N\")","v":"Y"},{"$f":"VLOOKUP(F24059,'Object Codes'!$A:$C,3,0)","v":"Overnight Travel Expenditures - Special"},{"$f":"VLOOKUP(A24059,Agencies!A:C,3,0)","v":"Housing Preservation & Dev."},5.8393424657534254]
["806",2022,"001","009","A143","770",0,0,0,0,268573,0,0,0,0,0,268572.93,0,268572.93,268572.93,7.0000000000000007E-2,268572.93,7.0000000000000007E-2,268572.93,268572.93,7.0000000000000007E-2,{"$f":"_xlfn.XLOOKUP(F24104,'Object Codes'!$A$18:$A$510,'Object Codes'!$H$18:$H$510)","v":"Authorities & External Institutions - NYCHA"},{"$f":"_xlfn.XLOOKUP(F24104,'Object Codes'!$A$18:$A$510,'Object Codes'!$G$18:$G$510)","v":0},{"$f":"_xlfn.XLOOKUP(A24104,Agencies!$A$9:$A$146,Agencies!$B$9:$B$146)","v":"Housing"},{"$f":"IF(_xlfn.XLOOKUP(A24104,Agencies!A:A,Agencies!D:D)=\"Y\",IF(_xlfn.XLOOKUP(F24104,'Object Codes'!A:A,'Object Codes'!I:I)=\"Y\",\"Y\",\"N\"),\"N\")","v":"Y"},{"$f":"VLOOKUP(F24104,'Object Codes'!$A:$C,3,0)","v":"Payments to New York City Housing Authority"},{"$f":"VLOOKUP(A24104,Agencies!A:C,3,0)","v":"Housing Preservation & Dev."},735.81624657534246]
["806",2022,"001","010","4308","199",0,0,0,609000,564073,0,0,0,0,0,115193.17,448879.83,564073,564073,0,564073,0,564073,564073,0,{"$f":"_xlfn.XLOOKUP(F24133,'Object Codes'!$A$18:$A$510,'Object Codes'!$H$18:$H$510)","v":"Supplies & Materials"},{"$f":"_xlfn.XLOOKUP(F24133,'Object Codes'!$A$18:$A$510,'Object Codes'!$G$18:$G$510)","v":"A"},{"$f":"_xlfn.XLOOKUP(A24133,Agencies!$A$9:$A$146,Agencies!$B$9:$B$146)","v":"Housing"},{"$f":"IF(_xlfn.XLOOKUP(A24133,Agencies!A:A,Agencies!D:D)=\"Y\",IF(_xlfn.XLOOKUP(F24133,'Object Codes'!A:A,'Object Codes'!I:I)=\"Y\",\"Y\",\"N\"),\"N\")","v":"Y"},{"$f":"VLOOKUP(F24133,'Object Codes'!$A:$C,3,0)","v":"Data Processing Supplies"},{"$f":"VLOOKUP(A24133,Agencies!A:C,3,0)","v":"Housing Preservation & Dev."},1545.4054794520548]
["806",2022,"001","010","6007","315",0,0,0,29000,10601,0,0,0,0,0,0,0,0,0,10601,0,10601,0,0,10601,{"$f":"_xlfn.XLOOKUP(F24162,'Object Codes'!$A$18:$A$510,'Object Codes'!$H$18:$H$510)","v":"Equipment"},{"$f":"_xlfn.XLOOKUP(F24162,'Object Codes'!$A$18:$A$510,'Object Codes'!$G$18:$G$510)","v":"A"},{"$f":"_xlfn.XLOOKUP(A24162,Agencies!$A$9:$A$146,Agencies!$B$9:$B$146)","v":"Housing"},{"$f":"IF(_xlfn.XLOOKUP(A24162,Agencies!A:A,Agencies!D:D)=\"Y\",IF(_xlfn.XLOOKUP(F24162,'Object Codes'!A:A,'Object Codes'!I:I)=\"Y\",\"Y\",\"N\"),\"N\")","v":"Y"},{"$f":"VLOOKUP(F24162,'Object Codes'!$A:$C,3,0)","v":"Office Equipment"},{"$f":"VLOOKUP(A24162,Agencies!A:C,3,0)","v":"Housing Preservation & Dev."},0]
["806",2022,"001","011","3130","407",0,0,0,5600,0,0,0,0,0,0,0,0,0,0,0,0,0,0,0,0,{"$f":"_xlfn.XLOOKUP(F24247,'Object Codes'!$A$18:$A$510,'Object Codes'!$H$18:$H$510)","v":"Other Services and Charges - General"},{"$f":"_xlfn.XLOOKUP(F24247,'Object Codes'!$A$18:$A$510,'Object Codes'!$G$18:$G$510)","v":0},{"$f":"_xlfn.XLOOKUP(A24247,Agencies!$A$9:$A$146,Agencies!$B$9:$B$146)","v":"Housing"},{"$f":"IF(_xlfn.XLOOKUP(A24247,Agencies!A:A,Agencies!D:D)=\"Y\",IF(_xlfn.XLOOKUP(F24247,'Object Codes'!A:A,'Object Codes'!I:I)=\"Y\",\"Y\",\"N\"),\"N\")","v":"Y"},{"$f":"VLOOKUP(F24247,'Object Codes'!$A:$C,3,0)","v":"Maintenance and Repairs - Motor Vehicle Equipment"},{"$f":"VLOOKUP(A24247,Agencies!A:C,3,0)","v":"Housing Preservation & Dev."},0]
["806",2022,"001","011","6119","600",0,0,0,168300,243619,0,0,0,0,0,218674.09,0,218674.09,218674.09,24944.91,218674.09,24944.91,218674.09,218674.09,24944.91,{"$f":"_xlfn.XLOOKUP(F24276,'Object Codes'!$A$18:$A$510,'Object Codes'!$H$18:$H$510)","v":"Contractual Services"},{"$f":"_xlfn.XLOOKUP(F24276,'Object Codes'!$A$18:$A$510,'Object Codes'!$G$18:$G$510)","v":0},{"$f":"_xlfn.XLOOKUP(A24276,Agencies!$A$9:$A$146,Agencies!$B$9:$B$146)","v":"Housing"},{"$f":"IF(_xlfn.XLOOKUP(A24276,Agencies!A:A,Agencies!D:D)=\"Y\",IF(_xlfn.XLOOKUP(F24276,'Object Codes'!A:A,'Object Codes'!I:I)=\"Y\",\"Y\",\"N\"),\"N\")","v":"Y"},{"$f":"VLOOKUP(F24276,'Object Codes'!$A:$C,3,0)","v":"Contractual Services - General"},{"$f":"VLOOKUP(A24276,Agencies!A:C,3,0)","v":"Housing Preservation & Dev."},599.10709589041096]
["806",2022,"001","011","6213","619",0,0,0,250000,240252,0,0,0,0,0,205607.9,0,205607.9,205607.9,34644.1,205607.9,34644.1,205607.9,205607.9,34644.1,{"$f":"_xlfn.XLOOKUP(F24310,'Object Codes'!$A$18:$A$510,'Object Codes'!$H$18:$H$510)","v":"Contractual Services"},{"$f":"_xlfn.XLOOKUP(F24310,'Object Codes'!$A$18:$A$510,'Object Codes'!$G$18:$G$510)","v":0},{"$f":"_xlfn.XLOOKUP(A24310,Agencies!$A$9:$A$146,Agencies!$B$9:$B$146)","v":"Housing"},{"$f":"IF(_xlfn.XLOOKUP(A24310,Agencies!A:A,Agencies!D:D)=\"Y\",IF(_xlfn.XLOOKUP(F24310,'Object Codes'!A:A,'Object Codes'!I:I)=\"Y\",\"Y\",\"N\"),\"N\")","v":"Y"},{"$f":"VLOOKUP(F24310,'Object Codes'!$A:$C,3,0)","v":"Security Services - Contractual"},{"$f":"VLOOKUP(A24310,Agencies!A:C,3,0)","v":"Housing Preservation & Dev."},563.30931506849311]
["806",2022,"001","011","6280","423",0,0,0,1718000,1872416,0,0,0,0,0,1869182.02,0,1869182.02,1869182.02,3233.98,1869182.02,3233.98,1869182.02,1869182.02,3233.98,{"$f":"_xlfn.XLOOKUP(F24357,'Object Codes'!$A$18:$A$510,'Object Codes'!$H$18:$H$510)","v":"Heat, Light, and Power"},{"$f":"_xlfn.XLOOKUP(F24357,'Object Codes'!$A$18:$A$510,'Object Codes'!$G$18:$G$510)","v":0},{"$f":"_xlfn.XLOOKUP(A24357,Agencies!$A$9:$A$146,Agencies!$B$9:$B$146)","v":"Housing"},{"$f":"IF(_xlfn.XLOOKUP(A24357,Agencies!A:A,Agencies!D:D)=\"Y\",IF(_xlfn.XLOOKUP(F24357,'Object Codes'!A:A,'Object Codes'!I:I)=\"Y\",\"Y\",\"N\"),\"N\")","v":"Y"},{"$f":"VLOOKUP(F24357,'Object Codes'!$A:$C,3,0)","v":"Heat, Light and Power"},{"$f":"VLOOKUP(A24357,Agencies!A:C,3,0)","v":"Housing Preservation & Dev."},5121.0466301369861]
["806",2022,"001","011","8277","199",0,0,0,928085,0,0,0,0,0,0,0,0,0,0,0,0,0,0,0,0,{"$f":"_xlfn.XLOOKUP(F24419,'Object Codes'!$A$18:$A$510,'Object Codes'!$H$18:$H$510)","v":"Supplies & Materials"},{"$f":"_xlfn.XLOOKUP(F24419,'Object Codes'!$A$18:$A$510,'Object Codes'!$G$18:$G$510)","v":"A"},{"$f":"_xlfn.XLOOKUP(A24419,Agencies!$A$9:$A$146,Agencies!$B$9:$B$146)","v":"Housing"},{"$f":"IF(_xlfn.XLOOKUP(A24419,Agencies!A:A,Agencies!D:D)=\"Y\",IF(_xlfn.XLOOKUP(F24419,'Object Codes'!A:A,'Object Codes'!I:I)=\"Y\",\"Y\",\"N\"),\"N\")","v":"Y"},{"$f":"VLOOKUP(F24419,'Object Codes'!$A:$C,3,0)","v":"Data Processing Supplies"},{"$f":"VLOOKUP(A24419,Agencies!A:C,3,0)","v":"Housing Preservation & Dev."},0]
["806",2022,"001","011","8942","403",0,0,0,1350,1350,0,0,0,0,0,0,0,0,0,1350,0,1350,0,0,1350,{"$f":"_xlfn.XLOOKUP(F24453,'Object Codes'!$A$18:$A$510,'Object Codes'!$H$18:$H$510)","v":"Other Services and Charges - General"},{"$f":"_xlfn.XLOOKUP(F24453,'Object Codes'!$A$18:$A$510,'Object Codes'!$G$18:$G$510)","v":0},{"$f":"_xlfn.XLOOKUP(A24453,Agencies!$A$9:$A$146,Agencies!$B$9:$B$146)","v":"Housing"},{"$f":"IF(_xlfn.XLOOKUP(A24453,Agencies!A:A,Agencies!D:D)=\"Y\",IF(_xlfn.XLOOKUP(F24453,'Object Codes'!A:A,'Object Codes'!I:I)=\"Y\",\"Y\",\"N\"),\"N\")","v":"Y"},{"$f":"VLOOKUP(F24453,'Object Codes'!$A:$C,3,0)","v":"Office Services"},{"$f":"VLOOKUP(A24453,Agencies!A:C,3,0)","v":"Housing Preservation & Dev."},0]
["806",2022,"001","013","7075","758",0,0,0,427205,427205,0,0,0,0,0,338011.93,0,338011.93,338011.93,89193.07,338011.93,89193.07,338011.93,338011.93,89193.07,{"$f":"_xlfn.XLOOKUP(F24518,'Object Codes'!$A$18:$A$510,'Object Codes'!$H$18:$H$510)","v":"Fixed Charges"},{"$f":"_xlfn.XLOOKUP(F24518,'Object Codes'!$A$18:$A$510,'Object Codes'!$G$18:$G$510)","v":0},{"$f":"_xlfn.XLOOKUP(A24518,Agencies!$A$9:$A$146,Agencies!$B$9:$B$146)","v":"Housing"},{"$f":"IF(_xlfn.XLOOKUP(A24518,Agencies!A:A,Agencies!D:D)=\"Y\",IF(_xlfn.XLOOKUP(F24518,'Object Codes'!A:A,'Object Codes'!I:I)=\"Y\",\"Y\",\"N\"),\"N\")","v":"Y"},{"$f":"VLOOKUP(F24518,'Object Codes'!$A:$C,3,0)","v":"Federal Section 8 Rent Subsidy"},{"$f":"VLOOKUP(A24518,Agencies!A:C,3,0)","v":"Housing Preservation & Dev."},926.06008219178079]
["806",2022,"001","013","7624","600",0,0,0,130000,496562,0,0,0,0,0,118217.02,0,118217.02,118217.02,378344.98,118217.02,378344.98,118217.02,118217.02,378344.98,{"$f":"_xlfn.XLOOKUP(F24562,'Object Codes'!$A$18:$A$510,'Object Codes'!$H$18:$H$510)","v":"Contractual Services"},{"$f":"_xlfn.XLOOKUP(F24562,'Object Codes'!$A$18:$A$510,'Object Codes'!$G$18:$G$510)","v":0},{"$f":"_xlfn.XLOOKUP(A24562,Agencies!$A$9:$A$146,Agencies!$B$9:$B$146)","v":"Housing"},{"$f":"IF(_xlfn.XLOOKUP(A24562,Agencies!A:A,Agencies!D:D)=\"Y\",IF(_xlfn.XLOOKUP(F24562,'Object Codes'!A:A,'Object Codes'!I:I)=\"Y\",\"Y\",\"N\"),\"N\")","v":"Y"},{"$f":"VLOOKUP(F24562,'Object Codes'!$A:$C,3,0)","v":"Contractual Services - General"},{"$f":"VLOOKUP(A24562,Agencies!A:C,3,0)","v":"Housing Preservation & Dev."},323.88224657534249]
["806",2022,"001","013","7677","758",0,0,0,799158,865434,0,0,0,0,0,851589.31,0,851589.31,851589.31,13844.69,851589.31,13844.69,851589.31,851589.31,13844.69,{"$f":"_xlfn.XLOOKUP(F24596,'Object Codes'!$A$18:$A$510,'Object Codes'!$H$18:$H$510)","v":"Fixed Charges"},{"$f":"_xlfn.XLOOKUP(F24596,'Object Codes'!$A$18:$A$510,'Object Codes'!$G$18:$G$510)","v":0},{"$f":"_xlfn.XLOOKUP(A24596,Agencies!$A$9:$A$146,Agencies!$B$9:$B$146)","v":"Housing"},{"$f":"IF(_xlfn.XLOOKUP(A24596,Agencies!A:A,Agencies!D:D)=\"Y\",IF(_xlfn.XLOOKUP(F24596,'Object Codes'!A:A,'Object Codes'!I:I)=\"Y\",\"Y\",\"N\"),\"N\")","v":"Y"},{"$f":"VLOOKUP(F24596,'Object Codes'!$A:$C,3,0)","v":"Federal Section 8 Rent Subsidy"},{"$f":"VLOOKUP(A24596,Agencies!A:C,3,0)","v":"Housing Preservation & Dev."},2333.1213972602741]
["810",2022,"001","001","5008","001",0,4,4,292630,292630,0,0,0,0,0,222512.89,0,222512.89,222512.89,70117.11,222512.89,70117.11,222512.89,222512.89,70117.11,{"$f":"_xlfn.XLOOKUP(F24667,'Object Codes'!$A$18:$A$510,'Object Codes'!$H$18:$H$510)","v":"PS - Regular"},{"$f":"_xlfn.XLOOKUP(F24667,'Object Codes'!$A$18:$A$510,'Object Codes'!$G$18:$G$510)","v":"C"},{"$f":"_xlfn.XLOOKUP(A24667,Agencies!$A$9:$A$146,Agencies!$B$9:$B$146)","v":"Housing"},{"$f":"IF(_xlfn.XLOOKUP(A24667,Agencies!A:A,Agencies!D:D)=\"Y\",IF(_xlfn.XLOOKUP(F24667,'Object Codes'!A:A,'Object Codes'!I:I)=\"Y\",\"Y\",\"N\"),\"N\")","v":"Y"},{"$f":"VLOOKUP(F24667,'Object Codes'!$A:$C,3,0)","v":"Full Year Positions"},{"$f":"VLOOKUP(A24667,Agencies!A:C,3,0)","v":"Department of Buildings"},609.62435616438358]
["810",2022,"001","001","5019","041",0,0,0,0,0,0,0,0,0,0,-434.7,0,-434.7,-434.7,434.7,-434.7,434.7,-434.7,-434.7,434.7,{"$f":"_xlfn.XLOOKUP(F24705,'Object Codes'!$A$18:$A$510,'Object Codes'!$H$18:$H$510)","v":"PS - Additional Gross"},{"$f":"_xlfn.XLOOKUP(F24705,'Object Codes'!$A$18:$A$510,'Object Codes'!$G$18:$G$510)","v":"A"},{"$f":"_xlfn.XLOOKUP(A24705,Agencies!$A$9:$A$146,Agencies!$B$9:$B$146)","v":"Housing"},{"$f":"IF(_xlfn.XLOOKUP(A24705,Agencies!A:A,Agencies!D:D)=\"Y\",IF(_xlfn.XLOOKUP(F24705,'Object Codes'!A:A,'Object Codes'!I:I)=\"Y\",\"Y\",\"N\"),\"N\")","v":"Y"},{"$f":"VLOOKUP(F24705,'Object Codes'!$A:$C,3,0)","v":"Assignment Differential"},{"$f":"VLOOKUP(A24705,Agencies!A:C,3,0)","v":"Department of Buildings"},-1.1909589041095889]
["810",2022,"001","001","5023","047",0,0,0,0,0,0,0,0,0,0,987.06,0,987.06,987.06,-987.06,987.06,-987.06,987.06,987.06,-987.06,{"$f":"_xlfn.XLOOKUP(F24734,'Object Codes'!$A$18:$A$510,'Object Codes'!$H$18:$H$510)","v":"PS - Additional Gross"},{"$f":"_xlfn.XLOOKUP(F24734,'Object Codes'!$A$18:$A$510,'Object Codes'!$G$18:$G$510)","v":"C"},{"$f":"_xlfn.XLOOKUP(A24734,Agencies!$A$9:$A$146,Agencies!$B$9:$B$146)","v":"Housing"},{"$f":"IF(_xlfn.XLOOKUP(A24734,Agencies!A:A,Agencies!D:D)=\"Y\",IF(_xlfn.XLOOKUP(F24734,'Object Codes'!A:A,'Object Codes'!I:I)=\"Y\",\"Y\",\"N\"),\"N\")","v":"Y"},{"$f":"VLOOKUP(F24734,'Object Codes'!$A:$C,3,0)","v":"Overtime"},{"$f":"VLOOKUP(A24734,Agencies!A:C,3,0)","v":"Department of Buildings"},2.7042739726027394]
["810",2022,"001","001","5028","049",0,0,0,0,0,0,0,0,0,0,45.07,0,45.07,45.07,-45.07,45.07,-45.07,45.07,45.07,-45.07,{"$f":"_xlfn.XLOOKUP(F24770,'Object Codes'!$A$18:$A$510,'Object Codes'!$H$18:$H$510)","v":"PS - Additional Gross"},{"$f":"_xlfn.XLOOKUP(F24770,'Object Codes'!$A$18:$A$510,'Object Codes'!$G$18:$G$510)","v":"A"},{"$f":"_xlfn.XLOOKUP(A24770,Agencies!$A$9:$A$146,Agencies!$B$9:$B$146)","v":"Housing"},{"$f":"IF(_xlfn.XLOOKUP(A24770,Agencies!A:A,Agencies!D:D)=\"Y\",IF(_xlfn.XLOOKUP(F24770,'Object Codes'!A:A,'Object Codes'!I:I)=\"Y\",\"Y\",\"N\"),\"N\")","v":"Y"},{"$f":"VLOOKUP(F24770,'Object Codes'!$A:$C,3,0)","v":"Backpay"},{"$f":"VLOOKUP(A24770,Agencies!A:C,3,0)","v":"Department of Buildings"},0.12347945205479452]
["810",2022,"001","001","5054","061",0,0,0,0,0,0,0,0,0,0,16.5,0,16.5,16.5,-16.5,16.5,-16.5,16.5,16.5,-16.5,{"$f":"_xlfn.XLOOKUP(F24848,'Object Codes'!$A$18:$A$510,'Object Codes'!$H$18:$H$510)","v":"PS - Additional Gross"},{"$f":"_xlfn.XLOOKUP(F24848,'Object Codes'!$A$18:$A$510,'Object Codes'!$G$18:$G$510)","v":"A"},{"$f":"_xlfn.XLOOKUP(A24848,Agencies!$A$9:$A$146,Agencies!$B$9:$B$146)","v":"Housing"},{"$f":"IF(_xlfn.XLOOKUP(A24848,Agencies!A:A,Agencies!D:D)=\"Y\",IF(_xlfn.XLOOKUP(F24848,'Object Codes'!A:A,'Object Codes'!I:I)=\"Y\",\"Y\",\"N\"),\"N\")","v":"Y"},{"$f":"VLOOKUP(F24848,'Object Codes'!$A:$C,3,0)","v":"Supper Money"},{"$f":"VLOOKUP(A24848,Agencies!A:C,3,0)","v":"Department of Buildings"},4.5205479452054796E-2]
["810",2022,"001","001","5082","042",0,0,0,0,0,0,0,0,0,0,106878.33,0,106878.33,106878.33,-106878.33,106878.33,-106878.33,106878.33,106878.33,-106878.33,{"$f":"_xlfn.XLOOKUP(F24877,'Object Codes'!$A$18:$A$510,'Object Codes'!$H$18:$H$510)","v":"PS - Additional Gross"},{"$f":"_xlfn.XLOOKUP(F24877,'Object Codes'!$A$18:$A$510,'Object Codes'!$G$18:$G$510)","v":"A"},{"$f":"_xlfn.XLOOKUP(A24877,Agencies!$A$9:$A$146,Agencies!$B$9:$B$146)","v":"Housing"},{"$f":"IF(_xlfn.XLOOKUP(A24877,Agencies!A:A,Agencies!D:D)=\"Y\",IF(_xlfn.XLOOKUP(F24877,'Object Codes'!A:A,'Object Codes'!I:I)=\"Y\",\"Y\",\"N\"),\"N\")","v":"Y"},{"$f":"VLOOKUP(F24877,'Object Codes'!$A:$C,3,0)","v":"Longevity Differential"},{"$f":"VLOOKUP(A24877,Agencies!A:C,3,0)","v":"Department of Buildings"},292.81734246575343]
["810",2022,"001","001","5087","X45",0,0,0,0,0,0,0,0,0,0,70.91,0,70.91,70.91,-70.91,70.91,-70.91,70.91,70.91,-70.91,{"$f":"_xlfn.XLOOKUP(F24919,'Object Codes'!$A$18:$A$510,'Object Codes'!$H$18:$H$510)","v":"PS - Additional Gross"},{"$f":"_xlfn.XLOOKUP(F24919,'Object Codes'!$A$18:$A$510,'Object Codes'!$G$18:$G$510)","v":"A"},{"$f":"_xlfn.XLOOKUP(A24919,Agencies!$A$9:$A$146,Agencies!$B$9:$B$146)","v":"Housing"},{"$f":"IF(_xlfn.XLOOKUP(A24919,Agencies!A:A,Agencies!D:D)=\"Y\",IF(_xlfn.XLOOKUP(F24919,'Object Codes'!A:A,'Object Codes'!I:I)=\"Y\",\"Y\",\"N\"),\"N\")","v":"Y"},{"$f":"VLOOKUP(F24919,'Object Codes'!$A:$C,3,0)","v":"PY HOLIDAY PAY"},{"$f":"VLOOKUP(A24919,Agencies!A:C,3,0)","v":"Department of Buildings"},0.19427397260273971]
["810",2022,"001","001","5108","061",0,0,0,0,0,0,0,0,0,0,68.5,0,68.5,68.5,-68.5,68.5,-68.5,68.5,68.5,-68.5,{"$f":"_xlfn.XLOOKUP(F24991,'Object Codes'!$A$18:$A$510,'Object Codes'!$H$18:$H$510)","v":"PS - Additional Gross"},{"$f":"_xlfn.XLOOKUP(F24991,'Object Codes'!$A$18:$A$510,'Object Codes'!$G$18:$G$510)","v":"A"},{"$f":"_xlfn.XLOOKUP(A24991,Agencies!$A$9:$A$146,Agencies!$B$9:$B$146)","v":"Housing"},{"$f":"IF(_xlfn.XLOOKUP(A24991,Agencies!A:A,Agencies!D:D)=\"Y\",IF(_xlfn.XLOOKUP(F24991,'Object Codes'!A:A,'Object Codes'!I:I)=\"Y\",\"Y\",\"N\"),\"N\")","v":"Y"},{"$f":"VLOOKUP(F24991,'Object Codes'!$A:$C,3,0)","v":"Supper Money"},{"$f":"VLOOKUP(A24991,Agencies!A:C,3,0)","v":"Department of Buildings"},0.18767123287671234]
["810",2022,"001","001","5114","X47",0,0,0,0,0,0,0,0,0,0,48.58,0,48.58,48.58,-48.58,48.58,-48.58,48.58,48.58,-48.58,{"$f":"_xlfn.XLOOKUP(F25020,'Object Codes'!$A$18:$A$510,'Object Codes'!$H$18:$H$510)","v":"PS - Additional Gross"},{"$f":"_xlfn.XLOOKUP(F25020,'Object Codes'!$A$18:$A$510,'Object Codes'!$G$18:$G$510)","v":"A"},{"$f":"_xlfn.XLOOKUP(A25020,Agencies!$A$9:$A$146,Agencies!$B$9:$B$146)","v":"Housing"},{"$f":"IF(_xlfn.XLOOKUP(A25020,Agencies!A:A,Agencies!D:D)=\"Y\",IF(_xlfn.XLOOKUP(F25020,'Object Codes'!A:A,'Object Codes'!I:I)=\"Y\",\"Y\",\"N\"),\"N\")","v":"Y"},{"$f":"VLOOKUP(F25020,'Object Codes'!$A:$C,3,0)","v":"PY OVERTIME"},{"$f":"VLOOKUP(A25020,Agencies!A:C,3,0)","v":"Department of Buildings"},0.1330958904109589]
["810",2022,"001","001","5119","X47",0,0,0,0,0,0,0,0,0,0,513.46,0,513.46,513.46,-513.46,513.46,-513.46,513.46,513.46,-513.46,{"$f":"_xlfn.XLOOKUP(F25068,'Object Codes'!$A$18:$A$510,'Object Codes'!$H$18:$H$510)","v":"PS - Additional Gross"},{"$f":"_xlfn.XLOOKUP(F25068,'Object Codes'!$A$18:$A$510,'Object Codes'!$G$18:$G$510)","v":"A"},{"$f":"_xlfn.XLOOKUP(A25068,Agencies!$A$9:$A$146,Agencies!$B$9:$B$146)","v":"Housing"},{"$f":"IF(_xlfn.XLOOKUP(A25068,Agencies!A:A,Agencies!D:D)=\"Y\",IF(_xlfn.XLOOKUP(F25068,'Object Codes'!A:A,'Object Codes'!I:I)=\"Y\",\"Y\",\"N\"),\"N\")","v":"Y"},{"$f":"VLOOKUP(F25068,'Object Codes'!$A:$C,3,0)","v":"PY OVERTIME"},{"$f":"VLOOKUP(A25068,Agencies!A:C,3,0)","v":"Department of Buildings"},1.4067397260273973]
["810",2022,"001","001","5131","001",0,5,5,299387,299387,0,0,0,0,0,299386.84000000003,0,299386.84000000003,299386.84000000003,0.16,299386.84000000003,0.16,299386.84000000003,299386.84000000003,0.16,{"$f":"_xlfn.XLOOKUP(F25129,'Object Codes'!$A$18:$A$510,'Object Codes'!$H$18:$H$510)","v":"PS - Regular"},{"$f":"_xlfn.XLOOKUP(F25129,'Object Codes'!$A$18:$A$510,'Object Codes'!$G$18:$G$510)","v":"C"},{"$f":"_xlfn.XLOOKUP(A25129,Agencies!$A$9:$A$146,Agencies!$B$9:$B$146)","v":"Housing"},{"$f":"IF(_xlfn.XLOOKUP(A25129,Agencies!A:A,Agencies!D:D)=\"Y\",IF(_xlfn.XLOOKUP(F25129,'Object Codes'!A:A,'Object Codes'!I:I)=\"Y\",\"Y\",\"N\"),\"N\")","v":"Y"},{"$f":"VLOOKUP(F25129,'Object Codes'!$A:$C,3,0)","v":"Full Year Positions"},{"$f":"VLOOKUP(A25129,Agencies!A:C,3,0)","v":"Department of Buildings"},820.23791780821921]
["810",2022,"001","001","5136","041",0,0,0,0,0,0,0,0,0,0,21.24,0,21.24,21.24,-21.24,21.24,-21.24,21.24,21.24,-21.24,{"$f":"_xlfn.XLOOKUP(F25163,'Object Codes'!$A$18:$A$510,'Object Codes'!$H$18:$H$510)","v":"PS - Additional Gross"},{"$f":"_xlfn.XLOOKUP(F25163,'Object Codes'!$A$18:$A$510,'Object Codes'!$G$18:$G$510)","v":"A"},{"$f":"_xlfn.XLOOKUP(A25163,Agencies!$A$9:$A$146,Agencies!$B$9:$B$146)","v":"Housing"},{"$f":"IF(_xlfn.XLOOKUP(A25163,Agencies!A:A,Agencies!D:D)=\"Y\",IF(_xlfn.XLOOKUP(F25163,'Object Codes'!A:A,'Object Codes'!I:I)=\"Y\",\"Y\",\"N\"),\"N\")","v":"Y"},{"$f":"VLOOKUP(F25163,'Object Codes'!$A:$C,3,0)","v":"Assignment Differential"},{"$f":"VLOOKUP(A25163,Agencies!A:C,3,0)","v":"Department of Buildings"},5.8191780821917803E-2]
["810",2022,"001","001","5148","043",0,0,0,0,0,0,0,0,0,0,11.85,0,11.85,11.85,-11.85,11.85,-11.85,11.85,11.85,-11.85,{"$f":"_xlfn.XLOOKUP(F25217,'Object Codes'!$A$18:$A$510,'Object Codes'!$H$18:$H$510)","v":"PS - Additional Gross"},{"$f":"_xlfn.XLOOKUP(F25217,'Object Codes'!$A$18:$A$510,'Object Codes'!$G$18:$G$510)","v":"A"},{"$f":"_xlfn.XLOOKUP(A25217,Agencies!$A$9:$A$146,Agencies!$B$9:$B$146)","v":"Housing"},{"$f":"IF(_xlfn.XLOOKUP(A25217,Agencies!A:A,Agencies!D:D)=\"Y\",IF(_xlfn.XLOOKUP(F25217,'Object Codes'!A:A,'Object Codes'!I:I)=\"Y\",\"Y\",\"N\"),\"N\")","v":"Y"},{"$f":"VLOOKUP(F25217,'Object Codes'!$A:$C,3,0)","v":"Shift Differential"},{"$f":"VLOOKUP(A25217,Agencies!A:C,3,0)","v":"Department of Buildings"},3.2465753424657531E-2]
["810",2022,"001","001","5161","047",0,0,0,0,200000,0,0,0,0,0,226119.74,0,226119.74,226119.74,-26119.74,226119.74,-26119.74,226119.74,226119.74,-26119.74,{"$f":"_xlfn.XLOOKUP(F25272,'Object Codes'!$A$18:$A$510,'Object Codes'!$H$18:$H$510)","v":"PS - Additional Gross"},{"$f":"_xlfn.XLOOKUP(F25272,'Object Codes'!$A$18:$A$510,'Object Codes'!$G$18:$G$510)","v":"C"},{"$f":"_xlfn.XLOOKUP(A25272,Agencies!$A$9:$A$146,Agencies!$B$9:$B$146)","v":"Housing"},{"$f":"IF(_xlfn.XLOOKUP(A25272,Agencies!A:A,Agencies!D:D)=\"Y\",IF(_xlfn.XLOOKUP(F25272,'Object Codes'!A:A,'Object Codes'!I:I)=\"Y\",\"Y\",\"N\"),\"N\")","v":"Y"},{"$f":"VLOOKUP(F25272,'Object Codes'!$A:$C,3,0)","v":"Overtime"},{"$f":"VLOOKUP(A25272,Agencies!A:C,3,0)","v":"Department of Buildings"},619.50613698630139]
["810",2022,"001","001","5174","001",0,0,0,0,0,0,0,0,0,0,708.28,0,708.28,708.28,-708.28,708.28,-708.28,708.28,708.28,-708.28,{"$f":"_xlfn.XLOOKUP(F25306,'Object Codes'!$A$18:$A$510,'Object Codes'!$H$18:$H$510)","v":"PS - Regular"},{"$f":"_xlfn.XLOOKUP(F25306,'Object Codes'!$A$18:$A$510,'Object Codes'!$G$18:$G$510)","v":"C"},{"$f":"_xlfn.XLOOKUP(A25306,Agencies!$A$9:$A$146,Agencies!$B$9:$B$146)","v":"Housing"},{"$f":"IF(_xlfn.XLOOKUP(A25306,Agencies!A:A,Agencies!D:D)=\"Y\",IF(_xlfn.XLOOKUP(F25306,'Object Codes'!A:A,'Object Codes'!I:I)=\"Y\",\"Y\",\"N\"),\"N\")","v":"Y"},{"$f":"VLOOKUP(F25306,'Object Codes'!$A:$C,3,0)","v":"Full Year Positions"},{"$f":"VLOOKUP(A25306,Agencies!A:C,3,0)","v":"Department of Buildings"},1.9404931506849314]
["810",2022,"001","001","5181","X42",0,0,0,0,0,0,0,0,0,0,761.74,0,761.74,761.74,-761.74,761.74,-761.74,761.74,761.74,-761.74,{"$f":"_xlfn.XLOOKUP(F25335,'Object Codes'!$A$18:$A$510,'Object Codes'!$H$18:$H$510)","v":"PS - Additional Gross"},{"$f":"_xlfn.XLOOKUP(F25335,'Object Codes'!$A$18:$A$510,'Object Codes'!$G$18:$G$510)","v":"A"},{"$f":"_xlfn.XLOOKUP(A25335,Agencies!$A$9:$A$146,Agencies!$B$9:$B$146)","v":"Housing"},{"$f":"IF(_xlfn.XLOOKUP(A25335,Agencies!A:A,Agencies!D:D)=\"Y\",IF(_xlfn.XLOOKUP(F25335,'Object Codes'!A:A,'Object Codes'!I:I)=\"Y\",\"Y\",\"N\"),\"N\")","v":"Y"},{"$f":"VLOOKUP(F25335,'Object Codes'!$A:$C,3,0)","v":"PY LONGEVITY DIFFERENTIAL"},{"$f":"VLOOKUP(A25335,Agencies!A:C,3,0)","v":"Department of Buildings"},2.0869589041095891]
["810",2022,"001","001","5201","047",0,0,0,0,0,0,0,0,0,0,12991.92,0,12991.92,12991.92,-12991.92,12991.92,-12991.92,12991.92,12991.92,-12991.92,{"$f":"_xlfn.XLOOKUP(F25378,'Object Codes'!$A$18:$A$510,'Object Codes'!$H$18:$H$510)","v":"PS - Additional Gross"},{"$f":"_xlfn.XLOOKUP(F25378,'Object Codes'!$A$18:$A$510,'Object Codes'!$G$18:$G$510)","v":"C"},{"$f":"_xlfn.XLOOKUP(A25378,Agencies!$A$9:$A$146,Agencies!$B$9:$B$146)","v":"Housing"},{"$f":"IF(_xlfn.XLOOKUP(A25378,Agencies!A:A,Agencies!D:D)=\"Y\",IF(_xlfn.XLOOKUP(F25378,'Object Codes'!A:A,'Object Codes'!I:I)=\"Y\",\"Y\",\"N\"),\"N\")","v":"Y"},{"$f":"VLOOKUP(F25378,'Object Codes'!$A:$C,3,0)","v":"Overtime"},{"$f":"VLOOKUP(A25378,Agencies!A:C,3,0)","v":"Department of Buildings"},35.594301369863011]
["810",2022,"001","001","5301","042",0,0,0,0,0,0,0,0,0,0,5754.04,0,5754.04,5754.04,-5754.04,5754.04,-5754.04,5754.04,5754.04,-5754.04,{"$f":"_xlfn.XLOOKUP(F25449,'Object Codes'!$A$18:$A$510,'Object Codes'!$H$18:$H$510)","v":"PS - Additional Gross"},{"$f":"_xlfn.XLOOKUP(F25449,'Object Codes'!$A$18:$A$510,'Object Codes'!$G$18:$G$510)","v":"A"},{"$f":"_xlfn.XLOOKUP(A25449,Agencies!$A$9:$A$146,Agencies!$B$9:$B$146)","v":"Housing"},{"$f":"IF(_xlfn.XLOOKUP(A25449,Agencies!A:A,Agencies!D:D)=\"Y\",IF(_xlfn.XLOOKUP(F25449,'Object Codes'!A:A,'Object Codes'!I:I)=\"Y\",\"Y\",\"N\"),\"N\")","v":"Y"},{"$f":"VLOOKUP(F25449,'Object Codes'!$A:$C,3,0)","v":"Longevity Differential"},{"$f":"VLOOKUP(A25449,Agencies!A:C,3,0)","v":"Department of Buildings"},15.764493150684931]
["810",2022,"001","001","5504","001",0,10,10,1093213,1093213,0,0,0,0,0,780747.06,0,780747.06,780747.06,312465.94,780747.06,312465.94,780747.06,780747.06,312465.94,{"$f":"_xlfn.XLOOKUP(F25478,'Object Codes'!$A$18:$A$510,'Object Codes'!$H$18:$H$510)","v":"PS - Regular"},{"$f":"_xlfn.XLOOKUP(F25478,'Object Codes'!$A$18:$A$510,'Object Codes'!$G$18:$G$510)","v":"C"},{"$f":"_xlfn.XLOOKUP(A25478,Agencies!$A$9:$A$146,Agencies!$B$9:$B$146)","v":"Housing"},{"$f":"IF(_xlfn.XLOOKUP(A25478,Agencies!A:A,Agencies!D:D)=\"Y\",IF(_xlfn.XLOOKUP(F25478,'Object Codes'!A:A,'Object Codes'!I:I)=\"Y\",\"Y\",\"N\"),\"N\")","v":"Y"},{"$f":"VLOOKUP(F25478,'Object Codes'!$A:$C,3,0)","v":"Full Year Positions"},{"$f":"VLOOKUP(A25478,Agencies!A:C,3,0)","v":"Department of Buildings"},2139.0330410958904]
["810",2022,"001","001","5522","043",0,0,0,0,0,0,0,0,0,0,1796.76,0,1796.76,1796.76,-1796.76,1796.76,-1796.76,1796.76,1796.76,-1796.76,{"$f":"_xlfn.XLOOKUP(F25527,'Object Codes'!$A$18:$A$510,'Object Codes'!$H$18:$H$510)","v":"PS - Additional Gross"},{"$f":"_xlfn.XLOOKUP(F25527,'Object Codes'!$A$18:$A$510,'Object Codes'!$G$18:$G$510)","v":"A"},{"$f":"_xlfn.XLOOKUP(A25527,Agencies!$A$9:$A$146,Agencies!$B$9:$B$146)","v":"Housing"},{"$f":"IF(_xlfn.XLOOKUP(A25527,Agencies!A:A,Agencies!D:D)=\"Y\",IF(_xlfn.XLOOKUP(F25527,'Object Codes'!A:A,'Object Codes'!I:I)=\"Y\",\"Y\",\"N\"),\"N\")","v":"Y"},{"$f":"VLOOKUP(F25527,'Object Codes'!$A:$C,3,0)","v":"Shift Differential"},{"$f":"VLOOKUP(A25527,Agencies!A:C,3,0)","v":"Department of Buildings"},4.9226301369863013]
["810",2022,"001","001","5536","057",0,0,0,0,0,0,0,0,0,0,1500,0,1500,1500,-1500,1500,-1500,1500,1500,-1500,{"$f":"_xlfn.XLOOKUP(F25592,'Object Codes'!$A$18:$A$510,'Object Codes'!$H$18:$H$510)","v":"PS - Additional Gross"},{"$f":"_xlfn.XLOOKUP(F25592,'Object Codes'!$A$18:$A$510,'Object Codes'!$G$18:$G$510)","v":"A"},{"$f":"_xlfn.XLOOKUP(A25592,Agencies!$A$9:$A$146,Agencies!$B$9:$B$146)","v":"Housing"},{"$f":"IF(_xlfn.XLOOKUP(A25592,Agencies!A:A,Agencies!D:D)=\"Y\",IF(_xlfn.XLOOKUP(F25592,'Object Codes'!A:A,'Object Codes'!I:I)=\"Y\",\"Y\",\"N\"),\"N\")","v":"Y"},{"$f":"VLOOKUP(F25592,'Object Codes'!$A:$C,3,0)","v":"Bonus Payments"},{"$f":"VLOOKUP(A25592,Agencies!A:C,3,0)","v":"Department of Buildings"},4.1095890410958908]
["810",2022,"001","001","5604","031",0,0,0,0,0,0,0,0,0,0,4614.82,0,4614.82,4614.82,-4614.82,4614.82,-4614.82,4614.82,4614.82,-4614.82,{"$f":"_xlfn.XLOOKUP(F25621,'Object Codes'!$A$18:$A$510,'Object Codes'!$H$18:$H$510)","v":"PS - Regular"},{"$f":"_xlfn.XLOOKUP(F25621,'Object Codes'!$A$18:$A$510,'Object Codes'!$G$18:$G$510)","v":"C"},{"$f":"_xlfn.XLOOKUP(A25621,Agencies!$A$9:$A$146,Agencies!$B$9:$B$146)","v":"Housing"},{"$f":"IF(_xlfn.XLOOKUP(A25621,Agencies!A:A,Agencies!D:D)=\"Y\",IF(_xlfn.XLOOKUP(F25621,'Object Codes'!A:A,'Object Codes'!I:I)=\"Y\",\"Y\",\"N\"),\"N\")","v":"Y"},{"$f":"VLOOKUP(F25621,'Object Codes'!$A:$C,3,0)","v":"Hourly Positions"},{"$f":"VLOOKUP(A25621,Agencies!A:C,3,0)","v":"Department of Buildings"},12.643342465753424]
["810",2022,"001","001","6008","041",0,0,0,0,0,0,0,0,0,0,1665.16,0,1665.16,1665.16,-1665.16,1665.16,-1665.16,1665.16,1665.16,-1665.16,{"$f":"_xlfn.XLOOKUP(F25676,'Object Codes'!$A$18:$A$510,'Object Codes'!$H$18:$H$510)","v":"PS - Additional Gross"},{"$f":"_xlfn.XLOOKUP(F25676,'Object Codes'!$A$18:$A$510,'Object Codes'!$G$18:$G$510)","v":"A"},{"$f":"_xlfn.XLOOKUP(A25676,Agencies!$A$9:$A$146,Agencies!$B$9:$B$146)","v":"Housing"},{"$f":"IF(_xlfn.XLOOKUP(A25676,Agencies!A:A,Agencies!D:D)=\"Y\",IF(_xlfn.XLOOKUP(F25676,'Object Codes'!A:A,'Object Codes'!I:I)=\"Y\",\"Y\",\"N\"),\"N\")","v":"Y"},{"$f":"VLOOKUP(F25676,'Object Codes'!$A:$C,3,0)","v":"Assignment Differential"},{"$f":"VLOOKUP(A25676,Agencies!A:C,3,0)","v":"Department of Buildings"},4.5620821917808225]
["810",2022,"001","001","6108","042",0,0,0,0,0,0,0,0,0,0,9338.92,0,9338.92,9338.92,-9338.92,9338.92,-9338.92,9338.92,9338.92,-9338.92,{"$f":"_xlfn.XLOOKUP(F25730,'Object Codes'!$A$18:$A$510,'Object Codes'!$H$18:$H$510)","v":"PS - Additional Gross"},{"$f":"_xlfn.XLOOKUP(F25730,'Object Codes'!$A$18:$A$510,'Object Codes'!$G$18:$G$510)","v":"A"},{"$f":"_xlfn.XLOOKUP(A25730,Agencies!$A$9:$A$146,Agencies!$B$9:$B$146)","v":"Housing"},{"$f":"IF(_xlfn.XLOOKUP(A25730,Agencies!A:A,Agencies!D:D)=\"Y\",IF(_xlfn.XLOOKUP(F25730,'Object Codes'!A:A,'Object Codes'!I:I)=\"Y\",\"Y\",\"N\"),\"N\")","v":"Y"},{"$f":"VLOOKUP(F25730,'Object Codes'!$A:$C,3,0)","v":"Longevity Differential"},{"$f":"VLOOKUP(A25730,Agencies!A:C,3,0)","v":"Department of Buildings"},25.586082191780822]
["810",2022,"001","001","6123","001",0,33,33,2611155,611155,0,0,0,0,0,275496.59999999998,0,275496.59999999998,275496.59999999998,335658.4,275496.59999999998,335658.4,275496.59999999998,275496.59999999998,335658.4,{"$f":"_xlfn.XLOOKUP(F25764,'Object Codes'!$A$18:$A$510,'Object Codes'!$H$18:$H$510)","v":"PS - Regular"},{"$f":"_xlfn.XLOOKUP(F25764,'Object Codes'!$A$18:$A$510,'Object Codes'!$G$18:$G$510)","v":"C"},{"$f":"_xlfn.XLOOKUP(A25764,Agencies!$A$9:$A$146,Agencies!$B$9:$B$146)","v":"Housing"},{"$f":"IF(_xlfn.XLOOKUP(A25764,Agencies!A:A,Agencies!D:D)=\"Y\",IF(_xlfn.XLOOKUP(F25764,'Object Codes'!A:A,'Object Codes'!I:I)=\"Y\",\"Y\",\"N\"),\"N\")","v":"Y"},{"$f":"VLOOKUP(F25764,'Object Codes'!$A:$C,3,0)","v":"Full Year Positions"},{"$f":"VLOOKUP(A25764,Agencies!A:C,3,0)","v":"Department of Buildings"},754.78520547945197]
["810",2022,"001","001","6211","043",0,0,0,0,0,0,0,0,0,0,91.1,0,91.1,91.1,-91.1,91.1,-91.1,91.1,91.1,-91.1,{"$f":"_xlfn.XLOOKUP(F25825,'Object Codes'!$A$18:$A$510,'Object Codes'!$H$18:$H$510)","v":"PS - Additional Gross"},{"$f":"_xlfn.XLOOKUP(F25825,'Object Codes'!$A$18:$A$510,'Object Codes'!$G$18:$G$510)","v":"A"},{"$f":"_xlfn.XLOOKUP(A25825,Agencies!$A$9:$A$146,Agencies!$B$9:$B$146)","v":"Housing"},{"$f":"IF(_xlfn.XLOOKUP(A25825,Agencies!A:A,Agencies!D:D)=\"Y\",IF(_xlfn.XLOOKUP(F25825,'Object Codes'!A:A,'Object Codes'!I:I)=\"Y\",\"Y\",\"N\"),\"N\")","v":"Y"},{"$f":"VLOOKUP(F25825,'Object Codes'!$A:$C,3,0)","v":"Shift Differential"},{"$f":"VLOOKUP(A25825,Agencies!A:C,3,0)","v":"Department of Buildings"},0.24958904109589039]
["810",2022,"001","001","P001","045",0,0,0,0,6203,0,0,0,0,0,0,0,0,0,6203,0,6203,0,0,6203,{"$f":"_xlfn.XLOOKUP(F25873,'Object Codes'!$A$18:$A$510,'Object Codes'!$H$18:$H$510)","v":"PS - Additional Gross"},{"$f":"_xlfn.XLOOKUP(F25873,'Object Codes'!$A$18:$A$510,'Object Codes'!$G$18:$G$510)","v":"A"},{"$f":"_xlfn.XLOOKUP(A25873,Agencies!$A$9:$A$146,Agencies!$B$9:$B$146)","v":"Housing"},{"$f":"IF(_xlfn.XLOOKUP(A25873,Agencies!A:A,Agencies!D:D)=\"Y\",IF(_xlfn.XLOOKUP(F25873,'Object Codes'!A:A,'Object Codes'!I:I)=\"Y\",\"Y\",\"N\"),\"N\")","v":"Y"},{"$f":"VLOOKUP(F25873,'Object Codes'!$A:$C,3,0)","v":"Holiday Pay"},{"$f":"VLOOKUP(A25873,Agencies!A:C,3,0)","v":"Department of Buildings"},0]
["810",2022,"001","002","5100","451",0,0,0,100000,64324,0,0,0,0,0,64323.95,0,64323.95,64323.95,0.05,64323.95,0.05,64323.95,64323.95,0.05,{"$f":"_xlfn.XLOOKUP(F25907,'Object Codes'!$A$18:$A$510,'Object Codes'!$H$18:$H$510)","v":"Other Services and Charges - General"},{"$f":"_xlfn.XLOOKUP(F25907,'Object Codes'!$A$18:$A$510,'Object Codes'!$G$18:$G$510)","v":0},{"$f":"_xlfn.XLOOKUP(A25907,Agencies!$A$9:$A$146,Agencies!$B$9:$B$146)","v":"Housing"},{"$f":"IF(_xlfn.XLOOKUP(A25907,Agencies!A:A,Agencies!D:D)=\"Y\",IF(_xlfn.XLOOKUP(F25907,'Object Codes'!A:A,'Object Codes'!I:I)=\"Y\",\"Y\",\"N\"),\"N\")","v":"Y"},{"$f":"VLOOKUP(F25907,'Object Codes'!$A:$C,3,0)","v":"Non Overnight Travel Expenditures - General"},{"$f":"VLOOKUP(A25907,Agencies!A:C,3,0)","v":"Department of Buildings"},176.23]
["810",2022,"001","002","5527","100",0,0,0,569905,0,0,0,0,0,0,0,0,0,0,0,0,0,0,0,0,{"$f":"_xlfn.XLOOKUP(F25974,'Object Codes'!$A$18:$A$510,'Object Codes'!$H$18:$H$510)","v":"Supplies & Materials"},{"$f":"_xlfn.XLOOKUP(F25974,'Object Codes'!$A$18:$A$510,'Object Codes'!$G$18:$G$510)","v":"A"},{"$f":"_xlfn.XLOOKUP(A25974,Agencies!$A$9:$A$146,Agencies!$B$9:$B$146)","v":"Housing"},{"$f":"IF(_xlfn.XLOOKUP(A25974,Agencies!A:A,Agencies!D:D)=\"Y\",IF(_xlfn.XLOOKUP(F25974,'Object Codes'!A:A,'Object Codes'!I:I)=\"Y\",\"Y\",\"N\"),\"N\")","v":"Y"},{"$f":"VLOOKUP(F25974,'Object Codes'!$A:$C,3,0)","v":"Supplies and Materials - General"},{"$f":"VLOOKUP(A25974,Agencies!A:C,3,0)","v":"Department of Buildings"},0]
["816",2022,"001","101","1010","001",0,247,247,16048878,12447331,0,0,0,0,0,12194914.189999999,51000,12245914.189999999,12245914.189999999,201416.81,12245914.189999999,201416.81,12245914.189999999,12245914.189999999,201416.81,{"$f":"_xlfn.XLOOKUP(F26016,'Object Codes'!$A$18:$A$510,'Object Codes'!$H$18:$H$510)","v":"PS - Regular"},{"$f":"_xlfn.XLOOKUP(F26016,'Object Codes'!$A$18:$A$510,'Object Codes'!$G$18:$G$510)","v":"C"},{"$f":"_xlfn.XLOOKUP(A26016,Agencies!$A$9:$A$146,Agencies!$B$9:$B$146)","v":"Health"},{"$f":"IF(_xlfn.XLOOKUP(A26016,Agencies!A:A,Agencies!D:D)=\"Y\",IF(_xlfn.XLOOKUP(F26016,'Object Codes'!A:A,'Object Codes'!I:I)=\"Y\",\"Y\",\"N\"),\"N\")","v":"Y"},{"$f":"VLOOKUP(F26016,'Object Codes'!$A:$C,3,0)","v":"Full Year Positions"},{"$f":"VLOOKUP(A26016,Agencies!A:C,3,0)","v":"Dept Health & Mental Hygiene"},33550.44983561644]
["816",2022,"001","101","1013","X42",0,0,0,0,0,0,0,0,0,0,3664.07,0,3664.07,3664.07,-3664.07,3664.07,-3664.07,3664.07,3664.07,-3664.07,{"$f":"_xlfn.XLOOKUP(F26050,'Object Codes'!$A$18:$A$510,'Object Codes'!$H$18:$H$510)","v":"PS - Additional Gross"},{"$f":"_xlfn.XLOOKUP(F26050,'Object Codes'!$A$18:$A$510,'Object Codes'!$G$18:$G$510)","v":"A"},{"$f":"_xlfn.XLOOKUP(A26050,Agencies!$A$9:$A$146,Agencies!$B$9:$B$146)","v":"Health"},{"$f":"IF(_xlfn.XLOOKUP(A26050,Agencies!A:A,Agencies!D:D)=\"Y\",IF(_xlfn.XLOOKUP(F26050,'Object Codes'!A:A,'Object Codes'!I:I)=\"Y\",\"Y\",\"N\"),\"N\")","v":"Y"},{"$f":"VLOOKUP(F26050,'Object Codes'!$A:$C,3,0)","v":"PY LONGEVITY DIFFERENTIAL"},{"$f":"VLOOKUP(A26050,Agencies!A:C,3,0)","v":"Dept Health & Mental Hygiene"},10.03854794520548]
["816",2022,"001","101","1030","057",0,0,0,0,1000,0,0,0,0,0,0,0,0,0,1000,0,1000,0,0,1000,{"$f":"_xlfn.XLOOKUP(F26089,'Object Codes'!$A$18:$A$510,'Object Codes'!$H$18:$H$510)","v":"PS - Additional Gross"},{"$f":"_xlfn.XLOOKUP(F26089,'Object Codes'!$A$18:$A$510,'Object Codes'!$G$18:$G$510)","v":"A"},{"$f":"_xlfn.XLOOKUP(A26089,Agencies!$A$9:$A$146,Agencies!$B$9:$B$146)","v":"Health"},{"$f":"IF(_xlfn.XLOOKUP(A26089,Agencies!A:A,Agencies!D:D)=\"Y\",IF(_xlfn.XLOOKUP(F26089,'Object Codes'!A:A,'Object Codes'!I:I)=\"Y\",\"Y\",\"N\"),\"N\")","v":"Y"},{"$f":"VLOOKUP(F26089,'Object Codes'!$A:$C,3,0)","v":"Bonus Payments"},{"$f":"VLOOKUP(A26089,Agencies!A:C,3,0)","v":"Dept Health & Mental Hygiene"},0]
["816",2022,"001","101","2499","042",0,0,0,0,0,0,0,0,0,0,5705.02,0,5705.02,5705.02,-5705.02,5705.02,-5705.02,5705.02,5705.02,-5705.02,{"$f":"_xlfn.XLOOKUP(F26159,'Object Codes'!$A$18:$A$510,'Object Codes'!$H$18:$H$510)","v":"PS - Additional Gross"},{"$f":"_xlfn.XLOOKUP(F26159,'Object Codes'!$A$18:$A$510,'Object Codes'!$G$18:$G$510)","v":"A"},{"$f":"_xlfn.XLOOKUP(A26159,Agencies!$A$9:$A$146,Agencies!$B$9:$B$146)","v":"Health"},{"$f":"IF(_xlfn.XLOOKUP(A26159,Agencies!A:A,Agencies!D:D)=\"Y\",IF(_xlfn.XLOOKUP(F26159,'Object Codes'!A:A,'Object Codes'!I:I)=\"Y\",\"Y\",\"N\"),\"N\")","v":"Y"},{"$f":"VLOOKUP(F26159,'Object Codes'!$A:$C,3,0)","v":"Longevity Differential"},{"$f":"VLOOKUP(A26159,Agencies!A:C,3,0)","v":"Dept Health & Mental Hygiene"},15.630191780821919]
["816",2022,"001","102","2018","031",0,0,0,358095,340140,0,0,0,0,0,285936.24,0,285936.24,285936.24,54203.76,285936.24,54203.76,285936.24,285936.24,54203.76,{"$f":"_xlfn.XLOOKUP(F26193,'Object Codes'!$A$18:$A$510,'Object Codes'!$H$18:$H$510)","v":"PS - Regular"},{"$f":"_xlfn.XLOOKUP(F26193,'Object Codes'!$A$18:$A$510,'Object Codes'!$G$18:$G$510)","v":"C"},{"$f":"_xlfn.XLOOKUP(A26193,Agencies!$A$9:$A$146,Agencies!$B$9:$B$146)","v":"Health"},{"$f":"IF(_xlfn.XLOOKUP(A26193,Agencies!A:A,Agencies!D:D)=\"Y\",IF(_xlfn.XLOOKUP(F26193,'Object Codes'!A:A,'Object Codes'!I:I)=\"Y\",\"Y\",\"N\"),\"N\")","v":"Y"},{"$f":"VLOOKUP(F26193,'Object Codes'!$A:$C,3,0)","v":"Hourly Positions"},{"$f":"VLOOKUP(A26193,Agencies!A:C,3,0)","v":"Dept Health & Mental Hygiene"},783.38695890410952]
["816",2022,"001","102","2040","X47",0,0,0,0,0,0,0,0,0,0,209.39,0,209.39,209.39,-209.39,209.39,-209.39,209.39,209.39,-209.39,{"$f":"_xlfn.XLOOKUP(F26238,'Object Codes'!$A$18:$A$510,'Object Codes'!$H$18:$H$510)","v":"PS - Additional Gross"},{"$f":"_xlfn.XLOOKUP(F26238,'Object Codes'!$A$18:$A$510,'Object Codes'!$G$18:$G$510)","v":"A"},{"$f":"_xlfn.XLOOKUP(A26238,Agencies!$A$9:$A$146,Agencies!$B$9:$B$146)","v":"Health"},{"$f":"IF(_xlfn.XLOOKUP(A26238,Agencies!A:A,Agencies!D:D)=\"Y\",IF(_xlfn.XLOOKUP(F26238,'Object Codes'!A:A,'Object Codes'!I:I)=\"Y\",\"Y\",\"N\"),\"N\")","v":"Y"},{"$f":"VLOOKUP(F26238,'Object Codes'!$A:$C,3,0)","v":"PY OVERTIME"},{"$f":"VLOOKUP(A26238,Agencies!A:C,3,0)","v":"Dept Health & Mental Hygiene"},0.57367123287671229]
["816",2022,"001","102","2060","031",0,0,0,79648,79648,0,0,0,0,0,6252,0,6252,6252,73396,6252,73396,6252,6252,73396,{"$f":"_xlfn.XLOOKUP(F26255,'Object Codes'!$A$18:$A$510,'Object Codes'!$H$18:$H$510)","v":"PS - Regular"},{"$f":"_xlfn.XLOOKUP(F26255,'Object Codes'!$A$18:$A$510,'Object Codes'!$G$18:$G$510)","v":"C"},{"$f":"_xlfn.XLOOKUP(A26255,Agencies!$A$9:$A$146,Agencies!$B$9:$B$146)","v":"Health"},{"$f":"IF(_xlfn.XLOOKUP(A26255,Agencies!A:A,Agencies!D:D)=\"Y\",IF(_xlfn.XLOOKUP(F26255,'Object Codes'!A:A,'Object Codes'!I:I)=\"Y\",\"Y\",\"N\"),\"N\")","v":"Y"},{"$f":"VLOOKUP(F26255,'Object Codes'!$A:$C,3,0)","v":"Hourly Positions"},{"$f":"VLOOKUP(A26255,Agencies!A:C,3,0)","v":"Dept Health & Mental Hygiene"},17.12876712328767]
["816",2022,"001","102","3450","042",0,0,0,393291,427843,0,0,0,0,0,427842.47,0,427842.47,427842.47,0.53,427842.47,0.53,427842.47,427842.47,0.53,{"$f":"_xlfn.XLOOKUP(F26331,'Object Codes'!$A$18:$A$510,'Object Codes'!$H$18:$H$510)","v":"PS - Additional Gross"},{"$f":"_xlfn.XLOOKUP(F26331,'Object Codes'!$A$18:$A$510,'Object Codes'!$G$18:$G$510)","v":"A"},{"$f":"_xlfn.XLOOKUP(A26331,Agencies!$A$9:$A$146,Agencies!$B$9:$B$146)","v":"Health"},{"$f":"IF(_xlfn.XLOOKUP(A26331,Agencies!A:A,Agencies!D:D)=\"Y\",IF(_xlfn.XLOOKUP(F26331,'Object Codes'!A:A,'Object Codes'!I:I)=\"Y\",\"Y\",\"N\"),\"N\")","v":"Y"},{"$f":"VLOOKUP(F26331,'Object Codes'!$A:$C,3,0)","v":"Longevity Differential"},{"$f":"VLOOKUP(A26331,Agencies!A:C,3,0)","v":"Dept Health & Mental Hygiene"},1172.1711506849315]
["816",2022,"001","102","3530","061",0,0,0,228,125,0,0,0,0,0,124.18,0,124.18,124.18,0.82,124.18,0.82,124.18,124.18,0.82,{"$f":"_xlfn.XLOOKUP(F26365,'Object Codes'!$A$18:$A$510,'Object Codes'!$H$18:$H$510)","v":"PS - Additional Gross"},{"$f":"_xlfn.XLOOKUP(F26365,'Object Codes'!$A$18:$A$510,'Object Codes'!$G$18:$G$510)","v":"A"},{"$f":"_xlfn.XLOOKUP(A26365,Agencies!$A$9:$A$146,Agencies!$B$9:$B$146)","v":"Health"},{"$f":"IF(_xlfn.XLOOKUP(A26365,Agencies!A:A,Agencies!D:D)=\"Y\",IF(_xlfn.XLOOKUP(F26365,'Object Codes'!A:A,'Object Codes'!I:I)=\"Y\",\"Y\",\"N\"),\"N\")","v":"Y"},{"$f":"VLOOKUP(F26365,'Object Codes'!$A:$C,3,0)","v":"Supper Money"},{"$f":"VLOOKUP(A26365,Agencies!A:C,3,0)","v":"Dept Health & Mental Hygiene"},0.34021917808219182]
["816",2022,"001","102","3810","045",0,0,0,0,1563,0,0,0,0,0,1563.58,0,1563.58,1563.58,-0.57999999999999996,1563.58,-0.57999999999999996,1563.58,1563.58,-0.57999999999999996,{"$f":"_xlfn.XLOOKUP(F26433,'Object Codes'!$A$18:$A$510,'Object Codes'!$H$18:$H$510)","v":"PS - Additional Gross"},{"$f":"_xlfn.XLOOKUP(F26433,'Object Codes'!$A$18:$A$510,'Object Codes'!$G$18:$G$510)","v":"A"},{"$f":"_xlfn.XLOOKUP(A26433,Agencies!$A$9:$A$146,Agencies!$B$9:$B$146)","v":"Health"},{"$f":"IF(_xlfn.XLOOKUP(A26433,Agencies!A:A,Agencies!D:D)=\"Y\",IF(_xlfn.XLOOKUP(F26433,'Object Codes'!A:A,'Object Codes'!I:I)=\"Y\",\"Y\",\"N\"),\"N\")","v":"Y"},{"$f":"VLOOKUP(F26433,'Object Codes'!$A:$C,3,0)","v":"Holiday Pay"},{"$f":"VLOOKUP(A26433,Agencies!A:C,3,0)","v":"Dept Health & Mental Hygiene"},4.2837808219178077]
["816",2022,"001","102","4215","001",0,111,109,10377695,10050870,0,0,0,0,0,8727040.3599999994,0,8727040.3599999994,8727040.3599999994,1323829.6399999999,8727040.3599999994,1323829.6399999999,8727040.3599999994,8727040.3599999994,1323829.6399999999,{"$f":"_xlfn.XLOOKUP(F26474,'Object Codes'!$A$18:$A$510,'Object Codes'!$H$18:$H$510)","v":"PS - Regular"},{"$f":"_xlfn.XLOOKUP(F26474,'Object Codes'!$A$18:$A$510,'Object Codes'!$G$18:$G$510)","v":"C"},{"$f":"_xlfn.XLOOKUP(A26474,Agencies!$A$9:$A$146,Agencies!$B$9:$B$146)","v":"Health"},{"$f":"IF(_xlfn.XLOOKUP(A26474,Agencies!A:A,Agencies!D:D)=\"Y\",IF(_xlfn.XLOOKUP(F26474,'Object Codes'!A:A,'Object Codes'!I:I)=\"Y\",\"Y\",\"N\"),\"N\")","v":"Y"},{"$f":"VLOOKUP(F26474,'Object Codes'!$A:$C,3,0)","v":"Full Year Positions"},{"$f":"VLOOKUP(A26474,Agencies!A:C,3,0)","v":"Dept Health & Mental Hygiene"},23909.699616438356]
["816",2022,"001","102","4680","042",0,0,0,0,0,0,0,0,0,0,-7.0000000000000007E-2,0,-7.0000000000000007E-2,-7.0000000000000007E-2,7.0000000000000007E-2,-7.0000000000000007E-2,7.0000000000000007E-2,-7.0000000000000007E-2,-7.0000000000000007E-2,7.0000000000000007E-2,{"$f":"_xlfn.XLOOKUP(F26508,'Object Codes'!$A$18:$A$510,'Object Codes'!$H$18:$H$510)","v":"PS - Additional Gross"},{"$f":"_xlfn.XLOOKUP(F26508,'Object Codes'!$A$18:$A$510,'Object Codes'!$G$18:$G$510)","v":"A"},{"$f":"_xlfn.XLOOKUP(A26508,Agencies!$A$9:$A$146,Agencies!$B$9:$B$146)","v":"Health"},{"$f":"IF(_xlfn.XLOOKUP(A26508,Agencies!A:A,Agencies!D:D)=\"Y\",IF(_xlfn.XLOOKUP(F26508,'Object Codes'!A:A,'Object Codes'!I:I)=\"Y\",\"Y\",\"N\"),\"N\")","v":"Y"},{"$f":"VLOOKUP(F26508,'Object Codes'!$A:$C,3,0)","v":"Longevity Differential"},{"$f":"VLOOKUP(A26508,Agencies!A:C,3,0)","v":"Dept Health & Mental Hygiene"},-1.9178082191780824E-4]
["816",2022,"001","102","4970","043",0,0,0,0,104,0,0,0,0,0,103.18,0,103.18,103.18,0.82,103.18,0.82,103.18,103.18,0.82,{"$f":"_xlfn.XLOOKUP(F26536,'Object Codes'!$A$18:$A$510,'Object Codes'!$H$18:$H$510)","v":"PS - Additional Gross"},{"$f":"_xlfn.XLOOKUP(F26536,'Object Codes'!$A$18:$A$510,'Object Codes'!$G$18:$G$510)","v":"A"},{"$f":"_xlfn.XLOOKUP(A26536,Agencies!$A$9:$A$146,Agencies!$B$9:$B$146)","v":"Health"},{"$f":"IF(_xlfn.XLOOKUP(A26536,Agencies!A:A,Agencies!D:D)=\"Y\",IF(_xlfn.XLOOKUP(F26536,'Object Codes'!A:A,'Object Codes'!I:I)=\"Y\",\"Y\",\"N\"),\"N\")","v":"Y"},{"$f":"VLOOKUP(F26536,'Object Codes'!$A:$C,3,0)","v":"Shift Differential"},{"$f":"VLOOKUP(A26536,Agencies!A:C,3,0)","v":"Dept Health & Mental Hygiene"},0.28268493150684931]
["816",2022,"001","103","3002","042",0,0,0,0,0,0,0,0,0,0,14130.55,0,14130.55,14130.55,-14130.55,14130.55,-14130.55,14130.55,14130.55,-14130.55,{"$f":"_xlfn.XLOOKUP(F26617,'Object Codes'!$A$18:$A$510,'Object Codes'!$H$18:$H$510)","v":"PS - Additional Gross"},{"$f":"_xlfn.XLOOKUP(F26617,'Object Codes'!$A$18:$A$510,'Object Codes'!$G$18:$G$510)","v":"A"},{"$f":"_xlfn.XLOOKUP(A26617,Agencies!$A$9:$A$146,Agencies!$B$9:$B$146)","v":"Health"},{"$f":"IF(_xlfn.XLOOKUP(A26617,Agencies!A:A,Agencies!D:D)=\"Y\",IF(_xlfn.XLOOKUP(F26617,'Object Codes'!A:A,'Object Codes'!I:I)=\"Y\",\"Y\",\"N\"),\"N\")","v":"Y"},{"$f":"VLOOKUP(F26617,'Object Codes'!$A:$C,3,0)","v":"Longevity Differential"},{"$f":"VLOOKUP(A26617,Agencies!A:C,3,0)","v":"Dept Health & Mental Hygiene"},38.713835616438352]
["816",2022,"001","103","3020","X42",0,0,0,0,0,0,0,0,0,0,1636.14,0,1636.14,1636.14,-1636.14,1636.14,-1636.14,1636.14,1636.14,-1636.14,{"$f":"_xlfn.XLOOKUP(F26651,'Object Codes'!$A$18:$A$510,'Object Codes'!$H$18:$H$510)","v":"PS - Additional Gross"},{"$f":"_xlfn.XLOOKUP(F26651,'Object Codes'!$A$18:$A$510,'Object Codes'!$G$18:$G$510)","v":"A"},{"$f":"_xlfn.XLOOKUP(A26651,Agencies!$A$9:$A$146,Agencies!$B$9:$B$146)","v":"Health"},{"$f":"IF(_xlfn.XLOOKUP(A26651,Agencies!A:A,Agencies!D:D)=\"Y\",IF(_xlfn.XLOOKUP(F26651,'Object Codes'!A:A,'Object Codes'!I:I)=\"Y\",\"Y\",\"N\"),\"N\")","v":"Y"},{"$f":"VLOOKUP(F26651,'Object Codes'!$A:$C,3,0)","v":"PY LONGEVITY DIFFERENTIAL"},{"$f":"VLOOKUP(A26651,Agencies!A:C,3,0)","v":"Dept Health & Mental Hygiene"},4.4825753424657533]
["816",2022,"001","103","3041","047",0,0,0,3420,12595,0,0,0,0,0,-0.06,0,-0.06,-0.06,12595.06,-0.06,12595.06,-0.06,-0.06,12595.06,{"$f":"_xlfn.XLOOKUP(F26697,'Object Codes'!$A$18:$A$510,'Object Codes'!$H$18:$H$510)","v":"PS - Additional Gross"},{"$f":"_xlfn.XLOOKUP(F26697,'Object Codes'!$A$18:$A$510,'Object Codes'!$G$18:$G$510)","v":"C"},{"$f":"_xlfn.XLOOKUP(A26697,Agencies!$A$9:$A$146,Agencies!$B$9:$B$146)","v":"Health"},{"$f":"IF(_xlfn.XLOOKUP(A26697,Agencies!A:A,Agencies!D:D)=\"Y\",IF(_xlfn.XLOOKUP(F26697,'Object Codes'!A:A,'Object Codes'!I:I)=\"Y\",\"Y\",\"N\"),\"N\")","v":"Y"},{"$f":"VLOOKUP(F26697,'Object Codes'!$A:$C,3,0)","v":"Overtime"},{"$f":"VLOOKUP(A26697,Agencies!A:C,3,0)","v":"Dept Health & Mental Hygiene"},{"$f":"S26697/365","v":-1.6438356164383562E-4}]
["816",2022,"001","103","3064","031",0,0,0,4257417,5868233,0,0,0,0,0,5620248.8899999997,0,5620248.8899999997,5620248.8899999997,247984.11,5620248.8899999997,247984.11,5620248.8899999997,5620248.8899999997,247984.11,{"$f":"_xlfn.XLOOKUP(F26760,'Object Codes'!$A$18:$A$510,'Object Codes'!$H$18:$H$510)","v":"PS - Regular"},{"$f":"_xlfn.XLOOKUP(F26760,'Object Codes'!$A$18:$A$510,'Object Codes'!$G$18:$G$510)","v":"C"},{"$f":"_xlfn.XLOOKUP(A26760,Agencies!$A$9:$A$146,Agencies!$B$9:$B$146)","v":"Health"},{"$f":"IF(_xlfn.XLOOKUP(A26760,Agencies!A:A,Agencies!D:D)=\"Y\",IF(_xlfn.XLOOKUP(F26760,'Object Codes'!A:A,'Object Codes'!I:I)=\"Y\",\"Y\",\"N\"),\"N\")","v":"Y"},{"$f":"VLOOKUP(F26760,'Object Codes'!$A:$C,3,0)","v":"Hourly Positions"},{"$f":"VLOOKUP(A26760,Agencies!A:C,3,0)","v":"Dept Health & Mental Hygiene"},15397.942164383561]
["816",2022,"001","103","3066","046",0,0,0,0,29321,0,0,0,0,0,29320.52,0,29320.52,29320.52,0.48,29320.52,0.48,29320.52,29320.52,0.48,{"$f":"_xlfn.XLOOKUP(F26794,'Object Codes'!$A$18:$A$510,'Object Codes'!$H$18:$H$510)","v":"PS - Additional Gross"},{"$f":"_xlfn.XLOOKUP(F26794,'Object Codes'!$A$18:$A$510,'Object Codes'!$G$18:$G$510)","v":"A"},{"$f":"_xlfn.XLOOKUP(A26794,Agencies!$A$9:$A$146,Agencies!$B$9:$B$146)","v":"Health"},{"$f":"IF(_xlfn.XLOOKUP(A26794,Agencies!A:A,Agencies!D:D)=\"Y\",IF(_xlfn.XLOOKUP(F26794,'Object Codes'!A:A,'Object Codes'!I:I)=\"Y\",\"Y\",\"N\"),\"N\")","v":"Y"},{"$f":"VLOOKUP(F26794,'Object Codes'!$A:$C,3,0)","v":"Terminal Leave"},{"$f":"VLOOKUP(A26794,Agencies!A:C,3,0)","v":"Dept Health & Mental Hygiene"},80.33019178082192]
["816",2022,"001","103","3076","X42",0,0,0,0,0,0,0,0,0,0,14478.64,0,14478.64,14478.64,-14478.64,14478.64,-14478.64,14478.64,14478.64,-14478.64,{"$f":"_xlfn.XLOOKUP(F26846,'Object Codes'!$A$18:$A$510,'Object Codes'!$H$18:$H$510)","v":"PS - Additional Gross"},{"$f":"_xlfn.XLOOKUP(F26846,'Object Codes'!$A$18:$A$510,'Object Codes'!$G$18:$G$510)","v":"A"},{"$f":"_xlfn.XLOOKUP(A26846,Agencies!$A$9:$A$146,Agencies!$B$9:$B$146)","v":"Health"},{"$f":"IF(_xlfn.XLOOKUP(A26846,Agencies!A:A,Agencies!D:D)=\"Y\",IF(_xlfn.XLOOKUP(F26846,'Object Codes'!A:A,'Object Codes'!I:I)=\"Y\",\"Y\",\"N\"),\"N\")","v":"Y"},{"$f":"VLOOKUP(F26846,'Object Codes'!$A:$C,3,0)","v":"PY LONGEVITY DIFFERENTIAL"},{"$f":"VLOOKUP(A26846,Agencies!A:C,3,0)","v":"Dept Health & Mental Hygiene"},39.667506849315068]
["816",2022,"001","104","4007","042",0,0,0,975,24621,0,0,0,0,0,24598.61,0,24598.61,24598.61,22.39,24598.61,22.39,24598.61,24598.61,22.39,{"$f":"_xlfn.XLOOKUP(F26903,'Object Codes'!$A$18:$A$510,'Object Codes'!$H$18:$H$510)","v":"PS - Additional Gross"},{"$f":"_xlfn.XLOOKUP(F26903,'Object Codes'!$A$18:$A$510,'Object Codes'!$G$18:$G$510)","v":"A"},{"$f":"_xlfn.XLOOKUP(A26903,Agencies!$A$9:$A$146,Agencies!$B$9:$B$146)","v":"Health"},{"$f":"IF(_xlfn.XLOOKUP(A26903,Agencies!A:A,Agencies!D:D)=\"Y\",IF(_xlfn.XLOOKUP(F26903,'Object Codes'!A:A,'Object Codes'!I:I)=\"Y\",\"Y\",\"N\"),\"N\")","v":"Y"},{"$f":"VLOOKUP(F26903,'Object Codes'!$A:$C,3,0)","v":"Longevity Differential"},{"$f":"VLOOKUP(A26903,Agencies!A:C,3,0)","v":"Dept Health & Mental Hygiene"},67.393452054794523]
["816",2022,"001","104","4011","031",0,0,0,4000,2,0,0,0,0,0,0,0,0,0,2,0,2,0,0,2,{"$f":"_xlfn.XLOOKUP(F26937,'Object Codes'!$A$18:$A$510,'Object Codes'!$H$18:$H$510)","v":"PS - Regular"},{"$f":"_xlfn.XLOOKUP(F26937,'Object Codes'!$A$18:$A$510,'Object Codes'!$G$18:$G$510)","v":"C"},{"$f":"_xlfn.XLOOKUP(A26937,Agencies!$A$9:$A$146,Agencies!$B$9:$B$146)","v":"Health"},{"$f":"IF(_xlfn.XLOOKUP(A26937,Agencies!A:A,Agencies!D:D)=\"Y\",IF(_xlfn.XLOOKUP(F26937,'Object Codes'!A:A,'Object Codes'!I:I)=\"Y\",\"Y\",\"N\"),\"N\")","v":"Y"},{"$f":"VLOOKUP(F26937,'Object Codes'!$A:$C,3,0)","v":"Hourly Positions"},{"$f":"VLOOKUP(A26937,Agencies!A:C,3,0)","v":"Dept Health & Mental Hygiene"},0]
["816",2022,"001","104","4022","045",0,0,0,0,32,0,0,0,0,0,0,0,0,0,32,0,32,0,0,32,{"$f":"_xlfn.XLOOKUP(F26995,'Object Codes'!$A$18:$A$510,'Object Codes'!$H$18:$H$510)","v":"PS - Additional Gross"},{"$f":"_xlfn.XLOOKUP(F26995,'Object Codes'!$A$18:$A$510,'Object Codes'!$G$18:$G$510)","v":"A"},{"$f":"_xlfn.XLOOKUP(A26995,Agencies!$A$9:$A$146,Agencies!$B$9:$B$146)","v":"Health"},{"$f":"IF(_xlfn.XLOOKUP(A26995,Agencies!A:A,Agencies!D:D)=\"Y\",IF(_xlfn.XLOOKUP(F26995,'Object Codes'!A:A,'Object Codes'!I:I)=\"Y\",\"Y\",\"N\"),\"N\")","v":"Y"},{"$f":"VLOOKUP(F26995,'Object Codes'!$A:$C,3,0)","v":"Holiday Pay"},{"$f":"VLOOKUP(A26995,Agencies!A:C,3,0)","v":"Dept Health & Mental Hygiene"},0]
["816",2022,"001","104","4040","X45",0,0,0,0,0,0,0,0,0,0,543.6,0,543.6,543.6,-543.6,543.6,-543.6,543.6,543.6,-543.6,{"$f":"_xlfn.XLOOKUP(F27046,'Object Codes'!$A$18:$A$510,'Object Codes'!$H$18:$H$510)","v":"PS - Additional Gross"},{"$f":"_xlfn.XLOOKUP(F27046,'Object Codes'!$A$18:$A$510,'Object Codes'!$G$18:$G$510)","v":"A"},{"$f":"_xlfn.XLOOKUP(A27046,Agencies!$A$9:$A$146,Agencies!$B$9:$B$146)","v":"Health"},{"$f":"IF(_xlfn.XLOOKUP(A27046,Agencies!A:A,Agencies!D:D)=\"Y\",IF(_xlfn.XLOOKUP(F27046,'Object Codes'!A:A,'Object Codes'!I:I)=\"Y\",\"Y\",\"N\"),\"N\")","v":"Y"},{"$f":"VLOOKUP(F27046,'Object Codes'!$A:$C,3,0)","v":"PY HOLIDAY PAY"},{"$f":"VLOOKUP(A27046,Agencies!A:C,3,0)","v":"Dept Health & Mental Hygiene"},1.4893150684931507]
["816",2022,"001","104","4050","043",0,0,0,29700,36583,0,0,0,0,0,34542.120000000003,0,34542.120000000003,34542.120000000003,2040.88,34542.120000000003,2040.88,34542.120000000003,34542.120000000003,2040.88,{"$f":"_xlfn.XLOOKUP(F27075,'Object Codes'!$A$18:$A$510,'Object Codes'!$H$18:$H$510)","v":"PS - Additional Gross"},{"$f":"_xlfn.XLOOKUP(F27075,'Object Codes'!$A$18:$A$510,'Object Codes'!$G$18:$G$510)","v":"A"},{"$f":"_xlfn.XLOOKUP(A27075,Agencies!$A$9:$A$146,Agencies!$B$9:$B$146)","v":"Health"},{"$f":"IF(_xlfn.XLOOKUP(A27075,Agencies!A:A,Agencies!D:D)=\"Y\",IF(_xlfn.XLOOKUP(F27075,'Object Codes'!A:A,'Object Codes'!I:I)=\"Y\",\"Y\",\"N\"),\"N\")","v":"Y"},{"$f":"VLOOKUP(F27075,'Object Codes'!$A:$C,3,0)","v":"Shift Differential"},{"$f":"VLOOKUP(A27075,Agencies!A:C,3,0)","v":"Dept Health & Mental Hygiene"},94.635945205479459]
["816",2022,"001","104","4062","001",0,2,2,96234,94401,0,0,0,0,0,94375.18,0,94375.18,94375.18,25.82,94375.18,25.82,94375.18,94375.18,25.82,{"$f":"_xlfn.XLOOKUP(F27098,'Object Codes'!$A$18:$A$510,'Object Codes'!$H$18:$H$510)","v":"PS - Regular"},{"$f":"_xlfn.XLOOKUP(F27098,'Object Codes'!$A$18:$A$510,'Object Codes'!$G$18:$G$510)","v":"C"},{"$f":"_xlfn.XLOOKUP(A27098,Agencies!$A$9:$A$146,Agencies!$B$9:$B$146)","v":"Health"},{"$f":"IF(_xlfn.XLOOKUP(A27098,Agencies!A:A,Agencies!D:D)=\"Y\",IF(_xlfn.XLOOKUP(F27098,'Object Codes'!A:A,'Object Codes'!I:I)=\"Y\",\"Y\",\"N\"),\"N\")","v":"Y"},{"$f":"VLOOKUP(F27098,'Object Codes'!$A:$C,3,0)","v":"Full Year Positions"},{"$f":"VLOOKUP(A27098,Agencies!A:C,3,0)","v":"Dept Health & Mental Hygiene"},258.56213698630137]
["816",2022,"001","104","4810","047",0,0,0,290125,172282,0,0,0,0,0,172281.78,0,172281.78,172281.78,0.22,172281.78,0.22,172281.78,172281.78,0.22,{"$f":"_xlfn.XLOOKUP(F27142,'Object Codes'!$A$18:$A$510,'Object Codes'!$H$18:$H$510)","v":"PS - Additional Gross"},{"$f":"_xlfn.XLOOKUP(F27142,'Object Codes'!$A$18:$A$510,'Object Codes'!$G$18:$G$510)","v":"C"},{"$f":"_xlfn.XLOOKUP(A27142,Agencies!$A$9:$A$146,Agencies!$B$9:$B$146)","v":"Health"},{"$f":"IF(_xlfn.XLOOKUP(A27142,Agencies!A:A,Agencies!D:D)=\"Y\",IF(_xlfn.XLOOKUP(F27142,'Object Codes'!A:A,'Object Codes'!I:I)=\"Y\",\"Y\",\"N\"),\"N\")","v":"Y"},{"$f":"VLOOKUP(F27142,'Object Codes'!$A:$C,3,0)","v":"Overtime"},{"$f":"VLOOKUP(A27142,Agencies!A:C,3,0)","v":"Dept Health & Mental Hygiene"},472.00487671232878]
["816",2022,"001","104","8510","X45",0,0,0,0,0,0,0,0,0,0,0.36,0,0.36,0.36,-0.36,0.36,-0.36,0.36,0.36,-0.36,{"$f":"_xlfn.XLOOKUP(F27218,'Object Codes'!$A$18:$A$510,'Object Codes'!$H$18:$H$510)","v":"PS - Additional Gross"},{"$f":"_xlfn.XLOOKUP(F27218,'Object Codes'!$A$18:$A$510,'Object Codes'!$G$18:$G$510)","v":"A"},{"$f":"_xlfn.XLOOKUP(A27218,Agencies!$A$9:$A$146,Agencies!$B$9:$B$146)","v":"Health"},{"$f":"IF(_xlfn.XLOOKUP(A27218,Agencies!A:A,Agencies!D:D)=\"Y\",IF(_xlfn.XLOOKUP(F27218,'Object Codes'!A:A,'Object Codes'!I:I)=\"Y\",\"Y\",\"N\"),\"N\")","v":"Y"},{"$f":"VLOOKUP(F27218,'Object Codes'!$A:$C,3,0)","v":"PY HOLIDAY PAY"},{"$f":"VLOOKUP(A27218,Agencies!A:C,3,0)","v":"Dept Health & Mental Hygiene"},9.8630136986301367E-4]
["816",2022,"001","104","8825","001",0,1,1,71580,71580,0,0,0,0,0,0,0,0,0,71580,0,71580,0,0,71580,{"$f":"_xlfn.XLOOKUP(F27247,'Object Codes'!$A$18:$A$510,'Object Codes'!$H$18:$H$510)","v":"PS - Regular"},{"$f":"_xlfn.XLOOKUP(F27247,'Object Codes'!$A$18:$A$510,'Object Codes'!$G$18:$G$510)","v":"C"},{"$f":"_xlfn.XLOOKUP(A27247,Agencies!$A$9:$A$146,Agencies!$B$9:$B$146)","v":"Health"},{"$f":"IF(_xlfn.XLOOKUP(A27247,Agencies!A:A,Agencies!D:D)=\"Y\",IF(_xlfn.XLOOKUP(F27247,'Object Codes'!A:A,'Object Codes'!I:I)=\"Y\",\"Y\",\"N\"),\"N\")","v":"Y"},{"$f":"VLOOKUP(F27247,'Object Codes'!$A:$C,3,0)","v":"Full Year Positions"},{"$f":"VLOOKUP(A27247,Agencies!A:C,3,0)","v":"Dept Health & Mental Hygiene"},0]
["816",2022,"001","106","6016","057",0,0,0,0,2000,0,0,0,0,0,2000,0,2000,2000,0,2000,0,2000,2000,0,{"$f":"_xlfn.XLOOKUP(F27327,'Object Codes'!$A$18:$A$510,'Object Codes'!$H$18:$H$510)","v":"PS - Additional Gross"},{"$f":"_xlfn.XLOOKUP(F27327,'Object Codes'!$A$18:$A$510,'Object Codes'!$G$18:$G$510)","v":"A"},{"$f":"_xlfn.XLOOKUP(A27327,Agencies!$A$9:$A$146,Agencies!$B$9:$B$146)","v":"Health"},{"$f":"IF(_xlfn.XLOOKUP(A27327,Agencies!A:A,Agencies!D:D)=\"Y\",IF(_xlfn.XLOOKUP(F27327,'Object Codes'!A:A,'Object Codes'!I:I)=\"Y\",\"Y\",\"N\"),\"N\")","v":"Y"},{"$f":"VLOOKUP(F27327,'Object Codes'!$A:$C,3,0)","v":"Bonus Payments"},{"$f":"VLOOKUP(A27327,Agencies!A:C,3,0)","v":"Dept Health & Mental Hygiene"},5.4794520547945202]
["816",2022,"001","106","6022","061",0,0,0,594,594,0,0,0,0,0,16.5,0,16.5,16.5,577.5,16.5,577.5,16.5,16.5,577.5,{"$f":"_xlfn.XLOOKUP(F27361,'Object Codes'!$A$18:$A$510,'Object Codes'!$H$18:$H$510)","v":"PS - Additional Gross"},{"$f":"_xlfn.XLOOKUP(F27361,'Object Codes'!$A$18:$A$510,'Object Codes'!$G$18:$G$510)","v":"A"},{"$f":"_xlfn.XLOOKUP(A27361,Agencies!$A$9:$A$146,Agencies!$B$9:$B$146)","v":"Health"},{"$f":"IF(_xlfn.XLOOKUP(A27361,Agencies!A:A,Agencies!D:D)=\"Y\",IF(_xlfn.XLOOKUP(F27361,'Object Codes'!A:A,'Object Codes'!I:I)=\"Y\",\"Y\",\"N\"),\"N\")","v":"Y"},{"$f":"VLOOKUP(F27361,'Object Codes'!$A:$C,3,0)","v":"Supper Money"},{"$f":"VLOOKUP(A27361,Agencies!A:C,3,0)","v":"Dept Health & Mental Hygiene"},4.5205479452054796E-2]
["816",2022,"001","106","6031","X43",0,0,0,0,0,0,0,0,0,0,7.2,0,7.2,7.2,-7.2,7.2,-7.2,7.2,7.2,-7.2,{"$f":"_xlfn.XLOOKUP(F27395,'Object Codes'!$A$18:$A$510,'Object Codes'!$H$18:$H$510)","v":"PS - Additional Gross"},{"$f":"_xlfn.XLOOKUP(F27395,'Object Codes'!$A$18:$A$510,'Object Codes'!$G$18:$G$510)","v":"A"},{"$f":"_xlfn.XLOOKUP(A27395,Agencies!$A$9:$A$146,Agencies!$B$9:$B$146)","v":"Health"},{"$f":"IF(_xlfn.XLOOKUP(A27395,Agencies!A:A,Agencies!D:D)=\"Y\",IF(_xlfn.XLOOKUP(F27395,'Object Codes'!A:A,'Object Codes'!I:I)=\"Y\",\"Y\",\"N\"),\"N\")","v":"Y"},{"$f":"VLOOKUP(F27395,'Object Codes'!$A:$C,3,0)","v":"PY SHIFT DIFFERENTIAL"},{"$f":"VLOOKUP(A27395,Agencies!A:C,3,0)","v":"Dept Health & Mental Hygiene"},1.9726027397260273E-2]
["816",2022,"001","106","6037","047",0,0,0,0,0,0,0,0,0,0,44151.26,0,44151.26,44151.26,-44151.26,44151.26,-44151.26,44151.26,44151.26,-44151.26,{"$f":"_xlfn.XLOOKUP(F27454,'Object Codes'!$A$18:$A$510,'Object Codes'!$H$18:$H$510)","v":"PS - Additional Gross"},{"$f":"_xlfn.XLOOKUP(F27454,'Object Codes'!$A$18:$A$510,'Object Codes'!$G$18:$G$510)","v":"C"},{"$f":"_xlfn.XLOOKUP(A27454,Agencies!$A$9:$A$146,Agencies!$B$9:$B$146)","v":"Health"},{"$f":"IF(_xlfn.XLOOKUP(A27454,Agencies!A:A,Agencies!D:D)=\"Y\",IF(_xlfn.XLOOKUP(F27454,'Object Codes'!A:A,'Object Codes'!I:I)=\"Y\",\"Y\",\"N\"),\"N\")","v":"Y"},{"$f":"VLOOKUP(F27454,'Object Codes'!$A:$C,3,0)","v":"Overtime"},{"$f":"VLOOKUP(A27454,Agencies!A:C,3,0)","v":"Dept Health & Mental Hygiene"},120.96235616438356]
["816",2022,"001","106","6047","061",0,0,0,1003,1003,0,0,0,0,0,763.75,0,763.75,763.75,239.25,763.75,239.25,763.75,763.75,239.25,{"$f":"_xlfn.XLOOKUP(F27504,'Object Codes'!$A$18:$A$510,'Object Codes'!$H$18:$H$510)","v":"PS - Additional Gross"},{"$f":"_xlfn.XLOOKUP(F27504,'Object Codes'!$A$18:$A$510,'Object Codes'!$G$18:$G$510)","v":"A"},{"$f":"_xlfn.XLOOKUP(A27504,Agencies!$A$9:$A$146,Agencies!$B$9:$B$146)","v":"Health"},{"$f":"IF(_xlfn.XLOOKUP(A27504,Agencies!A:A,Agencies!D:D)=\"Y\",IF(_xlfn.XLOOKUP(F27504,'Object Codes'!A:A,'Object Codes'!I:I)=\"Y\",\"Y\",\"N\"),\"N\")","v":"Y"},{"$f":"VLOOKUP(F27504,'Object Codes'!$A:$C,3,0)","v":"Supper Money"},{"$f":"VLOOKUP(A27504,Agencies!A:C,3,0)","v":"Dept Health & Mental Hygiene"},2.0924657534246576]
["816",2022,"001","106","6053","001",0,26,26,1216251,1216251,0,0,0,0,0,859191.02,0,859191.02,859191.02,357059.98,859191.02,357059.98,859191.02,859191.02,357059.98,{"$f":"_xlfn.XLOOKUP(F27538,'Object Codes'!$A$18:$A$510,'Object Codes'!$H$18:$H$510)","v":"PS - Regular"},{"$f":"_xlfn.XLOOKUP(F27538,'Object Codes'!$A$18:$A$510,'Object Codes'!$G$18:$G$510)","v":"C"},{"$f":"_xlfn.XLOOKUP(A27538,Agencies!$A$9:$A$146,Agencies!$B$9:$B$146)","v":"Health"},{"$f":"IF(_xlfn.XLOOKUP(A27538,Agencies!A:A,Agencies!D:D)=\"Y\",IF(_xlfn.XLOOKUP(F27538,'Object Codes'!A:A,'Object Codes'!I:I)=\"Y\",\"Y\",\"N\"),\"N\")","v":"Y"},{"$f":"VLOOKUP(F27538,'Object Codes'!$A:$C,3,0)","v":"Full Year Positions"},{"$f":"VLOOKUP(A27538,Agencies!A:C,3,0)","v":"Dept Health & Mental Hygiene"},2353.9479999999999]
["816",2022,"001","106","6061","X42",0,0,0,0,0,0,0,0,0,0,1554.11,0,1554.11,1554.11,-1554.11,1554.11,-1554.11,1554.11,1554.11,-1554.11,{"$f":"_xlfn.XLOOKUP(F27603,'Object Codes'!$A$18:$A$510,'Object Codes'!$H$18:$H$510)","v":"PS - Additional Gross"},{"$f":"_xlfn.XLOOKUP(F27603,'Object Codes'!$A$18:$A$510,'Object Codes'!$G$18:$G$510)","v":"A"},{"$f":"_xlfn.XLOOKUP(A27603,Agencies!$A$9:$A$146,Agencies!$B$9:$B$146)","v":"Health"},{"$f":"IF(_xlfn.XLOOKUP(A27603,Agencies!A:A,Agencies!D:D)=\"Y\",IF(_xlfn.XLOOKUP(F27603,'Object Codes'!A:A,'Object Codes'!I:I)=\"Y\",\"Y\",\"N\"),\"N\")","v":"Y"},{"$f":"VLOOKUP(F27603,'Object Codes'!$A:$C,3,0)","v":"PY LONGEVITY DIFFERENTIAL"},{"$f":"VLOOKUP(A27603,Agencies!A:C,3,0)","v":"Dept Health & Mental Hygiene"},4.2578356164383555]
["816",2022,"001","106","P106","053",0,0,0,2347388,2347388,0,0,0,0,0,0,0,0,0,2347388,0,2347388,0,0,2347388,{"$f":"_xlfn.XLOOKUP(F27647,'Object Codes'!$A$18:$A$510,'Object Codes'!$H$18:$H$510)","v":"PS - Additional Gross"},{"$f":"_xlfn.XLOOKUP(F27647,'Object Codes'!$A$18:$A$510,'Object Codes'!$G$18:$G$510)","v":"A"},{"$f":"_xlfn.XLOOKUP(A27647,Agencies!$A$9:$A$146,Agencies!$B$9:$B$146)","v":"Health"},{"$f":"IF(_xlfn.XLOOKUP(A27647,Agencies!A:A,Agencies!D:D)=\"Y\",IF(_xlfn.XLOOKUP(F27647,'Object Codes'!A:A,'Object Codes'!I:I)=\"Y\",\"Y\",\"N\"),\"N\")","v":"Y"},{"$f":"VLOOKUP(F27647,'Object Codes'!$A:$C,3,0)","v":"Other Than Salary Adjustments"},{"$f":"VLOOKUP(A27647,Agencies!A:C,3,0)","v":"Dept Health & Mental Hygiene"},0]
["816",2022,"001","107","7041","043",0,0,0,0,0,0,0,0,0,0,16.010000000000002,0,16.010000000000002,16.010000000000002,-16.010000000000002,16.010000000000002,-16.010000000000002,16.010000000000002,16.010000000000002,-16.010000000000002,{"$f":"_xlfn.XLOOKUP(F27676,'Object Codes'!$A$18:$A$510,'Object Codes'!$H$18:$H$510)","v":"PS - Additional Gross"},{"$f":"_xlfn.XLOOKUP(F27676,'Object Codes'!$A$18:$A$510,'Object Codes'!$G$18:$G$510)","v":"A"},{"$f":"_xlfn.XLOOKUP(A27676,Agencies!$A$9:$A$146,Agencies!$B$9:$B$146)","v":"Health"},{"$f":"IF(_xlfn.XLOOKUP(A27676,Agencies!A:A,Agencies!D:D)=\"Y\",IF(_xlfn.XLOOKUP(F27676,'Object Codes'!A:A,'Object Codes'!I:I)=\"Y\",\"Y\",\"N\"),\"N\")","v":"Y"},{"$f":"VLOOKUP(F27676,'Object Codes'!$A:$C,3,0)","v":"Shift Differential"},{"$f":"VLOOKUP(A27676,Agencies!A:C,3,0)","v":"Dept Health & Mental Hygiene"},4.3863013698630139E-2]
["816",2022,"001","107","7046","001",0,0,0,0,34946,0,0,0,0,0,34945.120000000003,0,34945.120000000003,34945.120000000003,0.88,34945.120000000003,0.88,34945.120000000003,34945.120000000003,0.88,{"$f":"_xlfn.XLOOKUP(F27706,'Object Codes'!$A$18:$A$510,'Object Codes'!$H$18:$H$510)","v":"PS - Regular"},{"$f":"_xlfn.XLOOKUP(F27706,'Object Codes'!$A$18:$A$510,'Object Codes'!$G$18:$G$510)","v":"C"},{"$f":"_xlfn.XLOOKUP(A27706,Agencies!$A$9:$A$146,Agencies!$B$9:$B$146)","v":"Health"},{"$f":"IF(_xlfn.XLOOKUP(A27706,Agencies!A:A,Agencies!D:D)=\"Y\",IF(_xlfn.XLOOKUP(F27706,'Object Codes'!A:A,'Object Codes'!I:I)=\"Y\",\"Y\",\"N\"),\"N\")","v":"Y"},{"$f":"VLOOKUP(F27706,'Object Codes'!$A:$C,3,0)","v":"Full Year Positions"},{"$f":"VLOOKUP(A27706,Agencies!A:C,3,0)","v":"Dept Health & Mental Hygiene"},95.74005479452056]
["816",2022,"001","107","7410","042",0,0,0,0,726,0,0,0,0,0,545.99,0,545.99,545.99,180.01,545.99,180.01,545.99,545.99,180.01,{"$f":"_xlfn.XLOOKUP(F27790,'Object Codes'!$A$18:$A$510,'Object Codes'!$H$18:$H$510)","v":"PS - Additional Gross"},{"$f":"_xlfn.XLOOKUP(F27790,'Object Codes'!$A$18:$A$510,'Object Codes'!$G$18:$G$510)","v":"A"},{"$f":"_xlfn.XLOOKUP(A27790,Agencies!$A$9:$A$146,Agencies!$B$9:$B$146)","v":"Health"},{"$f":"IF(_xlfn.XLOOKUP(A27790,Agencies!A:A,Agencies!D:D)=\"Y\",IF(_xlfn.XLOOKUP(F27790,'Object Codes'!A:A,'Object Codes'!I:I)=\"Y\",\"Y\",\"N\"),\"N\")","v":"Y"},{"$f":"VLOOKUP(F27790,'Object Codes'!$A:$C,3,0)","v":"Longevity Differential"},{"$f":"VLOOKUP(A27790,Agencies!A:C,3,0)","v":"Dept Health & Mental Hygiene"},1.4958630136986302]
["816",2022,"001","108","8004","047",0,0,0,0,16651,0,0,0,0,0,52430.720000000001,0,52430.720000000001,52430.720000000001,-35779.72,52430.720000000001,-35779.72,52430.720000000001,52430.720000000001,-35779.72,{"$f":"_xlfn.XLOOKUP(F27819,'Object Codes'!$A$18:$A$510,'Object Codes'!$H$18:$H$510)","v":"PS - Additional Gross"},{"$f":"_xlfn.XLOOKUP(F27819,'Object Codes'!$A$18:$A$510,'Object Codes'!$G$18:$G$510)","v":"C"},{"$f":"_xlfn.XLOOKUP(A27819,Agencies!$A$9:$A$146,Agencies!$B$9:$B$146)","v":"Health"},{"$f":"IF(_xlfn.XLOOKUP(A27819,Agencies!A:A,Agencies!D:D)=\"Y\",IF(_xlfn.XLOOKUP(F27819,'Object Codes'!A:A,'Object Codes'!I:I)=\"Y\",\"Y\",\"N\"),\"N\")","v":"Y"},{"$f":"VLOOKUP(F27819,'Object Codes'!$A:$C,3,0)","v":"Overtime"},{"$f":"VLOOKUP(A27819,Agencies!A:C,3,0)","v":"Dept Health & Mental Hygiene"},143.64580821917809]
["816",2022,"001","108","8008","X42",0,0,0,0,0,0,0,0,0,0,505.95,0,505.95,505.95,-505.95,505.95,-505.95,505.95,505.95,-505.95,{"$f":"_xlfn.XLOOKUP(F27855,'Object Codes'!$A$18:$A$510,'Object Codes'!$H$18:$H$510)","v":"PS - Additional Gross"},{"$f":"_xlfn.XLOOKUP(F27855,'Object Codes'!$A$18:$A$510,'Object Codes'!$G$18:$G$510)","v":"A"},{"$f":"_xlfn.XLOOKUP(A27855,Agencies!$A$9:$A$146,Agencies!$B$9:$B$146)","v":"Health"},{"$f":"IF(_xlfn.XLOOKUP(A27855,Agencies!A:A,Agencies!D:D)=\"Y\",IF(_xlfn.XLOOKUP(F27855,'Object Codes'!A:A,'Object Codes'!I:I)=\"Y\",\"Y\",\"N\"),\"N\")","v":"Y"},{"$f":"VLOOKUP(F27855,'Object Codes'!$A:$C,3,0)","v":"PY LONGEVITY DIFFERENTIAL"},{"$f":"VLOOKUP(A27855,Agencies!A:C,3,0)","v":"Dept Health & Mental Hygiene"},1.3861643835616437]
["816",2022,"001","108","8410","001",0,3,3,0,0,0,0,0,0,0,0,0,0,0,0,0,0,0,0,0,{"$f":"_xlfn.XLOOKUP(F27928,'Object Codes'!$A$18:$A$510,'Object Codes'!$H$18:$H$510)","v":"PS - Regular"},{"$f":"_xlfn.XLOOKUP(F27928,'Object Codes'!$A$18:$A$510,'Object Codes'!$G$18:$G$510)","v":"C"},{"$f":"_xlfn.XLOOKUP(A27928,Agencies!$A$9:$A$146,Agencies!$B$9:$B$146)","v":"Health"},{"$f":"IF(_xlfn.XLOOKUP(A27928,Agencies!A:A,Agencies!D:D)=\"Y\",IF(_xlfn.XLOOKUP(F27928,'Object Codes'!A:A,'Object Codes'!I:I)=\"Y\",\"Y\",\"N\"),\"N\")","v":"Y"},{"$f":"VLOOKUP(F27928,'Object Codes'!$A:$C,3,0)","v":"Full Year Positions"},{"$f":"VLOOKUP(A27928,Agencies!A:C,3,0)","v":"Dept Health & Mental Hygiene"},0]
["816",2022,"001","108","8701","X43",0,0,0,0,0,0,0,0,0,0,0.19,0,0.19,0.19,-0.19,0.19,-0.19,0.19,0.19,-0.19,{"$f":"_xlfn.XLOOKUP(F27962,'Object Codes'!$A$18:$A$510,'Object Codes'!$H$18:$H$510)","v":"PS - Additional Gross"},{"$f":"_xlfn.XLOOKUP(F27962,'Object Codes'!$A$18:$A$510,'Object Codes'!$G$18:$G$510)","v":"A"},{"$f":"_xlfn.XLOOKUP(A27962,Agencies!$A$9:$A$146,Agencies!$B$9:$B$146)","v":"Health"},{"$f":"IF(_xlfn.XLOOKUP(A27962,Agencies!A:A,Agencies!D:D)=\"Y\",IF(_xlfn.XLOOKUP(F27962,'Object Codes'!A:A,'Object Codes'!I:I)=\"Y\",\"Y\",\"N\"),\"N\")","v":"Y"},{"$f":"VLOOKUP(F27962,'Object Codes'!$A:$C,3,0)","v":"PY SHIFT DIFFERENTIAL"},{"$f":"VLOOKUP(A27962,Agencies!A:C,3,0)","v":"Dept Health & Mental Hygiene"},5.2054794520547943E-4]
["816",2022,"001","108","8707","061",0,0,0,0,11600,0,0,0,0,0,1466.64,0,1466.64,1466.64,10133.36,1466.64,10133.36,1466.64,1466.64,10133.36,{"$f":"_xlfn.XLOOKUP(F28004,'Object Codes'!$A$18:$A$510,'Object Codes'!$H$18:$H$510)","v":"PS - Additional Gross"},{"$f":"_xlfn.XLOOKUP(F28004,'Object Codes'!$A$18:$A$510,'Object Codes'!$G$18:$G$510)","v":"A"},{"$f":"_xlfn.XLOOKUP(A28004,Agencies!$A$9:$A$146,Agencies!$B$9:$B$146)","v":"Health"},{"$f":"IF(_xlfn.XLOOKUP(A28004,Agencies!A:A,Agencies!D:D)=\"Y\",IF(_xlfn.XLOOKUP(F28004,'Object Codes'!A:A,'Object Codes'!I:I)=\"Y\",\"Y\",\"N\"),\"N\")","v":"Y"},{"$f":"VLOOKUP(F28004,'Object Codes'!$A:$C,3,0)","v":"Supper Money"},{"$f":"VLOOKUP(A28004,Agencies!A:C,3,0)","v":"Dept Health & Mental Hygiene"},4.0181917808219181]
["816",2022,"001","108","CR28","001",0,0,6,3081078,2173260,0,0,0,0,0,2173259.31,0,2173259.31,2173259.31,0.69,2173259.31,0.69,2173259.31,2173259.31,0.69,{"$f":"_xlfn.XLOOKUP(F28071,'Object Codes'!$A$18:$A$510,'Object Codes'!$H$18:$H$510)","v":"PS - Regular"},{"$f":"_xlfn.XLOOKUP(F28071,'Object Codes'!$A$18:$A$510,'Object Codes'!$G$18:$G$510)","v":"C"},{"$f":"_xlfn.XLOOKUP(A28071,Agencies!$A$9:$A$146,Agencies!$B$9:$B$146)","v":"Health"},{"$f":"IF(_xlfn.XLOOKUP(A28071,Agencies!A:A,Agencies!D:D)=\"Y\",IF(_xlfn.XLOOKUP(F28071,'Object Codes'!A:A,'Object Codes'!I:I)=\"Y\",\"Y\",\"N\"),\"N\")","v":"Y"},{"$f":"VLOOKUP(F28071,'Object Codes'!$A:$C,3,0)","v":"Full Year Positions"},{"$f":"VLOOKUP(A28071,Agencies!A:C,3,0)","v":"Dept Health & Mental Hygiene"},5954.1350958904113]
["816",2022,"001","109","9093","047",0,0,0,0,6650,0,0,0,0,0,-0.03,0,-0.03,-0.03,6650.03,-0.03,6650.03,-0.03,-0.03,6650.03,{"$f":"_xlfn.XLOOKUP(F28105,'Object Codes'!$A$18:$A$510,'Object Codes'!$H$18:$H$510)","v":"PS - Additional Gross"},{"$f":"_xlfn.XLOOKUP(F28105,'Object Codes'!$A$18:$A$510,'Object Codes'!$G$18:$G$510)","v":"C"},{"$f":"_xlfn.XLOOKUP(A28105,Agencies!$A$9:$A$146,Agencies!$B$9:$B$146)","v":"Health"},{"$f":"IF(_xlfn.XLOOKUP(A28105,Agencies!A:A,Agencies!D:D)=\"Y\",IF(_xlfn.XLOOKUP(F28105,'Object Codes'!A:A,'Object Codes'!I:I)=\"Y\",\"Y\",\"N\"),\"N\")","v":"Y"},{"$f":"VLOOKUP(F28105,'Object Codes'!$A:$C,3,0)","v":"Overtime"},{"$f":"VLOOKUP(A28105,Agencies!A:C,3,0)","v":"Dept Health & Mental Hygiene"},{"$f":"S28105/365","v":-8.219178082191781E-5}]
["816",2022,"001","109","9535","001",0,0,0,0,7552,0,0,0,0,0,7551.48,0,7551.48,7551.48,0.52,7551.48,0.52,7551.48,7551.48,0.52,{"$f":"_xlfn.XLOOKUP(F28153,'Object Codes'!$A$18:$A$510,'Object Codes'!$H$18:$H$510)","v":"PS - Regular"},{"$f":"_xlfn.XLOOKUP(F28153,'Object Codes'!$A$18:$A$510,'Object Codes'!$G$18:$G$510)","v":"C"},{"$f":"_xlfn.XLOOKUP(A28153,Agencies!$A$9:$A$146,Agencies!$B$9:$B$146)","v":"Health"},{"$f":"IF(_xlfn.XLOOKUP(A28153,Agencies!A:A,Agencies!D:D)=\"Y\",IF(_xlfn.XLOOKUP(F28153,'Object Codes'!A:A,'Object Codes'!I:I)=\"Y\",\"Y\",\"N\"),\"N\")","v":"Y"},{"$f":"VLOOKUP(F28153,'Object Codes'!$A:$C,3,0)","v":"Full Year Positions"},{"$f":"VLOOKUP(A28153,Agencies!A:C,3,0)","v":"Dept Health & Mental Hygiene"},20.688986301369862]
["816",2022,"001","111","1110","400",0,0,0,4456676,295506,0,0,0,0,0,100042.84,4267.01,104309.85,104309.85,191196.15,104309.85,191196.15,104309.85,104309.85,191196.15,{"$f":"_xlfn.XLOOKUP(F28214,'Object Codes'!$A$18:$A$510,'Object Codes'!$H$18:$H$510)","v":"Other Services and Charges - General"},{"$f":"_xlfn.XLOOKUP(F28214,'Object Codes'!$A$18:$A$510,'Object Codes'!$G$18:$G$510)","v":0},{"$f":"_xlfn.XLOOKUP(A28214,Agencies!$A$9:$A$146,Agencies!$B$9:$B$146)","v":"Health"},{"$f":"IF(_xlfn.XLOOKUP(A28214,Agencies!A:A,Agencies!D:D)=\"Y\",IF(_xlfn.XLOOKUP(F28214,'Object Codes'!A:A,'Object Codes'!I:I)=\"Y\",\"Y\",\"N\"),\"N\")","v":"Y"},{"$f":"VLOOKUP(F28214,'Object Codes'!$A:$C,3,0)","v":"Other Services and Charges - General"},{"$f":"VLOOKUP(A28214,Agencies!A:C,3,0)","v":"Dept Health & Mental Hygiene"},285.7804109589041]
["816",2022,"001","111","1114","300",0,0,0,7739,0,0,0,0,0,0,0,0,0,0,0,0,0,0,0,0,{"$f":"_xlfn.XLOOKUP(F28248,'Object Codes'!$A$18:$A$510,'Object Codes'!$H$18:$H$510)","v":"Equipment"},{"$f":"_xlfn.XLOOKUP(F28248,'Object Codes'!$A$18:$A$510,'Object Codes'!$G$18:$G$510)","v":"A"},{"$f":"_xlfn.XLOOKUP(A28248,Agencies!$A$9:$A$146,Agencies!$B$9:$B$146)","v":"Health"},{"$f":"IF(_xlfn.XLOOKUP(A28248,Agencies!A:A,Agencies!D:D)=\"Y\",IF(_xlfn.XLOOKUP(F28248,'Object Codes'!A:A,'Object Codes'!I:I)=\"Y\",\"Y\",\"N\"),\"N\")","v":"Y"},{"$f":"VLOOKUP(F28248,'Object Codes'!$A:$C,3,0)","v":"Equipment - General"},{"$f":"VLOOKUP(A28248,Agencies!A:C,3,0)","v":"Dept Health & Mental Hygiene"},0]
["816",2022,"001","111","1115","101",0,0,0,1842,1842,0,0,0,0,0,0,0,0,0,1842,0,1842,0,0,1842,{"$f":"_xlfn.XLOOKUP(F28268,'Object Codes'!$A$18:$A$510,'Object Codes'!$H$18:$H$510)","v":"Supplies & Materials"},{"$f":"_xlfn.XLOOKUP(F28268,'Object Codes'!$A$18:$A$510,'Object Codes'!$G$18:$G$510)","v":"A"},{"$f":"_xlfn.XLOOKUP(A28268,Agencies!$A$9:$A$146,Agencies!$B$9:$B$146)","v":"Health"},{"$f":"IF(_xlfn.XLOOKUP(A28268,Agencies!A:A,Agencies!D:D)=\"Y\",IF(_xlfn.XLOOKUP(F28268,'Object Codes'!A:A,'Object Codes'!I:I)=\"Y\",\"Y\",\"N\"),\"N\")","v":"Y"},{"$f":"VLOOKUP(F28268,'Object Codes'!$A:$C,3,0)","v":"Printing Supplies"},{"$f":"VLOOKUP(A28268,Agencies!A:C,3,0)","v":"Dept Health & Mental Hygiene"},0]
["816",2022,"001","111","1130","403",0,0,0,0,1481,0,0,0,0,0,1480.5,0,1480.5,1480.5,0.5,1480.5,0.5,1480.5,1480.5,0.5,{"$f":"_xlfn.XLOOKUP(F28310,'Object Codes'!$A$18:$A$510,'Object Codes'!$H$18:$H$510)","v":"Other Services and Charges - General"},{"$f":"_xlfn.XLOOKUP(F28310,'Object Codes'!$A$18:$A$510,'Object Codes'!$G$18:$G$510)","v":0},{"$f":"_xlfn.XLOOKUP(A28310,Agencies!$A$9:$A$146,Agencies!$B$9:$B$146)","v":"Health"},{"$f":"IF(_xlfn.XLOOKUP(A28310,Agencies!A:A,Agencies!D:D)=\"Y\",IF(_xlfn.XLOOKUP(F28310,'Object Codes'!A:A,'Object Codes'!I:I)=\"Y\",\"Y\",\"N\"),\"N\")","v":"Y"},{"$f":"VLOOKUP(F28310,'Object Codes'!$A:$C,3,0)","v":"Office Services"},{"$f":"VLOOKUP(A28310,Agencies!A:C,3,0)","v":"Dept Health & Mental Hygiene"},4.0561643835616437]
["816",2022,"001","111","1629","608",0,0,0,0,6993,0,0,0,0,0,0,0,0,0,6993,0,6993,0,0,6993,{"$f":"_xlfn.XLOOKUP(F28391,'Object Codes'!$A$18:$A$510,'Object Codes'!$H$18:$H$510)","v":"Contractual Services"},{"$f":"_xlfn.XLOOKUP(F28391,'Object Codes'!$A$18:$A$510,'Object Codes'!$G$18:$G$510)","v":0},{"$f":"_xlfn.XLOOKUP(A28391,Agencies!$A$9:$A$146,Agencies!$B$9:$B$146)","v":"Health"},{"$f":"IF(_xlfn.XLOOKUP(A28391,Agencies!A:A,Agencies!D:D)=\"Y\",IF(_xlfn.XLOOKUP(F28391,'Object Codes'!A:A,'Object Codes'!I:I)=\"Y\",\"Y\",\"N\"),\"N\")","v":"Y"},{"$f":"VLOOKUP(F28391,'Object Codes'!$A:$C,3,0)","v":"Maintenance and Repairs - General - Contractual"},{"$f":"VLOOKUP(A28391,Agencies!A:C,3,0)","v":"Dept Health & Mental Hygiene"},0]
["816",2022,"001","111","1712","314",0,0,0,2000,2672,0,0,0,0,0,2625.98,0,2625.98,2625.98,46.02,2625.98,46.02,2625.98,2625.98,46.02,{"$f":"_xlfn.XLOOKUP(F28420,'Object Codes'!$A$18:$A$510,'Object Codes'!$H$18:$H$510)","v":"Equipment"},{"$f":"_xlfn.XLOOKUP(F28420,'Object Codes'!$A$18:$A$510,'Object Codes'!$G$18:$G$510)","v":"A"},{"$f":"_xlfn.XLOOKUP(A28420,Agencies!$A$9:$A$146,Agencies!$B$9:$B$146)","v":"Health"},{"$f":"IF(_xlfn.XLOOKUP(A28420,Agencies!A:A,Agencies!D:D)=\"Y\",IF(_xlfn.XLOOKUP(F28420,'Object Codes'!A:A,'Object Codes'!I:I)=\"Y\",\"Y\",\"N\"),\"N\")","v":"Y"},{"$f":"VLOOKUP(F28420,'Object Codes'!$A:$C,3,0)","v":"Office Furniture"},{"$f":"VLOOKUP(A28420,Agencies!A:C,3,0)","v":"Dept Health & Mental Hygiene"},7.1944657534246579]
["816",2022,"001","112","2101","79D",0,0,0,0,4400,0,0,0,0,0,4400,0,4400,4400,0,4400,0,4400,4400,0,{"$f":"_xlfn.XLOOKUP(F28463,'Object Codes'!$A$18:$A$510,'Object Codes'!$H$18:$H$510)","v":"Fixed Charges"},{"$f":"_xlfn.XLOOKUP(F28463,'Object Codes'!$A$18:$A$510,'Object Codes'!$G$18:$G$510)","v":0},{"$f":"_xlfn.XLOOKUP(A28463,Agencies!$A$9:$A$146,Agencies!$B$9:$B$146)","v":"Health"},{"$f":"IF(_xlfn.XLOOKUP(A28463,Agencies!A:A,Agencies!D:D)=\"Y\",IF(_xlfn.XLOOKUP(F28463,'Object Codes'!A:A,'Object Codes'!I:I)=\"Y\",\"Y\",\"N\"),\"N\")","v":"Y"},{"$f":"VLOOKUP(F28463,'Object Codes'!$A:$C,3,0)","v":"TRAINING CITY EMPLOYEES"},{"$f":"VLOOKUP(A28463,Agencies!A:C,3,0)","v":"Dept Health & Mental Hygiene"},12.054794520547945]
["816",2022,"001","112","2121","496",0,0,0,5792,0,0,0,0,0,0,0,0,0,0,0,0,0,0,0,0,{"$f":"_xlfn.XLOOKUP(F28534,'Object Codes'!$A$18:$A$510,'Object Codes'!$H$18:$H$510)","v":"Other Services and Charges - General"},{"$f":"_xlfn.XLOOKUP(F28534,'Object Codes'!$A$18:$A$510,'Object Codes'!$G$18:$G$510)","v":0},{"$f":"_xlfn.XLOOKUP(A28534,Agencies!$A$9:$A$146,Agencies!$B$9:$B$146)","v":"Health"},{"$f":"IF(_xlfn.XLOOKUP(A28534,Agencies!A:A,Agencies!D:D)=\"Y\",IF(_xlfn.XLOOKUP(F28534,'Object Codes'!A:A,'Object Codes'!I:I)=\"Y\",\"Y\",\"N\"),\"N\")","v":"Y"},{"$f":"VLOOKUP(F28534,'Object Codes'!$A:$C,3,0)","v":"Allowances to Participants"},{"$f":"VLOOKUP(A28534,Agencies!A:C,3,0)","v":"Dept Health & Mental Hygiene"},0]
["816",2022,"001","112","2150","107",0,0,0,308762,27149,0,0,0,0,0,0,0,0,0,27149,0,27149,0,0,27149,{"$f":"_xlfn.XLOOKUP(F28563,'Object Codes'!$A$18:$A$510,'Object Codes'!$H$18:$H$510)","v":"Supplies & Materials"},{"$f":"_xlfn.XLOOKUP(F28563,'Object Codes'!$A$18:$A$510,'Object Codes'!$G$18:$G$510)","v":"A"},{"$f":"_xlfn.XLOOKUP(A28563,Agencies!$A$9:$A$146,Agencies!$B$9:$B$146)","v":"Health"},{"$f":"IF(_xlfn.XLOOKUP(A28563,Agencies!A:A,Agencies!D:D)=\"Y\",IF(_xlfn.XLOOKUP(F28563,'Object Codes'!A:A,'Object Codes'!I:I)=\"Y\",\"Y\",\"N\"),\"N\")","v":"Y"},{"$f":"VLOOKUP(F28563,'Object Codes'!$A:$C,3,0)","v":"Medical, Surgical and Laboratory Supplies"},{"$f":"VLOOKUP(A28563,Agencies!A:C,3,0)","v":"Dept Health & Mental Hygiene"},0]
["816",2022,"001","112","2172","117",0,0,0,0,273,0,0,0,0,0,0,0,0,0,273,0,273,0,0,273,{"$f":"_xlfn.XLOOKUP(F28612,'Object Codes'!$A$18:$A$510,'Object Codes'!$H$18:$H$510)","v":"Supplies & Materials"},{"$f":"_xlfn.XLOOKUP(F28612,'Object Codes'!$A$18:$A$510,'Object Codes'!$G$18:$G$510)","v":"A"},{"$f":"_xlfn.XLOOKUP(A28612,Agencies!$A$9:$A$146,Agencies!$B$9:$B$146)","v":"Health"},{"$f":"IF(_xlfn.XLOOKUP(A28612,Agencies!A:A,Agencies!D:D)=\"Y\",IF(_xlfn.XLOOKUP(F28612,'Object Codes'!A:A,'Object Codes'!I:I)=\"Y\",\"Y\",\"N\"),\"N\")","v":"Y"},{"$f":"VLOOKUP(F28612,'Object Codes'!$A:$C,3,0)","v":"Postage"},{"$f":"VLOOKUP(A28612,Agencies!A:C,3,0)","v":"Dept Health & Mental Hygiene"},0]
["816",2022,"001","112","3488","332",0,0,0,0,25562,0,0,0,0,0,25561.1,0,25561.1,25561.1,0.9,25561.1,0.9,25561.1,25561.1,0.9,{"$f":"_xlfn.XLOOKUP(F28672,'Object Codes'!$A$18:$A$510,'Object Codes'!$H$18:$H$510)","v":"Equipment"},{"$f":"_xlfn.XLOOKUP(F28672,'Object Codes'!$A$18:$A$510,'Object Codes'!$G$18:$G$510)","v":"A"},{"$f":"_xlfn.XLOOKUP(A28672,Agencies!$A$9:$A$146,Agencies!$B$9:$B$146)","v":"Health"},{"$f":"IF(_xlfn.XLOOKUP(A28672,Agencies!A:A,Agencies!D:D)=\"Y\",IF(_xlfn.XLOOKUP(F28672,'Object Codes'!A:A,'Object Codes'!I:I)=\"Y\",\"Y\",\"N\"),\"N\")","v":"Y"},{"$f":"VLOOKUP(F28672,'Object Codes'!$A:$C,3,0)","v":"Purchases of Data Processing Equipment"},{"$f":"VLOOKUP(A28672,Agencies!A:C,3,0)","v":"Dept Health & Mental Hygiene"},70.030410958904099]
["816",2022,"001","112","3618","615",0,0,0,500,0,0,0,0,0,0,0,0,0,0,0,0,0,0,0,0,{"$f":"_xlfn.XLOOKUP(F28706,'Object Codes'!$A$18:$A$510,'Object Codes'!$H$18:$H$510)","v":"Contractual Services"},{"$f":"_xlfn.XLOOKUP(F28706,'Object Codes'!$A$18:$A$510,'Object Codes'!$G$18:$G$510)","v":0},{"$f":"_xlfn.XLOOKUP(A28706,Agencies!$A$9:$A$146,Agencies!$B$9:$B$146)","v":"Health"},{"$f":"IF(_xlfn.XLOOKUP(A28706,Agencies!A:A,Agencies!D:D)=\"Y\",IF(_xlfn.XLOOKUP(F28706,'Object Codes'!A:A,'Object Codes'!I:I)=\"Y\",\"Y\",\"N\"),\"N\")","v":"Y"},{"$f":"VLOOKUP(F28706,'Object Codes'!$A:$C,3,0)","v":"Printing Services - Contractual"},{"$f":"VLOOKUP(A28706,Agencies!A:C,3,0)","v":"Dept Health & Mental Hygiene"},0]
["816",2022,"001","112","3818","499",0,0,0,580145,204459,0,0,0,0,0,0,0,0,0,204459,0,204459,0,0,204459,{"$f":"_xlfn.XLOOKUP(F28761,'Object Codes'!$A$18:$A$510,'Object Codes'!$H$18:$H$510)","v":"Other Services and Charges - General"},{"$f":"_xlfn.XLOOKUP(F28761,'Object Codes'!$A$18:$A$510,'Object Codes'!$G$18:$G$510)","v":0},{"$f":"_xlfn.XLOOKUP(A28761,Agencies!$A$9:$A$146,Agencies!$B$9:$B$146)","v":"Health"},{"$f":"IF(_xlfn.XLOOKUP(A28761,Agencies!A:A,Agencies!D:D)=\"Y\",IF(_xlfn.XLOOKUP(F28761,'Object Codes'!A:A,'Object Codes'!I:I)=\"Y\",\"Y\",\"N\"),\"N\")","v":"Y"},{"$f":"VLOOKUP(F28761,'Object Codes'!$A:$C,3,0)","v":"Other Expenditures - General"},{"$f":"VLOOKUP(A28761,Agencies!A:C,3,0)","v":"Dept Health & Mental Hygiene"},0]
["816",2022,"001","112","4778","496",0,0,0,8000,0,0,0,0,0,0,0,0,0,0,0,0,0,0,0,0,{"$f":"_xlfn.XLOOKUP(F28815,'Object Codes'!$A$18:$A$510,'Object Codes'!$H$18:$H$510)","v":"Other Services and Charges - General"},{"$f":"_xlfn.XLOOKUP(F28815,'Object Codes'!$A$18:$A$510,'Object Codes'!$G$18:$G$510)","v":0},{"$f":"_xlfn.XLOOKUP(A28815,Agencies!$A$9:$A$146,Agencies!$B$9:$B$146)","v":"Health"},{"$f":"IF(_xlfn.XLOOKUP(A28815,Agencies!A:A,Agencies!D:D)=\"Y\",IF(_xlfn.XLOOKUP(F28815,'Object Codes'!A:A,'Object Codes'!I:I)=\"Y\",\"Y\",\"N\"),\"N\")","v":"Y"},{"$f":"VLOOKUP(F28815,'Object Codes'!$A:$C,3,0)","v":"Allowances to Participants"},{"$f":"VLOOKUP(A28815,Agencies!A:C,3,0)","v":"Dept Health & Mental Hygiene"},0]
["816",2022,"001","112","CV15","199",0,0,0,0,13500,0,0,0,0,0,13500,0,13500,13500,0,13500,0,13500,13500,0,{"$f":"_xlfn.XLOOKUP(F28849,'Object Codes'!$A$18:$A$510,'Object Codes'!$H$18:$H$510)","v":"Supplies & Materials"},{"$f":"_xlfn.XLOOKUP(F28849,'Object Codes'!$A$18:$A$510,'Object Codes'!$G$18:$G$510)","v":"A"},{"$f":"_xlfn.XLOOKUP(A28849,Agencies!$A$9:$A$146,Agencies!$B$9:$B$146)","v":"Health"},{"$f":"IF(_xlfn.XLOOKUP(A28849,Agencies!A:A,Agencies!D:D)=\"Y\",IF(_xlfn.XLOOKUP(F28849,'Object Codes'!A:A,'Object Codes'!I:I)=\"Y\",\"Y\",\"N\"),\"N\")","v":"Y"},{"$f":"VLOOKUP(F28849,'Object Codes'!$A:$C,3,0)","v":"Data Processing Supplies"},{"$f":"VLOOKUP(A28849,Agencies!A:C,3,0)","v":"Dept Health & Mental Hygiene"},36.986301369863014]
["816",2022,"001","112","CV20","403",0,0,0,50000,8150,0,0,0,0,0,8150,0,8150,8150,0,8150,0,8150,8150,0,{"$f":"_xlfn.XLOOKUP(F28876,'Object Codes'!$A$18:$A$510,'Object Codes'!$H$18:$H$510)","v":"Other Services and Charges - General"},{"$f":"_xlfn.XLOOKUP(F28876,'Object Codes'!$A$18:$A$510,'Object Codes'!$G$18:$G$510)","v":0},{"$f":"_xlfn.XLOOKUP(A28876,Agencies!$A$9:$A$146,Agencies!$B$9:$B$146)","v":"Health"},{"$f":"IF(_xlfn.XLOOKUP(A28876,Agencies!A:A,Agencies!D:D)=\"Y\",IF(_xlfn.XLOOKUP(F28876,'Object Codes'!A:A,'Object Codes'!I:I)=\"Y\",\"Y\",\"N\"),\"N\")","v":"Y"},{"$f":"VLOOKUP(F28876,'Object Codes'!$A:$C,3,0)","v":"Office Services"},{"$f":"VLOOKUP(A28876,Agencies!A:C,3,0)","v":"Dept Health & Mental Hygiene"},22.328767123287673]
["816",2022,"001","113","3100","315",0,0,0,1000,1000,0,0,0,0,0,0,0,0,0,1000,0,1000,0,0,1000,{"$f":"_xlfn.XLOOKUP(F28958,'Object Codes'!$A$18:$A$510,'Object Codes'!$H$18:$H$510)","v":"Equipment"},{"$f":"_xlfn.XLOOKUP(F28958,'Object Codes'!$A$18:$A$510,'Object Codes'!$G$18:$G$510)","v":"A"},{"$f":"_xlfn.XLOOKUP(A28958,Agencies!$A$9:$A$146,Agencies!$B$9:$B$146)","v":"Health"},{"$f":"IF(_xlfn.XLOOKUP(A28958,Agencies!A:A,Agencies!D:D)=\"Y\",IF(_xlfn.XLOOKUP(F28958,'Object Codes'!A:A,'Object Codes'!I:I)=\"Y\",\"Y\",\"N\"),\"N\")","v":"Y"},{"$f":"VLOOKUP(F28958,'Object Codes'!$A:$C,3,0)","v":"Office Equipment"},{"$f":"VLOOKUP(A28958,Agencies!A:C,3,0)","v":"Dept Health & Mental Hygiene"},0]
["816",2022,"001","113","3120","100",0,0,0,9000,53584,0,0,0,0,0,45386.85,0,45386.85,45386.85,8197.15,45386.85,8197.15,45386.85,45386.85,8197.15,{"$f":"_xlfn.XLOOKUP(F28992,'Object Codes'!$A$18:$A$510,'Object Codes'!$H$18:$H$510)","v":"Supplies & Materials"},{"$f":"_xlfn.XLOOKUP(F28992,'Object Codes'!$A$18:$A$510,'Object Codes'!$G$18:$G$510)","v":"A"},{"$f":"_xlfn.XLOOKUP(A28992,Agencies!$A$9:$A$146,Agencies!$B$9:$B$146)","v":"Health"},{"$f":"IF(_xlfn.XLOOKUP(A28992,Agencies!A:A,Agencies!D:D)=\"Y\",IF(_xlfn.XLOOKUP(F28992,'Object Codes'!A:A,'Object Codes'!I:I)=\"Y\",\"Y\",\"N\"),\"N\")","v":"Y"},{"$f":"VLOOKUP(F28992,'Object Codes'!$A:$C,3,0)","v":"Supplies and Materials - General"},{"$f":"VLOOKUP(A28992,Agencies!A:C,3,0)","v":"Dept Health & Mental Hygiene"},124.34753424657534]
["816",2022,"001","113","3121","10X",0,0,0,0,387,0,0,0,0,0,386.4,0,386.4,386.4,0.6,386.4,0.6,386.4,386.4,0.6,{"$f":"_xlfn.XLOOKUP(F29025,'Object Codes'!$A$18:$A$510,'Object Codes'!$H$18:$H$510)","v":"Supplies & Materials"},{"$f":"_xlfn.XLOOKUP(F29025,'Object Codes'!$A$18:$A$510,'Object Codes'!$G$18:$G$510)","v":"A"},{"$f":"_xlfn.XLOOKUP(A29025,Agencies!$A$9:$A$146,Agencies!$B$9:$B$146)","v":"Health"},{"$f":"IF(_xlfn.XLOOKUP(A29025,Agencies!A:A,Agencies!D:D)=\"Y\",IF(_xlfn.XLOOKUP(F29025,'Object Codes'!A:A,'Object Codes'!I:I)=\"Y\",\"Y\",\"N\"),\"N\")","v":"Y"},{"$f":"VLOOKUP(F29025,'Object Codes'!$A:$C,3,0)","v":"SUPPLIES + MATERIALS - GENERAL"},{"$f":"VLOOKUP(A29025,Agencies!A:C,3,0)","v":"Dept Health & Mental Hygiene"},1.0586301369863014]
["816",2022,"001","113","3172","307",0,0,0,61000,20400,0,0,0,0,0,3399.9,0,3399.9,3399.9,17000.099999999999,3399.9,17000.099999999999,3399.9,3399.9,17000.099999999999,{"$f":"_xlfn.XLOOKUP(F29101,'Object Codes'!$A$18:$A$510,'Object Codes'!$H$18:$H$510)","v":"Equipment"},{"$f":"_xlfn.XLOOKUP(F29101,'Object Codes'!$A$18:$A$510,'Object Codes'!$G$18:$G$510)","v":"A"},{"$f":"_xlfn.XLOOKUP(A29101,Agencies!$A$9:$A$146,Agencies!$B$9:$B$146)","v":"Health"},{"$f":"IF(_xlfn.XLOOKUP(A29101,Agencies!A:A,Agencies!D:D)=\"Y\",IF(_xlfn.XLOOKUP(F29101,'Object Codes'!A:A,'Object Codes'!I:I)=\"Y\",\"Y\",\"N\"),\"N\")","v":"Y"},{"$f":"VLOOKUP(F29101,'Object Codes'!$A:$C,3,0)","v":"Medical, Surgical and Laboratory Equipment"},{"$f":"VLOOKUP(A29101,Agencies!A:C,3,0)","v":"Dept Health & Mental Hygiene"},9.3147945205479452]
["816",2022,"001","113","3178","490",0,0,0,2500,5000,0,0,0,0,0,0,0,0,0,5000,0,5000,0,0,5000,{"$f":"_xlfn.XLOOKUP(F29135,'Object Codes'!$A$18:$A$510,'Object Codes'!$H$18:$H$510)","v":"Other Services and Charges - General"},{"$f":"_xlfn.XLOOKUP(F29135,'Object Codes'!$A$18:$A$510,'Object Codes'!$G$18:$G$510)","v":0},{"$f":"_xlfn.XLOOKUP(A29135,Agencies!$A$9:$A$146,Agencies!$B$9:$B$146)","v":"Health"},{"$f":"IF(_xlfn.XLOOKUP(A29135,Agencies!A:A,Agencies!D:D)=\"Y\",IF(_xlfn.XLOOKUP(F29135,'Object Codes'!A:A,'Object Codes'!I:I)=\"Y\",\"Y\",\"N\"),\"N\")","v":"Y"},{"$f":"VLOOKUP(F29135,'Object Codes'!$A:$C,3,0)","v":"Special Services"},{"$f":"VLOOKUP(A29135,Agencies!A:C,3,0)","v":"Dept Health & Mental Hygiene"},0]
["816",2022,"001","114","4103","117",0,0,0,5000,0,0,0,0,0,0,0,0,0,0,0,0,0,0,0,0,{"$f":"_xlfn.XLOOKUP(F29174,'Object Codes'!$A$18:$A$510,'Object Codes'!$H$18:$H$510)","v":"Supplies & Materials"},{"$f":"_xlfn.XLOOKUP(F29174,'Object Codes'!$A$18:$A$510,'Object Codes'!$G$18:$G$510)","v":"A"},{"$f":"_xlfn.XLOOKUP(A29174,Agencies!$A$9:$A$146,Agencies!$B$9:$B$146)","v":"Health"},{"$f":"IF(_xlfn.XLOOKUP(A29174,Agencies!A:A,Agencies!D:D)=\"Y\",IF(_xlfn.XLOOKUP(F29174,'Object Codes'!A:A,'Object Codes'!I:I)=\"Y\",\"Y\",\"N\"),\"N\")","v":"Y"},{"$f":"VLOOKUP(F29174,'Object Codes'!$A:$C,3,0)","v":"Postage"},{"$f":"VLOOKUP(A29174,Agencies!A:C,3,0)","v":"Dept Health & Mental Hygiene"},0]
["816",2022,"001","114","4107","600",0,0,0,60000,301813,0,0,0,0,0,193629.53,73223.47,266853,266853,34960,266853,34960,266853,266853,34960,{"$f":"_xlfn.XLOOKUP(F29197,'Object Codes'!$A$18:$A$510,'Object Codes'!$H$18:$H$510)","v":"Contractual Services"},{"$f":"_xlfn.XLOOKUP(F29197,'Object Codes'!$A$18:$A$510,'Object Codes'!$G$18:$G$510)","v":0},{"$f":"_xlfn.XLOOKUP(A29197,Agencies!$A$9:$A$146,Agencies!$B$9:$B$146)","v":"Health"},{"$f":"IF(_xlfn.XLOOKUP(A29197,Agencies!A:A,Agencies!D:D)=\"Y\",IF(_xlfn.XLOOKUP(F29197,'Object Codes'!A:A,'Object Codes'!I:I)=\"Y\",\"Y\",\"N\"),\"N\")","v":"Y"},{"$f":"VLOOKUP(F29197,'Object Codes'!$A:$C,3,0)","v":"Contractual Services - General"},{"$f":"VLOOKUP(A29197,Agencies!A:C,3,0)","v":"Dept Health & Mental Hygiene"},731.10410958904106]
["816",2022,"001","114","4116","332",0,0,0,10000,0,0,0,0,0,0,0,0,0,0,0,0,0,0,0,0,{"$f":"_xlfn.XLOOKUP(F29273,'Object Codes'!$A$18:$A$510,'Object Codes'!$H$18:$H$510)","v":"Equipment"},{"$f":"_xlfn.XLOOKUP(F29273,'Object Codes'!$A$18:$A$510,'Object Codes'!$G$18:$G$510)","v":"A"},{"$f":"_xlfn.XLOOKUP(A29273,Agencies!$A$9:$A$146,Agencies!$B$9:$B$146)","v":"Health"},{"$f":"IF(_xlfn.XLOOKUP(A29273,Agencies!A:A,Agencies!D:D)=\"Y\",IF(_xlfn.XLOOKUP(F29273,'Object Codes'!A:A,'Object Codes'!I:I)=\"Y\",\"Y\",\"N\"),\"N\")","v":"Y"},{"$f":"VLOOKUP(F29273,'Object Codes'!$A:$C,3,0)","v":"Purchases of Data Processing Equipment"},{"$f":"VLOOKUP(A29273,Agencies!A:C,3,0)","v":"Dept Health & Mental Hygiene"},0]
["816",2022,"001","114","4126","107",0,0,0,0,22567,0,0,0,0,0,16220.67,0,16220.67,16220.67,6346.33,16220.67,6346.33,16220.67,16220.67,6346.33,{"$f":"_xlfn.XLOOKUP(F29323,'Object Codes'!$A$18:$A$510,'Object Codes'!$H$18:$H$510)","v":"Supplies & Materials"},{"$f":"_xlfn.XLOOKUP(F29323,'Object Codes'!$A$18:$A$510,'Object Codes'!$G$18:$G$510)","v":"A"},{"$f":"_xlfn.XLOOKUP(A29323,Agencies!$A$9:$A$146,Agencies!$B$9:$B$146)","v":"Health"},{"$f":"IF(_xlfn.XLOOKUP(A29323,Agencies!A:A,Agencies!D:D)=\"Y\",IF(_xlfn.XLOOKUP(F29323,'Object Codes'!A:A,'Object Codes'!I:I)=\"Y\",\"Y\",\"N\"),\"N\")","v":"Y"},{"$f":"VLOOKUP(F29323,'Object Codes'!$A:$C,3,0)","v":"Medical, Surgical and Laboratory Supplies"},{"$f":"VLOOKUP(A29323,Agencies!A:C,3,0)","v":"Dept Health & Mental Hygiene"},44.44019178082192]
["816",2022,"001","114","4130","305",0,0,0,66000,0,0,0,0,0,0,0,0,0,0,0,0,0,0,0,0,{"$f":"_xlfn.XLOOKUP(F29340,'Object Codes'!$A$18:$A$510,'Object Codes'!$H$18:$H$510)","v":"Equipment"},{"$f":"_xlfn.XLOOKUP(F29340,'Object Codes'!$A$18:$A$510,'Object Codes'!$G$18:$G$510)","v":"A"},{"$f":"_xlfn.XLOOKUP(A29340,Agencies!$A$9:$A$146,Agencies!$B$9:$B$146)","v":"Health"},{"$f":"IF(_xlfn.XLOOKUP(A29340,Agencies!A:A,Agencies!D:D)=\"Y\",IF(_xlfn.XLOOKUP(F29340,'Object Codes'!A:A,'Object Codes'!I:I)=\"Y\",\"Y\",\"N\"),\"N\")","v":"Y"},{"$f":"VLOOKUP(F29340,'Object Codes'!$A:$C,3,0)","v":"Motor Vehicles"},{"$f":"VLOOKUP(A29340,Agencies!A:C,3,0)","v":"Dept Health & Mental Hygiene"},0]
["816",2022,"001","114","4170","402",0,0,0,94,94,0,0,0,0,0,0,0,0,0,94,0,94,0,0,94,{"$f":"_xlfn.XLOOKUP(F29416,'Object Codes'!$A$18:$A$510,'Object Codes'!$H$18:$H$510)","v":"Other Services and Charges - General"},{"$f":"_xlfn.XLOOKUP(F29416,'Object Codes'!$A$18:$A$510,'Object Codes'!$G$18:$G$510)","v":0},{"$f":"_xlfn.XLOOKUP(A29416,Agencies!$A$9:$A$146,Agencies!$B$9:$B$146)","v":"Health"},{"$f":"IF(_xlfn.XLOOKUP(A29416,Agencies!A:A,Agencies!D:D)=\"Y\",IF(_xlfn.XLOOKUP(F29416,'Object Codes'!A:A,'Object Codes'!I:I)=\"Y\",\"Y\",\"N\"),\"N\")","v":"Y"},{"$f":"VLOOKUP(F29416,'Object Codes'!$A:$C,3,0)","v":"Telephone and Other Communications"},{"$f":"VLOOKUP(A29416,Agencies!A:C,3,0)","v":"Dept Health & Mental Hygiene"},0]
["816",2022,"001","114","4918","451",0,0,0,17000,3520,0,0,0,0,0,3519.93,0,3519.93,3519.93,7.0000000000000007E-2,3519.93,7.0000000000000007E-2,3519.93,3519.93,7.0000000000000007E-2,{"$f":"_xlfn.XLOOKUP(F29450,'Object Codes'!$A$18:$A$510,'Object Codes'!$H$18:$H$510)","v":"Other Services and Charges - General"},{"$f":"_xlfn.XLOOKUP(F29450,'Object Codes'!$A$18:$A$510,'Object Codes'!$G$18:$G$510)","v":0},{"$f":"_xlfn.XLOOKUP(A29450,Agencies!$A$9:$A$146,Agencies!$B$9:$B$146)","v":"Health"},{"$f":"IF(_xlfn.XLOOKUP(A29450,Agencies!A:A,Agencies!D:D)=\"Y\",IF(_xlfn.XLOOKUP(F29450,'Object Codes'!A:A,'Object Codes'!I:I)=\"Y\",\"Y\",\"N\"),\"N\")","v":"Y"},{"$f":"VLOOKUP(F29450,'Object Codes'!$A:$C,3,0)","v":"Non Overnight Travel Expenditures - General"},{"$f":"VLOOKUP(A29450,Agencies!A:C,3,0)","v":"Dept Health & Mental Hygiene"},9.6436438356164373]
["816",2022,"001","114","9914","600",0,0,0,120000,227551,0,0,0,0,0,197519.37,30031.63,227551,227551,0,227551,0,227551,227551,0,{"$f":"_xlfn.XLOOKUP(F29518,'Object Codes'!$A$18:$A$510,'Object Codes'!$H$18:$H$510)","v":"Contractual Services"},{"$f":"_xlfn.XLOOKUP(F29518,'Object Codes'!$A$18:$A$510,'Object Codes'!$G$18:$G$510)","v":0},{"$f":"_xlfn.XLOOKUP(A29518,Agencies!$A$9:$A$146,Agencies!$B$9:$B$146)","v":"Health"},{"$f":"IF(_xlfn.XLOOKUP(A29518,Agencies!A:A,Agencies!D:D)=\"Y\",IF(_xlfn.XLOOKUP(F29518,'Object Codes'!A:A,'Object Codes'!I:I)=\"Y\",\"Y\",\"N\"),\"N\")","v":"Y"},{"$f":"VLOOKUP(F29518,'Object Codes'!$A:$C,3,0)","v":"Contractual Services - General"},{"$f":"VLOOKUP(A29518,Agencies!A:C,3,0)","v":"Dept Health & Mental Hygiene"},623.42739726027401]
["816",2022,"001","115","5142","600",0,0,0,14504,57211,0,0,0,0,0,35804.36,166480,202284.36,202284.36,-145073.35999999999,202284.36,-145073.35999999999,202284.36,202284.36,-145073.35999999999,{"$f":"_xlfn.XLOOKUP(F29559,'Object Codes'!$A$18:$A$510,'Object Codes'!$H$18:$H$510)","v":"Contractual Services"},{"$f":"_xlfn.XLOOKUP(F29559,'Object Codes'!$A$18:$A$510,'Object Codes'!$G$18:$G$510)","v":0},{"$f":"_xlfn.XLOOKUP(A29559,Agencies!$A$9:$A$146,Agencies!$B$9:$B$146)","v":"Health"},{"$f":"IF(_xlfn.XLOOKUP(A29559,Agencies!A:A,Agencies!D:D)=\"Y\",IF(_xlfn.XLOOKUP(F29559,'Object Codes'!A:A,'Object Codes'!I:I)=\"Y\",\"Y\",\"N\"),\"N\")","v":"Y"},{"$f":"VLOOKUP(F29559,'Object Codes'!$A:$C,3,0)","v":"Contractual Services - General"},{"$f":"VLOOKUP(A29559,Agencies!A:C,3,0)","v":"Dept Health & Mental Hygiene"},554.20372602739724]
["816",2022,"001","116","6114","100",0,0,0,6000,28020,0,0,0,0,0,23550.67,64.48,23615.15,23615.15,4404.8500000000004,23615.15,4404.8500000000004,23615.15,23615.15,4404.8500000000004,{"$f":"_xlfn.XLOOKUP(F29593,'Object Codes'!$A$18:$A$510,'Object Codes'!$H$18:$H$510)","v":"Supplies & Materials"},{"$f":"_xlfn.XLOOKUP(F29593,'Object Codes'!$A$18:$A$510,'Object Codes'!$G$18:$G$510)","v":"A"},{"$f":"_xlfn.XLOOKUP(A29593,Agencies!$A$9:$A$146,Agencies!$B$9:$B$146)","v":"Health"},{"$f":"IF(_xlfn.XLOOKUP(A29593,Agencies!A:A,Agencies!D:D)=\"Y\",IF(_xlfn.XLOOKUP(F29593,'Object Codes'!A:A,'Object Codes'!I:I)=\"Y\",\"Y\",\"N\"),\"N\")","v":"Y"},{"$f":"VLOOKUP(F29593,'Object Codes'!$A:$C,3,0)","v":"Supplies and Materials - General"},{"$f":"VLOOKUP(A29593,Agencies!A:C,3,0)","v":"Dept Health & Mental Hygiene"},64.699041095890408]
["816",2022,"001","116","6120","300",0,0,0,1200,0,0,0,0,0,0,0,0,0,0,0,0,0,0,0,0,{"$f":"_xlfn.XLOOKUP(F29633,'Object Codes'!$A$18:$A$510,'Object Codes'!$H$18:$H$510)","v":"Equipment"},{"$f":"_xlfn.XLOOKUP(F29633,'Object Codes'!$A$18:$A$510,'Object Codes'!$G$18:$G$510)","v":"A"},{"$f":"_xlfn.XLOOKUP(A29633,Agencies!$A$9:$A$146,Agencies!$B$9:$B$146)","v":"Health"},{"$f":"IF(_xlfn.XLOOKUP(A29633,Agencies!A:A,Agencies!D:D)=\"Y\",IF(_xlfn.XLOOKUP(F29633,'Object Codes'!A:A,'Object Codes'!I:I)=\"Y\",\"Y\",\"N\"),\"N\")","v":"Y"},{"$f":"VLOOKUP(F29633,'Object Codes'!$A:$C,3,0)","v":"Equipment - General"},{"$f":"VLOOKUP(A29633,Agencies!A:C,3,0)","v":"Dept Health & Mental Hygiene"},0]
["816",2022,"001","116","6137","332",0,0,0,368017,80662,0,0,0,0,0,67089.87,0,67089.87,67089.87,13572.13,67089.87,13572.13,67089.87,67089.87,13572.13,{"$f":"_xlfn.XLOOKUP(F29702,'Object Codes'!$A$18:$A$510,'Object Codes'!$H$18:$H$510)","v":"Equipment"},{"$f":"_xlfn.XLOOKUP(F29702,'Object Codes'!$A$18:$A$510,'Object Codes'!$G$18:$G$510)","v":"A"},{"$f":"_xlfn.XLOOKUP(A29702,Agencies!$A$9:$A$146,Agencies!$B$9:$B$146)","v":"Health"},{"$f":"IF(_xlfn.XLOOKUP(A29702,Agencies!A:A,Agencies!D:D)=\"Y\",IF(_xlfn.XLOOKUP(F29702,'Object Codes'!A:A,'Object Codes'!I:I)=\"Y\",\"Y\",\"N\"),\"N\")","v":"Y"},{"$f":"VLOOKUP(F29702,'Object Codes'!$A:$C,3,0)","v":"Purchases of Data Processing Equipment"},{"$f":"VLOOKUP(A29702,Agencies!A:C,3,0)","v":"Dept Health & Mental Hygiene"},183.80786301369861]
["816",2022,"001","116","6148","300",0,0,0,0,1563,0,0,0,0,0,1562.36,0,1562.36,1562.36,0.64,1562.36,0.64,1562.36,1562.36,0.64,{"$f":"_xlfn.XLOOKUP(F29736,'Object Codes'!$A$18:$A$510,'Object Codes'!$H$18:$H$510)","v":"Equipment"},{"$f":"_xlfn.XLOOKUP(F29736,'Object Codes'!$A$18:$A$510,'Object Codes'!$G$18:$G$510)","v":"A"},{"$f":"_xlfn.XLOOKUP(A29736,Agencies!$A$9:$A$146,Agencies!$B$9:$B$146)","v":"Health"},{"$f":"IF(_xlfn.XLOOKUP(A29736,Agencies!A:A,Agencies!D:D)=\"Y\",IF(_xlfn.XLOOKUP(F29736,'Object Codes'!A:A,'Object Codes'!I:I)=\"Y\",\"Y\",\"N\"),\"N\")","v":"Y"},{"$f":"VLOOKUP(F29736,'Object Codes'!$A:$C,3,0)","v":"Equipment - General"},{"$f":"VLOOKUP(A29736,Agencies!A:C,3,0)","v":"Dept Health & Mental Hygiene"},4.2804383561643835]
["816",2022,"001","116","6160","117",0,0,0,0,1000,0,0,0,0,0,0,0,0,0,1000,0,1000,0,0,1000,{"$f":"_xlfn.XLOOKUP(F29782,'Object Codes'!$A$18:$A$510,'Object Codes'!$H$18:$H$510)","v":"Supplies & Materials"},{"$f":"_xlfn.XLOOKUP(F29782,'Object Codes'!$A$18:$A$510,'Object Codes'!$G$18:$G$510)","v":"A"},{"$f":"_xlfn.XLOOKUP(A29782,Agencies!$A$9:$A$146,Agencies!$B$9:$B$146)","v":"Health"},{"$f":"IF(_xlfn.XLOOKUP(A29782,Agencies!A:A,Agencies!D:D)=\"Y\",IF(_xlfn.XLOOKUP(F29782,'Object Codes'!A:A,'Object Codes'!I:I)=\"Y\",\"Y\",\"N\"),\"N\")","v":"Y"},{"$f":"VLOOKUP(F29782,'Object Codes'!$A:$C,3,0)","v":"Postage"},{"$f":"VLOOKUP(A29782,Agencies!A:C,3,0)","v":"Dept Health & Mental Hygiene"},0]
["816",2022,"001","116","CV16","302",0,0,0,0,70000,0,0,0,0,0,70000,0,70000,70000,0,70000,0,70000,70000,0,{"$f":"_xlfn.XLOOKUP(F29845,'Object Codes'!$A$18:$A$510,'Object Codes'!$H$18:$H$510)","v":"Equipment"},{"$f":"_xlfn.XLOOKUP(F29845,'Object Codes'!$A$18:$A$510,'Object Codes'!$G$18:$G$510)","v":"A"},{"$f":"_xlfn.XLOOKUP(A29845,Agencies!$A$9:$A$146,Agencies!$B$9:$B$146)","v":"Health"},{"$f":"IF(_xlfn.XLOOKUP(A29845,Agencies!A:A,Agencies!D:D)=\"Y\",IF(_xlfn.XLOOKUP(F29845,'Object Codes'!A:A,'Object Codes'!I:I)=\"Y\",\"Y\",\"N\"),\"N\")","v":"Y"},{"$f":"VLOOKUP(F29845,'Object Codes'!$A:$C,3,0)","v":"Telecommunications Equipment"},{"$f":"VLOOKUP(A29845,Agencies!A:C,3,0)","v":"Dept Health & Mental Hygiene"},191.78082191780823]
["816",2022,"001","117","7124","686",0,0,0,455000,127925,0,0,0,0,0,30499.96,7000,37499.96,37499.96,90425.04,37499.96,90425.04,37499.96,37499.96,90425.04,{"$f":"_xlfn.XLOOKUP(F29874,'Object Codes'!$A$18:$A$510,'Object Codes'!$H$18:$H$510)","v":"Contractual Services"},{"$f":"_xlfn.XLOOKUP(F29874,'Object Codes'!$A$18:$A$510,'Object Codes'!$G$18:$G$510)","v":0},{"$f":"_xlfn.XLOOKUP(A29874,Agencies!$A$9:$A$146,Agencies!$B$9:$B$146)","v":"Health"},{"$f":"IF(_xlfn.XLOOKUP(A29874,Agencies!A:A,Agencies!D:D)=\"Y\",IF(_xlfn.XLOOKUP(F29874,'Object Codes'!A:A,'Object Codes'!I:I)=\"Y\",\"Y\",\"N\"),\"N\")","v":"Y"},{"$f":"VLOOKUP(F29874,'Object Codes'!$A:$C,3,0)","v":"Professional Services - Other - Contractual"},{"$f":"VLOOKUP(A29874,Agencies!A:C,3,0)","v":"Dept Health & Mental Hygiene"},102.73961643835617]
["816",2022,"001","117","7144","300",0,0,0,0,54442,0,0,0,0,0,46828.3,6712,53540.3,53540.3,901.7,53540.3,901.7,53540.3,53540.3,901.7,{"$f":"_xlfn.XLOOKUP(F29931,'Object Codes'!$A$18:$A$510,'Object Codes'!$H$18:$H$510)","v":"Equipment"},{"$f":"_xlfn.XLOOKUP(F29931,'Object Codes'!$A$18:$A$510,'Object Codes'!$G$18:$G$510)","v":"A"},{"$f":"_xlfn.XLOOKUP(A29931,Agencies!$A$9:$A$146,Agencies!$B$9:$B$146)","v":"Health"},{"$f":"IF(_xlfn.XLOOKUP(A29931,Agencies!A:A,Agencies!D:D)=\"Y\",IF(_xlfn.XLOOKUP(F29931,'Object Codes'!A:A,'Object Codes'!I:I)=\"Y\",\"Y\",\"N\"),\"N\")","v":"Y"},{"$f":"VLOOKUP(F29931,'Object Codes'!$A:$C,3,0)","v":"Equipment - General"},{"$f":"VLOOKUP(A29931,Agencies!A:C,3,0)","v":"Dept Health & Mental Hygiene"},146.68575342465755]
["816",2022,"001","117","7171","314",0,0,0,0,1300,0,0,0,0,0,1270.53,0,1270.53,1270.53,29.47,1270.53,29.47,1270.53,1270.53,29.47,{"$f":"_xlfn.XLOOKUP(F29988,'Object Codes'!$A$18:$A$510,'Object Codes'!$H$18:$H$510)","v":"Equipment"},{"$f":"_xlfn.XLOOKUP(F29988,'Object Codes'!$A$18:$A$510,'Object Codes'!$G$18:$G$510)","v":"A"},{"$f":"_xlfn.XLOOKUP(A29988,Agencies!$A$9:$A$146,Agencies!$B$9:$B$146)","v":"Health"},{"$f":"IF(_xlfn.XLOOKUP(A29988,Agencies!A:A,Agencies!D:D)=\"Y\",IF(_xlfn.XLOOKUP(F29988,'Object Codes'!A:A,'Object Codes'!I:I)=\"Y\",\"Y\",\"N\"),\"N\")","v":"Y"},{"$f":"VLOOKUP(F29988,'Object Codes'!$A:$C,3,0)","v":"Office Furniture"},{"$f":"VLOOKUP(A29988,Agencies!A:C,3,0)","v":"Dept Health & Mental Hygiene"},3.4809041095890412]
["816",2022,"001","117","7182","100",0,0,0,6000,505,0,0,0,0,0,0,0,0,0,505,0,505,0,0,505,{"$f":"_xlfn.XLOOKUP(F30017,'Object Codes'!$A$18:$A$510,'Object Codes'!$H$18:$H$510)","v":"Supplies & Materials"},{"$f":"_xlfn.XLOOKUP(F30017,'Object Codes'!$A$18:$A$510,'Object Codes'!$G$18:$G$510)","v":"A"},{"$f":"_xlfn.XLOOKUP(A30017,Agencies!$A$9:$A$146,Agencies!$B$9:$B$146)","v":"Health"},{"$f":"IF(_xlfn.XLOOKUP(A30017,Agencies!A:A,Agencies!D:D)=\"Y\",IF(_xlfn.XLOOKUP(F30017,'Object Codes'!A:A,'Object Codes'!I:I)=\"Y\",\"Y\",\"N\"),\"N\")","v":"Y"},{"$f":"VLOOKUP(F30017,'Object Codes'!$A:$C,3,0)","v":"Supplies and Materials - General"},{"$f":"VLOOKUP(A30017,Agencies!A:C,3,0)","v":"Dept Health & Mental Hygiene"},0]
["816",2022,"001","117","7718","615",0,0,0,14537,27705,0,0,0,0,0,27704.81,0,27704.81,27704.81,0.19,27704.81,0.19,27704.81,27704.81,0.19,{"$f":"_xlfn.XLOOKUP(F30080,'Object Codes'!$A$18:$A$510,'Object Codes'!$H$18:$H$510)","v":"Contractual Services"},{"$f":"_xlfn.XLOOKUP(F30080,'Object Codes'!$A$18:$A$510,'Object Codes'!$G$18:$G$510)","v":0},{"$f":"_xlfn.XLOOKUP(A30080,Agencies!$A$9:$A$146,Agencies!$B$9:$B$146)","v":"Health"},{"$f":"IF(_xlfn.XLOOKUP(A30080,Agencies!A:A,Agencies!D:D)=\"Y\",IF(_xlfn.XLOOKUP(F30080,'Object Codes'!A:A,'Object Codes'!I:I)=\"Y\",\"Y\",\"N\"),\"N\")","v":"Y"},{"$f":"VLOOKUP(F30080,'Object Codes'!$A:$C,3,0)","v":"Printing Services - Contractual"},{"$f":"VLOOKUP(A30080,Agencies!A:C,3,0)","v":"Dept Health & Mental Hygiene"},75.903589041095898]
["816",2022,"001","117","7778","101",0,0,0,39718,0,0,0,0,0,0,0,0,0,0,0,0,0,0,0,0,{"$f":"_xlfn.XLOOKUP(F30084,'Object Codes'!$A$18:$A$510,'Object Codes'!$H$18:$H$510)","v":"Supplies & Materials"},{"$f":"_xlfn.XLOOKUP(F30084,'Object Codes'!$A$18:$A$510,'Object Codes'!$G$18:$G$510)","v":"A"},{"$f":"_xlfn.XLOOKUP(A30084,Agencies!$A$9:$A$146,Agencies!$B$9:$B$146)","v":"Health"},{"$f":"IF(_xlfn.XLOOKUP(A30084,Agencies!A:A,Agencies!D:D)=\"Y\",IF(_xlfn.XLOOKUP(F30084,'Object Codes'!A:A,'Object Codes'!I:I)=\"Y\",\"Y\",\"N\"),\"N\")","v":"Y"},{"$f":"VLOOKUP(F30084,'Object Codes'!$A:$C,3,0)","v":"Printing Supplies"},{"$f":"VLOOKUP(A30084,Agencies!A:C,3,0)","v":"Dept Health & Mental Hygiene"},0]
["816",2022,"001","118","8726","671",0,0,0,5000,5455,0,0,0,0,0,1000,0,1000,1000,4455,1000,4455,1000,1000,4455,{"$f":"_xlfn.XLOOKUP(F30160,'Object Codes'!$A$18:$A$510,'Object Codes'!$H$18:$H$510)","v":"Contractual Services"},{"$f":"_xlfn.XLOOKUP(F30160,'Object Codes'!$A$18:$A$510,'Object Codes'!$G$18:$G$510)","v":0},{"$f":"_xlfn.XLOOKUP(A30160,Agencies!$A$9:$A$146,Agencies!$B$9:$B$146)","v":"Health"},{"$f":"IF(_xlfn.XLOOKUP(A30160,Agencies!A:A,Agencies!D:D)=\"Y\",IF(_xlfn.XLOOKUP(F30160,'Object Codes'!A:A,'Object Codes'!I:I)=\"Y\",\"Y\",\"N\"),\"N\")","v":"Y"},{"$f":"VLOOKUP(F30160,'Object Codes'!$A:$C,3,0)","v":"Training Program for City Employees - Contractual"},{"$f":"VLOOKUP(A30160,Agencies!A:C,3,0)","v":"Dept Health & Mental Hygiene"},2.7397260273972601]
["816",2022,"001","119","9190","600",0,0,0,0,23530,0,0,0,0,0,13776,3550,17326,17326,6204,17326,6204,17326,17326,6204,{"$f":"_xlfn.XLOOKUP(F30183,'Object Codes'!$A$18:$A$510,'Object Codes'!$H$18:$H$510)","v":"Contractual Services"},{"$f":"_xlfn.XLOOKUP(F30183,'Object Codes'!$A$18:$A$510,'Object Codes'!$G$18:$G$510)","v":0},{"$f":"_xlfn.XLOOKUP(A30183,Agencies!$A$9:$A$146,Agencies!$B$9:$B$146)","v":"Health"},{"$f":"IF(_xlfn.XLOOKUP(A30183,Agencies!A:A,Agencies!D:D)=\"Y\",IF(_xlfn.XLOOKUP(F30183,'Object Codes'!A:A,'Object Codes'!I:I)=\"Y\",\"Y\",\"N\"),\"N\")","v":"Y"},{"$f":"VLOOKUP(F30183,'Object Codes'!$A:$C,3,0)","v":"Contractual Services - General"},{"$f":"VLOOKUP(A30183,Agencies!A:C,3,0)","v":"Dept Health & Mental Hygiene"},47.468493150684928]
["816",2022,"001","120","9126","500",0,0,0,0,3713,0,0,0,0,0,0,0,0,0,3713,0,3713,0,0,3713,{"$f":"_xlfn.XLOOKUP(F30269,'Object Codes'!$A$18:$A$510,'Object Codes'!$H$18:$H$510)","v":"Social Services"},{"$f":"_xlfn.XLOOKUP(F30269,'Object Codes'!$A$18:$A$510,'Object Codes'!$G$18:$G$510)","v":0},{"$f":"_xlfn.XLOOKUP(A30269,Agencies!$A$9:$A$146,Agencies!$B$9:$B$146)","v":"Health"},{"$f":"IF(_xlfn.XLOOKUP(A30269,Agencies!A:A,Agencies!D:D)=\"Y\",IF(_xlfn.XLOOKUP(F30269,'Object Codes'!A:A,'Object Codes'!I:I)=\"Y\",\"Y\",\"N\"),\"N\")","v":"Y"},{"$f":"VLOOKUP(F30269,'Object Codes'!$A:$C,3,0)","v":"Social Services - General"},{"$f":"VLOOKUP(A30269,Agencies!A:C,3,0)","v":"Dept Health & Mental Hygiene"},0]
["816",2022,"001","120","9216","100",0,0,0,227865,4511,0,0,0,0,0,1223.2,2249.96,3473.16,3473.16,1037.8399999999999,3473.16,1037.8399999999999,3473.16,3473.16,1037.8399999999999,{"$f":"_xlfn.XLOOKUP(F30303,'Object Codes'!$A$18:$A$510,'Object Codes'!$H$18:$H$510)","v":"Supplies & Materials"},{"$f":"_xlfn.XLOOKUP(F30303,'Object Codes'!$A$18:$A$510,'Object Codes'!$G$18:$G$510)","v":"A"},{"$f":"_xlfn.XLOOKUP(A30303,Agencies!$A$9:$A$146,Agencies!$B$9:$B$146)","v":"Health"},{"$f":"IF(_xlfn.XLOOKUP(A30303,Agencies!A:A,Agencies!D:D)=\"Y\",IF(_xlfn.XLOOKUP(F30303,'Object Codes'!A:A,'Object Codes'!I:I)=\"Y\",\"Y\",\"N\"),\"N\")","v":"Y"},{"$f":"VLOOKUP(F30303,'Object Codes'!$A:$C,3,0)","v":"Supplies and Materials - General"},{"$f":"VLOOKUP(A30303,Agencies!A:C,3,0)","v":"Dept Health & Mental Hygiene"},9.5155068493150683]
["816",2022,"001","120","9233","454",0,0,0,8700,8700,0,0,0,0,0,0,0,0,0,8700,0,8700,0,0,8700,{"$f":"_xlfn.XLOOKUP(F30332,'Object Codes'!$A$18:$A$510,'Object Codes'!$H$18:$H$510)","v":"Other Services and Charges - General"},{"$f":"_xlfn.XLOOKUP(F30332,'Object Codes'!$A$18:$A$510,'Object Codes'!$G$18:$G$510)","v":0},{"$f":"_xlfn.XLOOKUP(A30332,Agencies!$A$9:$A$146,Agencies!$B$9:$B$146)","v":"Health"},{"$f":"IF(_xlfn.XLOOKUP(A30332,Agencies!A:A,Agencies!D:D)=\"Y\",IF(_xlfn.XLOOKUP(F30332,'Object Codes'!A:A,'Object Codes'!I:I)=\"Y\",\"Y\",\"N\"),\"N\")","v":"Y"},{"$f":"VLOOKUP(F30332,'Object Codes'!$A:$C,3,0)","v":"Overnight Travel Expenditures - Special"},{"$f":"VLOOKUP(A30332,Agencies!A:C,3,0)","v":"Dept Health & Mental Hygiene"},0]
["816",2022,"001","122","9213","40X",0,0,0,0,13394398,0,0,0,0,0,13394397.67,0,13394397.67,13394397.67,0.33,13394397.67,0.33,13394397.67,13394397.67,0.33,{"$f":"_xlfn.XLOOKUP(F30365,'Object Codes'!$A$18:$A$510,'Object Codes'!$H$18:$H$510)","v":"Other Services and Charges - General"},{"$f":"_xlfn.XLOOKUP(F30365,'Object Codes'!$A$18:$A$510,'Object Codes'!$G$18:$G$510)","v":0},{"$f":"_xlfn.XLOOKUP(A30365,Agencies!$A$9:$A$146,Agencies!$B$9:$B$146)","v":"Health"},{"$f":"IF(_xlfn.XLOOKUP(A30365,Agencies!A:A,Agencies!D:D)=\"Y\",IF(_xlfn.XLOOKUP(F30365,'Object Codes'!A:A,'Object Codes'!I:I)=\"Y\",\"Y\",\"N\"),\"N\")","v":"Y"},{"$f":"VLOOKUP(F30365,'Object Codes'!$A:$C,3,0)","v":"CONTRACTUAL SERVICES-GENERAL"},{"$f":"VLOOKUP(A30365,Agencies!A:C,3,0)","v":"Dept Health & Mental Hygiene"},36696.979917808218]
["820",2022,"001","001","1000","061",0,0,0,0,0,0,0,0,0,0,663,0,663,663,-663,663,-663,663,663,-663,{"$f":"_xlfn.XLOOKUP(F30446,'Object Codes'!$A$18:$A$510,'Object Codes'!$H$18:$H$510)","v":"PS - Additional Gross"},{"$f":"_xlfn.XLOOKUP(F30446,'Object Codes'!$A$18:$A$510,'Object Codes'!$G$18:$G$510)","v":"A"},{"$f":"_xlfn.XLOOKUP(A30446,Agencies!$A$9:$A$146,Agencies!$B$9:$B$146)","v":"General Government"},{"$f":"IF(_xlfn.XLOOKUP(A30446,Agencies!A:A,Agencies!D:D)=\"Y\",IF(_xlfn.XLOOKUP(F30446,'Object Codes'!A:A,'Object Codes'!I:I)=\"Y\",\"Y\",\"N\"),\"N\")","v":"Y"},{"$f":"VLOOKUP(F30446,'Object Codes'!$A:$C,3,0)","v":"Supper Money"},{"$f":"VLOOKUP(A30446,Agencies!A:C,3,0)","v":"Office Admin Trials & Hearings"},1.8164383561643835]
["820",2022,"001","001","2000","X45",0,0,0,0,0,0,0,0,0,0,872.46,0,872.46,872.46,-872.46,872.46,-872.46,872.46,872.46,-872.46,{"$f":"_xlfn.XLOOKUP(F30475,'Object Codes'!$A$18:$A$510,'Object Codes'!$H$18:$H$510)","v":"PS - Additional Gross"},{"$f":"_xlfn.XLOOKUP(F30475,'Object Codes'!$A$18:$A$510,'Object Codes'!$G$18:$G$510)","v":"A"},{"$f":"_xlfn.XLOOKUP(A30475,Agencies!$A$9:$A$146,Agencies!$B$9:$B$146)","v":"General Government"},{"$f":"IF(_xlfn.XLOOKUP(A30475,Agencies!A:A,Agencies!D:D)=\"Y\",IF(_xlfn.XLOOKUP(F30475,'Object Codes'!A:A,'Object Codes'!I:I)=\"Y\",\"Y\",\"N\"),\"N\")","v":"Y"},{"$f":"VLOOKUP(F30475,'Object Codes'!$A:$C,3,0)","v":"PY HOLIDAY PAY"},{"$f":"VLOOKUP(A30475,Agencies!A:C,3,0)","v":"Office Admin Trials & Hearings"},2.390301369863014]
["820",2022,"001","002","1000","600",0,0,0,12767,88800,0,0,0,0,0,47783.19,0,47783.19,47783.19,41016.81,47783.19,41016.81,47783.19,47783.19,41016.81,{"$f":"_xlfn.XLOOKUP(F30539,'Object Codes'!$A$18:$A$510,'Object Codes'!$H$18:$H$510)","v":"Contractual Services"},{"$f":"_xlfn.XLOOKUP(F30539,'Object Codes'!$A$18:$A$510,'Object Codes'!$G$18:$G$510)","v":0},{"$f":"_xlfn.XLOOKUP(A30539,Agencies!$A$9:$A$146,Agencies!$B$9:$B$146)","v":"General Government"},{"$f":"IF(_xlfn.XLOOKUP(A30539,Agencies!A:A,Agencies!D:D)=\"Y\",IF(_xlfn.XLOOKUP(F30539,'Object Codes'!A:A,'Object Codes'!I:I)=\"Y\",\"Y\",\"N\"),\"N\")","v":"Y"},{"$f":"VLOOKUP(F30539,'Object Codes'!$A:$C,3,0)","v":"Contractual Services - General"},{"$f":"VLOOKUP(A30539,Agencies!A:C,3,0)","v":"Office Admin Trials & Hearings"},130.91284931506851]
["820",2022,"001","002","1202","314",0,0,0,0,400,0,0,0,0,0,329.99,0,329.99,329.99,70.010000000000005,329.99,70.010000000000005,329.99,329.99,70.010000000000005,{"$f":"_xlfn.XLOOKUP(F30589,'Object Codes'!$A$18:$A$510,'Object Codes'!$H$18:$H$510)","v":"Equipment"},{"$f":"_xlfn.XLOOKUP(F30589,'Object Codes'!$A$18:$A$510,'Object Codes'!$G$18:$G$510)","v":"A"},{"$f":"_xlfn.XLOOKUP(A30589,Agencies!$A$9:$A$146,Agencies!$B$9:$B$146)","v":"General Government"},{"$f":"IF(_xlfn.XLOOKUP(A30589,Agencies!A:A,Agencies!D:D)=\"Y\",IF(_xlfn.XLOOKUP(F30589,'Object Codes'!A:A,'Object Codes'!I:I)=\"Y\",\"Y\",\"N\"),\"N\")","v":"Y"},{"$f":"VLOOKUP(F30589,'Object Codes'!$A:$C,3,0)","v":"Office Furniture"},{"$f":"VLOOKUP(A30589,Agencies!A:C,3,0)","v":"Office Admin Trials & Hearings"},0.90408219178082194]
["820",2022,"001","002","2003","619",0,0,0,9283,9283,0,0,0,0,0,0,0,0,0,9283,0,9283,0,0,9283,{"$f":"_xlfn.XLOOKUP(F30618,'Object Codes'!$A$18:$A$510,'Object Codes'!$H$18:$H$510)","v":"Contractual Services"},{"$f":"_xlfn.XLOOKUP(F30618,'Object Codes'!$A$18:$A$510,'Object Codes'!$G$18:$G$510)","v":0},{"$f":"_xlfn.XLOOKUP(A30618,Agencies!$A$9:$A$146,Agencies!$B$9:$B$146)","v":"General Government"},{"$f":"IF(_xlfn.XLOOKUP(A30618,Agencies!A:A,Agencies!D:D)=\"Y\",IF(_xlfn.XLOOKUP(F30618,'Object Codes'!A:A,'Object Codes'!I:I)=\"Y\",\"Y\",\"N\"),\"N\")","v":"Y"},{"$f":"VLOOKUP(F30618,'Object Codes'!$A:$C,3,0)","v":"Security Services - Contractual"},{"$f":"VLOOKUP(A30618,Agencies!A:C,3,0)","v":"Office Admin Trials & Hearings"},0]
["826",2022,"001","001","0006","047",0,0,0,0,0,0,0,0,0,0,2703.67,0,2703.67,2703.67,-2703.67,2703.67,-2703.67,2703.67,2703.67,-2703.67,{"$f":"_xlfn.XLOOKUP(F30688,'Object Codes'!$A$18:$A$510,'Object Codes'!$H$18:$H$510)","v":"PS - Additional Gross"},{"$f":"_xlfn.XLOOKUP(F30688,'Object Codes'!$A$18:$A$510,'Object Codes'!$G$18:$G$510)","v":"C"},{"$f":"_xlfn.XLOOKUP(A30688,Agencies!$A$9:$A$146,Agencies!$B$9:$B$146)","v":"Environmental Protection"},{"$f":"IF(_xlfn.XLOOKUP(A30688,Agencies!A:A,Agencies!D:D)=\"Y\",IF(_xlfn.XLOOKUP(F30688,'Object Codes'!A:A,'Object Codes'!I:I)=\"Y\",\"Y\",\"N\"),\"N\")","v":"Y"},{"$f":"VLOOKUP(F30688,'Object Codes'!$A:$C,3,0)","v":"Overtime"},{"$f":"VLOOKUP(A30688,Agencies!A:C,3,0)","v":"Dept of Environmental Prot."},7.4073150684931512]
["826",2022,"001","001","0016","045",0,0,0,0,0,0,0,0,0,0,160.30000000000001,0,160.30000000000001,160.30000000000001,-160.30000000000001,160.30000000000001,-160.30000000000001,160.30000000000001,160.30000000000001,-160.30000000000001,{"$f":"_xlfn.XLOOKUP(F30732,'Object Codes'!$A$18:$A$510,'Object Codes'!$H$18:$H$510)","v":"PS - Additional Gross"},{"$f":"_xlfn.XLOOKUP(F30732,'Object Codes'!$A$18:$A$510,'Object Codes'!$G$18:$G$510)","v":"A"},{"$f":"_xlfn.XLOOKUP(A30732,Agencies!$A$9:$A$146,Agencies!$B$9:$B$146)","v":"Environmental Protection"},{"$f":"IF(_xlfn.XLOOKUP(A30732,Agencies!A:A,Agencies!D:D)=\"Y\",IF(_xlfn.XLOOKUP(F30732,'Object Codes'!A:A,'Object Codes'!I:I)=\"Y\",\"Y\",\"N\"),\"N\")","v":"Y"},{"$f":"VLOOKUP(F30732,'Object Codes'!$A:$C,3,0)","v":"Holiday Pay"},{"$f":"VLOOKUP(A30732,Agencies!A:C,3,0)","v":"Dept of Environmental Prot."},0.43917808219178084]
["826",2022,"001","001","0035","047",0,0,0,366401,366401,0,0,0,0,0,135611.1,0,135611.1,135611.1,230789.9,135611.1,230789.9,135611.1,135611.1,230789.9,{"$f":"_xlfn.XLOOKUP(F30761,'Object Codes'!$A$18:$A$510,'Object Codes'!$H$18:$H$510)","v":"PS - Additional Gross"},{"$f":"_xlfn.XLOOKUP(F30761,'Object Codes'!$A$18:$A$510,'Object Codes'!$G$18:$G$510)","v":"C"},{"$f":"_xlfn.XLOOKUP(A30761,Agencies!$A$9:$A$146,Agencies!$B$9:$B$146)","v":"Environmental Protection"},{"$f":"IF(_xlfn.XLOOKUP(A30761,Agencies!A:A,Agencies!D:D)=\"Y\",IF(_xlfn.XLOOKUP(F30761,'Object Codes'!A:A,'Object Codes'!I:I)=\"Y\",\"Y\",\"N\"),\"N\")","v":"Y"},{"$f":"VLOOKUP(F30761,'Object Codes'!$A:$C,3,0)","v":"Overtime"},{"$f":"VLOOKUP(A30761,Agencies!A:C,3,0)","v":"Dept of Environmental Prot."},371.53726027397261]
["826",2022,"001","001","0039","042",0,0,0,0,0,0,0,0,0,0,2251.0100000000002,0,2251.0100000000002,2251.0100000000002,-2251.0100000000002,2251.0100000000002,-2251.0100000000002,2251.0100000000002,2251.0100000000002,-2251.0100000000002,{"$f":"_xlfn.XLOOKUP(F30791,'Object Codes'!$A$18:$A$510,'Object Codes'!$H$18:$H$510)","v":"PS - Additional Gross"},{"$f":"_xlfn.XLOOKUP(F30791,'Object Codes'!$A$18:$A$510,'Object Codes'!$G$18:$G$510)","v":"A"},{"$f":"_xlfn.XLOOKUP(A30791,Agencies!$A$9:$A$146,Agencies!$B$9:$B$146)","v":"Environmental Protection"},{"$f":"IF(_xlfn.XLOOKUP(A30791,Agencies!A:A,Agencies!D:D)=\"Y\",IF(_xlfn.XLOOKUP(F30791,'Object Codes'!A:A,'Object Codes'!I:I)=\"Y\",\"Y\",\"N\"),\"N\")","v":"Y"},{"$f":"VLOOKUP(F30791,'Object Codes'!$A:$C,3,0)","v":"Longevity Differential"},{"$f":"VLOOKUP(A30791,Agencies!A:C,3,0)","v":"Dept of Environmental Prot."},6.1671506849315074]
["826",2022,"001","001","0055","043",0,0,0,0,0,0,0,0,0,0,7921.55,0,7921.55,7921.55,-7921.55,7921.55,-7921.55,7921.55,7921.55,-7921.55,{"$f":"_xlfn.XLOOKUP(F30870,'Object Codes'!$A$18:$A$510,'Object Codes'!$H$18:$H$510)","v":"PS - Additional Gross"},{"$f":"_xlfn.XLOOKUP(F30870,'Object Codes'!$A$18:$A$510,'Object Codes'!$G$18:$G$510)","v":"A"},{"$f":"_xlfn.XLOOKUP(A30870,Agencies!$A$9:$A$146,Agencies!$B$9:$B$146)","v":"Environmental Protection"},{"$f":"IF(_xlfn.XLOOKUP(A30870,Agencies!A:A,Agencies!D:D)=\"Y\",IF(_xlfn.XLOOKUP(F30870,'Object Codes'!A:A,'Object Codes'!I:I)=\"Y\",\"Y\",\"N\"),\"N\")","v":"Y"},{"$f":"VLOOKUP(F30870,'Object Codes'!$A:$C,3,0)","v":"Shift Differential"},{"$f":"VLOOKUP(A30870,Agencies!A:C,3,0)","v":"Dept of Environmental Prot."},21.702876712328766]
["826",2022,"001","002","0071","X42",0,0,0,0,0,0,0,0,0,0,42.12,0,42.12,42.12,-42.12,42.12,-42.12,42.12,42.12,-42.12,{"$f":"_xlfn.XLOOKUP(F30904,'Object Codes'!$A$18:$A$510,'Object Codes'!$H$18:$H$510)","v":"PS - Additional Gross"},{"$f":"_xlfn.XLOOKUP(F30904,'Object Codes'!$A$18:$A$510,'Object Codes'!$G$18:$G$510)","v":"A"},{"$f":"_xlfn.XLOOKUP(A30904,Agencies!$A$9:$A$146,Agencies!$B$9:$B$146)","v":"Environmental Protection"},{"$f":"IF(_xlfn.XLOOKUP(A30904,Agencies!A:A,Agencies!D:D)=\"Y\",IF(_xlfn.XLOOKUP(F30904,'Object Codes'!A:A,'Object Codes'!I:I)=\"Y\",\"Y\",\"N\"),\"N\")","v":"Y"},{"$f":"VLOOKUP(F30904,'Object Codes'!$A:$C,3,0)","v":"PY LONGEVITY DIFFERENTIAL"},{"$f":"VLOOKUP(A30904,Agencies!A:C,3,0)","v":"Dept of Environmental Prot."},0.1153972602739726]
["826",2022,"001","002","0122","047",0,0,0,0,0,0,0,0,0,0,173725.6,0,173725.6,173725.6,-173725.6,173725.6,-173725.6,173725.6,173725.6,-173725.6,{"$f":"_xlfn.XLOOKUP(F30940,'Object Codes'!$A$18:$A$510,'Object Codes'!$H$18:$H$510)","v":"PS - Additional Gross"},{"$f":"_xlfn.XLOOKUP(F30940,'Object Codes'!$A$18:$A$510,'Object Codes'!$G$18:$G$510)","v":"C"},{"$f":"_xlfn.XLOOKUP(A30940,Agencies!$A$9:$A$146,Agencies!$B$9:$B$146)","v":"Environmental Protection"},{"$f":"IF(_xlfn.XLOOKUP(A30940,Agencies!A:A,Agencies!D:D)=\"Y\",IF(_xlfn.XLOOKUP(F30940,'Object Codes'!A:A,'Object Codes'!I:I)=\"Y\",\"Y\",\"N\"),\"N\")","v":"Y"},{"$f":"VLOOKUP(F30940,'Object Codes'!$A:$C,3,0)","v":"Overtime"},{"$f":"VLOOKUP(A30940,Agencies!A:C,3,0)","v":"Dept of Environmental Prot."},475.96054794520552]
["826",2022,"001","002","A602","095",0,0,0,0,0,0,0,1767.32,0,0,-1767.32,0,0,-1767.32,1767.32,-1767.32,1767.32,-1767.32,-1767.32,1767.32,{"$f":"_xlfn.XLOOKUP(F31013,'Object Codes'!$A$18:$A$510,'Object Codes'!$H$18:$H$510)","v":"PS - Additional Gross"},{"$f":"_xlfn.XLOOKUP(F31013,'Object Codes'!$A$18:$A$510,'Object Codes'!$G$18:$G$510)","v":"A"},{"$f":"_xlfn.XLOOKUP(A31013,Agencies!$A$9:$A$146,Agencies!$B$9:$B$146)","v":"Environmental Protection"},{"$f":"IF(_xlfn.XLOOKUP(A31013,Agencies!A:A,Agencies!D:D)=\"Y\",IF(_xlfn.XLOOKUP(F31013,'Object Codes'!A:A,'Object Codes'!I:I)=\"Y\",\"Y\",\"N\"),\"N\")","v":"Y"},{"$f":"VLOOKUP(F31013,'Object Codes'!$A:$C,3,0)","v":"Payroll Refunds"},{"$f":"VLOOKUP(A31013,Agencies!A:C,3,0)","v":"Dept of Environmental Prot."},0]
["826",2022,"001","003","0205","042",0,0,0,1800,1800,0,0,0,0,0,58317.03,0,58317.03,58317.03,-56517.03,58317.03,-56517.03,58317.03,58317.03,-56517.03,{"$f":"_xlfn.XLOOKUP(F31047,'Object Codes'!$A$18:$A$510,'Object Codes'!$H$18:$H$510)","v":"PS - Additional Gross"},{"$f":"_xlfn.XLOOKUP(F31047,'Object Codes'!$A$18:$A$510,'Object Codes'!$G$18:$G$510)","v":"A"},{"$f":"_xlfn.XLOOKUP(A31047,Agencies!$A$9:$A$146,Agencies!$B$9:$B$146)","v":"Environmental Protection"},{"$f":"IF(_xlfn.XLOOKUP(A31047,Agencies!A:A,Agencies!D:D)=\"Y\",IF(_xlfn.XLOOKUP(F31047,'Object Codes'!A:A,'Object Codes'!I:I)=\"Y\",\"Y\",\"N\"),\"N\")","v":"Y"},{"$f":"VLOOKUP(F31047,'Object Codes'!$A:$C,3,0)","v":"Longevity Differential"},{"$f":"VLOOKUP(A31047,Agencies!A:C,3,0)","v":"Dept of Environmental Prot."},159.77268493150686]
["826",2022,"001","003","0208","047",0,0,0,0,1073000,0,0,0,0,0,281699.62,0,281699.62,281699.62,791300.38,281699.62,791300.38,281699.62,281699.62,791300.38,{"$f":"_xlfn.XLOOKUP(F31089,'Object Codes'!$A$18:$A$510,'Object Codes'!$H$18:$H$510)","v":"PS - Additional Gross"},{"$f":"_xlfn.XLOOKUP(F31089,'Object Codes'!$A$18:$A$510,'Object Codes'!$G$18:$G$510)","v":"C"},{"$f":"_xlfn.XLOOKUP(A31089,Agencies!$A$9:$A$146,Agencies!$B$9:$B$146)","v":"Environmental Protection"},{"$f":"IF(_xlfn.XLOOKUP(A31089,Agencies!A:A,Agencies!D:D)=\"Y\",IF(_xlfn.XLOOKUP(F31089,'Object Codes'!A:A,'Object Codes'!I:I)=\"Y\",\"Y\",\"N\"),\"N\")","v":"Y"},{"$f":"VLOOKUP(F31089,'Object Codes'!$A:$C,3,0)","v":"Overtime"},{"$f":"VLOOKUP(A31089,Agencies!A:C,3,0)","v":"Dept of Environmental Prot."},771.77978082191783]
["826",2022,"001","003","0230","031",0,0,0,680,680,0,0,0,0,0,22542.400000000001,0,22542.400000000001,22542.400000000001,-21862.400000000001,22542.400000000001,-21862.400000000001,22542.400000000001,22542.400000000001,-21862.400000000001,{"$f":"_xlfn.XLOOKUP(F31156,'Object Codes'!$A$18:$A$510,'Object Codes'!$H$18:$H$510)","v":"PS - Regular"},{"$f":"_xlfn.XLOOKUP(F31156,'Object Codes'!$A$18:$A$510,'Object Codes'!$G$18:$G$510)","v":"C"},{"$f":"_xlfn.XLOOKUP(A31156,Agencies!$A$9:$A$146,Agencies!$B$9:$B$146)","v":"Environmental Protection"},{"$f":"IF(_xlfn.XLOOKUP(A31156,Agencies!A:A,Agencies!D:D)=\"Y\",IF(_xlfn.XLOOKUP(F31156,'Object Codes'!A:A,'Object Codes'!I:I)=\"Y\",\"Y\",\"N\"),\"N\")","v":"Y"},{"$f":"VLOOKUP(F31156,'Object Codes'!$A:$C,3,0)","v":"Hourly Positions"},{"$f":"VLOOKUP(A31156,Agencies!A:C,3,0)","v":"Dept of Environmental Prot."},61.760000000000005]
["826",2022,"001","003","0233","095",0,0,0,0,0,0,0,489.18,0,0,-489.18,0,0,-489.18,489.18,-489.18,489.18,-489.18,-489.18,489.18,{"$f":"_xlfn.XLOOKUP(F31190,'Object Codes'!$A$18:$A$510,'Object Codes'!$H$18:$H$510)","v":"PS - Additional Gross"},{"$f":"_xlfn.XLOOKUP(F31190,'Object Codes'!$A$18:$A$510,'Object Codes'!$G$18:$G$510)","v":"A"},{"$f":"_xlfn.XLOOKUP(A31190,Agencies!$A$9:$A$146,Agencies!$B$9:$B$146)","v":"Environmental Protection"},{"$f":"IF(_xlfn.XLOOKUP(A31190,Agencies!A:A,Agencies!D:D)=\"Y\",IF(_xlfn.XLOOKUP(F31190,'Object Codes'!A:A,'Object Codes'!I:I)=\"Y\",\"Y\",\"N\"),\"N\")","v":"Y"},{"$f":"VLOOKUP(F31190,'Object Codes'!$A:$C,3,0)","v":"Payroll Refunds"},{"$f":"VLOOKUP(A31190,Agencies!A:C,3,0)","v":"Dept of Environmental Prot."},0]
["826",2022,"001","003","0251","X43",0,0,0,0,0,0,0,0,0,0,8.4499999999999993,0,8.4499999999999993,8.4499999999999993,-8.4499999999999993,8.4499999999999993,-8.4499999999999993,8.4499999999999993,8.4499999999999993,-8.4499999999999993,{"$f":"_xlfn.XLOOKUP(F31204,'Object Codes'!$A$18:$A$510,'Object Codes'!$H$18:$H$510)","v":"PS - Additional Gross"},{"$f":"_xlfn.XLOOKUP(F31204,'Object Codes'!$A$18:$A$510,'Object Codes'!$G$18:$G$510)","v":"A"},{"$f":"_xlfn.XLOOKUP(A31204,Agencies!$A$9:$A$146,Agencies!$B$9:$B$146)","v":"Environmental Protection"},{"$f":"IF(_xlfn.XLOOKUP(A31204,Agencies!A:A,Agencies!D:D)=\"Y\",IF(_xlfn.XLOOKUP(F31204,'Object Codes'!A:A,'Object Codes'!I:I)=\"Y\",\"Y\",\"N\"),\"N\")","v":"Y"},{"$f":"VLOOKUP(F31204,'Object Codes'!$A:$C,3,0)","v":"PY SHIFT DIFFERENTIAL"},{"$f":"VLOOKUP(A31204,Agencies!A:C,3,0)","v":"Dept of Environmental Prot."},2.3150684931506849E-2]
["826",2022,"001","003","0281","061",0,0,0,0,0,0,0,0,0,0,3137.75,0,3137.75,3137.75,-3137.75,3137.75,-3137.75,3137.75,3137.75,-3137.75,{"$f":"_xlfn.XLOOKUP(F31252,'Object Codes'!$A$18:$A$510,'Object Codes'!$H$18:$H$510)","v":"PS - Additional Gross"},{"$f":"_xlfn.XLOOKUP(F31252,'Object Codes'!$A$18:$A$510,'Object Codes'!$G$18:$G$510)","v":"A"},{"$f":"_xlfn.XLOOKUP(A31252,Agencies!$A$9:$A$146,Agencies!$B$9:$B$146)","v":"Environmental Protection"},{"$f":"IF(_xlfn.XLOOKUP(A31252,Agencies!A:A,Agencies!D:D)=\"Y\",IF(_xlfn.XLOOKUP(F31252,'Object Codes'!A:A,'Object Codes'!I:I)=\"Y\",\"Y\",\"N\"),\"N\")","v":"Y"},{"$f":"VLOOKUP(F31252,'Object Codes'!$A:$C,3,0)","v":"Supper Money"},{"$f":"VLOOKUP(A31252,Agencies!A:C,3,0)","v":"Dept of Environmental Prot."},8.5965753424657532]
["826",2022,"001","003","0421","045",0,0,0,0,0,0,0,0,0,0,85379.34,0,85379.34,85379.34,-85379.34,85379.34,-85379.34,85379.34,85379.34,-85379.34,{"$f":"_xlfn.XLOOKUP(F31333,'Object Codes'!$A$18:$A$510,'Object Codes'!$H$18:$H$510)","v":"PS - Additional Gross"},{"$f":"_xlfn.XLOOKUP(F31333,'Object Codes'!$A$18:$A$510,'Object Codes'!$G$18:$G$510)","v":"A"},{"$f":"_xlfn.XLOOKUP(A31333,Agencies!$A$9:$A$146,Agencies!$B$9:$B$146)","v":"Environmental Protection"},{"$f":"IF(_xlfn.XLOOKUP(A31333,Agencies!A:A,Agencies!D:D)=\"Y\",IF(_xlfn.XLOOKUP(F31333,'Object Codes'!A:A,'Object Codes'!I:I)=\"Y\",\"Y\",\"N\"),\"N\")","v":"Y"},{"$f":"VLOOKUP(F31333,'Object Codes'!$A:$C,3,0)","v":"Holiday Pay"},{"$f":"VLOOKUP(A31333,Agencies!A:C,3,0)","v":"Dept of Environmental Prot."},233.916]
["826",2022,"001","003","0461","057",0,0,0,0,9500,0,0,0,0,0,9500,0,9500,9500,0,9500,0,9500,9500,0,{"$f":"_xlfn.XLOOKUP(F31353,'Object Codes'!$A$18:$A$510,'Object Codes'!$H$18:$H$510)","v":"PS - Additional Gross"},{"$f":"_xlfn.XLOOKUP(F31353,'Object Codes'!$A$18:$A$510,'Object Codes'!$G$18:$G$510)","v":"A"},{"$f":"_xlfn.XLOOKUP(A31353,Agencies!$A$9:$A$146,Agencies!$B$9:$B$146)","v":"Environmental Protection"},{"$f":"IF(_xlfn.XLOOKUP(A31353,Agencies!A:A,Agencies!D:D)=\"Y\",IF(_xlfn.XLOOKUP(F31353,'Object Codes'!A:A,'Object Codes'!I:I)=\"Y\",\"Y\",\"N\"),\"N\")","v":"Y"},{"$f":"VLOOKUP(F31353,'Object Codes'!$A:$C,3,0)","v":"Bonus Payments"},{"$f":"VLOOKUP(A31353,Agencies!A:C,3,0)","v":"Dept of Environmental Prot."},26.027397260273972]
["826",2022,"001","003","0616","021",0,0,0,881,881,0,0,0,0,0,0,0,0,0,881,0,881,0,0,881,{"$f":"_xlfn.XLOOKUP(F31395,'Object Codes'!$A$18:$A$510,'Object Codes'!$H$18:$H$510)","v":"PS - Regular"},{"$f":"_xlfn.XLOOKUP(F31395,'Object Codes'!$A$18:$A$510,'Object Codes'!$G$18:$G$510)","v":"C"},{"$f":"_xlfn.XLOOKUP(A31395,Agencies!$A$9:$A$146,Agencies!$B$9:$B$146)","v":"Environmental Protection"},{"$f":"IF(_xlfn.XLOOKUP(A31395,Agencies!A:A,Agencies!D:D)=\"Y\",IF(_xlfn.XLOOKUP(F31395,'Object Codes'!A:A,'Object Codes'!I:I)=\"Y\",\"Y\",\"N\"),\"N\")","v":"Y"},{"$f":"VLOOKUP(F31395,'Object Codes'!$A:$C,3,0)","v":"Part-Time Positions"},{"$f":"VLOOKUP(A31395,Agencies!A:C,3,0)","v":"Dept of Environmental Prot."},0]
["826",2022,"001","004","0184","100",0,0,0,496712,0,0,0,0,0,0,0,0,0,0,0,0,0,0,0,0,{"$f":"_xlfn.XLOOKUP(F31471,'Object Codes'!$A$18:$A$510,'Object Codes'!$H$18:$H$510)","v":"Supplies & Materials"},{"$f":"_xlfn.XLOOKUP(F31471,'Object Codes'!$A$18:$A$510,'Object Codes'!$G$18:$G$510)","v":"A"},{"$f":"_xlfn.XLOOKUP(A31471,Agencies!$A$9:$A$146,Agencies!$B$9:$B$146)","v":"Environmental Protection"},{"$f":"IF(_xlfn.XLOOKUP(A31471,Agencies!A:A,Agencies!D:D)=\"Y\",IF(_xlfn.XLOOKUP(F31471,'Object Codes'!A:A,'Object Codes'!I:I)=\"Y\",\"Y\",\"N\"),\"N\")","v":"Y"},{"$f":"VLOOKUP(F31471,'Object Codes'!$A:$C,3,0)","v":"Supplies and Materials - General"},{"$f":"VLOOKUP(A31471,Agencies!A:C,3,0)","v":"Dept of Environmental Prot."},0]
["826",2022,"001","004","0214","332",0,0,0,9815,4907,0,0,0,0,0,0,0,0,0,4907,0,4907,0,0,4907,{"$f":"_xlfn.XLOOKUP(F31505,'Object Codes'!$A$18:$A$510,'Object Codes'!$H$18:$H$510)","v":"Equipment"},{"$f":"_xlfn.XLOOKUP(F31505,'Object Codes'!$A$18:$A$510,'Object Codes'!$G$18:$G$510)","v":"A"},{"$f":"_xlfn.XLOOKUP(A31505,Agencies!$A$9:$A$146,Agencies!$B$9:$B$146)","v":"Environmental Protection"},{"$f":"IF(_xlfn.XLOOKUP(A31505,Agencies!A:A,Agencies!D:D)=\"Y\",IF(_xlfn.XLOOKUP(F31505,'Object Codes'!A:A,'Object Codes'!I:I)=\"Y\",\"Y\",\"N\"),\"N\")","v":"Y"},{"$f":"VLOOKUP(F31505,'Object Codes'!$A:$C,3,0)","v":"Purchases of Data Processing Equipment"},{"$f":"VLOOKUP(A31505,Agencies!A:C,3,0)","v":"Dept of Environmental Prot."},0]
["826",2022,"001","004","0224","473",0,0,0,711463,508874,0,0,0,0,0,343402.84,20000,363402.84,363402.84,145471.16,363402.84,145471.16,363402.84,363402.84,145471.16,{"$f":"_xlfn.XLOOKUP(F31548,'Object Codes'!$A$18:$A$510,'Object Codes'!$H$18:$H$510)","v":"Other Services and Charges - General"},{"$f":"_xlfn.XLOOKUP(F31548,'Object Codes'!$A$18:$A$510,'Object Codes'!$G$18:$G$510)","v":0},{"$f":"_xlfn.XLOOKUP(A31548,Agencies!$A$9:$A$146,Agencies!$B$9:$B$146)","v":"Environmental Protection"},{"$f":"IF(_xlfn.XLOOKUP(A31548,Agencies!A:A,Agencies!D:D)=\"Y\",IF(_xlfn.XLOOKUP(F31548,'Object Codes'!A:A,'Object Codes'!I:I)=\"Y\",\"Y\",\"N\"),\"N\")","v":"Y"},{"$f":"VLOOKUP(F31548,'Object Codes'!$A:$C,3,0)","v":"Snow Removal Services"},{"$f":"VLOOKUP(A31548,Agencies!A:C,3,0)","v":"Dept of Environmental Prot."},995.62421917808228]
["826",2022,"001","004","0236","169",0,0,0,40000,40000,0,0,0,0,0,35007.81,0,35007.81,35007.81,4992.1899999999996,35007.81,4992.1899999999996,35007.81,35007.81,4992.1899999999996,{"$f":"_xlfn.XLOOKUP(F31614,'Object Codes'!$A$18:$A$510,'Object Codes'!$H$18:$H$510)","v":"Supplies & Materials"},{"$f":"_xlfn.XLOOKUP(F31614,'Object Codes'!$A$18:$A$510,'Object Codes'!$G$18:$G$510)","v":"A"},{"$f":"_xlfn.XLOOKUP(A31614,Agencies!$A$9:$A$146,Agencies!$B$9:$B$146)","v":"Environmental Protection"},{"$f":"IF(_xlfn.XLOOKUP(A31614,Agencies!A:A,Agencies!D:D)=\"Y\",IF(_xlfn.XLOOKUP(F31614,'Object Codes'!A:A,'Object Codes'!I:I)=\"Y\",\"Y\",\"N\"),\"N\")","v":"Y"},{"$f":"VLOOKUP(F31614,'Object Codes'!$A:$C,3,0)","v":"Maintenance Supplies"},{"$f":"VLOOKUP(A31614,Agencies!A:C,3,0)","v":"Dept of Environmental Prot."},95.91180821917807]
["826",2022,"001","004","0244","706",0,0,0,0,0,0,0,0,0,0,16202.59,0,16202.59,16202.59,-16202.59,16202.59,-16202.59,16202.59,16202.59,-16202.59,{"$f":"_xlfn.XLOOKUP(F31648,'Object Codes'!$A$18:$A$510,'Object Codes'!$H$18:$H$510)","v":"Fixed Charges"},{"$f":"_xlfn.XLOOKUP(F31648,'Object Codes'!$A$18:$A$510,'Object Codes'!$G$18:$G$510)","v":0},{"$f":"_xlfn.XLOOKUP(A31648,Agencies!$A$9:$A$146,Agencies!$B$9:$B$146)","v":"Environmental Protection"},{"$f":"IF(_xlfn.XLOOKUP(A31648,Agencies!A:A,Agencies!D:D)=\"Y\",IF(_xlfn.XLOOKUP(F31648,'Object Codes'!A:A,'Object Codes'!I:I)=\"Y\",\"Y\",\"N\"),\"N\")","v":"Y"},{"$f":"VLOOKUP(F31648,'Object Codes'!$A:$C,3,0)","v":"Prompt Payments Interest"},{"$f":"VLOOKUP(A31648,Agencies!A:C,3,0)","v":"Dept of Environmental Prot."},44.390657534246579]
["826",2022,"001","004","0296","100",0,0,0,698301,501392,0,0,0,0,0,310603.65000000002,4639.0600000000004,315242.71000000002,315242.71000000002,186149.29,315242.71000000002,186149.29,315242.71000000002,315242.71000000002,186149.29,{"$f":"_xlfn.XLOOKUP(F31697,'Object Codes'!$A$18:$A$510,'Object Codes'!$H$18:$H$510)","v":"Supplies & Materials"},{"$f":"_xlfn.XLOOKUP(F31697,'Object Codes'!$A$18:$A$510,'Object Codes'!$G$18:$G$510)","v":"A"},{"$f":"_xlfn.XLOOKUP(A31697,Agencies!$A$9:$A$146,Agencies!$B$9:$B$146)","v":"Environmental Protection"},{"$f":"IF(_xlfn.XLOOKUP(A31697,Agencies!A:A,Agencies!D:D)=\"Y\",IF(_xlfn.XLOOKUP(F31697,'Object Codes'!A:A,'Object Codes'!I:I)=\"Y\",\"Y\",\"N\"),\"N\")","v":"Y"},{"$f":"VLOOKUP(F31697,'Object Codes'!$A:$C,3,0)","v":"Supplies and Materials - General"},{"$f":"VLOOKUP(A31697,Agencies!A:C,3,0)","v":"Dept of Environmental Prot."},863.67865753424667]
["826",2022,"001","004","0465","608",0,0,0,2034824,0,0,0,0,0,0,0,0,0,0,0,0,0,0,0,0,{"$f":"_xlfn.XLOOKUP(F31757,'Object Codes'!$A$18:$A$510,'Object Codes'!$H$18:$H$510)","v":"Contractual Services"},{"$f":"_xlfn.XLOOKUP(F31757,'Object Codes'!$A$18:$A$510,'Object Codes'!$G$18:$G$510)","v":0},{"$f":"_xlfn.XLOOKUP(A31757,Agencies!$A$9:$A$146,Agencies!$B$9:$B$146)","v":"Environmental Protection"},{"$f":"IF(_xlfn.XLOOKUP(A31757,Agencies!A:A,Agencies!D:D)=\"Y\",IF(_xlfn.XLOOKUP(F31757,'Object Codes'!A:A,'Object Codes'!I:I)=\"Y\",\"Y\",\"N\"),\"N\")","v":"Y"},{"$f":"VLOOKUP(F31757,'Object Codes'!$A:$C,3,0)","v":"Maintenance and Repairs - General - Contractual"},{"$f":"VLOOKUP(A31757,Agencies!A:C,3,0)","v":"Dept of Environmental Prot."},0]
["826",2022,"001","004","0505","100",0,0,0,867747,313981,0,0,0,0,0,236143.49,0,236143.49,236143.49,77837.509999999995,236143.49,77837.509999999995,236143.49,236143.49,77837.509999999995,{"$f":"_xlfn.XLOOKUP(F31791,'Object Codes'!$A$18:$A$510,'Object Codes'!$H$18:$H$510)","v":"Supplies & Materials"},{"$f":"_xlfn.XLOOKUP(F31791,'Object Codes'!$A$18:$A$510,'Object Codes'!$G$18:$G$510)","v":"A"},{"$f":"_xlfn.XLOOKUP(A31791,Agencies!$A$9:$A$146,Agencies!$B$9:$B$146)","v":"Environmental Protection"},{"$f":"IF(_xlfn.XLOOKUP(A31791,Agencies!A:A,Agencies!D:D)=\"Y\",IF(_xlfn.XLOOKUP(F31791,'Object Codes'!A:A,'Object Codes'!I:I)=\"Y\",\"Y\",\"N\"),\"N\")","v":"Y"},{"$f":"VLOOKUP(F31791,'Object Codes'!$A:$C,3,0)","v":"Supplies and Materials - General"},{"$f":"VLOOKUP(A31791,Agencies!A:C,3,0)","v":"Dept of Environmental Prot."},646.96846575342465]
["826",2022,"001","004","0525","100",0,0,0,589902,636951,0,0,52.65,0,0,452025.47,0,452078.12,452025.47,184925.53,452025.47,184925.53,452025.47,452025.47,184925.53,{"$f":"_xlfn.XLOOKUP(F31812,'Object Codes'!$A$18:$A$510,'Object Codes'!$H$18:$H$510)","v":"Supplies & Materials"},{"$f":"_xlfn.XLOOKUP(F31812,'Object Codes'!$A$18:$A$510,'Object Codes'!$G$18:$G$510)","v":"A"},{"$f":"_xlfn.XLOOKUP(A31812,Agencies!$A$9:$A$146,Agencies!$B$9:$B$146)","v":"Environmental Protection"},{"$f":"IF(_xlfn.XLOOKUP(A31812,Agencies!A:A,Agencies!D:D)=\"Y\",IF(_xlfn.XLOOKUP(F31812,'Object Codes'!A:A,'Object Codes'!I:I)=\"Y\",\"Y\",\"N\"),\"N\")","v":"Y"},{"$f":"VLOOKUP(F31812,'Object Codes'!$A:$C,3,0)","v":"Supplies and Materials - General"},{"$f":"VLOOKUP(A31812,Agencies!A:C,3,0)","v":"Dept of Environmental Prot."},1238.5701917808219]
["826",2022,"001","004","2302","100",0,0,0,0,4236471,0,0,0,0,0,2373793.67,0,2373793.67,2373793.67,1862677.33,2373793.67,1862677.33,2373793.67,2373793.67,1862677.33,{"$f":"_xlfn.XLOOKUP(F31900,'Object Codes'!$A$18:$A$510,'Object Codes'!$H$18:$H$510)","v":"Supplies & Materials"},{"$f":"_xlfn.XLOOKUP(F31900,'Object Codes'!$A$18:$A$510,'Object Codes'!$G$18:$G$510)","v":"A"},{"$f":"_xlfn.XLOOKUP(A31900,Agencies!$A$9:$A$146,Agencies!$B$9:$B$146)","v":"Environmental Protection"},{"$f":"IF(_xlfn.XLOOKUP(A31900,Agencies!A:A,Agencies!D:D)=\"Y\",IF(_xlfn.XLOOKUP(F31900,'Object Codes'!A:A,'Object Codes'!I:I)=\"Y\",\"Y\",\"N\"),\"N\")","v":"Y"},{"$f":"VLOOKUP(F31900,'Object Codes'!$A:$C,3,0)","v":"Supplies and Materials - General"},{"$f":"VLOOKUP(A31900,Agencies!A:C,3,0)","v":"Dept of Environmental Prot."},6503.5443013698632]
["826",2022,"001","004","3334","600",0,0,0,907250,3437927,0,0,0,0,0,2352340.8199999998,504631.03,2856971.85,2856971.85,580955.15,2856971.85,580955.15,2856971.85,2856971.85,580955.15,{"$f":"_xlfn.XLOOKUP(F31934,'Object Codes'!$A$18:$A$510,'Object Codes'!$H$18:$H$510)","v":"Contractual Services"},{"$f":"_xlfn.XLOOKUP(F31934,'Object Codes'!$A$18:$A$510,'Object Codes'!$G$18:$G$510)","v":0},{"$f":"_xlfn.XLOOKUP(A31934,Agencies!$A$9:$A$146,Agencies!$B$9:$B$146)","v":"Environmental Protection"},{"$f":"IF(_xlfn.XLOOKUP(A31934,Agencies!A:A,Agencies!D:D)=\"Y\",IF(_xlfn.XLOOKUP(F31934,'Object Codes'!A:A,'Object Codes'!I:I)=\"Y\",\"Y\",\"N\"),\"N\")","v":"Y"},{"$f":"VLOOKUP(F31934,'Object Codes'!$A:$C,3,0)","v":"Contractual Services - General"},{"$f":"VLOOKUP(A31934,Agencies!A:C,3,0)","v":"Dept of Environmental Prot."},7827.3201369863018]
["826",2022,"001","004","3614","100",0,0,0,57000,48500,0,0,0,0,0,42410.19,0,42410.19,42410.19,6089.81,42410.19,6089.81,42410.19,42410.19,6089.81,{"$f":"_xlfn.XLOOKUP(F31961,'Object Codes'!$A$18:$A$510,'Object Codes'!$H$18:$H$510)","v":"Supplies & Materials"},{"$f":"_xlfn.XLOOKUP(F31961,'Object Codes'!$A$18:$A$510,'Object Codes'!$G$18:$G$510)","v":"A"},{"$f":"_xlfn.XLOOKUP(A31961,Agencies!$A$9:$A$146,Agencies!$B$9:$B$146)","v":"Environmental Protection"},{"$f":"IF(_xlfn.XLOOKUP(A31961,Agencies!A:A,Agencies!D:D)=\"Y\",IF(_xlfn.XLOOKUP(F31961,'Object Codes'!A:A,'Object Codes'!I:I)=\"Y\",\"Y\",\"N\"),\"N\")","v":"Y"},{"$f":"VLOOKUP(F31961,'Object Codes'!$A:$C,3,0)","v":"Supplies and Materials - General"},{"$f":"VLOOKUP(A31961,Agencies!A:C,3,0)","v":"Dept of Environmental Prot."},116.19230136986302]
["826",2022,"001","004","6224","169",0,0,0,0,11106,0,0,0,0,0,7241.06,0,7241.06,7241.06,3864.94,7241.06,3864.94,7241.06,7241.06,3864.94,{"$f":"_xlfn.XLOOKUP(F32043,'Object Codes'!$A$18:$A$510,'Object Codes'!$H$18:$H$510)","v":"Supplies & Materials"},{"$f":"_xlfn.XLOOKUP(F32043,'Object Codes'!$A$18:$A$510,'Object Codes'!$G$18:$G$510)","v":"A"},{"$f":"_xlfn.XLOOKUP(A32043,Agencies!$A$9:$A$146,Agencies!$B$9:$B$146)","v":"Environmental Protection"},{"$f":"IF(_xlfn.XLOOKUP(A32043,Agencies!A:A,Agencies!D:D)=\"Y\",IF(_xlfn.XLOOKUP(F32043,'Object Codes'!A:A,'Object Codes'!I:I)=\"Y\",\"Y\",\"N\"),\"N\")","v":"Y"},{"$f":"VLOOKUP(F32043,'Object Codes'!$A:$C,3,0)","v":"Maintenance Supplies"},{"$f":"VLOOKUP(A32043,Agencies!A:C,3,0)","v":"Dept of Environmental Prot."},19.838520547945208]
["826",2022,"001","004","6234","600",0,0,0,1295563,680518,0,0,0,0,0,477349.1,110700.33,588049.43000000005,588049.43000000005,92468.57,588049.43000000005,92468.57,588049.43000000005,588049.43000000005,92468.57,{"$f":"_xlfn.XLOOKUP(F32072,'Object Codes'!$A$18:$A$510,'Object Codes'!$H$18:$H$510)","v":"Contractual Services"},{"$f":"_xlfn.XLOOKUP(F32072,'Object Codes'!$A$18:$A$510,'Object Codes'!$G$18:$G$510)","v":0},{"$f":"_xlfn.XLOOKUP(A32072,Agencies!$A$9:$A$146,Agencies!$B$9:$B$146)","v":"Environmental Protection"},{"$f":"IF(_xlfn.XLOOKUP(A32072,Agencies!A:A,Agencies!D:D)=\"Y\",IF(_xlfn.XLOOKUP(F32072,'Object Codes'!A:A,'Object Codes'!I:I)=\"Y\",\"Y\",\"N\"),\"N\")","v":"Y"},{"$f":"VLOOKUP(F32072,'Object Codes'!$A:$C,3,0)","v":"Contractual Services - General"},{"$f":"VLOOKUP(A32072,Agencies!A:C,3,0)","v":"Dept of Environmental Prot."},1611.0943287671234]
["826",2022,"001","004","8264","40B",0,0,0,0,3597700,0,0,0,0,0,3597700,0,3597700,3597700,0,3597700,0,3597700,3597700,0,{"$f":"_xlfn.XLOOKUP(F32110,'Object Codes'!$A$18:$A$510,'Object Codes'!$H$18:$H$510)","v":"Other Services and Charges - General"},{"$f":"_xlfn.XLOOKUP(F32110,'Object Codes'!$A$18:$A$510,'Object Codes'!$G$18:$G$510)","v":0},{"$f":"_xlfn.XLOOKUP(A32110,Agencies!$A$9:$A$146,Agencies!$B$9:$B$146)","v":"Environmental Protection"},{"$f":"IF(_xlfn.XLOOKUP(A32110,Agencies!A:A,Agencies!D:D)=\"Y\",IF(_xlfn.XLOOKUP(F32110,'Object Codes'!A:A,'Object Codes'!I:I)=\"Y\",\"Y\",\"N\"),\"N\")","v":"Y"},{"$f":"VLOOKUP(F32110,'Object Codes'!$A:$C,3,0)","v":"TELEPHONE & OTHER COMMUNICATNS"},{"$f":"VLOOKUP(A32110,Agencies!A:C,3,0)","v":"Dept of Environmental Prot."},9856.7123287671238]
["826",2022,"001","004","CVSO","624",0,0,0,0,0,0,0,0,0,0,526.5,0,526.5,526.5,-526.5,526.5,-526.5,526.5,526.5,-526.5,{"$f":"_xlfn.XLOOKUP(F32139,'Object Codes'!$A$18:$A$510,'Object Codes'!$H$18:$H$510)","v":"Contractual Services"},{"$f":"_xlfn.XLOOKUP(F32139,'Object Codes'!$A$18:$A$510,'Object Codes'!$G$18:$G$510)","v":0},{"$f":"_xlfn.XLOOKUP(A32139,Agencies!$A$9:$A$146,Agencies!$B$9:$B$146)","v":"Environmental Protection"},{"$f":"IF(_xlfn.XLOOKUP(A32139,Agencies!A:A,Agencies!D:D)=\"Y\",IF(_xlfn.XLOOKUP(F32139,'Object Codes'!A:A,'Object Codes'!I:I)=\"Y\",\"Y\",\"N\"),\"N\")","v":"Y"},{"$f":"VLOOKUP(F32139,'Object Codes'!$A:$C,3,0)","v":"Cleaning Services - Contractual"},{"$f":"VLOOKUP(A32139,Agencies!A:C,3,0)","v":"Dept of Environmental Prot."},1.4424657534246574]
["826",2022,"001","005","2224","700",0,0,0,5000,0,0,0,0,0,0,0,0,0,0,0,0,0,0,0,0,{"$f":"_xlfn.XLOOKUP(F32215,'Object Codes'!$A$18:$A$510,'Object Codes'!$H$18:$H$510)","v":"Fixed Charges"},{"$f":"_xlfn.XLOOKUP(F32215,'Object Codes'!$A$18:$A$510,'Object Codes'!$G$18:$G$510)","v":0},{"$f":"_xlfn.XLOOKUP(A32215,Agencies!$A$9:$A$146,Agencies!$B$9:$B$146)","v":"Environmental Protection"},{"$f":"IF(_xlfn.XLOOKUP(A32215,Agencies!A:A,Agencies!D:D)=\"Y\",IF(_xlfn.XLOOKUP(F32215,'Object Codes'!A:A,'Object Codes'!I:I)=\"Y\",\"Y\",\"N\"),\"N\")","v":"Y"},{"$f":"VLOOKUP(F32215,'Object Codes'!$A:$C,3,0)","v":"Fixed Charges - General"},{"$f":"VLOOKUP(A32215,Agencies!A:C,3,0)","v":"Dept of Environmental Prot."},0]
["826",2022,"001","005","8824","106",0,0,0,0,32167,0,0,0,0,0,18883.810000000001,0,18883.810000000001,18883.810000000001,13283.19,18883.810000000001,13283.19,18883.810000000001,18883.810000000001,13283.19,{"$f":"_xlfn.XLOOKUP(F32259,'Object Codes'!$A$18:$A$510,'Object Codes'!$H$18:$H$510)","v":"Supplies & Materials"},{"$f":"_xlfn.XLOOKUP(F32259,'Object Codes'!$A$18:$A$510,'Object Codes'!$G$18:$G$510)","v":"A"},{"$f":"_xlfn.XLOOKUP(A32259,Agencies!$A$9:$A$146,Agencies!$B$9:$B$146)","v":"Environmental Protection"},{"$f":"IF(_xlfn.XLOOKUP(A32259,Agencies!A:A,Agencies!D:D)=\"Y\",IF(_xlfn.XLOOKUP(F32259,'Object Codes'!A:A,'Object Codes'!I:I)=\"Y\",\"Y\",\"N\"),\"N\")","v":"Y"},{"$f":"VLOOKUP(F32259,'Object Codes'!$A:$C,3,0)","v":"Motor Vehicle Fuel"},{"$f":"VLOOKUP(A32259,Agencies!A:C,3,0)","v":"Dept of Environmental Prot."},51.73646575342466]
["826",2022,"001","005","CRGO","600",0,0,0,4000000,4000000,0,0,0,0,0,4000000,0,4000000,4000000,0,4000000,0,4000000,4000000,0,{"$f":"_xlfn.XLOOKUP(F32282,'Object Codes'!$A$18:$A$510,'Object Codes'!$H$18:$H$510)","v":"Contractual Services"},{"$f":"_xlfn.XLOOKUP(F32282,'Object Codes'!$A$18:$A$510,'Object Codes'!$G$18:$G$510)","v":0},{"$f":"_xlfn.XLOOKUP(A32282,Agencies!$A$9:$A$146,Agencies!$B$9:$B$146)","v":"Environmental Protection"},{"$f":"IF(_xlfn.XLOOKUP(A32282,Agencies!A:A,Agencies!D:D)=\"Y\",IF(_xlfn.XLOOKUP(F32282,'Object Codes'!A:A,'Object Codes'!I:I)=\"Y\",\"Y\",\"N\"),\"N\")","v":"Y"},{"$f":"VLOOKUP(F32282,'Object Codes'!$A:$C,3,0)","v":"Contractual Services - General"},{"$f":"VLOOKUP(A32282,Agencies!A:C,3,0)","v":"Dept of Environmental Prot."},10958.904109589041]
["826",2022,"001","006","1024","332",0,0,0,28000,20500,0,0,0,0,0,19643.55,0,19643.55,19643.55,856.45,19643.55,856.45,19643.55,19643.55,856.45,{"$f":"_xlfn.XLOOKUP(F32358,'Object Codes'!$A$18:$A$510,'Object Codes'!$H$18:$H$510)","v":"Equipment"},{"$f":"_xlfn.XLOOKUP(F32358,'Object Codes'!$A$18:$A$510,'Object Codes'!$G$18:$G$510)","v":"A"},{"$f":"_xlfn.XLOOKUP(A32358,Agencies!$A$9:$A$146,Agencies!$B$9:$B$146)","v":"Environmental Protection"},{"$f":"IF(_xlfn.XLOOKUP(A32358,Agencies!A:A,Agencies!D:D)=\"Y\",IF(_xlfn.XLOOKUP(F32358,'Object Codes'!A:A,'Object Codes'!I:I)=\"Y\",\"Y\",\"N\"),\"N\")","v":"Y"},{"$f":"VLOOKUP(F32358,'Object Codes'!$A:$C,3,0)","v":"Purchases of Data Processing Equipment"},{"$f":"VLOOKUP(A32358,Agencies!A:C,3,0)","v":"Dept of Environmental Prot."},53.817945205479447]
["826",2022,"001","006","1044","101",0,0,0,9619,4809,0,0,0,0,0,0,0,0,0,4809,0,4809,0,0,4809,{"$f":"_xlfn.XLOOKUP(F32408,'Object Codes'!$A$18:$A$510,'Object Codes'!$H$18:$H$510)","v":"Supplies & Materials"},{"$f":"_xlfn.XLOOKUP(F32408,'Object Codes'!$A$18:$A$510,'Object Codes'!$G$18:$G$510)","v":"A"},{"$f":"_xlfn.XLOOKUP(A32408,Agencies!$A$9:$A$146,Agencies!$B$9:$B$146)","v":"Environmental Protection"},{"$f":"IF(_xlfn.XLOOKUP(A32408,Agencies!A:A,Agencies!D:D)=\"Y\",IF(_xlfn.XLOOKUP(F32408,'Object Codes'!A:A,'Object Codes'!I:I)=\"Y\",\"Y\",\"N\"),\"N\")","v":"Y"},{"$f":"VLOOKUP(F32408,'Object Codes'!$A:$C,3,0)","v":"Printing Supplies"},{"$f":"VLOOKUP(A32408,Agencies!A:C,3,0)","v":"Dept of Environmental Prot."},0]
["826",2022,"001","006","1044","40X",0,0,0,32888,208458,0,0,0,0,0,32888,0,32888,32888,175570,32888,175570,32888,32888,175570,{"$f":"_xlfn.XLOOKUP(F32420,'Object Codes'!$A$18:$A$510,'Object Codes'!$H$18:$H$510)","v":"Other Services and Charges - General"},{"$f":"_xlfn.XLOOKUP(F32420,'Object Codes'!$A$18:$A$510,'Object Codes'!$G$18:$G$510)","v":0},{"$f":"_xlfn.XLOOKUP(A32420,Agencies!$A$9:$A$146,Agencies!$B$9:$B$146)","v":"Environmental Protection"},{"$f":"IF(_xlfn.XLOOKUP(A32420,Agencies!A:A,Agencies!D:D)=\"Y\",IF(_xlfn.XLOOKUP(F32420,'Object Codes'!A:A,'Object Codes'!I:I)=\"Y\",\"Y\",\"N\"),\"N\")","v":"Y"},{"$f":"VLOOKUP(F32420,'Object Codes'!$A:$C,3,0)","v":"CONTRACTUAL SERVICES-GENERAL"},{"$f":"VLOOKUP(A32420,Agencies!A:C,3,0)","v":"Dept of Environmental Prot."},90.104109589041101]
["826",2022,"001","006","1074","602",0,0,0,1000,0,0,0,0,0,0,0,0,0,0,0,0,0,0,0,0,{"$f":"_xlfn.XLOOKUP(F32501,'Object Codes'!$A$18:$A$510,'Object Codes'!$H$18:$H$510)","v":"Contractual Services"},{"$f":"_xlfn.XLOOKUP(F32501,'Object Codes'!$A$18:$A$510,'Object Codes'!$G$18:$G$510)","v":0},{"$f":"_xlfn.XLOOKUP(A32501,Agencies!$A$9:$A$146,Agencies!$B$9:$B$146)","v":"Environmental Protection"},{"$f":"IF(_xlfn.XLOOKUP(A32501,Agencies!A:A,Agencies!D:D)=\"Y\",IF(_xlfn.XLOOKUP(F32501,'Object Codes'!A:A,'Object Codes'!I:I)=\"Y\",\"Y\",\"N\"),\"N\")","v":"Y"},{"$f":"VLOOKUP(F32501,'Object Codes'!$A:$C,3,0)","v":"Telecommunications Maintenance - Contractual"},{"$f":"VLOOKUP(A32501,Agencies!A:C,3,0)","v":"Dept of Environmental Prot."},0]
["826",2022,"001","006","1444","100",0,0,0,3500,10788,0,0,0,0,0,9695.59,0,9695.59,9695.59,1092.4100000000001,9695.59,1092.4100000000001,9695.59,9695.59,1092.4100000000001,{"$f":"_xlfn.XLOOKUP(F32535,'Object Codes'!$A$18:$A$510,'Object Codes'!$H$18:$H$510)","v":"Supplies & Materials"},{"$f":"_xlfn.XLOOKUP(F32535,'Object Codes'!$A$18:$A$510,'Object Codes'!$G$18:$G$510)","v":"A"},{"$f":"_xlfn.XLOOKUP(A32535,Agencies!$A$9:$A$146,Agencies!$B$9:$B$146)","v":"Environmental Protection"},{"$f":"IF(_xlfn.XLOOKUP(A32535,Agencies!A:A,Agencies!D:D)=\"Y\",IF(_xlfn.XLOOKUP(F32535,'Object Codes'!A:A,'Object Codes'!I:I)=\"Y\",\"Y\",\"N\"),\"N\")","v":"Y"},{"$f":"VLOOKUP(F32535,'Object Codes'!$A:$C,3,0)","v":"Supplies and Materials - General"},{"$f":"VLOOKUP(A32535,Agencies!A:C,3,0)","v":"Dept of Environmental Prot."},26.563260273972602]
["826",2022,"001","007","7008","001",0,4,4,190922,190922,0,0,0,0,0,174183.2,0,174183.2,174183.2,16738.8,174183.2,16738.8,174183.2,174183.2,16738.8,{"$f":"_xlfn.XLOOKUP(F32569,'Object Codes'!$A$18:$A$510,'Object Codes'!$H$18:$H$510)","v":"PS - Regular"},{"$f":"_xlfn.XLOOKUP(F32569,'Object Codes'!$A$18:$A$510,'Object Codes'!$G$18:$G$510)","v":"C"},{"$f":"_xlfn.XLOOKUP(A32569,Agencies!$A$9:$A$146,Agencies!$B$9:$B$146)","v":"Environmental Protection"},{"$f":"IF(_xlfn.XLOOKUP(A32569,Agencies!A:A,Agencies!D:D)=\"Y\",IF(_xlfn.XLOOKUP(F32569,'Object Codes'!A:A,'Object Codes'!I:I)=\"Y\",\"Y\",\"N\"),\"N\")","v":"Y"},{"$f":"VLOOKUP(F32569,'Object Codes'!$A:$C,3,0)","v":"Full Year Positions"},{"$f":"VLOOKUP(A32569,Agencies!A:C,3,0)","v":"Dept of Environmental Prot."},477.21424657534249]
["826",2022,"001","007","7245","021",0,0,0,6465,6465,0,0,0,0,0,0,0,0,0,6465,0,6465,0,0,6465,{"$f":"_xlfn.XLOOKUP(F32644,'Object Codes'!$A$18:$A$510,'Object Codes'!$H$18:$H$510)","v":"PS - Regular"},{"$f":"_xlfn.XLOOKUP(F32644,'Object Codes'!$A$18:$A$510,'Object Codes'!$G$18:$G$510)","v":"C"},{"$f":"_xlfn.XLOOKUP(A32644,Agencies!$A$9:$A$146,Agencies!$B$9:$B$146)","v":"Environmental Protection"},{"$f":"IF(_xlfn.XLOOKUP(A32644,Agencies!A:A,Agencies!D:D)=\"Y\",IF(_xlfn.XLOOKUP(F32644,'Object Codes'!A:A,'Object Codes'!I:I)=\"Y\",\"Y\",\"N\"),\"N\")","v":"Y"},{"$f":"VLOOKUP(F32644,'Object Codes'!$A:$C,3,0)","v":"Part-Time Positions"},{"$f":"VLOOKUP(A32644,Agencies!A:C,3,0)","v":"Dept of Environmental Prot."},0]
["826",2022,"001","007","7247","X41",0,0,0,0,0,0,0,0,0,0,586.62,0,586.62,586.62,-586.62,586.62,-586.62,586.62,586.62,-586.62,{"$f":"_xlfn.XLOOKUP(F32678,'Object Codes'!$A$18:$A$510,'Object Codes'!$H$18:$H$510)","v":"PS - Additional Gross"},{"$f":"_xlfn.XLOOKUP(F32678,'Object Codes'!$A$18:$A$510,'Object Codes'!$G$18:$G$510)","v":"A"},{"$f":"_xlfn.XLOOKUP(A32678,Agencies!$A$9:$A$146,Agencies!$B$9:$B$146)","v":"Environmental Protection"},{"$f":"IF(_xlfn.XLOOKUP(A32678,Agencies!A:A,Agencies!D:D)=\"Y\",IF(_xlfn.XLOOKUP(F32678,'Object Codes'!A:A,'Object Codes'!I:I)=\"Y\",\"Y\",\"N\"),\"N\")","v":"Y"},{"$f":"VLOOKUP(F32678,'Object Codes'!$A:$C,3,0)","v":"PY ASSIGNMENT DIFFERENTIAL"},{"$f":"VLOOKUP(A32678,Agencies!A:C,3,0)","v":"Dept of Environmental Prot."},1.6071780821917809]
["826",2022,"001","007","7555","041",0,0,0,0,0,0,0,0,0,0,417.67,0,417.67,417.67,-417.67,417.67,-417.67,417.67,417.67,-417.67,{"$f":"_xlfn.XLOOKUP(F32718,'Object Codes'!$A$18:$A$510,'Object Codes'!$H$18:$H$510)","v":"PS - Additional Gross"},{"$f":"_xlfn.XLOOKUP(F32718,'Object Codes'!$A$18:$A$510,'Object Codes'!$G$18:$G$510)","v":"A"},{"$f":"_xlfn.XLOOKUP(A32718,Agencies!$A$9:$A$146,Agencies!$B$9:$B$146)","v":"Environmental Protection"},{"$f":"IF(_xlfn.XLOOKUP(A32718,Agencies!A:A,Agencies!D:D)=\"Y\",IF(_xlfn.XLOOKUP(F32718,'Object Codes'!A:A,'Object Codes'!I:I)=\"Y\",\"Y\",\"N\"),\"N\")","v":"Y"},{"$f":"VLOOKUP(F32718,'Object Codes'!$A:$C,3,0)","v":"Assignment Differential"},{"$f":"VLOOKUP(A32718,Agencies!A:C,3,0)","v":"Dept of Environmental Prot."},1.1443013698630138]
["826",2022,"001","008","8259","X42",0,0,0,0,0,0,0,0,0,0,218.13,0,218.13,218.13,-218.13,218.13,-218.13,218.13,218.13,-218.13,{"$f":"_xlfn.XLOOKUP(F32787,'Object Codes'!$A$18:$A$510,'Object Codes'!$H$18:$H$510)","v":"PS - Additional Gross"},{"$f":"_xlfn.XLOOKUP(F32787,'Object Codes'!$A$18:$A$510,'Object Codes'!$G$18:$G$510)","v":"A"},{"$f":"_xlfn.XLOOKUP(A32787,Agencies!$A$9:$A$146,Agencies!$B$9:$B$146)","v":"Environmental Protection"},{"$f":"IF(_xlfn.XLOOKUP(A32787,Agencies!A:A,Agencies!D:D)=\"Y\",IF(_xlfn.XLOOKUP(F32787,'Object Codes'!A:A,'Object Codes'!I:I)=\"Y\",\"Y\",\"N\"),\"N\")","v":"Y"},{"$f":"VLOOKUP(F32787,'Object Codes'!$A:$C,3,0)","v":"PY LONGEVITY DIFFERENTIAL"},{"$f":"VLOOKUP(A32787,Agencies!A:C,3,0)","v":"Dept of Environmental Prot."},0.5976164383561644]
["826",2022,"001","008","8261","X41",0,0,0,0,0,0,0,0,0,0,596.97,0,596.97,596.97,-596.97,596.97,-596.97,596.97,596.97,-596.97,{"$f":"_xlfn.XLOOKUP(F32816,'Object Codes'!$A$18:$A$510,'Object Codes'!$H$18:$H$510)","v":"PS - Additional Gross"},{"$f":"_xlfn.XLOOKUP(F32816,'Object Codes'!$A$18:$A$510,'Object Codes'!$G$18:$G$510)","v":"A"},{"$f":"_xlfn.XLOOKUP(A32816,Agencies!$A$9:$A$146,Agencies!$B$9:$B$146)","v":"Environmental Protection"},{"$f":"IF(_xlfn.XLOOKUP(A32816,Agencies!A:A,Agencies!D:D)=\"Y\",IF(_xlfn.XLOOKUP(F32816,'Object Codes'!A:A,'Object Codes'!I:I)=\"Y\",\"Y\",\"N\"),\"N\")","v":"Y"},{"$f":"VLOOKUP(F32816,'Object Codes'!$A:$C,3,0)","v":"PY ASSIGNMENT DIFFERENTIAL"},{"$f":"VLOOKUP(A32816,Agencies!A:C,3,0)","v":"Dept of Environmental Prot."},1.6355342465753426]
["826",2022,"001","008","8269","045",0,0,0,47738,47738,0,0,0,0,0,166079.91,0,166079.91,166079.91,-118341.91,166079.91,-118341.91,166079.91,166079.91,-118341.91,{"$f":"_xlfn.XLOOKUP(F32867,'Object Codes'!$A$18:$A$510,'Object Codes'!$H$18:$H$510)","v":"PS - Additional Gross"},{"$f":"_xlfn.XLOOKUP(F32867,'Object Codes'!$A$18:$A$510,'Object Codes'!$G$18:$G$510)","v":"A"},{"$f":"_xlfn.XLOOKUP(A32867,Agencies!$A$9:$A$146,Agencies!$B$9:$B$146)","v":"Environmental Protection"},{"$f":"IF(_xlfn.XLOOKUP(A32867,Agencies!A:A,Agencies!D:D)=\"Y\",IF(_xlfn.XLOOKUP(F32867,'Object Codes'!A:A,'Object Codes'!I:I)=\"Y\",\"Y\",\"N\"),\"N\")","v":"Y"},{"$f":"VLOOKUP(F32867,'Object Codes'!$A:$C,3,0)","v":"Holiday Pay"},{"$f":"VLOOKUP(A32867,Agencies!A:C,3,0)","v":"Dept of Environmental Prot."},455.01345205479453]
["826",2022,"001","008","8277","042",0,0,0,600,600,0,0,0,0,0,2381.1,0,2381.1,2381.1,-1781.1,2381.1,-1781.1,2381.1,2381.1,-1781.1,{"$f":"_xlfn.XLOOKUP(F32930,'Object Codes'!$A$18:$A$510,'Object Codes'!$H$18:$H$510)","v":"PS - Additional Gross"},{"$f":"_xlfn.XLOOKUP(F32930,'Object Codes'!$A$18:$A$510,'Object Codes'!$G$18:$G$510)","v":"A"},{"$f":"_xlfn.XLOOKUP(A32930,Agencies!$A$9:$A$146,Agencies!$B$9:$B$146)","v":"Environmental Protection"},{"$f":"IF(_xlfn.XLOOKUP(A32930,Agencies!A:A,Agencies!D:D)=\"Y\",IF(_xlfn.XLOOKUP(F32930,'Object Codes'!A:A,'Object Codes'!I:I)=\"Y\",\"Y\",\"N\"),\"N\")","v":"Y"},{"$f":"VLOOKUP(F32930,'Object Codes'!$A:$C,3,0)","v":"Longevity Differential"},{"$f":"VLOOKUP(A32930,Agencies!A:C,3,0)","v":"Dept of Environmental Prot."},6.5235616438356159]
["826",2022,"001","008","8279","057",0,0,0,0,4000,0,0,0,0,0,4000,0,4000,4000,0,4000,0,4000,4000,0,{"$f":"_xlfn.XLOOKUP(F32959,'Object Codes'!$A$18:$A$510,'Object Codes'!$H$18:$H$510)","v":"PS - Additional Gross"},{"$f":"_xlfn.XLOOKUP(F32959,'Object Codes'!$A$18:$A$510,'Object Codes'!$G$18:$G$510)","v":"A"},{"$f":"_xlfn.XLOOKUP(A32959,Agencies!$A$9:$A$146,Agencies!$B$9:$B$146)","v":"Environmental Protection"},{"$f":"IF(_xlfn.XLOOKUP(A32959,Agencies!A:A,Agencies!D:D)=\"Y\",IF(_xlfn.XLOOKUP(F32959,'Object Codes'!A:A,'Object Codes'!I:I)=\"Y\",\"Y\",\"N\"),\"N\")","v":"Y"},{"$f":"VLOOKUP(F32959,'Object Codes'!$A:$C,3,0)","v":"Bonus Payments"},{"$f":"VLOOKUP(A32959,Agencies!A:C,3,0)","v":"Dept of Environmental Prot."},10.95890410958904]
["827",2022,"001","101","1005","043",0,0,0,43980,43980,0,0,0,0,0,36820.120000000003,0,36820.120000000003,36820.120000000003,7159.88,36820.120000000003,7159.88,36820.120000000003,36820.120000000003,7159.88,{"$f":"_xlfn.XLOOKUP(F33016,'Object Codes'!$A$18:$A$510,'Object Codes'!$H$18:$H$510)","v":"PS - Additional Gross"},{"$f":"_xlfn.XLOOKUP(F33016,'Object Codes'!$A$18:$A$510,'Object Codes'!$G$18:$G$510)","v":"A"},{"$f":"_xlfn.XLOOKUP(A33016,Agencies!$A$9:$A$146,Agencies!$B$9:$B$146)","v":"Environmental Protection"},{"$f":"IF(_xlfn.XLOOKUP(A33016,Agencies!A:A,Agencies!D:D)=\"Y\",IF(_xlfn.XLOOKUP(F33016,'Object Codes'!A:A,'Object Codes'!I:I)=\"Y\",\"Y\",\"N\"),\"N\")","v":"Y"},{"$f":"VLOOKUP(F33016,'Object Codes'!$A:$C,3,0)","v":"Shift Differential"},{"$f":"VLOOKUP(A33016,Agencies!A:C,3,0)","v":"Department of Sanitation"},100.87704109589042]
["827",2022,"001","101","1021","048",0,0,0,78095,78095,0,0,0,0,0,76579.89,0,76579.89,76579.89,1515.11,76579.89,1515.11,76579.89,76579.89,1515.11,{"$f":"_xlfn.XLOOKUP(F33068,'Object Codes'!$A$18:$A$510,'Object Codes'!$H$18:$H$510)","v":"PS - Additional Gross"},{"$f":"_xlfn.XLOOKUP(F33068,'Object Codes'!$A$18:$A$510,'Object Codes'!$G$18:$G$510)","v":"U"},{"$f":"_xlfn.XLOOKUP(A33068,Agencies!$A$9:$A$146,Agencies!$B$9:$B$146)","v":"Environmental Protection"},{"$f":"IF(_xlfn.XLOOKUP(A33068,Agencies!A:A,Agencies!D:D)=\"Y\",IF(_xlfn.XLOOKUP(F33068,'Object Codes'!A:A,'Object Codes'!I:I)=\"Y\",\"Y\",\"N\"),\"N\")","v":"Y"},{"$f":"VLOOKUP(F33068,'Object Codes'!$A:$C,3,0)","v":"Overtime-Uniformed Forces"},{"$f":"VLOOKUP(A33068,Agencies!A:C,3,0)","v":"Department of Sanitation"},209.80791780821917]
["827",2022,"001","101","1047","047",0,0,0,1626,1626,0,0,0,0,0,0,0,0,0,1626,0,1626,0,0,1626,{"$f":"_xlfn.XLOOKUP(F33102,'Object Codes'!$A$18:$A$510,'Object Codes'!$H$18:$H$510)","v":"PS - Additional Gross"},{"$f":"_xlfn.XLOOKUP(F33102,'Object Codes'!$A$18:$A$510,'Object Codes'!$G$18:$G$510)","v":"C"},{"$f":"_xlfn.XLOOKUP(A33102,Agencies!$A$9:$A$146,Agencies!$B$9:$B$146)","v":"Environmental Protection"},{"$f":"IF(_xlfn.XLOOKUP(A33102,Agencies!A:A,Agencies!D:D)=\"Y\",IF(_xlfn.XLOOKUP(F33102,'Object Codes'!A:A,'Object Codes'!I:I)=\"Y\",\"Y\",\"N\"),\"N\")","v":"Y"},{"$f":"VLOOKUP(F33102,'Object Codes'!$A:$C,3,0)","v":"Overtime"},{"$f":"VLOOKUP(A33102,Agencies!A:C,3,0)","v":"Department of Sanitation"},0]
["827",2022,"001","101","1051","045",0,0,0,0,0,0,0,0,0,0,3890.55,0,3890.55,3890.55,-3890.55,3890.55,-3890.55,3890.55,3890.55,-3890.55,{"$f":"_xlfn.XLOOKUP(F33119,'Object Codes'!$A$18:$A$510,'Object Codes'!$H$18:$H$510)","v":"PS - Additional Gross"},{"$f":"_xlfn.XLOOKUP(F33119,'Object Codes'!$A$18:$A$510,'Object Codes'!$G$18:$G$510)","v":"A"},{"$f":"_xlfn.XLOOKUP(A33119,Agencies!$A$9:$A$146,Agencies!$B$9:$B$146)","v":"Environmental Protection"},{"$f":"IF(_xlfn.XLOOKUP(A33119,Agencies!A:A,Agencies!D:D)=\"Y\",IF(_xlfn.XLOOKUP(F33119,'Object Codes'!A:A,'Object Codes'!I:I)=\"Y\",\"Y\",\"N\"),\"N\")","v":"Y"},{"$f":"VLOOKUP(F33119,'Object Codes'!$A:$C,3,0)","v":"Holiday Pay"},{"$f":"VLOOKUP(A33119,Agencies!A:C,3,0)","v":"Department of Sanitation"},10.659041095890412]
["827",2022,"001","101","1085","045",0,0,0,30973,30973,0,0,0,0,0,84359.21,0,84359.21,84359.21,-53386.21,84359.21,-53386.21,84359.21,84359.21,-53386.21,{"$f":"_xlfn.XLOOKUP(F33164,'Object Codes'!$A$18:$A$510,'Object Codes'!$H$18:$H$510)","v":"PS - Additional Gross"},{"$f":"_xlfn.XLOOKUP(F33164,'Object Codes'!$A$18:$A$510,'Object Codes'!$G$18:$G$510)","v":"A"},{"$f":"_xlfn.XLOOKUP(A33164,Agencies!$A$9:$A$146,Agencies!$B$9:$B$146)","v":"Environmental Protection"},{"$f":"IF(_xlfn.XLOOKUP(A33164,Agencies!A:A,Agencies!D:D)=\"Y\",IF(_xlfn.XLOOKUP(F33164,'Object Codes'!A:A,'Object Codes'!I:I)=\"Y\",\"Y\",\"N\"),\"N\")","v":"Y"},{"$f":"VLOOKUP(F33164,'Object Codes'!$A:$C,3,0)","v":"Holiday Pay"},{"$f":"VLOOKUP(A33164,Agencies!A:C,3,0)","v":"Department of Sanitation"},231.12112328767125]
["827",2022,"001","101","9505","049",0,0,0,0,0,0,0,0,0,0,11.64,0,11.64,11.64,-11.64,11.64,-11.64,11.64,11.64,-11.64,{"$f":"_xlfn.XLOOKUP(F33245,'Object Codes'!$A$18:$A$510,'Object Codes'!$H$18:$H$510)","v":"PS - Additional Gross"},{"$f":"_xlfn.XLOOKUP(F33245,'Object Codes'!$A$18:$A$510,'Object Codes'!$G$18:$G$510)","v":"A"},{"$f":"_xlfn.XLOOKUP(A33245,Agencies!$A$9:$A$146,Agencies!$B$9:$B$146)","v":"Environmental Protection"},{"$f":"IF(_xlfn.XLOOKUP(A33245,Agencies!A:A,Agencies!D:D)=\"Y\",IF(_xlfn.XLOOKUP(F33245,'Object Codes'!A:A,'Object Codes'!I:I)=\"Y\",\"Y\",\"N\"),\"N\")","v":"Y"},{"$f":"VLOOKUP(F33245,'Object Codes'!$A:$C,3,0)","v":"Backpay"},{"$f":"VLOOKUP(A33245,Agencies!A:C,3,0)","v":"Department of Sanitation"},3.189041095890411E-2]
["827",2022,"001","102","1052","048",0,0,0,495770,495770,0,0,0,0,0,2284715.0299999998,0,2284715.0299999998,2284715.0299999998,-1788945.03,2284715.0299999998,-1788945.03,2284715.0299999998,2284715.0299999998,-1788945.03,{"$f":"_xlfn.XLOOKUP(F33268,'Object Codes'!$A$18:$A$510,'Object Codes'!$H$18:$H$510)","v":"PS - Additional Gross"},{"$f":"_xlfn.XLOOKUP(F33268,'Object Codes'!$A$18:$A$510,'Object Codes'!$G$18:$G$510)","v":"U"},{"$f":"_xlfn.XLOOKUP(A33268,Agencies!$A$9:$A$146,Agencies!$B$9:$B$146)","v":"Environmental Protection"},{"$f":"IF(_xlfn.XLOOKUP(A33268,Agencies!A:A,Agencies!D:D)=\"Y\",IF(_xlfn.XLOOKUP(F33268,'Object Codes'!A:A,'Object Codes'!I:I)=\"Y\",\"Y\",\"N\"),\"N\")","v":"Y"},{"$f":"VLOOKUP(F33268,'Object Codes'!$A:$C,3,0)","v":"Overtime-Uniformed Forces"},{"$f":"VLOOKUP(A33268,Agencies!A:C,3,0)","v":"Department of Sanitation"},6259.4932328767118]
["827",2022,"001","102","2041","049",0,0,0,0,0,0,0,0,0,0,-0.64,0,-0.64,-0.64,0.64,-0.64,0.64,-0.64,-0.64,0.64,{"$f":"_xlfn.XLOOKUP(F33307,'Object Codes'!$A$18:$A$510,'Object Codes'!$H$18:$H$510)","v":"PS - Additional Gross"},{"$f":"_xlfn.XLOOKUP(F33307,'Object Codes'!$A$18:$A$510,'Object Codes'!$G$18:$G$510)","v":"A"},{"$f":"_xlfn.XLOOKUP(A33307,Agencies!$A$9:$A$146,Agencies!$B$9:$B$146)","v":"Environmental Protection"},{"$f":"IF(_xlfn.XLOOKUP(A33307,Agencies!A:A,Agencies!D:D)=\"Y\",IF(_xlfn.XLOOKUP(F33307,'Object Codes'!A:A,'Object Codes'!I:I)=\"Y\",\"Y\",\"N\"),\"N\")","v":"Y"},{"$f":"VLOOKUP(F33307,'Object Codes'!$A:$C,3,0)","v":"Backpay"},{"$f":"VLOOKUP(A33307,Agencies!A:C,3,0)","v":"Department of Sanitation"},-1.7534246575342466E-3]
["827",2022,"001","102","3025","001",0,2,2,84510,84510,0,0,0,0,0,147571.89000000001,0,147571.89000000001,147571.89000000001,-63061.89,147571.89000000001,-63061.89,147571.89000000001,147571.89000000001,-63061.89,{"$f":"_xlfn.XLOOKUP(F33388,'Object Codes'!$A$18:$A$510,'Object Codes'!$H$18:$H$510)","v":"PS - Regular"},{"$f":"_xlfn.XLOOKUP(F33388,'Object Codes'!$A$18:$A$510,'Object Codes'!$G$18:$G$510)","v":"C"},{"$f":"_xlfn.XLOOKUP(A33388,Agencies!$A$9:$A$146,Agencies!$B$9:$B$146)","v":"Environmental Protection"},{"$f":"IF(_xlfn.XLOOKUP(A33388,Agencies!A:A,Agencies!D:D)=\"Y\",IF(_xlfn.XLOOKUP(F33388,'Object Codes'!A:A,'Object Codes'!I:I)=\"Y\",\"Y\",\"N\"),\"N\")","v":"Y"},{"$f":"VLOOKUP(F33388,'Object Codes'!$A:$C,3,0)","v":"Full Year Positions"},{"$f":"VLOOKUP(A33388,Agencies!A:C,3,0)","v":"Department of Sanitation"},404.30654794520552]
["827",2022,"001","102","3057","001",0,2,2,69204,69204,0,0,0,0,0,0,0,0,0,69204,0,69204,0,0,69204,{"$f":"_xlfn.XLOOKUP(F33429,'Object Codes'!$A$18:$A$510,'Object Codes'!$H$18:$H$510)","v":"PS - Regular"},{"$f":"_xlfn.XLOOKUP(F33429,'Object Codes'!$A$18:$A$510,'Object Codes'!$G$18:$G$510)","v":"C"},{"$f":"_xlfn.XLOOKUP(A33429,Agencies!$A$9:$A$146,Agencies!$B$9:$B$146)","v":"Environmental Protection"},{"$f":"IF(_xlfn.XLOOKUP(A33429,Agencies!A:A,Agencies!D:D)=\"Y\",IF(_xlfn.XLOOKUP(F33429,'Object Codes'!A:A,'Object Codes'!I:I)=\"Y\",\"Y\",\"N\"),\"N\")","v":"Y"},{"$f":"VLOOKUP(F33429,'Object Codes'!$A:$C,3,0)","v":"Full Year Positions"},{"$f":"VLOOKUP(A33429,Agencies!A:C,3,0)","v":"Department of Sanitation"},0]
["827",2022,"001","102","3067","X43",0,0,0,0,0,0,0,0,0,0,318.24,0,318.24,318.24,-318.24,318.24,-318.24,318.24,318.24,-318.24,{"$f":"_xlfn.XLOOKUP(F33450,'Object Codes'!$A$18:$A$510,'Object Codes'!$H$18:$H$510)","v":"PS - Additional Gross"},{"$f":"_xlfn.XLOOKUP(F33450,'Object Codes'!$A$18:$A$510,'Object Codes'!$G$18:$G$510)","v":"A"},{"$f":"_xlfn.XLOOKUP(A33450,Agencies!$A$9:$A$146,Agencies!$B$9:$B$146)","v":"Environmental Protection"},{"$f":"IF(_xlfn.XLOOKUP(A33450,Agencies!A:A,Agencies!D:D)=\"Y\",IF(_xlfn.XLOOKUP(F33450,'Object Codes'!A:A,'Object Codes'!I:I)=\"Y\",\"Y\",\"N\"),\"N\")","v":"Y"},{"$f":"VLOOKUP(F33450,'Object Codes'!$A:$C,3,0)","v":"PY SHIFT DIFFERENTIAL"},{"$f":"VLOOKUP(A33450,Agencies!A:C,3,0)","v":"Department of Sanitation"},0.87189041095890418]
["827",2022,"001","102","3997","001",0,0,0,0,0,0,0,0,0,0,1558.1,0,1558.1,1558.1,-1558.1,1558.1,-1558.1,1558.1,1558.1,-1558.1,{"$f":"_xlfn.XLOOKUP(F33531,'Object Codes'!$A$18:$A$510,'Object Codes'!$H$18:$H$510)","v":"PS - Regular"},{"$f":"_xlfn.XLOOKUP(F33531,'Object Codes'!$A$18:$A$510,'Object Codes'!$G$18:$G$510)","v":"C"},{"$f":"_xlfn.XLOOKUP(A33531,Agencies!$A$9:$A$146,Agencies!$B$9:$B$146)","v":"Environmental Protection"},{"$f":"IF(_xlfn.XLOOKUP(A33531,Agencies!A:A,Agencies!D:D)=\"Y\",IF(_xlfn.XLOOKUP(F33531,'Object Codes'!A:A,'Object Codes'!I:I)=\"Y\",\"Y\",\"N\"),\"N\")","v":"Y"},{"$f":"VLOOKUP(F33531,'Object Codes'!$A:$C,3,0)","v":"Full Year Positions"},{"$f":"VLOOKUP(A33531,Agencies!A:C,3,0)","v":"Department of Sanitation"},4.2687671232876712]
["827",2022,"001","102","4015","048",0,0,0,25578,25578,0,0,0,0,0,1547928.08,0,1547928.08,1547928.08,-1522350.0800000001,1547928.08,-1522350.0800000001,1547928.08,1547928.08,-1522350.0800000001,{"$f":"_xlfn.XLOOKUP(F33560,'Object Codes'!$A$18:$A$510,'Object Codes'!$H$18:$H$510)","v":"PS - Additional Gross"},{"$f":"_xlfn.XLOOKUP(F33560,'Object Codes'!$A$18:$A$510,'Object Codes'!$G$18:$G$510)","v":"U"},{"$f":"_xlfn.XLOOKUP(A33560,Agencies!$A$9:$A$146,Agencies!$B$9:$B$146)","v":"Environmental Protection"},{"$f":"IF(_xlfn.XLOOKUP(A33560,Agencies!A:A,Agencies!D:D)=\"Y\",IF(_xlfn.XLOOKUP(F33560,'Object Codes'!A:A,'Object Codes'!I:I)=\"Y\",\"Y\",\"N\"),\"N\")","v":"Y"},{"$f":"VLOOKUP(F33560,'Object Codes'!$A:$C,3,0)","v":"Overtime-Uniformed Forces"},{"$f":"VLOOKUP(A33560,Agencies!A:C,3,0)","v":"Department of Sanitation"},4240.8988493150691]
["827",2022,"001","102","4075","045",0,0,0,8919,8919,0,0,0,0,0,147690.14000000001,0,147690.14000000001,147690.14000000001,-138771.14000000001,147690.14000000001,-138771.14000000001,147690.14000000001,147690.14000000001,-138771.14000000001,{"$f":"_xlfn.XLOOKUP(F33624,'Object Codes'!$A$18:$A$510,'Object Codes'!$H$18:$H$510)","v":"PS - Additional Gross"},{"$f":"_xlfn.XLOOKUP(F33624,'Object Codes'!$A$18:$A$510,'Object Codes'!$G$18:$G$510)","v":"A"},{"$f":"_xlfn.XLOOKUP(A33624,Agencies!$A$9:$A$146,Agencies!$B$9:$B$146)","v":"Environmental Protection"},{"$f":"IF(_xlfn.XLOOKUP(A33624,Agencies!A:A,Agencies!D:D)=\"Y\",IF(_xlfn.XLOOKUP(F33624,'Object Codes'!A:A,'Object Codes'!I:I)=\"Y\",\"Y\",\"N\"),\"N\")","v":"Y"},{"$f":"VLOOKUP(F33624,'Object Codes'!$A:$C,3,0)","v":"Holiday Pay"},{"$f":"VLOOKUP(A33624,Agencies!A:C,3,0)","v":"Department of Sanitation"},404.63052054794525]
["827",2022,"001","102","4127","043",0,0,0,3322,3322,0,0,0,0,0,219554.51,0,219554.51,219554.51,-216232.51,219554.51,-216232.51,219554.51,219554.51,-216232.51,{"$f":"_xlfn.XLOOKUP(F33674,'Object Codes'!$A$18:$A$510,'Object Codes'!$H$18:$H$510)","v":"PS - Additional Gross"},{"$f":"_xlfn.XLOOKUP(F33674,'Object Codes'!$A$18:$A$510,'Object Codes'!$G$18:$G$510)","v":"A"},{"$f":"_xlfn.XLOOKUP(A33674,Agencies!$A$9:$A$146,Agencies!$B$9:$B$146)","v":"Environmental Protection"},{"$f":"IF(_xlfn.XLOOKUP(A33674,Agencies!A:A,Agencies!D:D)=\"Y\",IF(_xlfn.XLOOKUP(F33674,'Object Codes'!A:A,'Object Codes'!I:I)=\"Y\",\"Y\",\"N\"),\"N\")","v":"Y"},{"$f":"VLOOKUP(F33674,'Object Codes'!$A:$C,3,0)","v":"Shift Differential"},{"$f":"VLOOKUP(A33674,Agencies!A:C,3,0)","v":"Department of Sanitation"},601.51920547945213]
["827",2022,"001","102","4997","X48",0,0,0,0,0,0,0,0,0,0,3001.7,0,3001.7,3001.7,-3001.7,3001.7,-3001.7,3001.7,3001.7,-3001.7,{"$f":"_xlfn.XLOOKUP(F33703,'Object Codes'!$A$18:$A$510,'Object Codes'!$H$18:$H$510)","v":"PS - Additional Gross"},{"$f":"_xlfn.XLOOKUP(F33703,'Object Codes'!$A$18:$A$510,'Object Codes'!$G$18:$G$510)","v":"U"},{"$f":"_xlfn.XLOOKUP(A33703,Agencies!$A$9:$A$146,Agencies!$B$9:$B$146)","v":"Environmental Protection"},{"$f":"IF(_xlfn.XLOOKUP(A33703,Agencies!A:A,Agencies!D:D)=\"Y\",IF(_xlfn.XLOOKUP(F33703,'Object Codes'!A:A,'Object Codes'!I:I)=\"Y\",\"Y\",\"N\"),\"N\")","v":"Y"},{"$f":"VLOOKUP(F33703,'Object Codes'!$A:$C,3,0)","v":"PY OVERTIME UNIFORM FORCES"},{"$f":"VLOOKUP(A33703,Agencies!A:C,3,0)","v":"Department of Sanitation"},8.2238356164383557]
["827",2022,"001","102","5008","X47",0,0,0,0,0,0,0,0,0,0,13.26,0,13.26,13.26,-13.26,13.26,-13.26,13.26,13.26,-13.26,{"$f":"_xlfn.XLOOKUP(F33727,'Object Codes'!$A$18:$A$510,'Object Codes'!$H$18:$H$510)","v":"PS - Additional Gross"},{"$f":"_xlfn.XLOOKUP(F33727,'Object Codes'!$A$18:$A$510,'Object Codes'!$G$18:$G$510)","v":"A"},{"$f":"_xlfn.XLOOKUP(A33727,Agencies!$A$9:$A$146,Agencies!$B$9:$B$146)","v":"Environmental Protection"},{"$f":"IF(_xlfn.XLOOKUP(A33727,Agencies!A:A,Agencies!D:D)=\"Y\",IF(_xlfn.XLOOKUP(F33727,'Object Codes'!A:A,'Object Codes'!I:I)=\"Y\",\"Y\",\"N\"),\"N\")","v":"Y"},{"$f":"VLOOKUP(F33727,'Object Codes'!$A:$C,3,0)","v":"PY OVERTIME"},{"$f":"VLOOKUP(A33727,Agencies!A:C,3,0)","v":"Department of Sanitation"},3.632876712328767E-2]
["827",2022,"001","102","5075","X48",0,0,0,0,0,0,0,0,0,0,-163.66,0,-163.66,-163.66,163.66,-163.66,163.66,-163.66,-163.66,163.66,{"$f":"_xlfn.XLOOKUP(F33812,'Object Codes'!$A$18:$A$510,'Object Codes'!$H$18:$H$510)","v":"PS - Additional Gross"},{"$f":"_xlfn.XLOOKUP(F33812,'Object Codes'!$A$18:$A$510,'Object Codes'!$G$18:$G$510)","v":"U"},{"$f":"_xlfn.XLOOKUP(A33812,Agencies!$A$9:$A$146,Agencies!$B$9:$B$146)","v":"Environmental Protection"},{"$f":"IF(_xlfn.XLOOKUP(A33812,Agencies!A:A,Agencies!D:D)=\"Y\",IF(_xlfn.XLOOKUP(F33812,'Object Codes'!A:A,'Object Codes'!I:I)=\"Y\",\"Y\",\"N\"),\"N\")","v":"Y"},{"$f":"VLOOKUP(F33812,'Object Codes'!$A:$C,3,0)","v":"PY OVERTIME UNIFORM FORCES"},{"$f":"VLOOKUP(A33812,Agencies!A:C,3,0)","v":"Department of Sanitation"},-0.44838356164383558]
["827",2022,"001","102","5105","057",0,0,0,0,0,0,0,0,0,0,10000,0,10000,10000,-10000,10000,-10000,10000,10000,-10000,{"$f":"_xlfn.XLOOKUP(F33846,'Object Codes'!$A$18:$A$510,'Object Codes'!$H$18:$H$510)","v":"PS - Additional Gross"},{"$f":"_xlfn.XLOOKUP(F33846,'Object Codes'!$A$18:$A$510,'Object Codes'!$G$18:$G$510)","v":"A"},{"$f":"_xlfn.XLOOKUP(A33846,Agencies!$A$9:$A$146,Agencies!$B$9:$B$146)","v":"Environmental Protection"},{"$f":"IF(_xlfn.XLOOKUP(A33846,Agencies!A:A,Agencies!D:D)=\"Y\",IF(_xlfn.XLOOKUP(F33846,'Object Codes'!A:A,'Object Codes'!I:I)=\"Y\",\"Y\",\"N\"),\"N\")","v":"Y"},{"$f":"VLOOKUP(F33846,'Object Codes'!$A:$C,3,0)","v":"Bonus Payments"},{"$f":"VLOOKUP(A33846,Agencies!A:C,3,0)","v":"Department of Sanitation"},27.397260273972602]
["827",2022,"001","102","5125","X43",0,0,0,0,0,0,0,0,0,0,52.86,0,52.86,52.86,-52.86,52.86,-52.86,52.86,52.86,-52.86,{"$f":"_xlfn.XLOOKUP(F33876,'Object Codes'!$A$18:$A$510,'Object Codes'!$H$18:$H$510)","v":"PS - Additional Gross"},{"$f":"_xlfn.XLOOKUP(F33876,'Object Codes'!$A$18:$A$510,'Object Codes'!$G$18:$G$510)","v":"A"},{"$f":"_xlfn.XLOOKUP(A33876,Agencies!$A$9:$A$146,Agencies!$B$9:$B$146)","v":"Environmental Protection"},{"$f":"IF(_xlfn.XLOOKUP(A33876,Agencies!A:A,Agencies!D:D)=\"Y\",IF(_xlfn.XLOOKUP(F33876,'Object Codes'!A:A,'Object Codes'!I:I)=\"Y\",\"Y\",\"N\"),\"N\")","v":"Y"},{"$f":"VLOOKUP(F33876,'Object Codes'!$A:$C,3,0)","v":"PY SHIFT DIFFERENTIAL"},{"$f":"VLOOKUP(A33876,Agencies!A:C,3,0)","v":"Department of Sanitation"},0.14482191780821918]
["827",2022,"001","102","6005","001",0,19,19,912270,912270,0,0,0,0,0,735658.61,0,735658.61,735658.61,176611.39,735658.61,176611.39,735658.61,735658.61,176611.39,{"$f":"_xlfn.XLOOKUP(F33955,'Object Codes'!$A$18:$A$510,'Object Codes'!$H$18:$H$510)","v":"PS - Regular"},{"$f":"_xlfn.XLOOKUP(F33955,'Object Codes'!$A$18:$A$510,'Object Codes'!$G$18:$G$510)","v":"C"},{"$f":"_xlfn.XLOOKUP(A33955,Agencies!$A$9:$A$146,Agencies!$B$9:$B$146)","v":"Environmental Protection"},{"$f":"IF(_xlfn.XLOOKUP(A33955,Agencies!A:A,Agencies!D:D)=\"Y\",IF(_xlfn.XLOOKUP(F33955,'Object Codes'!A:A,'Object Codes'!I:I)=\"Y\",\"Y\",\"N\"),\"N\")","v":"Y"},{"$f":"VLOOKUP(F33955,'Object Codes'!$A:$C,3,0)","v":"Full Year Positions"},{"$f":"VLOOKUP(A33955,Agencies!A:C,3,0)","v":"Department of Sanitation"},2015.5030410958905]
["827",2022,"001","102","6015","043",0,0,0,4741,4741,0,0,0,0,0,268506.18,0,268506.18,268506.18,-263765.18,268506.18,-263765.18,268506.18,268506.18,-263765.18,{"$f":"_xlfn.XLOOKUP(F33989,'Object Codes'!$A$18:$A$510,'Object Codes'!$H$18:$H$510)","v":"PS - Additional Gross"},{"$f":"_xlfn.XLOOKUP(F33989,'Object Codes'!$A$18:$A$510,'Object Codes'!$G$18:$G$510)","v":"A"},{"$f":"_xlfn.XLOOKUP(A33989,Agencies!$A$9:$A$146,Agencies!$B$9:$B$146)","v":"Environmental Protection"},{"$f":"IF(_xlfn.XLOOKUP(A33989,Agencies!A:A,Agencies!D:D)=\"Y\",IF(_xlfn.XLOOKUP(F33989,'Object Codes'!A:A,'Object Codes'!I:I)=\"Y\",\"Y\",\"N\"),\"N\")","v":"Y"},{"$f":"VLOOKUP(F33989,'Object Codes'!$A:$C,3,0)","v":"Shift Differential"},{"$f":"VLOOKUP(A33989,Agencies!A:C,3,0)","v":"Department of Sanitation"},735.63336986301363]
["827",2022,"001","102","6055","048",0,0,0,1878852,1878852,0,0,0,0,0,3317458.78,0,3317458.78,3317458.78,-1438606.78,3317458.78,-1438606.78,3317458.78,3317458.78,-1438606.78,{"$f":"_xlfn.XLOOKUP(F34037,'Object Codes'!$A$18:$A$510,'Object Codes'!$H$18:$H$510)","v":"PS - Additional Gross"},{"$f":"_xlfn.XLOOKUP(F34037,'Object Codes'!$A$18:$A$510,'Object Codes'!$G$18:$G$510)","v":"U"},{"$f":"_xlfn.XLOOKUP(A34037,Agencies!$A$9:$A$146,Agencies!$B$9:$B$146)","v":"Environmental Protection"},{"$f":"IF(_xlfn.XLOOKUP(A34037,Agencies!A:A,Agencies!D:D)=\"Y\",IF(_xlfn.XLOOKUP(F34037,'Object Codes'!A:A,'Object Codes'!I:I)=\"Y\",\"Y\",\"N\"),\"N\")","v":"Y"},{"$f":"VLOOKUP(F34037,'Object Codes'!$A:$C,3,0)","v":"Overtime-Uniformed Forces"},{"$f":"VLOOKUP(A34037,Agencies!A:C,3,0)","v":"Department of Sanitation"},9088.9281643835602]
["827",2022,"001","102","6065","049",0,0,0,0,0,0,0,0,0,0,40.72,0,40.72,40.72,-40.72,40.72,-40.72,40.72,40.72,-40.72,{"$f":"_xlfn.XLOOKUP(F34051,'Object Codes'!$A$18:$A$510,'Object Codes'!$H$18:$H$510)","v":"PS - Additional Gross"},{"$f":"_xlfn.XLOOKUP(F34051,'Object Codes'!$A$18:$A$510,'Object Codes'!$G$18:$G$510)","v":"A"},{"$f":"_xlfn.XLOOKUP(A34051,Agencies!$A$9:$A$146,Agencies!$B$9:$B$146)","v":"Environmental Protection"},{"$f":"IF(_xlfn.XLOOKUP(A34051,Agencies!A:A,Agencies!D:D)=\"Y\",IF(_xlfn.XLOOKUP(F34051,'Object Codes'!A:A,'Object Codes'!I:I)=\"Y\",\"Y\",\"N\"),\"N\")","v":"Y"},{"$f":"VLOOKUP(F34051,'Object Codes'!$A:$C,3,0)","v":"Backpay"},{"$f":"VLOOKUP(A34051,Agencies!A:C,3,0)","v":"Department of Sanitation"},0.11156164383561644]
["827",2022,"001","102","6139","043",0,0,0,6090,6090,0,0,0,0,0,413625.31,0,413625.31,413625.31,-407535.31,413625.31,-407535.31,413625.31,413625.31,-407535.31,{"$f":"_xlfn.XLOOKUP(F34132,'Object Codes'!$A$18:$A$510,'Object Codes'!$H$18:$H$510)","v":"PS - Additional Gross"},{"$f":"_xlfn.XLOOKUP(F34132,'Object Codes'!$A$18:$A$510,'Object Codes'!$G$18:$G$510)","v":"A"},{"$f":"_xlfn.XLOOKUP(A34132,Agencies!$A$9:$A$146,Agencies!$B$9:$B$146)","v":"Environmental Protection"},{"$f":"IF(_xlfn.XLOOKUP(A34132,Agencies!A:A,Agencies!D:D)=\"Y\",IF(_xlfn.XLOOKUP(F34132,'Object Codes'!A:A,'Object Codes'!I:I)=\"Y\",\"Y\",\"N\"),\"N\")","v":"Y"},{"$f":"VLOOKUP(F34132,'Object Codes'!$A:$C,3,0)","v":"Shift Differential"},{"$f":"VLOOKUP(A34132,Agencies!A:C,3,0)","v":"Department of Sanitation"},1133.2200273972603]
["827",2022,"001","102","8001","048",0,0,0,5802,5802,0,0,0,0,0,699187.51,0,699187.51,699187.51,-693385.51,699187.51,-693385.51,699187.51,699187.51,-693385.51,{"$f":"_xlfn.XLOOKUP(F34186,'Object Codes'!$A$18:$A$510,'Object Codes'!$H$18:$H$510)","v":"PS - Additional Gross"},{"$f":"_xlfn.XLOOKUP(F34186,'Object Codes'!$A$18:$A$510,'Object Codes'!$G$18:$G$510)","v":"U"},{"$f":"_xlfn.XLOOKUP(A34186,Agencies!$A$9:$A$146,Agencies!$B$9:$B$146)","v":"Environmental Protection"},{"$f":"IF(_xlfn.XLOOKUP(A34186,Agencies!A:A,Agencies!D:D)=\"Y\",IF(_xlfn.XLOOKUP(F34186,'Object Codes'!A:A,'Object Codes'!I:I)=\"Y\",\"Y\",\"N\"),\"N\")","v":"Y"},{"$f":"VLOOKUP(F34186,'Object Codes'!$A:$C,3,0)","v":"Overtime-Uniformed Forces"},{"$f":"VLOOKUP(A34186,Agencies!A:C,3,0)","v":"Department of Sanitation"},1915.5822191780821]
["827",2022,"001","102","8011","004",0,186,178,14591701,14591701,0,0,0,0,0,14274283.58,0,14274283.58,14274283.58,317417.42,14274283.58,317417.42,14274283.58,14274283.58,317417.42,{"$f":"_xlfn.XLOOKUP(F34194,'Object Codes'!$A$18:$A$510,'Object Codes'!$H$18:$H$510)","v":"PS - Regular"},{"$f":"_xlfn.XLOOKUP(F34194,'Object Codes'!$A$18:$A$510,'Object Codes'!$G$18:$G$510)","v":"U"},{"$f":"_xlfn.XLOOKUP(A34194,Agencies!$A$9:$A$146,Agencies!$B$9:$B$146)","v":"Environmental Protection"},{"$f":"IF(_xlfn.XLOOKUP(A34194,Agencies!A:A,Agencies!D:D)=\"Y\",IF(_xlfn.XLOOKUP(F34194,'Object Codes'!A:A,'Object Codes'!I:I)=\"Y\",\"Y\",\"N\"),\"N\")","v":"Y"},{"$f":"VLOOKUP(F34194,'Object Codes'!$A:$C,3,0)","v":"Full-Time Uniformed Personnel"},{"$f":"VLOOKUP(A34194,Agencies!A:C,3,0)","v":"Department of Sanitation"},39107.626246575346]
["827",2022,"001","103","1121","061",0,0,0,500,500,0,0,0,0,0,0,0,0,0,500,0,500,0,0,500,{"$f":"_xlfn.XLOOKUP(F34275,'Object Codes'!$A$18:$A$510,'Object Codes'!$H$18:$H$510)","v":"PS - Additional Gross"},{"$f":"_xlfn.XLOOKUP(F34275,'Object Codes'!$A$18:$A$510,'Object Codes'!$G$18:$G$510)","v":"A"},{"$f":"_xlfn.XLOOKUP(A34275,Agencies!$A$9:$A$146,Agencies!$B$9:$B$146)","v":"Environmental Protection"},{"$f":"IF(_xlfn.XLOOKUP(A34275,Agencies!A:A,Agencies!D:D)=\"Y\",IF(_xlfn.XLOOKUP(F34275,'Object Codes'!A:A,'Object Codes'!I:I)=\"Y\",\"Y\",\"N\"),\"N\")","v":"Y"},{"$f":"VLOOKUP(F34275,'Object Codes'!$A:$C,3,0)","v":"Supper Money"},{"$f":"VLOOKUP(A34275,Agencies!A:C,3,0)","v":"Department of Sanitation"},0]
["827",2022,"001","103","1131","049",0,0,0,0,0,0,0,0,0,0,2069.2199999999998,0,2069.2199999999998,2069.2199999999998,-2069.2199999999998,2069.2199999999998,-2069.2199999999998,2069.2199999999998,2069.2199999999998,-2069.2199999999998,{"$f":"_xlfn.XLOOKUP(F34289,'Object Codes'!$A$18:$A$510,'Object Codes'!$H$18:$H$510)","v":"PS - Additional Gross"},{"$f":"_xlfn.XLOOKUP(F34289,'Object Codes'!$A$18:$A$510,'Object Codes'!$G$18:$G$510)","v":"A"},{"$f":"_xlfn.XLOOKUP(A34289,Agencies!$A$9:$A$146,Agencies!$B$9:$B$146)","v":"Environmental Protection"},{"$f":"IF(_xlfn.XLOOKUP(A34289,Agencies!A:A,Agencies!D:D)=\"Y\",IF(_xlfn.XLOOKUP(F34289,'Object Codes'!A:A,'Object Codes'!I:I)=\"Y\",\"Y\",\"N\"),\"N\")","v":"Y"},{"$f":"VLOOKUP(F34289,'Object Codes'!$A:$C,3,0)","v":"Backpay"},{"$f":"VLOOKUP(A34289,Agencies!A:C,3,0)","v":"Department of Sanitation"},5.6690958904109587]
["827",2022,"001","103","1191","041",0,0,0,3000,3000,0,0,0,0,0,4220.79,0,4220.79,4220.79,-1220.79,4220.79,-1220.79,4220.79,4220.79,-1220.79,{"$f":"_xlfn.XLOOKUP(F34337,'Object Codes'!$A$18:$A$510,'Object Codes'!$H$18:$H$510)","v":"PS - Additional Gross"},{"$f":"_xlfn.XLOOKUP(F34337,'Object Codes'!$A$18:$A$510,'Object Codes'!$G$18:$G$510)","v":"A"},{"$f":"_xlfn.XLOOKUP(A34337,Agencies!$A$9:$A$146,Agencies!$B$9:$B$146)","v":"Environmental Protection"},{"$f":"IF(_xlfn.XLOOKUP(A34337,Agencies!A:A,Agencies!D:D)=\"Y\",IF(_xlfn.XLOOKUP(F34337,'Object Codes'!A:A,'Object Codes'!I:I)=\"Y\",\"Y\",\"N\"),\"N\")","v":"Y"},{"$f":"VLOOKUP(F34337,'Object Codes'!$A:$C,3,0)","v":"Assignment Differential"},{"$f":"VLOOKUP(A34337,Agencies!A:C,3,0)","v":"Department of Sanitation"},11.563808219178082]
["827",2022,"001","105","1541","031",0,0,0,0,0,0,0,0,0,0,131228.48000000001,0,131228.48000000001,131228.48000000001,-131228.48000000001,131228.48000000001,-131228.48000000001,131228.48000000001,131228.48000000001,-131228.48000000001,{"$f":"_xlfn.XLOOKUP(F34413,'Object Codes'!$A$18:$A$510,'Object Codes'!$H$18:$H$510)","v":"PS - Regular"},{"$f":"_xlfn.XLOOKUP(F34413,'Object Codes'!$A$18:$A$510,'Object Codes'!$G$18:$G$510)","v":"C"},{"$f":"_xlfn.XLOOKUP(A34413,Agencies!$A$9:$A$146,Agencies!$B$9:$B$146)","v":"Environmental Protection"},{"$f":"IF(_xlfn.XLOOKUP(A34413,Agencies!A:A,Agencies!D:D)=\"Y\",IF(_xlfn.XLOOKUP(F34413,'Object Codes'!A:A,'Object Codes'!I:I)=\"Y\",\"Y\",\"N\"),\"N\")","v":"Y"},{"$f":"VLOOKUP(F34413,'Object Codes'!$A:$C,3,0)","v":"Hourly Positions"},{"$f":"VLOOKUP(A34413,Agencies!A:C,3,0)","v":"Department of Sanitation"},359.53008219178088]
["827",2022,"001","106","1004","10X",0,0,0,64101,24101,0,0,0,0,0,6072.05,0,6072.05,6072.05,18028.95,6072.05,18028.95,6072.05,6072.05,18028.95,{"$f":"_xlfn.XLOOKUP(F34438,'Object Codes'!$A$18:$A$510,'Object Codes'!$H$18:$H$510)","v":"Supplies & Materials"},{"$f":"_xlfn.XLOOKUP(F34438,'Object Codes'!$A$18:$A$510,'Object Codes'!$G$18:$G$510)","v":"A"},{"$f":"_xlfn.XLOOKUP(A34438,Agencies!$A$9:$A$146,Agencies!$B$9:$B$146)","v":"Environmental Protection"},{"$f":"IF(_xlfn.XLOOKUP(A34438,Agencies!A:A,Agencies!D:D)=\"Y\",IF(_xlfn.XLOOKUP(F34438,'Object Codes'!A:A,'Object Codes'!I:I)=\"Y\",\"Y\",\"N\"),\"N\")","v":"Y"},{"$f":"VLOOKUP(F34438,'Object Codes'!$A:$C,3,0)","v":"SUPPLIES + MATERIALS - GENERAL"},{"$f":"VLOOKUP(A34438,Agencies!A:C,3,0)","v":"Department of Sanitation"},16.635753424657533]
["827",2022,"001","106","1014","199",0,0,0,5300,28300,0,0,0,0,0,8996.4599999999991,13682.55,22679.01,22679.01,5620.99,22679.01,5620.99,22679.01,22679.01,5620.99,{"$f":"_xlfn.XLOOKUP(F34480,'Object Codes'!$A$18:$A$510,'Object Codes'!$H$18:$H$510)","v":"Supplies & Materials"},{"$f":"_xlfn.XLOOKUP(F34480,'Object Codes'!$A$18:$A$510,'Object Codes'!$G$18:$G$510)","v":"A"},{"$f":"_xlfn.XLOOKUP(A34480,Agencies!$A$9:$A$146,Agencies!$B$9:$B$146)","v":"Environmental Protection"},{"$f":"IF(_xlfn.XLOOKUP(A34480,Agencies!A:A,Agencies!D:D)=\"Y\",IF(_xlfn.XLOOKUP(F34480,'Object Codes'!A:A,'Object Codes'!I:I)=\"Y\",\"Y\",\"N\"),\"N\")","v":"Y"},{"$f":"VLOOKUP(F34480,'Object Codes'!$A:$C,3,0)","v":"Data Processing Supplies"},{"$f":"VLOOKUP(A34480,Agencies!A:C,3,0)","v":"Department of Sanitation"},62.134273972602735]
["827",2022,"001","106","1294","612",0,0,0,4000,0,0,0,0,0,0,0,0,0,0,0,0,0,0,0,0,{"$f":"_xlfn.XLOOKUP(F34556,'Object Codes'!$A$18:$A$510,'Object Codes'!$H$18:$H$510)","v":"Contractual Services"},{"$f":"_xlfn.XLOOKUP(F34556,'Object Codes'!$A$18:$A$510,'Object Codes'!$G$18:$G$510)","v":0},{"$f":"_xlfn.XLOOKUP(A34556,Agencies!$A$9:$A$146,Agencies!$B$9:$B$146)","v":"Environmental Protection"},{"$f":"IF(_xlfn.XLOOKUP(A34556,Agencies!A:A,Agencies!D:D)=\"Y\",IF(_xlfn.XLOOKUP(F34556,'Object Codes'!A:A,'Object Codes'!I:I)=\"Y\",\"Y\",\"N\"),\"N\")","v":"Y"},{"$f":"VLOOKUP(F34556,'Object Codes'!$A:$C,3,0)","v":"Office Equipment Maintenance - Contractual"},{"$f":"VLOOKUP(A34556,Agencies!A:C,3,0)","v":"Department of Sanitation"},0]
["827",2022,"001","109","1055","412",0,0,0,42000,80,0,0,0,0,0,80,0,80,80,0,80,0,80,80,0,{"$f":"_xlfn.XLOOKUP(F34590,'Object Codes'!$A$18:$A$510,'Object Codes'!$H$18:$H$510)","v":"Other Services and Charges - General"},{"$f":"_xlfn.XLOOKUP(F34590,'Object Codes'!$A$18:$A$510,'Object Codes'!$G$18:$G$510)","v":0},{"$f":"_xlfn.XLOOKUP(A34590,Agencies!$A$9:$A$146,Agencies!$B$9:$B$146)","v":"Environmental Protection"},{"$f":"IF(_xlfn.XLOOKUP(A34590,Agencies!A:A,Agencies!D:D)=\"Y\",IF(_xlfn.XLOOKUP(F34590,'Object Codes'!A:A,'Object Codes'!I:I)=\"Y\",\"Y\",\"N\"),\"N\")","v":"Y"},{"$f":"VLOOKUP(F34590,'Object Codes'!$A:$C,3,0)","v":"Rentals - Miscellaneous Equipment"},{"$f":"VLOOKUP(A34590,Agencies!A:C,3,0)","v":"Department of Sanitation"},0.21917808219178081]
["827",2022,"001","109","2994","100",0,0,0,2500706,692432,0,0,18213.169999999998,0,0,556239.54,0,574452.71,556239.54,136192.46,556239.54,136192.46,556239.54,556239.54,136192.46,{"$f":"_xlfn.XLOOKUP(F34645,'Object Codes'!$A$18:$A$510,'Object Codes'!$H$18:$H$510)","v":"Supplies & Materials"},{"$f":"_xlfn.XLOOKUP(F34645,'Object Codes'!$A$18:$A$510,'Object Codes'!$G$18:$G$510)","v":"A"},{"$f":"_xlfn.XLOOKUP(A34645,Agencies!$A$9:$A$146,Agencies!$B$9:$B$146)","v":"Environmental Protection"},{"$f":"IF(_xlfn.XLOOKUP(A34645,Agencies!A:A,Agencies!D:D)=\"Y\",IF(_xlfn.XLOOKUP(F34645,'Object Codes'!A:A,'Object Codes'!I:I)=\"Y\",\"Y\",\"N\"),\"N\")","v":"Y"},{"$f":"VLOOKUP(F34645,'Object Codes'!$A:$C,3,0)","v":"Supplies and Materials - General"},{"$f":"VLOOKUP(A34645,Agencies!A:C,3,0)","v":"Department of Sanitation"},1573.8430410958904]
["827",2022,"001","110","1124","199",0,0,0,8000,0,0,0,0,0,0,0,0,0,0,0,0,0,0,0,0,{"$f":"_xlfn.XLOOKUP(F34699,'Object Codes'!$A$18:$A$510,'Object Codes'!$H$18:$H$510)","v":"Supplies & Materials"},{"$f":"_xlfn.XLOOKUP(F34699,'Object Codes'!$A$18:$A$510,'Object Codes'!$G$18:$G$510)","v":"A"},{"$f":"_xlfn.XLOOKUP(A34699,Agencies!$A$9:$A$146,Agencies!$B$9:$B$146)","v":"Environmental Protection"},{"$f":"IF(_xlfn.XLOOKUP(A34699,Agencies!A:A,Agencies!D:D)=\"Y\",IF(_xlfn.XLOOKUP(F34699,'Object Codes'!A:A,'Object Codes'!I:I)=\"Y\",\"Y\",\"N\"),\"N\")","v":"Y"},{"$f":"VLOOKUP(F34699,'Object Codes'!$A:$C,3,0)","v":"Data Processing Supplies"},{"$f":"VLOOKUP(A34699,Agencies!A:C,3,0)","v":"Department of Sanitation"},0]
["827",2022,"001","110","1175","600",0,0,0,4725794,1406288,0,0,0,0,0,1403866.48,2420.83,1406287.31,1406287.31,0.69,1406287.31,0.69,1406287.31,1406287.31,0.69,{"$f":"_xlfn.XLOOKUP(F34733,'Object Codes'!$A$18:$A$510,'Object Codes'!$H$18:$H$510)","v":"Contractual Services"},{"$f":"_xlfn.XLOOKUP(F34733,'Object Codes'!$A$18:$A$510,'Object Codes'!$G$18:$G$510)","v":0},{"$f":"_xlfn.XLOOKUP(A34733,Agencies!$A$9:$A$146,Agencies!$B$9:$B$146)","v":"Environmental Protection"},{"$f":"IF(_xlfn.XLOOKUP(A34733,Agencies!A:A,Agencies!D:D)=\"Y\",IF(_xlfn.XLOOKUP(F34733,'Object Codes'!A:A,'Object Codes'!I:I)=\"Y\",\"Y\",\"N\"),\"N\")","v":"Y"},{"$f":"VLOOKUP(F34733,'Object Codes'!$A:$C,3,0)","v":"Contractual Services - General"},{"$f":"VLOOKUP(A34733,Agencies!A:C,3,0)","v":"Department of Sanitation"},3852.8419452054795]
["827",2022,"001","112","1514","10E",0,0,0,0,146000,0,0,0,0,0,138685.85999999999,0,138685.85999999999,138685.85999999999,7314.14,138685.85999999999,7314.14,138685.85999999999,138685.85999999999,7314.14,{"$f":"_xlfn.XLOOKUP(F34794,'Object Codes'!$A$18:$A$510,'Object Codes'!$H$18:$H$510)","v":"Supplies & Materials"},{"$f":"_xlfn.XLOOKUP(F34794,'Object Codes'!$A$18:$A$510,'Object Codes'!$G$18:$G$510)","v":"A"},{"$f":"_xlfn.XLOOKUP(A34794,Agencies!$A$9:$A$146,Agencies!$B$9:$B$146)","v":"Environmental Protection"},{"$f":"IF(_xlfn.XLOOKUP(A34794,Agencies!A:A,Agencies!D:D)=\"Y\",IF(_xlfn.XLOOKUP(F34794,'Object Codes'!A:A,'Object Codes'!I:I)=\"Y\",\"Y\",\"N\"),\"N\")","v":"Y"},{"$f":"VLOOKUP(F34794,'Object Codes'!$A:$C,3,0)","v":"AUTOMOTIVE SUPPLIES & MATERIAL"},{"$f":"VLOOKUP(A34794,Agencies!A:C,3,0)","v":"Department of Sanitation"},379.96126027397258]
["827",2022,"001","113","1614","608",0,0,0,44000,60910,0,0,0,0,0,30044,16910,46954,46954,13956,46954,13956,46954,46954,13956,{"$f":"_xlfn.XLOOKUP(F34842,'Object Codes'!$A$18:$A$510,'Object Codes'!$H$18:$H$510)","v":"Contractual Services"},{"$f":"_xlfn.XLOOKUP(F34842,'Object Codes'!$A$18:$A$510,'Object Codes'!$G$18:$G$510)","v":0},{"$f":"_xlfn.XLOOKUP(A34842,Agencies!$A$9:$A$146,Agencies!$B$9:$B$146)","v":"Environmental Protection"},{"$f":"IF(_xlfn.XLOOKUP(A34842,Agencies!A:A,Agencies!D:D)=\"Y\",IF(_xlfn.XLOOKUP(F34842,'Object Codes'!A:A,'Object Codes'!I:I)=\"Y\",\"Y\",\"N\"),\"N\")","v":"Y"},{"$f":"VLOOKUP(F34842,'Object Codes'!$A:$C,3,0)","v":"Maintenance and Repairs - General - Contractual"},{"$f":"VLOOKUP(A34842,Agencies!A:C,3,0)","v":"Department of Sanitation"},128.64109589041095]
["829",2022,"001","001","1003","049",0,0,0,0,35861,0,0,0,0,0,35860.99,0,35860.99,35860.99,0.01,35860.99,0.01,35860.99,35860.99,0.01,{"$f":"_xlfn.XLOOKUP(F34876,'Object Codes'!$A$18:$A$510,'Object Codes'!$H$18:$H$510)","v":"PS - Additional Gross"},{"$f":"_xlfn.XLOOKUP(F34876,'Object Codes'!$A$18:$A$510,'Object Codes'!$G$18:$G$510)","v":"A"},{"$f":"_xlfn.XLOOKUP(A34876,Agencies!$A$9:$A$146,Agencies!$B$9:$B$146)","v":"General Government"},{"$f":"IF(_xlfn.XLOOKUP(A34876,Agencies!A:A,Agencies!D:D)=\"Y\",IF(_xlfn.XLOOKUP(F34876,'Object Codes'!A:A,'Object Codes'!I:I)=\"Y\",\"Y\",\"N\"),\"N\")","v":"Y"},{"$f":"VLOOKUP(F34876,'Object Codes'!$A:$C,3,0)","v":"Backpay"},{"$f":"VLOOKUP(A34876,Agencies!A:C,3,0)","v":"Business Integrity Commission"},98.249287671232878]
["829",2022,"001","002","2001","403",0,0,0,168742,159742,0,0,0,0,0,153256.42000000001,0,153256.42000000001,153256.42000000001,6485.58,153256.42000000001,6485.58,153256.42000000001,153256.42000000001,6485.58,{"$f":"_xlfn.XLOOKUP(F34897,'Object Codes'!$A$18:$A$510,'Object Codes'!$H$18:$H$510)","v":"Other Services and Charges - General"},{"$f":"_xlfn.XLOOKUP(F34897,'Object Codes'!$A$18:$A$510,'Object Codes'!$G$18:$G$510)","v":0},{"$f":"_xlfn.XLOOKUP(A34897,Agencies!$A$9:$A$146,Agencies!$B$9:$B$146)","v":"General Government"},{"$f":"IF(_xlfn.XLOOKUP(A34897,Agencies!A:A,Agencies!D:D)=\"Y\",IF(_xlfn.XLOOKUP(F34897,'Object Codes'!A:A,'Object Codes'!I:I)=\"Y\",\"Y\",\"N\"),\"N\")","v":"Y"},{"$f":"VLOOKUP(F34897,'Object Codes'!$A:$C,3,0)","v":"Office Services"},{"$f":"VLOOKUP(A34897,Agencies!A:C,3,0)","v":"Business Integrity Commission"},419.88060273972604]
["836",2022,"001","001","1102","001",0,8,4,691342,708568,0,0,0,0,0,620102.93999999994,0,620102.93999999994,620102.93999999994,88465.06,620102.93999999994,88465.06,620102.93999999994,620102.93999999994,88465.06,{"$f":"_xlfn.XLOOKUP(F34938,'Object Codes'!$A$18:$A$510,'Object Codes'!$H$18:$H$510)","v":"PS - Regular"},{"$f":"_xlfn.XLOOKUP(F34938,'Object Codes'!$A$18:$A$510,'Object Codes'!$G$18:$G$510)","v":"C"},{"$f":"_xlfn.XLOOKUP(A34938,Agencies!$A$9:$A$146,Agencies!$B$9:$B$146)","v":"General Government"},{"$f":"IF(_xlfn.XLOOKUP(A34938,Agencies!A:A,Agencies!D:D)=\"Y\",IF(_xlfn.XLOOKUP(F34938,'Object Codes'!A:A,'Object Codes'!I:I)=\"Y\",\"Y\",\"N\"),\"N\")","v":"Y"},{"$f":"VLOOKUP(F34938,'Object Codes'!$A:$C,3,0)","v":"Full Year Positions"},{"$f":"VLOOKUP(A34938,Agencies!A:C,3,0)","v":"Department of Finance"},1698.9121643835615]
["836",2022,"001","001","1401","061",0,0,0,209,209,0,0,0,0,0,1318,0,1318,1318,-1109,1318,-1109,1318,1318,-1109,{"$f":"_xlfn.XLOOKUP(F35014,'Object Codes'!$A$18:$A$510,'Object Codes'!$H$18:$H$510)","v":"PS - Additional Gross"},{"$f":"_xlfn.XLOOKUP(F35014,'Object Codes'!$A$18:$A$510,'Object Codes'!$G$18:$G$510)","v":"A"},{"$f":"_xlfn.XLOOKUP(A35014,Agencies!$A$9:$A$146,Agencies!$B$9:$B$146)","v":"General Government"},{"$f":"IF(_xlfn.XLOOKUP(A35014,Agencies!A:A,Agencies!D:D)=\"Y\",IF(_xlfn.XLOOKUP(F35014,'Object Codes'!A:A,'Object Codes'!I:I)=\"Y\",\"Y\",\"N\"),\"N\")","v":"Y"},{"$f":"VLOOKUP(F35014,'Object Codes'!$A:$C,3,0)","v":"Supper Money"},{"$f":"VLOOKUP(A35014,Agencies!A:C,3,0)","v":"Department of Finance"},3.6109589041095891]
["836",2022,"001","001","1407","046",0,0,0,25248,25248,0,0,0,0,0,0,0,0,0,25248,0,25248,0,0,25248,{"$f":"_xlfn.XLOOKUP(F35046,'Object Codes'!$A$18:$A$510,'Object Codes'!$H$18:$H$510)","v":"PS - Additional Gross"},{"$f":"_xlfn.XLOOKUP(F35046,'Object Codes'!$A$18:$A$510,'Object Codes'!$G$18:$G$510)","v":"A"},{"$f":"_xlfn.XLOOKUP(A35046,Agencies!$A$9:$A$146,Agencies!$B$9:$B$146)","v":"General Government"},{"$f":"IF(_xlfn.XLOOKUP(A35046,Agencies!A:A,Agencies!D:D)=\"Y\",IF(_xlfn.XLOOKUP(F35046,'Object Codes'!A:A,'Object Codes'!I:I)=\"Y\",\"Y\",\"N\"),\"N\")","v":"Y"},{"$f":"VLOOKUP(F35046,'Object Codes'!$A:$C,3,0)","v":"Terminal Leave"},{"$f":"VLOOKUP(A35046,Agencies!A:C,3,0)","v":"Department of Finance"},0]
["836",2022,"001","002","2101","001",0,110,80,5847050,4329942,0,0,0,0,0,3783098.02,0,3783098.02,3783098.02,546843.98,3783098.02,546843.98,3783098.02,3783098.02,546843.98,{"$f":"_xlfn.XLOOKUP(F35081,'Object Codes'!$A$18:$A$510,'Object Codes'!$H$18:$H$510)","v":"PS - Regular"},{"$f":"_xlfn.XLOOKUP(F35081,'Object Codes'!$A$18:$A$510,'Object Codes'!$G$18:$G$510)","v":"C"},{"$f":"_xlfn.XLOOKUP(A35081,Agencies!$A$9:$A$146,Agencies!$B$9:$B$146)","v":"General Government"},{"$f":"IF(_xlfn.XLOOKUP(A35081,Agencies!A:A,Agencies!D:D)=\"Y\",IF(_xlfn.XLOOKUP(F35081,'Object Codes'!A:A,'Object Codes'!I:I)=\"Y\",\"Y\",\"N\"),\"N\")","v":"Y"},{"$f":"VLOOKUP(F35081,'Object Codes'!$A:$C,3,0)","v":"Full Year Positions"},{"$f":"VLOOKUP(A35081,Agencies!A:C,3,0)","v":"Department of Finance"},{"$f":"S35081/365","v":10364.65210958904}]
["836",2022,"001","003","3001","041",0,0,0,0,0,0,0,0,0,0,4679.9799999999996,0,4679.9799999999996,4679.9799999999996,-4679.9799999999996,4679.9799999999996,-4679.9799999999996,4679.9799999999996,4679.9799999999996,-4679.9799999999996,{"$f":"_xlfn.XLOOKUP(F35157,'Object Codes'!$A$18:$A$510,'Object Codes'!$H$18:$H$510)","v":"PS - Additional Gross"},{"$f":"_xlfn.XLOOKUP(F35157,'Object Codes'!$A$18:$A$510,'Object Codes'!$G$18:$G$510)","v":"A"},{"$f":"_xlfn.XLOOKUP(A35157,Agencies!$A$9:$A$146,Agencies!$B$9:$B$146)","v":"General Government"},{"$f":"IF(_xlfn.XLOOKUP(A35157,Agencies!A:A,Agencies!D:D)=\"Y\",IF(_xlfn.XLOOKUP(F35157,'Object Codes'!A:A,'Object Codes'!I:I)=\"Y\",\"Y\",\"N\"),\"N\")","v":"Y"},{"$f":"VLOOKUP(F35157,'Object Codes'!$A:$C,3,0)","v":"Assignment Differential"},{"$f":"VLOOKUP(A35157,Agencies!A:C,3,0)","v":"Department of Finance"},12.821863013698628]
["836",2022,"001","003","3201","041",0,0,0,5,5,0,0,0,0,0,0,0,0,0,5,0,5,0,0,5,{"$f":"_xlfn.XLOOKUP(F35195,'Object Codes'!$A$18:$A$510,'Object Codes'!$H$18:$H$510)","v":"PS - Additional Gross"},{"$f":"_xlfn.XLOOKUP(F35195,'Object Codes'!$A$18:$A$510,'Object Codes'!$G$18:$G$510)","v":"A"},{"$f":"_xlfn.XLOOKUP(A35195,Agencies!$A$9:$A$146,Agencies!$B$9:$B$146)","v":"General Government"},{"$f":"IF(_xlfn.XLOOKUP(A35195,Agencies!A:A,Agencies!D:D)=\"Y\",IF(_xlfn.XLOOKUP(F35195,'Object Codes'!A:A,'Object Codes'!I:I)=\"Y\",\"Y\",\"N\"),\"N\")","v":"Y"},{"$f":"VLOOKUP(F35195,'Object Codes'!$A:$C,3,0)","v":"Assignment Differential"},{"$f":"VLOOKUP(A35195,Agencies!A:C,3,0)","v":"Department of Finance"},0]
["836",2022,"001","003","3402","045",0,0,0,96,96,0,0,0,0,0,0,0,0,0,96,0,96,0,0,96,{"$f":"_xlfn.XLOOKUP(F35224,'Object Codes'!$A$18:$A$510,'Object Codes'!$H$18:$H$510)","v":"PS - Additional Gross"},{"$f":"_xlfn.XLOOKUP(F35224,'Object Codes'!$A$18:$A$510,'Object Codes'!$G$18:$G$510)","v":"A"},{"$f":"_xlfn.XLOOKUP(A35224,Agencies!$A$9:$A$146,Agencies!$B$9:$B$146)","v":"General Government"},{"$f":"IF(_xlfn.XLOOKUP(A35224,Agencies!A:A,Agencies!D:D)=\"Y\",IF(_xlfn.XLOOKUP(F35224,'Object Codes'!A:A,'Object Codes'!I:I)=\"Y\",\"Y\",\"N\"),\"N\")","v":"Y"},{"$f":"VLOOKUP(F35224,'Object Codes'!$A:$C,3,0)","v":"Holiday Pay"},{"$f":"VLOOKUP(A35224,Agencies!A:C,3,0)","v":"Department of Finance"},0]
["836",2022,"001","005","5103","041",0,0,0,0,0,0,0,0,0,0,2583.94,0,2583.94,2583.94,-2583.94,2583.94,-2583.94,2583.94,2583.94,-2583.94,{"$f":"_xlfn.XLOOKUP(F35300,'Object Codes'!$A$18:$A$510,'Object Codes'!$H$18:$H$510)","v":"PS - Additional Gross"},{"$f":"_xlfn.XLOOKUP(F35300,'Object Codes'!$A$18:$A$510,'Object Codes'!$G$18:$G$510)","v":"A"},{"$f":"_xlfn.XLOOKUP(A35300,Agencies!$A$9:$A$146,Agencies!$B$9:$B$146)","v":"General Government"},{"$f":"IF(_xlfn.XLOOKUP(A35300,Agencies!A:A,Agencies!D:D)=\"Y\",IF(_xlfn.XLOOKUP(F35300,'Object Codes'!A:A,'Object Codes'!I:I)=\"Y\",\"Y\",\"N\"),\"N\")","v":"Y"},{"$f":"VLOOKUP(F35300,'Object Codes'!$A:$C,3,0)","v":"Assignment Differential"},{"$f":"VLOOKUP(A35300,Agencies!A:C,3,0)","v":"Department of Finance"},7.0792876712328772]
["836",2022,"001","009","9091","043",0,0,0,2501,2501,0,0,0,0,0,6793.19,0,6793.19,6793.19,-4292.1899999999996,6793.19,-4292.1899999999996,6793.19,6793.19,-4292.1899999999996,{"$f":"_xlfn.XLOOKUP(F35344,'Object Codes'!$A$18:$A$510,'Object Codes'!$H$18:$H$510)","v":"PS - Additional Gross"},{"$f":"_xlfn.XLOOKUP(F35344,'Object Codes'!$A$18:$A$510,'Object Codes'!$G$18:$G$510)","v":"A"},{"$f":"_xlfn.XLOOKUP(A35344,Agencies!$A$9:$A$146,Agencies!$B$9:$B$146)","v":"General Government"},{"$f":"IF(_xlfn.XLOOKUP(A35344,Agencies!A:A,Agencies!D:D)=\"Y\",IF(_xlfn.XLOOKUP(F35344,'Object Codes'!A:A,'Object Codes'!I:I)=\"Y\",\"Y\",\"N\"),\"N\")","v":"Y"},{"$f":"VLOOKUP(F35344,'Object Codes'!$A:$C,3,0)","v":"Shift Differential"},{"$f":"VLOOKUP(A35344,Agencies!A:C,3,0)","v":"Department of Finance"},18.611479452054795]
["836",2022,"001","009","9102","041",0,0,0,2130,2130,0,0,0,0,0,0,0,0,0,2130,0,2130,0,0,2130,{"$f":"_xlfn.XLOOKUP(F35362,'Object Codes'!$A$18:$A$510,'Object Codes'!$H$18:$H$510)","v":"PS - Additional Gross"},{"$f":"_xlfn.XLOOKUP(F35362,'Object Codes'!$A$18:$A$510,'Object Codes'!$G$18:$G$510)","v":"A"},{"$f":"_xlfn.XLOOKUP(A35362,Agencies!$A$9:$A$146,Agencies!$B$9:$B$146)","v":"General Government"},{"$f":"IF(_xlfn.XLOOKUP(A35362,Agencies!A:A,Agencies!D:D)=\"Y\",IF(_xlfn.XLOOKUP(F35362,'Object Codes'!A:A,'Object Codes'!I:I)=\"Y\",\"Y\",\"N\"),\"N\")","v":"Y"},{"$f":"VLOOKUP(F35362,'Object Codes'!$A:$C,3,0)","v":"Assignment Differential"},{"$f":"VLOOKUP(A35362,Agencies!A:C,3,0)","v":"Department of Finance"},0]
["836",2022,"001","011","0018","417",0,0,0,100000,84685,0,0,0,0,0,83640,0,83640,83640,1045,83640,1045,83640,83640,1045,{"$f":"_xlfn.XLOOKUP(F35443,'Object Codes'!$A$18:$A$510,'Object Codes'!$H$18:$H$510)","v":"Other Services and Charges - General"},{"$f":"_xlfn.XLOOKUP(F35443,'Object Codes'!$A$18:$A$510,'Object Codes'!$G$18:$G$510)","v":0},{"$f":"_xlfn.XLOOKUP(A35443,Agencies!$A$9:$A$146,Agencies!$B$9:$B$146)","v":"General Government"},{"$f":"IF(_xlfn.XLOOKUP(A35443,Agencies!A:A,Agencies!D:D)=\"Y\",IF(_xlfn.XLOOKUP(F35443,'Object Codes'!A:A,'Object Codes'!I:I)=\"Y\",\"Y\",\"N\"),\"N\")","v":"Y"},{"$f":"VLOOKUP(F35443,'Object Codes'!$A:$C,3,0)","v":"Advertising"},{"$f":"VLOOKUP(A35443,Agencies!A:C,3,0)","v":"Department of Finance"},229.15068493150685]
["836",2022,"001","011","0109","332",0,0,0,0,3632,0,0,0,0,0,2280.5300000000002,0,2280.5300000000002,2280.5300000000002,1351.47,2280.5300000000002,1351.47,2280.5300000000002,2280.5300000000002,1351.47,{"$f":"_xlfn.XLOOKUP(F35493,'Object Codes'!$A$18:$A$510,'Object Codes'!$H$18:$H$510)","v":"Equipment"},{"$f":"_xlfn.XLOOKUP(F35493,'Object Codes'!$A$18:$A$510,'Object Codes'!$G$18:$G$510)","v":"A"},{"$f":"_xlfn.XLOOKUP(A35493,Agencies!$A$9:$A$146,Agencies!$B$9:$B$146)","v":"General Government"},{"$f":"IF(_xlfn.XLOOKUP(A35493,Agencies!A:A,Agencies!D:D)=\"Y\",IF(_xlfn.XLOOKUP(F35493,'Object Codes'!A:A,'Object Codes'!I:I)=\"Y\",\"Y\",\"N\"),\"N\")","v":"Y"},{"$f":"VLOOKUP(F35493,'Object Codes'!$A:$C,3,0)","v":"Purchases of Data Processing Equipment"},{"$f":"VLOOKUP(A35493,Agencies!A:C,3,0)","v":"Department of Finance"},6.2480273972602749]
["836",2022,"001","011","0109","431",0,0,0,2143426,20990,0,0,0,0,0,0,0,0,0,20990,0,20990,0,0,20990,{"$f":"_xlfn.XLOOKUP(F35505,'Object Codes'!$A$18:$A$510,'Object Codes'!$H$18:$H$510)","v":"Other Services and Charges - General"},{"$f":"_xlfn.XLOOKUP(F35505,'Object Codes'!$A$18:$A$510,'Object Codes'!$G$18:$G$510)","v":0},{"$f":"_xlfn.XLOOKUP(A35505,Agencies!$A$9:$A$146,Agencies!$B$9:$B$146)","v":"General Government"},{"$f":"IF(_xlfn.XLOOKUP(A35505,Agencies!A:A,Agencies!D:D)=\"Y\",IF(_xlfn.XLOOKUP(F35505,'Object Codes'!A:A,'Object Codes'!I:I)=\"Y\",\"Y\",\"N\"),\"N\")","v":"Y"},{"$f":"VLOOKUP(F35505,'Object Codes'!$A:$C,3,0)","v":"Leasing of Miscellaneous Equipment"},{"$f":"VLOOKUP(A35505,Agencies!A:C,3,0)","v":"Department of Finance"},0]
["836",2022,"001","022","2501","40X",0,0,0,500000,883602,0,0,0,0,0,883601.31,0,883601.31,883601.31,0.69,883601.31,0.69,883601.31,883601.31,0.69,{"$f":"_xlfn.XLOOKUP(F35586,'Object Codes'!$A$18:$A$510,'Object Codes'!$H$18:$H$510)","v":"Other Services and Charges - General"},{"$f":"_xlfn.XLOOKUP(F35586,'Object Codes'!$A$18:$A$510,'Object Codes'!$G$18:$G$510)","v":0},{"$f":"_xlfn.XLOOKUP(A35586,Agencies!$A$9:$A$146,Agencies!$B$9:$B$146)","v":"General Government"},{"$f":"IF(_xlfn.XLOOKUP(A35586,Agencies!A:A,Agencies!D:D)=\"Y\",IF(_xlfn.XLOOKUP(F35586,'Object Codes'!A:A,'Object Codes'!I:I)=\"Y\",\"Y\",\"N\"),\"N\")","v":"Y"},{"$f":"VLOOKUP(F35586,'Object Codes'!$A:$C,3,0)","v":"CONTRACTUAL SERVICES-GENERAL"},{"$f":"VLOOKUP(A35586,Agencies!A:C,3,0)","v":"Department of Finance"},2420.8255068493154]
["836",2022,"001","022","2601","302",0,0,0,254,0,0,0,0,0,0,0,0,0,0,0,0,0,0,0,0,{"$f":"_xlfn.XLOOKUP(F35615,'Object Codes'!$A$18:$A$510,'Object Codes'!$H$18:$H$510)","v":"Equipment"},{"$f":"_xlfn.XLOOKUP(F35615,'Object Codes'!$A$18:$A$510,'Object Codes'!$G$18:$G$510)","v":"A"},{"$f":"_xlfn.XLOOKUP(A35615,Agencies!$A$9:$A$146,Agencies!$B$9:$B$146)","v":"General Government"},{"$f":"IF(_xlfn.XLOOKUP(A35615,Agencies!A:A,Agencies!D:D)=\"Y\",IF(_xlfn.XLOOKUP(F35615,'Object Codes'!A:A,'Object Codes'!I:I)=\"Y\",\"Y\",\"N\"),\"N\")","v":"Y"},{"$f":"VLOOKUP(F35615,'Object Codes'!$A:$C,3,0)","v":"Telecommunications Equipment"},{"$f":"VLOOKUP(A35615,Agencies!A:C,3,0)","v":"Department of Finance"},0]
["836",2022,"001","033","0303","338",0,0,0,800,0,0,0,0,0,0,0,0,0,0,0,0,0,0,0,0,{"$f":"_xlfn.XLOOKUP(F35654,'Object Codes'!$A$18:$A$510,'Object Codes'!$H$18:$H$510)","v":"Equipment"},{"$f":"_xlfn.XLOOKUP(F35654,'Object Codes'!$A$18:$A$510,'Object Codes'!$G$18:$G$510)","v":"A"},{"$f":"_xlfn.XLOOKUP(A35654,Agencies!$A$9:$A$146,Agencies!$B$9:$B$146)","v":"General Government"},{"$f":"IF(_xlfn.XLOOKUP(A35654,Agencies!A:A,Agencies!D:D)=\"Y\",IF(_xlfn.XLOOKUP(F35654,'Object Codes'!A:A,'Object Codes'!I:I)=\"Y\",\"Y\",\"N\"),\"N\")","v":"Y"},{"$f":"VLOOKUP(F35654,'Object Codes'!$A:$C,3,0)","v":"Library Books"},{"$f":"VLOOKUP(A35654,Agencies!A:C,3,0)","v":"Department of Finance"},0]
["836",2022,"001","077","5777","412",0,0,0,20000,16500,0,0,0,0,0,16354.8,0,16354.8,16354.8,145.19999999999999,16354.8,145.19999999999999,16354.8,16354.8,145.19999999999999,{"$f":"_xlfn.XLOOKUP(F35729,'Object Codes'!$A$18:$A$510,'Object Codes'!$H$18:$H$510)","v":"Other Services and Charges - General"},{"$f":"_xlfn.XLOOKUP(F35729,'Object Codes'!$A$18:$A$510,'Object Codes'!$G$18:$G$510)","v":0},{"$f":"_xlfn.XLOOKUP(A35729,Agencies!$A$9:$A$146,Agencies!$B$9:$B$146)","v":"General Government"},{"$f":"IF(_xlfn.XLOOKUP(A35729,Agencies!A:A,Agencies!D:D)=\"Y\",IF(_xlfn.XLOOKUP(F35729,'Object Codes'!A:A,'Object Codes'!I:I)=\"Y\",\"Y\",\"N\"),\"N\")","v":"Y"},{"$f":"VLOOKUP(F35729,'Object Codes'!$A:$C,3,0)","v":"Rentals - Miscellaneous Equipment"},{"$f":"VLOOKUP(A35729,Agencies!A:C,3,0)","v":"Department of Finance"},44.807671232876707]
["836",2022,"001","099","9101","100",0,0,0,72017,280783,0,0,0,0,0,142055.35,64943.03,206998.38,206998.38,73784.62,206998.38,73784.62,206998.38,206998.38,73784.62,{"$f":"_xlfn.XLOOKUP(F35758,'Object Codes'!$A$18:$A$510,'Object Codes'!$H$18:$H$510)","v":"Supplies & Materials"},{"$f":"_xlfn.XLOOKUP(F35758,'Object Codes'!$A$18:$A$510,'Object Codes'!$G$18:$G$510)","v":"A"},{"$f":"_xlfn.XLOOKUP(A35758,Agencies!$A$9:$A$146,Agencies!$B$9:$B$146)","v":"General Government"},{"$f":"IF(_xlfn.XLOOKUP(A35758,Agencies!A:A,Agencies!D:D)=\"Y\",IF(_xlfn.XLOOKUP(F35758,'Object Codes'!A:A,'Object Codes'!I:I)=\"Y\",\"Y\",\"N\"),\"N\")","v":"Y"},{"$f":"VLOOKUP(F35758,'Object Codes'!$A:$C,3,0)","v":"Supplies and Materials - General"},{"$f":"VLOOKUP(A35758,Agencies!A:C,3,0)","v":"Department of Finance"},567.11884931506847]
["836",2022,"001","099","9102","431",0,0,0,66988,0,0,0,0,0,0,0,0,0,0,0,0,0,0,0,0,{"$f":"_xlfn.XLOOKUP(F35803,'Object Codes'!$A$18:$A$510,'Object Codes'!$H$18:$H$510)","v":"Other Services and Charges - General"},{"$f":"_xlfn.XLOOKUP(F35803,'Object Codes'!$A$18:$A$510,'Object Codes'!$G$18:$G$510)","v":0},{"$f":"_xlfn.XLOOKUP(A35803,Agencies!$A$9:$A$146,Agencies!$B$9:$B$146)","v":"General Government"},{"$f":"IF(_xlfn.XLOOKUP(A35803,Agencies!A:A,Agencies!D:D)=\"Y\",IF(_xlfn.XLOOKUP(F35803,'Object Codes'!A:A,'Object Codes'!I:I)=\"Y\",\"Y\",\"N\"),\"N\")","v":"Y"},{"$f":"VLOOKUP(F35803,'Object Codes'!$A:$C,3,0)","v":"Leasing of Miscellaneous Equipment"},{"$f":"VLOOKUP(A35803,Agencies!A:C,3,0)","v":"Department of Finance"},0]
["841",2022,"001","001","1000","031",0,0,0,197572,197572,0,0,0,0,0,33249.370000000003,0,33249.370000000003,33249.370000000003,164322.63,33249.370000000003,164322.63,33249.370000000003,33249.370000000003,164322.63,{"$f":"_xlfn.XLOOKUP(F35825,'Object Codes'!$A$18:$A$510,'Object Codes'!$H$18:$H$510)","v":"PS - Regular"},{"$f":"_xlfn.XLOOKUP(F35825,'Object Codes'!$A$18:$A$510,'Object Codes'!$G$18:$G$510)","v":"C"},{"$f":"_xlfn.XLOOKUP(A35825,Agencies!$A$9:$A$146,Agencies!$B$9:$B$146)","v":"Transportation Services"},{"$f":"IF(_xlfn.XLOOKUP(A35825,Agencies!A:A,Agencies!D:D)=\"Y\",IF(_xlfn.XLOOKUP(F35825,'Object Codes'!A:A,'Object Codes'!I:I)=\"Y\",\"Y\",\"N\"),\"N\")","v":"Y"},{"$f":"VLOOKUP(F35825,'Object Codes'!$A:$C,3,0)","v":"Hourly Positions"},{"$f":"VLOOKUP(A35825,Agencies!A:C,3,0)","v":"Department of Transportation"},91.094164383561647]
["841",2022,"001","001","1010","042",0,0,0,5434,5434,0,0,0,0,0,12685.53,0,12685.53,12685.53,-7251.53,12685.53,-7251.53,12685.53,12685.53,-7251.53,{"$f":"_xlfn.XLOOKUP(F35901,'Object Codes'!$A$18:$A$510,'Object Codes'!$H$18:$H$510)","v":"PS - Additional Gross"},{"$f":"_xlfn.XLOOKUP(F35901,'Object Codes'!$A$18:$A$510,'Object Codes'!$G$18:$G$510)","v":"A"},{"$f":"_xlfn.XLOOKUP(A35901,Agencies!$A$9:$A$146,Agencies!$B$9:$B$146)","v":"Transportation Services"},{"$f":"IF(_xlfn.XLOOKUP(A35901,Agencies!A:A,Agencies!D:D)=\"Y\",IF(_xlfn.XLOOKUP(F35901,'Object Codes'!A:A,'Object Codes'!I:I)=\"Y\",\"Y\",\"N\"),\"N\")","v":"Y"},{"$f":"VLOOKUP(F35901,'Object Codes'!$A:$C,3,0)","v":"Longevity Differential"},{"$f":"VLOOKUP(A35901,Agencies!A:C,3,0)","v":"Department of Transportation"},34.754876712328766]
["841",2022,"001","001","1122","001",0,3,3,189965,189965,0,0,0,0,0,233418.64,0,233418.64,233418.64,-43453.64,233418.64,-43453.64,233418.64,233418.64,-43453.64,{"$f":"_xlfn.XLOOKUP(F35952,'Object Codes'!$A$18:$A$510,'Object Codes'!$H$18:$H$510)","v":"PS - Regular"},{"$f":"_xlfn.XLOOKUP(F35952,'Object Codes'!$A$18:$A$510,'Object Codes'!$G$18:$G$510)","v":"C"},{"$f":"_xlfn.XLOOKUP(A35952,Agencies!$A$9:$A$146,Agencies!$B$9:$B$146)","v":"Transportation Services"},{"$f":"IF(_xlfn.XLOOKUP(A35952,Agencies!A:A,Agencies!D:D)=\"Y\",IF(_xlfn.XLOOKUP(F35952,'Object Codes'!A:A,'Object Codes'!I:I)=\"Y\",\"Y\",\"N\"),\"N\")","v":"Y"},{"$f":"VLOOKUP(F35952,'Object Codes'!$A:$C,3,0)","v":"Full Year Positions"},{"$f":"VLOOKUP(A35952,Agencies!A:C,3,0)","v":"Department of Transportation"},639.50312328767131]
["841",2022,"001","001","1180","043",0,0,0,0,0,0,0,0,0,0,3626.29,0,3626.29,3626.29,-3626.29,3626.29,-3626.29,3626.29,3626.29,-3626.29,{"$f":"_xlfn.XLOOKUP(F36010,'Object Codes'!$A$18:$A$510,'Object Codes'!$H$18:$H$510)","v":"PS - Additional Gross"},{"$f":"_xlfn.XLOOKUP(F36010,'Object Codes'!$A$18:$A$510,'Object Codes'!$G$18:$G$510)","v":"A"},{"$f":"_xlfn.XLOOKUP(A36010,Agencies!$A$9:$A$146,Agencies!$B$9:$B$146)","v":"Transportation Services"},{"$f":"IF(_xlfn.XLOOKUP(A36010,Agencies!A:A,Agencies!D:D)=\"Y\",IF(_xlfn.XLOOKUP(F36010,'Object Codes'!A:A,'Object Codes'!I:I)=\"Y\",\"Y\",\"N\"),\"N\")","v":"Y"},{"$f":"VLOOKUP(F36010,'Object Codes'!$A:$C,3,0)","v":"Shift Differential"},{"$f":"VLOOKUP(A36010,Agencies!A:C,3,0)","v":"Department of Transportation"},9.9350410958904103]
["841",2022,"001","001","1201","X42",0,0,0,0,0,0,0,0,0,0,7360.52,0,7360.52,7360.52,-7360.52,7360.52,-7360.52,7360.52,7360.52,-7360.52,{"$f":"_xlfn.XLOOKUP(F36044,'Object Codes'!$A$18:$A$510,'Object Codes'!$H$18:$H$510)","v":"PS - Additional Gross"},{"$f":"_xlfn.XLOOKUP(F36044,'Object Codes'!$A$18:$A$510,'Object Codes'!$G$18:$G$510)","v":"A"},{"$f":"_xlfn.XLOOKUP(A36044,Agencies!$A$9:$A$146,Agencies!$B$9:$B$146)","v":"Transportation Services"},{"$f":"IF(_xlfn.XLOOKUP(A36044,Agencies!A:A,Agencies!D:D)=\"Y\",IF(_xlfn.XLOOKUP(F36044,'Object Codes'!A:A,'Object Codes'!I:I)=\"Y\",\"Y\",\"N\"),\"N\")","v":"Y"},{"$f":"VLOOKUP(F36044,'Object Codes'!$A:$C,3,0)","v":"PY LONGEVITY DIFFERENTIAL"},{"$f":"VLOOKUP(A36044,Agencies!A:C,3,0)","v":"Department of Transportation"},20.165808219178082]
["841",2022,"001","001","1214","043",0,0,0,0,0,0,0,0,0,0,7.07,0,7.07,7.07,-7.07,7.07,-7.07,7.07,7.07,-7.07,{"$f":"_xlfn.XLOOKUP(F36101,'Object Codes'!$A$18:$A$510,'Object Codes'!$H$18:$H$510)","v":"PS - Additional Gross"},{"$f":"_xlfn.XLOOKUP(F36101,'Object Codes'!$A$18:$A$510,'Object Codes'!$G$18:$G$510)","v":"A"},{"$f":"_xlfn.XLOOKUP(A36101,Agencies!$A$9:$A$146,Agencies!$B$9:$B$146)","v":"Transportation Services"},{"$f":"IF(_xlfn.XLOOKUP(A36101,Agencies!A:A,Agencies!D:D)=\"Y\",IF(_xlfn.XLOOKUP(F36101,'Object Codes'!A:A,'Object Codes'!I:I)=\"Y\",\"Y\",\"N\"),\"N\")","v":"Y"},{"$f":"VLOOKUP(F36101,'Object Codes'!$A:$C,3,0)","v":"Shift Differential"},{"$f":"VLOOKUP(A36101,Agencies!A:C,3,0)","v":"Department of Transportation"},1.936986301369863E-2]
["841",2022,"001","001","1215","001",0,0,0,0,0,0,0,0,0,0,87612.61,0,87612.61,87612.61,-87612.61,87612.61,-87612.61,87612.61,87612.61,-87612.61,{"$f":"_xlfn.XLOOKUP(F36106,'Object Codes'!$A$18:$A$510,'Object Codes'!$H$18:$H$510)","v":"PS - Regular"},{"$f":"_xlfn.XLOOKUP(F36106,'Object Codes'!$A$18:$A$510,'Object Codes'!$G$18:$G$510)","v":"C"},{"$f":"_xlfn.XLOOKUP(A36106,Agencies!$A$9:$A$146,Agencies!$B$9:$B$146)","v":"Transportation Services"},{"$f":"IF(_xlfn.XLOOKUP(A36106,Agencies!A:A,Agencies!D:D)=\"Y\",IF(_xlfn.XLOOKUP(F36106,'Object Codes'!A:A,'Object Codes'!I:I)=\"Y\",\"Y\",\"N\"),\"N\")","v":"Y"},{"$f":"VLOOKUP(F36106,'Object Codes'!$A:$C,3,0)","v":"Full Year Positions"},{"$f":"VLOOKUP(A36106,Agencies!A:C,3,0)","v":"Department of Transportation"},240.03454794520547]
["841",2022,"001","001","1232","042",0,0,0,0,0,0,0,0,0,0,15099.39,0,15099.39,15099.39,-15099.39,15099.39,-15099.39,15099.39,15099.39,-15099.39,{"$f":"_xlfn.XLOOKUP(F36187,'Object Codes'!$A$18:$A$510,'Object Codes'!$H$18:$H$510)","v":"PS - Additional Gross"},{"$f":"_xlfn.XLOOKUP(F36187,'Object Codes'!$A$18:$A$510,'Object Codes'!$G$18:$G$510)","v":"A"},{"$f":"_xlfn.XLOOKUP(A36187,Agencies!$A$9:$A$146,Agencies!$B$9:$B$146)","v":"Transportation Services"},{"$f":"IF(_xlfn.XLOOKUP(A36187,Agencies!A:A,Agencies!D:D)=\"Y\",IF(_xlfn.XLOOKUP(F36187,'Object Codes'!A:A,'Object Codes'!I:I)=\"Y\",\"Y\",\"N\"),\"N\")","v":"Y"},{"$f":"VLOOKUP(F36187,'Object Codes'!$A:$C,3,0)","v":"Longevity Differential"},{"$f":"VLOOKUP(A36187,Agencies!A:C,3,0)","v":"Department of Transportation"},41.368191780821917]
["841",2022,"001","001","1242","001",0,5,5,334865,334865,0,0,0,0,0,281445.90999999997,0,281445.90999999997,281445.90999999997,53419.09,281445.90999999997,53419.09,281445.90999999997,281445.90999999997,53419.09,{"$f":"_xlfn.XLOOKUP(F36216,'Object Codes'!$A$18:$A$510,'Object Codes'!$H$18:$H$510)","v":"PS - Regular"},{"$f":"_xlfn.XLOOKUP(F36216,'Object Codes'!$A$18:$A$510,'Object Codes'!$G$18:$G$510)","v":"C"},{"$f":"_xlfn.XLOOKUP(A36216,Agencies!$A$9:$A$146,Agencies!$B$9:$B$146)","v":"Transportation Services"},{"$f":"IF(_xlfn.XLOOKUP(A36216,Agencies!A:A,Agencies!D:D)=\"Y\",IF(_xlfn.XLOOKUP(F36216,'Object Codes'!A:A,'Object Codes'!I:I)=\"Y\",\"Y\",\"N\"),\"N\")","v":"Y"},{"$f":"VLOOKUP(F36216,'Object Codes'!$A:$C,3,0)","v":"Full Year Positions"},{"$f":"VLOOKUP(A36216,Agencies!A:C,3,0)","v":"Department of Transportation"},771.08468493150679]
["841",2022,"001","001","1270","001",0,79,79,7015475,7056236,0,0,0,0,0,6339984.9299999997,0,6339984.9299999997,6339984.9299999997,716251.07,6339984.9299999997,716251.07,6339984.9299999997,6339984.9299999997,716251.07,{"$f":"_xlfn.XLOOKUP(F36249,'Object Codes'!$A$18:$A$510,'Object Codes'!$H$18:$H$510)","v":"PS - Regular"},{"$f":"_xlfn.XLOOKUP(F36249,'Object Codes'!$A$18:$A$510,'Object Codes'!$G$18:$G$510)","v":"C"},{"$f":"_xlfn.XLOOKUP(A36249,Agencies!$A$9:$A$146,Agencies!$B$9:$B$146)","v":"Transportation Services"},{"$f":"IF(_xlfn.XLOOKUP(A36249,Agencies!A:A,Agencies!D:D)=\"Y\",IF(_xlfn.XLOOKUP(F36249,'Object Codes'!A:A,'Object Codes'!I:I)=\"Y\",\"Y\",\"N\"),\"N\")","v":"Y"},{"$f":"VLOOKUP(F36249,'Object Codes'!$A:$C,3,0)","v":"Full Year Positions"},{"$f":"VLOOKUP(A36249,Agencies!A:C,3,0)","v":"Department of Transportation"},17369.821726027396]
["841",2022,"001","001","1300","047",0,0,0,17706,17706,0,0,0,0,0,6149.95,0,6149.95,6149.95,11556.05,6149.95,11556.05,6149.95,6149.95,11556.05,{"$f":"_xlfn.XLOOKUP(F36330,'Object Codes'!$A$18:$A$510,'Object Codes'!$H$18:$H$510)","v":"PS - Additional Gross"},{"$f":"_xlfn.XLOOKUP(F36330,'Object Codes'!$A$18:$A$510,'Object Codes'!$G$18:$G$510)","v":"C"},{"$f":"_xlfn.XLOOKUP(A36330,Agencies!$A$9:$A$146,Agencies!$B$9:$B$146)","v":"Transportation Services"},{"$f":"IF(_xlfn.XLOOKUP(A36330,Agencies!A:A,Agencies!D:D)=\"Y\",IF(_xlfn.XLOOKUP(F36330,'Object Codes'!A:A,'Object Codes'!I:I)=\"Y\",\"Y\",\"N\"),\"N\")","v":"Y"},{"$f":"VLOOKUP(F36330,'Object Codes'!$A:$C,3,0)","v":"Overtime"},{"$f":"VLOOKUP(A36330,Agencies!A:C,3,0)","v":"Department of Transportation"},16.849178082191781]
["841",2022,"001","001","1401","X41",0,0,0,0,0,0,0,0,0,0,629.33000000000004,0,629.33000000000004,629.33000000000004,-629.33000000000004,629.33000000000004,-629.33000000000004,629.33000000000004,629.33000000000004,-629.33000000000004,{"$f":"_xlfn.XLOOKUP(F36365,'Object Codes'!$A$18:$A$510,'Object Codes'!$H$18:$H$510)","v":"PS - Additional Gross"},{"$f":"_xlfn.XLOOKUP(F36365,'Object Codes'!$A$18:$A$510,'Object Codes'!$G$18:$G$510)","v":"A"},{"$f":"_xlfn.XLOOKUP(A36365,Agencies!$A$9:$A$146,Agencies!$B$9:$B$146)","v":"Transportation Services"},{"$f":"IF(_xlfn.XLOOKUP(A36365,Agencies!A:A,Agencies!D:D)=\"Y\",IF(_xlfn.XLOOKUP(F36365,'Object Codes'!A:A,'Object Codes'!I:I)=\"Y\",\"Y\",\"N\"),\"N\")","v":"Y"},{"$f":"VLOOKUP(F36365,'Object Codes'!$A:$C,3,0)","v":"PY ASSIGNMENT DIFFERENTIAL"},{"$f":"VLOOKUP(A36365,Agencies!A:C,3,0)","v":"Department of Transportation"},1.7241917808219178]
["841",2022,"001","001","1409","045",0,0,0,0,0,0,0,0,0,0,3034.5,0,3034.5,3034.5,-3034.5,3034.5,-3034.5,3034.5,3034.5,-3034.5,{"$f":"_xlfn.XLOOKUP(F36392,'Object Codes'!$A$18:$A$510,'Object Codes'!$H$18:$H$510)","v":"PS - Additional Gross"},{"$f":"_xlfn.XLOOKUP(F36392,'Object Codes'!$A$18:$A$510,'Object Codes'!$G$18:$G$510)","v":"A"},{"$f":"_xlfn.XLOOKUP(A36392,Agencies!$A$9:$A$146,Agencies!$B$9:$B$146)","v":"Transportation Services"},{"$f":"IF(_xlfn.XLOOKUP(A36392,Agencies!A:A,Agencies!D:D)=\"Y\",IF(_xlfn.XLOOKUP(F36392,'Object Codes'!A:A,'Object Codes'!I:I)=\"Y\",\"Y\",\"N\"),\"N\")","v":"Y"},{"$f":"VLOOKUP(F36392,'Object Codes'!$A:$C,3,0)","v":"Holiday Pay"},{"$f":"VLOOKUP(A36392,Agencies!A:C,3,0)","v":"Department of Transportation"},8.3136986301369866]
["841",2022,"001","001","1603","X41",0,0,0,0,0,0,0,0,0,0,629.33000000000004,0,629.33000000000004,629.33000000000004,-629.33000000000004,629.33000000000004,-629.33000000000004,629.33000000000004,629.33000000000004,-629.33000000000004,{"$f":"_xlfn.XLOOKUP(F36473,'Object Codes'!$A$18:$A$510,'Object Codes'!$H$18:$H$510)","v":"PS - Additional Gross"},{"$f":"_xlfn.XLOOKUP(F36473,'Object Codes'!$A$18:$A$510,'Object Codes'!$G$18:$G$510)","v":"A"},{"$f":"_xlfn.XLOOKUP(A36473,Agencies!$A$9:$A$146,Agencies!$B$9:$B$146)","v":"Transportation Services"},{"$f":"IF(_xlfn.XLOOKUP(A36473,Agencies!A:A,Agencies!D:D)=\"Y\",IF(_xlfn.XLOOKUP(F36473,'Object Codes'!A:A,'Object Codes'!I:I)=\"Y\",\"Y\",\"N\"),\"N\")","v":"Y"},{"$f":"VLOOKUP(F36473,'Object Codes'!$A:$C,3,0)","v":"PY ASSIGNMENT DIFFERENTIAL"},{"$f":"VLOOKUP(A36473,Agencies!A:C,3,0)","v":"Department of Transportation"},1.7241917808219178]
["841",2022,"001","001","P001","001",0,-4,-47,-79000,5363183,0,0,0,0,0,0,0,0,0,5363183,0,5363183,0,0,5363183,{"$f":"_xlfn.XLOOKUP(F36502,'Object Codes'!$A$18:$A$510,'Object Codes'!$H$18:$H$510)","v":"PS - Regular"},{"$f":"_xlfn.XLOOKUP(F36502,'Object Codes'!$A$18:$A$510,'Object Codes'!$G$18:$G$510)","v":"C"},{"$f":"_xlfn.XLOOKUP(A36502,Agencies!$A$9:$A$146,Agencies!$B$9:$B$146)","v":"Transportation Services"},{"$f":"IF(_xlfn.XLOOKUP(A36502,Agencies!A:A,Agencies!D:D)=\"Y\",IF(_xlfn.XLOOKUP(F36502,'Object Codes'!A:A,'Object Codes'!I:I)=\"Y\",\"Y\",\"N\"),\"N\")","v":"Y"},{"$f":"VLOOKUP(F36502,'Object Codes'!$A:$C,3,0)","v":"Full Year Positions"},{"$f":"VLOOKUP(A36502,Agencies!A:C,3,0)","v":"Department of Transportation"},0]
["841",2022,"001","002","2009","047",0,0,0,0,0,0,0,0,0,0,1726.54,0,1726.54,1726.54,-1726.54,1726.54,-1726.54,1726.54,1726.54,-1726.54,{"$f":"_xlfn.XLOOKUP(F36560,'Object Codes'!$A$18:$A$510,'Object Codes'!$H$18:$H$510)","v":"PS - Additional Gross"},{"$f":"_xlfn.XLOOKUP(F36560,'Object Codes'!$A$18:$A$510,'Object Codes'!$G$18:$G$510)","v":"C"},{"$f":"_xlfn.XLOOKUP(A36560,Agencies!$A$9:$A$146,Agencies!$B$9:$B$146)","v":"Transportation Services"},{"$f":"IF(_xlfn.XLOOKUP(A36560,Agencies!A:A,Agencies!D:D)=\"Y\",IF(_xlfn.XLOOKUP(F36560,'Object Codes'!A:A,'Object Codes'!I:I)=\"Y\",\"Y\",\"N\"),\"N\")","v":"Y"},{"$f":"VLOOKUP(F36560,'Object Codes'!$A:$C,3,0)","v":"Overtime"},{"$f":"VLOOKUP(A36560,Agencies!A:C,3,0)","v":"Department of Transportation"},4.7302465753424654]
["841",2022,"001","002","2107","001",0,3,3,173085,173085,0,0,0,0,0,181743.67,0,181743.67,181743.67,-8658.67,181743.67,-8658.67,181743.67,181743.67,-8658.67,{"$f":"_xlfn.XLOOKUP(F36611,'Object Codes'!$A$18:$A$510,'Object Codes'!$H$18:$H$510)","v":"PS - Regular"},{"$f":"_xlfn.XLOOKUP(F36611,'Object Codes'!$A$18:$A$510,'Object Codes'!$G$18:$G$510)","v":"C"},{"$f":"_xlfn.XLOOKUP(A36611,Agencies!$A$9:$A$146,Agencies!$B$9:$B$146)","v":"Transportation Services"},{"$f":"IF(_xlfn.XLOOKUP(A36611,Agencies!A:A,Agencies!D:D)=\"Y\",IF(_xlfn.XLOOKUP(F36611,'Object Codes'!A:A,'Object Codes'!I:I)=\"Y\",\"Y\",\"N\"),\"N\")","v":"Y"},{"$f":"VLOOKUP(F36611,'Object Codes'!$A:$C,3,0)","v":"Full Year Positions"},{"$f":"VLOOKUP(A36611,Agencies!A:C,3,0)","v":"Department of Transportation"},497.92786301369864]
["841",2022,"001","002","2111","001",0,26,26,2463290,2478583,0,0,0,0,0,1555270.31,0,1555270.31,1555270.31,923312.69,1555270.31,923312.69,1555270.31,1555270.31,923312.69,{"$f":"_xlfn.XLOOKUP(F36645,'Object Codes'!$A$18:$A$510,'Object Codes'!$H$18:$H$510)","v":"PS - Regular"},{"$f":"_xlfn.XLOOKUP(F36645,'Object Codes'!$A$18:$A$510,'Object Codes'!$G$18:$G$510)","v":"C"},{"$f":"_xlfn.XLOOKUP(A36645,Agencies!$A$9:$A$146,Agencies!$B$9:$B$146)","v":"Transportation Services"},{"$f":"IF(_xlfn.XLOOKUP(A36645,Agencies!A:A,Agencies!D:D)=\"Y\",IF(_xlfn.XLOOKUP(F36645,'Object Codes'!A:A,'Object Codes'!I:I)=\"Y\",\"Y\",\"N\"),\"N\")","v":"Y"},{"$f":"VLOOKUP(F36645,'Object Codes'!$A:$C,3,0)","v":"Full Year Positions"},{"$f":"VLOOKUP(A36645,Agencies!A:C,3,0)","v":"Department of Transportation"},4261.0145479452058]
["841",2022,"001","002","2118","047",0,0,0,1870183,1870183,0,0,0,0,0,3194911.6,0,3194911.6,3194911.6,-1324728.6000000001,3194911.6,-1324728.6000000001,3194911.6,3194911.6,-1324728.6000000001,{"$f":"_xlfn.XLOOKUP(F36709,'Object Codes'!$A$18:$A$510,'Object Codes'!$H$18:$H$510)","v":"PS - Additional Gross"},{"$f":"_xlfn.XLOOKUP(F36709,'Object Codes'!$A$18:$A$510,'Object Codes'!$G$18:$G$510)","v":"C"},{"$f":"_xlfn.XLOOKUP(A36709,Agencies!$A$9:$A$146,Agencies!$B$9:$B$146)","v":"Transportation Services"},{"$f":"IF(_xlfn.XLOOKUP(A36709,Agencies!A:A,Agencies!D:D)=\"Y\",IF(_xlfn.XLOOKUP(F36709,'Object Codes'!A:A,'Object Codes'!I:I)=\"Y\",\"Y\",\"N\"),\"N\")","v":"Y"},{"$f":"VLOOKUP(F36709,'Object Codes'!$A:$C,3,0)","v":"Overtime"},{"$f":"VLOOKUP(A36709,Agencies!A:C,3,0)","v":"Department of Transportation"},8753.1824657534253]
["841",2022,"001","002","2121","043",0,0,0,10969,10969,0,0,0,0,0,312728.3,0,312728.3,312728.3,-301759.3,312728.3,-301759.3,312728.3,312728.3,-301759.3,{"$f":"_xlfn.XLOOKUP(F36754,'Object Codes'!$A$18:$A$510,'Object Codes'!$H$18:$H$510)","v":"PS - Additional Gross"},{"$f":"_xlfn.XLOOKUP(F36754,'Object Codes'!$A$18:$A$510,'Object Codes'!$G$18:$G$510)","v":"A"},{"$f":"_xlfn.XLOOKUP(A36754,Agencies!$A$9:$A$146,Agencies!$B$9:$B$146)","v":"Transportation Services"},{"$f":"IF(_xlfn.XLOOKUP(A36754,Agencies!A:A,Agencies!D:D)=\"Y\",IF(_xlfn.XLOOKUP(F36754,'Object Codes'!A:A,'Object Codes'!I:I)=\"Y\",\"Y\",\"N\"),\"N\")","v":"Y"},{"$f":"VLOOKUP(F36754,'Object Codes'!$A:$C,3,0)","v":"Shift Differential"},{"$f":"VLOOKUP(A36754,Agencies!A:C,3,0)","v":"Department of Transportation"},856.78986301369855]
["841",2022,"001","002","2130","055",0,0,0,0,0,0,0,0,0,0,339.28,0,339.28,339.28,-339.28,339.28,-339.28,339.28,339.28,-339.28,{"$f":"_xlfn.XLOOKUP(F36788,'Object Codes'!$A$18:$A$510,'Object Codes'!$H$18:$H$510)","v":"PS - Additional Gross"},{"$f":"_xlfn.XLOOKUP(F36788,'Object Codes'!$A$18:$A$510,'Object Codes'!$G$18:$G$510)","v":"A"},{"$f":"_xlfn.XLOOKUP(A36788,Agencies!$A$9:$A$146,Agencies!$B$9:$B$146)","v":"Transportation Services"},{"$f":"IF(_xlfn.XLOOKUP(A36788,Agencies!A:A,Agencies!D:D)=\"Y\",IF(_xlfn.XLOOKUP(F36788,'Object Codes'!A:A,'Object Codes'!I:I)=\"Y\",\"Y\",\"N\"),\"N\")","v":"Y"},{"$f":"VLOOKUP(F36788,'Object Codes'!$A:$C,3,0)","v":"Salary Adjustments-Labor Reserve"},{"$f":"VLOOKUP(A36788,Agencies!A:C,3,0)","v":"Department of Transportation"},0.92953424657534234]
["841",2022,"001","002","2140","041",0,0,0,72842,72842,0,0,0,0,0,138250.9,0,138250.9,138250.9,-65408.9,138250.9,-65408.9,138250.9,138250.9,-65408.9,{"$f":"_xlfn.XLOOKUP(F36812,'Object Codes'!$A$18:$A$510,'Object Codes'!$H$18:$H$510)","v":"PS - Additional Gross"},{"$f":"_xlfn.XLOOKUP(F36812,'Object Codes'!$A$18:$A$510,'Object Codes'!$G$18:$G$510)","v":"A"},{"$f":"_xlfn.XLOOKUP(A36812,Agencies!$A$9:$A$146,Agencies!$B$9:$B$146)","v":"Transportation Services"},{"$f":"IF(_xlfn.XLOOKUP(A36812,Agencies!A:A,Agencies!D:D)=\"Y\",IF(_xlfn.XLOOKUP(F36812,'Object Codes'!A:A,'Object Codes'!I:I)=\"Y\",\"Y\",\"N\"),\"N\")","v":"Y"},{"$f":"VLOOKUP(F36812,'Object Codes'!$A:$C,3,0)","v":"Assignment Differential"},{"$f":"VLOOKUP(A36812,Agencies!A:C,3,0)","v":"Department of Transportation"},378.76958904109586]
["841",2022,"001","002","2160","001",0,66,66,6289637,6283898,0,0,0,0,0,5453802.9800000004,0,5453802.9800000004,5453802.9800000004,830095.02,5453802.9800000004,830095.02,5453802.9800000004,5453802.9800000004,830095.02,{"$f":"_xlfn.XLOOKUP(F36897,'Object Codes'!$A$18:$A$510,'Object Codes'!$H$18:$H$510)","v":"PS - Regular"},{"$f":"_xlfn.XLOOKUP(F36897,'Object Codes'!$A$18:$A$510,'Object Codes'!$G$18:$G$510)","v":"C"},{"$f":"_xlfn.XLOOKUP(A36897,Agencies!$A$9:$A$146,Agencies!$B$9:$B$146)","v":"Transportation Services"},{"$f":"IF(_xlfn.XLOOKUP(A36897,Agencies!A:A,Agencies!D:D)=\"Y\",IF(_xlfn.XLOOKUP(F36897,'Object Codes'!A:A,'Object Codes'!I:I)=\"Y\",\"Y\",\"N\"),\"N\")","v":"Y"},{"$f":"VLOOKUP(F36897,'Object Codes'!$A:$C,3,0)","v":"Full Year Positions"},{"$f":"VLOOKUP(A36897,Agencies!A:C,3,0)","v":"Department of Transportation"},14941.925972602741]
["841",2022,"001","002","2162","X43",0,0,0,0,0,0,0,0,0,0,28.85,0,28.85,28.85,-28.85,28.85,-28.85,28.85,28.85,-28.85,{"$f":"_xlfn.XLOOKUP(F36931,'Object Codes'!$A$18:$A$510,'Object Codes'!$H$18:$H$510)","v":"PS - Additional Gross"},{"$f":"_xlfn.XLOOKUP(F36931,'Object Codes'!$A$18:$A$510,'Object Codes'!$G$18:$G$510)","v":"A"},{"$f":"_xlfn.XLOOKUP(A36931,Agencies!$A$9:$A$146,Agencies!$B$9:$B$146)","v":"Transportation Services"},{"$f":"IF(_xlfn.XLOOKUP(A36931,Agencies!A:A,Agencies!D:D)=\"Y\",IF(_xlfn.XLOOKUP(F36931,'Object Codes'!A:A,'Object Codes'!I:I)=\"Y\",\"Y\",\"N\"),\"N\")","v":"Y"},{"$f":"VLOOKUP(F36931,'Object Codes'!$A:$C,3,0)","v":"PY SHIFT DIFFERENTIAL"},{"$f":"VLOOKUP(A36931,Agencies!A:C,3,0)","v":"Department of Transportation"},7.9041095890410959E-2]
["841",2022,"001","002","2169","064",0,0,0,0,0,0,0,0,0,0,1111,0,1111,1111,-1111,1111,-1111,1111,1111,-1111,{"$f":"_xlfn.XLOOKUP(F36973,'Object Codes'!$A$18:$A$510,'Object Codes'!$H$18:$H$510)","v":"PS - Other"},{"$f":"_xlfn.XLOOKUP(F36973,'Object Codes'!$A$18:$A$510,'Object Codes'!$G$18:$G$510)","v":"A"},{"$f":"_xlfn.XLOOKUP(A36973,Agencies!$A$9:$A$146,Agencies!$B$9:$B$146)","v":"Transportation Services"},{"$f":"IF(_xlfn.XLOOKUP(A36973,Agencies!A:A,Agencies!D:D)=\"Y\",IF(_xlfn.XLOOKUP(F36973,'Object Codes'!A:A,'Object Codes'!I:I)=\"Y\",\"Y\",\"N\"),\"N\")","v":"Y"},{"$f":"VLOOKUP(F36973,'Object Codes'!$A:$C,3,0)","v":"Allowance for Uniforms"},{"$f":"VLOOKUP(A36973,Agencies!A:C,3,0)","v":"Department of Transportation"},3.043835616438356]
["841",2022,"001","002","2207","001",0,14,14,914837,914837,0,0,0,0,0,760233.31,0,760233.31,760233.31,154603.69,760233.31,154603.69,760233.31,760233.31,154603.69,{"$f":"_xlfn.XLOOKUP(F36993,'Object Codes'!$A$18:$A$510,'Object Codes'!$H$18:$H$510)","v":"PS - Regular"},{"$f":"_xlfn.XLOOKUP(F36993,'Object Codes'!$A$18:$A$510,'Object Codes'!$G$18:$G$510)","v":"C"},{"$f":"_xlfn.XLOOKUP(A36993,Agencies!$A$9:$A$146,Agencies!$B$9:$B$146)","v":"Transportation Services"},{"$f":"IF(_xlfn.XLOOKUP(A36993,Agencies!A:A,Agencies!D:D)=\"Y\",IF(_xlfn.XLOOKUP(F36993,'Object Codes'!A:A,'Object Codes'!I:I)=\"Y\",\"Y\",\"N\"),\"N\")","v":"Y"},{"$f":"VLOOKUP(F36993,'Object Codes'!$A:$C,3,0)","v":"Full Year Positions"},{"$f":"VLOOKUP(A36993,Agencies!A:C,3,0)","v":"Department of Transportation"},2082.8309863013701]
["841",2022,"001","002","2506","043",0,0,0,0,0,0,0,0,0,0,131.24,0,131.24,131.24,-131.24,131.24,-131.24,131.24,131.24,-131.24,{"$f":"_xlfn.XLOOKUP(F37074,'Object Codes'!$A$18:$A$510,'Object Codes'!$H$18:$H$510)","v":"PS - Additional Gross"},{"$f":"_xlfn.XLOOKUP(F37074,'Object Codes'!$A$18:$A$510,'Object Codes'!$G$18:$G$510)","v":"A"},{"$f":"_xlfn.XLOOKUP(A37074,Agencies!$A$9:$A$146,Agencies!$B$9:$B$146)","v":"Transportation Services"},{"$f":"IF(_xlfn.XLOOKUP(A37074,Agencies!A:A,Agencies!D:D)=\"Y\",IF(_xlfn.XLOOKUP(F37074,'Object Codes'!A:A,'Object Codes'!I:I)=\"Y\",\"Y\",\"N\"),\"N\")","v":"Y"},{"$f":"VLOOKUP(F37074,'Object Codes'!$A:$C,3,0)","v":"Shift Differential"},{"$f":"VLOOKUP(A37074,Agencies!A:C,3,0)","v":"Department of Transportation"},0.35956164383561645]
["841",2022,"001","002","2602","064",0,0,0,0,0,0,0,0,0,0,12500,0,12500,12500,-12500,12500,-12500,12500,12500,-12500,{"$f":"_xlfn.XLOOKUP(F37122,'Object Codes'!$A$18:$A$510,'Object Codes'!$H$18:$H$510)","v":"PS - Other"},{"$f":"_xlfn.XLOOKUP(F37122,'Object Codes'!$A$18:$A$510,'Object Codes'!$G$18:$G$510)","v":"A"},{"$f":"_xlfn.XLOOKUP(A37122,Agencies!$A$9:$A$146,Agencies!$B$9:$B$146)","v":"Transportation Services"},{"$f":"IF(_xlfn.XLOOKUP(A37122,Agencies!A:A,Agencies!D:D)=\"Y\",IF(_xlfn.XLOOKUP(F37122,'Object Codes'!A:A,'Object Codes'!I:I)=\"Y\",\"Y\",\"N\"),\"N\")","v":"Y"},{"$f":"VLOOKUP(F37122,'Object Codes'!$A:$C,3,0)","v":"Allowance for Uniforms"},{"$f":"VLOOKUP(A37122,Agencies!A:C,3,0)","v":"Department of Transportation"},34.246575342465754]
["841",2022,"001","002","2603","X42",0,0,0,0,0,0,0,0,0,0,5601.98,0,5601.98,5601.98,-5601.98,5601.98,-5601.98,5601.98,5601.98,-5601.98,{"$f":"_xlfn.XLOOKUP(F37136,'Object Codes'!$A$18:$A$510,'Object Codes'!$H$18:$H$510)","v":"PS - Additional Gross"},{"$f":"_xlfn.XLOOKUP(F37136,'Object Codes'!$A$18:$A$510,'Object Codes'!$G$18:$G$510)","v":"A"},{"$f":"_xlfn.XLOOKUP(A37136,Agencies!$A$9:$A$146,Agencies!$B$9:$B$146)","v":"Transportation Services"},{"$f":"IF(_xlfn.XLOOKUP(A37136,Agencies!A:A,Agencies!D:D)=\"Y\",IF(_xlfn.XLOOKUP(F37136,'Object Codes'!A:A,'Object Codes'!I:I)=\"Y\",\"Y\",\"N\"),\"N\")","v":"Y"},{"$f":"VLOOKUP(F37136,'Object Codes'!$A:$C,3,0)","v":"PY LONGEVITY DIFFERENTIAL"},{"$f":"VLOOKUP(A37136,Agencies!A:C,3,0)","v":"Department of Transportation"},15.347890410958902]
["841",2022,"001","002","Z270","041",0,0,0,0,0,0,0,0,0,0,6772.94,0,6772.94,6772.94,-6772.94,6772.94,-6772.94,6772.94,6772.94,-6772.94,{"$f":"_xlfn.XLOOKUP(F37212,'Object Codes'!$A$18:$A$510,'Object Codes'!$H$18:$H$510)","v":"PS - Additional Gross"},{"$f":"_xlfn.XLOOKUP(F37212,'Object Codes'!$A$18:$A$510,'Object Codes'!$G$18:$G$510)","v":"A"},{"$f":"_xlfn.XLOOKUP(A37212,Agencies!$A$9:$A$146,Agencies!$B$9:$B$146)","v":"Transportation Services"},{"$f":"IF(_xlfn.XLOOKUP(A37212,Agencies!A:A,Agencies!D:D)=\"Y\",IF(_xlfn.XLOOKUP(F37212,'Object Codes'!A:A,'Object Codes'!I:I)=\"Y\",\"Y\",\"N\"),\"N\")","v":"Y"},{"$f":"VLOOKUP(F37212,'Object Codes'!$A:$C,3,0)","v":"Assignment Differential"},{"$f":"VLOOKUP(A37212,Agencies!A:C,3,0)","v":"Department of Transportation"},18.555999999999997]
["841",2022,"001","003","3110","042",0,0,0,6012,6012,0,0,0,0,0,0,0,0,0,6012,0,6012,0,0,6012,{"$f":"_xlfn.XLOOKUP(F37271,'Object Codes'!$A$18:$A$510,'Object Codes'!$H$18:$H$510)","v":"PS - Additional Gross"},{"$f":"_xlfn.XLOOKUP(F37271,'Object Codes'!$A$18:$A$510,'Object Codes'!$G$18:$G$510)","v":"A"},{"$f":"_xlfn.XLOOKUP(A37271,Agencies!$A$9:$A$146,Agencies!$B$9:$B$146)","v":"Transportation Services"},{"$f":"IF(_xlfn.XLOOKUP(A37271,Agencies!A:A,Agencies!D:D)=\"Y\",IF(_xlfn.XLOOKUP(F37271,'Object Codes'!A:A,'Object Codes'!I:I)=\"Y\",\"Y\",\"N\"),\"N\")","v":"Y"},{"$f":"VLOOKUP(F37271,'Object Codes'!$A:$C,3,0)","v":"Longevity Differential"},{"$f":"VLOOKUP(A37271,Agencies!A:C,3,0)","v":"Department of Transportation"},0]
["841",2022,"001","003","3116","001",0,47,47,3715744,3704327,0,0,0,0,0,4903992.29,0,4903992.29,4903992.29,-1199665.29,4903992.29,-1199665.29,4903992.29,4903992.29,-1199665.29,{"$f":"_xlfn.XLOOKUP(F37279,'Object Codes'!$A$18:$A$510,'Object Codes'!$H$18:$H$510)","v":"PS - Regular"},{"$f":"_xlfn.XLOOKUP(F37279,'Object Codes'!$A$18:$A$510,'Object Codes'!$G$18:$G$510)","v":"C"},{"$f":"_xlfn.XLOOKUP(A37279,Agencies!$A$9:$A$146,Agencies!$B$9:$B$146)","v":"Transportation Services"},{"$f":"IF(_xlfn.XLOOKUP(A37279,Agencies!A:A,Agencies!D:D)=\"Y\",IF(_xlfn.XLOOKUP(F37279,'Object Codes'!A:A,'Object Codes'!I:I)=\"Y\",\"Y\",\"N\"),\"N\")","v":"Y"},{"$f":"VLOOKUP(F37279,'Object Codes'!$A:$C,3,0)","v":"Full Year Positions"},{"$f":"VLOOKUP(A37279,Agencies!A:C,3,0)","v":"Department of Transportation"},13435.595315068493]
["841",2022,"001","004","4000","061",0,0,0,0,0,0,0,0,0,0,497,0,497,497,-497,497,-497,497,497,-497,{"$f":"_xlfn.XLOOKUP(F37355,'Object Codes'!$A$18:$A$510,'Object Codes'!$H$18:$H$510)","v":"PS - Additional Gross"},{"$f":"_xlfn.XLOOKUP(F37355,'Object Codes'!$A$18:$A$510,'Object Codes'!$G$18:$G$510)","v":"A"},{"$f":"_xlfn.XLOOKUP(A37355,Agencies!$A$9:$A$146,Agencies!$B$9:$B$146)","v":"Transportation Services"},{"$f":"IF(_xlfn.XLOOKUP(A37355,Agencies!A:A,Agencies!D:D)=\"Y\",IF(_xlfn.XLOOKUP(F37355,'Object Codes'!A:A,'Object Codes'!I:I)=\"Y\",\"Y\",\"N\"),\"N\")","v":"Y"},{"$f":"VLOOKUP(F37355,'Object Codes'!$A:$C,3,0)","v":"Supper Money"},{"$f":"VLOOKUP(A37355,Agencies!A:C,3,0)","v":"Department of Transportation"},1.3616438356164384]
["841",2022,"001","004","4020","061",0,0,0,0,0,0,0,0,0,0,396.5,0,396.5,396.5,-396.5,396.5,-396.5,396.5,396.5,-396.5,{"$f":"_xlfn.XLOOKUP(F37374,'Object Codes'!$A$18:$A$510,'Object Codes'!$H$18:$H$510)","v":"PS - Additional Gross"},{"$f":"_xlfn.XLOOKUP(F37374,'Object Codes'!$A$18:$A$510,'Object Codes'!$G$18:$G$510)","v":"A"},{"$f":"_xlfn.XLOOKUP(A37374,Agencies!$A$9:$A$146,Agencies!$B$9:$B$146)","v":"Transportation Services"},{"$f":"IF(_xlfn.XLOOKUP(A37374,Agencies!A:A,Agencies!D:D)=\"Y\",IF(_xlfn.XLOOKUP(F37374,'Object Codes'!A:A,'Object Codes'!I:I)=\"Y\",\"Y\",\"N\"),\"N\")","v":"Y"},{"$f":"VLOOKUP(F37374,'Object Codes'!$A:$C,3,0)","v":"Supper Money"},{"$f":"VLOOKUP(A37374,Agencies!A:C,3,0)","v":"Department of Transportation"},1.0863013698630137]
["841",2022,"001","004","4120","045",0,0,0,17425,17425,0,0,0,0,0,62488.1,0,62488.1,62488.1,-45063.1,62488.1,-45063.1,62488.1,62488.1,-45063.1,{"$f":"_xlfn.XLOOKUP(F37422,'Object Codes'!$A$18:$A$510,'Object Codes'!$H$18:$H$510)","v":"PS - Additional Gross"},{"$f":"_xlfn.XLOOKUP(F37422,'Object Codes'!$A$18:$A$510,'Object Codes'!$G$18:$G$510)","v":"A"},{"$f":"_xlfn.XLOOKUP(A37422,Agencies!$A$9:$A$146,Agencies!$B$9:$B$146)","v":"Transportation Services"},{"$f":"IF(_xlfn.XLOOKUP(A37422,Agencies!A:A,Agencies!D:D)=\"Y\",IF(_xlfn.XLOOKUP(F37422,'Object Codes'!A:A,'Object Codes'!I:I)=\"Y\",\"Y\",\"N\"),\"N\")","v":"Y"},{"$f":"VLOOKUP(F37422,'Object Codes'!$A:$C,3,0)","v":"Holiday Pay"},{"$f":"VLOOKUP(A37422,Agencies!A:C,3,0)","v":"Department of Transportation"},171.20027397260273]
["841",2022,"001","004","4125","045",0,0,0,0,0,0,0,0,0,0,7640.11,0,7640.11,7640.11,-7640.11,7640.11,-7640.11,7640.11,7640.11,-7640.11,{"$f":"_xlfn.XLOOKUP(F37498,'Object Codes'!$A$18:$A$510,'Object Codes'!$H$18:$H$510)","v":"PS - Additional Gross"},{"$f":"_xlfn.XLOOKUP(F37498,'Object Codes'!$A$18:$A$510,'Object Codes'!$G$18:$G$510)","v":"A"},{"$f":"_xlfn.XLOOKUP(A37498,Agencies!$A$9:$A$146,Agencies!$B$9:$B$146)","v":"Transportation Services"},{"$f":"IF(_xlfn.XLOOKUP(A37498,Agencies!A:A,Agencies!D:D)=\"Y\",IF(_xlfn.XLOOKUP(F37498,'Object Codes'!A:A,'Object Codes'!I:I)=\"Y\",\"Y\",\"N\"),\"N\")","v":"Y"},{"$f":"VLOOKUP(F37498,'Object Codes'!$A:$C,3,0)","v":"Holiday Pay"},{"$f":"VLOOKUP(A37498,Agencies!A:C,3,0)","v":"Department of Transportation"},20.93180821917808]
["841",2022,"001","004","4127","X45",0,0,0,0,0,0,0,0,0,0,148.16999999999999,0,148.16999999999999,148.16999999999999,-148.16999999999999,148.16999999999999,-148.16999999999999,148.16999999999999,148.16999999999999,-148.16999999999999,{"$f":"_xlfn.XLOOKUP(F37532,'Object Codes'!$A$18:$A$510,'Object Codes'!$H$18:$H$510)","v":"PS - Additional Gross"},{"$f":"_xlfn.XLOOKUP(F37532,'Object Codes'!$A$18:$A$510,'Object Codes'!$G$18:$G$510)","v":"A"},{"$f":"_xlfn.XLOOKUP(A37532,Agencies!$A$9:$A$146,Agencies!$B$9:$B$146)","v":"Transportation Services"},{"$f":"IF(_xlfn.XLOOKUP(A37532,Agencies!A:A,Agencies!D:D)=\"Y\",IF(_xlfn.XLOOKUP(F37532,'Object Codes'!A:A,'Object Codes'!I:I)=\"Y\",\"Y\",\"N\"),\"N\")","v":"Y"},{"$f":"VLOOKUP(F37532,'Object Codes'!$A:$C,3,0)","v":"PY HOLIDAY PAY"},{"$f":"VLOOKUP(A37532,Agencies!A:C,3,0)","v":"Department of Transportation"},0.40594520547945201]
["841",2022,"001","004","4131","041",0,0,0,2080,2080,0,0,0,0,0,12537.27,0,12537.27,12537.27,-10457.27,12537.27,-10457.27,12537.27,12537.27,-10457.27,{"$f":"_xlfn.XLOOKUP(F37581,'Object Codes'!$A$18:$A$510,'Object Codes'!$H$18:$H$510)","v":"PS - Additional Gross"},{"$f":"_xlfn.XLOOKUP(F37581,'Object Codes'!$A$18:$A$510,'Object Codes'!$G$18:$G$510)","v":"A"},{"$f":"_xlfn.XLOOKUP(A37581,Agencies!$A$9:$A$146,Agencies!$B$9:$B$146)","v":"Transportation Services"},{"$f":"IF(_xlfn.XLOOKUP(A37581,Agencies!A:A,Agencies!D:D)=\"Y\",IF(_xlfn.XLOOKUP(F37581,'Object Codes'!A:A,'Object Codes'!I:I)=\"Y\",\"Y\",\"N\"),\"N\")","v":"Y"},{"$f":"VLOOKUP(F37581,'Object Codes'!$A:$C,3,0)","v":"Assignment Differential"},{"$f":"VLOOKUP(A37581,Agencies!A:C,3,0)","v":"Department of Transportation"},34.348684931506853]
["841",2022,"001","004","4135","X41",0,0,0,0,0,0,0,0,0,0,16131.51,0,16131.51,16131.51,-16131.51,16131.51,-16131.51,16131.51,16131.51,-16131.51,{"$f":"_xlfn.XLOOKUP(F37641,'Object Codes'!$A$18:$A$510,'Object Codes'!$H$18:$H$510)","v":"PS - Additional Gross"},{"$f":"_xlfn.XLOOKUP(F37641,'Object Codes'!$A$18:$A$510,'Object Codes'!$G$18:$G$510)","v":"A"},{"$f":"_xlfn.XLOOKUP(A37641,Agencies!$A$9:$A$146,Agencies!$B$9:$B$146)","v":"Transportation Services"},{"$f":"IF(_xlfn.XLOOKUP(A37641,Agencies!A:A,Agencies!D:D)=\"Y\",IF(_xlfn.XLOOKUP(F37641,'Object Codes'!A:A,'Object Codes'!I:I)=\"Y\",\"Y\",\"N\"),\"N\")","v":"Y"},{"$f":"VLOOKUP(F37641,'Object Codes'!$A:$C,3,0)","v":"PY ASSIGNMENT DIFFERENTIAL"},{"$f":"VLOOKUP(A37641,Agencies!A:C,3,0)","v":"Department of Transportation"},{"$f":"S37641/365","v":44.195917808219178}]
["841",2022,"001","004","4139","041",0,0,0,0,0,0,0,0,0,0,22060.15,0,22060.15,22060.15,-22060.15,22060.15,-22060.15,22060.15,22060.15,-22060.15,{"$f":"_xlfn.XLOOKUP(F37675,'Object Codes'!$A$18:$A$510,'Object Codes'!$H$18:$H$510)","v":"PS - Additional Gross"},{"$f":"_xlfn.XLOOKUP(F37675,'Object Codes'!$A$18:$A$510,'Object Codes'!$G$18:$G$510)","v":"A"},{"$f":"_xlfn.XLOOKUP(A37675,Agencies!$A$9:$A$146,Agencies!$B$9:$B$146)","v":"Transportation Services"},{"$f":"IF(_xlfn.XLOOKUP(A37675,Agencies!A:A,Agencies!D:D)=\"Y\",IF(_xlfn.XLOOKUP(F37675,'Object Codes'!A:A,'Object Codes'!I:I)=\"Y\",\"Y\",\"N\"),\"N\")","v":"Y"},{"$f":"VLOOKUP(F37675,'Object Codes'!$A:$C,3,0)","v":"Assignment Differential"},{"$f":"VLOOKUP(A37675,Agencies!A:C,3,0)","v":"Department of Transportation"},60.438767123287676]
["841",2022,"001","004","4152","X47",0,0,0,0,0,0,0,0,0,0,74.56,0,74.56,74.56,-74.56,74.56,-74.56,74.56,74.56,-74.56,{"$f":"_xlfn.XLOOKUP(F37730,'Object Codes'!$A$18:$A$510,'Object Codes'!$H$18:$H$510)","v":"PS - Additional Gross"},{"$f":"_xlfn.XLOOKUP(F37730,'Object Codes'!$A$18:$A$510,'Object Codes'!$G$18:$G$510)","v":"A"},{"$f":"_xlfn.XLOOKUP(A37730,Agencies!$A$9:$A$146,Agencies!$B$9:$B$146)","v":"Transportation Services"},{"$f":"IF(_xlfn.XLOOKUP(A37730,Agencies!A:A,Agencies!D:D)=\"Y\",IF(_xlfn.XLOOKUP(F37730,'Object Codes'!A:A,'Object Codes'!I:I)=\"Y\",\"Y\",\"N\"),\"N\")","v":"Y"},{"$f":"VLOOKUP(F37730,'Object Codes'!$A:$C,3,0)","v":"PY OVERTIME"},{"$f":"VLOOKUP(A37730,Agencies!A:C,3,0)","v":"Department of Transportation"},0.20427397260273975]
["841",2022,"001","004","4202","001",0,0,0,0,0,0,0,0,0,0,195629.34,0,195629.34,195629.34,-195629.34,195629.34,-195629.34,195629.34,195629.34,-195629.34,{"$f":"_xlfn.XLOOKUP(F37784,'Object Codes'!$A$18:$A$510,'Object Codes'!$H$18:$H$510)","v":"PS - Regular"},{"$f":"_xlfn.XLOOKUP(F37784,'Object Codes'!$A$18:$A$510,'Object Codes'!$G$18:$G$510)","v":"C"},{"$f":"_xlfn.XLOOKUP(A37784,Agencies!$A$9:$A$146,Agencies!$B$9:$B$146)","v":"Transportation Services"},{"$f":"IF(_xlfn.XLOOKUP(A37784,Agencies!A:A,Agencies!D:D)=\"Y\",IF(_xlfn.XLOOKUP(F37784,'Object Codes'!A:A,'Object Codes'!I:I)=\"Y\",\"Y\",\"N\"),\"N\")","v":"Y"},{"$f":"VLOOKUP(F37784,'Object Codes'!$A:$C,3,0)","v":"Full Year Positions"},{"$f":"VLOOKUP(A37784,Agencies!A:C,3,0)","v":"Department of Transportation"},535.97079452054788]
["841",2022,"001","004","4300","001",0,17,21,1517004,1675329,0,0,0,0,0,1089101.69,0,1089101.69,1089101.69,586227.31000000006,1089101.69,586227.31000000006,1089101.69,1089101.69,586227.31000000006,{"$f":"_xlfn.XLOOKUP(F37818,'Object Codes'!$A$18:$A$510,'Object Codes'!$H$18:$H$510)","v":"PS - Regular"},{"$f":"_xlfn.XLOOKUP(F37818,'Object Codes'!$A$18:$A$510,'Object Codes'!$G$18:$G$510)","v":"C"},{"$f":"_xlfn.XLOOKUP(A37818,Agencies!$A$9:$A$146,Agencies!$B$9:$B$146)","v":"Transportation Services"},{"$f":"IF(_xlfn.XLOOKUP(A37818,Agencies!A:A,Agencies!D:D)=\"Y\",IF(_xlfn.XLOOKUP(F37818,'Object Codes'!A:A,'Object Codes'!I:I)=\"Y\",\"Y\",\"N\"),\"N\")","v":"Y"},{"$f":"VLOOKUP(F37818,'Object Codes'!$A:$C,3,0)","v":"Full Year Positions"},{"$f":"VLOOKUP(A37818,Agencies!A:C,3,0)","v":"Department of Transportation"},2983.8402465753425]
["841",2022,"001","004","4302","049",0,0,0,0,0,0,0,0,0,0,25192.74,0,25192.74,25192.74,-25192.74,25192.74,-25192.74,25192.74,25192.74,-25192.74,{"$f":"_xlfn.XLOOKUP(F37833,'Object Codes'!$A$18:$A$510,'Object Codes'!$H$18:$H$510)","v":"PS - Additional Gross"},{"$f":"_xlfn.XLOOKUP(F37833,'Object Codes'!$A$18:$A$510,'Object Codes'!$G$18:$G$510)","v":"A"},{"$f":"_xlfn.XLOOKUP(A37833,Agencies!$A$9:$A$146,Agencies!$B$9:$B$146)","v":"Transportation Services"},{"$f":"IF(_xlfn.XLOOKUP(A37833,Agencies!A:A,Agencies!D:D)=\"Y\",IF(_xlfn.XLOOKUP(F37833,'Object Codes'!A:A,'Object Codes'!I:I)=\"Y\",\"Y\",\"N\"),\"N\")","v":"Y"},{"$f":"VLOOKUP(F37833,'Object Codes'!$A:$C,3,0)","v":"Backpay"},{"$f":"VLOOKUP(A37833,Agencies!A:C,3,0)","v":"Department of Transportation"},{"$f":"S37833/365","v":69.021205479452064}]
["841",2022,"001","004","4432","061",0,0,0,0,0,0,0,0,0,0,371.25,0,371.25,371.25,-371.25,371.25,-371.25,371.25,371.25,-371.25,{"$f":"_xlfn.XLOOKUP(F37880,'Object Codes'!$A$18:$A$510,'Object Codes'!$H$18:$H$510)","v":"PS - Additional Gross"},{"$f":"_xlfn.XLOOKUP(F37880,'Object Codes'!$A$18:$A$510,'Object Codes'!$G$18:$G$510)","v":"A"},{"$f":"_xlfn.XLOOKUP(A37880,Agencies!$A$9:$A$146,Agencies!$B$9:$B$146)","v":"Transportation Services"},{"$f":"IF(_xlfn.XLOOKUP(A37880,Agencies!A:A,Agencies!D:D)=\"Y\",IF(_xlfn.XLOOKUP(F37880,'Object Codes'!A:A,'Object Codes'!I:I)=\"Y\",\"Y\",\"N\"),\"N\")","v":"Y"},{"$f":"VLOOKUP(F37880,'Object Codes'!$A:$C,3,0)","v":"Supper Money"},{"$f":"VLOOKUP(A37880,Agencies!A:C,3,0)","v":"Department of Transportation"},1.0171232876712328]
["841",2022,"001","004","4529","061",0,0,0,0,0,0,0,0,0,0,1590.5,0,1590.5,1590.5,-1590.5,1590.5,-1590.5,1590.5,1590.5,-1590.5,{"$f":"_xlfn.XLOOKUP(F37956,'Object Codes'!$A$18:$A$510,'Object Codes'!$H$18:$H$510)","v":"PS - Additional Gross"},{"$f":"_xlfn.XLOOKUP(F37956,'Object Codes'!$A$18:$A$510,'Object Codes'!$G$18:$G$510)","v":"A"},{"$f":"_xlfn.XLOOKUP(A37956,Agencies!$A$9:$A$146,Agencies!$B$9:$B$146)","v":"Transportation Services"},{"$f":"IF(_xlfn.XLOOKUP(A37956,Agencies!A:A,Agencies!D:D)=\"Y\",IF(_xlfn.XLOOKUP(F37956,'Object Codes'!A:A,'Object Codes'!I:I)=\"Y\",\"Y\",\"N\"),\"N\")","v":"Y"},{"$f":"VLOOKUP(F37956,'Object Codes'!$A:$C,3,0)","v":"Supper Money"},{"$f":"VLOOKUP(A37956,Agencies!A:C,3,0)","v":"Department of Transportation"},4.3575342465753426]
["841",2022,"001","004","4600","042",0,0,0,13000,13000,0,0,0,0,0,8149.48,0,8149.48,8149.48,4850.5200000000004,8149.48,4850.5200000000004,8149.48,8149.48,4850.5200000000004,{"$f":"_xlfn.XLOOKUP(F37982,'Object Codes'!$A$18:$A$510,'Object Codes'!$H$18:$H$510)","v":"PS - Additional Gross"},{"$f":"_xlfn.XLOOKUP(F37982,'Object Codes'!$A$18:$A$510,'Object Codes'!$G$18:$G$510)","v":"A"},{"$f":"_xlfn.XLOOKUP(A37982,Agencies!$A$9:$A$146,Agencies!$B$9:$B$146)","v":"Transportation Services"},{"$f":"IF(_xlfn.XLOOKUP(A37982,Agencies!A:A,Agencies!D:D)=\"Y\",IF(_xlfn.XLOOKUP(F37982,'Object Codes'!A:A,'Object Codes'!I:I)=\"Y\",\"Y\",\"N\"),\"N\")","v":"Y"},{"$f":"VLOOKUP(F37982,'Object Codes'!$A:$C,3,0)","v":"Longevity Differential"},{"$f":"VLOOKUP(A37982,Agencies!A:C,3,0)","v":"Department of Transportation"},22.327342465753425]
["841",2022,"001","004","CR40","001",0,39,15,3570626,132161,0,0,0,0,0,25506.880000000001,0,25506.880000000001,25506.880000000001,106654.12,25506.880000000001,106654.12,25506.880000000001,25506.880000000001,106654.12,{"$f":"_xlfn.XLOOKUP(F38023,'Object Codes'!$A$18:$A$510,'Object Codes'!$H$18:$H$510)","v":"PS - Regular"},{"$f":"_xlfn.XLOOKUP(F38023,'Object Codes'!$A$18:$A$510,'Object Codes'!$G$18:$G$510)","v":"C"},{"$f":"_xlfn.XLOOKUP(A38023,Agencies!$A$9:$A$146,Agencies!$B$9:$B$146)","v":"Transportation Services"},{"$f":"IF(_xlfn.XLOOKUP(A38023,Agencies!A:A,Agencies!D:D)=\"Y\",IF(_xlfn.XLOOKUP(F38023,'Object Codes'!A:A,'Object Codes'!I:I)=\"Y\",\"Y\",\"N\"),\"N\")","v":"Y"},{"$f":"VLOOKUP(F38023,'Object Codes'!$A:$C,3,0)","v":"Full Year Positions"},{"$f":"VLOOKUP(A38023,Agencies!A:C,3,0)","v":"Department of Transportation"},69.881863013698634]
["841",2022,"001","006","7010","043",0,0,0,0,0,0,0,0,0,0,512.57000000000005,0,512.57000000000005,512.57000000000005,-512.57000000000005,512.57000000000005,-512.57000000000005,512.57000000000005,512.57000000000005,-512.57000000000005,{"$f":"_xlfn.XLOOKUP(F38099,'Object Codes'!$A$18:$A$510,'Object Codes'!$H$18:$H$510)","v":"PS - Additional Gross"},{"$f":"_xlfn.XLOOKUP(F38099,'Object Codes'!$A$18:$A$510,'Object Codes'!$G$18:$G$510)","v":"A"},{"$f":"_xlfn.XLOOKUP(A38099,Agencies!$A$9:$A$146,Agencies!$B$9:$B$146)","v":"Transportation Services"},{"$f":"IF(_xlfn.XLOOKUP(A38099,Agencies!A:A,Agencies!D:D)=\"Y\",IF(_xlfn.XLOOKUP(F38099,'Object Codes'!A:A,'Object Codes'!I:I)=\"Y\",\"Y\",\"N\"),\"N\")","v":"Y"},{"$f":"VLOOKUP(F38099,'Object Codes'!$A:$C,3,0)","v":"Shift Differential"},{"$f":"VLOOKUP(A38099,Agencies!A:C,3,0)","v":"Department of Transportation"},1.4043013698630138]
["841",2022,"001","006","7107","042",0,0,0,0,0,0,0,0,0,0,4016.91,0,4016.91,4016.91,-4016.91,4016.91,-4016.91,4016.91,4016.91,-4016.91,{"$f":"_xlfn.XLOOKUP(F38131,'Object Codes'!$A$18:$A$510,'Object Codes'!$H$18:$H$510)","v":"PS - Additional Gross"},{"$f":"_xlfn.XLOOKUP(F38131,'Object Codes'!$A$18:$A$510,'Object Codes'!$G$18:$G$510)","v":"A"},{"$f":"_xlfn.XLOOKUP(A38131,Agencies!$A$9:$A$146,Agencies!$B$9:$B$146)","v":"Transportation Services"},{"$f":"IF(_xlfn.XLOOKUP(A38131,Agencies!A:A,Agencies!D:D)=\"Y\",IF(_xlfn.XLOOKUP(F38131,'Object Codes'!A:A,'Object Codes'!I:I)=\"Y\",\"Y\",\"N\"),\"N\")","v":"Y"},{"$f":"VLOOKUP(F38131,'Object Codes'!$A:$C,3,0)","v":"Longevity Differential"},{"$f":"VLOOKUP(A38131,Agencies!A:C,3,0)","v":"Department of Transportation"},11.005232876712329]
["841",2022,"001","006","7111","057",0,0,0,0,0,0,0,0,0,0,5500,0,5500,5500,-5500,5500,-5500,5500,5500,-5500,{"$f":"_xlfn.XLOOKUP(F38161,'Object Codes'!$A$18:$A$510,'Object Codes'!$H$18:$H$510)","v":"PS - Additional Gross"},{"$f":"_xlfn.XLOOKUP(F38161,'Object Codes'!$A$18:$A$510,'Object Codes'!$G$18:$G$510)","v":"A"},{"$f":"_xlfn.XLOOKUP(A38161,Agencies!$A$9:$A$146,Agencies!$B$9:$B$146)","v":"Transportation Services"},{"$f":"IF(_xlfn.XLOOKUP(A38161,Agencies!A:A,Agencies!D:D)=\"Y\",IF(_xlfn.XLOOKUP(F38161,'Object Codes'!A:A,'Object Codes'!I:I)=\"Y\",\"Y\",\"N\"),\"N\")","v":"Y"},{"$f":"VLOOKUP(F38161,'Object Codes'!$A:$C,3,0)","v":"Bonus Payments"},{"$f":"VLOOKUP(A38161,Agencies!A:C,3,0)","v":"Department of Transportation"},15.068493150684931]
["841",2022,"001","006","7122","043",0,0,0,0,0,0,0,0,0,0,787.72,0,787.72,787.72,-787.72,787.72,-787.72,787.72,787.72,-787.72,{"$f":"_xlfn.XLOOKUP(F38242,'Object Codes'!$A$18:$A$510,'Object Codes'!$H$18:$H$510)","v":"PS - Additional Gross"},{"$f":"_xlfn.XLOOKUP(F38242,'Object Codes'!$A$18:$A$510,'Object Codes'!$G$18:$G$510)","v":"A"},{"$f":"_xlfn.XLOOKUP(A38242,Agencies!$A$9:$A$146,Agencies!$B$9:$B$146)","v":"Transportation Services"},{"$f":"IF(_xlfn.XLOOKUP(A38242,Agencies!A:A,Agencies!D:D)=\"Y\",IF(_xlfn.XLOOKUP(F38242,'Object Codes'!A:A,'Object Codes'!I:I)=\"Y\",\"Y\",\"N\"),\"N\")","v":"Y"},{"$f":"VLOOKUP(F38242,'Object Codes'!$A:$C,3,0)","v":"Shift Differential"},{"$f":"VLOOKUP(A38242,Agencies!A:C,3,0)","v":"Department of Transportation"},2.1581369863013697]
["841",2022,"001","006","7130","043",0,0,0,95637,95637,0,0,0,0,0,157049.79999999999,0,157049.79999999999,157049.79999999999,-61412.800000000003,157049.79999999999,-61412.800000000003,157049.79999999999,157049.79999999999,-61412.800000000003,{"$f":"_xlfn.XLOOKUP(F38280,'Object Codes'!$A$18:$A$510,'Object Codes'!$H$18:$H$510)","v":"PS - Additional Gross"},{"$f":"_xlfn.XLOOKUP(F38280,'Object Codes'!$A$18:$A$510,'Object Codes'!$G$18:$G$510)","v":"A"},{"$f":"_xlfn.XLOOKUP(A38280,Agencies!$A$9:$A$146,Agencies!$B$9:$B$146)","v":"Transportation Services"},{"$f":"IF(_xlfn.XLOOKUP(A38280,Agencies!A:A,Agencies!D:D)=\"Y\",IF(_xlfn.XLOOKUP(F38280,'Object Codes'!A:A,'Object Codes'!I:I)=\"Y\",\"Y\",\"N\"),\"N\")","v":"Y"},{"$f":"VLOOKUP(F38280,'Object Codes'!$A:$C,3,0)","v":"Shift Differential"},{"$f":"VLOOKUP(A38280,Agencies!A:C,3,0)","v":"Department of Transportation"},430.27342465753424]
["841",2022,"001","006","7207","X43",0,0,0,0,0,0,0,0,0,0,9.9600000000000009,0,9.9600000000000009,9.9600000000000009,-9.9600000000000009,9.9600000000000009,-9.9600000000000009,9.9600000000000009,9.9600000000000009,-9.9600000000000009,{"$f":"_xlfn.XLOOKUP(F38304,'Object Codes'!$A$18:$A$510,'Object Codes'!$H$18:$H$510)","v":"PS - Additional Gross"},{"$f":"_xlfn.XLOOKUP(F38304,'Object Codes'!$A$18:$A$510,'Object Codes'!$G$18:$G$510)","v":"A"},{"$f":"_xlfn.XLOOKUP(A38304,Agencies!$A$9:$A$146,Agencies!$B$9:$B$146)","v":"Transportation Services"},{"$f":"IF(_xlfn.XLOOKUP(A38304,Agencies!A:A,Agencies!D:D)=\"Y\",IF(_xlfn.XLOOKUP(F38304,'Object Codes'!A:A,'Object Codes'!I:I)=\"Y\",\"Y\",\"N\"),\"N\")","v":"Y"},{"$f":"VLOOKUP(F38304,'Object Codes'!$A:$C,3,0)","v":"PY SHIFT DIFFERENTIAL"},{"$f":"VLOOKUP(A38304,Agencies!A:C,3,0)","v":"Department of Transportation"},2.7287671232876714E-2]
["841",2022,"001","006","7500","X42",0,0,0,0,0,0,0,0,0,0,0.01,0,0.01,0.01,-0.01,0.01,-0.01,0.01,0.01,-0.01,{"$f":"_xlfn.XLOOKUP(F38385,'Object Codes'!$A$18:$A$510,'Object Codes'!$H$18:$H$510)","v":"PS - Additional Gross"},{"$f":"_xlfn.XLOOKUP(F38385,'Object Codes'!$A$18:$A$510,'Object Codes'!$G$18:$G$510)","v":"A"},{"$f":"_xlfn.XLOOKUP(A38385,Agencies!$A$9:$A$146,Agencies!$B$9:$B$146)","v":"Transportation Services"},{"$f":"IF(_xlfn.XLOOKUP(A38385,Agencies!A:A,Agencies!D:D)=\"Y\",IF(_xlfn.XLOOKUP(F38385,'Object Codes'!A:A,'Object Codes'!I:I)=\"Y\",\"Y\",\"N\"),\"N\")","v":"Y"},{"$f":"VLOOKUP(F38385,'Object Codes'!$A:$C,3,0)","v":"PY LONGEVITY DIFFERENTIAL"},{"$f":"VLOOKUP(A38385,Agencies!A:C,3,0)","v":"Department of Transportation"},2.7397260273972603E-5]
["841",2022,"001","006","7608","X42",0,0,0,0,0,0,0,0,0,0,0.14000000000000001,0,0.14000000000000001,0.14000000000000001,-0.14000000000000001,0.14000000000000001,-0.14000000000000001,0.14000000000000001,0.14000000000000001,-0.14000000000000001,{"$f":"_xlfn.XLOOKUP(F38429,'Object Codes'!$A$18:$A$510,'Object Codes'!$H$18:$H$510)","v":"PS - Additional Gross"},{"$f":"_xlfn.XLOOKUP(F38429,'Object Codes'!$A$18:$A$510,'Object Codes'!$G$18:$G$510)","v":"A"},{"$f":"_xlfn.XLOOKUP(A38429,Agencies!$A$9:$A$146,Agencies!$B$9:$B$146)","v":"Transportation Services"},{"$f":"IF(_xlfn.XLOOKUP(A38429,Agencies!A:A,Agencies!D:D)=\"Y\",IF(_xlfn.XLOOKUP(F38429,'Object Codes'!A:A,'Object Codes'!I:I)=\"Y\",\"Y\",\"N\"),\"N\")","v":"Y"},{"$f":"VLOOKUP(F38429,'Object Codes'!$A:$C,3,0)","v":"PY LONGEVITY DIFFERENTIAL"},{"$f":"VLOOKUP(A38429,Agencies!A:C,3,0)","v":"Department of Transportation"},3.8356164383561648E-4]
["841",2022,"001","007","7000","332",0,0,0,25000,1000,0,0,0,0,0,0,0,0,0,1000,0,1000,0,0,1000,{"$f":"_xlfn.XLOOKUP(F38447,'Object Codes'!$A$18:$A$510,'Object Codes'!$H$18:$H$510)","v":"Equipment"},{"$f":"_xlfn.XLOOKUP(F38447,'Object Codes'!$A$18:$A$510,'Object Codes'!$G$18:$G$510)","v":"A"},{"$f":"_xlfn.XLOOKUP(A38447,Agencies!$A$9:$A$146,Agencies!$B$9:$B$146)","v":"Transportation Services"},{"$f":"IF(_xlfn.XLOOKUP(A38447,Agencies!A:A,Agencies!D:D)=\"Y\",IF(_xlfn.XLOOKUP(F38447,'Object Codes'!A:A,'Object Codes'!I:I)=\"Y\",\"Y\",\"N\"),\"N\")","v":"Y"},{"$f":"VLOOKUP(F38447,'Object Codes'!$A:$C,3,0)","v":"Purchases of Data Processing Equipment"},{"$f":"VLOOKUP(A38447,Agencies!A:C,3,0)","v":"Department of Transportation"},0]
["841",2022,"001","007","7116","314",0,0,0,3500,3500,0,0,0,0,0,3500,0,3500,3500,0,3500,0,3500,3500,0,{"$f":"_xlfn.XLOOKUP(F38528,'Object Codes'!$A$18:$A$510,'Object Codes'!$H$18:$H$510)","v":"Equipment"},{"$f":"_xlfn.XLOOKUP(F38528,'Object Codes'!$A$18:$A$510,'Object Codes'!$G$18:$G$510)","v":"A"},{"$f":"_xlfn.XLOOKUP(A38528,Agencies!$A$9:$A$146,Agencies!$B$9:$B$146)","v":"Transportation Services"},{"$f":"IF(_xlfn.XLOOKUP(A38528,Agencies!A:A,Agencies!D:D)=\"Y\",IF(_xlfn.XLOOKUP(F38528,'Object Codes'!A:A,'Object Codes'!I:I)=\"Y\",\"Y\",\"N\"),\"N\")","v":"Y"},{"$f":"VLOOKUP(F38528,'Object Codes'!$A:$C,3,0)","v":"Office Furniture"},{"$f":"VLOOKUP(A38528,Agencies!A:C,3,0)","v":"Department of Transportation"},9.5890410958904102]
["841",2022,"001","007","7120","400",0,0,0,500,500,0,0,0,0,0,0,0,0,0,500,0,500,0,0,500,{"$f":"_xlfn.XLOOKUP(F38557,'Object Codes'!$A$18:$A$510,'Object Codes'!$H$18:$H$510)","v":"Other Services and Charges - General"},{"$f":"_xlfn.XLOOKUP(F38557,'Object Codes'!$A$18:$A$510,'Object Codes'!$G$18:$G$510)","v":0},{"$f":"_xlfn.XLOOKUP(A38557,Agencies!$A$9:$A$146,Agencies!$B$9:$B$146)","v":"Transportation Services"},{"$f":"IF(_xlfn.XLOOKUP(A38557,Agencies!A:A,Agencies!D:D)=\"Y\",IF(_xlfn.XLOOKUP(F38557,'Object Codes'!A:A,'Object Codes'!I:I)=\"Y\",\"Y\",\"N\"),\"N\")","v":"Y"},{"$f":"VLOOKUP(F38557,'Object Codes'!$A:$C,3,0)","v":"Other Services and Charges - General"},{"$f":"VLOOKUP(A38557,Agencies!A:C,3,0)","v":"Department of Transportation"},0]
["841",2022,"001","007","7128","169",0,0,0,44000,44000,0,0,0,0,0,0,0,0,0,44000,0,44000,0,0,44000,{"$f":"_xlfn.XLOOKUP(F38590,'Object Codes'!$A$18:$A$510,'Object Codes'!$H$18:$H$510)","v":"Supplies & Materials"},{"$f":"_xlfn.XLOOKUP(F38590,'Object Codes'!$A$18:$A$510,'Object Codes'!$G$18:$G$510)","v":"A"},{"$f":"_xlfn.XLOOKUP(A38590,Agencies!$A$9:$A$146,Agencies!$B$9:$B$146)","v":"Transportation Services"},{"$f":"IF(_xlfn.XLOOKUP(A38590,Agencies!A:A,Agencies!D:D)=\"Y\",IF(_xlfn.XLOOKUP(F38590,'Object Codes'!A:A,'Object Codes'!I:I)=\"Y\",\"Y\",\"N\"),\"N\")","v":"Y"},{"$f":"VLOOKUP(F38590,'Object Codes'!$A:$C,3,0)","v":"Maintenance Supplies"},{"$f":"VLOOKUP(A38590,Agencies!A:C,3,0)","v":"Department of Transportation"},0]
["841",2022,"001","007","7309","403",0,0,0,1500,1500,0,0,0,0,0,0,0,0,0,1500,0,1500,0,0,1500,{"$f":"_xlfn.XLOOKUP(F38671,'Object Codes'!$A$18:$A$510,'Object Codes'!$H$18:$H$510)","v":"Other Services and Charges - General"},{"$f":"_xlfn.XLOOKUP(F38671,'Object Codes'!$A$18:$A$510,'Object Codes'!$G$18:$G$510)","v":0},{"$f":"_xlfn.XLOOKUP(A38671,Agencies!$A$9:$A$146,Agencies!$B$9:$B$146)","v":"Transportation Services"},{"$f":"IF(_xlfn.XLOOKUP(A38671,Agencies!A:A,Agencies!D:D)=\"Y\",IF(_xlfn.XLOOKUP(F38671,'Object Codes'!A:A,'Object Codes'!I:I)=\"Y\",\"Y\",\"N\"),\"N\")","v":"Y"},{"$f":"VLOOKUP(F38671,'Object Codes'!$A:$C,3,0)","v":"Office Services"},{"$f":"VLOOKUP(A38671,Agencies!A:C,3,0)","v":"Department of Transportation"},0]
["841",2022,"001","007","7400","454",0,0,0,2000,7000,0,0,0,0,0,5000,0,5000,5000,2000,5000,2000,5000,5000,2000,{"$f":"_xlfn.XLOOKUP(F38700,'Object Codes'!$A$18:$A$510,'Object Codes'!$H$18:$H$510)","v":"Other Services and Charges - General"},{"$f":"_xlfn.XLOOKUP(F38700,'Object Codes'!$A$18:$A$510,'Object Codes'!$G$18:$G$510)","v":0},{"$f":"_xlfn.XLOOKUP(A38700,Agencies!$A$9:$A$146,Agencies!$B$9:$B$146)","v":"Transportation Services"},{"$f":"IF(_xlfn.XLOOKUP(A38700,Agencies!A:A,Agencies!D:D)=\"Y\",IF(_xlfn.XLOOKUP(F38700,'Object Codes'!A:A,'Object Codes'!I:I)=\"Y\",\"Y\",\"N\"),\"N\")","v":"Y"},{"$f":"VLOOKUP(F38700,'Object Codes'!$A:$C,3,0)","v":"Overnight Travel Expenditures - Special"},{"$f":"VLOOKUP(A38700,Agencies!A:C,3,0)","v":"Department of Transportation"},13.698630136986301]
["841",2022,"001","011","1000","199",0,0,0,10800,17600,0,0,0,0,0,16673.28,0,16673.28,16673.28,926.72,16673.28,926.72,16673.28,16673.28,926.72,{"$f":"_xlfn.XLOOKUP(F38739,'Object Codes'!$A$18:$A$510,'Object Codes'!$H$18:$H$510)","v":"Supplies & Materials"},{"$f":"_xlfn.XLOOKUP(F38739,'Object Codes'!$A$18:$A$510,'Object Codes'!$G$18:$G$510)","v":"A"},{"$f":"_xlfn.XLOOKUP(A38739,Agencies!$A$9:$A$146,Agencies!$B$9:$B$146)","v":"Transportation Services"},{"$f":"IF(_xlfn.XLOOKUP(A38739,Agencies!A:A,Agencies!D:D)=\"Y\",IF(_xlfn.XLOOKUP(F38739,'Object Codes'!A:A,'Object Codes'!I:I)=\"Y\",\"Y\",\"N\"),\"N\")","v":"Y"},{"$f":"VLOOKUP(F38739,'Object Codes'!$A:$C,3,0)","v":"Data Processing Supplies"},{"$f":"VLOOKUP(A38739,Agencies!A:C,3,0)","v":"Department of Transportation"},45.68021917808219]
["841",2022,"001","011","1220","332",0,0,0,19999,14499,0,0,0,0,0,0,0,0,0,14499,0,14499,0,0,14499,{"$f":"_xlfn.XLOOKUP(F38809,'Object Codes'!$A$18:$A$510,'Object Codes'!$H$18:$H$510)","v":"Equipment"},{"$f":"_xlfn.XLOOKUP(F38809,'Object Codes'!$A$18:$A$510,'Object Codes'!$G$18:$G$510)","v":"A"},{"$f":"_xlfn.XLOOKUP(A38809,Agencies!$A$9:$A$146,Agencies!$B$9:$B$146)","v":"Transportation Services"},{"$f":"IF(_xlfn.XLOOKUP(A38809,Agencies!A:A,Agencies!D:D)=\"Y\",IF(_xlfn.XLOOKUP(F38809,'Object Codes'!A:A,'Object Codes'!I:I)=\"Y\",\"Y\",\"N\"),\"N\")","v":"Y"},{"$f":"VLOOKUP(F38809,'Object Codes'!$A:$C,3,0)","v":"Purchases of Data Processing Equipment"},{"$f":"VLOOKUP(A38809,Agencies!A:C,3,0)","v":"Department of Transportation"},0]
["841",2022,"001","011","1240","100",0,0,0,43459,164259,0,0,0,0,0,136772.45000000001,0,136772.45000000001,136772.45000000001,27486.55,136772.45000000001,27486.55,136772.45000000001,136772.45000000001,27486.55,{"$f":"_xlfn.XLOOKUP(F38843,'Object Codes'!$A$18:$A$510,'Object Codes'!$H$18:$H$510)","v":"Supplies & Materials"},{"$f":"_xlfn.XLOOKUP(F38843,'Object Codes'!$A$18:$A$510,'Object Codes'!$G$18:$G$510)","v":"A"},{"$f":"_xlfn.XLOOKUP(A38843,Agencies!$A$9:$A$146,Agencies!$B$9:$B$146)","v":"Transportation Services"},{"$f":"IF(_xlfn.XLOOKUP(A38843,Agencies!A:A,Agencies!D:D)=\"Y\",IF(_xlfn.XLOOKUP(F38843,'Object Codes'!A:A,'Object Codes'!I:I)=\"Y\",\"Y\",\"N\"),\"N\")","v":"Y"},{"$f":"VLOOKUP(F38843,'Object Codes'!$A:$C,3,0)","v":"Supplies and Materials - General"},{"$f":"VLOOKUP(A38843,Agencies!A:C,3,0)","v":"Department of Transportation"},374.71904109589042]
["841",2022,"001","011","1270","10X",0,0,0,101000,101000,0,0,0,0,0,22540.799999999999,0,22540.799999999999,22540.799999999999,78459.199999999997,22540.799999999999,78459.199999999997,22540.799999999999,22540.799999999999,78459.199999999997,{"$f":"_xlfn.XLOOKUP(F38888,'Object Codes'!$A$18:$A$510,'Object Codes'!$H$18:$H$510)","v":"Supplies & Materials"},{"$f":"_xlfn.XLOOKUP(F38888,'Object Codes'!$A$18:$A$510,'Object Codes'!$G$18:$G$510)","v":"A"},{"$f":"_xlfn.XLOOKUP(A38888,Agencies!$A$9:$A$146,Agencies!$B$9:$B$146)","v":"Transportation Services"},{"$f":"IF(_xlfn.XLOOKUP(A38888,Agencies!A:A,Agencies!D:D)=\"Y\",IF(_xlfn.XLOOKUP(F38888,'Object Codes'!A:A,'Object Codes'!I:I)=\"Y\",\"Y\",\"N\"),\"N\")","v":"Y"},{"$f":"VLOOKUP(F38888,'Object Codes'!$A:$C,3,0)","v":"SUPPLIES + MATERIALS - GENERAL"},{"$f":"VLOOKUP(A38888,Agencies!A:C,3,0)","v":"Department of Transportation"},61.755616438356164]
["841",2022,"001","011","1290","199",0,0,0,6000,4421,0,0,0,0,0,219.37,0,219.37,219.37,4201.63,219.37,4201.63,219.37,219.37,4201.63,{"$f":"_xlfn.XLOOKUP(F38952,'Object Codes'!$A$18:$A$510,'Object Codes'!$H$18:$H$510)","v":"Supplies & Materials"},{"$f":"_xlfn.XLOOKUP(F38952,'Object Codes'!$A$18:$A$510,'Object Codes'!$G$18:$G$510)","v":"A"},{"$f":"_xlfn.XLOOKUP(A38952,Agencies!$A$9:$A$146,Agencies!$B$9:$B$146)","v":"Transportation Services"},{"$f":"IF(_xlfn.XLOOKUP(A38952,Agencies!A:A,Agencies!D:D)=\"Y\",IF(_xlfn.XLOOKUP(F38952,'Object Codes'!A:A,'Object Codes'!I:I)=\"Y\",\"Y\",\"N\"),\"N\")","v":"Y"},{"$f":"VLOOKUP(F38952,'Object Codes'!$A:$C,3,0)","v":"Data Processing Supplies"},{"$f":"VLOOKUP(A38952,Agencies!A:C,3,0)","v":"Department of Transportation"},0.60101369863013698]
["841",2022,"001","011","1400","684",0,0,0,138148,0,0,0,0,0,0,0,0,0,0,0,0,0,0,0,0,{"$f":"_xlfn.XLOOKUP(F38986,'Object Codes'!$A$18:$A$510,'Object Codes'!$H$18:$H$510)","v":"Contractual Services"},{"$f":"_xlfn.XLOOKUP(F38986,'Object Codes'!$A$18:$A$510,'Object Codes'!$G$18:$G$510)","v":0},{"$f":"_xlfn.XLOOKUP(A38986,Agencies!$A$9:$A$146,Agencies!$B$9:$B$146)","v":"Transportation Services"},{"$f":"IF(_xlfn.XLOOKUP(A38986,Agencies!A:A,Agencies!D:D)=\"Y\",IF(_xlfn.XLOOKUP(F38986,'Object Codes'!A:A,'Object Codes'!I:I)=\"Y\",\"Y\",\"N\"),\"N\")","v":"Y"},{"$f":"VLOOKUP(F38986,'Object Codes'!$A:$C,3,0)","v":"Professional Services - Computer Services - Contractual"},{"$f":"VLOOKUP(A38986,Agencies!A:C,3,0)","v":"Department of Transportation"},0]
["841",2022,"001","011","1420","622",0,0,0,2000,0,0,0,0,0,0,0,0,0,0,0,0,0,0,0,0,{"$f":"_xlfn.XLOOKUP(F39037,'Object Codes'!$A$18:$A$510,'Object Codes'!$H$18:$H$510)","v":"Contractual Services"},{"$f":"_xlfn.XLOOKUP(F39037,'Object Codes'!$A$18:$A$510,'Object Codes'!$G$18:$G$510)","v":0},{"$f":"_xlfn.XLOOKUP(A39037,Agencies!$A$9:$A$146,Agencies!$B$9:$B$146)","v":"Transportation Services"},{"$f":"IF(_xlfn.XLOOKUP(A39037,Agencies!A:A,Agencies!D:D)=\"Y\",IF(_xlfn.XLOOKUP(F39037,'Object Codes'!A:A,'Object Codes'!I:I)=\"Y\",\"Y\",\"N\"),\"N\")","v":"Y"},{"$f":"VLOOKUP(F39037,'Object Codes'!$A:$C,3,0)","v":"Temporary Services - Contractual"},{"$f":"VLOOKUP(A39037,Agencies!A:C,3,0)","v":"Department of Transportation"},0]
["841",2022,"001","011","1600","686",0,0,0,0,56160,0,0,0,0,0,19593.8,0,19593.8,19593.8,36566.199999999997,19593.8,36566.199999999997,19593.8,19593.8,36566.199999999997,{"$f":"_xlfn.XLOOKUP(F39048,'Object Codes'!$A$18:$A$510,'Object Codes'!$H$18:$H$510)","v":"Contractual Services"},{"$f":"_xlfn.XLOOKUP(F39048,'Object Codes'!$A$18:$A$510,'Object Codes'!$G$18:$G$510)","v":0},{"$f":"_xlfn.XLOOKUP(A39048,Agencies!$A$9:$A$146,Agencies!$B$9:$B$146)","v":"Transportation Services"},{"$f":"IF(_xlfn.XLOOKUP(A39048,Agencies!A:A,Agencies!D:D)=\"Y\",IF(_xlfn.XLOOKUP(F39048,'Object Codes'!A:A,'Object Codes'!I:I)=\"Y\",\"Y\",\"N\"),\"N\")","v":"Y"},{"$f":"VLOOKUP(F39048,'Object Codes'!$A:$C,3,0)","v":"Professional Services - Other - Contractual"},{"$f":"VLOOKUP(A39048,Agencies!A:C,3,0)","v":"Department of Transportation"},53.681643835616434]
["841",2022,"001","012","2101","105",0,0,0,4000,11000,0,0,0,0,0,10702.54,0,10702.54,10702.54,297.45999999999998,10702.54,297.45999999999998,10702.54,10702.54,297.45999999999998,{"$f":"_xlfn.XLOOKUP(F39129,'Object Codes'!$A$18:$A$510,'Object Codes'!$H$18:$H$510)","v":"Supplies & Materials"},{"$f":"_xlfn.XLOOKUP(F39129,'Object Codes'!$A$18:$A$510,'Object Codes'!$G$18:$G$510)","v":"A"},{"$f":"_xlfn.XLOOKUP(A39129,Agencies!$A$9:$A$146,Agencies!$B$9:$B$146)","v":"Transportation Services"},{"$f":"IF(_xlfn.XLOOKUP(A39129,Agencies!A:A,Agencies!D:D)=\"Y\",IF(_xlfn.XLOOKUP(F39129,'Object Codes'!A:A,'Object Codes'!I:I)=\"Y\",\"Y\",\"N\"),\"N\")","v":"Y"},{"$f":"VLOOKUP(F39129,'Object Codes'!$A:$C,3,0)","v":"Automotive Supplies and Materials"},{"$f":"VLOOKUP(A39129,Agencies!A:C,3,0)","v":"Department of Transportation"},29.322027397260275]
["841",2022,"001","012","2110","100",0,0,0,50000,10883,0,0,0,0,0,2899,0,2899,2899,7984,2899,7984,2899,2899,7984,{"$f":"_xlfn.XLOOKUP(F39152,'Object Codes'!$A$18:$A$510,'Object Codes'!$H$18:$H$510)","v":"Supplies & Materials"},{"$f":"_xlfn.XLOOKUP(F39152,'Object Codes'!$A$18:$A$510,'Object Codes'!$G$18:$G$510)","v":"A"},{"$f":"_xlfn.XLOOKUP(A39152,Agencies!$A$9:$A$146,Agencies!$B$9:$B$146)","v":"Transportation Services"},{"$f":"IF(_xlfn.XLOOKUP(A39152,Agencies!A:A,Agencies!D:D)=\"Y\",IF(_xlfn.XLOOKUP(F39152,'Object Codes'!A:A,'Object Codes'!I:I)=\"Y\",\"Y\",\"N\"),\"N\")","v":"Y"},{"$f":"VLOOKUP(F39152,'Object Codes'!$A:$C,3,0)","v":"Supplies and Materials - General"},{"$f":"VLOOKUP(A39152,Agencies!A:C,3,0)","v":"Department of Transportation"},7.9424657534246572]
["841",2022,"001","012","2118","100",0,0,0,3993978,2775448,0,0,0,0,0,2598059.63,0,2598059.63,2598059.63,177388.37,2598059.63,177388.37,2598059.63,2598059.63,177388.37,{"$f":"_xlfn.XLOOKUP(F39191,'Object Codes'!$A$18:$A$510,'Object Codes'!$H$18:$H$510)","v":"Supplies & Materials"},{"$f":"_xlfn.XLOOKUP(F39191,'Object Codes'!$A$18:$A$510,'Object Codes'!$G$18:$G$510)","v":"A"},{"$f":"_xlfn.XLOOKUP(A39191,Agencies!$A$9:$A$146,Agencies!$B$9:$B$146)","v":"Transportation Services"},{"$f":"IF(_xlfn.XLOOKUP(A39191,Agencies!A:A,Agencies!D:D)=\"Y\",IF(_xlfn.XLOOKUP(F39191,'Object Codes'!A:A,'Object Codes'!I:I)=\"Y\",\"Y\",\"N\"),\"N\")","v":"Y"},{"$f":"VLOOKUP(F39191,'Object Codes'!$A:$C,3,0)","v":"Supplies and Materials - General"},{"$f":"VLOOKUP(A39191,Agencies!A:C,3,0)","v":"Department of Transportation"},7117.9715890410953]
["841",2022,"001","012","2152","105",0,0,0,1000,1000,0,0,0,0,0,0,0,0,0,1000,0,1000,0,0,1000,{"$f":"_xlfn.XLOOKUP(F39272,'Object Codes'!$A$18:$A$510,'Object Codes'!$H$18:$H$510)","v":"Supplies & Materials"},{"$f":"_xlfn.XLOOKUP(F39272,'Object Codes'!$A$18:$A$510,'Object Codes'!$G$18:$G$510)","v":"A"},{"$f":"_xlfn.XLOOKUP(A39272,Agencies!$A$9:$A$146,Agencies!$B$9:$B$146)","v":"Transportation Services"},{"$f":"IF(_xlfn.XLOOKUP(A39272,Agencies!A:A,Agencies!D:D)=\"Y\",IF(_xlfn.XLOOKUP(F39272,'Object Codes'!A:A,'Object Codes'!I:I)=\"Y\",\"Y\",\"N\"),\"N\")","v":"Y"},{"$f":"VLOOKUP(F39272,'Object Codes'!$A:$C,3,0)","v":"Automotive Supplies and Materials"},{"$f":"VLOOKUP(A39272,Agencies!A:C,3,0)","v":"Department of Transportation"},0]
["841",2022,"001","012","2162","671",0,0,0,2163,2163,0,0,0,0,0,2125,0,2125,2125,38,2125,38,2125,2125,38,{"$f":"_xlfn.XLOOKUP(F39301,'Object Codes'!$A$18:$A$510,'Object Codes'!$H$18:$H$510)","v":"Contractual Services"},{"$f":"_xlfn.XLOOKUP(F39301,'Object Codes'!$A$18:$A$510,'Object Codes'!$G$18:$G$510)","v":0},{"$f":"_xlfn.XLOOKUP(A39301,Agencies!$A$9:$A$146,Agencies!$B$9:$B$146)","v":"Transportation Services"},{"$f":"IF(_xlfn.XLOOKUP(A39301,Agencies!A:A,Agencies!D:D)=\"Y\",IF(_xlfn.XLOOKUP(F39301,'Object Codes'!A:A,'Object Codes'!I:I)=\"Y\",\"Y\",\"N\"),\"N\")","v":"Y"},{"$f":"VLOOKUP(F39301,'Object Codes'!$A:$C,3,0)","v":"Training Program for City Employees - Contractual"},{"$f":"VLOOKUP(A39301,Agencies!A:C,3,0)","v":"Department of Transportation"},5.8219178082191778]
["841",2022,"001","012","2166","701",0,0,0,5000,5000,0,0,0,0,0,2028.99,0,2028.99,2028.99,2971.01,2028.99,2971.01,2028.99,2028.99,2971.01,{"$f":"_xlfn.XLOOKUP(F39334,'Object Codes'!$A$18:$A$510,'Object Codes'!$H$18:$H$510)","v":"Fixed Charges"},{"$f":"_xlfn.XLOOKUP(F39334,'Object Codes'!$A$18:$A$510,'Object Codes'!$G$18:$G$510)","v":0},{"$f":"_xlfn.XLOOKUP(A39334,Agencies!$A$9:$A$146,Agencies!$B$9:$B$146)","v":"Transportation Services"},{"$f":"IF(_xlfn.XLOOKUP(A39334,Agencies!A:A,Agencies!D:D)=\"Y\",IF(_xlfn.XLOOKUP(F39334,'Object Codes'!A:A,'Object Codes'!I:I)=\"Y\",\"Y\",\"N\"),\"N\")","v":"Y"},{"$f":"VLOOKUP(F39334,'Object Codes'!$A:$C,3,0)","v":"Taxes and Licenses"},{"$f":"VLOOKUP(A39334,Agencies!A:C,3,0)","v":"Department of Transportation"},5.5588767123287672]
["841",2022,"001","012","2707","100",0,0,0,49200,49200,0,0,0,0,0,41355.39,0,41355.39,41355.39,7844.61,41355.39,7844.61,41355.39,41355.39,7844.61,{"$f":"_xlfn.XLOOKUP(F39415,'Object Codes'!$A$18:$A$510,'Object Codes'!$H$18:$H$510)","v":"Supplies & Materials"},{"$f":"_xlfn.XLOOKUP(F39415,'Object Codes'!$A$18:$A$510,'Object Codes'!$G$18:$G$510)","v":"A"},{"$f":"_xlfn.XLOOKUP(A39415,Agencies!$A$9:$A$146,Agencies!$B$9:$B$146)","v":"Transportation Services"},{"$f":"IF(_xlfn.XLOOKUP(A39415,Agencies!A:A,Agencies!D:D)=\"Y\",IF(_xlfn.XLOOKUP(F39415,'Object Codes'!A:A,'Object Codes'!I:I)=\"Y\",\"Y\",\"N\"),\"N\")","v":"Y"},{"$f":"VLOOKUP(F39415,'Object Codes'!$A:$C,3,0)","v":"Supplies and Materials - General"},{"$f":"VLOOKUP(A39415,Agencies!A:C,3,0)","v":"Department of Transportation"},113.30243835616439]
["841",2022,"001","012","Z031","100",0,0,0,132000,132000,0,0,0,0,0,0,0,0,0,132000,0,132000,0,0,132000,{"$f":"_xlfn.XLOOKUP(F39450,'Object Codes'!$A$18:$A$510,'Object Codes'!$H$18:$H$510)","v":"Supplies & Materials"},{"$f":"_xlfn.XLOOKUP(F39450,'Object Codes'!$A$18:$A$510,'Object Codes'!$G$18:$G$510)","v":"A"},{"$f":"_xlfn.XLOOKUP(A39450,Agencies!$A$9:$A$146,Agencies!$B$9:$B$146)","v":"Transportation Services"},{"$f":"IF(_xlfn.XLOOKUP(A39450,Agencies!A:A,Agencies!D:D)=\"Y\",IF(_xlfn.XLOOKUP(F39450,'Object Codes'!A:A,'Object Codes'!I:I)=\"Y\",\"Y\",\"N\"),\"N\")","v":"Y"},{"$f":"VLOOKUP(F39450,'Object Codes'!$A:$C,3,0)","v":"Supplies and Materials - General"},{"$f":"VLOOKUP(A39450,Agencies!A:C,3,0)","v":"Department of Transportation"},0]
["841",2022,"001","013","3101","169",0,0,0,2381776,1244776,0,0,0,0,0,971800.99,43035.78,1014836.77,1014836.77,229939.23,1014836.77,229939.23,1014836.77,1014836.77,229939.23,{"$f":"_xlfn.XLOOKUP(F39477,'Object Codes'!$A$18:$A$510,'Object Codes'!$H$18:$H$510)","v":"Supplies & Materials"},{"$f":"_xlfn.XLOOKUP(F39477,'Object Codes'!$A$18:$A$510,'Object Codes'!$G$18:$G$510)","v":"A"},{"$f":"_xlfn.XLOOKUP(A39477,Agencies!$A$9:$A$146,Agencies!$B$9:$B$146)","v":"Transportation Services"},{"$f":"IF(_xlfn.XLOOKUP(A39477,Agencies!A:A,Agencies!D:D)=\"Y\",IF(_xlfn.XLOOKUP(F39477,'Object Codes'!A:A,'Object Codes'!I:I)=\"Y\",\"Y\",\"N\"),\"N\")","v":"Y"},{"$f":"VLOOKUP(F39477,'Object Codes'!$A:$C,3,0)","v":"Maintenance Supplies"},{"$f":"VLOOKUP(A39477,Agencies!A:C,3,0)","v":"Department of Transportation"},2780.3747123287671]
["841",2022,"001","013","3300","452",0,0,0,300,300,0,0,0,0,0,0,0,0,0,300,0,300,0,0,300,{"$f":"_xlfn.XLOOKUP(F39553,'Object Codes'!$A$18:$A$510,'Object Codes'!$H$18:$H$510)","v":"Other Services and Charges - General"},{"$f":"_xlfn.XLOOKUP(F39553,'Object Codes'!$A$18:$A$510,'Object Codes'!$G$18:$G$510)","v":0},{"$f":"_xlfn.XLOOKUP(A39553,Agencies!$A$9:$A$146,Agencies!$B$9:$B$146)","v":"Transportation Services"},{"$f":"IF(_xlfn.XLOOKUP(A39553,Agencies!A:A,Agencies!D:D)=\"Y\",IF(_xlfn.XLOOKUP(F39553,'Object Codes'!A:A,'Object Codes'!I:I)=\"Y\",\"Y\",\"N\"),\"N\")","v":"Y"},{"$f":"VLOOKUP(F39553,'Object Codes'!$A:$C,3,0)","v":"Non Overnight Travel Expenditures - Special"},{"$f":"VLOOKUP(A39553,Agencies!A:C,3,0)","v":"Department of Transportation"},0]
["841",2022,"001","014","4000","314",0,0,0,205000,205000,0,0,0,0,0,201588.2,0,201588.2,201588.2,3411.8,201588.2,3411.8,201588.2,201588.2,3411.8,{"$f":"_xlfn.XLOOKUP(F39587,'Object Codes'!$A$18:$A$510,'Object Codes'!$H$18:$H$510)","v":"Equipment"},{"$f":"_xlfn.XLOOKUP(F39587,'Object Codes'!$A$18:$A$510,'Object Codes'!$G$18:$G$510)","v":"A"},{"$f":"_xlfn.XLOOKUP(A39587,Agencies!$A$9:$A$146,Agencies!$B$9:$B$146)","v":"Transportation Services"},{"$f":"IF(_xlfn.XLOOKUP(A39587,Agencies!A:A,Agencies!D:D)=\"Y\",IF(_xlfn.XLOOKUP(F39587,'Object Codes'!A:A,'Object Codes'!I:I)=\"Y\",\"Y\",\"N\"),\"N\")","v":"Y"},{"$f":"VLOOKUP(F39587,'Object Codes'!$A:$C,3,0)","v":"Office Furniture"},{"$f":"VLOOKUP(A39587,Agencies!A:C,3,0)","v":"Department of Transportation"},552.29643835616446]
["841",2022,"001","014","4100","417",0,0,0,5000,5000,0,0,0,0,0,0,0,0,0,5000,0,5000,0,0,5000,{"$f":"_xlfn.XLOOKUP(F39645,'Object Codes'!$A$18:$A$510,'Object Codes'!$H$18:$H$510)","v":"Other Services and Charges - General"},{"$f":"_xlfn.XLOOKUP(F39645,'Object Codes'!$A$18:$A$510,'Object Codes'!$G$18:$G$510)","v":0},{"$f":"_xlfn.XLOOKUP(A39645,Agencies!$A$9:$A$146,Agencies!$B$9:$B$146)","v":"Transportation Services"},{"$f":"IF(_xlfn.XLOOKUP(A39645,Agencies!A:A,Agencies!D:D)=\"Y\",IF(_xlfn.XLOOKUP(F39645,'Object Codes'!A:A,'Object Codes'!I:I)=\"Y\",\"Y\",\"N\"),\"N\")","v":"Y"},{"$f":"VLOOKUP(F39645,'Object Codes'!$A:$C,3,0)","v":"Advertising"},{"$f":"VLOOKUP(A39645,Agencies!A:C,3,0)","v":"Department of Transportation"},0]
["841",2022,"001","014","4120","683",0,0,0,880000,825500,0,0,0,0,0,592539.34,215298.56,807837.9,807837.9,17662.099999999999,807837.9,17662.099999999999,807837.9,807837.9,17662.099999999999,{"$f":"_xlfn.XLOOKUP(F39696,'Object Codes'!$A$18:$A$510,'Object Codes'!$H$18:$H$510)","v":"Contractual Services"},{"$f":"_xlfn.XLOOKUP(F39696,'Object Codes'!$A$18:$A$510,'Object Codes'!$G$18:$G$510)","v":0},{"$f":"_xlfn.XLOOKUP(A39696,Agencies!$A$9:$A$146,Agencies!$B$9:$B$146)","v":"Transportation Services"},{"$f":"IF(_xlfn.XLOOKUP(A39696,Agencies!A:A,Agencies!D:D)=\"Y\",IF(_xlfn.XLOOKUP(F39696,'Object Codes'!A:A,'Object Codes'!I:I)=\"Y\",\"Y\",\"N\"),\"N\")","v":"Y"},{"$f":"VLOOKUP(F39696,'Object Codes'!$A:$C,3,0)","v":"Professional Services  Engineering and Architectural Services - Contractual"},{"$f":"VLOOKUP(A39696,Agencies!A:C,3,0)","v":"Department of Transportation"},2213.254520547945]
["841",2022,"001","014","4125","117",0,0,0,1000,1000,0,0,0,0,0,748.67,0,748.67,748.67,251.33,748.67,251.33,748.67,748.67,251.33,{"$f":"_xlfn.XLOOKUP(F39730,'Object Codes'!$A$18:$A$510,'Object Codes'!$H$18:$H$510)","v":"Supplies & Materials"},{"$f":"_xlfn.XLOOKUP(F39730,'Object Codes'!$A$18:$A$510,'Object Codes'!$G$18:$G$510)","v":"A"},{"$f":"_xlfn.XLOOKUP(A39730,Agencies!$A$9:$A$146,Agencies!$B$9:$B$146)","v":"Transportation Services"},{"$f":"IF(_xlfn.XLOOKUP(A39730,Agencies!A:A,Agencies!D:D)=\"Y\",IF(_xlfn.XLOOKUP(F39730,'Object Codes'!A:A,'Object Codes'!I:I)=\"Y\",\"Y\",\"N\"),\"N\")","v":"Y"},{"$f":"VLOOKUP(F39730,'Object Codes'!$A:$C,3,0)","v":"Postage"},{"$f":"VLOOKUP(A39730,Agencies!A:C,3,0)","v":"Department of Transportation"},2.0511506849315069]
["841",2022,"001","014","4126","600",0,0,0,6000,2000,0,0,0,0,0,0,0,0,0,2000,0,2000,0,0,2000,{"$f":"_xlfn.XLOOKUP(F39760,'Object Codes'!$A$18:$A$510,'Object Codes'!$H$18:$H$510)","v":"Contractual Services"},{"$f":"_xlfn.XLOOKUP(F39760,'Object Codes'!$A$18:$A$510,'Object Codes'!$G$18:$G$510)","v":0},{"$f":"_xlfn.XLOOKUP(A39760,Agencies!$A$9:$A$146,Agencies!$B$9:$B$146)","v":"Transportation Services"},{"$f":"IF(_xlfn.XLOOKUP(A39760,Agencies!A:A,Agencies!D:D)=\"Y\",IF(_xlfn.XLOOKUP(F39760,'Object Codes'!A:A,'Object Codes'!I:I)=\"Y\",\"Y\",\"N\"),\"N\")","v":"Y"},{"$f":"VLOOKUP(F39760,'Object Codes'!$A:$C,3,0)","v":"Contractual Services - General"},{"$f":"VLOOKUP(A39760,Agencies!A:C,3,0)","v":"Department of Transportation"},0]
["841",2022,"001","014","4138","600",0,0,0,7500,883,0,0,0,0,0,882.64,0,882.64,882.64,0.36,882.64,0.36,882.64,882.64,0.36,{"$f":"_xlfn.XLOOKUP(F39839,'Object Codes'!$A$18:$A$510,'Object Codes'!$H$18:$H$510)","v":"Contractual Services"},{"$f":"_xlfn.XLOOKUP(F39839,'Object Codes'!$A$18:$A$510,'Object Codes'!$G$18:$G$510)","v":0},{"$f":"_xlfn.XLOOKUP(A39839,Agencies!$A$9:$A$146,Agencies!$B$9:$B$146)","v":"Transportation Services"},{"$f":"IF(_xlfn.XLOOKUP(A39839,Agencies!A:A,Agencies!D:D)=\"Y\",IF(_xlfn.XLOOKUP(F39839,'Object Codes'!A:A,'Object Codes'!I:I)=\"Y\",\"Y\",\"N\"),\"N\")","v":"Y"},{"$f":"VLOOKUP(F39839,'Object Codes'!$A:$C,3,0)","v":"Contractual Services - General"},{"$f":"VLOOKUP(A39839,Agencies!A:C,3,0)","v":"Department of Transportation"},2.418191780821918]
["841",2022,"001","014","4140","619",0,0,0,249450,0,0,0,0,0,0,249450,0,249450,249450,-249450,249450,-249450,249450,249450,-249450,{"$f":"_xlfn.XLOOKUP(F39873,'Object Codes'!$A$18:$A$510,'Object Codes'!$H$18:$H$510)","v":"Contractual Services"},{"$f":"_xlfn.XLOOKUP(F39873,'Object Codes'!$A$18:$A$510,'Object Codes'!$G$18:$G$510)","v":0},{"$f":"_xlfn.XLOOKUP(A39873,Agencies!$A$9:$A$146,Agencies!$B$9:$B$146)","v":"Transportation Services"},{"$f":"IF(_xlfn.XLOOKUP(A39873,Agencies!A:A,Agencies!D:D)=\"Y\",IF(_xlfn.XLOOKUP(F39873,'Object Codes'!A:A,'Object Codes'!I:I)=\"Y\",\"Y\",\"N\"),\"N\")","v":"Y"},{"$f":"VLOOKUP(F39873,'Object Codes'!$A:$C,3,0)","v":"Security Services - Contractual"},{"$f":"VLOOKUP(A39873,Agencies!A:C,3,0)","v":"Department of Transportation"},683.42465753424653]
["841",2022,"001","014","4150","300",0,0,0,1200,194,0,0,0,0,0,0,0,0,0,194,0,194,0,0,194,{"$f":"_xlfn.XLOOKUP(F39909,'Object Codes'!$A$18:$A$510,'Object Codes'!$H$18:$H$510)","v":"Equipment"},{"$f":"_xlfn.XLOOKUP(F39909,'Object Codes'!$A$18:$A$510,'Object Codes'!$G$18:$G$510)","v":"A"},{"$f":"_xlfn.XLOOKUP(A39909,Agencies!$A$9:$A$146,Agencies!$B$9:$B$146)","v":"Transportation Services"},{"$f":"IF(_xlfn.XLOOKUP(A39909,Agencies!A:A,Agencies!D:D)=\"Y\",IF(_xlfn.XLOOKUP(F39909,'Object Codes'!A:A,'Object Codes'!I:I)=\"Y\",\"Y\",\"N\"),\"N\")","v":"Y"},{"$f":"VLOOKUP(F39909,'Object Codes'!$A:$C,3,0)","v":"Equipment - General"},{"$f":"VLOOKUP(A39909,Agencies!A:C,3,0)","v":"Department of Transportation"},0]
["841",2022,"001","014","4170","169",0,0,0,35000,4104,0,0,0,0,0,4103.54,0,4103.54,4103.54,0.46,4103.54,0.46,4103.54,4103.54,0.46,{"$f":"_xlfn.XLOOKUP(F39935,'Object Codes'!$A$18:$A$510,'Object Codes'!$H$18:$H$510)","v":"Supplies & Materials"},{"$f":"_xlfn.XLOOKUP(F39935,'Object Codes'!$A$18:$A$510,'Object Codes'!$G$18:$G$510)","v":"A"},{"$f":"_xlfn.XLOOKUP(A39935,Agencies!$A$9:$A$146,Agencies!$B$9:$B$146)","v":"Transportation Services"},{"$f":"IF(_xlfn.XLOOKUP(A39935,Agencies!A:A,Agencies!D:D)=\"Y\",IF(_xlfn.XLOOKUP(F39935,'Object Codes'!A:A,'Object Codes'!I:I)=\"Y\",\"Y\",\"N\"),\"N\")","v":"Y"},{"$f":"VLOOKUP(F39935,'Object Codes'!$A:$C,3,0)","v":"Maintenance Supplies"},{"$f":"VLOOKUP(A39935,Agencies!A:C,3,0)","v":"Department of Transportation"},11.242575342465754]
["841",2022,"001","014","4300","624",0,0,0,36960,35890,0,0,0,0,0,0,0,0,0,35890,0,35890,0,0,35890,{"$f":"_xlfn.XLOOKUP(F40016,'Object Codes'!$A$18:$A$510,'Object Codes'!$H$18:$H$510)","v":"Contractual Services"},{"$f":"_xlfn.XLOOKUP(F40016,'Object Codes'!$A$18:$A$510,'Object Codes'!$G$18:$G$510)","v":0},{"$f":"_xlfn.XLOOKUP(A40016,Agencies!$A$9:$A$146,Agencies!$B$9:$B$146)","v":"Transportation Services"},{"$f":"IF(_xlfn.XLOOKUP(A40016,Agencies!A:A,Agencies!D:D)=\"Y\",IF(_xlfn.XLOOKUP(F40016,'Object Codes'!A:A,'Object Codes'!I:I)=\"Y\",\"Y\",\"N\"),\"N\")","v":"Y"},{"$f":"VLOOKUP(F40016,'Object Codes'!$A:$C,3,0)","v":"Cleaning Services - Contractual"},{"$f":"VLOOKUP(A40016,Agencies!A:C,3,0)","v":"Department of Transportation"},0]
["841",2022,"001","014","4495","608",0,0,0,1380,1380,0,0,0,0,0,0,0,0,0,1380,0,1380,0,0,1380,{"$f":"_xlfn.XLOOKUP(F40058,'Object Codes'!$A$18:$A$510,'Object Codes'!$H$18:$H$510)","v":"Contractual Services"},{"$f":"_xlfn.XLOOKUP(F40058,'Object Codes'!$A$18:$A$510,'Object Codes'!$G$18:$G$510)","v":0},{"$f":"_xlfn.XLOOKUP(A40058,Agencies!$A$9:$A$146,Agencies!$B$9:$B$146)","v":"Transportation Services"},{"$f":"IF(_xlfn.XLOOKUP(A40058,Agencies!A:A,Agencies!D:D)=\"Y\",IF(_xlfn.XLOOKUP(F40058,'Object Codes'!A:A,'Object Codes'!I:I)=\"Y\",\"Y\",\"N\"),\"N\")","v":"Y"},{"$f":"VLOOKUP(F40058,'Object Codes'!$A:$C,3,0)","v":"Maintenance and Repairs - General - Contractual"},{"$f":"VLOOKUP(A40058,Agencies!A:C,3,0)","v":"Department of Transportation"},0]
["841",2022,"001","014","4502","686",0,0,0,0,0,0,0,0,0,0,1960.75,0,1960.75,1960.75,-1960.75,1960.75,-1960.75,1960.75,1960.75,-1960.75,{"$f":"_xlfn.XLOOKUP(F40078,'Object Codes'!$A$18:$A$510,'Object Codes'!$H$18:$H$510)","v":"Contractual Services"},{"$f":"_xlfn.XLOOKUP(F40078,'Object Codes'!$A$18:$A$510,'Object Codes'!$G$18:$G$510)","v":0},{"$f":"_xlfn.XLOOKUP(A40078,Agencies!$A$9:$A$146,Agencies!$B$9:$B$146)","v":"Transportation Services"},{"$f":"IF(_xlfn.XLOOKUP(A40078,Agencies!A:A,Agencies!D:D)=\"Y\",IF(_xlfn.XLOOKUP(F40078,'Object Codes'!A:A,'Object Codes'!I:I)=\"Y\",\"Y\",\"N\"),\"N\")","v":"Y"},{"$f":"VLOOKUP(F40078,'Object Codes'!$A:$C,3,0)","v":"Professional Services - Other - Contractual"},{"$f":"VLOOKUP(A40078,Agencies!A:C,3,0)","v":"Department of Transportation"},5.3719178082191785]
["841",2022,"001","014","5270","169",0,0,0,0,0,0,0,0,0,0,9745.39,0,9745.39,9745.39,-9745.39,9745.39,-9745.39,9745.39,9745.39,-9745.39,{"$f":"_xlfn.XLOOKUP(F40154,'Object Codes'!$A$18:$A$510,'Object Codes'!$H$18:$H$510)","v":"Supplies & Materials"},{"$f":"_xlfn.XLOOKUP(F40154,'Object Codes'!$A$18:$A$510,'Object Codes'!$G$18:$G$510)","v":"A"},{"$f":"_xlfn.XLOOKUP(A40154,Agencies!$A$9:$A$146,Agencies!$B$9:$B$146)","v":"Transportation Services"},{"$f":"IF(_xlfn.XLOOKUP(A40154,Agencies!A:A,Agencies!D:D)=\"Y\",IF(_xlfn.XLOOKUP(F40154,'Object Codes'!A:A,'Object Codes'!I:I)=\"Y\",\"Y\",\"N\"),\"N\")","v":"Y"},{"$f":"VLOOKUP(F40154,'Object Codes'!$A:$C,3,0)","v":"Maintenance Supplies"},{"$f":"VLOOKUP(A40154,Agencies!A:C,3,0)","v":"Department of Transportation"},26.699698630136986]
["846",2022,"001","001","1000","001",0,0,0,5122,5122,0,0,0,0,0,0,0,0,0,5122,0,5122,0,0,5122,{"$f":"_xlfn.XLOOKUP(F40207,'Object Codes'!$A$18:$A$510,'Object Codes'!$H$18:$H$510)","v":"PS - Regular"},{"$f":"_xlfn.XLOOKUP(F40207,'Object Codes'!$A$18:$A$510,'Object Codes'!$G$18:$G$510)","v":"C"},{"$f":"_xlfn.XLOOKUP(A40207,Agencies!$A$9:$A$146,Agencies!$B$9:$B$146)","v":"Parks, Recreation and Cultural Activities"},{"$f":"IF(_xlfn.XLOOKUP(A40207,Agencies!A:A,Agencies!D:D)=\"Y\",IF(_xlfn.XLOOKUP(F40207,'Object Codes'!A:A,'Object Codes'!I:I)=\"Y\",\"Y\",\"N\"),\"N\")","v":"Y"},{"$f":"VLOOKUP(F40207,'Object Codes'!$A:$C,3,0)","v":"Full Year Positions"},{"$f":"VLOOKUP(A40207,Agencies!A:C,3,0)","v":"Dept of Parks and Recreation"},0]
["846",2022,"001","001","1105","051",0,0,0,624,624,0,0,0,0,0,0,0,0,0,624,0,624,0,0,624,{"$f":"_xlfn.XLOOKUP(F40221,'Object Codes'!$A$18:$A$510,'Object Codes'!$H$18:$H$510)","v":"PS - Additional Gross"},{"$f":"_xlfn.XLOOKUP(F40221,'Object Codes'!$A$18:$A$510,'Object Codes'!$G$18:$G$510)","v":"A"},{"$f":"_xlfn.XLOOKUP(A40221,Agencies!$A$9:$A$146,Agencies!$B$9:$B$146)","v":"Parks, Recreation and Cultural Activities"},{"$f":"IF(_xlfn.XLOOKUP(A40221,Agencies!A:A,Agencies!D:D)=\"Y\",IF(_xlfn.XLOOKUP(F40221,'Object Codes'!A:A,'Object Codes'!I:I)=\"Y\",\"Y\",\"N\"),\"N\")","v":"Y"},{"$f":"VLOOKUP(F40221,'Object Codes'!$A:$C,3,0)","v":"Salary Adjustments"},{"$f":"VLOOKUP(A40221,Agencies!A:C,3,0)","v":"Dept of Parks and Recreation"},0]
["846",2022,"001","002","2181","057",0,0,0,0,500,0,0,0,0,0,500,0,500,500,0,500,0,500,500,0,{"$f":"_xlfn.XLOOKUP(F40297,'Object Codes'!$A$18:$A$510,'Object Codes'!$H$18:$H$510)","v":"PS - Additional Gross"},{"$f":"_xlfn.XLOOKUP(F40297,'Object Codes'!$A$18:$A$510,'Object Codes'!$G$18:$G$510)","v":"A"},{"$f":"_xlfn.XLOOKUP(A40297,Agencies!$A$9:$A$146,Agencies!$B$9:$B$146)","v":"Parks, Recreation and Cultural Activities"},{"$f":"IF(_xlfn.XLOOKUP(A40297,Agencies!A:A,Agencies!D:D)=\"Y\",IF(_xlfn.XLOOKUP(F40297,'Object Codes'!A:A,'Object Codes'!I:I)=\"Y\",\"Y\",\"N\"),\"N\")","v":"Y"},{"$f":"VLOOKUP(F40297,'Object Codes'!$A:$C,3,0)","v":"Bonus Payments"},{"$f":"VLOOKUP(A40297,Agencies!A:C,3,0)","v":"Dept of Parks and Recreation"},1.3698630136986301]
["846",2022,"001","002","2210","045",0,0,0,20000,20000,0,0,0,0,0,24140.77,0,24140.77,24140.77,-4140.7700000000004,24140.77,-4140.7700000000004,24140.77,24140.77,-4140.7700000000004,{"$f":"_xlfn.XLOOKUP(F40310,'Object Codes'!$A$18:$A$510,'Object Codes'!$H$18:$H$510)","v":"PS - Additional Gross"},{"$f":"_xlfn.XLOOKUP(F40310,'Object Codes'!$A$18:$A$510,'Object Codes'!$G$18:$G$510)","v":"A"},{"$f":"_xlfn.XLOOKUP(A40310,Agencies!$A$9:$A$146,Agencies!$B$9:$B$146)","v":"Parks, Recreation and Cultural Activities"},{"$f":"IF(_xlfn.XLOOKUP(A40310,Agencies!A:A,Agencies!D:D)=\"Y\",IF(_xlfn.XLOOKUP(F40310,'Object Codes'!A:A,'Object Codes'!I:I)=\"Y\",\"Y\",\"N\"),\"N\")","v":"Y"},{"$f":"VLOOKUP(F40310,'Object Codes'!$A:$C,3,0)","v":"Holiday Pay"},{"$f":"VLOOKUP(A40310,Agencies!A:C,3,0)","v":"Dept of Parks and Recreation"},66.139095890410957]
["846",2022,"001","002","2278","045",0,0,0,0,0,0,0,0,0,0,10805.75,0,10805.75,10805.75,-10805.75,10805.75,-10805.75,10805.75,10805.75,-10805.75,{"$f":"_xlfn.XLOOKUP(F40364,'Object Codes'!$A$18:$A$510,'Object Codes'!$H$18:$H$510)","v":"PS - Additional Gross"},{"$f":"_xlfn.XLOOKUP(F40364,'Object Codes'!$A$18:$A$510,'Object Codes'!$G$18:$G$510)","v":"A"},{"$f":"_xlfn.XLOOKUP(A40364,Agencies!$A$9:$A$146,Agencies!$B$9:$B$146)","v":"Parks, Recreation and Cultural Activities"},{"$f":"IF(_xlfn.XLOOKUP(A40364,Agencies!A:A,Agencies!D:D)=\"Y\",IF(_xlfn.XLOOKUP(F40364,'Object Codes'!A:A,'Object Codes'!I:I)=\"Y\",\"Y\",\"N\"),\"N\")","v":"Y"},{"$f":"VLOOKUP(F40364,'Object Codes'!$A:$C,3,0)","v":"Holiday Pay"},{"$f":"VLOOKUP(A40364,Agencies!A:C,3,0)","v":"Dept of Parks and Recreation"},29.604794520547944]
["846",2022,"001","002","2290","064",0,0,0,9328,9328,0,0,0,0,0,9440,0,9440,9440,-112,9440,-112,9440,9440,-112,{"$f":"_xlfn.XLOOKUP(F40440,'Object Codes'!$A$18:$A$510,'Object Codes'!$H$18:$H$510)","v":"PS - Other"},{"$f":"_xlfn.XLOOKUP(F40440,'Object Codes'!$A$18:$A$510,'Object Codes'!$G$18:$G$510)","v":"A"},{"$f":"_xlfn.XLOOKUP(A40440,Agencies!$A$9:$A$146,Agencies!$B$9:$B$146)","v":"Parks, Recreation and Cultural Activities"},{"$f":"IF(_xlfn.XLOOKUP(A40440,Agencies!A:A,Agencies!D:D)=\"Y\",IF(_xlfn.XLOOKUP(F40440,'Object Codes'!A:A,'Object Codes'!I:I)=\"Y\",\"Y\",\"N\"),\"N\")","v":"Y"},{"$f":"VLOOKUP(F40440,'Object Codes'!$A:$C,3,0)","v":"Allowance for Uniforms"},{"$f":"VLOOKUP(A40440,Agencies!A:C,3,0)","v":"Dept of Parks and Recreation"},25.863013698630137]
["846",2022,"001","002","2297","041",0,0,0,31779,31779,0,0,0,0,0,0,0,0,0,31779,0,31779,0,0,31779,{"$f":"_xlfn.XLOOKUP(F40459,'Object Codes'!$A$18:$A$510,'Object Codes'!$H$18:$H$510)","v":"PS - Additional Gross"},{"$f":"_xlfn.XLOOKUP(F40459,'Object Codes'!$A$18:$A$510,'Object Codes'!$G$18:$G$510)","v":"A"},{"$f":"_xlfn.XLOOKUP(A40459,Agencies!$A$9:$A$146,Agencies!$B$9:$B$146)","v":"Parks, Recreation and Cultural Activities"},{"$f":"IF(_xlfn.XLOOKUP(A40459,Agencies!A:A,Agencies!D:D)=\"Y\",IF(_xlfn.XLOOKUP(F40459,'Object Codes'!A:A,'Object Codes'!I:I)=\"Y\",\"Y\",\"N\"),\"N\")","v":"Y"},{"$f":"VLOOKUP(F40459,'Object Codes'!$A:$C,3,0)","v":"Assignment Differential"},{"$f":"VLOOKUP(A40459,Agencies!A:C,3,0)","v":"Dept of Parks and Recreation"},0]
["846",2022,"001","002","2318","041",0,0,0,0,0,0,0,0,0,0,1953.69,0,1953.69,1953.69,-1953.69,1953.69,-1953.69,1953.69,1953.69,-1953.69,{"$f":"_xlfn.XLOOKUP(F40502,'Object Codes'!$A$18:$A$510,'Object Codes'!$H$18:$H$510)","v":"PS - Additional Gross"},{"$f":"_xlfn.XLOOKUP(F40502,'Object Codes'!$A$18:$A$510,'Object Codes'!$G$18:$G$510)","v":"A"},{"$f":"_xlfn.XLOOKUP(A40502,Agencies!$A$9:$A$146,Agencies!$B$9:$B$146)","v":"Parks, Recreation and Cultural Activities"},{"$f":"IF(_xlfn.XLOOKUP(A40502,Agencies!A:A,Agencies!D:D)=\"Y\",IF(_xlfn.XLOOKUP(F40502,'Object Codes'!A:A,'Object Codes'!I:I)=\"Y\",\"Y\",\"N\"),\"N\")","v":"Y"},{"$f":"VLOOKUP(F40502,'Object Codes'!$A:$C,3,0)","v":"Assignment Differential"},{"$f":"VLOOKUP(A40502,Agencies!A:C,3,0)","v":"Dept of Parks and Recreation"},5.3525753424657534]
["846",2022,"001","002","2380","X42",0,0,0,0,0,0,0,0,0,0,240.7,0,240.7,240.7,-240.7,240.7,-240.7,240.7,240.7,-240.7,{"$f":"_xlfn.XLOOKUP(F40583,'Object Codes'!$A$18:$A$510,'Object Codes'!$H$18:$H$510)","v":"PS - Additional Gross"},{"$f":"_xlfn.XLOOKUP(F40583,'Object Codes'!$A$18:$A$510,'Object Codes'!$G$18:$G$510)","v":"A"},{"$f":"_xlfn.XLOOKUP(A40583,Agencies!$A$9:$A$146,Agencies!$B$9:$B$146)","v":"Parks, Recreation and Cultural Activities"},{"$f":"IF(_xlfn.XLOOKUP(A40583,Agencies!A:A,Agencies!D:D)=\"Y\",IF(_xlfn.XLOOKUP(F40583,'Object Codes'!A:A,'Object Codes'!I:I)=\"Y\",\"Y\",\"N\"),\"N\")","v":"Y"},{"$f":"VLOOKUP(F40583,'Object Codes'!$A:$C,3,0)","v":"PY LONGEVITY DIFFERENTIAL"},{"$f":"VLOOKUP(A40583,Agencies!A:C,3,0)","v":"Dept of Parks and Recreation"},0.65945205479452051]
["846",2022,"001","002","2540","061",0,0,0,0,0,0,0,0,0,0,348.5,0,348.5,348.5,-348.5,348.5,-348.5,348.5,348.5,-348.5,{"$f":"_xlfn.XLOOKUP(F40617,'Object Codes'!$A$18:$A$510,'Object Codes'!$H$18:$H$510)","v":"PS - Additional Gross"},{"$f":"_xlfn.XLOOKUP(F40617,'Object Codes'!$A$18:$A$510,'Object Codes'!$G$18:$G$510)","v":"A"},{"$f":"_xlfn.XLOOKUP(A40617,Agencies!$A$9:$A$146,Agencies!$B$9:$B$146)","v":"Parks, Recreation and Cultural Activities"},{"$f":"IF(_xlfn.XLOOKUP(A40617,Agencies!A:A,Agencies!D:D)=\"Y\",IF(_xlfn.XLOOKUP(F40617,'Object Codes'!A:A,'Object Codes'!I:I)=\"Y\",\"Y\",\"N\"),\"N\")","v":"Y"},{"$f":"VLOOKUP(F40617,'Object Codes'!$A:$C,3,0)","v":"Supper Money"},{"$f":"VLOOKUP(A40617,Agencies!A:C,3,0)","v":"Dept of Parks and Recreation"},0.95479452054794522]
["846",2022,"001","002","2650","061",0,0,0,0,0,0,0,0,0,0,24.75,0,24.75,24.75,-24.75,24.75,-24.75,24.75,24.75,-24.75,{"$f":"_xlfn.XLOOKUP(F40666,'Object Codes'!$A$18:$A$510,'Object Codes'!$H$18:$H$510)","v":"PS - Additional Gross"},{"$f":"_xlfn.XLOOKUP(F40666,'Object Codes'!$A$18:$A$510,'Object Codes'!$G$18:$G$510)","v":"A"},{"$f":"_xlfn.XLOOKUP(A40666,Agencies!$A$9:$A$146,Agencies!$B$9:$B$146)","v":"Parks, Recreation and Cultural Activities"},{"$f":"IF(_xlfn.XLOOKUP(A40666,Agencies!A:A,Agencies!D:D)=\"Y\",IF(_xlfn.XLOOKUP(F40666,'Object Codes'!A:A,'Object Codes'!I:I)=\"Y\",\"Y\",\"N\"),\"N\")","v":"Y"},{"$f":"VLOOKUP(F40666,'Object Codes'!$A:$C,3,0)","v":"Supper Money"},{"$f":"VLOOKUP(A40666,Agencies!A:C,3,0)","v":"Dept of Parks and Recreation"},6.7808219178082191E-2]
["846",2022,"001","002","2820","064",0,0,0,0,0,0,0,0,0,0,996,0,996,996,-996,996,-996,996,996,-996,{"$f":"_xlfn.XLOOKUP(F40726,'Object Codes'!$A$18:$A$510,'Object Codes'!$H$18:$H$510)","v":"PS - Other"},{"$f":"_xlfn.XLOOKUP(F40726,'Object Codes'!$A$18:$A$510,'Object Codes'!$G$18:$G$510)","v":"A"},{"$f":"_xlfn.XLOOKUP(A40726,Agencies!$A$9:$A$146,Agencies!$B$9:$B$146)","v":"Parks, Recreation and Cultural Activities"},{"$f":"IF(_xlfn.XLOOKUP(A40726,Agencies!A:A,Agencies!D:D)=\"Y\",IF(_xlfn.XLOOKUP(F40726,'Object Codes'!A:A,'Object Codes'!I:I)=\"Y\",\"Y\",\"N\"),\"N\")","v":"Y"},{"$f":"VLOOKUP(F40726,'Object Codes'!$A:$C,3,0)","v":"Allowance for Uniforms"},{"$f":"VLOOKUP(A40726,Agencies!A:C,3,0)","v":"Dept of Parks and Recreation"},2.7287671232876711]
["846",2022,"001","002","2860","001",0,0,0,3176,3176,0,0,0,0,0,251684.22,0,251684.22,251684.22,-248508.22,251684.22,-248508.22,251684.22,251684.22,-248508.22,{"$f":"_xlfn.XLOOKUP(F40755,'Object Codes'!$A$18:$A$510,'Object Codes'!$H$18:$H$510)","v":"PS - Regular"},{"$f":"_xlfn.XLOOKUP(F40755,'Object Codes'!$A$18:$A$510,'Object Codes'!$G$18:$G$510)","v":"C"},{"$f":"_xlfn.XLOOKUP(A40755,Agencies!$A$9:$A$146,Agencies!$B$9:$B$146)","v":"Parks, Recreation and Cultural Activities"},{"$f":"IF(_xlfn.XLOOKUP(A40755,Agencies!A:A,Agencies!D:D)=\"Y\",IF(_xlfn.XLOOKUP(F40755,'Object Codes'!A:A,'Object Codes'!I:I)=\"Y\",\"Y\",\"N\"),\"N\")","v":"Y"},{"$f":"VLOOKUP(F40755,'Object Codes'!$A:$C,3,0)","v":"Full Year Positions"},{"$f":"VLOOKUP(A40755,Agencies!A:C,3,0)","v":"Dept of Parks and Recreation"},689.54580821917807]
["846",2022,"001","002","2891","X43",0,0,0,0,0,0,0,0,0,0,0.21,0,0.21,0.21,-0.21,0.21,-0.21,0.21,0.21,-0.21,{"$f":"_xlfn.XLOOKUP(F40815,'Object Codes'!$A$18:$A$510,'Object Codes'!$H$18:$H$510)","v":"PS - Additional Gross"},{"$f":"_xlfn.XLOOKUP(F40815,'Object Codes'!$A$18:$A$510,'Object Codes'!$G$18:$G$510)","v":"A"},{"$f":"_xlfn.XLOOKUP(A40815,Agencies!$A$9:$A$146,Agencies!$B$9:$B$146)","v":"Parks, Recreation and Cultural Activities"},{"$f":"IF(_xlfn.XLOOKUP(A40815,Agencies!A:A,Agencies!D:D)=\"Y\",IF(_xlfn.XLOOKUP(F40815,'Object Codes'!A:A,'Object Codes'!I:I)=\"Y\",\"Y\",\"N\"),\"N\")","v":"Y"},{"$f":"VLOOKUP(F40815,'Object Codes'!$A:$C,3,0)","v":"PY SHIFT DIFFERENTIAL"},{"$f":"VLOOKUP(A40815,Agencies!A:C,3,0)","v":"Dept of Parks and Recreation"},5.7534246575342461E-4]
["846",2022,"001","002","2899","042",0,0,0,208014,208014,0,0,0,0,0,665909.17000000004,0,665909.17000000004,665909.17000000004,-457895.17,665909.17000000004,-457895.17,665909.17000000004,665909.17000000004,-457895.17,{"$f":"_xlfn.XLOOKUP(F40822,'Object Codes'!$A$18:$A$510,'Object Codes'!$H$18:$H$510)","v":"PS - Additional Gross"},{"$f":"_xlfn.XLOOKUP(F40822,'Object Codes'!$A$18:$A$510,'Object Codes'!$G$18:$G$510)","v":"A"},{"$f":"_xlfn.XLOOKUP(A40822,Agencies!$A$9:$A$146,Agencies!$B$9:$B$146)","v":"Parks, Recreation and Cultural Activities"},{"$f":"IF(_xlfn.XLOOKUP(A40822,Agencies!A:A,Agencies!D:D)=\"Y\",IF(_xlfn.XLOOKUP(F40822,'Object Codes'!A:A,'Object Codes'!I:I)=\"Y\",\"Y\",\"N\"),\"N\")","v":"Y"},{"$f":"VLOOKUP(F40822,'Object Codes'!$A:$C,3,0)","v":"Longevity Differential"},{"$f":"VLOOKUP(A40822,Agencies!A:C,3,0)","v":"Dept of Parks and Recreation"},1824.408684931507]
["846",2022,"001","002","5232","001",0,4,4,160000,197477,0,0,0,0,0,174204.66,0,174204.66,174204.66,23272.34,174204.66,23272.34,174204.66,174204.66,23272.34,{"$f":"_xlfn.XLOOKUP(F40898,'Object Codes'!$A$18:$A$510,'Object Codes'!$H$18:$H$510)","v":"PS - Regular"},{"$f":"_xlfn.XLOOKUP(F40898,'Object Codes'!$A$18:$A$510,'Object Codes'!$G$18:$G$510)","v":"C"},{"$f":"_xlfn.XLOOKUP(A40898,Agencies!$A$9:$A$146,Agencies!$B$9:$B$146)","v":"Parks, Recreation and Cultural Activities"},{"$f":"IF(_xlfn.XLOOKUP(A40898,Agencies!A:A,Agencies!D:D)=\"Y\",IF(_xlfn.XLOOKUP(F40898,'Object Codes'!A:A,'Object Codes'!I:I)=\"Y\",\"Y\",\"N\"),\"N\")","v":"Y"},{"$f":"VLOOKUP(F40898,'Object Codes'!$A:$C,3,0)","v":"Full Year Positions"},{"$f":"VLOOKUP(A40898,Agencies!A:C,3,0)","v":"Dept of Parks and Recreation"},477.27304109589045]
["846",2022,"001","002","5238","042",0,0,0,0,38170,0,0,0,0,0,39396.129999999997,0,39396.129999999997,39396.129999999997,-1226.1300000000001,39396.129999999997,-1226.1300000000001,39396.129999999997,39396.129999999997,-1226.1300000000001,{"$f":"_xlfn.XLOOKUP(F40918,'Object Codes'!$A$18:$A$510,'Object Codes'!$H$18:$H$510)","v":"PS - Additional Gross"},{"$f":"_xlfn.XLOOKUP(F40918,'Object Codes'!$A$18:$A$510,'Object Codes'!$G$18:$G$510)","v":"A"},{"$f":"_xlfn.XLOOKUP(A40918,Agencies!$A$9:$A$146,Agencies!$B$9:$B$146)","v":"Parks, Recreation and Cultural Activities"},{"$f":"IF(_xlfn.XLOOKUP(A40918,Agencies!A:A,Agencies!D:D)=\"Y\",IF(_xlfn.XLOOKUP(F40918,'Object Codes'!A:A,'Object Codes'!I:I)=\"Y\",\"Y\",\"N\"),\"N\")","v":"Y"},{"$f":"VLOOKUP(F40918,'Object Codes'!$A:$C,3,0)","v":"Longevity Differential"},{"$f":"VLOOKUP(A40918,Agencies!A:C,3,0)","v":"Dept of Parks and Recreation"},107.93460273972602]
["846",2022,"001","002","5255","042",0,0,0,0,7746,0,0,0,0,0,7686.12,0,7686.12,7686.12,59.88,7686.12,59.88,7686.12,7686.12,59.88,{"$f":"_xlfn.XLOOKUP(F40965,'Object Codes'!$A$18:$A$510,'Object Codes'!$H$18:$H$510)","v":"PS - Additional Gross"},{"$f":"_xlfn.XLOOKUP(F40965,'Object Codes'!$A$18:$A$510,'Object Codes'!$G$18:$G$510)","v":"A"},{"$f":"_xlfn.XLOOKUP(A40965,Agencies!$A$9:$A$146,Agencies!$B$9:$B$146)","v":"Parks, Recreation and Cultural Activities"},{"$f":"IF(_xlfn.XLOOKUP(A40965,Agencies!A:A,Agencies!D:D)=\"Y\",IF(_xlfn.XLOOKUP(F40965,'Object Codes'!A:A,'Object Codes'!I:I)=\"Y\",\"Y\",\"N\"),\"N\")","v":"Y"},{"$f":"VLOOKUP(F40965,'Object Codes'!$A:$C,3,0)","v":"Longevity Differential"},{"$f":"VLOOKUP(A40965,Agencies!A:C,3,0)","v":"Dept of Parks and Recreation"},21.057863013698629]
["846",2022,"001","002","5621","089",0,0,0,0,36006,0,0,0,0,0,0,0,0,0,36006,0,36006,0,0,36006,{"$f":"_xlfn.XLOOKUP(F41041,'Object Codes'!$A$18:$A$510,'Object Codes'!$H$18:$H$510)","v":"PS - Other"},{"$f":"_xlfn.XLOOKUP(F41041,'Object Codes'!$A$18:$A$510,'Object Codes'!$G$18:$G$510)","v":"A"},{"$f":"_xlfn.XLOOKUP(A41041,Agencies!$A$9:$A$146,Agencies!$B$9:$B$146)","v":"Parks, Recreation and Cultural Activities"},{"$f":"IF(_xlfn.XLOOKUP(A41041,Agencies!A:A,Agencies!D:D)=\"Y\",IF(_xlfn.XLOOKUP(F41041,'Object Codes'!A:A,'Object Codes'!I:I)=\"Y\",\"Y\",\"N\"),\"N\")","v":"Y"},{"$f":"VLOOKUP(F41041,'Object Codes'!$A:$C,3,0)","v":"Fringe Benefits - Other"},{"$f":"VLOOKUP(A41041,Agencies!A:C,3,0)","v":"Dept of Parks and Recreation"},0]
["846",2022,"001","002","5745","047",0,0,0,0,0,0,0,0,0,0,348.75,0,348.75,348.75,-348.75,348.75,-348.75,348.75,348.75,-348.75,{"$f":"_xlfn.XLOOKUP(F41067,'Object Codes'!$A$18:$A$510,'Object Codes'!$H$18:$H$510)","v":"PS - Additional Gross"},{"$f":"_xlfn.XLOOKUP(F41067,'Object Codes'!$A$18:$A$510,'Object Codes'!$G$18:$G$510)","v":"C"},{"$f":"_xlfn.XLOOKUP(A41067,Agencies!$A$9:$A$146,Agencies!$B$9:$B$146)","v":"Parks, Recreation and Cultural Activities"},{"$f":"IF(_xlfn.XLOOKUP(A41067,Agencies!A:A,Agencies!D:D)=\"Y\",IF(_xlfn.XLOOKUP(F41067,'Object Codes'!A:A,'Object Codes'!I:I)=\"Y\",\"Y\",\"N\"),\"N\")","v":"Y"},{"$f":"VLOOKUP(F41067,'Object Codes'!$A:$C,3,0)","v":"Overtime"},{"$f":"VLOOKUP(A41067,Agencies!A:C,3,0)","v":"Dept of Parks and Recreation"},0.95547945205479456]
["846",2022,"001","002","5820","041",0,0,0,0,0,0,0,0,0,0,3274.2,0,3274.2,3274.2,-3274.2,3274.2,-3274.2,3274.2,3274.2,-3274.2,{"$f":"_xlfn.XLOOKUP(F41103,'Object Codes'!$A$18:$A$510,'Object Codes'!$H$18:$H$510)","v":"PS - Additional Gross"},{"$f":"_xlfn.XLOOKUP(F41103,'Object Codes'!$A$18:$A$510,'Object Codes'!$G$18:$G$510)","v":"A"},{"$f":"_xlfn.XLOOKUP(A41103,Agencies!$A$9:$A$146,Agencies!$B$9:$B$146)","v":"Parks, Recreation and Cultural Activities"},{"$f":"IF(_xlfn.XLOOKUP(A41103,Agencies!A:A,Agencies!D:D)=\"Y\",IF(_xlfn.XLOOKUP(F41103,'Object Codes'!A:A,'Object Codes'!I:I)=\"Y\",\"Y\",\"N\"),\"N\")","v":"Y"},{"$f":"VLOOKUP(F41103,'Object Codes'!$A:$C,3,0)","v":"Assignment Differential"},{"$f":"VLOOKUP(A41103,Agencies!A:C,3,0)","v":"Dept of Parks and Recreation"},8.9704109589041092]
["846",2022,"001","002","6800","001",0,0,0,0,51340,0,0,0,0,0,51292.08,0,51292.08,51292.08,47.92,51292.08,47.92,51292.08,51292.08,47.92,{"$f":"_xlfn.XLOOKUP(F41184,'Object Codes'!$A$18:$A$510,'Object Codes'!$H$18:$H$510)","v":"PS - Regular"},{"$f":"_xlfn.XLOOKUP(F41184,'Object Codes'!$A$18:$A$510,'Object Codes'!$G$18:$G$510)","v":"C"},{"$f":"_xlfn.XLOOKUP(A41184,Agencies!$A$9:$A$146,Agencies!$B$9:$B$146)","v":"Parks, Recreation and Cultural Activities"},{"$f":"IF(_xlfn.XLOOKUP(A41184,Agencies!A:A,Agencies!D:D)=\"Y\",IF(_xlfn.XLOOKUP(F41184,'Object Codes'!A:A,'Object Codes'!I:I)=\"Y\",\"Y\",\"N\"),\"N\")","v":"Y"},{"$f":"VLOOKUP(F41184,'Object Codes'!$A:$C,3,0)","v":"Full Year Positions"},{"$f":"VLOOKUP(A41184,Agencies!A:C,3,0)","v":"Dept of Parks and Recreation"},140.52624657534247]
["846",2022,"001","002","CVC2","047",0,0,0,0,0,0,0,0,0,0,255.67,0,255.67,255.67,-255.67,255.67,-255.67,255.67,255.67,-255.67,{"$f":"_xlfn.XLOOKUP(F41216,'Object Codes'!$A$18:$A$510,'Object Codes'!$H$18:$H$510)","v":"PS - Additional Gross"},{"$f":"_xlfn.XLOOKUP(F41216,'Object Codes'!$A$18:$A$510,'Object Codes'!$G$18:$G$510)","v":"C"},{"$f":"_xlfn.XLOOKUP(A41216,Agencies!$A$9:$A$146,Agencies!$B$9:$B$146)","v":"Parks, Recreation and Cultural Activities"},{"$f":"IF(_xlfn.XLOOKUP(A41216,Agencies!A:A,Agencies!D:D)=\"Y\",IF(_xlfn.XLOOKUP(F41216,'Object Codes'!A:A,'Object Codes'!I:I)=\"Y\",\"Y\",\"N\"),\"N\")","v":"Y"},{"$f":"VLOOKUP(F41216,'Object Codes'!$A:$C,3,0)","v":"Overtime"},{"$f":"VLOOKUP(A41216,Agencies!A:C,3,0)","v":"Dept of Parks and Recreation"},0.70046575342465744]
["846",2022,"001","003","3807","022",0,0,0,5548,5548,0,0,0,0,0,0,0,0,0,5548,0,5548,0,0,5548,{"$f":"_xlfn.XLOOKUP(F41246,'Object Codes'!$A$18:$A$510,'Object Codes'!$H$18:$H$510)","v":"PS - Regular"},{"$f":"_xlfn.XLOOKUP(F41246,'Object Codes'!$A$18:$A$510,'Object Codes'!$G$18:$G$510)","v":"C"},{"$f":"_xlfn.XLOOKUP(A41246,Agencies!$A$9:$A$146,Agencies!$B$9:$B$146)","v":"Parks, Recreation and Cultural Activities"},{"$f":"IF(_xlfn.XLOOKUP(A41246,Agencies!A:A,Agencies!D:D)=\"Y\",IF(_xlfn.XLOOKUP(F41246,'Object Codes'!A:A,'Object Codes'!I:I)=\"Y\",\"Y\",\"N\"),\"N\")","v":"Y"},{"$f":"VLOOKUP(F41246,'Object Codes'!$A:$C,3,0)","v":"Seasonal Positions"},{"$f":"VLOOKUP(A41246,Agencies!A:C,3,0)","v":"Dept of Parks and Recreation"},0]
["846",2022,"001","003","3828","X42",0,0,0,0,0,0,0,0,0,0,1120.24,0,1120.24,1120.24,-1120.24,1120.24,-1120.24,1120.24,1120.24,-1120.24,{"$f":"_xlfn.XLOOKUP(F41327,'Object Codes'!$A$18:$A$510,'Object Codes'!$H$18:$H$510)","v":"PS - Additional Gross"},{"$f":"_xlfn.XLOOKUP(F41327,'Object Codes'!$A$18:$A$510,'Object Codes'!$G$18:$G$510)","v":"A"},{"$f":"_xlfn.XLOOKUP(A41327,Agencies!$A$9:$A$146,Agencies!$B$9:$B$146)","v":"Parks, Recreation and Cultural Activities"},{"$f":"IF(_xlfn.XLOOKUP(A41327,Agencies!A:A,Agencies!D:D)=\"Y\",IF(_xlfn.XLOOKUP(F41327,'Object Codes'!A:A,'Object Codes'!I:I)=\"Y\",\"Y\",\"N\"),\"N\")","v":"Y"},{"$f":"VLOOKUP(F41327,'Object Codes'!$A:$C,3,0)","v":"PY LONGEVITY DIFFERENTIAL"},{"$f":"VLOOKUP(A41327,Agencies!A:C,3,0)","v":"Dept of Parks and Recreation"},3.0691506849315067]
["846",2022,"001","004","4940","042",0,0,0,361149,361149,0,0,0,0,0,233312,0,233312,233312,127837,233312,127837,233312,233312,127837,{"$f":"_xlfn.XLOOKUP(F41377,'Object Codes'!$A$18:$A$510,'Object Codes'!$H$18:$H$510)","v":"PS - Additional Gross"},{"$f":"_xlfn.XLOOKUP(F41377,'Object Codes'!$A$18:$A$510,'Object Codes'!$G$18:$G$510)","v":"A"},{"$f":"_xlfn.XLOOKUP(A41377,Agencies!$A$9:$A$146,Agencies!$B$9:$B$146)","v":"Parks, Recreation and Cultural Activities"},{"$f":"IF(_xlfn.XLOOKUP(A41377,Agencies!A:A,Agencies!D:D)=\"Y\",IF(_xlfn.XLOOKUP(F41377,'Object Codes'!A:A,'Object Codes'!I:I)=\"Y\",\"Y\",\"N\"),\"N\")","v":"Y"},{"$f":"VLOOKUP(F41377,'Object Codes'!$A:$C,3,0)","v":"Longevity Differential"},{"$f":"VLOOKUP(A41377,Agencies!A:C,3,0)","v":"Dept of Parks and Recreation"},639.21095890410959]
["846",2022,"001","004","4960","042",0,0,0,202922,202922,0,0,0,0,0,129210.74,0,129210.74,129210.74,73711.259999999995,129210.74,73711.259999999995,129210.74,129210.74,73711.259999999995,{"$f":"_xlfn.XLOOKUP(F41389,'Object Codes'!$A$18:$A$510,'Object Codes'!$H$18:$H$510)","v":"PS - Additional Gross"},{"$f":"_xlfn.XLOOKUP(F41389,'Object Codes'!$A$18:$A$510,'Object Codes'!$G$18:$G$510)","v":"A"},{"$f":"_xlfn.XLOOKUP(A41389,Agencies!$A$9:$A$146,Agencies!$B$9:$B$146)","v":"Parks, Recreation and Cultural Activities"},{"$f":"IF(_xlfn.XLOOKUP(A41389,Agencies!A:A,Agencies!D:D)=\"Y\",IF(_xlfn.XLOOKUP(F41389,'Object Codes'!A:A,'Object Codes'!I:I)=\"Y\",\"Y\",\"N\"),\"N\")","v":"Y"},{"$f":"VLOOKUP(F41389,'Object Codes'!$A:$C,3,0)","v":"Longevity Differential"},{"$f":"VLOOKUP(A41389,Agencies!A:C,3,0)","v":"Dept of Parks and Recreation"},354.00202739726029]
["846",2022,"001","006","2189","10X",0,0,0,35227,73347,0,0,0,0,0,73260.820000000007,0,73260.820000000007,73260.820000000007,86.18,73260.820000000007,86.18,73260.820000000007,73260.820000000007,86.18,{"$f":"_xlfn.XLOOKUP(F41470,'Object Codes'!$A$18:$A$510,'Object Codes'!$H$18:$H$510)","v":"Supplies & Materials"},{"$f":"_xlfn.XLOOKUP(F41470,'Object Codes'!$A$18:$A$510,'Object Codes'!$G$18:$G$510)","v":"A"},{"$f":"_xlfn.XLOOKUP(A41470,Agencies!$A$9:$A$146,Agencies!$B$9:$B$146)","v":"Parks, Recreation and Cultural Activities"},{"$f":"IF(_xlfn.XLOOKUP(A41470,Agencies!A:A,Agencies!D:D)=\"Y\",IF(_xlfn.XLOOKUP(F41470,'Object Codes'!A:A,'Object Codes'!I:I)=\"Y\",\"Y\",\"N\"),\"N\")","v":"Y"},{"$f":"VLOOKUP(F41470,'Object Codes'!$A:$C,3,0)","v":"SUPPLIES + MATERIALS - GENERAL"},{"$f":"VLOOKUP(A41470,Agencies!A:C,3,0)","v":"Dept of Parks and Recreation"},200.71457534246576]
["846",2022,"001","006","2264","608",0,0,0,5335,5335,0,0,0,0,0,0,0,0,0,5335,0,5335,0,0,5335,{"$f":"_xlfn.XLOOKUP(F41480,'Object Codes'!$A$18:$A$510,'Object Codes'!$H$18:$H$510)","v":"Contractual Services"},{"$f":"_xlfn.XLOOKUP(F41480,'Object Codes'!$A$18:$A$510,'Object Codes'!$G$18:$G$510)","v":0},{"$f":"_xlfn.XLOOKUP(A41480,Agencies!$A$9:$A$146,Agencies!$B$9:$B$146)","v":"Parks, Recreation and Cultural Activities"},{"$f":"IF(_xlfn.XLOOKUP(A41480,Agencies!A:A,Agencies!D:D)=\"Y\",IF(_xlfn.XLOOKUP(F41480,'Object Codes'!A:A,'Object Codes'!I:I)=\"Y\",\"Y\",\"N\"),\"N\")","v":"Y"},{"$f":"VLOOKUP(F41480,'Object Codes'!$A:$C,3,0)","v":"Maintenance and Repairs - General - Contractual"},{"$f":"VLOOKUP(A41480,Agencies!A:C,3,0)","v":"Dept of Parks and Recreation"},0]
["846",2022,"001","006","2300","608",0,0,0,9000,7744,0,0,0,0,0,0,5043.92,5043.92,5043.92,2700.08,5043.92,2700.08,5043.92,5043.92,2700.08,{"$f":"_xlfn.XLOOKUP(F41532,'Object Codes'!$A$18:$A$510,'Object Codes'!$H$18:$H$510)","v":"Contractual Services"},{"$f":"_xlfn.XLOOKUP(F41532,'Object Codes'!$A$18:$A$510,'Object Codes'!$G$18:$G$510)","v":0},{"$f":"_xlfn.XLOOKUP(A41532,Agencies!$A$9:$A$146,Agencies!$B$9:$B$146)","v":"Parks, Recreation and Cultural Activities"},{"$f":"IF(_xlfn.XLOOKUP(A41532,Agencies!A:A,Agencies!D:D)=\"Y\",IF(_xlfn.XLOOKUP(F41532,'Object Codes'!A:A,'Object Codes'!I:I)=\"Y\",\"Y\",\"N\"),\"N\")","v":"Y"},{"$f":"VLOOKUP(F41532,'Object Codes'!$A:$C,3,0)","v":"Maintenance and Repairs - General - Contractual"},{"$f":"VLOOKUP(A41532,Agencies!A:C,3,0)","v":"Dept of Parks and Recreation"},13.818958904109589]
["846",2022,"001","006","2690","400",0,0,0,12000,12000,0,0,0,0,0,0,0,0,0,12000,0,12000,0,0,12000,{"$f":"_xlfn.XLOOKUP(F41613,'Object Codes'!$A$18:$A$510,'Object Codes'!$H$18:$H$510)","v":"Other Services and Charges - General"},{"$f":"_xlfn.XLOOKUP(F41613,'Object Codes'!$A$18:$A$510,'Object Codes'!$G$18:$G$510)","v":0},{"$f":"_xlfn.XLOOKUP(A41613,Agencies!$A$9:$A$146,Agencies!$B$9:$B$146)","v":"Parks, Recreation and Cultural Activities"},{"$f":"IF(_xlfn.XLOOKUP(A41613,Agencies!A:A,Agencies!D:D)=\"Y\",IF(_xlfn.XLOOKUP(F41613,'Object Codes'!A:A,'Object Codes'!I:I)=\"Y\",\"Y\",\"N\"),\"N\")","v":"Y"},{"$f":"VLOOKUP(F41613,'Object Codes'!$A:$C,3,0)","v":"Other Services and Charges - General"},{"$f":"VLOOKUP(A41613,Agencies!A:C,3,0)","v":"Dept of Parks and Recreation"},0]
["846",2022,"001","006","5120","600",0,0,0,3900,104706,0,0,0,0,0,33850.559999999998,6051,39901.56,39901.56,64804.44,39901.56,64804.44,39901.56,39901.56,64804.44,{"$f":"_xlfn.XLOOKUP(F41642,'Object Codes'!$A$18:$A$510,'Object Codes'!$H$18:$H$510)","v":"Contractual Services"},{"$f":"_xlfn.XLOOKUP(F41642,'Object Codes'!$A$18:$A$510,'Object Codes'!$G$18:$G$510)","v":0},{"$f":"_xlfn.XLOOKUP(A41642,Agencies!$A$9:$A$146,Agencies!$B$9:$B$146)","v":"Parks, Recreation and Cultural Activities"},{"$f":"IF(_xlfn.XLOOKUP(A41642,Agencies!A:A,Agencies!D:D)=\"Y\",IF(_xlfn.XLOOKUP(F41642,'Object Codes'!A:A,'Object Codes'!I:I)=\"Y\",\"Y\",\"N\"),\"N\")","v":"Y"},{"$f":"VLOOKUP(F41642,'Object Codes'!$A:$C,3,0)","v":"Contractual Services - General"},{"$f":"VLOOKUP(A41642,Agencies!A:C,3,0)","v":"Dept of Parks and Recreation"},109.31934246575342]
["846",2022,"001","006","5705","100",0,0,0,0,788,0,0,0,0,0,787.15,0,787.15,787.15,0.85,787.15,0.85,787.15,787.15,0.85,{"$f":"_xlfn.XLOOKUP(F41675,'Object Codes'!$A$18:$A$510,'Object Codes'!$H$18:$H$510)","v":"Supplies & Materials"},{"$f":"_xlfn.XLOOKUP(F41675,'Object Codes'!$A$18:$A$510,'Object Codes'!$G$18:$G$510)","v":"A"},{"$f":"_xlfn.XLOOKUP(A41675,Agencies!$A$9:$A$146,Agencies!$B$9:$B$146)","v":"Parks, Recreation and Cultural Activities"},{"$f":"IF(_xlfn.XLOOKUP(A41675,Agencies!A:A,Agencies!D:D)=\"Y\",IF(_xlfn.XLOOKUP(F41675,'Object Codes'!A:A,'Object Codes'!I:I)=\"Y\",\"Y\",\"N\"),\"N\")","v":"Y"},{"$f":"VLOOKUP(F41675,'Object Codes'!$A:$C,3,0)","v":"Supplies and Materials - General"},{"$f":"VLOOKUP(A41675,Agencies!A:C,3,0)","v":"Dept of Parks and Recreation"},2.1565753424657532]
["846",2022,"001","006","6045","110",0,0,0,800,0,0,0,0,0,0,0,0,0,0,0,0,0,0,0,0,{"$f":"_xlfn.XLOOKUP(F41751,'Object Codes'!$A$18:$A$510,'Object Codes'!$H$18:$H$510)","v":"Supplies & Materials"},{"$f":"_xlfn.XLOOKUP(F41751,'Object Codes'!$A$18:$A$510,'Object Codes'!$G$18:$G$510)","v":"A"},{"$f":"_xlfn.XLOOKUP(A41751,Agencies!$A$9:$A$146,Agencies!$B$9:$B$146)","v":"Parks, Recreation and Cultural Activities"},{"$f":"IF(_xlfn.XLOOKUP(A41751,Agencies!A:A,Agencies!D:D)=\"Y\",IF(_xlfn.XLOOKUP(F41751,'Object Codes'!A:A,'Object Codes'!I:I)=\"Y\",\"Y\",\"N\"),\"N\")","v":"Y"},{"$f":"VLOOKUP(F41751,'Object Codes'!$A:$C,3,0)","v":"Food and Forage Supplies"},{"$f":"VLOOKUP(A41751,Agencies!A:C,3,0)","v":"Dept of Parks and Recreation"},0]
["846",2022,"001","006","6106","686",0,0,0,24606,24606,0,0,0,0,0,0,0,0,0,24606,0,24606,0,0,24606,{"$f":"_xlfn.XLOOKUP(F41785,'Object Codes'!$A$18:$A$510,'Object Codes'!$H$18:$H$510)","v":"Contractual Services"},{"$f":"_xlfn.XLOOKUP(F41785,'Object Codes'!$A$18:$A$510,'Object Codes'!$G$18:$G$510)","v":0},{"$f":"_xlfn.XLOOKUP(A41785,Agencies!$A$9:$A$146,Agencies!$B$9:$B$146)","v":"Parks, Recreation and Cultural Activities"},{"$f":"IF(_xlfn.XLOOKUP(A41785,Agencies!A:A,Agencies!D:D)=\"Y\",IF(_xlfn.XLOOKUP(F41785,'Object Codes'!A:A,'Object Codes'!I:I)=\"Y\",\"Y\",\"N\"),\"N\")","v":"Y"},{"$f":"VLOOKUP(F41785,'Object Codes'!$A:$C,3,0)","v":"Professional Services - Other - Contractual"},{"$f":"VLOOKUP(A41785,Agencies!A:C,3,0)","v":"Dept of Parks and Recreation"},0]
["846",2022,"001","006","6129","110",0,0,0,10000,0,0,0,0,0,0,0,0,0,0,0,0,0,0,0,0,{"$f":"_xlfn.XLOOKUP(F41824,'Object Codes'!$A$18:$A$510,'Object Codes'!$H$18:$H$510)","v":"Supplies & Materials"},{"$f":"_xlfn.XLOOKUP(F41824,'Object Codes'!$A$18:$A$510,'Object Codes'!$G$18:$G$510)","v":"A"},{"$f":"_xlfn.XLOOKUP(A41824,Agencies!$A$9:$A$146,Agencies!$B$9:$B$146)","v":"Parks, Recreation and Cultural Activities"},{"$f":"IF(_xlfn.XLOOKUP(A41824,Agencies!A:A,Agencies!D:D)=\"Y\",IF(_xlfn.XLOOKUP(F41824,'Object Codes'!A:A,'Object Codes'!I:I)=\"Y\",\"Y\",\"N\"),\"N\")","v":"Y"},{"$f":"VLOOKUP(F41824,'Object Codes'!$A:$C,3,0)","v":"Food and Forage Supplies"},{"$f":"VLOOKUP(A41824,Agencies!A:C,3,0)","v":"Dept of Parks and Recreation"},0]
["846",2022,"001","006","6211","117",0,0,0,1320,0,0,0,0,0,0,0,0,0,0,0,0,0,0,0,0,{"$f":"_xlfn.XLOOKUP(F41847,'Object Codes'!$A$18:$A$510,'Object Codes'!$H$18:$H$510)","v":"Supplies & Materials"},{"$f":"_xlfn.XLOOKUP(F41847,'Object Codes'!$A$18:$A$510,'Object Codes'!$G$18:$G$510)","v":"A"},{"$f":"_xlfn.XLOOKUP(A41847,Agencies!$A$9:$A$146,Agencies!$B$9:$B$146)","v":"Parks, Recreation and Cultural Activities"},{"$f":"IF(_xlfn.XLOOKUP(A41847,Agencies!A:A,Agencies!D:D)=\"Y\",IF(_xlfn.XLOOKUP(F41847,'Object Codes'!A:A,'Object Codes'!I:I)=\"Y\",\"Y\",\"N\"),\"N\")","v":"Y"},{"$f":"VLOOKUP(F41847,'Object Codes'!$A:$C,3,0)","v":"Postage"},{"$f":"VLOOKUP(A41847,Agencies!A:C,3,0)","v":"Dept of Parks and Recreation"},0]
["846",2022,"001","006","6329","686",0,0,0,26374,0,0,0,0,0,0,0,0,0,0,0,0,0,0,0,0,{"$f":"_xlfn.XLOOKUP(F41928,'Object Codes'!$A$18:$A$510,'Object Codes'!$H$18:$H$510)","v":"Contractual Services"},{"$f":"_xlfn.XLOOKUP(F41928,'Object Codes'!$A$18:$A$510,'Object Codes'!$G$18:$G$510)","v":0},{"$f":"_xlfn.XLOOKUP(A41928,Agencies!$A$9:$A$146,Agencies!$B$9:$B$146)","v":"Parks, Recreation and Cultural Activities"},{"$f":"IF(_xlfn.XLOOKUP(A41928,Agencies!A:A,Agencies!D:D)=\"Y\",IF(_xlfn.XLOOKUP(F41928,'Object Codes'!A:A,'Object Codes'!I:I)=\"Y\",\"Y\",\"N\"),\"N\")","v":"Y"},{"$f":"VLOOKUP(F41928,'Object Codes'!$A:$C,3,0)","v":"Professional Services - Other - Contractual"},{"$f":"VLOOKUP(A41928,Agencies!A:C,3,0)","v":"Dept of Parks and Recreation"},0]
["846",2022,"001","006","6420","315",0,0,0,45,45,0,0,0,0,0,0,0,0,0,45,0,45,0,0,45,{"$f":"_xlfn.XLOOKUP(F41973,'Object Codes'!$A$18:$A$510,'Object Codes'!$H$18:$H$510)","v":"Equipment"},{"$f":"_xlfn.XLOOKUP(F41973,'Object Codes'!$A$18:$A$510,'Object Codes'!$G$18:$G$510)","v":"A"},{"$f":"_xlfn.XLOOKUP(A41973,Agencies!$A$9:$A$146,Agencies!$B$9:$B$146)","v":"Parks, Recreation and Cultural Activities"},{"$f":"IF(_xlfn.XLOOKUP(A41973,Agencies!A:A,Agencies!D:D)=\"Y\",IF(_xlfn.XLOOKUP(F41973,'Object Codes'!A:A,'Object Codes'!I:I)=\"Y\",\"Y\",\"N\"),\"N\")","v":"Y"},{"$f":"VLOOKUP(F41973,'Object Codes'!$A:$C,3,0)","v":"Office Equipment"},{"$f":"VLOOKUP(A41973,Agencies!A:C,3,0)","v":"Dept of Parks and Recreation"},0]
["846",2022,"001","006","6510","100",0,0,0,28290,237639,0,0,0,0,0,220560.22,181.12,220741.34,220741.34,16897.66,220741.34,16897.66,220741.34,220741.34,16897.66,{"$f":"_xlfn.XLOOKUP(F41990,'Object Codes'!$A$18:$A$510,'Object Codes'!$H$18:$H$510)","v":"Supplies & Materials"},{"$f":"_xlfn.XLOOKUP(F41990,'Object Codes'!$A$18:$A$510,'Object Codes'!$G$18:$G$510)","v":"A"},{"$f":"_xlfn.XLOOKUP(A41990,Agencies!$A$9:$A$146,Agencies!$B$9:$B$146)","v":"Parks, Recreation and Cultural Activities"},{"$f":"IF(_xlfn.XLOOKUP(A41990,Agencies!A:A,Agencies!D:D)=\"Y\",IF(_xlfn.XLOOKUP(F41990,'Object Codes'!A:A,'Object Codes'!I:I)=\"Y\",\"Y\",\"N\"),\"N\")","v":"Y"},{"$f":"VLOOKUP(F41990,'Object Codes'!$A:$C,3,0)","v":"Supplies and Materials - General"},{"$f":"VLOOKUP(A41990,Agencies!A:C,3,0)","v":"Dept of Parks and Recreation"},604.77079452054795]
["846",2022,"001","006","6600","453",0,0,0,0,962,0,0,0,0,0,961.64,0,961.64,961.64,0.36,961.64,0.36,961.64,961.64,0.36,{"$f":"_xlfn.XLOOKUP(F42071,'Object Codes'!$A$18:$A$510,'Object Codes'!$H$18:$H$510)","v":"Other Services and Charges - General"},{"$f":"_xlfn.XLOOKUP(F42071,'Object Codes'!$A$18:$A$510,'Object Codes'!$G$18:$G$510)","v":0},{"$f":"_xlfn.XLOOKUP(A42071,Agencies!$A$9:$A$146,Agencies!$B$9:$B$146)","v":"Parks, Recreation and Cultural Activities"},{"$f":"IF(_xlfn.XLOOKUP(A42071,Agencies!A:A,Agencies!D:D)=\"Y\",IF(_xlfn.XLOOKUP(F42071,'Object Codes'!A:A,'Object Codes'!I:I)=\"Y\",\"Y\",\"N\"),\"N\")","v":"Y"},{"$f":"VLOOKUP(F42071,'Object Codes'!$A:$C,3,0)","v":"Overnight Travel Expenditures - General"},{"$f":"VLOOKUP(A42071,Agencies!A:C,3,0)","v":"Dept of Parks and Recreation"},2.6346301369863014]
["846",2022,"001","006","6602","706",0,0,0,0,0,0,0,0,0,0,41.27,0,41.27,41.27,-41.27,41.27,-41.27,41.27,41.27,-41.27,{"$f":"_xlfn.XLOOKUP(F42088,'Object Codes'!$A$18:$A$510,'Object Codes'!$H$18:$H$510)","v":"Fixed Charges"},{"$f":"_xlfn.XLOOKUP(F42088,'Object Codes'!$A$18:$A$510,'Object Codes'!$G$18:$G$510)","v":0},{"$f":"_xlfn.XLOOKUP(A42088,Agencies!$A$9:$A$146,Agencies!$B$9:$B$146)","v":"Parks, Recreation and Cultural Activities"},{"$f":"IF(_xlfn.XLOOKUP(A42088,Agencies!A:A,Agencies!D:D)=\"Y\",IF(_xlfn.XLOOKUP(F42088,'Object Codes'!A:A,'Object Codes'!I:I)=\"Y\",\"Y\",\"N\"),\"N\")","v":"Y"},{"$f":"VLOOKUP(F42088,'Object Codes'!$A:$C,3,0)","v":"Prompt Payments Interest"},{"$f":"VLOOKUP(A42088,Agencies!A:C,3,0)","v":"Dept of Parks and Recreation"},0.11306849315068494]
["846",2022,"001","006","6660","305",0,0,0,0,7486,0,0,0,0,0,0,0,0,0,7486,0,7486,0,0,7486,{"$f":"_xlfn.XLOOKUP(F42133,'Object Codes'!$A$18:$A$510,'Object Codes'!$H$18:$H$510)","v":"Equipment"},{"$f":"_xlfn.XLOOKUP(F42133,'Object Codes'!$A$18:$A$510,'Object Codes'!$G$18:$G$510)","v":"A"},{"$f":"_xlfn.XLOOKUP(A42133,Agencies!$A$9:$A$146,Agencies!$B$9:$B$146)","v":"Parks, Recreation and Cultural Activities"},{"$f":"IF(_xlfn.XLOOKUP(A42133,Agencies!A:A,Agencies!D:D)=\"Y\",IF(_xlfn.XLOOKUP(F42133,'Object Codes'!A:A,'Object Codes'!I:I)=\"Y\",\"Y\",\"N\"),\"N\")","v":"Y"},{"$f":"VLOOKUP(F42133,'Object Codes'!$A:$C,3,0)","v":"Motor Vehicles"},{"$f":"VLOOKUP(A42133,Agencies!A:C,3,0)","v":"Dept of Parks and Recreation"},0]
["846",2022,"001","006","6796","619",0,0,0,0,385077,0,0,0,0,0,324121.75,8213.44,332335.19,332335.19,52741.81,332335.19,52741.81,332335.19,332335.19,52741.81,{"$f":"_xlfn.XLOOKUP(F42214,'Object Codes'!$A$18:$A$510,'Object Codes'!$H$18:$H$510)","v":"Contractual Services"},{"$f":"_xlfn.XLOOKUP(F42214,'Object Codes'!$A$18:$A$510,'Object Codes'!$G$18:$G$510)","v":0},{"$f":"_xlfn.XLOOKUP(A42214,Agencies!$A$9:$A$146,Agencies!$B$9:$B$146)","v":"Parks, Recreation and Cultural Activities"},{"$f":"IF(_xlfn.XLOOKUP(A42214,Agencies!A:A,Agencies!D:D)=\"Y\",IF(_xlfn.XLOOKUP(F42214,'Object Codes'!A:A,'Object Codes'!I:I)=\"Y\",\"Y\",\"N\"),\"N\")","v":"Y"},{"$f":"VLOOKUP(F42214,'Object Codes'!$A:$C,3,0)","v":"Security Services - Contractual"},{"$f":"VLOOKUP(A42214,Agencies!A:C,3,0)","v":"Dept of Parks and Recreation"},910.50736986301365]
["846",2022,"001","006","6805","319",0,0,0,0,3830,0,0,0,0,0,3830,0,3830,3830,0,3830,0,3830,3830,0,{"$f":"_xlfn.XLOOKUP(F42237,'Object Codes'!$A$18:$A$510,'Object Codes'!$H$18:$H$510)","v":"Equipment"},{"$f":"_xlfn.XLOOKUP(F42237,'Object Codes'!$A$18:$A$510,'Object Codes'!$G$18:$G$510)","v":"A"},{"$f":"_xlfn.XLOOKUP(A42237,Agencies!$A$9:$A$146,Agencies!$B$9:$B$146)","v":"Parks, Recreation and Cultural Activities"},{"$f":"IF(_xlfn.XLOOKUP(A42237,Agencies!A:A,Agencies!D:D)=\"Y\",IF(_xlfn.XLOOKUP(F42237,'Object Codes'!A:A,'Object Codes'!I:I)=\"Y\",\"Y\",\"N\"),\"N\")","v":"Y"},{"$f":"VLOOKUP(F42237,'Object Codes'!$A:$C,3,0)","v":"Security Equipment"},{"$f":"VLOOKUP(A42237,Agencies!A:C,3,0)","v":"Dept of Parks and Recreation"},10.493150684931507]
["846",2022,"001","006","6822","40B",0,0,0,931676,1634102,0,0,0,0,0,1634102,0,1634102,1634102,0,1634102,0,1634102,1634102,0,{"$f":"_xlfn.XLOOKUP(F42276,'Object Codes'!$A$18:$A$510,'Object Codes'!$H$18:$H$510)","v":"Other Services and Charges - General"},{"$f":"_xlfn.XLOOKUP(F42276,'Object Codes'!$A$18:$A$510,'Object Codes'!$G$18:$G$510)","v":0},{"$f":"_xlfn.XLOOKUP(A42276,Agencies!$A$9:$A$146,Agencies!$B$9:$B$146)","v":"Parks, Recreation and Cultural Activities"},{"$f":"IF(_xlfn.XLOOKUP(A42276,Agencies!A:A,Agencies!D:D)=\"Y\",IF(_xlfn.XLOOKUP(F42276,'Object Codes'!A:A,'Object Codes'!I:I)=\"Y\",\"Y\",\"N\"),\"N\")","v":"Y"},{"$f":"VLOOKUP(F42276,'Object Codes'!$A:$C,3,0)","v":"TELEPHONE & OTHER COMMUNICATNS"},{"$f":"VLOOKUP(A42276,Agencies!A:C,3,0)","v":"Dept of Parks and Recreation"},4476.9917808219179]
["846",2022,"001","006","6910","337",0,0,0,0,15822,0,0,0,0,0,15822,0,15822,15822,0,15822,0,15822,15822,0,{"$f":"_xlfn.XLOOKUP(F42352,'Object Codes'!$A$18:$A$510,'Object Codes'!$H$18:$H$510)","v":"Equipment"},{"$f":"_xlfn.XLOOKUP(F42352,'Object Codes'!$A$18:$A$510,'Object Codes'!$G$18:$G$510)","v":"A"},{"$f":"_xlfn.XLOOKUP(A42352,Agencies!$A$9:$A$146,Agencies!$B$9:$B$146)","v":"Parks, Recreation and Cultural Activities"},{"$f":"IF(_xlfn.XLOOKUP(A42352,Agencies!A:A,Agencies!D:D)=\"Y\",IF(_xlfn.XLOOKUP(F42352,'Object Codes'!A:A,'Object Codes'!I:I)=\"Y\",\"Y\",\"N\"),\"N\")","v":"Y"},{"$f":"VLOOKUP(F42352,'Object Codes'!$A:$C,3,0)","v":"Books - Other"},{"$f":"VLOOKUP(A42352,Agencies!A:C,3,0)","v":"Dept of Parks and Recreation"},43.347945205479455]
["846",2022,"001","006","ID06","170",0,0,0,0,333,0,0,0,0,0,0,0,0,0,333,0,333,0,0,333,{"$f":"_xlfn.XLOOKUP(F42386,'Object Codes'!$A$18:$A$510,'Object Codes'!$H$18:$H$510)","v":"Supplies & Materials"},{"$f":"_xlfn.XLOOKUP(F42386,'Object Codes'!$A$18:$A$510,'Object Codes'!$G$18:$G$510)","v":"A"},{"$f":"_xlfn.XLOOKUP(A42386,Agencies!$A$9:$A$146,Agencies!$B$9:$B$146)","v":"Parks, Recreation and Cultural Activities"},{"$f":"IF(_xlfn.XLOOKUP(A42386,Agencies!A:A,Agencies!D:D)=\"Y\",IF(_xlfn.XLOOKUP(F42386,'Object Codes'!A:A,'Object Codes'!I:I)=\"Y\",\"Y\",\"N\"),\"N\")","v":"Y"},{"$f":"VLOOKUP(F42386,'Object Codes'!$A:$C,3,0)","v":"Cleaning Supplies"},{"$f":"VLOOKUP(A42386,Agencies!A:C,3,0)","v":"Dept of Parks and Recreation"},0]
["846",2022,"001","007","5151","199",0,0,0,0,6745,0,0,0,0,0,6744.79,0,6744.79,6744.79,0.21,6744.79,0.21,6744.79,6744.79,0.21,{"$f":"_xlfn.XLOOKUP(F42419,'Object Codes'!$A$18:$A$510,'Object Codes'!$H$18:$H$510)","v":"Supplies & Materials"},{"$f":"_xlfn.XLOOKUP(F42419,'Object Codes'!$A$18:$A$510,'Object Codes'!$G$18:$G$510)","v":"A"},{"$f":"_xlfn.XLOOKUP(A42419,Agencies!$A$9:$A$146,Agencies!$B$9:$B$146)","v":"Parks, Recreation and Cultural Activities"},{"$f":"IF(_xlfn.XLOOKUP(A42419,Agencies!A:A,Agencies!D:D)=\"Y\",IF(_xlfn.XLOOKUP(F42419,'Object Codes'!A:A,'Object Codes'!I:I)=\"Y\",\"Y\",\"N\"),\"N\")","v":"Y"},{"$f":"VLOOKUP(F42419,'Object Codes'!$A:$C,3,0)","v":"Data Processing Supplies"},{"$f":"VLOOKUP(A42419,Agencies!A:C,3,0)","v":"Dept of Parks and Recreation"},18.478876712328766]
["846",2022,"001","009","9140","170",0,0,0,0,9865,0,0,0,0,0,9864.73,0,9864.73,9864.73,0.27,9864.73,0.27,9864.73,9864.73,0.27,{"$f":"_xlfn.XLOOKUP(F42495,'Object Codes'!$A$18:$A$510,'Object Codes'!$H$18:$H$510)","v":"Supplies & Materials"},{"$f":"_xlfn.XLOOKUP(F42495,'Object Codes'!$A$18:$A$510,'Object Codes'!$G$18:$G$510)","v":"A"},{"$f":"_xlfn.XLOOKUP(A42495,Agencies!$A$9:$A$146,Agencies!$B$9:$B$146)","v":"Parks, Recreation and Cultural Activities"},{"$f":"IF(_xlfn.XLOOKUP(A42495,Agencies!A:A,Agencies!D:D)=\"Y\",IF(_xlfn.XLOOKUP(F42495,'Object Codes'!A:A,'Object Codes'!I:I)=\"Y\",\"Y\",\"N\"),\"N\")","v":"Y"},{"$f":"VLOOKUP(F42495,'Object Codes'!$A:$C,3,0)","v":"Cleaning Supplies"},{"$f":"VLOOKUP(A42495,Agencies!A:C,3,0)","v":"Dept of Parks and Recreation"},27.026657534246574]
["846",2022,"001","009","9740","300",0,0,0,7237,15082,0,0,0,0,0,15081.65,0,15081.65,15081.65,0.35,15081.65,0.35,15081.65,15081.65,0.35,{"$f":"_xlfn.XLOOKUP(F42535,'Object Codes'!$A$18:$A$510,'Object Codes'!$H$18:$H$510)","v":"Equipment"},{"$f":"_xlfn.XLOOKUP(F42535,'Object Codes'!$A$18:$A$510,'Object Codes'!$G$18:$G$510)","v":"A"},{"$f":"_xlfn.XLOOKUP(A42535,Agencies!$A$9:$A$146,Agencies!$B$9:$B$146)","v":"Parks, Recreation and Cultural Activities"},{"$f":"IF(_xlfn.XLOOKUP(A42535,Agencies!A:A,Agencies!D:D)=\"Y\",IF(_xlfn.XLOOKUP(F42535,'Object Codes'!A:A,'Object Codes'!I:I)=\"Y\",\"Y\",\"N\"),\"N\")","v":"Y"},{"$f":"VLOOKUP(F42535,'Object Codes'!$A:$C,3,0)","v":"Equipment - General"},{"$f":"VLOOKUP(A42535,Agencies!A:C,3,0)","v":"Dept of Parks and Recreation"},41.319589041095888]
["846",2022,"001","010","1013","412",0,0,0,231800,60062,0,0,0,0,0,46326.559999999998,8085.14,54411.7,54411.7,5650.3,54411.7,5650.3,54411.7,54411.7,5650.3,{"$f":"_xlfn.XLOOKUP(F42562,'Object Codes'!$A$18:$A$510,'Object Codes'!$H$18:$H$510)","v":"Other Services and Charges - General"},{"$f":"_xlfn.XLOOKUP(F42562,'Object Codes'!$A$18:$A$510,'Object Codes'!$G$18:$G$510)","v":0},{"$f":"_xlfn.XLOOKUP(A42562,Agencies!$A$9:$A$146,Agencies!$B$9:$B$146)","v":"Parks, Recreation and Cultural Activities"},{"$f":"IF(_xlfn.XLOOKUP(A42562,Agencies!A:A,Agencies!D:D)=\"Y\",IF(_xlfn.XLOOKUP(F42562,'Object Codes'!A:A,'Object Codes'!I:I)=\"Y\",\"Y\",\"N\"),\"N\")","v":"Y"},{"$f":"VLOOKUP(F42562,'Object Codes'!$A:$C,3,0)","v":"Rentals - Miscellaneous Equipment"},{"$f":"VLOOKUP(A42562,Agencies!A:C,3,0)","v":"Dept of Parks and Recreation"},149.07315068493151]
["850",2022,"001","001","1114","031",0,0,0,1405,1405,0,0,0,0,0,0,0,0,0,1405,0,1405,0,0,1405,{"$f":"_xlfn.XLOOKUP(F42638,'Object Codes'!$A$18:$A$510,'Object Codes'!$H$18:$H$510)","v":"PS - Regular"},{"$f":"_xlfn.XLOOKUP(F42638,'Object Codes'!$A$18:$A$510,'Object Codes'!$G$18:$G$510)","v":"C"},{"$f":"_xlfn.XLOOKUP(A42638,Agencies!$A$9:$A$146,Agencies!$B$9:$B$146)","v":"General Government"},{"$f":"IF(_xlfn.XLOOKUP(A42638,Agencies!A:A,Agencies!D:D)=\"Y\",IF(_xlfn.XLOOKUP(F42638,'Object Codes'!A:A,'Object Codes'!I:I)=\"Y\",\"Y\",\"N\"),\"N\")","v":"Y"},{"$f":"VLOOKUP(F42638,'Object Codes'!$A:$C,3,0)","v":"Hourly Positions"},{"$f":"VLOOKUP(A42638,Agencies!A:C,3,0)","v":"Dept. of Design & Construction"},0]
["850",2022,"001","001","1207","042",0,0,0,0,0,0,0,0,0,0,1769.2,0,1769.2,1769.2,-1769.2,1769.2,-1769.2,1769.2,1769.2,-1769.2,{"$f":"_xlfn.XLOOKUP(F42672,'Object Codes'!$A$18:$A$510,'Object Codes'!$H$18:$H$510)","v":"PS - Additional Gross"},{"$f":"_xlfn.XLOOKUP(F42672,'Object Codes'!$A$18:$A$510,'Object Codes'!$G$18:$G$510)","v":"A"},{"$f":"_xlfn.XLOOKUP(A42672,Agencies!$A$9:$A$146,Agencies!$B$9:$B$146)","v":"General Government"},{"$f":"IF(_xlfn.XLOOKUP(A42672,Agencies!A:A,Agencies!D:D)=\"Y\",IF(_xlfn.XLOOKUP(F42672,'Object Codes'!A:A,'Object Codes'!I:I)=\"Y\",\"Y\",\"N\"),\"N\")","v":"Y"},{"$f":"VLOOKUP(F42672,'Object Codes'!$A:$C,3,0)","v":"Longevity Differential"},{"$f":"VLOOKUP(A42672,Agencies!A:C,3,0)","v":"Dept. of Design & Construction"},4.8471232876712333]
["850",2022,"001","001","1303","X42",0,0,0,0,0,0,0,0,0,0,22.43,0,22.43,22.43,-22.43,22.43,-22.43,22.43,22.43,-22.43,{"$f":"_xlfn.XLOOKUP(F42696,'Object Codes'!$A$18:$A$510,'Object Codes'!$H$18:$H$510)","v":"PS - Additional Gross"},{"$f":"_xlfn.XLOOKUP(F42696,'Object Codes'!$A$18:$A$510,'Object Codes'!$G$18:$G$510)","v":"A"},{"$f":"_xlfn.XLOOKUP(A42696,Agencies!$A$9:$A$146,Agencies!$B$9:$B$146)","v":"General Government"},{"$f":"IF(_xlfn.XLOOKUP(A42696,Agencies!A:A,Agencies!D:D)=\"Y\",IF(_xlfn.XLOOKUP(F42696,'Object Codes'!A:A,'Object Codes'!I:I)=\"Y\",\"Y\",\"N\"),\"N\")","v":"Y"},{"$f":"VLOOKUP(F42696,'Object Codes'!$A:$C,3,0)","v":"PY LONGEVITY DIFFERENTIAL"},{"$f":"VLOOKUP(A42696,Agencies!A:C,3,0)","v":"Dept. of Design & Construction"},6.1452054794520546E-2]
["850",2022,"001","001","2100","001",0,4,4,1657853,1657853,0,0,0,0,0,593499.86,0,593499.86,593499.86,1064353.1399999999,593499.86,1064353.1399999999,593499.86,593499.86,1064353.1399999999,{"$f":"_xlfn.XLOOKUP(F42734,'Object Codes'!$A$18:$A$510,'Object Codes'!$H$18:$H$510)","v":"PS - Regular"},{"$f":"_xlfn.XLOOKUP(F42734,'Object Codes'!$A$18:$A$510,'Object Codes'!$G$18:$G$510)","v":"C"},{"$f":"_xlfn.XLOOKUP(A42734,Agencies!$A$9:$A$146,Agencies!$B$9:$B$146)","v":"General Government"},{"$f":"IF(_xlfn.XLOOKUP(A42734,Agencies!A:A,Agencies!D:D)=\"Y\",IF(_xlfn.XLOOKUP(F42734,'Object Codes'!A:A,'Object Codes'!I:I)=\"Y\",\"Y\",\"N\"),\"N\")","v":"Y"},{"$f":"VLOOKUP(F42734,'Object Codes'!$A:$C,3,0)","v":"Full Year Positions"},{"$f":"VLOOKUP(A42734,Agencies!A:C,3,0)","v":"Dept. of Design & Construction"},1626.0270136986301]
["850",2022,"001","001","2230","061",0,0,0,0,0,0,0,0,0,0,165.5,0,165.5,165.5,-165.5,165.5,-165.5,165.5,165.5,-165.5,{"$f":"_xlfn.XLOOKUP(F42815,'Object Codes'!$A$18:$A$510,'Object Codes'!$H$18:$H$510)","v":"PS - Additional Gross"},{"$f":"_xlfn.XLOOKUP(F42815,'Object Codes'!$A$18:$A$510,'Object Codes'!$G$18:$G$510)","v":"A"},{"$f":"_xlfn.XLOOKUP(A42815,Agencies!$A$9:$A$146,Agencies!$B$9:$B$146)","v":"General Government"},{"$f":"IF(_xlfn.XLOOKUP(A42815,Agencies!A:A,Agencies!D:D)=\"Y\",IF(_xlfn.XLOOKUP(F42815,'Object Codes'!A:A,'Object Codes'!I:I)=\"Y\",\"Y\",\"N\"),\"N\")","v":"Y"},{"$f":"VLOOKUP(F42815,'Object Codes'!$A:$C,3,0)","v":"Supper Money"},{"$f":"VLOOKUP(A42815,Agencies!A:C,3,0)","v":"Dept. of Design & Construction"},0.4534246575342466]
["850",2022,"001","001","2380","047",0,0,0,0,0,0,0,0,0,0,8406.74,0,8406.74,8406.74,-8406.74,8406.74,-8406.74,8406.74,8406.74,-8406.74,{"$f":"_xlfn.XLOOKUP(F42845,'Object Codes'!$A$18:$A$510,'Object Codes'!$H$18:$H$510)","v":"PS - Additional Gross"},{"$f":"_xlfn.XLOOKUP(F42845,'Object Codes'!$A$18:$A$510,'Object Codes'!$G$18:$G$510)","v":"C"},{"$f":"_xlfn.XLOOKUP(A42845,Agencies!$A$9:$A$146,Agencies!$B$9:$B$146)","v":"General Government"},{"$f":"IF(_xlfn.XLOOKUP(A42845,Agencies!A:A,Agencies!D:D)=\"Y\",IF(_xlfn.XLOOKUP(F42845,'Object Codes'!A:A,'Object Codes'!I:I)=\"Y\",\"Y\",\"N\"),\"N\")","v":"Y"},{"$f":"VLOOKUP(F42845,'Object Codes'!$A:$C,3,0)","v":"Overtime"},{"$f":"VLOOKUP(A42845,Agencies!A:C,3,0)","v":"Dept. of Design & Construction"},23.032164383561643]
["850",2022,"001","001","2500","001",0,3,3,753600,753600,0,0,0,0,0,633264.03,0,633264.03,633264.03,120335.97,633264.03,120335.97,633264.03,633264.03,120335.97,{"$f":"_xlfn.XLOOKUP(F42877,'Object Codes'!$A$18:$A$510,'Object Codes'!$H$18:$H$510)","v":"PS - Regular"},{"$f":"_xlfn.XLOOKUP(F42877,'Object Codes'!$A$18:$A$510,'Object Codes'!$G$18:$G$510)","v":"C"},{"$f":"_xlfn.XLOOKUP(A42877,Agencies!$A$9:$A$146,Agencies!$B$9:$B$146)","v":"General Government"},{"$f":"IF(_xlfn.XLOOKUP(A42877,Agencies!A:A,Agencies!D:D)=\"Y\",IF(_xlfn.XLOOKUP(F42877,'Object Codes'!A:A,'Object Codes'!I:I)=\"Y\",\"Y\",\"N\"),\"N\")","v":"Y"},{"$f":"VLOOKUP(F42877,'Object Codes'!$A:$C,3,0)","v":"Full Year Positions"},{"$f":"VLOOKUP(A42877,Agencies!A:C,3,0)","v":"Dept. of Design & Construction"},1734.9699452054795]
["850",2022,"001","001","2522","X42",0,0,0,0,0,0,0,0,0,0,22.43,0,22.43,22.43,-22.43,22.43,-22.43,22.43,22.43,-22.43,{"$f":"_xlfn.XLOOKUP(F42953,'Object Codes'!$A$18:$A$510,'Object Codes'!$H$18:$H$510)","v":"PS - Additional Gross"},{"$f":"_xlfn.XLOOKUP(F42953,'Object Codes'!$A$18:$A$510,'Object Codes'!$G$18:$G$510)","v":"A"},{"$f":"_xlfn.XLOOKUP(A42953,Agencies!$A$9:$A$146,Agencies!$B$9:$B$146)","v":"General Government"},{"$f":"IF(_xlfn.XLOOKUP(A42953,Agencies!A:A,Agencies!D:D)=\"Y\",IF(_xlfn.XLOOKUP(F42953,'Object Codes'!A:A,'Object Codes'!I:I)=\"Y\",\"Y\",\"N\"),\"N\")","v":"Y"},{"$f":"VLOOKUP(F42953,'Object Codes'!$A:$C,3,0)","v":"PY LONGEVITY DIFFERENTIAL"},{"$f":"VLOOKUP(A42953,Agencies!A:C,3,0)","v":"Dept. of Design & Construction"},{"$f":"S42953/365","v":6.1452054794520546E-2}]
["850",2022,"001","001","2534","045",0,0,0,0,0,0,0,0,0,0,4775.8500000000004,0,4775.8500000000004,4775.8500000000004,-4775.8500000000004,4775.8500000000004,-4775.8500000000004,4775.8500000000004,4775.8500000000004,-4775.8500000000004,{"$f":"_xlfn.XLOOKUP(F42994,'Object Codes'!$A$18:$A$510,'Object Codes'!$H$18:$H$510)","v":"PS - Additional Gross"},{"$f":"_xlfn.XLOOKUP(F42994,'Object Codes'!$A$18:$A$510,'Object Codes'!$G$18:$G$510)","v":"A"},{"$f":"_xlfn.XLOOKUP(A42994,Agencies!$A$9:$A$146,Agencies!$B$9:$B$146)","v":"General Government"},{"$f":"IF(_xlfn.XLOOKUP(A42994,Agencies!A:A,Agencies!D:D)=\"Y\",IF(_xlfn.XLOOKUP(F42994,'Object Codes'!A:A,'Object Codes'!I:I)=\"Y\",\"Y\",\"N\"),\"N\")","v":"Y"},{"$f":"VLOOKUP(F42994,'Object Codes'!$A:$C,3,0)","v":"Holiday Pay"},{"$f":"VLOOKUP(A42994,Agencies!A:C,3,0)","v":"Dept. of Design & Construction"},13.084520547945207]
["850",2022,"001","001","2621","042",0,0,0,0,0,0,0,0,0,0,5857.99,0,5857.99,5857.99,-5857.99,5857.99,-5857.99,5857.99,5857.99,-5857.99,{"$f":"_xlfn.XLOOKUP(F43020,'Object Codes'!$A$18:$A$510,'Object Codes'!$H$18:$H$510)","v":"PS - Additional Gross"},{"$f":"_xlfn.XLOOKUP(F43020,'Object Codes'!$A$18:$A$510,'Object Codes'!$G$18:$G$510)","v":"A"},{"$f":"_xlfn.XLOOKUP(A43020,Agencies!$A$9:$A$146,Agencies!$B$9:$B$146)","v":"General Government"},{"$f":"IF(_xlfn.XLOOKUP(A43020,Agencies!A:A,Agencies!D:D)=\"Y\",IF(_xlfn.XLOOKUP(F43020,'Object Codes'!A:A,'Object Codes'!I:I)=\"Y\",\"Y\",\"N\"),\"N\")","v":"Y"},{"$f":"VLOOKUP(F43020,'Object Codes'!$A:$C,3,0)","v":"Longevity Differential"},{"$f":"VLOOKUP(A43020,Agencies!A:C,3,0)","v":"Dept. of Design & Construction"},16.049287671232875]
["850",2022,"001","001","3000","061",0,0,0,0,0,0,0,0,0,0,41.25,0,41.25,41.25,-41.25,41.25,-41.25,41.25,41.25,-41.25,{"$f":"_xlfn.XLOOKUP(F43096,'Object Codes'!$A$18:$A$510,'Object Codes'!$H$18:$H$510)","v":"PS - Additional Gross"},{"$f":"_xlfn.XLOOKUP(F43096,'Object Codes'!$A$18:$A$510,'Object Codes'!$G$18:$G$510)","v":"A"},{"$f":"_xlfn.XLOOKUP(A43096,Agencies!$A$9:$A$146,Agencies!$B$9:$B$146)","v":"General Government"},{"$f":"IF(_xlfn.XLOOKUP(A43096,Agencies!A:A,Agencies!D:D)=\"Y\",IF(_xlfn.XLOOKUP(F43096,'Object Codes'!A:A,'Object Codes'!I:I)=\"Y\",\"Y\",\"N\"),\"N\")","v":"Y"},{"$f":"VLOOKUP(F43096,'Object Codes'!$A:$C,3,0)","v":"Supper Money"},{"$f":"VLOOKUP(A43096,Agencies!A:C,3,0)","v":"Dept. of Design & Construction"},0.11301369863013698]
["850",2022,"001","001","3200","X42",0,0,0,0,0,0,0,0,0,0,22.43,0,22.43,22.43,-22.43,22.43,-22.43,22.43,22.43,-22.43,{"$f":"_xlfn.XLOOKUP(F43143,'Object Codes'!$A$18:$A$510,'Object Codes'!$H$18:$H$510)","v":"PS - Additional Gross"},{"$f":"_xlfn.XLOOKUP(F43143,'Object Codes'!$A$18:$A$510,'Object Codes'!$G$18:$G$510)","v":"A"},{"$f":"_xlfn.XLOOKUP(A43143,Agencies!$A$9:$A$146,Agencies!$B$9:$B$146)","v":"General Government"},{"$f":"IF(_xlfn.XLOOKUP(A43143,Agencies!A:A,Agencies!D:D)=\"Y\",IF(_xlfn.XLOOKUP(F43143,'Object Codes'!A:A,'Object Codes'!I:I)=\"Y\",\"Y\",\"N\"),\"N\")","v":"Y"},{"$f":"VLOOKUP(F43143,'Object Codes'!$A:$C,3,0)","v":"PY LONGEVITY DIFFERENTIAL"},{"$f":"VLOOKUP(A43143,Agencies!A:C,3,0)","v":"Dept. of Design & Construction"},6.1452054794520546E-2]
["850",2022,"001","001","3320","001",0,18,18,1271528,1271528,0,0,0,0,0,1228279.98,0,1228279.98,1228279.98,43248.02,1228279.98,43248.02,1228279.98,1228279.98,43248.02,{"$f":"_xlfn.XLOOKUP(F43163,'Object Codes'!$A$18:$A$510,'Object Codes'!$H$18:$H$510)","v":"PS - Regular"},{"$f":"_xlfn.XLOOKUP(F43163,'Object Codes'!$A$18:$A$510,'Object Codes'!$G$18:$G$510)","v":"C"},{"$f":"_xlfn.XLOOKUP(A43163,Agencies!$A$9:$A$146,Agencies!$B$9:$B$146)","v":"General Government"},{"$f":"IF(_xlfn.XLOOKUP(A43163,Agencies!A:A,Agencies!D:D)=\"Y\",IF(_xlfn.XLOOKUP(F43163,'Object Codes'!A:A,'Object Codes'!I:I)=\"Y\",\"Y\",\"N\"),\"N\")","v":"Y"},{"$f":"VLOOKUP(F43163,'Object Codes'!$A:$C,3,0)","v":"Full Year Positions"},{"$f":"VLOOKUP(A43163,Agencies!A:C,3,0)","v":"Dept. of Design & Construction"},3365.1506301369864]
["850",2022,"001","001","4100","X42",0,0,0,0,0,0,0,0,0,0,441.8,0,441.8,441.8,-441.8,441.8,-441.8,441.8,441.8,-441.8,{"$f":"_xlfn.XLOOKUP(F43239,'Object Codes'!$A$18:$A$510,'Object Codes'!$H$18:$H$510)","v":"PS - Additional Gross"},{"$f":"_xlfn.XLOOKUP(F43239,'Object Codes'!$A$18:$A$510,'Object Codes'!$G$18:$G$510)","v":"A"},{"$f":"_xlfn.XLOOKUP(A43239,Agencies!$A$9:$A$146,Agencies!$B$9:$B$146)","v":"General Government"},{"$f":"IF(_xlfn.XLOOKUP(A43239,Agencies!A:A,Agencies!D:D)=\"Y\",IF(_xlfn.XLOOKUP(F43239,'Object Codes'!A:A,'Object Codes'!I:I)=\"Y\",\"Y\",\"N\"),\"N\")","v":"Y"},{"$f":"VLOOKUP(F43239,'Object Codes'!$A:$C,3,0)","v":"PY LONGEVITY DIFFERENTIAL"},{"$f":"VLOOKUP(A43239,Agencies!A:C,3,0)","v":"Dept. of Design & Construction"},1.2104109589041097]
["850",2022,"001","001","4207","045",0,0,0,0,0,0,0,0,0,0,105,0,105,105,-105,105,-105,105,105,-105,{"$f":"_xlfn.XLOOKUP(F43292,'Object Codes'!$A$18:$A$510,'Object Codes'!$H$18:$H$510)","v":"PS - Additional Gross"},{"$f":"_xlfn.XLOOKUP(F43292,'Object Codes'!$A$18:$A$510,'Object Codes'!$G$18:$G$510)","v":"A"},{"$f":"_xlfn.XLOOKUP(A43292,Agencies!$A$9:$A$146,Agencies!$B$9:$B$146)","v":"General Government"},{"$f":"IF(_xlfn.XLOOKUP(A43292,Agencies!A:A,Agencies!D:D)=\"Y\",IF(_xlfn.XLOOKUP(F43292,'Object Codes'!A:A,'Object Codes'!I:I)=\"Y\",\"Y\",\"N\"),\"N\")","v":"Y"},{"$f":"VLOOKUP(F43292,'Object Codes'!$A:$C,3,0)","v":"Holiday Pay"},{"$f":"VLOOKUP(A43292,Agencies!A:C,3,0)","v":"Dept. of Design & Construction"},0.28767123287671231]
["850",2022,"001","001","4300","001",0,0,0,92700,92700,0,0,0,0,0,91988.97,0,91988.97,91988.97,711.03,91988.97,711.03,91988.97,91988.97,711.03,{"$f":"_xlfn.XLOOKUP(F43301,'Object Codes'!$A$18:$A$510,'Object Codes'!$H$18:$H$510)","v":"PS - Regular"},{"$f":"_xlfn.XLOOKUP(F43301,'Object Codes'!$A$18:$A$510,'Object Codes'!$G$18:$G$510)","v":"C"},{"$f":"_xlfn.XLOOKUP(A43301,Agencies!$A$9:$A$146,Agencies!$B$9:$B$146)","v":"General Government"},{"$f":"IF(_xlfn.XLOOKUP(A43301,Agencies!A:A,Agencies!D:D)=\"Y\",IF(_xlfn.XLOOKUP(F43301,'Object Codes'!A:A,'Object Codes'!I:I)=\"Y\",\"Y\",\"N\"),\"N\")","v":"Y"},{"$f":"VLOOKUP(F43301,'Object Codes'!$A:$C,3,0)","v":"Full Year Positions"},{"$f":"VLOOKUP(A43301,Agencies!A:C,3,0)","v":"Dept. of Design & Construction"},252.02457534246577]
["850",2022,"001","001","6100","031",0,0,0,0,0,0,0,0,0,0,4662,0,4662,4662,-4662,4662,-4662,4662,4662,-4662,{"$f":"_xlfn.XLOOKUP(F43382,'Object Codes'!$A$18:$A$510,'Object Codes'!$H$18:$H$510)","v":"PS - Regular"},{"$f":"_xlfn.XLOOKUP(F43382,'Object Codes'!$A$18:$A$510,'Object Codes'!$G$18:$G$510)","v":"C"},{"$f":"_xlfn.XLOOKUP(A43382,Agencies!$A$9:$A$146,Agencies!$B$9:$B$146)","v":"General Government"},{"$f":"IF(_xlfn.XLOOKUP(A43382,Agencies!A:A,Agencies!D:D)=\"Y\",IF(_xlfn.XLOOKUP(F43382,'Object Codes'!A:A,'Object Codes'!I:I)=\"Y\",\"Y\",\"N\"),\"N\")","v":"Y"},{"$f":"VLOOKUP(F43382,'Object Codes'!$A:$C,3,0)","v":"Hourly Positions"},{"$f":"VLOOKUP(A43382,Agencies!A:C,3,0)","v":"Dept. of Design & Construction"},12.772602739726027]
["850",2022,"001","001","6200","045",0,0,0,0,0,0,0,0,0,0,210,0,210,210,-210,210,-210,210,210,-210,{"$f":"_xlfn.XLOOKUP(F43395,'Object Codes'!$A$18:$A$510,'Object Codes'!$H$18:$H$510)","v":"PS - Additional Gross"},{"$f":"_xlfn.XLOOKUP(F43395,'Object Codes'!$A$18:$A$510,'Object Codes'!$G$18:$G$510)","v":"A"},{"$f":"_xlfn.XLOOKUP(A43395,Agencies!$A$9:$A$146,Agencies!$B$9:$B$146)","v":"General Government"},{"$f":"IF(_xlfn.XLOOKUP(A43395,Agencies!A:A,Agencies!D:D)=\"Y\",IF(_xlfn.XLOOKUP(F43395,'Object Codes'!A:A,'Object Codes'!I:I)=\"Y\",\"Y\",\"N\"),\"N\")","v":"Y"},{"$f":"VLOOKUP(F43395,'Object Codes'!$A:$C,3,0)","v":"Holiday Pay"},{"$f":"VLOOKUP(A43395,Agencies!A:C,3,0)","v":"Dept. of Design & Construction"},0.57534246575342463]
["850",2022,"001","001","8500","001",0,9,8,936436,819936,0,0,0,0,0,634926.52,0,634926.52,634926.52,185009.48,634926.52,185009.48,634926.52,634926.52,185009.48,{"$f":"_xlfn.XLOOKUP(F43444,'Object Codes'!$A$18:$A$510,'Object Codes'!$H$18:$H$510)","v":"PS - Regular"},{"$f":"_xlfn.XLOOKUP(F43444,'Object Codes'!$A$18:$A$510,'Object Codes'!$G$18:$G$510)","v":"C"},{"$f":"_xlfn.XLOOKUP(A43444,Agencies!$A$9:$A$146,Agencies!$B$9:$B$146)","v":"General Government"},{"$f":"IF(_xlfn.XLOOKUP(A43444,Agencies!A:A,Agencies!D:D)=\"Y\",IF(_xlfn.XLOOKUP(F43444,'Object Codes'!A:A,'Object Codes'!I:I)=\"Y\",\"Y\",\"N\"),\"N\")","v":"Y"},{"$f":"VLOOKUP(F43444,'Object Codes'!$A:$C,3,0)","v":"Full Year Positions"},{"$f":"VLOOKUP(A43444,Agencies!A:C,3,0)","v":"Dept. of Design & Construction"},1739.5247123287672]
["850",2022,"001","002","0120","620",0,0,0,2500,2500,0,0,0,0,0,0,0,0,0,2500,0,2500,0,0,2500,{"$f":"_xlfn.XLOOKUP(F43525,'Object Codes'!$A$18:$A$510,'Object Codes'!$H$18:$H$510)","v":"Contractual Services"},{"$f":"_xlfn.XLOOKUP(F43525,'Object Codes'!$A$18:$A$510,'Object Codes'!$G$18:$G$510)","v":0},{"$f":"_xlfn.XLOOKUP(A43525,Agencies!$A$9:$A$146,Agencies!$B$9:$B$146)","v":"General Government"},{"$f":"IF(_xlfn.XLOOKUP(A43525,Agencies!A:A,Agencies!D:D)=\"Y\",IF(_xlfn.XLOOKUP(F43525,'Object Codes'!A:A,'Object Codes'!I:I)=\"Y\",\"Y\",\"N\"),\"N\")","v":"Y"},{"$f":"VLOOKUP(F43525,'Object Codes'!$A:$C,3,0)","v":"Municipal Waste Export - Contractual"},{"$f":"VLOOKUP(A43525,Agencies!A:C,3,0)","v":"Dept. of Design & Construction"},0]
["850",2022,"001","002","0739","739",0,0,0,0,3959280,0,0,0,0,0,3959280,0,3959280,3959280,0,3959280,0,3959280,3959280,0,{"$f":"_xlfn.XLOOKUP(F43544,'Object Codes'!$A$18:$A$510,'Object Codes'!$H$18:$H$510)","v":"Fixed Charges"},{"$f":"_xlfn.XLOOKUP(F43544,'Object Codes'!$A$18:$A$510,'Object Codes'!$G$18:$G$510)","v":0},{"$f":"_xlfn.XLOOKUP(A43544,Agencies!$A$9:$A$146,Agencies!$B$9:$B$146)","v":"General Government"},{"$f":"IF(_xlfn.XLOOKUP(A43544,Agencies!A:A,Agencies!D:D)=\"Y\",IF(_xlfn.XLOOKUP(F43544,'Object Codes'!A:A,'Object Codes'!I:I)=\"Y\",\"Y\",\"N\"),\"N\")","v":"Y"},{"$f":"VLOOKUP(F43544,'Object Codes'!$A:$C,3,0)","v":"Pollution Remediation Cost"},{"$f":"VLOOKUP(A43544,Agencies!A:C,3,0)","v":"Dept. of Design & Construction"},10847.342465753425]
["850",2022,"001","002","7090","423",0,0,0,11587,0,0,0,0,0,0,0,0,0,0,0,0,0,0,0,0,{"$f":"_xlfn.XLOOKUP(F43587,'Object Codes'!$A$18:$A$510,'Object Codes'!$H$18:$H$510)","v":"Heat, Light, and Power"},{"$f":"_xlfn.XLOOKUP(F43587,'Object Codes'!$A$18:$A$510,'Object Codes'!$G$18:$G$510)","v":0},{"$f":"_xlfn.XLOOKUP(A43587,Agencies!$A$9:$A$146,Agencies!$B$9:$B$146)","v":"General Government"},{"$f":"IF(_xlfn.XLOOKUP(A43587,Agencies!A:A,Agencies!D:D)=\"Y\",IF(_xlfn.XLOOKUP(F43587,'Object Codes'!A:A,'Object Codes'!I:I)=\"Y\",\"Y\",\"N\"),\"N\")","v":"Y"},{"$f":"VLOOKUP(F43587,'Object Codes'!$A:$C,3,0)","v":"Heat, Light and Power"},{"$f":"VLOOKUP(A43587,Agencies!A:C,3,0)","v":"Dept. of Design & Construction"},0]
["850",2022,"001","002","7390","337",0,0,0,1000,0,0,0,0,0,0,0,0,0,0,0,0,0,0,0,0,{"$f":"_xlfn.XLOOKUP(F43621,'Object Codes'!$A$18:$A$510,'Object Codes'!$H$18:$H$510)","v":"Equipment"},{"$f":"_xlfn.XLOOKUP(F43621,'Object Codes'!$A$18:$A$510,'Object Codes'!$G$18:$G$510)","v":"A"},{"$f":"_xlfn.XLOOKUP(A43621,Agencies!$A$9:$A$146,Agencies!$B$9:$B$146)","v":"General Government"},{"$f":"IF(_xlfn.XLOOKUP(A43621,Agencies!A:A,Agencies!D:D)=\"Y\",IF(_xlfn.XLOOKUP(F43621,'Object Codes'!A:A,'Object Codes'!I:I)=\"Y\",\"Y\",\"N\"),\"N\")","v":"Y"},{"$f":"VLOOKUP(F43621,'Object Codes'!$A:$C,3,0)","v":"Books - Other"},{"$f":"VLOOKUP(A43621,Agencies!A:C,3,0)","v":"Dept. of Design & Construction"},0]
["850",2022,"001","002","A101","499",0,0,0,14772406,0,0,0,0,0,0,0,0,0,0,0,0,0,0,0,0,{"$f":"_xlfn.XLOOKUP(F43697,'Object Codes'!$A$18:$A$510,'Object Codes'!$H$18:$H$510)","v":"Other Services and Charges - General"},{"$f":"_xlfn.XLOOKUP(F43697,'Object Codes'!$A$18:$A$510,'Object Codes'!$G$18:$G$510)","v":0},{"$f":"_xlfn.XLOOKUP(A43697,Agencies!$A$9:$A$146,Agencies!$B$9:$B$146)","v":"General Government"},{"$f":"IF(_xlfn.XLOOKUP(A43697,Agencies!A:A,Agencies!D:D)=\"Y\",IF(_xlfn.XLOOKUP(F43697,'Object Codes'!A:A,'Object Codes'!I:I)=\"Y\",\"Y\",\"N\"),\"N\")","v":"Y"},{"$f":"VLOOKUP(F43697,'Object Codes'!$A:$C,3,0)","v":"Other Expenditures - General"},{"$f":"VLOOKUP(A43697,Agencies!A:C,3,0)","v":"Dept. of Design & Construction"},0]
["856",2022,"001","001","2003","031",0,0,0,5840,5840,0,0,0,0,0,0,0,0,0,5840,0,5840,0,0,5840,{"$f":"_xlfn.XLOOKUP(F43751,'Object Codes'!$A$18:$A$510,'Object Codes'!$H$18:$H$510)","v":"PS - Regular"},{"$f":"_xlfn.XLOOKUP(F43751,'Object Codes'!$A$18:$A$510,'Object Codes'!$G$18:$G$510)","v":"C"},{"$f":"_xlfn.XLOOKUP(A43751,Agencies!$A$9:$A$146,Agencies!$B$9:$B$146)","v":"General Government"},{"$f":"IF(_xlfn.XLOOKUP(A43751,Agencies!A:A,Agencies!D:D)=\"Y\",IF(_xlfn.XLOOKUP(F43751,'Object Codes'!A:A,'Object Codes'!I:I)=\"Y\",\"Y\",\"N\"),\"N\")","v":"Y"},{"$f":"VLOOKUP(F43751,'Object Codes'!$A:$C,3,0)","v":"Hourly Positions"},{"$f":"VLOOKUP(A43751,Agencies!A:C,3,0)","v":"Dept of Citywide Admin Srvces"},0]
["856",2022,"001","001","2120","001",0,144,133,7730891,6979352,0,0,0,0,0,9025393.9000000004,0,9025393.9000000004,9025393.9000000004,-2046041.9,9025393.9000000004,-2046041.9,9025393.9000000004,9025393.9000000004,-2046041.9,{"$f":"_xlfn.XLOOKUP(F43764,'Object Codes'!$A$18:$A$510,'Object Codes'!$H$18:$H$510)","v":"PS - Regular"},{"$f":"_xlfn.XLOOKUP(F43764,'Object Codes'!$A$18:$A$510,'Object Codes'!$G$18:$G$510)","v":"C"},{"$f":"_xlfn.XLOOKUP(A43764,Agencies!$A$9:$A$146,Agencies!$B$9:$B$146)","v":"General Government"},{"$f":"IF(_xlfn.XLOOKUP(A43764,Agencies!A:A,Agencies!D:D)=\"Y\",IF(_xlfn.XLOOKUP(F43764,'Object Codes'!A:A,'Object Codes'!I:I)=\"Y\",\"Y\",\"N\"),\"N\")","v":"Y"},{"$f":"VLOOKUP(F43764,'Object Codes'!$A:$C,3,0)","v":"Full Year Positions"},{"$f":"VLOOKUP(A43764,Agencies!A:C,3,0)","v":"Dept of Citywide Admin Srvces"},24727.106575342466]
["856",2022,"001","001","7555","051",0,0,0,120459,120459,0,0,0,0,0,0,0,0,0,120459,0,120459,0,0,120459,{"$f":"_xlfn.XLOOKUP(F43840,'Object Codes'!$A$18:$A$510,'Object Codes'!$H$18:$H$510)","v":"PS - Additional Gross"},{"$f":"_xlfn.XLOOKUP(F43840,'Object Codes'!$A$18:$A$510,'Object Codes'!$G$18:$G$510)","v":"A"},{"$f":"_xlfn.XLOOKUP(A43840,Agencies!$A$9:$A$146,Agencies!$B$9:$B$146)","v":"General Government"},{"$f":"IF(_xlfn.XLOOKUP(A43840,Agencies!A:A,Agencies!D:D)=\"Y\",IF(_xlfn.XLOOKUP(F43840,'Object Codes'!A:A,'Object Codes'!I:I)=\"Y\",\"Y\",\"N\"),\"N\")","v":"Y"},{"$f":"VLOOKUP(F43840,'Object Codes'!$A:$C,3,0)","v":"Salary Adjustments"},{"$f":"VLOOKUP(A43840,Agencies!A:C,3,0)","v":"Dept of Citywide Admin Srvces"},0]
["856",2022,"001","002","7333","307",0,0,0,1000,0,0,0,0,0,0,0,0,0,0,0,0,0,0,0,0,{"$f":"_xlfn.XLOOKUP(F43900,'Object Codes'!$A$18:$A$510,'Object Codes'!$H$18:$H$510)","v":"Equipment"},{"$f":"_xlfn.XLOOKUP(F43900,'Object Codes'!$A$18:$A$510,'Object Codes'!$G$18:$G$510)","v":"A"},{"$f":"_xlfn.XLOOKUP(A43900,Agencies!$A$9:$A$146,Agencies!$B$9:$B$146)","v":"General Government"},{"$f":"IF(_xlfn.XLOOKUP(A43900,Agencies!A:A,Agencies!D:D)=\"Y\",IF(_xlfn.XLOOKUP(F43900,'Object Codes'!A:A,'Object Codes'!I:I)=\"Y\",\"Y\",\"N\"),\"N\")","v":"Y"},{"$f":"VLOOKUP(F43900,'Object Codes'!$A:$C,3,0)","v":"Medical, Surgical and Laboratory Equipment"},{"$f":"VLOOKUP(A43900,Agencies!A:C,3,0)","v":"Dept of Citywide Admin Srvces"},0]
["856",2022,"001","002","7333","315",0,0,0,3000,0,0,0,0,0,0,0,0,0,0,0,0,0,0,0,0,{"$f":"_xlfn.XLOOKUP(F43902,'Object Codes'!$A$18:$A$510,'Object Codes'!$H$18:$H$510)","v":"Equipment"},{"$f":"_xlfn.XLOOKUP(F43902,'Object Codes'!$A$18:$A$510,'Object Codes'!$G$18:$G$510)","v":"A"},{"$f":"_xlfn.XLOOKUP(A43902,Agencies!$A$9:$A$146,Agencies!$B$9:$B$146)","v":"General Government"},{"$f":"IF(_xlfn.XLOOKUP(A43902,Agencies!A:A,Agencies!D:D)=\"Y\",IF(_xlfn.XLOOKUP(F43902,'Object Codes'!A:A,'Object Codes'!I:I)=\"Y\",\"Y\",\"N\"),\"N\")","v":"Y"},{"$f":"VLOOKUP(F43902,'Object Codes'!$A:$C,3,0)","v":"Office Equipment"},{"$f":"VLOOKUP(A43902,Agencies!A:C,3,0)","v":"Dept of Citywide Admin Srvces"},0]
["856",2022,"001","100","1000","031",0,0,0,147574,147574,0,0,0,0,0,0,0,0,0,147574,0,147574,0,0,147574,{"$f":"_xlfn.XLOOKUP(F43983,'Object Codes'!$A$18:$A$510,'Object Codes'!$H$18:$H$510)","v":"PS - Regular"},{"$f":"_xlfn.XLOOKUP(F43983,'Object Codes'!$A$18:$A$510,'Object Codes'!$G$18:$G$510)","v":"C"},{"$f":"_xlfn.XLOOKUP(A43983,Agencies!$A$9:$A$146,Agencies!$B$9:$B$146)","v":"General Government"},{"$f":"IF(_xlfn.XLOOKUP(A43983,Agencies!A:A,Agencies!D:D)=\"Y\",IF(_xlfn.XLOOKUP(F43983,'Object Codes'!A:A,'Object Codes'!I:I)=\"Y\",\"Y\",\"N\"),\"N\")","v":"Y"},{"$f":"VLOOKUP(F43983,'Object Codes'!$A:$C,3,0)","v":"Hourly Positions"},{"$f":"VLOOKUP(A43983,Agencies!A:C,3,0)","v":"Dept of Citywide Admin Srvces"},0]
["856",2022,"001","100","1005","001",0,13,13,1251963,1251963,0,0,0,0,0,1091737.1399999999,0,1091737.1399999999,1091737.1399999999,160225.85999999999,1091737.1399999999,160225.85999999999,1091737.1399999999,1091737.1399999999,160225.85999999999,{"$f":"_xlfn.XLOOKUP(F44003,'Object Codes'!$A$18:$A$510,'Object Codes'!$H$18:$H$510)","v":"PS - Regular"},{"$f":"_xlfn.XLOOKUP(F44003,'Object Codes'!$A$18:$A$510,'Object Codes'!$G$18:$G$510)","v":"C"},{"$f":"_xlfn.XLOOKUP(A44003,Agencies!$A$9:$A$146,Agencies!$B$9:$B$146)","v":"General Government"},{"$f":"IF(_xlfn.XLOOKUP(A44003,Agencies!A:A,Agencies!D:D)=\"Y\",IF(_xlfn.XLOOKUP(F44003,'Object Codes'!A:A,'Object Codes'!I:I)=\"Y\",\"Y\",\"N\"),\"N\")","v":"Y"},{"$f":"VLOOKUP(F44003,'Object Codes'!$A:$C,3,0)","v":"Full Year Positions"},{"$f":"VLOOKUP(A44003,Agencies!A:C,3,0)","v":"Dept of Citywide Admin Srvces"},2991.0606575342463]
["856",2022,"001","100","1200","046",0,0,0,0,0,0,0,0,0,0,68992.83,0,68992.83,68992.83,-68992.83,68992.83,-68992.83,68992.83,68992.83,-68992.83,{"$f":"_xlfn.XLOOKUP(F44045,'Object Codes'!$A$18:$A$510,'Object Codes'!$H$18:$H$510)","v":"PS - Additional Gross"},{"$f":"_xlfn.XLOOKUP(F44045,'Object Codes'!$A$18:$A$510,'Object Codes'!$G$18:$G$510)","v":"A"},{"$f":"_xlfn.XLOOKUP(A44045,Agencies!$A$9:$A$146,Agencies!$B$9:$B$146)","v":"General Government"},{"$f":"IF(_xlfn.XLOOKUP(A44045,Agencies!A:A,Agencies!D:D)=\"Y\",IF(_xlfn.XLOOKUP(F44045,'Object Codes'!A:A,'Object Codes'!I:I)=\"Y\",\"Y\",\"N\"),\"N\")","v":"Y"},{"$f":"VLOOKUP(F44045,'Object Codes'!$A:$C,3,0)","v":"Terminal Leave"},{"$f":"VLOOKUP(A44045,Agencies!A:C,3,0)","v":"Dept of Citywide Admin Srvces"},189.02145205479454]
["856",2022,"001","190","1090","101",0,0,0,9000,759,0,0,0,0,0,758.86,0,758.86,758.86,0.14000000000000001,758.86,0.14000000000000001,758.86,758.86,0.14000000000000001,{"$f":"_xlfn.XLOOKUP(F44126,'Object Codes'!$A$18:$A$510,'Object Codes'!$H$18:$H$510)","v":"Supplies & Materials"},{"$f":"_xlfn.XLOOKUP(F44126,'Object Codes'!$A$18:$A$510,'Object Codes'!$G$18:$G$510)","v":"A"},{"$f":"_xlfn.XLOOKUP(A44126,Agencies!$A$9:$A$146,Agencies!$B$9:$B$146)","v":"General Government"},{"$f":"IF(_xlfn.XLOOKUP(A44126,Agencies!A:A,Agencies!D:D)=\"Y\",IF(_xlfn.XLOOKUP(F44126,'Object Codes'!A:A,'Object Codes'!I:I)=\"Y\",\"Y\",\"N\"),\"N\")","v":"Y"},{"$f":"VLOOKUP(F44126,'Object Codes'!$A:$C,3,0)","v":"Printing Supplies"},{"$f":"VLOOKUP(A44126,Agencies!A:C,3,0)","v":"Dept of Citywide Admin Srvces"},2.0790684931506851]
["856",2022,"001","190","1191","613",0,0,0,0,1340,0,0,0,0,0,1330.02,0,1330.02,1330.02,9.98,1330.02,9.98,1330.02,1330.02,9.98,{"$f":"_xlfn.XLOOKUP(F44152,'Object Codes'!$A$18:$A$510,'Object Codes'!$H$18:$H$510)","v":"Contractual Services"},{"$f":"_xlfn.XLOOKUP(F44152,'Object Codes'!$A$18:$A$510,'Object Codes'!$G$18:$G$510)","v":0},{"$f":"_xlfn.XLOOKUP(A44152,Agencies!$A$9:$A$146,Agencies!$B$9:$B$146)","v":"General Government"},{"$f":"IF(_xlfn.XLOOKUP(A44152,Agencies!A:A,Agencies!D:D)=\"Y\",IF(_xlfn.XLOOKUP(F44152,'Object Codes'!A:A,'Object Codes'!I:I)=\"Y\",\"Y\",\"N\"),\"N\")","v":"Y"},{"$f":"VLOOKUP(F44152,'Object Codes'!$A:$C,3,0)","v":"Data Processing Equipment Maintenance - Contractual"},{"$f":"VLOOKUP(A44152,Agencies!A:C,3,0)","v":"Dept of Citywide Admin Srvces"},3.6438904109589041]
["856",2022,"001","190","1750","100",0,0,0,25000,16700,0,0,0,0,0,1066.45,9600,10666.45,10666.45,6033.55,10666.45,6033.55,10666.45,10666.45,6033.55,{"$f":"_xlfn.XLOOKUP(F44188,'Object Codes'!$A$18:$A$510,'Object Codes'!$H$18:$H$510)","v":"Supplies & Materials"},{"$f":"_xlfn.XLOOKUP(F44188,'Object Codes'!$A$18:$A$510,'Object Codes'!$G$18:$G$510)","v":"A"},{"$f":"_xlfn.XLOOKUP(A44188,Agencies!$A$9:$A$146,Agencies!$B$9:$B$146)","v":"General Government"},{"$f":"IF(_xlfn.XLOOKUP(A44188,Agencies!A:A,Agencies!D:D)=\"Y\",IF(_xlfn.XLOOKUP(F44188,'Object Codes'!A:A,'Object Codes'!I:I)=\"Y\",\"Y\",\"N\"),\"N\")","v":"Y"},{"$f":"VLOOKUP(F44188,'Object Codes'!$A:$C,3,0)","v":"Supplies and Materials - General"},{"$f":"VLOOKUP(A44188,Agencies!A:C,3,0)","v":"Dept of Citywide Admin Srvces"},29.223150684931507]
["856",2022,"001","200","2504","X45",0,0,0,0,0,0,0,0,0,0,853.43,0,853.43,853.43,-853.43,853.43,-853.43,853.43,853.43,-853.43,{"$f":"_xlfn.XLOOKUP(F44269,'Object Codes'!$A$18:$A$510,'Object Codes'!$H$18:$H$510)","v":"PS - Additional Gross"},{"$f":"_xlfn.XLOOKUP(F44269,'Object Codes'!$A$18:$A$510,'Object Codes'!$G$18:$G$510)","v":"A"},{"$f":"_xlfn.XLOOKUP(A44269,Agencies!$A$9:$A$146,Agencies!$B$9:$B$146)","v":"General Government"},{"$f":"IF(_xlfn.XLOOKUP(A44269,Agencies!A:A,Agencies!D:D)=\"Y\",IF(_xlfn.XLOOKUP(F44269,'Object Codes'!A:A,'Object Codes'!I:I)=\"Y\",\"Y\",\"N\"),\"N\")","v":"Y"},{"$f":"VLOOKUP(F44269,'Object Codes'!$A:$C,3,0)","v":"PY HOLIDAY PAY"},{"$f":"VLOOKUP(A44269,Agencies!A:C,3,0)","v":"Dept of Citywide Admin Srvces"},2.3381643835616437]
["856",2022,"001","290","2090","300",0,0,0,9079,87,0,0,0,0,0,0,86.86,86.86,86.86,0.14000000000000001,86.86,0.14000000000000001,86.86,86.86,0.14000000000000001,{"$f":"_xlfn.XLOOKUP(F44313,'Object Codes'!$A$18:$A$510,'Object Codes'!$H$18:$H$510)","v":"Equipment"},{"$f":"_xlfn.XLOOKUP(F44313,'Object Codes'!$A$18:$A$510,'Object Codes'!$G$18:$G$510)","v":"A"},{"$f":"_xlfn.XLOOKUP(A44313,Agencies!$A$9:$A$146,Agencies!$B$9:$B$146)","v":"General Government"},{"$f":"IF(_xlfn.XLOOKUP(A44313,Agencies!A:A,Agencies!D:D)=\"Y\",IF(_xlfn.XLOOKUP(F44313,'Object Codes'!A:A,'Object Codes'!I:I)=\"Y\",\"Y\",\"N\"),\"N\")","v":"Y"},{"$f":"VLOOKUP(F44313,'Object Codes'!$A:$C,3,0)","v":"Equipment - General"},{"$f":"VLOOKUP(A44313,Agencies!A:C,3,0)","v":"Dept of Citywide Admin Srvces"},0.23797260273972604]
["856",2022,"001","290","2090","671",0,0,0,8270,8270,0,0,0,0,0,3154,821,3975,3975,4295,3975,4295,3975,3975,4295,{"$f":"_xlfn.XLOOKUP(F44331,'Object Codes'!$A$18:$A$510,'Object Codes'!$H$18:$H$510)","v":"Contractual Services"},{"$f":"_xlfn.XLOOKUP(F44331,'Object Codes'!$A$18:$A$510,'Object Codes'!$G$18:$G$510)","v":0},{"$f":"_xlfn.XLOOKUP(A44331,Agencies!$A$9:$A$146,Agencies!$B$9:$B$146)","v":"General Government"},{"$f":"IF(_xlfn.XLOOKUP(A44331,Agencies!A:A,Agencies!D:D)=\"Y\",IF(_xlfn.XLOOKUP(F44331,'Object Codes'!A:A,'Object Codes'!I:I)=\"Y\",\"Y\",\"N\"),\"N\")","v":"Y"},{"$f":"VLOOKUP(F44331,'Object Codes'!$A:$C,3,0)","v":"Training Program for City Employees - Contractual"},{"$f":"VLOOKUP(A44331,Agencies!A:C,3,0)","v":"Dept of Citywide Admin Srvces"},10.890410958904109]
["856",2022,"001","300","3027","043",0,0,0,0,0,0,0,0,0,0,-0.03,0,-0.03,-0.03,0.03,-0.03,0.03,-0.03,-0.03,0.03,{"$f":"_xlfn.XLOOKUP(F44412,'Object Codes'!$A$18:$A$510,'Object Codes'!$H$18:$H$510)","v":"PS - Additional Gross"},{"$f":"_xlfn.XLOOKUP(F44412,'Object Codes'!$A$18:$A$510,'Object Codes'!$G$18:$G$510)","v":"A"},{"$f":"_xlfn.XLOOKUP(A44412,Agencies!$A$9:$A$146,Agencies!$B$9:$B$146)","v":"General Government"},{"$f":"IF(_xlfn.XLOOKUP(A44412,Agencies!A:A,Agencies!D:D)=\"Y\",IF(_xlfn.XLOOKUP(F44412,'Object Codes'!A:A,'Object Codes'!I:I)=\"Y\",\"Y\",\"N\"),\"N\")","v":"Y"},{"$f":"VLOOKUP(F44412,'Object Codes'!$A:$C,3,0)","v":"Shift Differential"},{"$f":"VLOOKUP(A44412,Agencies!A:C,3,0)","v":"Dept of Citywide Admin Srvces"},-8.219178082191781E-5]
["856",2022,"001","300","3027","061",0,0,0,0,0,0,0,0,0,0,-0.25,0,-0.25,-0.25,0.25,-0.25,0.25,-0.25,-0.25,0.25,{"$f":"_xlfn.XLOOKUP(F44416,'Object Codes'!$A$18:$A$510,'Object Codes'!$H$18:$H$510)","v":"PS - Additional Gross"},{"$f":"_xlfn.XLOOKUP(F44416,'Object Codes'!$A$18:$A$510,'Object Codes'!$G$18:$G$510)","v":"A"},{"$f":"_xlfn.XLOOKUP(A44416,Agencies!$A$9:$A$146,Agencies!$B$9:$B$146)","v":"General Government"},{"$f":"IF(_xlfn.XLOOKUP(A44416,Agencies!A:A,Agencies!D:D)=\"Y\",IF(_xlfn.XLOOKUP(F44416,'Object Codes'!A:A,'Object Codes'!I:I)=\"Y\",\"Y\",\"N\"),\"N\")","v":"Y"},{"$f":"VLOOKUP(F44416,'Object Codes'!$A:$C,3,0)","v":"Supper Money"},{"$f":"VLOOKUP(A44416,Agencies!A:C,3,0)","v":"Dept of Citywide Admin Srvces"},-6.8493150684931507E-4]
["856",2022,"001","300","3210","051",0,0,0,482,482,0,0,0,0,0,0,0,0,0,482,0,482,0,0,482,{"$f":"_xlfn.XLOOKUP(F44474,'Object Codes'!$A$18:$A$510,'Object Codes'!$H$18:$H$510)","v":"PS - Additional Gross"},{"$f":"_xlfn.XLOOKUP(F44474,'Object Codes'!$A$18:$A$510,'Object Codes'!$G$18:$G$510)","v":"A"},{"$f":"_xlfn.XLOOKUP(A44474,Agencies!$A$9:$A$146,Agencies!$B$9:$B$146)","v":"General Government"},{"$f":"IF(_xlfn.XLOOKUP(A44474,Agencies!A:A,Agencies!D:D)=\"Y\",IF(_xlfn.XLOOKUP(F44474,'Object Codes'!A:A,'Object Codes'!I:I)=\"Y\",\"Y\",\"N\"),\"N\")","v":"Y"},{"$f":"VLOOKUP(F44474,'Object Codes'!$A:$C,3,0)","v":"Salary Adjustments"},{"$f":"VLOOKUP(A44474,Agencies!A:C,3,0)","v":"Dept of Citywide Admin Srvces"},0]
["856",2022,"001","300","3214","X42",0,0,0,0,0,0,0,0,0,0,5980.39,0,5980.39,5980.39,-5980.39,5980.39,-5980.39,5980.39,5980.39,-5980.39,{"$f":"_xlfn.XLOOKUP(F44508,'Object Codes'!$A$18:$A$510,'Object Codes'!$H$18:$H$510)","v":"PS - Additional Gross"},{"$f":"_xlfn.XLOOKUP(F44508,'Object Codes'!$A$18:$A$510,'Object Codes'!$G$18:$G$510)","v":"A"},{"$f":"_xlfn.XLOOKUP(A44508,Agencies!$A$9:$A$146,Agencies!$B$9:$B$146)","v":"General Government"},{"$f":"IF(_xlfn.XLOOKUP(A44508,Agencies!A:A,Agencies!D:D)=\"Y\",IF(_xlfn.XLOOKUP(F44508,'Object Codes'!A:A,'Object Codes'!I:I)=\"Y\",\"Y\",\"N\"),\"N\")","v":"Y"},{"$f":"VLOOKUP(F44508,'Object Codes'!$A:$C,3,0)","v":"PY LONGEVITY DIFFERENTIAL"},{"$f":"VLOOKUP(A44508,Agencies!A:C,3,0)","v":"Dept of Citywide Admin Srvces"},16.384630136986303]
["856",2022,"001","300","3305","X43",0,0,0,0,0,0,0,0,0,0,5.83,0,5.83,5.83,-5.83,5.83,-5.83,5.83,5.83,-5.83,{"$f":"_xlfn.XLOOKUP(F44565,'Object Codes'!$A$18:$A$510,'Object Codes'!$H$18:$H$510)","v":"PS - Additional Gross"},{"$f":"_xlfn.XLOOKUP(F44565,'Object Codes'!$A$18:$A$510,'Object Codes'!$G$18:$G$510)","v":"A"},{"$f":"_xlfn.XLOOKUP(A44565,Agencies!$A$9:$A$146,Agencies!$B$9:$B$146)","v":"General Government"},{"$f":"IF(_xlfn.XLOOKUP(A44565,Agencies!A:A,Agencies!D:D)=\"Y\",IF(_xlfn.XLOOKUP(F44565,'Object Codes'!A:A,'Object Codes'!I:I)=\"Y\",\"Y\",\"N\"),\"N\")","v":"Y"},{"$f":"VLOOKUP(F44565,'Object Codes'!$A:$C,3,0)","v":"PY SHIFT DIFFERENTIAL"},{"$f":"VLOOKUP(A44565,Agencies!A:C,3,0)","v":"Dept of Citywide Admin Srvces"},1.5972602739726026E-2]
["856",2022,"001","300","3501","057",0,0,0,0,2000,0,0,0,0,0,0,0,0,0,2000,0,2000,0,0,2000,{"$f":"_xlfn.XLOOKUP(F44617,'Object Codes'!$A$18:$A$510,'Object Codes'!$H$18:$H$510)","v":"PS - Additional Gross"},{"$f":"_xlfn.XLOOKUP(F44617,'Object Codes'!$A$18:$A$510,'Object Codes'!$G$18:$G$510)","v":"A"},{"$f":"_xlfn.XLOOKUP(A44617,Agencies!$A$9:$A$146,Agencies!$B$9:$B$146)","v":"General Government"},{"$f":"IF(_xlfn.XLOOKUP(A44617,Agencies!A:A,Agencies!D:D)=\"Y\",IF(_xlfn.XLOOKUP(F44617,'Object Codes'!A:A,'Object Codes'!I:I)=\"Y\",\"Y\",\"N\"),\"N\")","v":"Y"},{"$f":"VLOOKUP(F44617,'Object Codes'!$A:$C,3,0)","v":"Bonus Payments"},{"$f":"VLOOKUP(A44617,Agencies!A:C,3,0)","v":"Dept of Citywide Admin Srvces"},{"$f":"S44617/365","v":0}]
["856",2022,"001","390","3060","199",0,0,0,2813,0,0,0,0,0,0,0,0,0,0,0,0,0,0,0,0,{"$f":"_xlfn.XLOOKUP(F44693,'Object Codes'!$A$18:$A$510,'Object Codes'!$H$18:$H$510)","v":"Supplies & Materials"},{"$f":"_xlfn.XLOOKUP(F44693,'Object Codes'!$A$18:$A$510,'Object Codes'!$G$18:$G$510)","v":"A"},{"$f":"_xlfn.XLOOKUP(A44693,Agencies!$A$9:$A$146,Agencies!$B$9:$B$146)","v":"General Government"},{"$f":"IF(_xlfn.XLOOKUP(A44693,Agencies!A:A,Agencies!D:D)=\"Y\",IF(_xlfn.XLOOKUP(F44693,'Object Codes'!A:A,'Object Codes'!I:I)=\"Y\",\"Y\",\"N\"),\"N\")","v":"Y"},{"$f":"VLOOKUP(F44693,'Object Codes'!$A:$C,3,0)","v":"Data Processing Supplies"},{"$f":"VLOOKUP(A44693,Agencies!A:C,3,0)","v":"Dept of Citywide Admin Srvces"},0]
["856",2022,"001","390","3080","412",0,0,0,725199,617774,0,0,0,0,0,583972.99,33801.01,617774,617774,0,617774,0,617774,617774,0,{"$f":"_xlfn.XLOOKUP(F44727,'Object Codes'!$A$18:$A$510,'Object Codes'!$H$18:$H$510)","v":"Other Services and Charges - General"},{"$f":"_xlfn.XLOOKUP(F44727,'Object Codes'!$A$18:$A$510,'Object Codes'!$G$18:$G$510)","v":0},{"$f":"_xlfn.XLOOKUP(A44727,Agencies!$A$9:$A$146,Agencies!$B$9:$B$146)","v":"General Government"},{"$f":"IF(_xlfn.XLOOKUP(A44727,Agencies!A:A,Agencies!D:D)=\"Y\",IF(_xlfn.XLOOKUP(F44727,'Object Codes'!A:A,'Object Codes'!I:I)=\"Y\",\"Y\",\"N\"),\"N\")","v":"Y"},{"$f":"VLOOKUP(F44727,'Object Codes'!$A:$C,3,0)","v":"Rentals - Miscellaneous Equipment"},{"$f":"VLOOKUP(A44727,Agencies!A:C,3,0)","v":"Dept of Citywide Admin Srvces"},1692.5315068493151]
["856",2022,"001","390","3099","600",0,0,0,0,0,0,0,0,0,0,-903.71,903.71,0,0,0,0,0,0,0,0,{"$f":"_xlfn.XLOOKUP(F44760,'Object Codes'!$A$18:$A$510,'Object Codes'!$H$18:$H$510)","v":"Contractual Services"},{"$f":"_xlfn.XLOOKUP(F44760,'Object Codes'!$A$18:$A$510,'Object Codes'!$G$18:$G$510)","v":0},{"$f":"_xlfn.XLOOKUP(A44760,Agencies!$A$9:$A$146,Agencies!$B$9:$B$146)","v":"General Government"},{"$f":"IF(_xlfn.XLOOKUP(A44760,Agencies!A:A,Agencies!D:D)=\"Y\",IF(_xlfn.XLOOKUP(F44760,'Object Codes'!A:A,'Object Codes'!I:I)=\"Y\",\"Y\",\"N\"),\"N\")","v":"Y"},{"$f":"VLOOKUP(F44760,'Object Codes'!$A:$C,3,0)","v":"Contractual Services - General"},{"$f":"VLOOKUP(A44760,Agencies!A:C,3,0)","v":"Dept of Citywide Admin Srvces"},0]
["856",2022,"001","390","3280","300",0,0,0,0,0,0,0,0,0,0,47993.54,0,47993.54,47993.54,-47993.54,47993.54,-47993.54,47993.54,47993.54,-47993.54,{"$f":"_xlfn.XLOOKUP(F44789,'Object Codes'!$A$18:$A$510,'Object Codes'!$H$18:$H$510)","v":"Equipment"},{"$f":"_xlfn.XLOOKUP(F44789,'Object Codes'!$A$18:$A$510,'Object Codes'!$G$18:$G$510)","v":"A"},{"$f":"_xlfn.XLOOKUP(A44789,Agencies!$A$9:$A$146,Agencies!$B$9:$B$146)","v":"General Government"},{"$f":"IF(_xlfn.XLOOKUP(A44789,Agencies!A:A,Agencies!D:D)=\"Y\",IF(_xlfn.XLOOKUP(F44789,'Object Codes'!A:A,'Object Codes'!I:I)=\"Y\",\"Y\",\"N\"),\"N\")","v":"Y"},{"$f":"VLOOKUP(F44789,'Object Codes'!$A:$C,3,0)","v":"Equipment - General"},{"$f":"VLOOKUP(A44789,Agencies!A:C,3,0)","v":"Dept of Citywide Admin Srvces"},131.4891506849315]
["856",2022,"001","390","3502","100",0,0,0,0,12814,0,0,0,0,0,2111.0500000000002,3096.02,5207.07,5207.07,7606.93,5207.07,7606.93,5207.07,5207.07,7606.93,{"$f":"_xlfn.XLOOKUP(F44870,'Object Codes'!$A$18:$A$510,'Object Codes'!$H$18:$H$510)","v":"Supplies & Materials"},{"$f":"_xlfn.XLOOKUP(F44870,'Object Codes'!$A$18:$A$510,'Object Codes'!$G$18:$G$510)","v":"A"},{"$f":"_xlfn.XLOOKUP(A44870,Agencies!$A$9:$A$146,Agencies!$B$9:$B$146)","v":"General Government"},{"$f":"IF(_xlfn.XLOOKUP(A44870,Agencies!A:A,Agencies!D:D)=\"Y\",IF(_xlfn.XLOOKUP(F44870,'Object Codes'!A:A,'Object Codes'!I:I)=\"Y\",\"Y\",\"N\"),\"N\")","v":"Y"},{"$f":"VLOOKUP(F44870,'Object Codes'!$A:$C,3,0)","v":"Supplies and Materials - General"},{"$f":"VLOOKUP(A44870,Agencies!A:C,3,0)","v":"Dept of Citywide Admin Srvces"},14.265945205479451]
["856",2022,"001","390","P390","608",0,0,0,0,-580993,0,0,0,0,0,0,0,0,0,-580993,0,-580993,0,0,-580993,{"$f":"_xlfn.XLOOKUP(F44921,'Object Codes'!$A$18:$A$510,'Object Codes'!$H$18:$H$510)","v":"Contractual Services"},{"$f":"_xlfn.XLOOKUP(F44921,'Object Codes'!$A$18:$A$510,'Object Codes'!$G$18:$G$510)","v":0},{"$f":"_xlfn.XLOOKUP(A44921,Agencies!$A$9:$A$146,Agencies!$B$9:$B$146)","v":"General Government"},{"$f":"IF(_xlfn.XLOOKUP(A44921,Agencies!A:A,Agencies!D:D)=\"Y\",IF(_xlfn.XLOOKUP(F44921,'Object Codes'!A:A,'Object Codes'!I:I)=\"Y\",\"Y\",\"N\"),\"N\")","v":"Y"},{"$f":"VLOOKUP(F44921,'Object Codes'!$A:$C,3,0)","v":"Maintenance and Repairs - General - Contractual"},{"$f":"VLOOKUP(A44921,Agencies!A:C,3,0)","v":"Dept of Citywide Admin Srvces"},0]
["856",2022,"001","400","4002","001",0,8,8,535816,540773,0,0,0,0,0,527630.55000000005,0,527630.55000000005,527630.55000000005,13142.45,527630.55000000005,13142.45,527630.55000000005,527630.55000000005,13142.45,{"$f":"_xlfn.XLOOKUP(F44932,'Object Codes'!$A$18:$A$510,'Object Codes'!$H$18:$H$510)","v":"PS - Regular"},{"$f":"_xlfn.XLOOKUP(F44932,'Object Codes'!$A$18:$A$510,'Object Codes'!$G$18:$G$510)","v":"C"},{"$f":"_xlfn.XLOOKUP(A44932,Agencies!$A$9:$A$146,Agencies!$B$9:$B$146)","v":"General Government"},{"$f":"IF(_xlfn.XLOOKUP(A44932,Agencies!A:A,Agencies!D:D)=\"Y\",IF(_xlfn.XLOOKUP(F44932,'Object Codes'!A:A,'Object Codes'!I:I)=\"Y\",\"Y\",\"N\"),\"N\")","v":"Y"},{"$f":"VLOOKUP(F44932,'Object Codes'!$A:$C,3,0)","v":"Full Year Positions"},{"$f":"VLOOKUP(A44932,Agencies!A:C,3,0)","v":"Dept of Citywide Admin Srvces"},1445.5631506849315]
["856",2022,"001","400","4502","061",0,0,0,0,0,0,0,0,0,0,301,0,301,301,-301,301,-301,301,301,-301,{"$f":"_xlfn.XLOOKUP(F45013,'Object Codes'!$A$18:$A$510,'Object Codes'!$H$18:$H$510)","v":"PS - Additional Gross"},{"$f":"_xlfn.XLOOKUP(F45013,'Object Codes'!$A$18:$A$510,'Object Codes'!$G$18:$G$510)","v":"A"},{"$f":"_xlfn.XLOOKUP(A45013,Agencies!$A$9:$A$146,Agencies!$B$9:$B$146)","v":"General Government"},{"$f":"IF(_xlfn.XLOOKUP(A45013,Agencies!A:A,Agencies!D:D)=\"Y\",IF(_xlfn.XLOOKUP(F45013,'Object Codes'!A:A,'Object Codes'!I:I)=\"Y\",\"Y\",\"N\"),\"N\")","v":"Y"},{"$f":"VLOOKUP(F45013,'Object Codes'!$A:$C,3,0)","v":"Supper Money"},{"$f":"VLOOKUP(A45013,Agencies!A:C,3,0)","v":"Dept of Citywide Admin Srvces"},0.8246575342465754]
["856",2022,"001","400","4700","001",0,4,4,285785,293501,0,0,0,0,0,119037.48,0,119037.48,119037.48,174463.52,119037.48,174463.52,119037.48,119037.48,174463.52,{"$f":"_xlfn.XLOOKUP(F45024,'Object Codes'!$A$18:$A$510,'Object Codes'!$H$18:$H$510)","v":"PS - Regular"},{"$f":"_xlfn.XLOOKUP(F45024,'Object Codes'!$A$18:$A$510,'Object Codes'!$G$18:$G$510)","v":"C"},{"$f":"_xlfn.XLOOKUP(A45024,Agencies!$A$9:$A$146,Agencies!$B$9:$B$146)","v":"General Government"},{"$f":"IF(_xlfn.XLOOKUP(A45024,Agencies!A:A,Agencies!D:D)=\"Y\",IF(_xlfn.XLOOKUP(F45024,'Object Codes'!A:A,'Object Codes'!I:I)=\"Y\",\"Y\",\"N\"),\"N\")","v":"Y"},{"$f":"VLOOKUP(F45024,'Object Codes'!$A:$C,3,0)","v":"Full Year Positions"},{"$f":"VLOOKUP(A45024,Agencies!A:C,3,0)","v":"Dept of Citywide Admin Srvces"},326.13008219178079]
["856",2022,"001","490","4400","107",0,0,0,0,470519,0,0,0,0,0,470519,0,470519,470519,0,470519,0,470519,470519,0,{"$f":"_xlfn.XLOOKUP(F45075,'Object Codes'!$A$18:$A$510,'Object Codes'!$H$18:$H$510)","v":"Supplies & Materials"},{"$f":"_xlfn.XLOOKUP(F45075,'Object Codes'!$A$18:$A$510,'Object Codes'!$G$18:$G$510)","v":"A"},{"$f":"_xlfn.XLOOKUP(A45075,Agencies!$A$9:$A$146,Agencies!$B$9:$B$146)","v":"General Government"},{"$f":"IF(_xlfn.XLOOKUP(A45075,Agencies!A:A,Agencies!D:D)=\"Y\",IF(_xlfn.XLOOKUP(F45075,'Object Codes'!A:A,'Object Codes'!I:I)=\"Y\",\"Y\",\"N\"),\"N\")","v":"Y"},{"$f":"VLOOKUP(F45075,'Object Codes'!$A:$C,3,0)","v":"Medical, Surgical and Laboratory Supplies"},{"$f":"VLOOKUP(A45075,Agencies!A:C,3,0)","v":"Dept of Citywide Admin Srvces"},1289.0931506849315]
["856",2022,"001","500","5100","042",0,0,0,64000,64000,0,0,0,0,0,78178.89,0,78178.89,78178.89,-14178.89,78178.89,-14178.89,78178.89,78178.89,-14178.89,{"$f":"_xlfn.XLOOKUP(F45156,'Object Codes'!$A$18:$A$510,'Object Codes'!$H$18:$H$510)","v":"PS - Additional Gross"},{"$f":"_xlfn.XLOOKUP(F45156,'Object Codes'!$A$18:$A$510,'Object Codes'!$G$18:$G$510)","v":"A"},{"$f":"_xlfn.XLOOKUP(A45156,Agencies!$A$9:$A$146,Agencies!$B$9:$B$146)","v":"General Government"},{"$f":"IF(_xlfn.XLOOKUP(A45156,Agencies!A:A,Agencies!D:D)=\"Y\",IF(_xlfn.XLOOKUP(F45156,'Object Codes'!A:A,'Object Codes'!I:I)=\"Y\",\"Y\",\"N\"),\"N\")","v":"Y"},{"$f":"VLOOKUP(F45156,'Object Codes'!$A:$C,3,0)","v":"Longevity Differential"},{"$f":"VLOOKUP(A45156,Agencies!A:C,3,0)","v":"Dept of Citywide Admin Srvces"},214.18873972602739]
["856",2022,"001","500","5300","041",0,0,0,6629,6629,0,0,0,0,0,5815.33,0,5815.33,5815.33,813.67,5815.33,813.67,5815.33,5815.33,813.67,{"$f":"_xlfn.XLOOKUP(F45173,'Object Codes'!$A$18:$A$510,'Object Codes'!$H$18:$H$510)","v":"PS - Additional Gross"},{"$f":"_xlfn.XLOOKUP(F45173,'Object Codes'!$A$18:$A$510,'Object Codes'!$G$18:$G$510)","v":"A"},{"$f":"_xlfn.XLOOKUP(A45173,Agencies!$A$9:$A$146,Agencies!$B$9:$B$146)","v":"General Government"},{"$f":"IF(_xlfn.XLOOKUP(A45173,Agencies!A:A,Agencies!D:D)=\"Y\",IF(_xlfn.XLOOKUP(F45173,'Object Codes'!A:A,'Object Codes'!I:I)=\"Y\",\"Y\",\"N\"),\"N\")","v":"Y"},{"$f":"VLOOKUP(F45173,'Object Codes'!$A:$C,3,0)","v":"Assignment Differential"},{"$f":"VLOOKUP(A45173,Agencies!A:C,3,0)","v":"Dept of Citywide Admin Srvces"},15.932410958904109]
["856",2022,"001","590","5390","400",0,0,0,0,41605,0,0,0,0,0,41605,0,41605,41605,0,41605,0,41605,41605,0,{"$f":"_xlfn.XLOOKUP(F45218,'Object Codes'!$A$18:$A$510,'Object Codes'!$H$18:$H$510)","v":"Other Services and Charges - General"},{"$f":"_xlfn.XLOOKUP(F45218,'Object Codes'!$A$18:$A$510,'Object Codes'!$G$18:$G$510)","v":0},{"$f":"_xlfn.XLOOKUP(A45218,Agencies!$A$9:$A$146,Agencies!$B$9:$B$146)","v":"General Government"},{"$f":"IF(_xlfn.XLOOKUP(A45218,Agencies!A:A,Agencies!D:D)=\"Y\",IF(_xlfn.XLOOKUP(F45218,'Object Codes'!A:A,'Object Codes'!I:I)=\"Y\",\"Y\",\"N\"),\"N\")","v":"Y"},{"$f":"VLOOKUP(F45218,'Object Codes'!$A:$C,3,0)","v":"Other Services and Charges - General"},{"$f":"VLOOKUP(A45218,Agencies!A:C,3,0)","v":"Dept of Citywide Admin Srvces"},113.98630136986301]
["856",2022,"001","690","6200","117",0,0,0,27000,20000,0,0,0,0,0,11061.57,0,11061.57,11061.57,8938.43,11061.57,8938.43,11061.57,11061.57,8938.43,{"$f":"_xlfn.XLOOKUP(F45294,'Object Codes'!$A$18:$A$510,'Object Codes'!$H$18:$H$510)","v":"Supplies & Materials"},{"$f":"_xlfn.XLOOKUP(F45294,'Object Codes'!$A$18:$A$510,'Object Codes'!$G$18:$G$510)","v":"A"},{"$f":"_xlfn.XLOOKUP(A45294,Agencies!$A$9:$A$146,Agencies!$B$9:$B$146)","v":"General Government"},{"$f":"IF(_xlfn.XLOOKUP(A45294,Agencies!A:A,Agencies!D:D)=\"Y\",IF(_xlfn.XLOOKUP(F45294,'Object Codes'!A:A,'Object Codes'!I:I)=\"Y\",\"Y\",\"N\"),\"N\")","v":"Y"},{"$f":"VLOOKUP(F45294,'Object Codes'!$A:$C,3,0)","v":"Postage"},{"$f":"VLOOKUP(A45294,Agencies!A:C,3,0)","v":"Dept of Citywide Admin Srvces"},30.305671232876712]
["856",2022,"001","700","7110","061",0,0,0,0,0,0,0,0,0,0,930.75,0,930.75,930.75,-930.75,930.75,-930.75,930.75,930.75,-930.75,{"$f":"_xlfn.XLOOKUP(F45322,'Object Codes'!$A$18:$A$510,'Object Codes'!$H$18:$H$510)","v":"PS - Additional Gross"},{"$f":"_xlfn.XLOOKUP(F45322,'Object Codes'!$A$18:$A$510,'Object Codes'!$G$18:$G$510)","v":"A"},{"$f":"_xlfn.XLOOKUP(A45322,Agencies!$A$9:$A$146,Agencies!$B$9:$B$146)","v":"General Government"},{"$f":"IF(_xlfn.XLOOKUP(A45322,Agencies!A:A,Agencies!D:D)=\"Y\",IF(_xlfn.XLOOKUP(F45322,'Object Codes'!A:A,'Object Codes'!I:I)=\"Y\",\"Y\",\"N\"),\"N\")","v":"Y"},{"$f":"VLOOKUP(F45322,'Object Codes'!$A:$C,3,0)","v":"Supper Money"},{"$f":"VLOOKUP(A45322,Agencies!A:C,3,0)","v":"Dept of Citywide Admin Srvces"},2.5499999999999998]
["856",2022,"001","790","7940","100",0,0,0,0,32058,0,0,0,0,0,30230.62,0,30230.62,30230.62,1827.38,30230.62,1827.38,30230.62,30230.62,1827.38,{"$f":"_xlfn.XLOOKUP(F45361,'Object Codes'!$A$18:$A$510,'Object Codes'!$H$18:$H$510)","v":"Supplies & Materials"},{"$f":"_xlfn.XLOOKUP(F45361,'Object Codes'!$A$18:$A$510,'Object Codes'!$G$18:$G$510)","v":"A"},{"$f":"_xlfn.XLOOKUP(A45361,Agencies!$A$9:$A$146,Agencies!$B$9:$B$146)","v":"General Government"},{"$f":"IF(_xlfn.XLOOKUP(A45361,Agencies!A:A,Agencies!D:D)=\"Y\",IF(_xlfn.XLOOKUP(F45361,'Object Codes'!A:A,'Object Codes'!I:I)=\"Y\",\"Y\",\"N\"),\"N\")","v":"Y"},{"$f":"VLOOKUP(F45361,'Object Codes'!$A:$C,3,0)","v":"Supplies and Materials - General"},{"$f":"VLOOKUP(A45361,Agencies!A:C,3,0)","v":"Dept of Citywide Admin Srvces"},82.823616438356169]
["856",2022,"001","800","P800","001",0,0,0,0,-3093919,0,0,0,0,0,0,0,0,0,-3093919,0,-3093919,0,0,-3093919,{"$f":"_xlfn.XLOOKUP(F45437,'Object Codes'!$A$18:$A$510,'Object Codes'!$H$18:$H$510)","v":"PS - Regular"},{"$f":"_xlfn.XLOOKUP(F45437,'Object Codes'!$A$18:$A$510,'Object Codes'!$G$18:$G$510)","v":"C"},{"$f":"_xlfn.XLOOKUP(A45437,Agencies!$A$9:$A$146,Agencies!$B$9:$B$146)","v":"General Government"},{"$f":"IF(_xlfn.XLOOKUP(A45437,Agencies!A:A,Agencies!D:D)=\"Y\",IF(_xlfn.XLOOKUP(F45437,'Object Codes'!A:A,'Object Codes'!I:I)=\"Y\",\"Y\",\"N\"),\"N\")","v":"Y"},{"$f":"VLOOKUP(F45437,'Object Codes'!$A:$C,3,0)","v":"Full Year Positions"},{"$f":"VLOOKUP(A45437,Agencies!A:C,3,0)","v":"Dept of Citywide Admin Srvces"},0]
["856",2022,"001","890","8200","684",0,0,0,542399,736561,0,0,0,0,0,585276.76,0,585276.76,585276.76,151284.24,585276.76,151284.24,585276.76,585276.76,151284.24,{"$f":"_xlfn.XLOOKUP(F45471,'Object Codes'!$A$18:$A$510,'Object Codes'!$H$18:$H$510)","v":"Contractual Services"},{"$f":"_xlfn.XLOOKUP(F45471,'Object Codes'!$A$18:$A$510,'Object Codes'!$G$18:$G$510)","v":0},{"$f":"_xlfn.XLOOKUP(A45471,Agencies!$A$9:$A$146,Agencies!$B$9:$B$146)","v":"General Government"},{"$f":"IF(_xlfn.XLOOKUP(A45471,Agencies!A:A,Agencies!D:D)=\"Y\",IF(_xlfn.XLOOKUP(F45471,'Object Codes'!A:A,'Object Codes'!I:I)=\"Y\",\"Y\",\"N\"),\"N\")","v":"Y"},{"$f":"VLOOKUP(F45471,'Object Codes'!$A:$C,3,0)","v":"Professional Services - Computer Services - Contractual"},{"$f":"VLOOKUP(A45471,Agencies!A:C,3,0)","v":"Dept of Citywide Admin Srvces"},1603.4979726027398]
["858",2022,"001","001","2400","001",0,0,0,245,245,0,0,0,0,0,0,0,0,0,245,0,245,0,0,245,{"$f":"_xlfn.XLOOKUP(F45499,'Object Codes'!$A$18:$A$510,'Object Codes'!$H$18:$H$510)","v":"PS - Regular"},{"$f":"_xlfn.XLOOKUP(F45499,'Object Codes'!$A$18:$A$510,'Object Codes'!$G$18:$G$510)","v":"C"},{"$f":"_xlfn.XLOOKUP(A45499,Agencies!$A$9:$A$146,Agencies!$B$9:$B$146)","v":"General Government"},{"$f":"IF(_xlfn.XLOOKUP(A45499,Agencies!A:A,Agencies!D:D)=\"Y\",IF(_xlfn.XLOOKUP(F45499,'Object Codes'!A:A,'Object Codes'!I:I)=\"Y\",\"Y\",\"N\"),\"N\")","v":"Y"},{"$f":"VLOOKUP(F45499,'Object Codes'!$A:$C,3,0)","v":"Full Year Positions"},{"$f":"VLOOKUP(A45499,Agencies!A:C,3,0)","v":"D.O.I.T.T."},0]
["858",2022,"001","001","3314","045",0,0,0,0,0,0,0,0,0,0,3095.62,0,3095.62,3095.62,-3095.62,3095.62,-3095.62,3095.62,3095.62,-3095.62,{"$f":"_xlfn.XLOOKUP(F45580,'Object Codes'!$A$18:$A$510,'Object Codes'!$H$18:$H$510)","v":"PS - Additional Gross"},{"$f":"_xlfn.XLOOKUP(F45580,'Object Codes'!$A$18:$A$510,'Object Codes'!$G$18:$G$510)","v":"A"},{"$f":"_xlfn.XLOOKUP(A45580,Agencies!$A$9:$A$146,Agencies!$B$9:$B$146)","v":"General Government"},{"$f":"IF(_xlfn.XLOOKUP(A45580,Agencies!A:A,Agencies!D:D)=\"Y\",IF(_xlfn.XLOOKUP(F45580,'Object Codes'!A:A,'Object Codes'!I:I)=\"Y\",\"Y\",\"N\"),\"N\")","v":"Y"},{"$f":"VLOOKUP(F45580,'Object Codes'!$A:$C,3,0)","v":"Holiday Pay"},{"$f":"VLOOKUP(A45580,Agencies!A:C,3,0)","v":"D.O.I.T.T."},8.4811506849315066]
["858",2022,"001","001","3400","047",0,0,0,20220,20220,0,0,0,0,0,0,0,0,0,20220,0,20220,0,0,20220,{"$f":"_xlfn.XLOOKUP(F45620,'Object Codes'!$A$18:$A$510,'Object Codes'!$H$18:$H$510)","v":"PS - Additional Gross"},{"$f":"_xlfn.XLOOKUP(F45620,'Object Codes'!$A$18:$A$510,'Object Codes'!$G$18:$G$510)","v":"C"},{"$f":"_xlfn.XLOOKUP(A45620,Agencies!$A$9:$A$146,Agencies!$B$9:$B$146)","v":"General Government"},{"$f":"IF(_xlfn.XLOOKUP(A45620,Agencies!A:A,Agencies!D:D)=\"Y\",IF(_xlfn.XLOOKUP(F45620,'Object Codes'!A:A,'Object Codes'!I:I)=\"Y\",\"Y\",\"N\"),\"N\")","v":"Y"},{"$f":"VLOOKUP(F45620,'Object Codes'!$A:$C,3,0)","v":"Overtime"},{"$f":"VLOOKUP(A45620,Agencies!A:C,3,0)","v":"D.O.I.T.T."},0]
["858",2022,"001","001","3501","042",0,0,0,0,0,0,0,0,0,0,322857.71999999997,0,322857.71999999997,322857.71999999997,-322857.71999999997,322857.71999999997,-322857.71999999997,322857.71999999997,322857.71999999997,-322857.71999999997,{"$f":"_xlfn.XLOOKUP(F45642,'Object Codes'!$A$18:$A$510,'Object Codes'!$H$18:$H$510)","v":"PS - Additional Gross"},{"$f":"_xlfn.XLOOKUP(F45642,'Object Codes'!$A$18:$A$510,'Object Codes'!$G$18:$G$510)","v":"A"},{"$f":"_xlfn.XLOOKUP(A45642,Agencies!$A$9:$A$146,Agencies!$B$9:$B$146)","v":"General Government"},{"$f":"IF(_xlfn.XLOOKUP(A45642,Agencies!A:A,Agencies!D:D)=\"Y\",IF(_xlfn.XLOOKUP(F45642,'Object Codes'!A:A,'Object Codes'!I:I)=\"Y\",\"Y\",\"N\"),\"N\")","v":"Y"},{"$f":"VLOOKUP(F45642,'Object Codes'!$A:$C,3,0)","v":"Longevity Differential"},{"$f":"VLOOKUP(A45642,Agencies!A:C,3,0)","v":"D.O.I.T.T."},884.54169863013692]
["858",2022,"001","001","3600","001",0,15,15,1318630,1318630,0,0,0,0,0,524392.68000000005,0,524392.68000000005,524392.68000000005,794237.32,524392.68000000005,794237.32,524392.68000000005,524392.68000000005,794237.32,{"$f":"_xlfn.XLOOKUP(F45676,'Object Codes'!$A$18:$A$510,'Object Codes'!$H$18:$H$510)","v":"PS - Regular"},{"$f":"_xlfn.XLOOKUP(F45676,'Object Codes'!$A$18:$A$510,'Object Codes'!$G$18:$G$510)","v":"C"},{"$f":"_xlfn.XLOOKUP(A45676,Agencies!$A$9:$A$146,Agencies!$B$9:$B$146)","v":"General Government"},{"$f":"IF(_xlfn.XLOOKUP(A45676,Agencies!A:A,Agencies!D:D)=\"Y\",IF(_xlfn.XLOOKUP(F45676,'Object Codes'!A:A,'Object Codes'!I:I)=\"Y\",\"Y\",\"N\"),\"N\")","v":"Y"},{"$f":"VLOOKUP(F45676,'Object Codes'!$A:$C,3,0)","v":"Full Year Positions"},{"$f":"VLOOKUP(A45676,Agencies!A:C,3,0)","v":"D.O.I.T.T."},1436.6922739726028]
["858",2022,"001","001","7900","001",0,0,0,490,490,0,0,0,0,0,8928.56,0,8928.56,8928.56,-8438.56,8928.56,-8438.56,8928.56,8928.56,-8438.56,{"$f":"_xlfn.XLOOKUP(F45757,'Object Codes'!$A$18:$A$510,'Object Codes'!$H$18:$H$510)","v":"PS - Regular"},{"$f":"_xlfn.XLOOKUP(F45757,'Object Codes'!$A$18:$A$510,'Object Codes'!$G$18:$G$510)","v":"C"},{"$f":"_xlfn.XLOOKUP(A45757,Agencies!$A$9:$A$146,Agencies!$B$9:$B$146)","v":"General Government"},{"$f":"IF(_xlfn.XLOOKUP(A45757,Agencies!A:A,Agencies!D:D)=\"Y\",IF(_xlfn.XLOOKUP(F45757,'Object Codes'!A:A,'Object Codes'!I:I)=\"Y\",\"Y\",\"N\"),\"N\")","v":"Y"},{"$f":"VLOOKUP(F45757,'Object Codes'!$A:$C,3,0)","v":"Full Year Positions"},{"$f":"VLOOKUP(A45757,Agencies!A:C,3,0)","v":"D.O.I.T.T."},24.461808219178081]
["858",2022,"001","001","CR01","047",0,0,0,0,82,0,0,0,0,0,81.52,0,81.52,81.52,0.48,81.52,0.48,81.52,81.52,0.48,{"$f":"_xlfn.XLOOKUP(F45781,'Object Codes'!$A$18:$A$510,'Object Codes'!$H$18:$H$510)","v":"PS - Additional Gross"},{"$f":"_xlfn.XLOOKUP(F45781,'Object Codes'!$A$18:$A$510,'Object Codes'!$G$18:$G$510)","v":"C"},{"$f":"_xlfn.XLOOKUP(A45781,Agencies!$A$9:$A$146,Agencies!$B$9:$B$146)","v":"General Government"},{"$f":"IF(_xlfn.XLOOKUP(A45781,Agencies!A:A,Agencies!D:D)=\"Y\",IF(_xlfn.XLOOKUP(F45781,'Object Codes'!A:A,'Object Codes'!I:I)=\"Y\",\"Y\",\"N\"),\"N\")","v":"Y"},{"$f":"VLOOKUP(F45781,'Object Codes'!$A:$C,3,0)","v":"Overtime"},{"$f":"VLOOKUP(A45781,Agencies!A:C,3,0)","v":"D.O.I.T.T."},0.22334246575342465]
["858",2022,"001","002","3214","613",0,0,0,810000,810000,0,0,0,0,0,810000,1467.39,811467.39,811467.39,-1467.39,811467.39,-1467.39,811467.39,811467.39,-1467.39,{"$f":"_xlfn.XLOOKUP(F45819,'Object Codes'!$A$18:$A$510,'Object Codes'!$H$18:$H$510)","v":"Contractual Services"},{"$f":"_xlfn.XLOOKUP(F45819,'Object Codes'!$A$18:$A$510,'Object Codes'!$G$18:$G$510)","v":0},{"$f":"_xlfn.XLOOKUP(A45819,Agencies!$A$9:$A$146,Agencies!$B$9:$B$146)","v":"General Government"},{"$f":"IF(_xlfn.XLOOKUP(A45819,Agencies!A:A,Agencies!D:D)=\"Y\",IF(_xlfn.XLOOKUP(F45819,'Object Codes'!A:A,'Object Codes'!I:I)=\"Y\",\"Y\",\"N\"),\"N\")","v":"Y"},{"$f":"VLOOKUP(F45819,'Object Codes'!$A:$C,3,0)","v":"Data Processing Equipment Maintenance - Contractual"},{"$f":"VLOOKUP(A45819,Agencies!A:C,3,0)","v":"D.O.I.T.T."},2223.1983287671233]
["858",2022,"001","002","3510","701",0,0,0,0,2948,0,0,0,0,0,0,0,0,0,2948,0,2948,0,0,2948,{"$f":"_xlfn.XLOOKUP(F45895,'Object Codes'!$A$18:$A$510,'Object Codes'!$H$18:$H$510)","v":"Fixed Charges"},{"$f":"_xlfn.XLOOKUP(F45895,'Object Codes'!$A$18:$A$510,'Object Codes'!$G$18:$G$510)","v":0},{"$f":"_xlfn.XLOOKUP(A45895,Agencies!$A$9:$A$146,Agencies!$B$9:$B$146)","v":"General Government"},{"$f":"IF(_xlfn.XLOOKUP(A45895,Agencies!A:A,Agencies!D:D)=\"Y\",IF(_xlfn.XLOOKUP(F45895,'Object Codes'!A:A,'Object Codes'!I:I)=\"Y\",\"Y\",\"N\"),\"N\")","v":"Y"},{"$f":"VLOOKUP(F45895,'Object Codes'!$A:$C,3,0)","v":"Taxes and Licenses"},{"$f":"VLOOKUP(A45895,Agencies!A:C,3,0)","v":"D.O.I.T.T."},0]
["858",2022,"001","002","3850","40X",0,0,0,0,286651,0,0,0,0,0,286650.3,0,286650.3,286650.3,0.7,286650.3,0.7,286650.3,286650.3,0.7,{"$f":"_xlfn.XLOOKUP(F45930,'Object Codes'!$A$18:$A$510,'Object Codes'!$H$18:$H$510)","v":"Other Services and Charges - General"},{"$f":"_xlfn.XLOOKUP(F45930,'Object Codes'!$A$18:$A$510,'Object Codes'!$G$18:$G$510)","v":0},{"$f":"_xlfn.XLOOKUP(A45930,Agencies!$A$9:$A$146,Agencies!$B$9:$B$146)","v":"General Government"},{"$f":"IF(_xlfn.XLOOKUP(A45930,Agencies!A:A,Agencies!D:D)=\"Y\",IF(_xlfn.XLOOKUP(F45930,'Object Codes'!A:A,'Object Codes'!I:I)=\"Y\",\"Y\",\"N\"),\"N\")","v":"Y"},{"$f":"VLOOKUP(F45930,'Object Codes'!$A:$C,3,0)","v":"CONTRACTUAL SERVICES-GENERAL"},{"$f":"VLOOKUP(A45930,Agencies!A:C,3,0)","v":"D.O.I.T.T."},785.34328767123282]
["858",2022,"001","002","5205","402",0,0,0,287289,135447,0,0,0,0,0,73964.08,8992.4,82956.479999999996,82956.479999999996,52490.52,82956.479999999996,52490.52,82956.479999999996,82956.479999999996,52490.52,{"$f":"_xlfn.XLOOKUP(F45962,'Object Codes'!$A$18:$A$510,'Object Codes'!$H$18:$H$510)","v":"Other Services and Charges - General"},{"$f":"_xlfn.XLOOKUP(F45962,'Object Codes'!$A$18:$A$510,'Object Codes'!$G$18:$G$510)","v":0},{"$f":"_xlfn.XLOOKUP(A45962,Agencies!$A$9:$A$146,Agencies!$B$9:$B$146)","v":"General Government"},{"$f":"IF(_xlfn.XLOOKUP(A45962,Agencies!A:A,Agencies!D:D)=\"Y\",IF(_xlfn.XLOOKUP(F45962,'Object Codes'!A:A,'Object Codes'!I:I)=\"Y\",\"Y\",\"N\"),\"N\")","v":"Y"},{"$f":"VLOOKUP(F45962,'Object Codes'!$A:$C,3,0)","v":"Telephone and Other Communications"},{"$f":"VLOOKUP(A45962,Agencies!A:C,3,0)","v":"D.O.I.T.T."},227.27802739726027]
["858",2022,"001","002","8600","499",0,0,0,625000,0,0,0,0,0,0,0,0,0,0,0,0,0,0,0,0,{"$f":"_xlfn.XLOOKUP(F46038,'Object Codes'!$A$18:$A$510,'Object Codes'!$H$18:$H$510)","v":"Other Services and Charges - General"},{"$f":"_xlfn.XLOOKUP(F46038,'Object Codes'!$A$18:$A$510,'Object Codes'!$G$18:$G$510)","v":0},{"$f":"_xlfn.XLOOKUP(A46038,Agencies!$A$9:$A$146,Agencies!$B$9:$B$146)","v":"General Government"},{"$f":"IF(_xlfn.XLOOKUP(A46038,Agencies!A:A,Agencies!D:D)=\"Y\",IF(_xlfn.XLOOKUP(F46038,'Object Codes'!A:A,'Object Codes'!I:I)=\"Y\",\"Y\",\"N\"),\"N\")","v":"Y"},{"$f":"VLOOKUP(F46038,'Object Codes'!$A:$C,3,0)","v":"Other Expenditures - General"},{"$f":"VLOOKUP(A46038,Agencies!A:C,3,0)","v":"D.O.I.T.T."},0]
["858",2022,"001","002","CV19","613",0,0,0,0,1621204,0,0,0,0,0,1046567.86,0,1046567.86,1046567.86,574636.14,1046567.86,574636.14,1046567.86,1046567.86,574636.14,{"$f":"_xlfn.XLOOKUP(F46079,'Object Codes'!$A$18:$A$510,'Object Codes'!$H$18:$H$510)","v":"Contractual Services"},{"$f":"_xlfn.XLOOKUP(F46079,'Object Codes'!$A$18:$A$510,'Object Codes'!$G$18:$G$510)","v":0},{"$f":"_xlfn.XLOOKUP(A46079,Agencies!$A$9:$A$146,Agencies!$B$9:$B$146)","v":"General Government"},{"$f":"IF(_xlfn.XLOOKUP(A46079,Agencies!A:A,Agencies!D:D)=\"Y\",IF(_xlfn.XLOOKUP(F46079,'Object Codes'!A:A,'Object Codes'!I:I)=\"Y\",\"Y\",\"N\"),\"N\")","v":"Y"},{"$f":"VLOOKUP(F46079,'Object Codes'!$A:$C,3,0)","v":"Data Processing Equipment Maintenance - Contractual"},{"$f":"VLOOKUP(A46079,Agencies!A:C,3,0)","v":"D.O.I.T.T."},2867.309205479452]
["858",2022,"001","003","0100","042",0,0,0,0,0,0,0,0,0,0,3065.92,0,3065.92,3065.92,-3065.92,3065.92,-3065.92,3065.92,3065.92,-3065.92,{"$f":"_xlfn.XLOOKUP(F46105,'Object Codes'!$A$18:$A$510,'Object Codes'!$H$18:$H$510)","v":"PS - Additional Gross"},{"$f":"_xlfn.XLOOKUP(F46105,'Object Codes'!$A$18:$A$510,'Object Codes'!$G$18:$G$510)","v":"A"},{"$f":"_xlfn.XLOOKUP(A46105,Agencies!$A$9:$A$146,Agencies!$B$9:$B$146)","v":"General Government"},{"$f":"IF(_xlfn.XLOOKUP(A46105,Agencies!A:A,Agencies!D:D)=\"Y\",IF(_xlfn.XLOOKUP(F46105,'Object Codes'!A:A,'Object Codes'!I:I)=\"Y\",\"Y\",\"N\"),\"N\")","v":"Y"},{"$f":"VLOOKUP(F46105,'Object Codes'!$A:$C,3,0)","v":"Longevity Differential"},{"$f":"VLOOKUP(A46105,Agencies!A:C,3,0)","v":"D.O.I.T.T."},8.3997808219178083]
["858",2022,"001","003","0410","041",0,0,0,599,599,0,0,0,0,0,2583.94,0,2583.94,2583.94,-1984.94,2583.94,-1984.94,2583.94,2583.94,-1984.94,{"$f":"_xlfn.XLOOKUP(F46181,'Object Codes'!$A$18:$A$510,'Object Codes'!$H$18:$H$510)","v":"PS - Additional Gross"},{"$f":"_xlfn.XLOOKUP(F46181,'Object Codes'!$A$18:$A$510,'Object Codes'!$G$18:$G$510)","v":"A"},{"$f":"_xlfn.XLOOKUP(A46181,Agencies!$A$9:$A$146,Agencies!$B$9:$B$146)","v":"General Government"},{"$f":"IF(_xlfn.XLOOKUP(A46181,Agencies!A:A,Agencies!D:D)=\"Y\",IF(_xlfn.XLOOKUP(F46181,'Object Codes'!A:A,'Object Codes'!I:I)=\"Y\",\"Y\",\"N\"),\"N\")","v":"Y"},{"$f":"VLOOKUP(F46181,'Object Codes'!$A:$C,3,0)","v":"Assignment Differential"},{"$f":"VLOOKUP(A46181,Agencies!A:C,3,0)","v":"D.O.I.T.T."},7.0792876712328772]
["858",2022,"001","004","0340","105",0,0,0,4000,0,0,0,0,0,0,0,0,0,0,0,0,0,0,0,0,{"$f":"_xlfn.XLOOKUP(F46228,'Object Codes'!$A$18:$A$510,'Object Codes'!$H$18:$H$510)","v":"Supplies & Materials"},{"$f":"_xlfn.XLOOKUP(F46228,'Object Codes'!$A$18:$A$510,'Object Codes'!$G$18:$G$510)","v":"A"},{"$f":"_xlfn.XLOOKUP(A46228,Agencies!$A$9:$A$146,Agencies!$B$9:$B$146)","v":"General Government"},{"$f":"IF(_xlfn.XLOOKUP(A46228,Agencies!A:A,Agencies!D:D)=\"Y\",IF(_xlfn.XLOOKUP(F46228,'Object Codes'!A:A,'Object Codes'!I:I)=\"Y\",\"Y\",\"N\"),\"N\")","v":"Y"},{"$f":"VLOOKUP(F46228,'Object Codes'!$A:$C,3,0)","v":"Automotive Supplies and Materials"},{"$f":"VLOOKUP(A46228,Agencies!A:C,3,0)","v":"D.O.I.T.T."},0]
["858",2022,"001","004","0340","402",0,0,0,0,2800,0,0,0,0,0,2247.4,0,2247.4,2247.4,552.6,2247.4,552.6,2247.4,2247.4,552.6,{"$f":"_xlfn.XLOOKUP(F46243,'Object Codes'!$A$18:$A$510,'Object Codes'!$H$18:$H$510)","v":"Other Services and Charges - General"},{"$f":"_xlfn.XLOOKUP(F46243,'Object Codes'!$A$18:$A$510,'Object Codes'!$G$18:$G$510)","v":0},{"$f":"_xlfn.XLOOKUP(A46243,Agencies!$A$9:$A$146,Agencies!$B$9:$B$146)","v":"General Government"},{"$f":"IF(_xlfn.XLOOKUP(A46243,Agencies!A:A,Agencies!D:D)=\"Y\",IF(_xlfn.XLOOKUP(F46243,'Object Codes'!A:A,'Object Codes'!I:I)=\"Y\",\"Y\",\"N\"),\"N\")","v":"Y"},{"$f":"VLOOKUP(F46243,'Object Codes'!$A:$C,3,0)","v":"Telephone and Other Communications"},{"$f":"VLOOKUP(A46243,Agencies!A:C,3,0)","v":"D.O.I.T.T."},6.1572602739726028]
["858",2022,"001","007","0731","001",0,10,10,1406930,1406930,0,0,0,0,0,853718.4,0,853718.4,853718.4,553211.6,853718.4,553211.6,853718.4,853718.4,553211.6,{"$f":"_xlfn.XLOOKUP(F46324,'Object Codes'!$A$18:$A$510,'Object Codes'!$H$18:$H$510)","v":"PS - Regular"},{"$f":"_xlfn.XLOOKUP(F46324,'Object Codes'!$A$18:$A$510,'Object Codes'!$G$18:$G$510)","v":"C"},{"$f":"_xlfn.XLOOKUP(A46324,Agencies!$A$9:$A$146,Agencies!$B$9:$B$146)","v":"General Government"},{"$f":"IF(_xlfn.XLOOKUP(A46324,Agencies!A:A,Agencies!D:D)=\"Y\",IF(_xlfn.XLOOKUP(F46324,'Object Codes'!A:A,'Object Codes'!I:I)=\"Y\",\"Y\",\"N\"),\"N\")","v":"Y"},{"$f":"VLOOKUP(F46324,'Object Codes'!$A:$C,3,0)","v":"Full Year Positions"},{"$f":"VLOOKUP(A46324,Agencies!A:C,3,0)","v":"D.O.I.T.T."},2338.9545205479453]
["858",2022,"001","007","0741","045",0,0,0,0,0,0,0,0,0,0,10250.92,0,10250.92,10250.92,-10250.92,10250.92,-10250.92,10250.92,10250.92,-10250.92,{"$f":"_xlfn.XLOOKUP(F46331,'Object Codes'!$A$18:$A$510,'Object Codes'!$H$18:$H$510)","v":"PS - Additional Gross"},{"$f":"_xlfn.XLOOKUP(F46331,'Object Codes'!$A$18:$A$510,'Object Codes'!$G$18:$G$510)","v":"A"},{"$f":"_xlfn.XLOOKUP(A46331,Agencies!$A$9:$A$146,Agencies!$B$9:$B$146)","v":"General Government"},{"$f":"IF(_xlfn.XLOOKUP(A46331,Agencies!A:A,Agencies!D:D)=\"Y\",IF(_xlfn.XLOOKUP(F46331,'Object Codes'!A:A,'Object Codes'!I:I)=\"Y\",\"Y\",\"N\"),\"N\")","v":"Y"},{"$f":"VLOOKUP(F46331,'Object Codes'!$A:$C,3,0)","v":"Holiday Pay"},{"$f":"VLOOKUP(A46331,Agencies!A:C,3,0)","v":"D.O.I.T.T."},28.084712328767125]
["858",2022,"001","008","0800","400",0,0,0,0,6938,0,0,0,0,0,6938,0,6938,6938,0,6938,0,6938,6938,0,{"$f":"_xlfn.XLOOKUP(F46386,'Object Codes'!$A$18:$A$510,'Object Codes'!$H$18:$H$510)","v":"Other Services and Charges - General"},{"$f":"_xlfn.XLOOKUP(F46386,'Object Codes'!$A$18:$A$510,'Object Codes'!$G$18:$G$510)","v":0},{"$f":"_xlfn.XLOOKUP(A46386,Agencies!$A$9:$A$146,Agencies!$B$9:$B$146)","v":"General Government"},{"$f":"IF(_xlfn.XLOOKUP(A46386,Agencies!A:A,Agencies!D:D)=\"Y\",IF(_xlfn.XLOOKUP(F46386,'Object Codes'!A:A,'Object Codes'!I:I)=\"Y\",\"Y\",\"N\"),\"N\")","v":"Y"},{"$f":"VLOOKUP(F46386,'Object Codes'!$A:$C,3,0)","v":"Other Services and Charges - General"},{"$f":"VLOOKUP(A46386,Agencies!A:C,3,0)","v":"D.O.I.T.T."},19.008219178082193]
["858",2022,"001","010","9010","600",0,0,0,909384,1017008,0,0,0,0,0,794684.52,0,794684.52,794684.52,222323.48,794684.52,222323.48,794684.52,794684.52,222323.48,{"$f":"_xlfn.XLOOKUP(F46467,'Object Codes'!$A$18:$A$510,'Object Codes'!$H$18:$H$510)","v":"Contractual Services"},{"$f":"_xlfn.XLOOKUP(F46467,'Object Codes'!$A$18:$A$510,'Object Codes'!$G$18:$G$510)","v":0},{"$f":"_xlfn.XLOOKUP(A46467,Agencies!$A$9:$A$146,Agencies!$B$9:$B$146)","v":"General Government"},{"$f":"IF(_xlfn.XLOOKUP(A46467,Agencies!A:A,Agencies!D:D)=\"Y\",IF(_xlfn.XLOOKUP(F46467,'Object Codes'!A:A,'Object Codes'!I:I)=\"Y\",\"Y\",\"N\"),\"N\")","v":"Y"},{"$f":"VLOOKUP(F46467,'Object Codes'!$A:$C,3,0)","v":"Contractual Services - General"},{"$f":"VLOOKUP(A46467,Agencies!A:C,3,0)","v":"D.O.I.T.T."},2177.2178630136987]
["858",2022,"001","010","9200","400",0,0,0,0,12585,0,0,0,0,0,11084.59,0,11084.59,11084.59,1500.41,11084.59,1500.41,11084.59,11084.59,1500.41,{"$f":"_xlfn.XLOOKUP(F46492,'Object Codes'!$A$18:$A$510,'Object Codes'!$H$18:$H$510)","v":"Other Services and Charges - General"},{"$f":"_xlfn.XLOOKUP(F46492,'Object Codes'!$A$18:$A$510,'Object Codes'!$G$18:$G$510)","v":0},{"$f":"_xlfn.XLOOKUP(A46492,Agencies!$A$9:$A$146,Agencies!$B$9:$B$146)","v":"General Government"},{"$f":"IF(_xlfn.XLOOKUP(A46492,Agencies!A:A,Agencies!D:D)=\"Y\",IF(_xlfn.XLOOKUP(F46492,'Object Codes'!A:A,'Object Codes'!I:I)=\"Y\",\"Y\",\"N\"),\"N\")","v":"Y"},{"$f":"VLOOKUP(F46492,'Object Codes'!$A:$C,3,0)","v":"Other Services and Charges - General"},{"$f":"VLOOKUP(A46492,Agencies!A:C,3,0)","v":"D.O.I.T.T."},30.368739726027396]
["858",2022,"001","010","9600","400",0,0,0,2125000,165361,0,0,0,0,0,25000,0,25000,25000,140361,25000,140361,25000,25000,140361,{"$f":"_xlfn.XLOOKUP(F46529,'Object Codes'!$A$18:$A$510,'Object Codes'!$H$18:$H$510)","v":"Other Services and Charges - General"},{"$f":"_xlfn.XLOOKUP(F46529,'Object Codes'!$A$18:$A$510,'Object Codes'!$G$18:$G$510)","v":0},{"$f":"_xlfn.XLOOKUP(A46529,Agencies!$A$9:$A$146,Agencies!$B$9:$B$146)","v":"General Government"},{"$f":"IF(_xlfn.XLOOKUP(A46529,Agencies!A:A,Agencies!D:D)=\"Y\",IF(_xlfn.XLOOKUP(F46529,'Object Codes'!A:A,'Object Codes'!I:I)=\"Y\",\"Y\",\"N\"),\"N\")","v":"Y"},{"$f":"VLOOKUP(F46529,'Object Codes'!$A:$C,3,0)","v":"Other Services and Charges - General"},{"$f":"VLOOKUP(A46529,Agencies!A:C,3,0)","v":"D.O.I.T.T."},68.493150684931507]
["858",2022,"001","010","CV07","400",0,0,0,0,98633,0,0,0,0,0,98633,0,98633,98633,0,98633,0,98633,98633,0,{"$f":"_xlfn.XLOOKUP(F46563,'Object Codes'!$A$18:$A$510,'Object Codes'!$H$18:$H$510)","v":"Other Services and Charges - General"},{"$f":"_xlfn.XLOOKUP(F46563,'Object Codes'!$A$18:$A$510,'Object Codes'!$G$18:$G$510)","v":0},{"$f":"_xlfn.XLOOKUP(A46563,Agencies!$A$9:$A$146,Agencies!$B$9:$B$146)","v":"General Government"},{"$f":"IF(_xlfn.XLOOKUP(A46563,Agencies!A:A,Agencies!D:D)=\"Y\",IF(_xlfn.XLOOKUP(F46563,'Object Codes'!A:A,'Object Codes'!I:I)=\"Y\",\"Y\",\"N\"),\"N\")","v":"Y"},{"$f":"VLOOKUP(F46563,'Object Codes'!$A:$C,3,0)","v":"Other Services and Charges - General"},{"$f":"VLOOKUP(A46563,Agencies!A:C,3,0)","v":"D.O.I.T.T."},270.22739726027396]
["858",2022,"001","012","1101","615",0,0,0,99999,99999,0,0,0,0,0,0,0,0,0,99999,0,99999,0,0,99999,{"$f":"_xlfn.XLOOKUP(F46641,'Object Codes'!$A$18:$A$510,'Object Codes'!$H$18:$H$510)","v":"Contractual Services"},{"$f":"_xlfn.XLOOKUP(F46641,'Object Codes'!$A$18:$A$510,'Object Codes'!$G$18:$G$510)","v":0},{"$f":"_xlfn.XLOOKUP(A46641,Agencies!$A$9:$A$146,Agencies!$B$9:$B$146)","v":"General Government"},{"$f":"IF(_xlfn.XLOOKUP(A46641,Agencies!A:A,Agencies!D:D)=\"Y\",IF(_xlfn.XLOOKUP(F46641,'Object Codes'!A:A,'Object Codes'!I:I)=\"Y\",\"Y\",\"N\"),\"N\")","v":"Y"},{"$f":"VLOOKUP(F46641,'Object Codes'!$A:$C,3,0)","v":"Printing Services - Contractual"},{"$f":"VLOOKUP(A46641,Agencies!A:C,3,0)","v":"D.O.I.T.T."},0]
["858",2022,"001","014","1300","199",0,0,0,2000000,12564,0,0,0,0,0,11973.3,0,11973.3,11973.3,590.70000000000005,11973.3,590.70000000000005,11973.3,11973.3,590.70000000000005,{"$f":"_xlfn.XLOOKUP(F46672,'Object Codes'!$A$18:$A$510,'Object Codes'!$H$18:$H$510)","v":"Supplies & Materials"},{"$f":"_xlfn.XLOOKUP(F46672,'Object Codes'!$A$18:$A$510,'Object Codes'!$G$18:$G$510)","v":"A"},{"$f":"_xlfn.XLOOKUP(A46672,Agencies!$A$9:$A$146,Agencies!$B$9:$B$146)","v":"General Government"},{"$f":"IF(_xlfn.XLOOKUP(A46672,Agencies!A:A,Agencies!D:D)=\"Y\",IF(_xlfn.XLOOKUP(F46672,'Object Codes'!A:A,'Object Codes'!I:I)=\"Y\",\"Y\",\"N\"),\"N\")","v":"Y"},{"$f":"VLOOKUP(F46672,'Object Codes'!$A:$C,3,0)","v":"Data Processing Supplies"},{"$f":"VLOOKUP(A46672,Agencies!A:C,3,0)","v":"D.O.I.T.T."},32.803561643835614]
["858",2022,"001","014","1377","117",0,0,0,0,200,0,0,0,0,0,200,0,200,200,0,200,0,200,200,0,{"$f":"_xlfn.XLOOKUP(F46706,'Object Codes'!$A$18:$A$510,'Object Codes'!$H$18:$H$510)","v":"Supplies & Materials"},{"$f":"_xlfn.XLOOKUP(F46706,'Object Codes'!$A$18:$A$510,'Object Codes'!$G$18:$G$510)","v":"A"},{"$f":"_xlfn.XLOOKUP(A46706,Agencies!$A$9:$A$146,Agencies!$B$9:$B$146)","v":"General Government"},{"$f":"IF(_xlfn.XLOOKUP(A46706,Agencies!A:A,Agencies!D:D)=\"Y\",IF(_xlfn.XLOOKUP(F46706,'Object Codes'!A:A,'Object Codes'!I:I)=\"Y\",\"Y\",\"N\"),\"N\")","v":"Y"},{"$f":"VLOOKUP(F46706,'Object Codes'!$A:$C,3,0)","v":"Postage"},{"$f":"VLOOKUP(A46706,Agencies!A:C,3,0)","v":"D.O.I.T.T."},0.54794520547945202]
["860",2022,"001","200","1000","403",0,0,0,3000,14378,0,0,0,0,0,6486.06,0,6486.06,6486.06,7891.94,6486.06,7891.94,6486.06,6486.06,7891.94,{"$f":"_xlfn.XLOOKUP(F46782,'Object Codes'!$A$18:$A$510,'Object Codes'!$H$18:$H$510)","v":"Other Services and Charges - General"},{"$f":"_xlfn.XLOOKUP(F46782,'Object Codes'!$A$18:$A$510,'Object Codes'!$G$18:$G$510)","v":0},{"$f":"_xlfn.XLOOKUP(A46782,Agencies!$A$9:$A$146,Agencies!$B$9:$B$146)","v":"General Government"},{"$f":"IF(_xlfn.XLOOKUP(A46782,Agencies!A:A,Agencies!D:D)=\"Y\",IF(_xlfn.XLOOKUP(F46782,'Object Codes'!A:A,'Object Codes'!I:I)=\"Y\",\"Y\",\"N\"),\"N\")","v":"Y"},{"$f":"VLOOKUP(F46782,'Object Codes'!$A:$C,3,0)","v":"Office Services"},{"$f":"VLOOKUP(A46782,Agencies!A:C,3,0)","v":"Dept of Records & Info Serv."},17.770027397260275]
["866",2022,"001","001","1201","047",0,0,0,27500,27500,0,0,0,0,0,442.18,0,442.18,442.18,27057.82,442.18,27057.82,442.18,442.18,27057.82,{"$f":"_xlfn.XLOOKUP(F46836,'Object Codes'!$A$18:$A$510,'Object Codes'!$H$18:$H$510)","v":"PS - Additional Gross"},{"$f":"_xlfn.XLOOKUP(F46836,'Object Codes'!$A$18:$A$510,'Object Codes'!$G$18:$G$510)","v":"C"},{"$f":"_xlfn.XLOOKUP(A46836,Agencies!$A$9:$A$146,Agencies!$B$9:$B$146)","v":"General Government"},{"$f":"IF(_xlfn.XLOOKUP(A46836,Agencies!A:A,Agencies!D:D)=\"Y\",IF(_xlfn.XLOOKUP(F46836,'Object Codes'!A:A,'Object Codes'!I:I)=\"Y\",\"Y\",\"N\"),\"N\")","v":"Y"},{"$f":"VLOOKUP(F46836,'Object Codes'!$A:$C,3,0)","v":"Overtime"},{"$f":"VLOOKUP(A46836,Agencies!A:C,3,0)","v":"Dept. Cnsmr. & Wkr. Prot."},1.2114520547945207]
["866",2022,"001","001","1401","041",0,0,0,0,0,0,0,0,0,0,1540.77,0,1540.77,1540.77,-1540.77,1540.77,-1540.77,1540.77,1540.77,-1540.77,{"$f":"_xlfn.XLOOKUP(F46844,'Object Codes'!$A$18:$A$510,'Object Codes'!$H$18:$H$510)","v":"PS - Additional Gross"},{"$f":"_xlfn.XLOOKUP(F46844,'Object Codes'!$A$18:$A$510,'Object Codes'!$G$18:$G$510)","v":"A"},{"$f":"_xlfn.XLOOKUP(A46844,Agencies!$A$9:$A$146,Agencies!$B$9:$B$146)","v":"General Government"},{"$f":"IF(_xlfn.XLOOKUP(A46844,Agencies!A:A,Agencies!D:D)=\"Y\",IF(_xlfn.XLOOKUP(F46844,'Object Codes'!A:A,'Object Codes'!I:I)=\"Y\",\"Y\",\"N\"),\"N\")","v":"Y"},{"$f":"VLOOKUP(F46844,'Object Codes'!$A:$C,3,0)","v":"Assignment Differential"},{"$f":"VLOOKUP(A46844,Agencies!A:C,3,0)","v":"Dept. Cnsmr. & Wkr. Prot."},4.2212876712328766]
["866",2022,"001","002","3100","089",0,0,0,507051,0,0,0,0,0,0,0,0,0,0,0,0,0,0,0,0,{"$f":"_xlfn.XLOOKUP(F46925,'Object Codes'!$A$18:$A$510,'Object Codes'!$H$18:$H$510)","v":"PS - Other"},{"$f":"_xlfn.XLOOKUP(F46925,'Object Codes'!$A$18:$A$510,'Object Codes'!$G$18:$G$510)","v":"A"},{"$f":"_xlfn.XLOOKUP(A46925,Agencies!$A$9:$A$146,Agencies!$B$9:$B$146)","v":"General Government"},{"$f":"IF(_xlfn.XLOOKUP(A46925,Agencies!A:A,Agencies!D:D)=\"Y\",IF(_xlfn.XLOOKUP(F46925,'Object Codes'!A:A,'Object Codes'!I:I)=\"Y\",\"Y\",\"N\"),\"N\")","v":"Y"},{"$f":"VLOOKUP(F46925,'Object Codes'!$A:$C,3,0)","v":"Fringe Benefits - Other"},{"$f":"VLOOKUP(A46925,Agencies!A:C,3,0)","v":"Dept. Cnsmr. & Wkr. Prot."},0]
["866",2022,"001","002","7100","X43",0,0,0,0,0,0,0,0,0,0,0.2,0,0.2,0.2,-0.2,0.2,-0.2,0.2,0.2,-0.2,{"$f":"_xlfn.XLOOKUP(F46939,'Object Codes'!$A$18:$A$510,'Object Codes'!$H$18:$H$510)","v":"PS - Additional Gross"},{"$f":"_xlfn.XLOOKUP(F46939,'Object Codes'!$A$18:$A$510,'Object Codes'!$G$18:$G$510)","v":"A"},{"$f":"_xlfn.XLOOKUP(A46939,Agencies!$A$9:$A$146,Agencies!$B$9:$B$146)","v":"General Government"},{"$f":"IF(_xlfn.XLOOKUP(A46939,Agencies!A:A,Agencies!D:D)=\"Y\",IF(_xlfn.XLOOKUP(F46939,'Object Codes'!A:A,'Object Codes'!I:I)=\"Y\",\"Y\",\"N\"),\"N\")","v":"Y"},{"$f":"VLOOKUP(F46939,'Object Codes'!$A:$C,3,0)","v":"PY SHIFT DIFFERENTIAL"},{"$f":"VLOOKUP(A46939,Agencies!A:C,3,0)","v":"Dept. Cnsmr. & Wkr. Prot."},5.4794520547945212E-4]
["866",2022,"001","003","1801","337",0,0,0,0,1372,0,0,0,0,0,1371.83,0,1371.83,1371.83,0.17,1371.83,0.17,1371.83,1371.83,0.17,{"$f":"_xlfn.XLOOKUP(F46987,'Object Codes'!$A$18:$A$510,'Object Codes'!$H$18:$H$510)","v":"Equipment"},{"$f":"_xlfn.XLOOKUP(F46987,'Object Codes'!$A$18:$A$510,'Object Codes'!$G$18:$G$510)","v":"A"},{"$f":"_xlfn.XLOOKUP(A46987,Agencies!$A$9:$A$146,Agencies!$B$9:$B$146)","v":"General Government"},{"$f":"IF(_xlfn.XLOOKUP(A46987,Agencies!A:A,Agencies!D:D)=\"Y\",IF(_xlfn.XLOOKUP(F46987,'Object Codes'!A:A,'Object Codes'!I:I)=\"Y\",\"Y\",\"N\"),\"N\")","v":"Y"},{"$f":"VLOOKUP(F46987,'Object Codes'!$A:$C,3,0)","v":"Books - Other"},{"$f":"VLOOKUP(A46987,Agencies!A:C,3,0)","v":"Dept. Cnsmr. & Wkr. Prot."},3.7584383561643833]
["866",2022,"001","003","7100","199",0,0,0,0,10058,0,0,0,0,0,10058,0,10058,10058,0,10058,0,10058,10058,0,{"$f":"_xlfn.XLOOKUP(F47068,'Object Codes'!$A$18:$A$510,'Object Codes'!$H$18:$H$510)","v":"Supplies & Materials"},{"$f":"_xlfn.XLOOKUP(F47068,'Object Codes'!$A$18:$A$510,'Object Codes'!$G$18:$G$510)","v":"A"},{"$f":"_xlfn.XLOOKUP(A47068,Agencies!$A$9:$A$146,Agencies!$B$9:$B$146)","v":"General Government"},{"$f":"IF(_xlfn.XLOOKUP(A47068,Agencies!A:A,Agencies!D:D)=\"Y\",IF(_xlfn.XLOOKUP(F47068,'Object Codes'!A:A,'Object Codes'!I:I)=\"Y\",\"Y\",\"N\"),\"N\")","v":"Y"},{"$f":"VLOOKUP(F47068,'Object Codes'!$A:$C,3,0)","v":"Data Processing Supplies"},{"$f":"VLOOKUP(A47068,Agencies!A:C,3,0)","v":"Dept. Cnsmr. & Wkr. Prot."},27.556164383561644]
["901",2022,"001","001","0301","049",0,0,0,20000,20000,0,0,0,0,0,37696.58,0,37696.58,37696.58,-17696.580000000002,37696.58,-17696.580000000002,37696.58,37696.58,-17696.580000000002,{"$f":"_xlfn.XLOOKUP(F47100,'Object Codes'!$A$18:$A$510,'Object Codes'!$H$18:$H$510)","v":"PS - Additional Gross"},{"$f":"_xlfn.XLOOKUP(F47100,'Object Codes'!$A$18:$A$510,'Object Codes'!$G$18:$G$510)","v":"A"},{"$f":"_xlfn.XLOOKUP(A47100,Agencies!$A$9:$A$146,Agencies!$B$9:$B$146)","v":"Public Safety & Judicial"},{"$f":"IF(_xlfn.XLOOKUP(A47100,Agencies!A:A,Agencies!D:D)=\"Y\",IF(_xlfn.XLOOKUP(F47100,'Object Codes'!A:A,'Object Codes'!I:I)=\"Y\",\"Y\",\"N\"),\"N\")","v":"Y"},{"$f":"VLOOKUP(F47100,'Object Codes'!$A:$C,3,0)","v":"Backpay"},{"$f":"VLOOKUP(A47100,Agencies!A:C,3,0)","v":"District Attorney - N.Y."},103.27830136986302]
["901",2022,"001","001","0501","X47",0,0,0,0,0,0,0,0,0,0,11435.58,0,11435.58,11435.58,-11435.58,11435.58,-11435.58,11435.58,11435.58,-11435.58,{"$f":"_xlfn.XLOOKUP(F47130,'Object Codes'!$A$18:$A$510,'Object Codes'!$H$18:$H$510)","v":"PS - Additional Gross"},{"$f":"_xlfn.XLOOKUP(F47130,'Object Codes'!$A$18:$A$510,'Object Codes'!$G$18:$G$510)","v":"A"},{"$f":"_xlfn.XLOOKUP(A47130,Agencies!$A$9:$A$146,Agencies!$B$9:$B$146)","v":"Public Safety & Judicial"},{"$f":"IF(_xlfn.XLOOKUP(A47130,Agencies!A:A,Agencies!D:D)=\"Y\",IF(_xlfn.XLOOKUP(F47130,'Object Codes'!A:A,'Object Codes'!I:I)=\"Y\",\"Y\",\"N\"),\"N\")","v":"Y"},{"$f":"VLOOKUP(F47130,'Object Codes'!$A:$C,3,0)","v":"PY OVERTIME"},{"$f":"VLOOKUP(A47130,Agencies!A:C,3,0)","v":"District Attorney - N.Y."},31.330356164383563]
["901",2022,"001","002","3211","612",0,0,0,10291,776,0,0,0,0,0,100,0,100,100,676,100,676,100,100,676,{"$f":"_xlfn.XLOOKUP(F47211,'Object Codes'!$A$18:$A$510,'Object Codes'!$H$18:$H$510)","v":"Contractual Services"},{"$f":"_xlfn.XLOOKUP(F47211,'Object Codes'!$A$18:$A$510,'Object Codes'!$G$18:$G$510)","v":0},{"$f":"_xlfn.XLOOKUP(A47211,Agencies!$A$9:$A$146,Agencies!$B$9:$B$146)","v":"Public Safety & Judicial"},{"$f":"IF(_xlfn.XLOOKUP(A47211,Agencies!A:A,Agencies!D:D)=\"Y\",IF(_xlfn.XLOOKUP(F47211,'Object Codes'!A:A,'Object Codes'!I:I)=\"Y\",\"Y\",\"N\"),\"N\")","v":"Y"},{"$f":"VLOOKUP(F47211,'Object Codes'!$A:$C,3,0)","v":"Office Equipment Maintenance - Contractual"},{"$f":"VLOOKUP(A47211,Agencies!A:C,3,0)","v":"District Attorney - N.Y."},0.27397260273972601]
["902",2022,"001","001","0101","047",0,0,0,212596,212596,0,0,0,0,0,599323.85,0,599323.85,599323.85,-386727.85,599323.85,-386727.85,599323.85,599323.85,-386727.85,{"$f":"_xlfn.XLOOKUP(F47249,'Object Codes'!$A$18:$A$510,'Object Codes'!$H$18:$H$510)","v":"PS - Additional Gross"},{"$f":"_xlfn.XLOOKUP(F47249,'Object Codes'!$A$18:$A$510,'Object Codes'!$G$18:$G$510)","v":"C"},{"$f":"_xlfn.XLOOKUP(A47249,Agencies!$A$9:$A$146,Agencies!$B$9:$B$146)","v":"Public Safety & Judicial"},{"$f":"IF(_xlfn.XLOOKUP(A47249,Agencies!A:A,Agencies!D:D)=\"Y\",IF(_xlfn.XLOOKUP(F47249,'Object Codes'!A:A,'Object Codes'!I:I)=\"Y\",\"Y\",\"N\"),\"N\")","v":"Y"},{"$f":"VLOOKUP(F47249,'Object Codes'!$A:$C,3,0)","v":"Overtime"},{"$f":"VLOOKUP(A47249,Agencies!A:C,3,0)","v":"District Attorney - Bronx"},1641.9831506849314]
["902",2022,"001","001","0316","057",0,0,0,0,500,0,0,0,0,0,500,0,500,500,0,500,0,500,500,0,{"$f":"_xlfn.XLOOKUP(F47273,'Object Codes'!$A$18:$A$510,'Object Codes'!$H$18:$H$510)","v":"PS - Additional Gross"},{"$f":"_xlfn.XLOOKUP(F47273,'Object Codes'!$A$18:$A$510,'Object Codes'!$G$18:$G$510)","v":"A"},{"$f":"_xlfn.XLOOKUP(A47273,Agencies!$A$9:$A$146,Agencies!$B$9:$B$146)","v":"Public Safety & Judicial"},{"$f":"IF(_xlfn.XLOOKUP(A47273,Agencies!A:A,Agencies!D:D)=\"Y\",IF(_xlfn.XLOOKUP(F47273,'Object Codes'!A:A,'Object Codes'!I:I)=\"Y\",\"Y\",\"N\"),\"N\")","v":"Y"},{"$f":"VLOOKUP(F47273,'Object Codes'!$A:$C,3,0)","v":"Bonus Payments"},{"$f":"VLOOKUP(A47273,Agencies!A:C,3,0)","v":"District Attorney - Bronx"},1.3698630136986301]
["902",2022,"001","002","0388","600",0,0,0,0,68632,0,0,0,0,0,68631.39,0,68631.39,68631.39,0.61,68631.39,0.61,68631.39,68631.39,0.61,{"$f":"_xlfn.XLOOKUP(F47354,'Object Codes'!$A$18:$A$510,'Object Codes'!$H$18:$H$510)","v":"Contractual Services"},{"$f":"_xlfn.XLOOKUP(F47354,'Object Codes'!$A$18:$A$510,'Object Codes'!$G$18:$G$510)","v":0},{"$f":"_xlfn.XLOOKUP(A47354,Agencies!$A$9:$A$146,Agencies!$B$9:$B$146)","v":"Public Safety & Judicial"},{"$f":"IF(_xlfn.XLOOKUP(A47354,Agencies!A:A,Agencies!D:D)=\"Y\",IF(_xlfn.XLOOKUP(F47354,'Object Codes'!A:A,'Object Codes'!I:I)=\"Y\",\"Y\",\"N\"),\"N\")","v":"Y"},{"$f":"VLOOKUP(F47354,'Object Codes'!$A:$C,3,0)","v":"Contractual Services - General"},{"$f":"VLOOKUP(A47354,Agencies!A:C,3,0)","v":"District Attorney - Bronx"},188.03120547945204]
["903",2022,"001","001","0101","061",0,0,0,16000,16000,0,0,0,0,0,11476.25,0,11476.25,11476.25,4523.75,11476.25,4523.75,11476.25,11476.25,4523.75,{"$f":"_xlfn.XLOOKUP(F47398,'Object Codes'!$A$18:$A$510,'Object Codes'!$H$18:$H$510)","v":"PS - Additional Gross"},{"$f":"_xlfn.XLOOKUP(F47398,'Object Codes'!$A$18:$A$510,'Object Codes'!$G$18:$G$510)","v":"A"},{"$f":"_xlfn.XLOOKUP(A47398,Agencies!$A$9:$A$146,Agencies!$B$9:$B$146)","v":"Public Safety & Judicial"},{"$f":"IF(_xlfn.XLOOKUP(A47398,Agencies!A:A,Agencies!D:D)=\"Y\",IF(_xlfn.XLOOKUP(F47398,'Object Codes'!A:A,'Object Codes'!I:I)=\"Y\",\"Y\",\"N\"),\"N\")","v":"Y"},{"$f":"VLOOKUP(F47398,'Object Codes'!$A:$C,3,0)","v":"Supper Money"},{"$f":"VLOOKUP(A47398,Agencies!A:C,3,0)","v":"District Attorney - Kings"},31.44178082191781]
["903",2022,"001","001","0401","001",0,0,0,9476,9476,0,0,0,0,0,0,0,0,0,9476,0,9476,0,0,9476,{"$f":"_xlfn.XLOOKUP(F47416,'Object Codes'!$A$18:$A$510,'Object Codes'!$H$18:$H$510)","v":"PS - Regular"},{"$f":"_xlfn.XLOOKUP(F47416,'Object Codes'!$A$18:$A$510,'Object Codes'!$G$18:$G$510)","v":"C"},{"$f":"_xlfn.XLOOKUP(A47416,Agencies!$A$9:$A$146,Agencies!$B$9:$B$146)","v":"Public Safety & Judicial"},{"$f":"IF(_xlfn.XLOOKUP(A47416,Agencies!A:A,Agencies!D:D)=\"Y\",IF(_xlfn.XLOOKUP(F47416,'Object Codes'!A:A,'Object Codes'!I:I)=\"Y\",\"Y\",\"N\"),\"N\")","v":"Y"},{"$f":"VLOOKUP(F47416,'Object Codes'!$A:$C,3,0)","v":"Full Year Positions"},{"$f":"VLOOKUP(A47416,Agencies!A:C,3,0)","v":"District Attorney - Kings"},0]
["903",2022,"001","002","0101","600",0,0,0,30000,108182,0,0,0,0,0,92930.85,0,92930.85,92930.85,15251.15,92930.85,15251.15,92930.85,92930.85,15251.15,{"$f":"_xlfn.XLOOKUP(F47492,'Object Codes'!$A$18:$A$510,'Object Codes'!$H$18:$H$510)","v":"Contractual Services"},{"$f":"_xlfn.XLOOKUP(F47492,'Object Codes'!$A$18:$A$510,'Object Codes'!$G$18:$G$510)","v":0},{"$f":"_xlfn.XLOOKUP(A47492,Agencies!$A$9:$A$146,Agencies!$B$9:$B$146)","v":"Public Safety & Judicial"},{"$f":"IF(_xlfn.XLOOKUP(A47492,Agencies!A:A,Agencies!D:D)=\"Y\",IF(_xlfn.XLOOKUP(F47492,'Object Codes'!A:A,'Object Codes'!I:I)=\"Y\",\"Y\",\"N\"),\"N\")","v":"Y"},{"$f":"VLOOKUP(F47492,'Object Codes'!$A:$C,3,0)","v":"Contractual Services - General"},{"$f":"VLOOKUP(A47492,Agencies!A:C,3,0)","v":"District Attorney - Kings"},254.6050684931507]
["903",2022,"001","002","0111","199",0,0,0,150000,383685,0,0,0,0,0,359565.44,0,359565.44,359565.44,24119.56,359565.44,24119.56,359565.44,359565.44,24119.56,{"$f":"_xlfn.XLOOKUP(F47501,'Object Codes'!$A$18:$A$510,'Object Codes'!$H$18:$H$510)","v":"Supplies & Materials"},{"$f":"_xlfn.XLOOKUP(F47501,'Object Codes'!$A$18:$A$510,'Object Codes'!$G$18:$G$510)","v":"A"},{"$f":"_xlfn.XLOOKUP(A47501,Agencies!$A$9:$A$146,Agencies!$B$9:$B$146)","v":"Public Safety & Judicial"},{"$f":"IF(_xlfn.XLOOKUP(A47501,Agencies!A:A,Agencies!D:D)=\"Y\",IF(_xlfn.XLOOKUP(F47501,'Object Codes'!A:A,'Object Codes'!I:I)=\"Y\",\"Y\",\"N\"),\"N\")","v":"Y"},{"$f":"VLOOKUP(F47501,'Object Codes'!$A:$C,3,0)","v":"Data Processing Supplies"},{"$f":"VLOOKUP(A47501,Agencies!A:C,3,0)","v":"District Attorney - Kings"},985.11079452054798]
["904",2022,"001","001","0101","049",0,0,0,0,0,0,0,0,0,0,-533.5,0,-533.5,-533.5,533.5,-533.5,533.5,-533.5,-533.5,533.5,{"$f":"_xlfn.XLOOKUP(F47559,'Object Codes'!$A$18:$A$510,'Object Codes'!$H$18:$H$510)","v":"PS - Additional Gross"},{"$f":"_xlfn.XLOOKUP(F47559,'Object Codes'!$A$18:$A$510,'Object Codes'!$G$18:$G$510)","v":"A"},{"$f":"_xlfn.XLOOKUP(A47559,Agencies!$A$9:$A$146,Agencies!$B$9:$B$146)","v":"Public Safety & Judicial"},{"$f":"IF(_xlfn.XLOOKUP(A47559,Agencies!A:A,Agencies!D:D)=\"Y\",IF(_xlfn.XLOOKUP(F47559,'Object Codes'!A:A,'Object Codes'!I:I)=\"Y\",\"Y\",\"N\"),\"N\")","v":"Y"},{"$f":"VLOOKUP(F47559,'Object Codes'!$A:$C,3,0)","v":"Backpay"},{"$f":"VLOOKUP(A47559,Agencies!A:C,3,0)","v":"District Attorney - Queens"},-1.4616438356164383]
["904",2022,"001","002","0101","684",0,0,0,0,0,0,0,0,0,0,925,0,925,925,-925,925,-925,925,925,-925,{"$f":"_xlfn.XLOOKUP(F47635,'Object Codes'!$A$18:$A$510,'Object Codes'!$H$18:$H$510)","v":"Contractual Services"},{"$f":"_xlfn.XLOOKUP(F47635,'Object Codes'!$A$18:$A$510,'Object Codes'!$G$18:$G$510)","v":0},{"$f":"_xlfn.XLOOKUP(A47635,Agencies!$A$9:$A$146,Agencies!$B$9:$B$146)","v":"Public Safety & Judicial"},{"$f":"IF(_xlfn.XLOOKUP(A47635,Agencies!A:A,Agencies!D:D)=\"Y\",IF(_xlfn.XLOOKUP(F47635,'Object Codes'!A:A,'Object Codes'!I:I)=\"Y\",\"Y\",\"N\"),\"N\")","v":"Y"},{"$f":"VLOOKUP(F47635,'Object Codes'!$A:$C,3,0)","v":"Professional Services - Computer Services - Contractual"},{"$f":"VLOOKUP(A47635,Agencies!A:C,3,0)","v":"District Attorney - Queens"},2.5342465753424657]
["905",2022,"001","001","0101","041",0,0,0,3000,3000,0,0,0,0,0,0,0,0,0,3000,0,3000,0,0,3000,{"$f":"_xlfn.XLOOKUP(F47669,'Object Codes'!$A$18:$A$510,'Object Codes'!$H$18:$H$510)","v":"PS - Additional Gross"},{"$f":"_xlfn.XLOOKUP(F47669,'Object Codes'!$A$18:$A$510,'Object Codes'!$G$18:$G$510)","v":"A"},{"$f":"_xlfn.XLOOKUP(A47669,Agencies!$A$9:$A$146,Agencies!$B$9:$B$146)","v":"Public Safety & Judicial"},{"$f":"IF(_xlfn.XLOOKUP(A47669,Agencies!A:A,Agencies!D:D)=\"Y\",IF(_xlfn.XLOOKUP(F47669,'Object Codes'!A:A,'Object Codes'!I:I)=\"Y\",\"Y\",\"N\"),\"N\")","v":"Y"},{"$f":"VLOOKUP(F47669,'Object Codes'!$A:$C,3,0)","v":"Assignment Differential"},{"$f":"VLOOKUP(A47669,Agencies!A:C,3,0)","v":"District Attorney - Richmond"},0]
["905",2022,"001","001","0206","001",0,4,4,130700,182908,0,0,0,0,0,182908,0,182908,182908,0,182908,0,182908,182908,0,{"$f":"_xlfn.XLOOKUP(F47683,'Object Codes'!$A$18:$A$510,'Object Codes'!$H$18:$H$510)","v":"PS - Regular"},{"$f":"_xlfn.XLOOKUP(F47683,'Object Codes'!$A$18:$A$510,'Object Codes'!$G$18:$G$510)","v":"C"},{"$f":"_xlfn.XLOOKUP(A47683,Agencies!$A$9:$A$146,Agencies!$B$9:$B$146)","v":"Public Safety & Judicial"},{"$f":"IF(_xlfn.XLOOKUP(A47683,Agencies!A:A,Agencies!D:D)=\"Y\",IF(_xlfn.XLOOKUP(F47683,'Object Codes'!A:A,'Object Codes'!I:I)=\"Y\",\"Y\",\"N\"),\"N\")","v":"Y"},{"$f":"VLOOKUP(F47683,'Object Codes'!$A:$C,3,0)","v":"Full Year Positions"},{"$f":"VLOOKUP(A47683,Agencies!A:C,3,0)","v":"District Attorney - Richmond"},501.11780821917807]
["905",2022,"001","001","0220","001",0,0,0,0,190085,0,0,0,0,0,190084.81,0,190084.81,190084.81,0.19,190084.81,0.19,190084.81,190084.81,0.19,{"$f":"_xlfn.XLOOKUP(F47684,'Object Codes'!$A$18:$A$510,'Object Codes'!$H$18:$H$510)","v":"PS - Regular"},{"$f":"_xlfn.XLOOKUP(F47684,'Object Codes'!$A$18:$A$510,'Object Codes'!$G$18:$G$510)","v":"C"},{"$f":"_xlfn.XLOOKUP(A47684,Agencies!$A$9:$A$146,Agencies!$B$9:$B$146)","v":"Public Safety & Judicial"},{"$f":"IF(_xlfn.XLOOKUP(A47684,Agencies!A:A,Agencies!D:D)=\"Y\",IF(_xlfn.XLOOKUP(F47684,'Object Codes'!A:A,'Object Codes'!I:I)=\"Y\",\"Y\",\"N\"),\"N\")","v":"Y"},{"$f":"VLOOKUP(F47684,'Object Codes'!$A:$C,3,0)","v":"Full Year Positions"},{"$f":"VLOOKUP(A47684,Agencies!A:C,3,0)","v":"District Attorney - Richmond"},520.78030136986297]
["905",2022,"001","001","0311","001",0,0,0,0,49644,0,0,0,0,0,49644,0,49644,49644,0,49644,0,49644,49644,0,{"$f":"_xlfn.XLOOKUP(F47685,'Object Codes'!$A$18:$A$510,'Object Codes'!$H$18:$H$510)","v":"PS - Regular"},{"$f":"_xlfn.XLOOKUP(F47685,'Object Codes'!$A$18:$A$510,'Object Codes'!$G$18:$G$510)","v":"C"},{"$f":"_xlfn.XLOOKUP(A47685,Agencies!$A$9:$A$146,Agencies!$B$9:$B$146)","v":"Public Safety & Judicial"},{"$f":"IF(_xlfn.XLOOKUP(A47685,Agencies!A:A,Agencies!D:D)=\"Y\",IF(_xlfn.XLOOKUP(F47685,'Object Codes'!A:A,'Object Codes'!I:I)=\"Y\",\"Y\",\"N\"),\"N\")","v":"Y"},{"$f":"VLOOKUP(F47685,'Object Codes'!$A:$C,3,0)","v":"Full Year Positions"},{"$f":"VLOOKUP(A47685,Agencies!A:C,3,0)","v":"District Attorney - Richmond"},136.0109589041096]
["905",2022,"001","001","0448","001",0,0,0,0,10000,0,0,0,0,0,10000,0,10000,10000,0,10000,0,10000,10000,0,{"$f":"_xlfn.XLOOKUP(F47686,'Object Codes'!$A$18:$A$510,'Object Codes'!$H$18:$H$510)","v":"PS - Regular"},{"$f":"_xlfn.XLOOKUP(F47686,'Object Codes'!$A$18:$A$510,'Object Codes'!$G$18:$G$510)","v":"C"},{"$f":"_xlfn.XLOOKUP(A47686,Agencies!$A$9:$A$146,Agencies!$B$9:$B$146)","v":"Public Safety & Judicial"},{"$f":"IF(_xlfn.XLOOKUP(A47686,Agencies!A:A,Agencies!D:D)=\"Y\",IF(_xlfn.XLOOKUP(F47686,'Object Codes'!A:A,'Object Codes'!I:I)=\"Y\",\"Y\",\"N\"),\"N\")","v":"Y"},{"$f":"VLOOKUP(F47686,'Object Codes'!$A:$C,3,0)","v":"Full Year Positions"},{"$f":"VLOOKUP(A47686,Agencies!A:C,3,0)","v":"District Attorney - Richmond"},27.397260273972602]
["905",2022,"001","001","0449","001",0,0,0,0,74831,0,0,0,0,0,74830.13,0,74830.13,74830.13,0.87,74830.13,0.87,74830.13,74830.13,0.87,{"$f":"_xlfn.XLOOKUP(F47687,'Object Codes'!$A$18:$A$510,'Object Codes'!$H$18:$H$510)","v":"PS - Regular"},{"$f":"_xlfn.XLOOKUP(F47687,'Object Codes'!$A$18:$A$510,'Object Codes'!$G$18:$G$510)","v":"C"},{"$f":"_xlfn.XLOOKUP(A47687,Agencies!$A$9:$A$146,Agencies!$B$9:$B$146)","v":"Public Safety & Judicial"},{"$f":"IF(_xlfn.XLOOKUP(A47687,Agencies!A:A,Agencies!D:D)=\"Y\",IF(_xlfn.XLOOKUP(F47687,'Object Codes'!A:A,'Object Codes'!I:I)=\"Y\",\"Y\",\"N\"),\"N\")","v":"Y"},{"$f":"VLOOKUP(F47687,'Object Codes'!$A:$C,3,0)","v":"Full Year Positions"},{"$f":"VLOOKUP(A47687,Agencies!A:C,3,0)","v":"District Attorney - Richmond"},205.01405479452055]
["905",2022,"001","001","0452","001",0,0,0,0,289211,0,0,0,0,0,289211,0,289211,289211,0,289211,0,289211,289211,0,{"$f":"_xlfn.XLOOKUP(F47688,'Object Codes'!$A$18:$A$510,'Object Codes'!$H$18:$H$510)","v":"PS - Regular"},{"$f":"_xlfn.XLOOKUP(F47688,'Object Codes'!$A$18:$A$510,'Object Codes'!$G$18:$G$510)","v":"C"},{"$f":"_xlfn.XLOOKUP(A47688,Agencies!$A$9:$A$146,Agencies!$B$9:$B$146)","v":"Public Safety & Judicial"},{"$f":"IF(_xlfn.XLOOKUP(A47688,Agencies!A:A,Agencies!D:D)=\"Y\",IF(_xlfn.XLOOKUP(F47688,'Object Codes'!A:A,'Object Codes'!I:I)=\"Y\",\"Y\",\"N\"),\"N\")","v":"Y"},{"$f":"VLOOKUP(F47688,'Object Codes'!$A:$C,3,0)","v":"Full Year Positions"},{"$f":"VLOOKUP(A47688,Agencies!A:C,3,0)","v":"District Attorney - Richmond"},792.35890410958905]
["905",2022,"001","001","0454","001",0,0,0,0,100000,0,0,0,0,0,100000,0,100000,100000,0,100000,0,100000,100000,0,{"$f":"_xlfn.XLOOKUP(F47689,'Object Codes'!$A$18:$A$510,'Object Codes'!$H$18:$H$510)","v":"PS - Regular"},{"$f":"_xlfn.XLOOKUP(F47689,'Object Codes'!$A$18:$A$510,'Object Codes'!$G$18:$G$510)","v":"C"},{"$f":"_xlfn.XLOOKUP(A47689,Agencies!$A$9:$A$146,Agencies!$B$9:$B$146)","v":"Public Safety & Judicial"},{"$f":"IF(_xlfn.XLOOKUP(A47689,Agencies!A:A,Agencies!D:D)=\"Y\",IF(_xlfn.XLOOKUP(F47689,'Object Codes'!A:A,'Object Codes'!I:I)=\"Y\",\"Y\",\"N\"),\"N\")","v":"Y"},{"$f":"VLOOKUP(F47689,'Object Codes'!$A:$C,3,0)","v":"Full Year Positions"},{"$f":"VLOOKUP(A47689,Agencies!A:C,3,0)","v":"District Attorney - Richmond"},{"$f":"S47689/365","v":273.97260273972603}]
["905",2022,"001","001","0625","001",0,0,0,0,186850,0,0,0,0,0,186850,0,186850,186850,0,186850,0,186850,186850,0,{"$f":"_xlfn.XLOOKUP(F47690,'Object Codes'!$A$18:$A$510,'Object Codes'!$H$18:$H$510)","v":"PS - Regular"},{"$f":"_xlfn.XLOOKUP(F47690,'Object Codes'!$A$18:$A$510,'Object Codes'!$G$18:$G$510)","v":"C"},{"$f":"_xlfn.XLOOKUP(A47690,Agencies!$A$9:$A$146,Agencies!$B$9:$B$146)","v":"Public Safety & Judicial"},{"$f":"IF(_xlfn.XLOOKUP(A47690,Agencies!A:A,Agencies!D:D)=\"Y\",IF(_xlfn.XLOOKUP(F47690,'Object Codes'!A:A,'Object Codes'!I:I)=\"Y\",\"Y\",\"N\"),\"N\")","v":"Y"},{"$f":"VLOOKUP(F47690,'Object Codes'!$A:$C,3,0)","v":"Full Year Positions"},{"$f":"VLOOKUP(A47690,Agencies!A:C,3,0)","v":"District Attorney - Richmond"},511.91780821917808]
["905",2022,"001","001","2018","001",0,0,0,0,35,0,0,0,0,0,34.18,0,34.18,34.18,0.82,34.18,0.82,34.18,34.18,0.82,{"$f":"_xlfn.XLOOKUP(F47691,'Object Codes'!$A$18:$A$510,'Object Codes'!$H$18:$H$510)","v":"PS - Regular"},{"$f":"_xlfn.XLOOKUP(F47691,'Object Codes'!$A$18:$A$510,'Object Codes'!$G$18:$G$510)","v":"C"},{"$f":"_xlfn.XLOOKUP(A47691,Agencies!$A$9:$A$146,Agencies!$B$9:$B$146)","v":"Public Safety & Judicial"},{"$f":"IF(_xlfn.XLOOKUP(A47691,Agencies!A:A,Agencies!D:D)=\"Y\",IF(_xlfn.XLOOKUP(F47691,'Object Codes'!A:A,'Object Codes'!I:I)=\"Y\",\"Y\",\"N\"),\"N\")","v":"Y"},{"$f":"VLOOKUP(F47691,'Object Codes'!$A:$C,3,0)","v":"Full Year Positions"},{"$f":"VLOOKUP(A47691,Agencies!A:C,3,0)","v":"District Attorney - Richmond"},9.3643835616438353E-2]
["905",2022,"001","001","2020","001",0,0,0,0,29695,0,0,0,0,0,29695,0,29695,29695,0,29695,0,29695,29695,0,{"$f":"_xlfn.XLOOKUP(F47692,'Object Codes'!$A$18:$A$510,'Object Codes'!$H$18:$H$510)","v":"PS - Regular"},{"$f":"_xlfn.XLOOKUP(F47692,'Object Codes'!$A$18:$A$510,'Object Codes'!$G$18:$G$510)","v":"C"},{"$f":"_xlfn.XLOOKUP(A47692,Agencies!$A$9:$A$146,Agencies!$B$9:$B$146)","v":"Public Safety & Judicial"},{"$f":"IF(_xlfn.XLOOKUP(A47692,Agencies!A:A,Agencies!D:D)=\"Y\",IF(_xlfn.XLOOKUP(F47692,'Object Codes'!A:A,'Object Codes'!I:I)=\"Y\",\"Y\",\"N\"),\"N\")","v":"Y"},{"$f":"VLOOKUP(F47692,'Object Codes'!$A:$C,3,0)","v":"Full Year Positions"},{"$f":"VLOOKUP(A47692,Agencies!A:C,3,0)","v":"District Attorney - Richmond"},81.356164383561648]
["905",2022,"001","001","3001","001",0,0,0,0,37500,0,0,0,0,0,37500,0,37500,37500,0,37500,0,37500,37500,0,{"$f":"_xlfn.XLOOKUP(F47693,'Object Codes'!$A$18:$A$510,'Object Codes'!$H$18:$H$510)","v":"PS - Regular"},{"$f":"_xlfn.XLOOKUP(F47693,'Object Codes'!$A$18:$A$510,'Object Codes'!$G$18:$G$510)","v":"C"},{"$f":"_xlfn.XLOOKUP(A47693,Agencies!$A$9:$A$146,Agencies!$B$9:$B$146)","v":"Public Safety & Judicial"},{"$f":"IF(_xlfn.XLOOKUP(A47693,Agencies!A:A,Agencies!D:D)=\"Y\",IF(_xlfn.XLOOKUP(F47693,'Object Codes'!A:A,'Object Codes'!I:I)=\"Y\",\"Y\",\"N\"),\"N\")","v":"Y"},{"$f":"VLOOKUP(F47693,'Object Codes'!$A:$C,3,0)","v":"Full Year Positions"},{"$f":"VLOOKUP(A47693,Agencies!A:C,3,0)","v":"District Attorney - Richmond"},102.73972602739725]
["905",2022,"001","001","3200","001",0,0,0,0,86066,0,0,0,0,0,86065.76,0,86065.76,86065.76,0.24,86065.76,0.24,86065.76,86065.76,0.24,{"$f":"_xlfn.XLOOKUP(F47694,'Object Codes'!$A$18:$A$510,'Object Codes'!$H$18:$H$510)","v":"PS - Regular"},{"$f":"_xlfn.XLOOKUP(F47694,'Object Codes'!$A$18:$A$510,'Object Codes'!$G$18:$G$510)","v":"C"},{"$f":"_xlfn.XLOOKUP(A47694,Agencies!$A$9:$A$146,Agencies!$B$9:$B$146)","v":"Public Safety & Judicial"},{"$f":"IF(_xlfn.XLOOKUP(A47694,Agencies!A:A,Agencies!D:D)=\"Y\",IF(_xlfn.XLOOKUP(F47694,'Object Codes'!A:A,'Object Codes'!I:I)=\"Y\",\"Y\",\"N\"),\"N\")","v":"Y"},{"$f":"VLOOKUP(F47694,'Object Codes'!$A:$C,3,0)","v":"Full Year Positions"},{"$f":"VLOOKUP(A47694,Agencies!A:C,3,0)","v":"District Attorney - Richmond"},235.79660273972601]
["905",2022,"001","001","4000","001",0,0,0,0,50000,0,0,0,0,0,50000,0,50000,50000,0,50000,0,50000,50000,0,{"$f":"_xlfn.XLOOKUP(F47695,'Object Codes'!$A$18:$A$510,'Object Codes'!$H$18:$H$510)","v":"PS - Regular"},{"$f":"_xlfn.XLOOKUP(F47695,'Object Codes'!$A$18:$A$510,'Object Codes'!$G$18:$G$510)","v":"C"},{"$f":"_xlfn.XLOOKUP(A47695,Agencies!$A$9:$A$146,Agencies!$B$9:$B$146)","v":"Public Safety & Judicial"},{"$f":"IF(_xlfn.XLOOKUP(A47695,Agencies!A:A,Agencies!D:D)=\"Y\",IF(_xlfn.XLOOKUP(F47695,'Object Codes'!A:A,'Object Codes'!I:I)=\"Y\",\"Y\",\"N\"),\"N\")","v":"Y"},{"$f":"VLOOKUP(F47695,'Object Codes'!$A:$C,3,0)","v":"Full Year Positions"},{"$f":"VLOOKUP(A47695,Agencies!A:C,3,0)","v":"District Attorney - Richmond"},136.98630136986301]
["905",2022,"001","001","7000","001",0,0,0,0,1994,0,0,0,0,0,0,0,0,0,1994,0,1994,0,0,1994,{"$f":"_xlfn.XLOOKUP(F47696,'Object Codes'!$A$18:$A$510,'Object Codes'!$H$18:$H$510)","v":"PS - Regular"},{"$f":"_xlfn.XLOOKUP(F47696,'Object Codes'!$A$18:$A$510,'Object Codes'!$G$18:$G$510)","v":"C"},{"$f":"_xlfn.XLOOKUP(A47696,Agencies!$A$9:$A$146,Agencies!$B$9:$B$146)","v":"Public Safety & Judicial"},{"$f":"IF(_xlfn.XLOOKUP(A47696,Agencies!A:A,Agencies!D:D)=\"Y\",IF(_xlfn.XLOOKUP(F47696,'Object Codes'!A:A,'Object Codes'!I:I)=\"Y\",\"Y\",\"N\"),\"N\")","v":"Y"},{"$f":"VLOOKUP(F47696,'Object Codes'!$A:$C,3,0)","v":"Full Year Positions"},{"$f":"VLOOKUP(A47696,Agencies!A:C,3,0)","v":"District Attorney - Richmond"},0]
["905",2022,"001","001","9001","001",0,61,61,3813000,3813000,0,0,0,0,0,3743262.52,0,3743262.52,3743262.52,69737.48,3743262.52,69737.48,3743262.52,3743262.52,69737.48,{"$f":"_xlfn.XLOOKUP(F47697,'Object Codes'!$A$18:$A$510,'Object Codes'!$H$18:$H$510)","v":"PS - Regular"},{"$f":"_xlfn.XLOOKUP(F47697,'Object Codes'!$A$18:$A$510,'Object Codes'!$G$18:$G$510)","v":"C"},{"$f":"_xlfn.XLOOKUP(A47697,Agencies!$A$9:$A$146,Agencies!$B$9:$B$146)","v":"Public Safety & Judicial"},{"$f":"IF(_xlfn.XLOOKUP(A47697,Agencies!A:A,Agencies!D:D)=\"Y\",IF(_xlfn.XLOOKUP(F47697,'Object Codes'!A:A,'Object Codes'!I:I)=\"Y\",\"Y\",\"N\"),\"N\")","v":"Y"},{"$f":"VLOOKUP(F47697,'Object Codes'!$A:$C,3,0)","v":"Full Year Positions"},{"$f":"VLOOKUP(A47697,Agencies!A:C,3,0)","v":"District Attorney - Richmond"},10255.513753424657]
["905",2022,"001","001","9576","001",0,0,0,0,61067,0,0,0,0,0,61067,0,61067,61067,0,61067,0,61067,61067,0,{"$f":"_xlfn.XLOOKUP(F47698,'Object Codes'!$A$18:$A$510,'Object Codes'!$H$18:$H$510)","v":"PS - Regular"},{"$f":"_xlfn.XLOOKUP(F47698,'Object Codes'!$A$18:$A$510,'Object Codes'!$G$18:$G$510)","v":"C"},{"$f":"_xlfn.XLOOKUP(A47698,Agencies!$A$9:$A$146,Agencies!$B$9:$B$146)","v":"Public Safety & Judicial"},{"$f":"IF(_xlfn.XLOOKUP(A47698,Agencies!A:A,Agencies!D:D)=\"Y\",IF(_xlfn.XLOOKUP(F47698,'Object Codes'!A:A,'Object Codes'!I:I)=\"Y\",\"Y\",\"N\"),\"N\")","v":"Y"},{"$f":"VLOOKUP(F47698,'Object Codes'!$A:$C,3,0)","v":"Full Year Positions"},{"$f":"VLOOKUP(A47698,Agencies!A:C,3,0)","v":"District Attorney - Richmond"},167.30684931506849]
["905",2022,"001","001","CV19","001",0,0,0,0,367565,0,0,0,0,0,367565,0,367565,367565,0,367565,0,367565,367565,0,{"$f":"_xlfn.XLOOKUP(F47699,'Object Codes'!$A$18:$A$510,'Object Codes'!$H$18:$H$510)","v":"PS - Regular"},{"$f":"_xlfn.XLOOKUP(F47699,'Object Codes'!$A$18:$A$510,'Object Codes'!$G$18:$G$510)","v":"C"},{"$f":"_xlfn.XLOOKUP(A47699,Agencies!$A$9:$A$146,Agencies!$B$9:$B$146)","v":"Public Safety & Judicial"},{"$f":"IF(_xlfn.XLOOKUP(A47699,Agencies!A:A,Agencies!D:D)=\"Y\",IF(_xlfn.XLOOKUP(F47699,'Object Codes'!A:A,'Object Codes'!I:I)=\"Y\",\"Y\",\"N\"),\"N\")","v":"Y"},{"$f":"VLOOKUP(F47699,'Object Codes'!$A:$C,3,0)","v":"Full Year Positions"},{"$f":"VLOOKUP(A47699,Agencies!A:C,3,0)","v":"District Attorney - Richmond"},1007.027397260274]
["905",2022,"001","002","0101","100",0,0,0,100634,150634,0,0,0,0,0,121593.43,0,121593.43,121593.43,29040.57,121593.43,29040.57,121593.43,121593.43,29040.57,{"$f":"_xlfn.XLOOKUP(F47700,'Object Codes'!$A$18:$A$510,'Object Codes'!$H$18:$H$510)","v":"Supplies & Materials"},{"$f":"_xlfn.XLOOKUP(F47700,'Object Codes'!$A$18:$A$510,'Object Codes'!$G$18:$G$510)","v":"A"},{"$f":"_xlfn.XLOOKUP(A47700,Agencies!$A$9:$A$146,Agencies!$B$9:$B$146)","v":"Public Safety & Judicial"},{"$f":"IF(_xlfn.XLOOKUP(A47700,Agencies!A:A,Agencies!D:D)=\"Y\",IF(_xlfn.XLOOKUP(F47700,'Object Codes'!A:A,'Object Codes'!I:I)=\"Y\",\"Y\",\"N\"),\"N\")","v":"Y"},{"$f":"VLOOKUP(F47700,'Object Codes'!$A:$C,3,0)","v":"Supplies and Materials - General"},{"$f":"VLOOKUP(A47700,Agencies!A:C,3,0)","v":"District Attorney - Richmond"},333.13268493150684]
["905",2022,"001","002","0101","101",0,0,0,1512,1512,0,0,0,0,0,0,0,0,0,1512,0,1512,0,0,1512,{"$f":"_xlfn.XLOOKUP(F47701,'Object Codes'!$A$18:$A$510,'Object Codes'!$H$18:$H$510)","v":"Supplies & Materials"},{"$f":"_xlfn.XLOOKUP(F47701,'Object Codes'!$A$18:$A$510,'Object Codes'!$G$18:$G$510)","v":"A"},{"$f":"_xlfn.XLOOKUP(A47701,Agencies!$A$9:$A$146,Agencies!$B$9:$B$146)","v":"Public Safety & Judicial"},{"$f":"IF(_xlfn.XLOOKUP(A47701,Agencies!A:A,Agencies!D:D)=\"Y\",IF(_xlfn.XLOOKUP(F47701,'Object Codes'!A:A,'Object Codes'!I:I)=\"Y\",\"Y\",\"N\"),\"N\")","v":"Y"},{"$f":"VLOOKUP(F47701,'Object Codes'!$A:$C,3,0)","v":"Printing Supplies"},{"$f":"VLOOKUP(A47701,Agencies!A:C,3,0)","v":"District Attorney - Richmond"},0]
["905",2022,"001","002","0101","105",0,0,0,1500,1500,0,0,0,0,0,277,0,277,277,1223,277,1223,277,277,1223,{"$f":"_xlfn.XLOOKUP(F47702,'Object Codes'!$A$18:$A$510,'Object Codes'!$H$18:$H$510)","v":"Supplies & Materials"},{"$f":"_xlfn.XLOOKUP(F47702,'Object Codes'!$A$18:$A$510,'Object Codes'!$G$18:$G$510)","v":"A"},{"$f":"_xlfn.XLOOKUP(A47702,Agencies!$A$9:$A$146,Agencies!$B$9:$B$146)","v":"Public Safety & Judicial"},{"$f":"IF(_xlfn.XLOOKUP(A47702,Agencies!A:A,Agencies!D:D)=\"Y\",IF(_xlfn.XLOOKUP(F47702,'Object Codes'!A:A,'Object Codes'!I:I)=\"Y\",\"Y\",\"N\"),\"N\")","v":"Y"},{"$f":"VLOOKUP(F47702,'Object Codes'!$A:$C,3,0)","v":"Automotive Supplies and Materials"},{"$f":"VLOOKUP(A47702,Agencies!A:C,3,0)","v":"District Attorney - Richmond"},0.75890410958904109]
["905",2022,"001","002","0101","10F",0,0,0,0,36623,0,0,0,0,0,36623,0,36623,36623,0,36623,0,36623,36623,0,{"$f":"_xlfn.XLOOKUP(F47703,'Object Codes'!$A$18:$A$510,'Object Codes'!$H$18:$H$510)","v":"Supplies & Materials"},{"$f":"_xlfn.XLOOKUP(F47703,'Object Codes'!$A$18:$A$510,'Object Codes'!$G$18:$G$510)","v":"A"},{"$f":"_xlfn.XLOOKUP(A47703,Agencies!$A$9:$A$146,Agencies!$B$9:$B$146)","v":"Public Safety & Judicial"},{"$f":"IF(_xlfn.XLOOKUP(A47703,Agencies!A:A,Agencies!D:D)=\"Y\",IF(_xlfn.XLOOKUP(F47703,'Object Codes'!A:A,'Object Codes'!I:I)=\"Y\",\"Y\",\"N\"),\"N\")","v":"Y"},{"$f":"VLOOKUP(F47703,'Object Codes'!$A:$C,3,0)","v":"MOTOR VEHICLE FUEL"},{"$f":"VLOOKUP(A47703,Agencies!A:C,3,0)","v":"District Attorney - Richmond"},100.33698630136986]
["905",2022,"001","002","0101","110",0,0,0,0,7500,0,0,0,0,0,5694.18,0,5694.18,5694.18,1805.82,5694.18,1805.82,5694.18,5694.18,1805.82,{"$f":"_xlfn.XLOOKUP(F47704,'Object Codes'!$A$18:$A$510,'Object Codes'!$H$18:$H$510)","v":"Supplies & Materials"},{"$f":"_xlfn.XLOOKUP(F47704,'Object Codes'!$A$18:$A$510,'Object Codes'!$G$18:$G$510)","v":"A"},{"$f":"_xlfn.XLOOKUP(A47704,Agencies!$A$9:$A$146,Agencies!$B$9:$B$146)","v":"Public Safety & Judicial"},{"$f":"IF(_xlfn.XLOOKUP(A47704,Agencies!A:A,Agencies!D:D)=\"Y\",IF(_xlfn.XLOOKUP(F47704,'Object Codes'!A:A,'Object Codes'!I:I)=\"Y\",\"Y\",\"N\"),\"N\")","v":"Y"},{"$f":"VLOOKUP(F47704,'Object Codes'!$A:$C,3,0)","v":"Food and Forage Supplies"},{"$f":"VLOOKUP(A47704,Agencies!A:C,3,0)","v":"District Attorney - Richmond"},15.600493150684933]
["905",2022,"001","002","0101","117",0,0,0,16750,50250,0,0,0,0,0,19456.52,0,19456.52,19456.52,30793.48,19456.52,30793.48,19456.52,19456.52,30793.48,{"$f":"_xlfn.XLOOKUP(F47705,'Object Codes'!$A$18:$A$510,'Object Codes'!$H$18:$H$510)","v":"Supplies & Materials"},{"$f":"_xlfn.XLOOKUP(F47705,'Object Codes'!$A$18:$A$510,'Object Codes'!$G$18:$G$510)","v":"A"},{"$f":"_xlfn.XLOOKUP(A47705,Agencies!$A$9:$A$146,Agencies!$B$9:$B$146)","v":"Public Safety & Judicial"},{"$f":"IF(_xlfn.XLOOKUP(A47705,Agencies!A:A,Agencies!D:D)=\"Y\",IF(_xlfn.XLOOKUP(F47705,'Object Codes'!A:A,'Object Codes'!I:I)=\"Y\",\"Y\",\"N\"),\"N\")","v":"Y"},{"$f":"VLOOKUP(F47705,'Object Codes'!$A:$C,3,0)","v":"Postage"},{"$f":"VLOOKUP(A47705,Agencies!A:C,3,0)","v":"District Attorney - Richmond"},53.305534246575341]
["905",2022,"001","002","0101","169",0,0,0,0,350,0,0,0,0,0,316,0,316,316,34,316,34,316,316,34,{"$f":"_xlfn.XLOOKUP(F47706,'Object Codes'!$A$18:$A$510,'Object Codes'!$H$18:$H$510)","v":"Supplies & Materials"},{"$f":"_xlfn.XLOOKUP(F47706,'Object Codes'!$A$18:$A$510,'Object Codes'!$G$18:$G$510)","v":"A"},{"$f":"_xlfn.XLOOKUP(A47706,Agencies!$A$9:$A$146,Agencies!$B$9:$B$146)","v":"Public Safety & Judicial"},{"$f":"IF(_xlfn.XLOOKUP(A47706,Agencies!A:A,Agencies!D:D)=\"Y\",IF(_xlfn.XLOOKUP(F47706,'Object Codes'!A:A,'Object Codes'!I:I)=\"Y\",\"Y\",\"N\"),\"N\")","v":"Y"},{"$f":"VLOOKUP(F47706,'Object Codes'!$A:$C,3,0)","v":"Maintenance Supplies"},{"$f":"VLOOKUP(A47706,Agencies!A:C,3,0)","v":"District Attorney - Richmond"},0.86575342465753424]
["905",2022,"001","002","0101","199",0,0,0,47000,47000,0,0,0,0,0,22688.94,0,22688.94,22688.94,24311.06,22688.94,24311.06,22688.94,22688.94,24311.06,{"$f":"_xlfn.XLOOKUP(F47707,'Object Codes'!$A$18:$A$510,'Object Codes'!$H$18:$H$510)","v":"Supplies & Materials"},{"$f":"_xlfn.XLOOKUP(F47707,'Object Codes'!$A$18:$A$510,'Object Codes'!$G$18:$G$510)","v":"A"},{"$f":"_xlfn.XLOOKUP(A47707,Agencies!$A$9:$A$146,Agencies!$B$9:$B$146)","v":"Public Safety & Judicial"},{"$f":"IF(_xlfn.XLOOKUP(A47707,Agencies!A:A,Agencies!D:D)=\"Y\",IF(_xlfn.XLOOKUP(F47707,'Object Codes'!A:A,'Object Codes'!I:I)=\"Y\",\"Y\",\"N\"),\"N\")","v":"Y"},{"$f":"VLOOKUP(F47707,'Object Codes'!$A:$C,3,0)","v":"Data Processing Supplies"},{"$f":"VLOOKUP(A47707,Agencies!A:C,3,0)","v":"District Attorney - Richmond"},62.161479452054792]
["905",2022,"001","002","0101","300",0,0,0,19082,17582,0,0,0,0,0,10149.450000000001,0,10149.450000000001,10149.450000000001,7432.55,10149.450000000001,7432.55,10149.450000000001,10149.450000000001,7432.55,{"$f":"_xlfn.XLOOKUP(F47708,'Object Codes'!$A$18:$A$510,'Object Codes'!$H$18:$H$510)","v":"Equipment"},{"$f":"_xlfn.XLOOKUP(F47708,'Object Codes'!$A$18:$A$510,'Object Codes'!$G$18:$G$510)","v":"A"},{"$f":"_xlfn.XLOOKUP(A47708,Agencies!$A$9:$A$146,Agencies!$B$9:$B$146)","v":"Public Safety & Judicial"},{"$f":"IF(_xlfn.XLOOKUP(A47708,Agencies!A:A,Agencies!D:D)=\"Y\",IF(_xlfn.XLOOKUP(F47708,'Object Codes'!A:A,'Object Codes'!I:I)=\"Y\",\"Y\",\"N\"),\"N\")","v":"Y"},{"$f":"VLOOKUP(F47708,'Object Codes'!$A:$C,3,0)","v":"Equipment - General"},{"$f":"VLOOKUP(A47708,Agencies!A:C,3,0)","v":"District Attorney - Richmond"},27.806712328767127]
["905",2022,"001","002","0101","302",0,0,0,3420,3420,0,0,0,0,0,699.8,0,699.8,699.8,2720.2,699.8,2720.2,699.8,699.8,2720.2,{"$f":"_xlfn.XLOOKUP(F47709,'Object Codes'!$A$18:$A$510,'Object Codes'!$H$18:$H$510)","v":"Equipment"},{"$f":"_xlfn.XLOOKUP(F47709,'Object Codes'!$A$18:$A$510,'Object Codes'!$G$18:$G$510)","v":"A"},{"$f":"_xlfn.XLOOKUP(A47709,Agencies!$A$9:$A$146,Agencies!$B$9:$B$146)","v":"Public Safety & Judicial"},{"$f":"IF(_xlfn.XLOOKUP(A47709,Agencies!A:A,Agencies!D:D)=\"Y\",IF(_xlfn.XLOOKUP(F47709,'Object Codes'!A:A,'Object Codes'!I:I)=\"Y\",\"Y\",\"N\"),\"N\")","v":"Y"},{"$f":"VLOOKUP(F47709,'Object Codes'!$A:$C,3,0)","v":"Telecommunications Equipment"},{"$f":"VLOOKUP(A47709,Agencies!A:C,3,0)","v":"District Attorney - Richmond"},1.9172602739726026]
["905",2022,"001","002","0101","314",0,0,0,100000,63377,0,0,0,0,0,31772.3,0,31772.3,31772.3,31604.7,31772.3,31604.7,31772.3,31772.3,31604.7,{"$f":"_xlfn.XLOOKUP(F47710,'Object Codes'!$A$18:$A$510,'Object Codes'!$H$18:$H$510)","v":"Equipment"},{"$f":"_xlfn.XLOOKUP(F47710,'Object Codes'!$A$18:$A$510,'Object Codes'!$G$18:$G$510)","v":"A"},{"$f":"_xlfn.XLOOKUP(A47710,Agencies!$A$9:$A$146,Agencies!$B$9:$B$146)","v":"Public Safety & Judicial"},{"$f":"IF(_xlfn.XLOOKUP(A47710,Agencies!A:A,Agencies!D:D)=\"Y\",IF(_xlfn.XLOOKUP(F47710,'Object Codes'!A:A,'Object Codes'!I:I)=\"Y\",\"Y\",\"N\"),\"N\")","v":"Y"},{"$f":"VLOOKUP(F47710,'Object Codes'!$A:$C,3,0)","v":"Office Furniture"},{"$f":"VLOOKUP(A47710,Agencies!A:C,3,0)","v":"District Attorney - Richmond"},87.047397260273968]
["905",2022,"001","002","0101","315",0,0,0,0,1000,0,0,0,0,0,142.5,0,142.5,142.5,857.5,142.5,857.5,142.5,142.5,857.5,{"$f":"_xlfn.XLOOKUP(F47711,'Object Codes'!$A$18:$A$510,'Object Codes'!$H$18:$H$510)","v":"Equipment"},{"$f":"_xlfn.XLOOKUP(F47711,'Object Codes'!$A$18:$A$510,'Object Codes'!$G$18:$G$510)","v":"A"},{"$f":"_xlfn.XLOOKUP(A47711,Agencies!$A$9:$A$146,Agencies!$B$9:$B$146)","v":"Public Safety & Judicial"},{"$f":"IF(_xlfn.XLOOKUP(A47711,Agencies!A:A,Agencies!D:D)=\"Y\",IF(_xlfn.XLOOKUP(F47711,'Object Codes'!A:A,'Object Codes'!I:I)=\"Y\",\"Y\",\"N\"),\"N\")","v":"Y"},{"$f":"VLOOKUP(F47711,'Object Codes'!$A:$C,3,0)","v":"Office Equipment"},{"$f":"VLOOKUP(A47711,Agencies!A:C,3,0)","v":"District Attorney - Richmond"},0.3904109589041096]
["905",2022,"001","002","0101","319",0,0,0,500,500,0,0,0,0,0,0,0,0,0,500,0,500,0,0,500,{"$f":"_xlfn.XLOOKUP(F47712,'Object Codes'!$A$18:$A$510,'Object Codes'!$H$18:$H$510)","v":"Equipment"},{"$f":"_xlfn.XLOOKUP(F47712,'Object Codes'!$A$18:$A$510,'Object Codes'!$G$18:$G$510)","v":"A"},{"$f":"_xlfn.XLOOKUP(A47712,Agencies!$A$9:$A$146,Agencies!$B$9:$B$146)","v":"Public Safety & Judicial"},{"$f":"IF(_xlfn.XLOOKUP(A47712,Agencies!A:A,Agencies!D:D)=\"Y\",IF(_xlfn.XLOOKUP(F47712,'Object Codes'!A:A,'Object Codes'!I:I)=\"Y\",\"Y\",\"N\"),\"N\")","v":"Y"},{"$f":"VLOOKUP(F47712,'Object Codes'!$A:$C,3,0)","v":"Security Equipment"},{"$f":"VLOOKUP(A47712,Agencies!A:C,3,0)","v":"District Attorney - Richmond"},0]
["905",2022,"001","002","0101","330",0,0,0,0,500,0,0,0,0,0,135,0,135,135,365,135,365,135,135,365,{"$f":"_xlfn.XLOOKUP(F47713,'Object Codes'!$A$18:$A$510,'Object Codes'!$H$18:$H$510)","v":"Equipment"},{"$f":"_xlfn.XLOOKUP(F47713,'Object Codes'!$A$18:$A$510,'Object Codes'!$G$18:$G$510)","v":"P"},{"$f":"_xlfn.XLOOKUP(A47713,Agencies!$A$9:$A$146,Agencies!$B$9:$B$146)","v":"Public Safety & Judicial"},{"$f":"IF(_xlfn.XLOOKUP(A47713,Agencies!A:A,Agencies!D:D)=\"Y\",IF(_xlfn.XLOOKUP(F47713,'Object Codes'!A:A,'Object Codes'!I:I)=\"Y\",\"Y\",\"N\"),\"N\")","v":"Y"},{"$f":"VLOOKUP(F47713,'Object Codes'!$A:$C,3,0)","v":"Instructional Equipment"},{"$f":"VLOOKUP(A47713,Agencies!A:C,3,0)","v":"District Attorney - Richmond"},0.36986301369863012]
["905",2022,"001","002","0101","332",0,0,0,90580,26380,0,0,0,0,0,7653.83,0,7653.83,7653.83,18726.169999999998,7653.83,18726.169999999998,7653.83,7653.83,18726.169999999998,{"$f":"_xlfn.XLOOKUP(F47714,'Object Codes'!$A$18:$A$510,'Object Codes'!$H$18:$H$510)","v":"Equipment"},{"$f":"_xlfn.XLOOKUP(F47714,'Object Codes'!$A$18:$A$510,'Object Codes'!$G$18:$G$510)","v":"A"},{"$f":"_xlfn.XLOOKUP(A47714,Agencies!$A$9:$A$146,Agencies!$B$9:$B$146)","v":"Public Safety & Judicial"},{"$f":"IF(_xlfn.XLOOKUP(A47714,Agencies!A:A,Agencies!D:D)=\"Y\",IF(_xlfn.XLOOKUP(F47714,'Object Codes'!A:A,'Object Codes'!I:I)=\"Y\",\"Y\",\"N\"),\"N\")","v":"Y"},{"$f":"VLOOKUP(F47714,'Object Codes'!$A:$C,3,0)","v":"Purchases of Data Processing Equipment"},{"$f":"VLOOKUP(A47714,Agencies!A:C,3,0)","v":"District Attorney - Richmond"},20.969397260273972]
["905",2022,"001","002","0101","337",0,0,0,75500,116500,0,0,0,0,0,91918.34,0,91918.34,91918.34,24581.66,91918.34,24581.66,91918.34,91918.34,24581.66,{"$f":"_xlfn.XLOOKUP(F47715,'Object Codes'!$A$18:$A$510,'Object Codes'!$H$18:$H$510)","v":"Equipment"},{"$f":"_xlfn.XLOOKUP(F47715,'Object Codes'!$A$18:$A$510,'Object Codes'!$G$18:$G$510)","v":"A"},{"$f":"_xlfn.XLOOKUP(A47715,Agencies!$A$9:$A$146,Agencies!$B$9:$B$146)","v":"Public Safety & Judicial"},{"$f":"IF(_xlfn.XLOOKUP(A47715,Agencies!A:A,Agencies!D:D)=\"Y\",IF(_xlfn.XLOOKUP(F47715,'Object Codes'!A:A,'Object Codes'!I:I)=\"Y\",\"Y\",\"N\"),\"N\")","v":"Y"},{"$f":"VLOOKUP(F47715,'Object Codes'!$A:$C,3,0)","v":"Books - Other"},{"$f":"VLOOKUP(A47715,Agencies!A:C,3,0)","v":"District Attorney - Richmond"},251.83106849315067]
["905",2022,"001","002","0101","338",0,0,0,5000,5000,0,0,0,0,0,0,0,0,0,5000,0,5000,0,0,5000,{"$f":"_xlfn.XLOOKUP(F47716,'Object Codes'!$A$18:$A$510,'Object Codes'!$H$18:$H$510)","v":"Equipment"},{"$f":"_xlfn.XLOOKUP(F47716,'Object Codes'!$A$18:$A$510,'Object Codes'!$G$18:$G$510)","v":"A"},{"$f":"_xlfn.XLOOKUP(A47716,Agencies!$A$9:$A$146,Agencies!$B$9:$B$146)","v":"Public Safety & Judicial"},{"$f":"IF(_xlfn.XLOOKUP(A47716,Agencies!A:A,Agencies!D:D)=\"Y\",IF(_xlfn.XLOOKUP(F47716,'Object Codes'!A:A,'Object Codes'!I:I)=\"Y\",\"Y\",\"N\"),\"N\")","v":"Y"},{"$f":"VLOOKUP(F47716,'Object Codes'!$A:$C,3,0)","v":"Library Books"},{"$f":"VLOOKUP(A47716,Agencies!A:C,3,0)","v":"District Attorney - Richmond"},0]
["905",2022,"001","002","0101","400",0,0,0,553820,343023,0,0,0,0,0,219156.62,0,219156.62,219156.62,123866.38,219156.62,123866.38,219156.62,219156.62,123866.38,{"$f":"_xlfn.XLOOKUP(F47717,'Object Codes'!$A$18:$A$510,'Object Codes'!$H$18:$H$510)","v":"Other Services and Charges - General"},{"$f":"_xlfn.XLOOKUP(F47717,'Object Codes'!$A$18:$A$510,'Object Codes'!$G$18:$G$510)","v":0},{"$f":"_xlfn.XLOOKUP(A47717,Agencies!$A$9:$A$146,Agencies!$B$9:$B$146)","v":"Public Safety & Judicial"},{"$f":"IF(_xlfn.XLOOKUP(A47717,Agencies!A:A,Agencies!D:D)=\"Y\",IF(_xlfn.XLOOKUP(F47717,'Object Codes'!A:A,'Object Codes'!I:I)=\"Y\",\"Y\",\"N\"),\"N\")","v":"Y"},{"$f":"VLOOKUP(F47717,'Object Codes'!$A:$C,3,0)","v":"Other Services and Charges - General"},{"$f":"VLOOKUP(A47717,Agencies!A:C,3,0)","v":"District Attorney - Richmond"},600.42909589041096]
["905",2022,"001","002","0101","402",0,0,0,153783,153783,0,0,6094.24,0,0,94410,0,100504.24,94410,59373,94410,59373,94410,94410,59373,{"$f":"_xlfn.XLOOKUP(F47718,'Object Codes'!$A$18:$A$510,'Object Codes'!$H$18:$H$510)","v":"Other Services and Charges - General"},{"$f":"_xlfn.XLOOKUP(F47718,'Object Codes'!$A$18:$A$510,'Object Codes'!$G$18:$G$510)","v":0},{"$f":"_xlfn.XLOOKUP(A47718,Agencies!$A$9:$A$146,Agencies!$B$9:$B$146)","v":"Public Safety & Judicial"},{"$f":"IF(_xlfn.XLOOKUP(A47718,Agencies!A:A,Agencies!D:D)=\"Y\",IF(_xlfn.XLOOKUP(F47718,'Object Codes'!A:A,'Object Codes'!I:I)=\"Y\",\"Y\",\"N\"),\"N\")","v":"Y"},{"$f":"VLOOKUP(F47718,'Object Codes'!$A:$C,3,0)","v":"Telephone and Other Communications"},{"$f":"VLOOKUP(A47718,Agencies!A:C,3,0)","v":"District Attorney - Richmond"},275.35408219178083]
["905",2022,"001","002","0101","403",0,0,0,5500,30000,0,0,0,0,0,6038.65,0,6038.65,6038.65,23961.35,6038.65,23961.35,6038.65,6038.65,23961.35,{"$f":"_xlfn.XLOOKUP(F47719,'Object Codes'!$A$18:$A$510,'Object Codes'!$H$18:$H$510)","v":"Other Services and Charges - General"},{"$f":"_xlfn.XLOOKUP(F47719,'Object Codes'!$A$18:$A$510,'Object Codes'!$G$18:$G$510)","v":0},{"$f":"_xlfn.XLOOKUP(A47719,Agencies!$A$9:$A$146,Agencies!$B$9:$B$146)","v":"Public Safety & Judicial"},{"$f":"IF(_xlfn.XLOOKUP(A47719,Agencies!A:A,Agencies!D:D)=\"Y\",IF(_xlfn.XLOOKUP(F47719,'Object Codes'!A:A,'Object Codes'!I:I)=\"Y\",\"Y\",\"N\"),\"N\")","v":"Y"},{"$f":"VLOOKUP(F47719,'Object Codes'!$A:$C,3,0)","v":"Office Services"},{"$f":"VLOOKUP(A47719,Agencies!A:C,3,0)","v":"District Attorney - Richmond"},16.544246575342466]
["905",2022,"001","002","0101","40B",0,0,0,29551,82910,0,0,0,0,0,80134,0,80134,80134,2776,80134,2776,80134,80134,2776,{"$f":"_xlfn.XLOOKUP(F47720,'Object Codes'!$A$18:$A$510,'Object Codes'!$H$18:$H$510)","v":"Other Services and Charges - General"},{"$f":"_xlfn.XLOOKUP(F47720,'Object Codes'!$A$18:$A$510,'Object Codes'!$G$18:$G$510)","v":0},{"$f":"_xlfn.XLOOKUP(A47720,Agencies!$A$9:$A$146,Agencies!$B$9:$B$146)","v":"Public Safety & Judicial"},{"$f":"IF(_xlfn.XLOOKUP(A47720,Agencies!A:A,Agencies!D:D)=\"Y\",IF(_xlfn.XLOOKUP(F47720,'Object Codes'!A:A,'Object Codes'!I:I)=\"Y\",\"Y\",\"N\"),\"N\")","v":"Y"},{"$f":"VLOOKUP(F47720,'Object Codes'!$A:$C,3,0)","v":"TELEPHONE & OTHER COMMUNICATNS"},{"$f":"VLOOKUP(A47720,Agencies!A:C,3,0)","v":"District Attorney - Richmond"},219.54520547945205]
["905",2022,"001","002","0101","412",0,0,0,75000,75000,0,0,0,0,0,35262.14,0,35262.14,35262.14,39737.86,35262.14,39737.86,35262.14,35262.14,39737.86,{"$f":"_xlfn.XLOOKUP(F47721,'Object Codes'!$A$18:$A$510,'Object Codes'!$H$18:$H$510)","v":"Other Services and Charges - General"},{"$f":"_xlfn.XLOOKUP(F47721,'Object Codes'!$A$18:$A$510,'Object Codes'!$G$18:$G$510)","v":0},{"$f":"_xlfn.XLOOKUP(A47721,Agencies!$A$9:$A$146,Agencies!$B$9:$B$146)","v":"Public Safety & Judicial"},{"$f":"IF(_xlfn.XLOOKUP(A47721,Agencies!A:A,Agencies!D:D)=\"Y\",IF(_xlfn.XLOOKUP(F47721,'Object Codes'!A:A,'Object Codes'!I:I)=\"Y\",\"Y\",\"N\"),\"N\")","v":"Y"},{"$f":"VLOOKUP(F47721,'Object Codes'!$A:$C,3,0)","v":"Rentals - Miscellaneous Equipment"},{"$f":"VLOOKUP(A47721,Agencies!A:C,3,0)","v":"District Attorney - Richmond"},96.608602739726024]
["905",2022,"001","002","0101","414",0,0,0,319715,319715,0,0,0,0,0,169715,0,169715,169715,150000,169715,150000,169715,169715,150000,{"$f":"_xlfn.XLOOKUP(F47722,'Object Codes'!$A$18:$A$510,'Object Codes'!$H$18:$H$510)","v":"Leases"},{"$f":"_xlfn.XLOOKUP(F47722,'Object Codes'!$A$18:$A$510,'Object Codes'!$G$18:$G$510)","v":0},{"$f":"_xlfn.XLOOKUP(A47722,Agencies!$A$9:$A$146,Agencies!$B$9:$B$146)","v":"Public Safety & Judicial"},{"$f":"IF(_xlfn.XLOOKUP(A47722,Agencies!A:A,Agencies!D:D)=\"Y\",IF(_xlfn.XLOOKUP(F47722,'Object Codes'!A:A,'Object Codes'!I:I)=\"Y\",\"Y\",\"N\"),\"N\")","v":"Y"},{"$f":"VLOOKUP(F47722,'Object Codes'!$A:$C,3,0)","v":"Rentals - Land, Buildings and Structures"},{"$f":"VLOOKUP(A47722,Agencies!A:C,3,0)","v":"District Attorney - Richmond"},464.97260273972603]
["905",2022,"001","002","0101","417",0,0,0,6000,11000,0,0,0,0,0,6072.2,0,6072.2,6072.2,4927.8,6072.2,4927.8,6072.2,6072.2,4927.8,{"$f":"_xlfn.XLOOKUP(F47723,'Object Codes'!$A$18:$A$510,'Object Codes'!$H$18:$H$510)","v":"Other Services and Charges - General"},{"$f":"_xlfn.XLOOKUP(F47723,'Object Codes'!$A$18:$A$510,'Object Codes'!$G$18:$G$510)","v":0},{"$f":"_xlfn.XLOOKUP(A47723,Agencies!$A$9:$A$146,Agencies!$B$9:$B$146)","v":"Public Safety & Judicial"},{"$f":"IF(_xlfn.XLOOKUP(A47723,Agencies!A:A,Agencies!D:D)=\"Y\",IF(_xlfn.XLOOKUP(F47723,'Object Codes'!A:A,'Object Codes'!I:I)=\"Y\",\"Y\",\"N\"),\"N\")","v":"Y"},{"$f":"VLOOKUP(F47723,'Object Codes'!$A:$C,3,0)","v":"Advertising"},{"$f":"VLOOKUP(A47723,Agencies!A:C,3,0)","v":"District Attorney - Richmond"},16.636164383561642]
["905",2022,"001","002","0101","42C",0,0,0,130499,168123,0,0,0,0,0,142584.16,0,142584.16,142584.16,25538.84,142584.16,25538.84,142584.16,142584.16,25538.84,{"$f":"_xlfn.XLOOKUP(F47724,'Object Codes'!$A$18:$A$510,'Object Codes'!$H$18:$H$510)","v":"Heat, Light, and Power"},{"$f":"_xlfn.XLOOKUP(F47724,'Object Codes'!$A$18:$A$510,'Object Codes'!$G$18:$G$510)","v":0},{"$f":"_xlfn.XLOOKUP(A47724,Agencies!$A$9:$A$146,Agencies!$B$9:$B$146)","v":"Public Safety & Judicial"},{"$f":"IF(_xlfn.XLOOKUP(A47724,Agencies!A:A,Agencies!D:D)=\"Y\",IF(_xlfn.XLOOKUP(F47724,'Object Codes'!A:A,'Object Codes'!I:I)=\"Y\",\"Y\",\"N\"),\"N\")","v":"Y"},{"$f":"VLOOKUP(F47724,'Object Codes'!$A:$C,3,0)","v":"HEAT LIGHT & POWER"},{"$f":"VLOOKUP(A47724,Agencies!A:C,3,0)","v":"District Attorney - Richmond"},390.64153424657536]
["905",2022,"001","002","0101","451",0,0,0,1000,14297,0,0,0,0,0,11816.34,0,11816.34,11816.34,2480.66,11816.34,2480.66,11816.34,11816.34,2480.66,{"$f":"_xlfn.XLOOKUP(F47725,'Object Codes'!$A$18:$A$510,'Object Codes'!$H$18:$H$510)","v":"Other Services and Charges - General"},{"$f":"_xlfn.XLOOKUP(F47725,'Object Codes'!$A$18:$A$510,'Object Codes'!$G$18:$G$510)","v":0},{"$f":"_xlfn.XLOOKUP(A47725,Agencies!$A$9:$A$146,Agencies!$B$9:$B$146)","v":"Public Safety & Judicial"},{"$f":"IF(_xlfn.XLOOKUP(A47725,Agencies!A:A,Agencies!D:D)=\"Y\",IF(_xlfn.XLOOKUP(F47725,'Object Codes'!A:A,'Object Codes'!I:I)=\"Y\",\"Y\",\"N\"),\"N\")","v":"Y"},{"$f":"VLOOKUP(F47725,'Object Codes'!$A:$C,3,0)","v":"Non Overnight Travel Expenditures - General"},{"$f":"VLOOKUP(A47725,Agencies!A:C,3,0)","v":"District Attorney - Richmond"},32.373534246575346]
["905",2022,"001","002","0101","452",0,0,0,2000,2000,0,0,0,0,0,0,0,0,0,2000,0,2000,0,0,2000,{"$f":"_xlfn.XLOOKUP(F47726,'Object Codes'!$A$18:$A$510,'Object Codes'!$H$18:$H$510)","v":"Other Services and Charges - General"},{"$f":"_xlfn.XLOOKUP(F47726,'Object Codes'!$A$18:$A$510,'Object Codes'!$G$18:$G$510)","v":0},{"$f":"_xlfn.XLOOKUP(A47726,Agencies!$A$9:$A$146,Agencies!$B$9:$B$146)","v":"Public Safety & Judicial"},{"$f":"IF(_xlfn.XLOOKUP(A47726,Agencies!A:A,Agencies!D:D)=\"Y\",IF(_xlfn.XLOOKUP(F47726,'Object Codes'!A:A,'Object Codes'!I:I)=\"Y\",\"Y\",\"N\"),\"N\")","v":"Y"},{"$f":"VLOOKUP(F47726,'Object Codes'!$A:$C,3,0)","v":"Non Overnight Travel Expenditures - Special"},{"$f":"VLOOKUP(A47726,Agencies!A:C,3,0)","v":"District Attorney - Richmond"},0]
["905",2022,"001","002","0101","460",0,0,0,68514,74155,0,0,0,0,0,60959.519999999997,0,60959.519999999997,60959.519999999997,13195.48,60959.519999999997,13195.48,60959.519999999997,60959.519999999997,13195.48,{"$f":"_xlfn.XLOOKUP(F47727,'Object Codes'!$A$18:$A$510,'Object Codes'!$H$18:$H$510)","v":"Other Services and Charges - General"},{"$f":"_xlfn.XLOOKUP(F47727,'Object Codes'!$A$18:$A$510,'Object Codes'!$G$18:$G$510)","v":0},{"$f":"_xlfn.XLOOKUP(A47727,Agencies!$A$9:$A$146,Agencies!$B$9:$B$146)","v":"Public Safety & Judicial"},{"$f":"IF(_xlfn.XLOOKUP(A47727,Agencies!A:A,Agencies!D:D)=\"Y\",IF(_xlfn.XLOOKUP(F47727,'Object Codes'!A:A,'Object Codes'!I:I)=\"Y\",\"Y\",\"N\"),\"N\")","v":"Y"},{"$f":"VLOOKUP(F47727,'Object Codes'!$A:$C,3,0)","v":"Special Expenditures"},{"$f":"VLOOKUP(A47727,Agencies!A:C,3,0)","v":"District Attorney - Richmond"},167.01238356164382]
["905",2022,"001","002","0101","465",0,0,0,179769,115769,0,0,0,0,0,83618.19,0,83618.19,83618.19,32150.81,83618.19,32150.81,83618.19,83618.19,32150.81,{"$f":"_xlfn.XLOOKUP(F47728,'Object Codes'!$A$18:$A$510,'Object Codes'!$H$18:$H$510)","v":"Other Services and Charges - General"},{"$f":"_xlfn.XLOOKUP(F47728,'Object Codes'!$A$18:$A$510,'Object Codes'!$G$18:$G$510)","v":0},{"$f":"_xlfn.XLOOKUP(A47728,Agencies!$A$9:$A$146,Agencies!$B$9:$B$146)","v":"Public Safety & Judicial"},{"$f":"IF(_xlfn.XLOOKUP(A47728,Agencies!A:A,Agencies!D:D)=\"Y\",IF(_xlfn.XLOOKUP(F47728,'Object Codes'!A:A,'Object Codes'!I:I)=\"Y\",\"Y\",\"N\"),\"N\")","v":"Y"},{"$f":"VLOOKUP(F47728,'Object Codes'!$A:$C,3,0)","v":"Obligatory County Expenditures"},{"$f":"VLOOKUP(A47728,Agencies!A:C,3,0)","v":"District Attorney - Richmond"},229.09093150684933]
["905",2022,"001","002","0101","600",0,0,0,2000,2000,0,0,0,0,0,0,0,0,0,2000,0,2000,0,0,2000,{"$f":"_xlfn.XLOOKUP(F47729,'Object Codes'!$A$18:$A$510,'Object Codes'!$H$18:$H$510)","v":"Contractual Services"},{"$f":"_xlfn.XLOOKUP(F47729,'Object Codes'!$A$18:$A$510,'Object Codes'!$G$18:$G$510)","v":0},{"$f":"_xlfn.XLOOKUP(A47729,Agencies!$A$9:$A$146,Agencies!$B$9:$B$146)","v":"Public Safety & Judicial"},{"$f":"IF(_xlfn.XLOOKUP(A47729,Agencies!A:A,Agencies!D:D)=\"Y\",IF(_xlfn.XLOOKUP(F47729,'Object Codes'!A:A,'Object Codes'!I:I)=\"Y\",\"Y\",\"N\"),\"N\")","v":"Y"},{"$f":"VLOOKUP(F47729,'Object Codes'!$A:$C,3,0)","v":"Contractual Services - General"},{"$f":"VLOOKUP(A47729,Agencies!A:C,3,0)","v":"District Attorney - Richmond"},0]
["905",2022,"001","002","0101","607",0,0,0,20000,14850,0,0,0,0,0,805.67,0,805.67,805.67,14044.33,805.67,14044.33,805.67,805.67,14044.33,{"$f":"_xlfn.XLOOKUP(F47730,'Object Codes'!$A$18:$A$510,'Object Codes'!$H$18:$H$510)","v":"Contractual Services"},{"$f":"_xlfn.XLOOKUP(F47730,'Object Codes'!$A$18:$A$510,'Object Codes'!$G$18:$G$510)","v":0},{"$f":"_xlfn.XLOOKUP(A47730,Agencies!$A$9:$A$146,Agencies!$B$9:$B$146)","v":"Public Safety & Judicial"},{"$f":"IF(_xlfn.XLOOKUP(A47730,Agencies!A:A,Agencies!D:D)=\"Y\",IF(_xlfn.XLOOKUP(F47730,'Object Codes'!A:A,'Object Codes'!I:I)=\"Y\",\"Y\",\"N\"),\"N\")","v":"Y"},{"$f":"VLOOKUP(F47730,'Object Codes'!$A:$C,3,0)","v":"Maintenance and Repairs - Motor Vehicle Equipment - Contractual"},{"$f":"VLOOKUP(A47730,Agencies!A:C,3,0)","v":"District Attorney - Richmond"},2.2073150684931506]
["905",2022,"001","002","0101","608",0,0,0,3000,16000,0,0,0,0,0,14686,0,14686,14686,1314,14686,1314,14686,14686,1314,{"$f":"_xlfn.XLOOKUP(F47731,'Object Codes'!$A$18:$A$510,'Object Codes'!$H$18:$H$510)","v":"Contractual Services"},{"$f":"_xlfn.XLOOKUP(F47731,'Object Codes'!$A$18:$A$510,'Object Codes'!$G$18:$G$510)","v":0},{"$f":"_xlfn.XLOOKUP(A47731,Agencies!$A$9:$A$146,Agencies!$B$9:$B$146)","v":"Public Safety & Judicial"},{"$f":"IF(_xlfn.XLOOKUP(A47731,Agencies!A:A,Agencies!D:D)=\"Y\",IF(_xlfn.XLOOKUP(F47731,'Object Codes'!A:A,'Object Codes'!I:I)=\"Y\",\"Y\",\"N\"),\"N\")","v":"Y"},{"$f":"VLOOKUP(F47731,'Object Codes'!$A:$C,3,0)","v":"Maintenance and Repairs - General - Contractual"},{"$f":"VLOOKUP(A47731,Agencies!A:C,3,0)","v":"District Attorney - Richmond"},40.235616438356168]
["905",2022,"001","002","0101","612",0,0,0,76000,16400,0,0,0,0,0,7430,0,7430,7430,8970,7430,8970,7430,7430,8970,{"$f":"_xlfn.XLOOKUP(F47732,'Object Codes'!$A$18:$A$510,'Object Codes'!$H$18:$H$510)","v":"Contractual Services"},{"$f":"_xlfn.XLOOKUP(F47732,'Object Codes'!$A$18:$A$510,'Object Codes'!$G$18:$G$510)","v":0},{"$f":"_xlfn.XLOOKUP(A47732,Agencies!$A$9:$A$146,Agencies!$B$9:$B$146)","v":"Public Safety & Judicial"},{"$f":"IF(_xlfn.XLOOKUP(A47732,Agencies!A:A,Agencies!D:D)=\"Y\",IF(_xlfn.XLOOKUP(F47732,'Object Codes'!A:A,'Object Codes'!I:I)=\"Y\",\"Y\",\"N\"),\"N\")","v":"Y"},{"$f":"VLOOKUP(F47732,'Object Codes'!$A:$C,3,0)","v":"Office Equipment Maintenance - Contractual"},{"$f":"VLOOKUP(A47732,Agencies!A:C,3,0)","v":"District Attorney - Richmond"},20.356164383561644]
["905",2022,"001","002","0101","613",0,0,0,5000,5000,0,0,0,0,0,0,0,0,0,5000,0,5000,0,0,5000,{"$f":"_xlfn.XLOOKUP(F47733,'Object Codes'!$A$18:$A$510,'Object Codes'!$H$18:$H$510)","v":"Contractual Services"},{"$f":"_xlfn.XLOOKUP(F47733,'Object Codes'!$A$18:$A$510,'Object Codes'!$G$18:$G$510)","v":0},{"$f":"_xlfn.XLOOKUP(A47733,Agencies!$A$9:$A$146,Agencies!$B$9:$B$146)","v":"Public Safety & Judicial"},{"$f":"IF(_xlfn.XLOOKUP(A47733,Agencies!A:A,Agencies!D:D)=\"Y\",IF(_xlfn.XLOOKUP(F47733,'Object Codes'!A:A,'Object Codes'!I:I)=\"Y\",\"Y\",\"N\"),\"N\")","v":"Y"},{"$f":"VLOOKUP(F47733,'Object Codes'!$A:$C,3,0)","v":"Data Processing Equipment Maintenance - Contractual"},{"$f":"VLOOKUP(A47733,Agencies!A:C,3,0)","v":"District Attorney - Richmond"},0]
["905",2022,"001","002","0101","615",0,0,0,0,38300,0,0,0,0,0,38502.65,0,38502.65,38502.65,-202.65,38502.65,-202.65,38502.65,38502.65,-202.65,{"$f":"_xlfn.XLOOKUP(F47734,'Object Codes'!$A$18:$A$510,'Object Codes'!$H$18:$H$510)","v":"Contractual Services"},{"$f":"_xlfn.XLOOKUP(F47734,'Object Codes'!$A$18:$A$510,'Object Codes'!$G$18:$G$510)","v":0},{"$f":"_xlfn.XLOOKUP(A47734,Agencies!$A$9:$A$146,Agencies!$B$9:$B$146)","v":"Public Safety & Judicial"},{"$f":"IF(_xlfn.XLOOKUP(A47734,Agencies!A:A,Agencies!D:D)=\"Y\",IF(_xlfn.XLOOKUP(F47734,'Object Codes'!A:A,'Object Codes'!I:I)=\"Y\",\"Y\",\"N\"),\"N\")","v":"Y"},{"$f":"VLOOKUP(F47734,'Object Codes'!$A:$C,3,0)","v":"Printing Services - Contractual"},{"$f":"VLOOKUP(A47734,Agencies!A:C,3,0)","v":"District Attorney - Richmond"},105.48671232876713]
["905",2022,"001","002","0101","622",0,0,0,5000,0,0,0,0,0,0,0,0,0,0,0,0,0,0,0,0,{"$f":"_xlfn.XLOOKUP(F47735,'Object Codes'!$A$18:$A$510,'Object Codes'!$H$18:$H$510)","v":"Contractual Services"},{"$f":"_xlfn.XLOOKUP(F47735,'Object Codes'!$A$18:$A$510,'Object Codes'!$G$18:$G$510)","v":0},{"$f":"_xlfn.XLOOKUP(A47735,Agencies!$A$9:$A$146,Agencies!$B$9:$B$146)","v":"Public Safety & Judicial"},{"$f":"IF(_xlfn.XLOOKUP(A47735,Agencies!A:A,Agencies!D:D)=\"Y\",IF(_xlfn.XLOOKUP(F47735,'Object Codes'!A:A,'Object Codes'!I:I)=\"Y\",\"Y\",\"N\"),\"N\")","v":"Y"},{"$f":"VLOOKUP(F47735,'Object Codes'!$A:$C,3,0)","v":"Temporary Services - Contractual"},{"$f":"VLOOKUP(A47735,Agencies!A:C,3,0)","v":"District Attorney - Richmond"},0]
["905",2022,"001","002","0101","624",0,0,0,0,4200,0,0,0,0,0,4200,0,4200,4200,0,4200,0,4200,4200,0,{"$f":"_xlfn.XLOOKUP(F47736,'Object Codes'!$A$18:$A$510,'Object Codes'!$H$18:$H$510)","v":"Contractual Services"},{"$f":"_xlfn.XLOOKUP(F47736,'Object Codes'!$A$18:$A$510,'Object Codes'!$G$18:$G$510)","v":0},{"$f":"_xlfn.XLOOKUP(A47736,Agencies!$A$9:$A$146,Agencies!$B$9:$B$146)","v":"Public Safety & Judicial"},{"$f":"IF(_xlfn.XLOOKUP(A47736,Agencies!A:A,Agencies!D:D)=\"Y\",IF(_xlfn.XLOOKUP(F47736,'Object Codes'!A:A,'Object Codes'!I:I)=\"Y\",\"Y\",\"N\"),\"N\")","v":"Y"},{"$f":"VLOOKUP(F47736,'Object Codes'!$A:$C,3,0)","v":"Cleaning Services - Contractual"},{"$f":"VLOOKUP(A47736,Agencies!A:C,3,0)","v":"District Attorney - Richmond"},11.506849315068493]
["905",2022,"001","002","0101","686",0,0,0,57000,0,0,0,0,0,0,0,0,0,0,0,0,0,0,0,0,{"$f":"_xlfn.XLOOKUP(F47737,'Object Codes'!$A$18:$A$510,'Object Codes'!$H$18:$H$510)","v":"Contractual Services"},{"$f":"_xlfn.XLOOKUP(F47737,'Object Codes'!$A$18:$A$510,'Object Codes'!$G$18:$G$510)","v":0},{"$f":"_xlfn.XLOOKUP(A47737,Agencies!$A$9:$A$146,Agencies!$B$9:$B$146)","v":"Public Safety & Judicial"},{"$f":"IF(_xlfn.XLOOKUP(A47737,Agencies!A:A,Agencies!D:D)=\"Y\",IF(_xlfn.XLOOKUP(F47737,'Object Codes'!A:A,'Object Codes'!I:I)=\"Y\",\"Y\",\"N\"),\"N\")","v":"Y"},{"$f":"VLOOKUP(F47737,'Object Codes'!$A:$C,3,0)","v":"Professional Services - Other - Contractual"},{"$f":"VLOOKUP(A47737,Agencies!A:C,3,0)","v":"District Attorney - Richmond"},0]
["905",2022,"001","002","0101","732",0,0,0,0,1500,0,0,0,0,0,1197.8399999999999,0,1197.8399999999999,1197.8399999999999,302.16000000000003,1197.8399999999999,302.16000000000003,1197.8399999999999,1197.8399999999999,302.16000000000003,{"$f":"_xlfn.XLOOKUP(F47738,'Object Codes'!$A$18:$A$510,'Object Codes'!$H$18:$H$510)","v":"Fixed Charges"},{"$f":"_xlfn.XLOOKUP(F47738,'Object Codes'!$A$18:$A$510,'Object Codes'!$G$18:$G$510)","v":0},{"$f":"_xlfn.XLOOKUP(A47738,Agencies!$A$9:$A$146,Agencies!$B$9:$B$146)","v":"Public Safety & Judicial"},{"$f":"IF(_xlfn.XLOOKUP(A47738,Agencies!A:A,Agencies!D:D)=\"Y\",IF(_xlfn.XLOOKUP(F47738,'Object Codes'!A:A,'Object Codes'!I:I)=\"Y\",\"Y\",\"N\"),\"N\")","v":"Y"},{"$f":"VLOOKUP(F47738,'Object Codes'!$A:$C,3,0)","v":"Miscellaneous Awards"},{"$f":"VLOOKUP(A47738,Agencies!A:C,3,0)","v":"District Attorney - Richmond"},3.2817534246575342]
["905",2022,"001","002","0101","771",0,0,0,0,3700,0,0,0,0,0,1212.47,0,1212.47,1212.47,2487.5300000000002,1212.47,2487.5300000000002,1212.47,1212.47,2487.5300000000002,{"$f":"_xlfn.XLOOKUP(F47739,'Object Codes'!$A$18:$A$510,'Object Codes'!$H$18:$H$510)","v":"Fixed Charges"},{"$f":"_xlfn.XLOOKUP(F47739,'Object Codes'!$A$18:$A$510,'Object Codes'!$G$18:$G$510)","v":0},{"$f":"_xlfn.XLOOKUP(A47739,Agencies!$A$9:$A$146,Agencies!$B$9:$B$146)","v":"Public Safety & Judicial"},{"$f":"IF(_xlfn.XLOOKUP(A47739,Agencies!A:A,Agencies!D:D)=\"Y\",IF(_xlfn.XLOOKUP(F47739,'Object Codes'!A:A,'Object Codes'!I:I)=\"Y\",\"Y\",\"N\"),\"N\")","v":"Y"},{"$f":"VLOOKUP(F47739,'Object Codes'!$A:$C,3,0)","v":"Payments to Military and Other Units"},{"$f":"VLOOKUP(A47739,Agencies!A:C,3,0)","v":"District Attorney - Richmond"},3.3218356164383565]
["905",2022,"001","002","0101","79D",0,0,0,0,900,0,0,0,0,0,900,0,900,900,0,900,0,900,900,0,{"$f":"_xlfn.XLOOKUP(F47740,'Object Codes'!$A$18:$A$510,'Object Codes'!$H$18:$H$510)","v":"Fixed Charges"},{"$f":"_xlfn.XLOOKUP(F47740,'Object Codes'!$A$18:$A$510,'Object Codes'!$G$18:$G$510)","v":0},{"$f":"_xlfn.XLOOKUP(A47740,Agencies!$A$9:$A$146,Agencies!$B$9:$B$146)","v":"Public Safety & Judicial"},{"$f":"IF(_xlfn.XLOOKUP(A47740,Agencies!A:A,Agencies!D:D)=\"Y\",IF(_xlfn.XLOOKUP(F47740,'Object Codes'!A:A,'Object Codes'!I:I)=\"Y\",\"Y\",\"N\"),\"N\")","v":"Y"},{"$f":"VLOOKUP(F47740,'Object Codes'!$A:$C,3,0)","v":"TRAINING CITY EMPLOYEES"},{"$f":"VLOOKUP(A47740,Agencies!A:C,3,0)","v":"District Attorney - Richmond"},2.4657534246575343]
["905",2022,"001","002","0102","400",0,0,0,250000,250000,0,0,0,0,0,250000,0,250000,250000,0,250000,0,250000,250000,0,{"$f":"_xlfn.XLOOKUP(F47741,'Object Codes'!$A$18:$A$510,'Object Codes'!$H$18:$H$510)","v":"Other Services and Charges - General"},{"$f":"_xlfn.XLOOKUP(F47741,'Object Codes'!$A$18:$A$510,'Object Codes'!$G$18:$G$510)","v":0},{"$f":"_xlfn.XLOOKUP(A47741,Agencies!$A$9:$A$146,Agencies!$B$9:$B$146)","v":"Public Safety & Judicial"},{"$f":"IF(_xlfn.XLOOKUP(A47741,Agencies!A:A,Agencies!D:D)=\"Y\",IF(_xlfn.XLOOKUP(F47741,'Object Codes'!A:A,'Object Codes'!I:I)=\"Y\",\"Y\",\"N\"),\"N\")","v":"Y"},{"$f":"VLOOKUP(F47741,'Object Codes'!$A:$C,3,0)","v":"Other Services and Charges - General"},{"$f":"VLOOKUP(A47741,Agencies!A:C,3,0)","v":"District Attorney - Richmond"},684.93150684931504]
["905",2022,"001","002","0103","460",0,0,0,185094,30094,0,0,0,0,0,23452.23,0,23452.23,23452.23,6641.77,23452.23,6641.77,23452.23,23452.23,6641.77,{"$f":"_xlfn.XLOOKUP(F47742,'Object Codes'!$A$18:$A$510,'Object Codes'!$H$18:$H$510)","v":"Other Services and Charges - General"},{"$f":"_xlfn.XLOOKUP(F47742,'Object Codes'!$A$18:$A$510,'Object Codes'!$G$18:$G$510)","v":0},{"$f":"_xlfn.XLOOKUP(A47742,Agencies!$A$9:$A$146,Agencies!$B$9:$B$146)","v":"Public Safety & Judicial"},{"$f":"IF(_xlfn.XLOOKUP(A47742,Agencies!A:A,Agencies!D:D)=\"Y\",IF(_xlfn.XLOOKUP(F47742,'Object Codes'!A:A,'Object Codes'!I:I)=\"Y\",\"Y\",\"N\"),\"N\")","v":"Y"},{"$f":"VLOOKUP(F47742,'Object Codes'!$A:$C,3,0)","v":"Special Expenditures"},{"$f":"VLOOKUP(A47742,Agencies!A:C,3,0)","v":"District Attorney - Richmond"},64.252684931506849]
["905",2022,"001","002","0446","400",0,0,0,330000,330000,0,0,0,0,0,330000,0,330000,330000,0,330000,0,330000,330000,0,{"$f":"_xlfn.XLOOKUP(F47743,'Object Codes'!$A$18:$A$510,'Object Codes'!$H$18:$H$510)","v":"Other Services and Charges - General"},{"$f":"_xlfn.XLOOKUP(F47743,'Object Codes'!$A$18:$A$510,'Object Codes'!$G$18:$G$510)","v":0},{"$f":"_xlfn.XLOOKUP(A47743,Agencies!$A$9:$A$146,Agencies!$B$9:$B$146)","v":"Public Safety & Judicial"},{"$f":"IF(_xlfn.XLOOKUP(A47743,Agencies!A:A,Agencies!D:D)=\"Y\",IF(_xlfn.XLOOKUP(F47743,'Object Codes'!A:A,'Object Codes'!I:I)=\"Y\",\"Y\",\"N\"),\"N\")","v":"Y"},{"$f":"VLOOKUP(F47743,'Object Codes'!$A:$C,3,0)","v":"Other Services and Charges - General"},{"$f":"VLOOKUP(A47743,Agencies!A:C,3,0)","v":"District Attorney - Richmond"},904.10958904109589]
["905",2022,"001","002","0449","460",0,0,0,0,4557,0,0,0,0,0,4556.88,0,4556.88,4556.88,0.12,4556.88,0.12,4556.88,4556.88,0.12,{"$f":"_xlfn.XLOOKUP(F47744,'Object Codes'!$A$18:$A$510,'Object Codes'!$H$18:$H$510)","v":"Other Services and Charges - General"},{"$f":"_xlfn.XLOOKUP(F47744,'Object Codes'!$A$18:$A$510,'Object Codes'!$G$18:$G$510)","v":0},{"$f":"_xlfn.XLOOKUP(A47744,Agencies!$A$9:$A$146,Agencies!$B$9:$B$146)","v":"Public Safety & Judicial"},{"$f":"IF(_xlfn.XLOOKUP(A47744,Agencies!A:A,Agencies!D:D)=\"Y\",IF(_xlfn.XLOOKUP(F47744,'Object Codes'!A:A,'Object Codes'!I:I)=\"Y\",\"Y\",\"N\"),\"N\")","v":"Y"},{"$f":"VLOOKUP(F47744,'Object Codes'!$A:$C,3,0)","v":"Special Expenditures"},{"$f":"VLOOKUP(A47744,Agencies!A:C,3,0)","v":"District Attorney - Richmond"},12.484602739726027]
["905",2022,"001","002","0501","412",0,0,0,4088,4088,0,0,0,0,0,3360,0,3360,3360,728,3360,728,3360,3360,728,{"$f":"_xlfn.XLOOKUP(F47745,'Object Codes'!$A$18:$A$510,'Object Codes'!$H$18:$H$510)","v":"Other Services and Charges - General"},{"$f":"_xlfn.XLOOKUP(F47745,'Object Codes'!$A$18:$A$510,'Object Codes'!$G$18:$G$510)","v":0},{"$f":"_xlfn.XLOOKUP(A47745,Agencies!$A$9:$A$146,Agencies!$B$9:$B$146)","v":"Public Safety & Judicial"},{"$f":"IF(_xlfn.XLOOKUP(A47745,Agencies!A:A,Agencies!D:D)=\"Y\",IF(_xlfn.XLOOKUP(F47745,'Object Codes'!A:A,'Object Codes'!I:I)=\"Y\",\"Y\",\"N\"),\"N\")","v":"Y"},{"$f":"VLOOKUP(F47745,'Object Codes'!$A:$C,3,0)","v":"Rentals - Miscellaneous Equipment"},{"$f":"VLOOKUP(A47745,Agencies!A:C,3,0)","v":"District Attorney - Richmond"},9.205479452054794]
["905",2022,"001","002","0625","400",0,0,0,0,54175,0,0,0,0,0,54175,0,54175,54175,0,54175,0,54175,54175,0,{"$f":"_xlfn.XLOOKUP(F47746,'Object Codes'!$A$18:$A$510,'Object Codes'!$H$18:$H$510)","v":"Other Services and Charges - General"},{"$f":"_xlfn.XLOOKUP(F47746,'Object Codes'!$A$18:$A$510,'Object Codes'!$G$18:$G$510)","v":0},{"$f":"_xlfn.XLOOKUP(A47746,Agencies!$A$9:$A$146,Agencies!$B$9:$B$146)","v":"Public Safety & Judicial"},{"$f":"IF(_xlfn.XLOOKUP(A47746,Agencies!A:A,Agencies!D:D)=\"Y\",IF(_xlfn.XLOOKUP(F47746,'Object Codes'!A:A,'Object Codes'!I:I)=\"Y\",\"Y\",\"N\"),\"N\")","v":"Y"},{"$f":"VLOOKUP(F47746,'Object Codes'!$A:$C,3,0)","v":"Other Services and Charges - General"},{"$f":"VLOOKUP(A47746,Agencies!A:C,3,0)","v":"District Attorney - Richmond"},148.42465753424656]
["905",2022,"001","002","3200","400",0,0,0,0,115917,0,0,0,0,0,84109.43,0,84109.43,84109.43,31807.57,84109.43,31807.57,84109.43,84109.43,31807.57,{"$f":"_xlfn.XLOOKUP(F47747,'Object Codes'!$A$18:$A$510,'Object Codes'!$H$18:$H$510)","v":"Other Services and Charges - General"},{"$f":"_xlfn.XLOOKUP(F47747,'Object Codes'!$A$18:$A$510,'Object Codes'!$G$18:$G$510)","v":0},{"$f":"_xlfn.XLOOKUP(A47747,Agencies!$A$9:$A$146,Agencies!$B$9:$B$146)","v":"Public Safety & Judicial"},{"$f":"IF(_xlfn.XLOOKUP(A47747,Agencies!A:A,Agencies!D:D)=\"Y\",IF(_xlfn.XLOOKUP(F47747,'Object Codes'!A:A,'Object Codes'!I:I)=\"Y\",\"Y\",\"N\"),\"N\")","v":"Y"},{"$f":"VLOOKUP(F47747,'Object Codes'!$A:$C,3,0)","v":"Other Services and Charges - General"},{"$f":"VLOOKUP(A47747,Agencies!A:C,3,0)","v":"District Attorney - Richmond"},230.43679452054792]
["905",2022,"001","002","4001","460",0,0,0,0,187724,0,0,0,0,0,187723.18,0,187723.18,187723.18,0.82,187723.18,0.82,187723.18,187723.18,0.82,{"$f":"_xlfn.XLOOKUP(F47748,'Object Codes'!$A$18:$A$510,'Object Codes'!$H$18:$H$510)","v":"Other Services and Charges - General"},{"$f":"_xlfn.XLOOKUP(F47748,'Object Codes'!$A$18:$A$510,'Object Codes'!$G$18:$G$510)","v":0},{"$f":"_xlfn.XLOOKUP(A47748,Agencies!$A$9:$A$146,Agencies!$B$9:$B$146)","v":"Public Safety & Judicial"},{"$f":"IF(_xlfn.XLOOKUP(A47748,Agencies!A:A,Agencies!D:D)=\"Y\",IF(_xlfn.XLOOKUP(F47748,'Object Codes'!A:A,'Object Codes'!I:I)=\"Y\",\"Y\",\"N\"),\"N\")","v":"Y"},{"$f":"VLOOKUP(F47748,'Object Codes'!$A:$C,3,0)","v":"Special Expenditures"},{"$f":"VLOOKUP(A47748,Agencies!A:C,3,0)","v":"District Attorney - Richmond"},514.31008219178079]
["905",2022,"001","002","9001","199",0,0,0,0,475000,0,0,0,0,0,212028.9,0,212028.9,212028.9,262971.09999999998,212028.9,262971.09999999998,212028.9,212028.9,262971.09999999998,{"$f":"_xlfn.XLOOKUP(F47749,'Object Codes'!$A$18:$A$510,'Object Codes'!$H$18:$H$510)","v":"Supplies & Materials"},{"$f":"_xlfn.XLOOKUP(F47749,'Object Codes'!$A$18:$A$510,'Object Codes'!$G$18:$G$510)","v":"A"},{"$f":"_xlfn.XLOOKUP(A47749,Agencies!$A$9:$A$146,Agencies!$B$9:$B$146)","v":"Public Safety & Judicial"},{"$f":"IF(_xlfn.XLOOKUP(A47749,Agencies!A:A,Agencies!D:D)=\"Y\",IF(_xlfn.XLOOKUP(F47749,'Object Codes'!A:A,'Object Codes'!I:I)=\"Y\",\"Y\",\"N\"),\"N\")","v":"Y"},{"$f":"VLOOKUP(F47749,'Object Codes'!$A:$C,3,0)","v":"Data Processing Supplies"},{"$f":"VLOOKUP(A47749,Agencies!A:C,3,0)","v":"District Attorney - Richmond"},580.90109589041094]
["905",2022,"001","002","9001","332",0,0,0,0,968,0,0,0,0,0,967.5,0,967.5,967.5,0.5,967.5,0.5,967.5,967.5,0.5,{"$f":"_xlfn.XLOOKUP(F47750,'Object Codes'!$A$18:$A$510,'Object Codes'!$H$18:$H$510)","v":"Equipment"},{"$f":"_xlfn.XLOOKUP(F47750,'Object Codes'!$A$18:$A$510,'Object Codes'!$G$18:$G$510)","v":"A"},{"$f":"_xlfn.XLOOKUP(A47750,Agencies!$A$9:$A$146,Agencies!$B$9:$B$146)","v":"Public Safety & Judicial"},{"$f":"IF(_xlfn.XLOOKUP(A47750,Agencies!A:A,Agencies!D:D)=\"Y\",IF(_xlfn.XLOOKUP(F47750,'Object Codes'!A:A,'Object Codes'!I:I)=\"Y\",\"Y\",\"N\"),\"N\")","v":"Y"},{"$f":"VLOOKUP(F47750,'Object Codes'!$A:$C,3,0)","v":"Purchases of Data Processing Equipment"},{"$f":"VLOOKUP(A47750,Agencies!A:C,3,0)","v":"District Attorney - Richmond"},2.6506849315068495]
["905",2022,"001","002","9001","400",0,0,0,28000,68964,0,0,0,0,0,56964,0,56964,56964,12000,56964,12000,56964,56964,12000,{"$f":"_xlfn.XLOOKUP(F47751,'Object Codes'!$A$18:$A$510,'Object Codes'!$H$18:$H$510)","v":"Other Services and Charges - General"},{"$f":"_xlfn.XLOOKUP(F47751,'Object Codes'!$A$18:$A$510,'Object Codes'!$G$18:$G$510)","v":0},{"$f":"_xlfn.XLOOKUP(A47751,Agencies!$A$9:$A$146,Agencies!$B$9:$B$146)","v":"Public Safety & Judicial"},{"$f":"IF(_xlfn.XLOOKUP(A47751,Agencies!A:A,Agencies!D:D)=\"Y\",IF(_xlfn.XLOOKUP(F47751,'Object Codes'!A:A,'Object Codes'!I:I)=\"Y\",\"Y\",\"N\"),\"N\")","v":"Y"},{"$f":"VLOOKUP(F47751,'Object Codes'!$A:$C,3,0)","v":"Other Services and Charges - General"},{"$f":"VLOOKUP(A47751,Agencies!A:C,3,0)","v":"District Attorney - Richmond"},156.06575342465754]
["905",2022,"001","002","9001","402",0,0,0,0,25000,0,0,0,0,0,15446.53,0,15446.53,15446.53,9553.4699999999993,15446.53,9553.4699999999993,15446.53,15446.53,9553.4699999999993,{"$f":"_xlfn.XLOOKUP(F47752,'Object Codes'!$A$18:$A$510,'Object Codes'!$H$18:$H$510)","v":"Other Services and Charges - General"},{"$f":"_xlfn.XLOOKUP(F47752,'Object Codes'!$A$18:$A$510,'Object Codes'!$G$18:$G$510)","v":0},{"$f":"_xlfn.XLOOKUP(A47752,Agencies!$A$9:$A$146,Agencies!$B$9:$B$146)","v":"Public Safety & Judicial"},{"$f":"IF(_xlfn.XLOOKUP(A47752,Agencies!A:A,Agencies!D:D)=\"Y\",IF(_xlfn.XLOOKUP(F47752,'Object Codes'!A:A,'Object Codes'!I:I)=\"Y\",\"Y\",\"N\"),\"N\")","v":"Y"},{"$f":"VLOOKUP(F47752,'Object Codes'!$A:$C,3,0)","v":"Telephone and Other Communications"},{"$f":"VLOOKUP(A47752,Agencies!A:C,3,0)","v":"District Attorney - Richmond"},42.319260273972603]
["905",2022,"001","002","9001","499",0,0,0,370000,153068,0,0,0,0,0,0,0,0,0,153068,0,153068,0,0,153068,{"$f":"_xlfn.XLOOKUP(F47753,'Object Codes'!$A$18:$A$510,'Object Codes'!$H$18:$H$510)","v":"Other Services and Charges - General"},{"$f":"_xlfn.XLOOKUP(F47753,'Object Codes'!$A$18:$A$510,'Object Codes'!$G$18:$G$510)","v":0},{"$f":"_xlfn.XLOOKUP(A47753,Agencies!$A$9:$A$146,Agencies!$B$9:$B$146)","v":"Public Safety & Judicial"},{"$f":"IF(_xlfn.XLOOKUP(A47753,Agencies!A:A,Agencies!D:D)=\"Y\",IF(_xlfn.XLOOKUP(F47753,'Object Codes'!A:A,'Object Codes'!I:I)=\"Y\",\"Y\",\"N\"),\"N\")","v":"Y"},{"$f":"VLOOKUP(F47753,'Object Codes'!$A:$C,3,0)","v":"Other Expenditures - General"},{"$f":"VLOOKUP(A47753,Agencies!A:C,3,0)","v":"District Attorney - Richmond"},{"$f":"S47753/365","v":0}]
["906",2022,"001","001","0101","001",0,174,174,18164766,15512446,0,0,0,0,0,9346764.6099999994,1680622.27,11027386.880000001,11027386.880000001,4485059.12,11027386.880000001,4485059.12,11027386.880000001,11027386.880000001,4485059.12,{"$f":"_xlfn.XLOOKUP(F47754,'Object Codes'!$A$18:$A$510,'Object Codes'!$H$18:$H$510)","v":"PS - Regular"},{"$f":"_xlfn.XLOOKUP(F47754,'Object Codes'!$A$18:$A$510,'Object Codes'!$G$18:$G$510)","v":"C"},{"$f":"_xlfn.XLOOKUP(A47754,Agencies!$A$9:$A$146,Agencies!$B$9:$B$146)","v":"Public Safety & Judicial"},{"$f":"IF(_xlfn.XLOOKUP(A47754,Agencies!A:A,Agencies!D:D)=\"Y\",IF(_xlfn.XLOOKUP(F47754,'Object Codes'!A:A,'Object Codes'!I:I)=\"Y\",\"Y\",\"N\"),\"N\")","v":"Y"},{"$f":"VLOOKUP(F47754,'Object Codes'!$A:$C,3,0)","v":"Full Year Positions"},{"$f":"VLOOKUP(A47754,Agencies!A:C,3,0)","v":"Off. of Prosec. & Spec. Narc."},30212.018849315071]
["906",2022,"001","001","0101","021",0,0,0,5851,5851,0,0,0,0,0,4117.42,0,4117.42,4117.42,1733.58,4117.42,1733.58,4117.42,4117.42,1733.58,{"$f":"_xlfn.XLOOKUP(F47755,'Object Codes'!$A$18:$A$510,'Object Codes'!$H$18:$H$510)","v":"PS - Regular"},{"$f":"_xlfn.XLOOKUP(F47755,'Object Codes'!$A$18:$A$510,'Object Codes'!$G$18:$G$510)","v":"C"},{"$f":"_xlfn.XLOOKUP(A47755,Agencies!$A$9:$A$146,Agencies!$B$9:$B$146)","v":"Public Safety & Judicial"},{"$f":"IF(_xlfn.XLOOKUP(A47755,Agencies!A:A,Agencies!D:D)=\"Y\",IF(_xlfn.XLOOKUP(F47755,'Object Codes'!A:A,'Object Codes'!I:I)=\"Y\",\"Y\",\"N\"),\"N\")","v":"Y"},{"$f":"VLOOKUP(F47755,'Object Codes'!$A:$C,3,0)","v":"Part-Time Positions"},{"$f":"VLOOKUP(A47755,Agencies!A:C,3,0)","v":"Off. of Prosec. & Spec. Narc."},11.280602739726028]
["906",2022,"001","001","0101","031",0,0,0,0,0,0,0,0,0,0,37271.5,0,37271.5,37271.5,-37271.5,37271.5,-37271.5,37271.5,37271.5,-37271.5,{"$f":"_xlfn.XLOOKUP(F47756,'Object Codes'!$A$18:$A$510,'Object Codes'!$H$18:$H$510)","v":"PS - Regular"},{"$f":"_xlfn.XLOOKUP(F47756,'Object Codes'!$A$18:$A$510,'Object Codes'!$G$18:$G$510)","v":"C"},{"$f":"_xlfn.XLOOKUP(A47756,Agencies!$A$9:$A$146,Agencies!$B$9:$B$146)","v":"Public Safety & Judicial"},{"$f":"IF(_xlfn.XLOOKUP(A47756,Agencies!A:A,Agencies!D:D)=\"Y\",IF(_xlfn.XLOOKUP(F47756,'Object Codes'!A:A,'Object Codes'!I:I)=\"Y\",\"Y\",\"N\"),\"N\")","v":"Y"},{"$f":"VLOOKUP(F47756,'Object Codes'!$A:$C,3,0)","v":"Hourly Positions"},{"$f":"VLOOKUP(A47756,Agencies!A:C,3,0)","v":"Off. of Prosec. & Spec. Narc."},102.11369863013698]
["906",2022,"001","001","0101","041",0,0,0,1082,1082,0,0,0,0,0,0,0,0,0,1082,0,1082,0,0,1082,{"$f":"_xlfn.XLOOKUP(F47757,'Object Codes'!$A$18:$A$510,'Object Codes'!$H$18:$H$510)","v":"PS - Additional Gross"},{"$f":"_xlfn.XLOOKUP(F47757,'Object Codes'!$A$18:$A$510,'Object Codes'!$G$18:$G$510)","v":"A"},{"$f":"_xlfn.XLOOKUP(A47757,Agencies!$A$9:$A$146,Agencies!$B$9:$B$146)","v":"Public Safety & Judicial"},{"$f":"IF(_xlfn.XLOOKUP(A47757,Agencies!A:A,Agencies!D:D)=\"Y\",IF(_xlfn.XLOOKUP(F47757,'Object Codes'!A:A,'Object Codes'!I:I)=\"Y\",\"Y\",\"N\"),\"N\")","v":"Y"},{"$f":"VLOOKUP(F47757,'Object Codes'!$A:$C,3,0)","v":"Assignment Differential"},{"$f":"VLOOKUP(A47757,Agencies!A:C,3,0)","v":"Off. of Prosec. & Spec. Narc."},0]
["906",2022,"001","001","0101","042",0,0,0,14860,14860,0,0,0,0,0,124922.52,0,124922.52,124922.52,-110062.52,124922.52,-110062.52,124922.52,124922.52,-110062.52,{"$f":"_xlfn.XLOOKUP(F47758,'Object Codes'!$A$18:$A$510,'Object Codes'!$H$18:$H$510)","v":"PS - Additional Gross"},{"$f":"_xlfn.XLOOKUP(F47758,'Object Codes'!$A$18:$A$510,'Object Codes'!$G$18:$G$510)","v":"A"},{"$f":"_xlfn.XLOOKUP(A47758,Agencies!$A$9:$A$146,Agencies!$B$9:$B$146)","v":"Public Safety & Judicial"},{"$f":"IF(_xlfn.XLOOKUP(A47758,Agencies!A:A,Agencies!D:D)=\"Y\",IF(_xlfn.XLOOKUP(F47758,'Object Codes'!A:A,'Object Codes'!I:I)=\"Y\",\"Y\",\"N\"),\"N\")","v":"Y"},{"$f":"VLOOKUP(F47758,'Object Codes'!$A:$C,3,0)","v":"Longevity Differential"},{"$f":"VLOOKUP(A47758,Agencies!A:C,3,0)","v":"Off. of Prosec. & Spec. Narc."},342.25347945205482]
["906",2022,"001","001","0101","043",0,0,0,1082,1082,0,0,0,0,0,7090.51,0,7090.51,7090.51,-6008.51,7090.51,-6008.51,7090.51,7090.51,-6008.51,{"$f":"_xlfn.XLOOKUP(F47759,'Object Codes'!$A$18:$A$510,'Object Codes'!$H$18:$H$510)","v":"PS - Additional Gross"},{"$f":"_xlfn.XLOOKUP(F47759,'Object Codes'!$A$18:$A$510,'Object Codes'!$G$18:$G$510)","v":"A"},{"$f":"_xlfn.XLOOKUP(A47759,Agencies!$A$9:$A$146,Agencies!$B$9:$B$146)","v":"Public Safety & Judicial"},{"$f":"IF(_xlfn.XLOOKUP(A47759,Agencies!A:A,Agencies!D:D)=\"Y\",IF(_xlfn.XLOOKUP(F47759,'Object Codes'!A:A,'Object Codes'!I:I)=\"Y\",\"Y\",\"N\"),\"N\")","v":"Y"},{"$f":"VLOOKUP(F47759,'Object Codes'!$A:$C,3,0)","v":"Shift Differential"},{"$f":"VLOOKUP(A47759,Agencies!A:C,3,0)","v":"Off. of Prosec. & Spec. Narc."},19.42605479452055]
["906",2022,"001","001","0101","045",0,0,0,1082,1082,0,0,0,0,0,1647.47,0,1647.47,1647.47,-565.47,1647.47,-565.47,1647.47,1647.47,-565.47,{"$f":"_xlfn.XLOOKUP(F47760,'Object Codes'!$A$18:$A$510,'Object Codes'!$H$18:$H$510)","v":"PS - Additional Gross"},{"$f":"_xlfn.XLOOKUP(F47760,'Object Codes'!$A$18:$A$510,'Object Codes'!$G$18:$G$510)","v":"A"},{"$f":"_xlfn.XLOOKUP(A47760,Agencies!$A$9:$A$146,Agencies!$B$9:$B$146)","v":"Public Safety & Judicial"},{"$f":"IF(_xlfn.XLOOKUP(A47760,Agencies!A:A,Agencies!D:D)=\"Y\",IF(_xlfn.XLOOKUP(F47760,'Object Codes'!A:A,'Object Codes'!I:I)=\"Y\",\"Y\",\"N\"),\"N\")","v":"Y"},{"$f":"VLOOKUP(F47760,'Object Codes'!$A:$C,3,0)","v":"Holiday Pay"},{"$f":"VLOOKUP(A47760,Agencies!A:C,3,0)","v":"Off. of Prosec. & Spec. Narc."},4.5136164383561646]
["906",2022,"001","001","0101","046",0,0,0,0,0,0,0,0,0,0,57426.16,0,57426.16,57426.16,-57426.16,57426.16,-57426.16,57426.16,57426.16,-57426.16,{"$f":"_xlfn.XLOOKUP(F47761,'Object Codes'!$A$18:$A$510,'Object Codes'!$H$18:$H$510)","v":"PS - Additional Gross"},{"$f":"_xlfn.XLOOKUP(F47761,'Object Codes'!$A$18:$A$510,'Object Codes'!$G$18:$G$510)","v":"A"},{"$f":"_xlfn.XLOOKUP(A47761,Agencies!$A$9:$A$146,Agencies!$B$9:$B$146)","v":"Public Safety & Judicial"},{"$f":"IF(_xlfn.XLOOKUP(A47761,Agencies!A:A,Agencies!D:D)=\"Y\",IF(_xlfn.XLOOKUP(F47761,'Object Codes'!A:A,'Object Codes'!I:I)=\"Y\",\"Y\",\"N\"),\"N\")","v":"Y"},{"$f":"VLOOKUP(F47761,'Object Codes'!$A:$C,3,0)","v":"Terminal Leave"},{"$f":"VLOOKUP(A47761,Agencies!A:C,3,0)","v":"Off. of Prosec. & Spec. Narc."},157.33194520547946]
["906",2022,"001","001","0101","047",0,0,0,86540,86540,0,0,0,0,0,17533.080000000002,0,17533.080000000002,17533.080000000002,69006.92,17533.080000000002,69006.92,17533.080000000002,17533.080000000002,69006.92,{"$f":"_xlfn.XLOOKUP(F47762,'Object Codes'!$A$18:$A$510,'Object Codes'!$H$18:$H$510)","v":"PS - Additional Gross"},{"$f":"_xlfn.XLOOKUP(F47762,'Object Codes'!$A$18:$A$510,'Object Codes'!$G$18:$G$510)","v":"C"},{"$f":"_xlfn.XLOOKUP(A47762,Agencies!$A$9:$A$146,Agencies!$B$9:$B$146)","v":"Public Safety & Judicial"},{"$f":"IF(_xlfn.XLOOKUP(A47762,Agencies!A:A,Agencies!D:D)=\"Y\",IF(_xlfn.XLOOKUP(F47762,'Object Codes'!A:A,'Object Codes'!I:I)=\"Y\",\"Y\",\"N\"),\"N\")","v":"Y"},{"$f":"VLOOKUP(F47762,'Object Codes'!$A:$C,3,0)","v":"Overtime"},{"$f":"VLOOKUP(A47762,Agencies!A:C,3,0)","v":"Off. of Prosec. & Spec. Narc."},48.035835616438362]
["906",2022,"001","001","0101","049",0,0,0,1000,1000,0,0,0,0,0,0,0,0,0,1000,0,1000,0,0,1000,{"$f":"_xlfn.XLOOKUP(F47763,'Object Codes'!$A$18:$A$510,'Object Codes'!$H$18:$H$510)","v":"PS - Additional Gross"},{"$f":"_xlfn.XLOOKUP(F47763,'Object Codes'!$A$18:$A$510,'Object Codes'!$G$18:$G$510)","v":"A"},{"$f":"_xlfn.XLOOKUP(A47763,Agencies!$A$9:$A$146,Agencies!$B$9:$B$146)","v":"Public Safety & Judicial"},{"$f":"IF(_xlfn.XLOOKUP(A47763,Agencies!A:A,Agencies!D:D)=\"Y\",IF(_xlfn.XLOOKUP(F47763,'Object Codes'!A:A,'Object Codes'!I:I)=\"Y\",\"Y\",\"N\"),\"N\")","v":"Y"},{"$f":"VLOOKUP(F47763,'Object Codes'!$A:$C,3,0)","v":"Backpay"},{"$f":"VLOOKUP(A47763,Agencies!A:C,3,0)","v":"Off. of Prosec. & Spec. Narc."},0]
["906",2022,"001","001","0101","057",0,0,0,0,2000,0,0,0,0,0,2000,0,2000,2000,0,2000,0,2000,2000,0,{"$f":"_xlfn.XLOOKUP(F47764,'Object Codes'!$A$18:$A$510,'Object Codes'!$H$18:$H$510)","v":"PS - Additional Gross"},{"$f":"_xlfn.XLOOKUP(F47764,'Object Codes'!$A$18:$A$510,'Object Codes'!$G$18:$G$510)","v":"A"},{"$f":"_xlfn.XLOOKUP(A47764,Agencies!$A$9:$A$146,Agencies!$B$9:$B$146)","v":"Public Safety & Judicial"},{"$f":"IF(_xlfn.XLOOKUP(A47764,Agencies!A:A,Agencies!D:D)=\"Y\",IF(_xlfn.XLOOKUP(F47764,'Object Codes'!A:A,'Object Codes'!I:I)=\"Y\",\"Y\",\"N\"),\"N\")","v":"Y"},{"$f":"VLOOKUP(F47764,'Object Codes'!$A:$C,3,0)","v":"Bonus Payments"},{"$f":"VLOOKUP(A47764,Agencies!A:C,3,0)","v":"Off. of Prosec. & Spec. Narc."},5.4794520547945202]
["906",2022,"001","001","0101","061",0,0,0,1000,1000,0,0,0,0,0,301.5,0,301.5,301.5,698.5,301.5,698.5,301.5,301.5,698.5,{"$f":"_xlfn.XLOOKUP(F47765,'Object Codes'!$A$18:$A$510,'Object Codes'!$H$18:$H$510)","v":"PS - Additional Gross"},{"$f":"_xlfn.XLOOKUP(F47765,'Object Codes'!$A$18:$A$510,'Object Codes'!$G$18:$G$510)","v":"A"},{"$f":"_xlfn.XLOOKUP(A47765,Agencies!$A$9:$A$146,Agencies!$B$9:$B$146)","v":"Public Safety & Judicial"},{"$f":"IF(_xlfn.XLOOKUP(A47765,Agencies!A:A,Agencies!D:D)=\"Y\",IF(_xlfn.XLOOKUP(F47765,'Object Codes'!A:A,'Object Codes'!I:I)=\"Y\",\"Y\",\"N\"),\"N\")","v":"Y"},{"$f":"VLOOKUP(F47765,'Object Codes'!$A:$C,3,0)","v":"Supper Money"},{"$f":"VLOOKUP(A47765,Agencies!A:C,3,0)","v":"Off. of Prosec. & Spec. Narc."},0.82602739726027397]
["906",2022,"001","001","0101","067",0,0,0,14000,14000,0,0,0,0,0,6057.76,0,6057.76,6057.76,7942.24,6057.76,7942.24,6057.76,6057.76,7942.24,{"$f":"_xlfn.XLOOKUP(F47766,'Object Codes'!$A$18:$A$510,'Object Codes'!$H$18:$H$510)","v":"PS - Other"},{"$f":"_xlfn.XLOOKUP(F47766,'Object Codes'!$A$18:$A$510,'Object Codes'!$G$18:$G$510)","v":"A"},{"$f":"_xlfn.XLOOKUP(A47766,Agencies!$A$9:$A$146,Agencies!$B$9:$B$146)","v":"Public Safety & Judicial"},{"$f":"IF(_xlfn.XLOOKUP(A47766,Agencies!A:A,Agencies!D:D)=\"Y\",IF(_xlfn.XLOOKUP(F47766,'Object Codes'!A:A,'Object Codes'!I:I)=\"Y\",\"Y\",\"N\"),\"N\")","v":"Y"},{"$f":"VLOOKUP(F47766,'Object Codes'!$A:$C,3,0)","v":"Supplemental Employee Welfare Benefits"},{"$f":"VLOOKUP(A47766,Agencies!A:C,3,0)","v":"Off. of Prosec. & Spec. Narc."},16.596602739726027]
["906",2022,"001","001","0101","081",0,0,0,975,975,0,0,0,0,0,0,0,0,0,975,0,975,0,0,975,{"$f":"_xlfn.XLOOKUP(F47767,'Object Codes'!$A$18:$A$510,'Object Codes'!$H$18:$H$510)","v":"PS - Other"},{"$f":"_xlfn.XLOOKUP(F47767,'Object Codes'!$A$18:$A$510,'Object Codes'!$G$18:$G$510)","v":"A"},{"$f":"_xlfn.XLOOKUP(A47767,Agencies!$A$9:$A$146,Agencies!$B$9:$B$146)","v":"Public Safety & Judicial"},{"$f":"IF(_xlfn.XLOOKUP(A47767,Agencies!A:A,Agencies!D:D)=\"Y\",IF(_xlfn.XLOOKUP(F47767,'Object Codes'!A:A,'Object Codes'!I:I)=\"Y\",\"Y\",\"N\"),\"N\")","v":"Y"},{"$f":"VLOOKUP(F47767,'Object Codes'!$A:$C,3,0)","v":"Contribution Annuity"},{"$f":"VLOOKUP(A47767,Agencies!A:C,3,0)","v":"Off. of Prosec. & Spec. Narc."},0]
["906",2022,"001","001","0101","095",0,0,0,0,0,0,0,3500,0,0,-3500,0,0,-3500,3500,-3500,3500,-3500,-3500,3500,{"$f":"_xlfn.XLOOKUP(F47768,'Object Codes'!$A$18:$A$510,'Object Codes'!$H$18:$H$510)","v":"PS - Additional Gross"},{"$f":"_xlfn.XLOOKUP(F47768,'Object Codes'!$A$18:$A$510,'Object Codes'!$G$18:$G$510)","v":"A"},{"$f":"_xlfn.XLOOKUP(A47768,Agencies!$A$9:$A$146,Agencies!$B$9:$B$146)","v":"Public Safety & Judicial"},{"$f":"IF(_xlfn.XLOOKUP(A47768,Agencies!A:A,Agencies!D:D)=\"Y\",IF(_xlfn.XLOOKUP(F47768,'Object Codes'!A:A,'Object Codes'!I:I)=\"Y\",\"Y\",\"N\"),\"N\")","v":"Y"},{"$f":"VLOOKUP(F47768,'Object Codes'!$A:$C,3,0)","v":"Payroll Refunds"},{"$f":"VLOOKUP(A47768,Agencies!A:C,3,0)","v":"Off. of Prosec. & Spec. Narc."},0]
["906",2022,"001","001","0102","001",0,1,1,74573,235609,0,0,0,0,0,235609,0,235609,235609,0,235609,0,235609,235609,0,{"$f":"_xlfn.XLOOKUP(F47769,'Object Codes'!$A$18:$A$510,'Object Codes'!$H$18:$H$510)","v":"PS - Regular"},{"$f":"_xlfn.XLOOKUP(F47769,'Object Codes'!$A$18:$A$510,'Object Codes'!$G$18:$G$510)","v":"C"},{"$f":"_xlfn.XLOOKUP(A47769,Agencies!$A$9:$A$146,Agencies!$B$9:$B$146)","v":"Public Safety & Judicial"},{"$f":"IF(_xlfn.XLOOKUP(A47769,Agencies!A:A,Agencies!D:D)=\"Y\",IF(_xlfn.XLOOKUP(F47769,'Object Codes'!A:A,'Object Codes'!I:I)=\"Y\",\"Y\",\"N\"),\"N\")","v":"Y"},{"$f":"VLOOKUP(F47769,'Object Codes'!$A:$C,3,0)","v":"Full Year Positions"},{"$f":"VLOOKUP(A47769,Agencies!A:C,3,0)","v":"Off. of Prosec. & Spec. Narc."},645.50410958904115]
["906",2022,"001","001","0103","001",0,16,16,1186497,1901355,0,0,0,0,0,1775501.13,0,1775501.13,1775501.13,125853.87,1775501.13,125853.87,1775501.13,1775501.13,125853.87,{"$f":"_xlfn.XLOOKUP(F47770,'Object Codes'!$A$18:$A$510,'Object Codes'!$H$18:$H$510)","v":"PS - Regular"},{"$f":"_xlfn.XLOOKUP(F47770,'Object Codes'!$A$18:$A$510,'Object Codes'!$G$18:$G$510)","v":"C"},{"$f":"_xlfn.XLOOKUP(A47770,Agencies!$A$9:$A$146,Agencies!$B$9:$B$146)","v":"Public Safety & Judicial"},{"$f":"IF(_xlfn.XLOOKUP(A47770,Agencies!A:A,Agencies!D:D)=\"Y\",IF(_xlfn.XLOOKUP(F47770,'Object Codes'!A:A,'Object Codes'!I:I)=\"Y\",\"Y\",\"N\"),\"N\")","v":"Y"},{"$f":"VLOOKUP(F47770,'Object Codes'!$A:$C,3,0)","v":"Full Year Positions"},{"$f":"VLOOKUP(A47770,Agencies!A:C,3,0)","v":"Off. of Prosec. & Spec. Narc."},4864.3866575342463]
["906",2022,"001","001","0103","042",0,0,0,556,556,0,0,0,0,0,0,0,0,0,556,0,556,0,0,556,{"$f":"_xlfn.XLOOKUP(F47771,'Object Codes'!$A$18:$A$510,'Object Codes'!$H$18:$H$510)","v":"PS - Additional Gross"},{"$f":"_xlfn.XLOOKUP(F47771,'Object Codes'!$A$18:$A$510,'Object Codes'!$G$18:$G$510)","v":"A"},{"$f":"_xlfn.XLOOKUP(A47771,Agencies!$A$9:$A$146,Agencies!$B$9:$B$146)","v":"Public Safety & Judicial"},{"$f":"IF(_xlfn.XLOOKUP(A47771,Agencies!A:A,Agencies!D:D)=\"Y\",IF(_xlfn.XLOOKUP(F47771,'Object Codes'!A:A,'Object Codes'!I:I)=\"Y\",\"Y\",\"N\"),\"N\")","v":"Y"},{"$f":"VLOOKUP(F47771,'Object Codes'!$A:$C,3,0)","v":"Longevity Differential"},{"$f":"VLOOKUP(A47771,Agencies!A:C,3,0)","v":"Off. of Prosec. & Spec. Narc."},0]
["906",2022,"001","001","0103","043",0,0,0,1106,1106,0,0,0,0,0,0,0,0,0,1106,0,1106,0,0,1106,{"$f":"_xlfn.XLOOKUP(F47772,'Object Codes'!$A$18:$A$510,'Object Codes'!$H$18:$H$510)","v":"PS - Additional Gross"},{"$f":"_xlfn.XLOOKUP(F47772,'Object Codes'!$A$18:$A$510,'Object Codes'!$G$18:$G$510)","v":"A"},{"$f":"_xlfn.XLOOKUP(A47772,Agencies!$A$9:$A$146,Agencies!$B$9:$B$146)","v":"Public Safety & Judicial"},{"$f":"IF(_xlfn.XLOOKUP(A47772,Agencies!A:A,Agencies!D:D)=\"Y\",IF(_xlfn.XLOOKUP(F47772,'Object Codes'!A:A,'Object Codes'!I:I)=\"Y\",\"Y\",\"N\"),\"N\")","v":"Y"},{"$f":"VLOOKUP(F47772,'Object Codes'!$A:$C,3,0)","v":"Shift Differential"},{"$f":"VLOOKUP(A47772,Agencies!A:C,3,0)","v":"Off. of Prosec. & Spec. Narc."},0]
["906",2022,"001","001","0103","045",0,0,0,1,1,0,0,0,0,0,0,0,0,0,1,0,1,0,0,1,{"$f":"_xlfn.XLOOKUP(F47773,'Object Codes'!$A$18:$A$510,'Object Codes'!$H$18:$H$510)","v":"PS - Additional Gross"},{"$f":"_xlfn.XLOOKUP(F47773,'Object Codes'!$A$18:$A$510,'Object Codes'!$G$18:$G$510)","v":"A"},{"$f":"_xlfn.XLOOKUP(A47773,Agencies!$A$9:$A$146,Agencies!$B$9:$B$146)","v":"Public Safety & Judicial"},{"$f":"IF(_xlfn.XLOOKUP(A47773,Agencies!A:A,Agencies!D:D)=\"Y\",IF(_xlfn.XLOOKUP(F47773,'Object Codes'!A:A,'Object Codes'!I:I)=\"Y\",\"Y\",\"N\"),\"N\")","v":"Y"},{"$f":"VLOOKUP(F47773,'Object Codes'!$A:$C,3,0)","v":"Holiday Pay"},{"$f":"VLOOKUP(A47773,Agencies!A:C,3,0)","v":"Off. of Prosec. & Spec. Narc."},0]
["906",2022,"001","001","0103","046",0,0,0,0,0,0,0,0,0,0,18725.36,0,18725.36,18725.36,-18725.36,18725.36,-18725.36,18725.36,18725.36,-18725.36,{"$f":"_xlfn.XLOOKUP(F47774,'Object Codes'!$A$18:$A$510,'Object Codes'!$H$18:$H$510)","v":"PS - Additional Gross"},{"$f":"_xlfn.XLOOKUP(F47774,'Object Codes'!$A$18:$A$510,'Object Codes'!$G$18:$G$510)","v":"A"},{"$f":"_xlfn.XLOOKUP(A47774,Agencies!$A$9:$A$146,Agencies!$B$9:$B$146)","v":"Public Safety & Judicial"},{"$f":"IF(_xlfn.XLOOKUP(A47774,Agencies!A:A,Agencies!D:D)=\"Y\",IF(_xlfn.XLOOKUP(F47774,'Object Codes'!A:A,'Object Codes'!I:I)=\"Y\",\"Y\",\"N\"),\"N\")","v":"Y"},{"$f":"VLOOKUP(F47774,'Object Codes'!$A:$C,3,0)","v":"Terminal Leave"},{"$f":"VLOOKUP(A47774,Agencies!A:C,3,0)","v":"Off. of Prosec. & Spec. Narc."},51.302356164383561]
["906",2022,"001","001","0103","047",0,0,0,5565,5565,0,0,0,0,0,0,0,0,0,5565,0,5565,0,0,5565,{"$f":"_xlfn.XLOOKUP(F47775,'Object Codes'!$A$18:$A$510,'Object Codes'!$H$18:$H$510)","v":"PS - Additional Gross"},{"$f":"_xlfn.XLOOKUP(F47775,'Object Codes'!$A$18:$A$510,'Object Codes'!$G$18:$G$510)","v":"C"},{"$f":"_xlfn.XLOOKUP(A47775,Agencies!$A$9:$A$146,Agencies!$B$9:$B$146)","v":"Public Safety & Judicial"},{"$f":"IF(_xlfn.XLOOKUP(A47775,Agencies!A:A,Agencies!D:D)=\"Y\",IF(_xlfn.XLOOKUP(F47775,'Object Codes'!A:A,'Object Codes'!I:I)=\"Y\",\"Y\",\"N\"),\"N\")","v":"Y"},{"$f":"VLOOKUP(F47775,'Object Codes'!$A:$C,3,0)","v":"Overtime"},{"$f":"VLOOKUP(A47775,Agencies!A:C,3,0)","v":"Off. of Prosec. & Spec. Narc."},0]
["906",2022,"001","001","0103","049",0,0,0,0,0,0,0,0,0,0,5643.81,0,5643.81,5643.81,-5643.81,5643.81,-5643.81,5643.81,5643.81,-5643.81,{"$f":"_xlfn.XLOOKUP(F47776,'Object Codes'!$A$18:$A$510,'Object Codes'!$H$18:$H$510)","v":"PS - Additional Gross"},{"$f":"_xlfn.XLOOKUP(F47776,'Object Codes'!$A$18:$A$510,'Object Codes'!$G$18:$G$510)","v":"A"},{"$f":"_xlfn.XLOOKUP(A47776,Agencies!$A$9:$A$146,Agencies!$B$9:$B$146)","v":"Public Safety & Judicial"},{"$f":"IF(_xlfn.XLOOKUP(A47776,Agencies!A:A,Agencies!D:D)=\"Y\",IF(_xlfn.XLOOKUP(F47776,'Object Codes'!A:A,'Object Codes'!I:I)=\"Y\",\"Y\",\"N\"),\"N\")","v":"Y"},{"$f":"VLOOKUP(F47776,'Object Codes'!$A:$C,3,0)","v":"Backpay"},{"$f":"VLOOKUP(A47776,Agencies!A:C,3,0)","v":"Off. of Prosec. & Spec. Narc."},15.462493150684933]
["906",2022,"001","001","0103","061",0,0,0,1030,1030,0,0,0,0,0,0,0,0,0,1030,0,1030,0,0,1030,{"$f":"_xlfn.XLOOKUP(F47777,'Object Codes'!$A$18:$A$510,'Object Codes'!$H$18:$H$510)","v":"PS - Additional Gross"},{"$f":"_xlfn.XLOOKUP(F47777,'Object Codes'!$A$18:$A$510,'Object Codes'!$G$18:$G$510)","v":"A"},{"$f":"_xlfn.XLOOKUP(A47777,Agencies!$A$9:$A$146,Agencies!$B$9:$B$146)","v":"Public Safety & Judicial"},{"$f":"IF(_xlfn.XLOOKUP(A47777,Agencies!A:A,Agencies!D:D)=\"Y\",IF(_xlfn.XLOOKUP(F47777,'Object Codes'!A:A,'Object Codes'!I:I)=\"Y\",\"Y\",\"N\"),\"N\")","v":"Y"},{"$f":"VLOOKUP(F47777,'Object Codes'!$A:$C,3,0)","v":"Supper Money"},{"$f":"VLOOKUP(A47777,Agencies!A:C,3,0)","v":"Off. of Prosec. & Spec. Narc."},0]
["906",2022,"001","001","0104","001",0,0,0,1233587,1233587,0,0,0,0,0,1128132.68,0,1128132.68,1128132.68,105454.32,1128132.68,105454.32,1128132.68,1128132.68,105454.32,{"$f":"_xlfn.XLOOKUP(F47778,'Object Codes'!$A$18:$A$510,'Object Codes'!$H$18:$H$510)","v":"PS - Regular"},{"$f":"_xlfn.XLOOKUP(F47778,'Object Codes'!$A$18:$A$510,'Object Codes'!$G$18:$G$510)","v":"C"},{"$f":"_xlfn.XLOOKUP(A47778,Agencies!$A$9:$A$146,Agencies!$B$9:$B$146)","v":"Public Safety & Judicial"},{"$f":"IF(_xlfn.XLOOKUP(A47778,Agencies!A:A,Agencies!D:D)=\"Y\",IF(_xlfn.XLOOKUP(F47778,'Object Codes'!A:A,'Object Codes'!I:I)=\"Y\",\"Y\",\"N\"),\"N\")","v":"Y"},{"$f":"VLOOKUP(F47778,'Object Codes'!$A:$C,3,0)","v":"Full Year Positions"},{"$f":"VLOOKUP(A47778,Agencies!A:C,3,0)","v":"Off. of Prosec. & Spec. Narc."},3090.7744657534245]
["906",2022,"001","001","0104","042",0,0,0,0,0,0,0,0,0,0,8118.12,0,8118.12,8118.12,-8118.12,8118.12,-8118.12,8118.12,8118.12,-8118.12,{"$f":"_xlfn.XLOOKUP(F47779,'Object Codes'!$A$18:$A$510,'Object Codes'!$H$18:$H$510)","v":"PS - Additional Gross"},{"$f":"_xlfn.XLOOKUP(F47779,'Object Codes'!$A$18:$A$510,'Object Codes'!$G$18:$G$510)","v":"A"},{"$f":"_xlfn.XLOOKUP(A47779,Agencies!$A$9:$A$146,Agencies!$B$9:$B$146)","v":"Public Safety & Judicial"},{"$f":"IF(_xlfn.XLOOKUP(A47779,Agencies!A:A,Agencies!D:D)=\"Y\",IF(_xlfn.XLOOKUP(F47779,'Object Codes'!A:A,'Object Codes'!I:I)=\"Y\",\"Y\",\"N\"),\"N\")","v":"Y"},{"$f":"VLOOKUP(F47779,'Object Codes'!$A:$C,3,0)","v":"Longevity Differential"},{"$f":"VLOOKUP(A47779,Agencies!A:C,3,0)","v":"Off. of Prosec. & Spec. Narc."},22.241424657534246]
["906",2022,"001","001","0104","047",0,0,0,1,1,0,0,0,0,0,6203.02,0,6203.02,6203.02,-6202.02,6203.02,-6202.02,6203.02,6203.02,-6202.02,{"$f":"_xlfn.XLOOKUP(F47780,'Object Codes'!$A$18:$A$510,'Object Codes'!$H$18:$H$510)","v":"PS - Additional Gross"},{"$f":"_xlfn.XLOOKUP(F47780,'Object Codes'!$A$18:$A$510,'Object Codes'!$G$18:$G$510)","v":"C"},{"$f":"_xlfn.XLOOKUP(A47780,Agencies!$A$9:$A$146,Agencies!$B$9:$B$146)","v":"Public Safety & Judicial"},{"$f":"IF(_xlfn.XLOOKUP(A47780,Agencies!A:A,Agencies!D:D)=\"Y\",IF(_xlfn.XLOOKUP(F47780,'Object Codes'!A:A,'Object Codes'!I:I)=\"Y\",\"Y\",\"N\"),\"N\")","v":"Y"},{"$f":"VLOOKUP(F47780,'Object Codes'!$A:$C,3,0)","v":"Overtime"},{"$f":"VLOOKUP(A47780,Agencies!A:C,3,0)","v":"Off. of Prosec. & Spec. Narc."},16.994575342465755]
["906",2022,"001","001","0104","057",0,0,0,0,500,0,0,0,0,0,500,0,500,500,0,500,0,500,500,0,{"$f":"_xlfn.XLOOKUP(F47781,'Object Codes'!$A$18:$A$510,'Object Codes'!$H$18:$H$510)","v":"PS - Additional Gross"},{"$f":"_xlfn.XLOOKUP(F47781,'Object Codes'!$A$18:$A$510,'Object Codes'!$G$18:$G$510)","v":"A"},{"$f":"_xlfn.XLOOKUP(A47781,Agencies!$A$9:$A$146,Agencies!$B$9:$B$146)","v":"Public Safety & Judicial"},{"$f":"IF(_xlfn.XLOOKUP(A47781,Agencies!A:A,Agencies!D:D)=\"Y\",IF(_xlfn.XLOOKUP(F47781,'Object Codes'!A:A,'Object Codes'!I:I)=\"Y\",\"Y\",\"N\"),\"N\")","v":"Y"},{"$f":"VLOOKUP(F47781,'Object Codes'!$A:$C,3,0)","v":"Bonus Payments"},{"$f":"VLOOKUP(A47781,Agencies!A:C,3,0)","v":"Off. of Prosec. & Spec. Narc."},1.3698630136986301]
["906",2022,"001","001","0104","061",0,0,0,1000,1000,0,0,0,0,0,0,0,0,0,1000,0,1000,0,0,1000,{"$f":"_xlfn.XLOOKUP(F47782,'Object Codes'!$A$18:$A$510,'Object Codes'!$H$18:$H$510)","v":"PS - Additional Gross"},{"$f":"_xlfn.XLOOKUP(F47782,'Object Codes'!$A$18:$A$510,'Object Codes'!$G$18:$G$510)","v":"A"},{"$f":"_xlfn.XLOOKUP(A47782,Agencies!$A$9:$A$146,Agencies!$B$9:$B$146)","v":"Public Safety & Judicial"},{"$f":"IF(_xlfn.XLOOKUP(A47782,Agencies!A:A,Agencies!D:D)=\"Y\",IF(_xlfn.XLOOKUP(F47782,'Object Codes'!A:A,'Object Codes'!I:I)=\"Y\",\"Y\",\"N\"),\"N\")","v":"Y"},{"$f":"VLOOKUP(F47782,'Object Codes'!$A:$C,3,0)","v":"Supper Money"},{"$f":"VLOOKUP(A47782,Agencies!A:C,3,0)","v":"Off. of Prosec. & Spec. Narc."},0]
["906",2022,"001","001","0105","001",0,9,9,763094,1333413,0,0,0,0,0,1365095.5,0,1365095.5,1365095.5,-31682.5,1365095.5,-31682.5,1365095.5,1365095.5,-31682.5,{"$f":"_xlfn.XLOOKUP(F47783,'Object Codes'!$A$18:$A$510,'Object Codes'!$H$18:$H$510)","v":"PS - Regular"},{"$f":"_xlfn.XLOOKUP(F47783,'Object Codes'!$A$18:$A$510,'Object Codes'!$G$18:$G$510)","v":"C"},{"$f":"_xlfn.XLOOKUP(A47783,Agencies!$A$9:$A$146,Agencies!$B$9:$B$146)","v":"Public Safety & Judicial"},{"$f":"IF(_xlfn.XLOOKUP(A47783,Agencies!A:A,Agencies!D:D)=\"Y\",IF(_xlfn.XLOOKUP(F47783,'Object Codes'!A:A,'Object Codes'!I:I)=\"Y\",\"Y\",\"N\"),\"N\")","v":"Y"},{"$f":"VLOOKUP(F47783,'Object Codes'!$A:$C,3,0)","v":"Full Year Positions"},{"$f":"VLOOKUP(A47783,Agencies!A:C,3,0)","v":"Off. of Prosec. & Spec. Narc."},3739.9876712328769]
["906",2022,"001","001","0105","043",0,0,0,557,557,0,0,0,0,0,0,0,0,0,557,0,557,0,0,557,{"$f":"_xlfn.XLOOKUP(F47784,'Object Codes'!$A$18:$A$510,'Object Codes'!$H$18:$H$510)","v":"PS - Additional Gross"},{"$f":"_xlfn.XLOOKUP(F47784,'Object Codes'!$A$18:$A$510,'Object Codes'!$G$18:$G$510)","v":"A"},{"$f":"_xlfn.XLOOKUP(A47784,Agencies!$A$9:$A$146,Agencies!$B$9:$B$146)","v":"Public Safety & Judicial"},{"$f":"IF(_xlfn.XLOOKUP(A47784,Agencies!A:A,Agencies!D:D)=\"Y\",IF(_xlfn.XLOOKUP(F47784,'Object Codes'!A:A,'Object Codes'!I:I)=\"Y\",\"Y\",\"N\"),\"N\")","v":"Y"},{"$f":"VLOOKUP(F47784,'Object Codes'!$A:$C,3,0)","v":"Shift Differential"},{"$f":"VLOOKUP(A47784,Agencies!A:C,3,0)","v":"Off. of Prosec. & Spec. Narc."},0]
["906",2022,"001","001","0105","047",0,0,0,556,556,0,0,0,0,0,0,0,0,0,556,0,556,0,0,556,{"$f":"_xlfn.XLOOKUP(F47785,'Object Codes'!$A$18:$A$510,'Object Codes'!$H$18:$H$510)","v":"PS - Additional Gross"},{"$f":"_xlfn.XLOOKUP(F47785,'Object Codes'!$A$18:$A$510,'Object Codes'!$G$18:$G$510)","v":"C"},{"$f":"_xlfn.XLOOKUP(A47785,Agencies!$A$9:$A$146,Agencies!$B$9:$B$146)","v":"Public Safety & Judicial"},{"$f":"IF(_xlfn.XLOOKUP(A47785,Agencies!A:A,Agencies!D:D)=\"Y\",IF(_xlfn.XLOOKUP(F47785,'Object Codes'!A:A,'Object Codes'!I:I)=\"Y\",\"Y\",\"N\"),\"N\")","v":"Y"},{"$f":"VLOOKUP(F47785,'Object Codes'!$A:$C,3,0)","v":"Overtime"},{"$f":"VLOOKUP(A47785,Agencies!A:C,3,0)","v":"Off. of Prosec. & Spec. Narc."},0]
["906",2022,"001","001","0106","001",0,16,16,1146734,1978738,0,0,0,0,0,1980181.84,0,1980181.84,1980181.84,-1443.84,1980181.84,-1443.84,1980181.84,1980181.84,-1443.84,{"$f":"_xlfn.XLOOKUP(F47786,'Object Codes'!$A$18:$A$510,'Object Codes'!$H$18:$H$510)","v":"PS - Regular"},{"$f":"_xlfn.XLOOKUP(F47786,'Object Codes'!$A$18:$A$510,'Object Codes'!$G$18:$G$510)","v":"C"},{"$f":"_xlfn.XLOOKUP(A47786,Agencies!$A$9:$A$146,Agencies!$B$9:$B$146)","v":"Public Safety & Judicial"},{"$f":"IF(_xlfn.XLOOKUP(A47786,Agencies!A:A,Agencies!D:D)=\"Y\",IF(_xlfn.XLOOKUP(F47786,'Object Codes'!A:A,'Object Codes'!I:I)=\"Y\",\"Y\",\"N\"),\"N\")","v":"Y"},{"$f":"VLOOKUP(F47786,'Object Codes'!$A:$C,3,0)","v":"Full Year Positions"},{"$f":"VLOOKUP(A47786,Agencies!A:C,3,0)","v":"Off. of Prosec. & Spec. Narc."},5425.1557260273976]
["906",2022,"001","001","0106","042",0,0,0,1669,0,0,0,0,0,0,0,0,0,0,0,0,0,0,0,0,{"$f":"_xlfn.XLOOKUP(F47787,'Object Codes'!$A$18:$A$510,'Object Codes'!$H$18:$H$510)","v":"PS - Additional Gross"},{"$f":"_xlfn.XLOOKUP(F47787,'Object Codes'!$A$18:$A$510,'Object Codes'!$G$18:$G$510)","v":"A"},{"$f":"_xlfn.XLOOKUP(A47787,Agencies!$A$9:$A$146,Agencies!$B$9:$B$146)","v":"Public Safety & Judicial"},{"$f":"IF(_xlfn.XLOOKUP(A47787,Agencies!A:A,Agencies!D:D)=\"Y\",IF(_xlfn.XLOOKUP(F47787,'Object Codes'!A:A,'Object Codes'!I:I)=\"Y\",\"Y\",\"N\"),\"N\")","v":"Y"},{"$f":"VLOOKUP(F47787,'Object Codes'!$A:$C,3,0)","v":"Longevity Differential"},{"$f":"VLOOKUP(A47787,Agencies!A:C,3,0)","v":"Off. of Prosec. & Spec. Narc."},0]
["906",2022,"001","001","0106","047",0,0,0,1114,0,0,0,0,0,0,0,0,0,0,0,0,0,0,0,0,{"$f":"_xlfn.XLOOKUP(F47788,'Object Codes'!$A$18:$A$510,'Object Codes'!$H$18:$H$510)","v":"PS - Additional Gross"},{"$f":"_xlfn.XLOOKUP(F47788,'Object Codes'!$A$18:$A$510,'Object Codes'!$G$18:$G$510)","v":"C"},{"$f":"_xlfn.XLOOKUP(A47788,Agencies!$A$9:$A$146,Agencies!$B$9:$B$146)","v":"Public Safety & Judicial"},{"$f":"IF(_xlfn.XLOOKUP(A47788,Agencies!A:A,Agencies!D:D)=\"Y\",IF(_xlfn.XLOOKUP(F47788,'Object Codes'!A:A,'Object Codes'!I:I)=\"Y\",\"Y\",\"N\"),\"N\")","v":"Y"},{"$f":"VLOOKUP(F47788,'Object Codes'!$A:$C,3,0)","v":"Overtime"},{"$f":"VLOOKUP(A47788,Agencies!A:C,3,0)","v":"Off. of Prosec. & Spec. Narc."},0]
["906",2022,"001","001","0106","049",0,0,0,0,0,0,0,0,0,0,556.16,0,556.16,556.16,-556.16,556.16,-556.16,556.16,556.16,-556.16,{"$f":"_xlfn.XLOOKUP(F47789,'Object Codes'!$A$18:$A$510,'Object Codes'!$H$18:$H$510)","v":"PS - Additional Gross"},{"$f":"_xlfn.XLOOKUP(F47789,'Object Codes'!$A$18:$A$510,'Object Codes'!$G$18:$G$510)","v":"A"},{"$f":"_xlfn.XLOOKUP(A47789,Agencies!$A$9:$A$146,Agencies!$B$9:$B$146)","v":"Public Safety & Judicial"},{"$f":"IF(_xlfn.XLOOKUP(A47789,Agencies!A:A,Agencies!D:D)=\"Y\",IF(_xlfn.XLOOKUP(F47789,'Object Codes'!A:A,'Object Codes'!I:I)=\"Y\",\"Y\",\"N\"),\"N\")","v":"Y"},{"$f":"VLOOKUP(F47789,'Object Codes'!$A:$C,3,0)","v":"Backpay"},{"$f":"VLOOKUP(A47789,Agencies!A:C,3,0)","v":"Off. of Prosec. & Spec. Narc."},1.5237260273972602]
["906",2022,"001","001","0108","001",0,0,0,13545,13545,0,0,0,0,0,0,0,0,0,13545,0,13545,0,0,13545,{"$f":"_xlfn.XLOOKUP(F47790,'Object Codes'!$A$18:$A$510,'Object Codes'!$H$18:$H$510)","v":"PS - Regular"},{"$f":"_xlfn.XLOOKUP(F47790,'Object Codes'!$A$18:$A$510,'Object Codes'!$G$18:$G$510)","v":"C"},{"$f":"_xlfn.XLOOKUP(A47790,Agencies!$A$9:$A$146,Agencies!$B$9:$B$146)","v":"Public Safety & Judicial"},{"$f":"IF(_xlfn.XLOOKUP(A47790,Agencies!A:A,Agencies!D:D)=\"Y\",IF(_xlfn.XLOOKUP(F47790,'Object Codes'!A:A,'Object Codes'!I:I)=\"Y\",\"Y\",\"N\"),\"N\")","v":"Y"},{"$f":"VLOOKUP(F47790,'Object Codes'!$A:$C,3,0)","v":"Full Year Positions"},{"$f":"VLOOKUP(A47790,Agencies!A:C,3,0)","v":"Off. of Prosec. & Spec. Narc."},0]
["906",2022,"001","001","0108","042",0,0,0,114,114,0,0,0,0,0,0,0,0,0,114,0,114,0,0,114,{"$f":"_xlfn.XLOOKUP(F47791,'Object Codes'!$A$18:$A$510,'Object Codes'!$H$18:$H$510)","v":"PS - Additional Gross"},{"$f":"_xlfn.XLOOKUP(F47791,'Object Codes'!$A$18:$A$510,'Object Codes'!$G$18:$G$510)","v":"A"},{"$f":"_xlfn.XLOOKUP(A47791,Agencies!$A$9:$A$146,Agencies!$B$9:$B$146)","v":"Public Safety & Judicial"},{"$f":"IF(_xlfn.XLOOKUP(A47791,Agencies!A:A,Agencies!D:D)=\"Y\",IF(_xlfn.XLOOKUP(F47791,'Object Codes'!A:A,'Object Codes'!I:I)=\"Y\",\"Y\",\"N\"),\"N\")","v":"Y"},{"$f":"VLOOKUP(F47791,'Object Codes'!$A:$C,3,0)","v":"Longevity Differential"},{"$f":"VLOOKUP(A47791,Agencies!A:C,3,0)","v":"Off. of Prosec. & Spec. Narc."},0]
["906",2022,"001","001","0120","001",0,2,2,206054,206054,0,0,0,0,0,1248278.43,0,1248278.43,1248278.43,-1042224.43,1248278.43,-1042224.43,1248278.43,1248278.43,-1042224.43,{"$f":"_xlfn.XLOOKUP(F47792,'Object Codes'!$A$18:$A$510,'Object Codes'!$H$18:$H$510)","v":"PS - Regular"},{"$f":"_xlfn.XLOOKUP(F47792,'Object Codes'!$A$18:$A$510,'Object Codes'!$G$18:$G$510)","v":"C"},{"$f":"_xlfn.XLOOKUP(A47792,Agencies!$A$9:$A$146,Agencies!$B$9:$B$146)","v":"Public Safety & Judicial"},{"$f":"IF(_xlfn.XLOOKUP(A47792,Agencies!A:A,Agencies!D:D)=\"Y\",IF(_xlfn.XLOOKUP(F47792,'Object Codes'!A:A,'Object Codes'!I:I)=\"Y\",\"Y\",\"N\"),\"N\")","v":"Y"},{"$f":"VLOOKUP(F47792,'Object Codes'!$A:$C,3,0)","v":"Full Year Positions"},{"$f":"VLOOKUP(A47792,Agencies!A:C,3,0)","v":"Off. of Prosec. & Spec. Narc."},3419.9409041095887]
["906",2022,"001","001","0120","042",0,0,0,0,0,0,0,0,0,0,28390.07,0,28390.07,28390.07,-28390.07,28390.07,-28390.07,28390.07,28390.07,-28390.07,{"$f":"_xlfn.XLOOKUP(F47793,'Object Codes'!$A$18:$A$510,'Object Codes'!$H$18:$H$510)","v":"PS - Additional Gross"},{"$f":"_xlfn.XLOOKUP(F47793,'Object Codes'!$A$18:$A$510,'Object Codes'!$G$18:$G$510)","v":"A"},{"$f":"_xlfn.XLOOKUP(A47793,Agencies!$A$9:$A$146,Agencies!$B$9:$B$146)","v":"Public Safety & Judicial"},{"$f":"IF(_xlfn.XLOOKUP(A47793,Agencies!A:A,Agencies!D:D)=\"Y\",IF(_xlfn.XLOOKUP(F47793,'Object Codes'!A:A,'Object Codes'!I:I)=\"Y\",\"Y\",\"N\"),\"N\")","v":"Y"},{"$f":"VLOOKUP(F47793,'Object Codes'!$A:$C,3,0)","v":"Longevity Differential"},{"$f":"VLOOKUP(A47793,Agencies!A:C,3,0)","v":"Off. of Prosec. & Spec. Narc."},77.781013698630133]
["906",2022,"001","001","0120","045",0,0,0,0,0,0,0,0,0,0,221.5,0,221.5,221.5,-221.5,221.5,-221.5,221.5,221.5,-221.5,{"$f":"_xlfn.XLOOKUP(F47794,'Object Codes'!$A$18:$A$510,'Object Codes'!$H$18:$H$510)","v":"PS - Additional Gross"},{"$f":"_xlfn.XLOOKUP(F47794,'Object Codes'!$A$18:$A$510,'Object Codes'!$G$18:$G$510)","v":"A"},{"$f":"_xlfn.XLOOKUP(A47794,Agencies!$A$9:$A$146,Agencies!$B$9:$B$146)","v":"Public Safety & Judicial"},{"$f":"IF(_xlfn.XLOOKUP(A47794,Agencies!A:A,Agencies!D:D)=\"Y\",IF(_xlfn.XLOOKUP(F47794,'Object Codes'!A:A,'Object Codes'!I:I)=\"Y\",\"Y\",\"N\"),\"N\")","v":"Y"},{"$f":"VLOOKUP(F47794,'Object Codes'!$A:$C,3,0)","v":"Holiday Pay"},{"$f":"VLOOKUP(A47794,Agencies!A:C,3,0)","v":"Off. of Prosec. & Spec. Narc."},0.60684931506849316]
["906",2022,"001","001","0120","046",0,0,0,0,0,0,0,0,0,0,11813.89,0,11813.89,11813.89,-11813.89,11813.89,-11813.89,11813.89,11813.89,-11813.89,{"$f":"_xlfn.XLOOKUP(F47795,'Object Codes'!$A$18:$A$510,'Object Codes'!$H$18:$H$510)","v":"PS - Additional Gross"},{"$f":"_xlfn.XLOOKUP(F47795,'Object Codes'!$A$18:$A$510,'Object Codes'!$G$18:$G$510)","v":"A"},{"$f":"_xlfn.XLOOKUP(A47795,Agencies!$A$9:$A$146,Agencies!$B$9:$B$146)","v":"Public Safety & Judicial"},{"$f":"IF(_xlfn.XLOOKUP(A47795,Agencies!A:A,Agencies!D:D)=\"Y\",IF(_xlfn.XLOOKUP(F47795,'Object Codes'!A:A,'Object Codes'!I:I)=\"Y\",\"Y\",\"N\"),\"N\")","v":"Y"},{"$f":"VLOOKUP(F47795,'Object Codes'!$A:$C,3,0)","v":"Terminal Leave"},{"$f":"VLOOKUP(A47795,Agencies!A:C,3,0)","v":"Off. of Prosec. & Spec. Narc."},32.366821917808217]
["906",2022,"001","001","0120","047",0,0,0,0,0,0,0,0,0,0,38717.74,0,38717.74,38717.74,-38717.74,38717.74,-38717.74,38717.74,38717.74,-38717.74,{"$f":"_xlfn.XLOOKUP(F47796,'Object Codes'!$A$18:$A$510,'Object Codes'!$H$18:$H$510)","v":"PS - Additional Gross"},{"$f":"_xlfn.XLOOKUP(F47796,'Object Codes'!$A$18:$A$510,'Object Codes'!$G$18:$G$510)","v":"C"},{"$f":"_xlfn.XLOOKUP(A47796,Agencies!$A$9:$A$146,Agencies!$B$9:$B$146)","v":"Public Safety & Judicial"},{"$f":"IF(_xlfn.XLOOKUP(A47796,Agencies!A:A,Agencies!D:D)=\"Y\",IF(_xlfn.XLOOKUP(F47796,'Object Codes'!A:A,'Object Codes'!I:I)=\"Y\",\"Y\",\"N\"),\"N\")","v":"Y"},{"$f":"VLOOKUP(F47796,'Object Codes'!$A:$C,3,0)","v":"Overtime"},{"$f":"VLOOKUP(A47796,Agencies!A:C,3,0)","v":"Off. of Prosec. & Spec. Narc."},106.07599999999999]
["906",2022,"001","001","0120","057",0,0,0,0,500,0,0,0,0,0,500,0,500,500,0,500,0,500,500,0,{"$f":"_xlfn.XLOOKUP(F47797,'Object Codes'!$A$18:$A$510,'Object Codes'!$H$18:$H$510)","v":"PS - Additional Gross"},{"$f":"_xlfn.XLOOKUP(F47797,'Object Codes'!$A$18:$A$510,'Object Codes'!$G$18:$G$510)","v":"A"},{"$f":"_xlfn.XLOOKUP(A47797,Agencies!$A$9:$A$146,Agencies!$B$9:$B$146)","v":"Public Safety & Judicial"},{"$f":"IF(_xlfn.XLOOKUP(A47797,Agencies!A:A,Agencies!D:D)=\"Y\",IF(_xlfn.XLOOKUP(F47797,'Object Codes'!A:A,'Object Codes'!I:I)=\"Y\",\"Y\",\"N\"),\"N\")","v":"Y"},{"$f":"VLOOKUP(F47797,'Object Codes'!$A:$C,3,0)","v":"Bonus Payments"},{"$f":"VLOOKUP(A47797,Agencies!A:C,3,0)","v":"Off. of Prosec. & Spec. Narc."},1.3698630136986301]
["906",2022,"001","001","0120","061",0,0,0,1,1,0,0,0,0,0,0,0,0,0,1,0,1,0,0,1,{"$f":"_xlfn.XLOOKUP(F47798,'Object Codes'!$A$18:$A$510,'Object Codes'!$H$18:$H$510)","v":"PS - Additional Gross"},{"$f":"_xlfn.XLOOKUP(F47798,'Object Codes'!$A$18:$A$510,'Object Codes'!$G$18:$G$510)","v":"A"},{"$f":"_xlfn.XLOOKUP(A47798,Agencies!$A$9:$A$146,Agencies!$B$9:$B$146)","v":"Public Safety & Judicial"},{"$f":"IF(_xlfn.XLOOKUP(A47798,Agencies!A:A,Agencies!D:D)=\"Y\",IF(_xlfn.XLOOKUP(F47798,'Object Codes'!A:A,'Object Codes'!I:I)=\"Y\",\"Y\",\"N\"),\"N\")","v":"Y"},{"$f":"VLOOKUP(F47798,'Object Codes'!$A:$C,3,0)","v":"Supper Money"},{"$f":"VLOOKUP(A47798,Agencies!A:C,3,0)","v":"Off. of Prosec. & Spec. Narc."},0]
["906",2022,"001","001","0128","001",0,0,0,65014,65014,0,0,0,0,0,569938.86,0,569938.86,569938.86,-504924.86,569938.86,-504924.86,569938.86,569938.86,-504924.86,{"$f":"_xlfn.XLOOKUP(F47799,'Object Codes'!$A$18:$A$510,'Object Codes'!$H$18:$H$510)","v":"PS - Regular"},{"$f":"_xlfn.XLOOKUP(F47799,'Object Codes'!$A$18:$A$510,'Object Codes'!$G$18:$G$510)","v":"C"},{"$f":"_xlfn.XLOOKUP(A47799,Agencies!$A$9:$A$146,Agencies!$B$9:$B$146)","v":"Public Safety & Judicial"},{"$f":"IF(_xlfn.XLOOKUP(A47799,Agencies!A:A,Agencies!D:D)=\"Y\",IF(_xlfn.XLOOKUP(F47799,'Object Codes'!A:A,'Object Codes'!I:I)=\"Y\",\"Y\",\"N\"),\"N\")","v":"Y"},{"$f":"VLOOKUP(F47799,'Object Codes'!$A:$C,3,0)","v":"Full Year Positions"},{"$f":"VLOOKUP(A47799,Agencies!A:C,3,0)","v":"Off. of Prosec. & Spec. Narc."},1561.4763287671233]
["906",2022,"001","001","0129","001",0,0,0,85964,85964,0,0,0,0,0,1252774.31,0,1252774.31,1252774.31,-1166810.31,1252774.31,-1166810.31,1252774.31,1252774.31,-1166810.31,{"$f":"_xlfn.XLOOKUP(F47800,'Object Codes'!$A$18:$A$510,'Object Codes'!$H$18:$H$510)","v":"PS - Regular"},{"$f":"_xlfn.XLOOKUP(F47800,'Object Codes'!$A$18:$A$510,'Object Codes'!$G$18:$G$510)","v":"C"},{"$f":"_xlfn.XLOOKUP(A47800,Agencies!$A$9:$A$146,Agencies!$B$9:$B$146)","v":"Public Safety & Judicial"},{"$f":"IF(_xlfn.XLOOKUP(A47800,Agencies!A:A,Agencies!D:D)=\"Y\",IF(_xlfn.XLOOKUP(F47800,'Object Codes'!A:A,'Object Codes'!I:I)=\"Y\",\"Y\",\"N\"),\"N\")","v":"Y"},{"$f":"VLOOKUP(F47800,'Object Codes'!$A:$C,3,0)","v":"Full Year Positions"},{"$f":"VLOOKUP(A47800,Agencies!A:C,3,0)","v":"Off. of Prosec. & Spec. Narc."},3432.2583835616438]
["906",2022,"001","001","0140","001",0,0,0,23181,23181,0,0,0,0,0,342276.48,0,342276.48,342276.48,-319095.48,342276.48,-319095.48,342276.48,342276.48,-319095.48,{"$f":"_xlfn.XLOOKUP(F47801,'Object Codes'!$A$18:$A$510,'Object Codes'!$H$18:$H$510)","v":"PS - Regular"},{"$f":"_xlfn.XLOOKUP(F47801,'Object Codes'!$A$18:$A$510,'Object Codes'!$G$18:$G$510)","v":"C"},{"$f":"_xlfn.XLOOKUP(A47801,Agencies!$A$9:$A$146,Agencies!$B$9:$B$146)","v":"Public Safety & Judicial"},{"$f":"IF(_xlfn.XLOOKUP(A47801,Agencies!A:A,Agencies!D:D)=\"Y\",IF(_xlfn.XLOOKUP(F47801,'Object Codes'!A:A,'Object Codes'!I:I)=\"Y\",\"Y\",\"N\"),\"N\")","v":"Y"},{"$f":"VLOOKUP(F47801,'Object Codes'!$A:$C,3,0)","v":"Full Year Positions"},{"$f":"VLOOKUP(A47801,Agencies!A:C,3,0)","v":"Off. of Prosec. & Spec. Narc."},937.74378082191777]
["906",2022,"001","001","0150","001",0,0,0,56348,56348,0,0,0,0,0,238143.21,0,238143.21,238143.21,-181795.21,238143.21,-181795.21,238143.21,238143.21,-181795.21,{"$f":"_xlfn.XLOOKUP(F47802,'Object Codes'!$A$18:$A$510,'Object Codes'!$H$18:$H$510)","v":"PS - Regular"},{"$f":"_xlfn.XLOOKUP(F47802,'Object Codes'!$A$18:$A$510,'Object Codes'!$G$18:$G$510)","v":"C"},{"$f":"_xlfn.XLOOKUP(A47802,Agencies!$A$9:$A$146,Agencies!$B$9:$B$146)","v":"Public Safety & Judicial"},{"$f":"IF(_xlfn.XLOOKUP(A47802,Agencies!A:A,Agencies!D:D)=\"Y\",IF(_xlfn.XLOOKUP(F47802,'Object Codes'!A:A,'Object Codes'!I:I)=\"Y\",\"Y\",\"N\"),\"N\")","v":"Y"},{"$f":"VLOOKUP(F47802,'Object Codes'!$A:$C,3,0)","v":"Full Year Positions"},{"$f":"VLOOKUP(A47802,Agencies!A:C,3,0)","v":"Off. of Prosec. & Spec. Narc."},652.44715068493144]
["906",2022,"001","001","0150","042",0,0,0,0,0,0,0,0,0,0,5150.9399999999996,0,5150.9399999999996,5150.9399999999996,-5150.9399999999996,5150.9399999999996,-5150.9399999999996,5150.9399999999996,5150.9399999999996,-5150.9399999999996,{"$f":"_xlfn.XLOOKUP(F47803,'Object Codes'!$A$18:$A$510,'Object Codes'!$H$18:$H$510)","v":"PS - Additional Gross"},{"$f":"_xlfn.XLOOKUP(F47803,'Object Codes'!$A$18:$A$510,'Object Codes'!$G$18:$G$510)","v":"A"},{"$f":"_xlfn.XLOOKUP(A47803,Agencies!$A$9:$A$146,Agencies!$B$9:$B$146)","v":"Public Safety & Judicial"},{"$f":"IF(_xlfn.XLOOKUP(A47803,Agencies!A:A,Agencies!D:D)=\"Y\",IF(_xlfn.XLOOKUP(F47803,'Object Codes'!A:A,'Object Codes'!I:I)=\"Y\",\"Y\",\"N\"),\"N\")","v":"Y"},{"$f":"VLOOKUP(F47803,'Object Codes'!$A:$C,3,0)","v":"Longevity Differential"},{"$f":"VLOOKUP(A47803,Agencies!A:C,3,0)","v":"Off. of Prosec. & Spec. Narc."},14.112164383561643]
["906",2022,"001","001","0150","055",0,0,0,0,0,0,0,0,0,0,5477.99,0,5477.99,5477.99,-5477.99,5477.99,-5477.99,5477.99,5477.99,-5477.99,{"$f":"_xlfn.XLOOKUP(F47804,'Object Codes'!$A$18:$A$510,'Object Codes'!$H$18:$H$510)","v":"PS - Additional Gross"},{"$f":"_xlfn.XLOOKUP(F47804,'Object Codes'!$A$18:$A$510,'Object Codes'!$G$18:$G$510)","v":"A"},{"$f":"_xlfn.XLOOKUP(A47804,Agencies!$A$9:$A$146,Agencies!$B$9:$B$146)","v":"Public Safety & Judicial"},{"$f":"IF(_xlfn.XLOOKUP(A47804,Agencies!A:A,Agencies!D:D)=\"Y\",IF(_xlfn.XLOOKUP(F47804,'Object Codes'!A:A,'Object Codes'!I:I)=\"Y\",\"Y\",\"N\"),\"N\")","v":"Y"},{"$f":"VLOOKUP(F47804,'Object Codes'!$A:$C,3,0)","v":"Salary Adjustments-Labor Reserve"},{"$f":"VLOOKUP(A47804,Agencies!A:C,3,0)","v":"Off. of Prosec. & Spec. Narc."},15.008191780821917]
["906",2022,"001","001","0170","001",0,0,0,0,72978,0,0,0,0,0,0,0,0,0,72978,0,72978,0,0,72978,{"$f":"_xlfn.XLOOKUP(F47805,'Object Codes'!$A$18:$A$510,'Object Codes'!$H$18:$H$510)","v":"PS - Regular"},{"$f":"_xlfn.XLOOKUP(F47805,'Object Codes'!$A$18:$A$510,'Object Codes'!$G$18:$G$510)","v":"C"},{"$f":"_xlfn.XLOOKUP(A47805,Agencies!$A$9:$A$146,Agencies!$B$9:$B$146)","v":"Public Safety & Judicial"},{"$f":"IF(_xlfn.XLOOKUP(A47805,Agencies!A:A,Agencies!D:D)=\"Y\",IF(_xlfn.XLOOKUP(F47805,'Object Codes'!A:A,'Object Codes'!I:I)=\"Y\",\"Y\",\"N\"),\"N\")","v":"Y"},{"$f":"VLOOKUP(F47805,'Object Codes'!$A:$C,3,0)","v":"Full Year Positions"},{"$f":"VLOOKUP(A47805,Agencies!A:C,3,0)","v":"Off. of Prosec. & Spec. Narc."},0]
["906",2022,"001","001","0230","001",0,0,0,0,204666,0,0,0,0,0,0,0,0,0,204666,0,204666,0,0,204666,{"$f":"_xlfn.XLOOKUP(F47806,'Object Codes'!$A$18:$A$510,'Object Codes'!$H$18:$H$510)","v":"PS - Regular"},{"$f":"_xlfn.XLOOKUP(F47806,'Object Codes'!$A$18:$A$510,'Object Codes'!$G$18:$G$510)","v":"C"},{"$f":"_xlfn.XLOOKUP(A47806,Agencies!$A$9:$A$146,Agencies!$B$9:$B$146)","v":"Public Safety & Judicial"},{"$f":"IF(_xlfn.XLOOKUP(A47806,Agencies!A:A,Agencies!D:D)=\"Y\",IF(_xlfn.XLOOKUP(F47806,'Object Codes'!A:A,'Object Codes'!I:I)=\"Y\",\"Y\",\"N\"),\"N\")","v":"Y"},{"$f":"VLOOKUP(F47806,'Object Codes'!$A:$C,3,0)","v":"Full Year Positions"},{"$f":"VLOOKUP(A47806,Agencies!A:C,3,0)","v":"Off. of Prosec. & Spec. Narc."},0]
["906",2022,"001","001","9001","001",0,21,21,1138000,1138000,0,0,0,0,0,0,0,0,0,1138000,0,1138000,0,0,1138000,{"$f":"_xlfn.XLOOKUP(F47807,'Object Codes'!$A$18:$A$510,'Object Codes'!$H$18:$H$510)","v":"PS - Regular"},{"$f":"_xlfn.XLOOKUP(F47807,'Object Codes'!$A$18:$A$510,'Object Codes'!$G$18:$G$510)","v":"C"},{"$f":"_xlfn.XLOOKUP(A47807,Agencies!$A$9:$A$146,Agencies!$B$9:$B$146)","v":"Public Safety & Judicial"},{"$f":"IF(_xlfn.XLOOKUP(A47807,Agencies!A:A,Agencies!D:D)=\"Y\",IF(_xlfn.XLOOKUP(F47807,'Object Codes'!A:A,'Object Codes'!I:I)=\"Y\",\"Y\",\"N\"),\"N\")","v":"Y"},{"$f":"VLOOKUP(F47807,'Object Codes'!$A:$C,3,0)","v":"Full Year Positions"},{"$f":"VLOOKUP(A47807,Agencies!A:C,3,0)","v":"Off. of Prosec. & Spec. Narc."},0]
["906",2022,"001","001","9500","001",0,0,0,76911,76911,0,0,0,0,0,2616011.09,0,2616011.09,2616011.09,-2539100.09,2616011.09,-2539100.09,2616011.09,2616011.09,-2539100.09,{"$f":"_xlfn.XLOOKUP(F47808,'Object Codes'!$A$18:$A$510,'Object Codes'!$H$18:$H$510)","v":"PS - Regular"},{"$f":"_xlfn.XLOOKUP(F47808,'Object Codes'!$A$18:$A$510,'Object Codes'!$G$18:$G$510)","v":"C"},{"$f":"_xlfn.XLOOKUP(A47808,Agencies!$A$9:$A$146,Agencies!$B$9:$B$146)","v":"Public Safety & Judicial"},{"$f":"IF(_xlfn.XLOOKUP(A47808,Agencies!A:A,Agencies!D:D)=\"Y\",IF(_xlfn.XLOOKUP(F47808,'Object Codes'!A:A,'Object Codes'!I:I)=\"Y\",\"Y\",\"N\"),\"N\")","v":"Y"},{"$f":"VLOOKUP(F47808,'Object Codes'!$A:$C,3,0)","v":"Full Year Positions"},{"$f":"VLOOKUP(A47808,Agencies!A:C,3,0)","v":"Off. of Prosec. & Spec. Narc."},7167.1536712328761]
["906",2022,"001","001","9500","046",0,0,0,0,0,0,0,0,0,0,5235.62,0,5235.62,5235.62,-5235.62,5235.62,-5235.62,5235.62,5235.62,-5235.62,{"$f":"_xlfn.XLOOKUP(F47809,'Object Codes'!$A$18:$A$510,'Object Codes'!$H$18:$H$510)","v":"PS - Additional Gross"},{"$f":"_xlfn.XLOOKUP(F47809,'Object Codes'!$A$18:$A$510,'Object Codes'!$G$18:$G$510)","v":"A"},{"$f":"_xlfn.XLOOKUP(A47809,Agencies!$A$9:$A$146,Agencies!$B$9:$B$146)","v":"Public Safety & Judicial"},{"$f":"IF(_xlfn.XLOOKUP(A47809,Agencies!A:A,Agencies!D:D)=\"Y\",IF(_xlfn.XLOOKUP(F47809,'Object Codes'!A:A,'Object Codes'!I:I)=\"Y\",\"Y\",\"N\"),\"N\")","v":"Y"},{"$f":"VLOOKUP(F47809,'Object Codes'!$A:$C,3,0)","v":"Terminal Leave"},{"$f":"VLOOKUP(A47809,Agencies!A:C,3,0)","v":"Off. of Prosec. & Spec. Narc."},14.344164383561644]
["906",2022,"001","001","9500","049",0,0,0,0,0,0,0,0,0,0,46.58,0,46.58,46.58,-46.58,46.58,-46.58,46.58,46.58,-46.58,{"$f":"_xlfn.XLOOKUP(F47810,'Object Codes'!$A$18:$A$510,'Object Codes'!$H$18:$H$510)","v":"PS - Additional Gross"},{"$f":"_xlfn.XLOOKUP(F47810,'Object Codes'!$A$18:$A$510,'Object Codes'!$G$18:$G$510)","v":"A"},{"$f":"_xlfn.XLOOKUP(A47810,Agencies!$A$9:$A$146,Agencies!$B$9:$B$146)","v":"Public Safety & Judicial"},{"$f":"IF(_xlfn.XLOOKUP(A47810,Agencies!A:A,Agencies!D:D)=\"Y\",IF(_xlfn.XLOOKUP(F47810,'Object Codes'!A:A,'Object Codes'!I:I)=\"Y\",\"Y\",\"N\"),\"N\")","v":"Y"},{"$f":"VLOOKUP(F47810,'Object Codes'!$A:$C,3,0)","v":"Backpay"},{"$f":"VLOOKUP(A47810,Agencies!A:C,3,0)","v":"Off. of Prosec. & Spec. Narc."},0.12761643835616437]
["906",2022,"001","001","P001","001",0,0,0,3974,3974,0,0,0,0,0,0,0,0,0,3974,0,3974,0,0,3974,{"$f":"_xlfn.XLOOKUP(F47811,'Object Codes'!$A$18:$A$510,'Object Codes'!$H$18:$H$510)","v":"PS - Regular"},{"$f":"_xlfn.XLOOKUP(F47811,'Object Codes'!$A$18:$A$510,'Object Codes'!$G$18:$G$510)","v":"C"},{"$f":"_xlfn.XLOOKUP(A47811,Agencies!$A$9:$A$146,Agencies!$B$9:$B$146)","v":"Public Safety & Judicial"},{"$f":"IF(_xlfn.XLOOKUP(A47811,Agencies!A:A,Agencies!D:D)=\"Y\",IF(_xlfn.XLOOKUP(F47811,'Object Codes'!A:A,'Object Codes'!I:I)=\"Y\",\"Y\",\"N\"),\"N\")","v":"Y"},{"$f":"VLOOKUP(F47811,'Object Codes'!$A:$C,3,0)","v":"Full Year Positions"},{"$f":"VLOOKUP(A47811,Agencies!A:C,3,0)","v":"Off. of Prosec. & Spec. Narc."},0]
["906",2022,"001","002","0101","100",0,0,0,52917,44238,0,0,0,0,0,44237.760000000002,0,44237.760000000002,44237.760000000002,0.24,44237.760000000002,0.24,44237.760000000002,44237.760000000002,0.24,{"$f":"_xlfn.XLOOKUP(F47812,'Object Codes'!$A$18:$A$510,'Object Codes'!$H$18:$H$510)","v":"Supplies & Materials"},{"$f":"_xlfn.XLOOKUP(F47812,'Object Codes'!$A$18:$A$510,'Object Codes'!$G$18:$G$510)","v":"A"},{"$f":"_xlfn.XLOOKUP(A47812,Agencies!$A$9:$A$146,Agencies!$B$9:$B$146)","v":"Public Safety & Judicial"},{"$f":"IF(_xlfn.XLOOKUP(A47812,Agencies!A:A,Agencies!D:D)=\"Y\",IF(_xlfn.XLOOKUP(F47812,'Object Codes'!A:A,'Object Codes'!I:I)=\"Y\",\"Y\",\"N\"),\"N\")","v":"Y"},{"$f":"VLOOKUP(F47812,'Object Codes'!$A:$C,3,0)","v":"Supplies and Materials - General"},{"$f":"VLOOKUP(A47812,Agencies!A:C,3,0)","v":"Off. of Prosec. & Spec. Narc."},121.19934246575343]
["906",2022,"001","002","0101","105",0,0,0,4000,0,0,0,0,0,0,0,0,0,0,0,0,0,0,0,0,{"$f":"_xlfn.XLOOKUP(F47813,'Object Codes'!$A$18:$A$510,'Object Codes'!$H$18:$H$510)","v":"Supplies & Materials"},{"$f":"_xlfn.XLOOKUP(F47813,'Object Codes'!$A$18:$A$510,'Object Codes'!$G$18:$G$510)","v":"A"},{"$f":"_xlfn.XLOOKUP(A47813,Agencies!$A$9:$A$146,Agencies!$B$9:$B$146)","v":"Public Safety & Judicial"},{"$f":"IF(_xlfn.XLOOKUP(A47813,Agencies!A:A,Agencies!D:D)=\"Y\",IF(_xlfn.XLOOKUP(F47813,'Object Codes'!A:A,'Object Codes'!I:I)=\"Y\",\"Y\",\"N\"),\"N\")","v":"Y"},{"$f":"VLOOKUP(F47813,'Object Codes'!$A:$C,3,0)","v":"Automotive Supplies and Materials"},{"$f":"VLOOKUP(A47813,Agencies!A:C,3,0)","v":"Off. of Prosec. & Spec. Narc."},0]
["906",2022,"001","002","0101","106",0,0,0,15000,0,0,0,0,0,0,0,0,0,0,0,0,0,0,0,0,{"$f":"_xlfn.XLOOKUP(F47814,'Object Codes'!$A$18:$A$510,'Object Codes'!$H$18:$H$510)","v":"Supplies & Materials"},{"$f":"_xlfn.XLOOKUP(F47814,'Object Codes'!$A$18:$A$510,'Object Codes'!$G$18:$G$510)","v":"A"},{"$f":"_xlfn.XLOOKUP(A47814,Agencies!$A$9:$A$146,Agencies!$B$9:$B$146)","v":"Public Safety & Judicial"},{"$f":"IF(_xlfn.XLOOKUP(A47814,Agencies!A:A,Agencies!D:D)=\"Y\",IF(_xlfn.XLOOKUP(F47814,'Object Codes'!A:A,'Object Codes'!I:I)=\"Y\",\"Y\",\"N\"),\"N\")","v":"Y"},{"$f":"VLOOKUP(F47814,'Object Codes'!$A:$C,3,0)","v":"Motor Vehicle Fuel"},{"$f":"VLOOKUP(A47814,Agencies!A:C,3,0)","v":"Off. of Prosec. & Spec. Narc."},0]
["906",2022,"001","002","0101","10X",0,0,0,553,553,0,0,0,0,0,0,0,0,0,553,0,553,0,0,553,{"$f":"_xlfn.XLOOKUP(F47815,'Object Codes'!$A$18:$A$510,'Object Codes'!$H$18:$H$510)","v":"Supplies & Materials"},{"$f":"_xlfn.XLOOKUP(F47815,'Object Codes'!$A$18:$A$510,'Object Codes'!$G$18:$G$510)","v":"A"},{"$f":"_xlfn.XLOOKUP(A47815,Agencies!$A$9:$A$146,Agencies!$B$9:$B$146)","v":"Public Safety & Judicial"},{"$f":"IF(_xlfn.XLOOKUP(A47815,Agencies!A:A,Agencies!D:D)=\"Y\",IF(_xlfn.XLOOKUP(F47815,'Object Codes'!A:A,'Object Codes'!I:I)=\"Y\",\"Y\",\"N\"),\"N\")","v":"Y"},{"$f":"VLOOKUP(F47815,'Object Codes'!$A:$C,3,0)","v":"SUPPLIES + MATERIALS - GENERAL"},{"$f":"VLOOKUP(A47815,Agencies!A:C,3,0)","v":"Off. of Prosec. & Spec. Narc."},0]
["906",2022,"001","002","0101","110",0,0,0,0,1291,0,0,0,0,0,1290.56,0,1290.56,1290.56,0.44,1290.56,0.44,1290.56,1290.56,0.44,{"$f":"_xlfn.XLOOKUP(F47816,'Object Codes'!$A$18:$A$510,'Object Codes'!$H$18:$H$510)","v":"Supplies & Materials"},{"$f":"_xlfn.XLOOKUP(F47816,'Object Codes'!$A$18:$A$510,'Object Codes'!$G$18:$G$510)","v":"A"},{"$f":"_xlfn.XLOOKUP(A47816,Agencies!$A$9:$A$146,Agencies!$B$9:$B$146)","v":"Public Safety & Judicial"},{"$f":"IF(_xlfn.XLOOKUP(A47816,Agencies!A:A,Agencies!D:D)=\"Y\",IF(_xlfn.XLOOKUP(F47816,'Object Codes'!A:A,'Object Codes'!I:I)=\"Y\",\"Y\",\"N\"),\"N\")","v":"Y"},{"$f":"VLOOKUP(F47816,'Object Codes'!$A:$C,3,0)","v":"Food and Forage Supplies"},{"$f":"VLOOKUP(A47816,Agencies!A:C,3,0)","v":"Off. of Prosec. & Spec. Narc."},3.535780821917808]
["906",2022,"001","002","0101","117",0,0,0,13000,7741,0,0,0,0,0,7740.82,0,7740.82,7740.82,0.18,7740.82,0.18,7740.82,7740.82,0.18,{"$f":"_xlfn.XLOOKUP(F47817,'Object Codes'!$A$18:$A$510,'Object Codes'!$H$18:$H$510)","v":"Supplies & Materials"},{"$f":"_xlfn.XLOOKUP(F47817,'Object Codes'!$A$18:$A$510,'Object Codes'!$G$18:$G$510)","v":"A"},{"$f":"_xlfn.XLOOKUP(A47817,Agencies!$A$9:$A$146,Agencies!$B$9:$B$146)","v":"Public Safety & Judicial"},{"$f":"IF(_xlfn.XLOOKUP(A47817,Agencies!A:A,Agencies!D:D)=\"Y\",IF(_xlfn.XLOOKUP(F47817,'Object Codes'!A:A,'Object Codes'!I:I)=\"Y\",\"Y\",\"N\"),\"N\")","v":"Y"},{"$f":"VLOOKUP(F47817,'Object Codes'!$A:$C,3,0)","v":"Postage"},{"$f":"VLOOKUP(A47817,Agencies!A:C,3,0)","v":"Off. of Prosec. & Spec. Narc."},{"$f":"S47817/365","v":21.207726027397261}]
["906",2022,"001","002","0101","170",0,0,0,2000,0,0,0,0,0,0,0,0,0,0,0,0,0,0,0,0,{"$f":"_xlfn.XLOOKUP(F47818,'Object Codes'!$A$18:$A$510,'Object Codes'!$H$18:$H$510)","v":"Supplies & Materials"},{"$f":"_xlfn.XLOOKUP(F47818,'Object Codes'!$A$18:$A$510,'Object Codes'!$G$18:$G$510)","v":"A"},{"$f":"_xlfn.XLOOKUP(A47818,Agencies!$A$9:$A$146,Agencies!$B$9:$B$146)","v":"Public Safety & Judicial"},{"$f":"IF(_xlfn.XLOOKUP(A47818,Agencies!A:A,Agencies!D:D)=\"Y\",IF(_xlfn.XLOOKUP(F47818,'Object Codes'!A:A,'Object Codes'!I:I)=\"Y\",\"Y\",\"N\"),\"N\")","v":"Y"},{"$f":"VLOOKUP(F47818,'Object Codes'!$A:$C,3,0)","v":"Cleaning Supplies"},{"$f":"VLOOKUP(A47818,Agencies!A:C,3,0)","v":"Off. of Prosec. & Spec. Narc."},0]
["906",2022,"001","002","0101","199",0,0,0,2652,5658,0,0,0,0,0,5657.84,0,5657.84,5657.84,0.16,5657.84,0.16,5657.84,5657.84,0.16,{"$f":"_xlfn.XLOOKUP(F47819,'Object Codes'!$A$18:$A$510,'Object Codes'!$H$18:$H$510)","v":"Supplies & Materials"},{"$f":"_xlfn.XLOOKUP(F47819,'Object Codes'!$A$18:$A$510,'Object Codes'!$G$18:$G$510)","v":"A"},{"$f":"_xlfn.XLOOKUP(A47819,Agencies!$A$9:$A$146,Agencies!$B$9:$B$146)","v":"Public Safety & Judicial"},{"$f":"IF(_xlfn.XLOOKUP(A47819,Agencies!A:A,Agencies!D:D)=\"Y\",IF(_xlfn.XLOOKUP(F47819,'Object Codes'!A:A,'Object Codes'!I:I)=\"Y\",\"Y\",\"N\"),\"N\")","v":"Y"},{"$f":"VLOOKUP(F47819,'Object Codes'!$A:$C,3,0)","v":"Data Processing Supplies"},{"$f":"VLOOKUP(A47819,Agencies!A:C,3,0)","v":"Off. of Prosec. & Spec. Narc."},15.500931506849316]
["906",2022,"001","002","0101","300",0,0,0,3000,12513,0,0,0,0,0,12512.98,0,12512.98,12512.98,0.02,12512.98,0.02,12512.98,12512.98,0.02,{"$f":"_xlfn.XLOOKUP(F47820,'Object Codes'!$A$18:$A$510,'Object Codes'!$H$18:$H$510)","v":"Equipment"},{"$f":"_xlfn.XLOOKUP(F47820,'Object Codes'!$A$18:$A$510,'Object Codes'!$G$18:$G$510)","v":"A"},{"$f":"_xlfn.XLOOKUP(A47820,Agencies!$A$9:$A$146,Agencies!$B$9:$B$146)","v":"Public Safety & Judicial"},{"$f":"IF(_xlfn.XLOOKUP(A47820,Agencies!A:A,Agencies!D:D)=\"Y\",IF(_xlfn.XLOOKUP(F47820,'Object Codes'!A:A,'Object Codes'!I:I)=\"Y\",\"Y\",\"N\"),\"N\")","v":"Y"},{"$f":"VLOOKUP(F47820,'Object Codes'!$A:$C,3,0)","v":"Equipment - General"},{"$f":"VLOOKUP(A47820,Agencies!A:C,3,0)","v":"Off. of Prosec. & Spec. Narc."},34.282136986301367]
["906",2022,"001","002","0101","302",0,0,0,5000,0,0,0,0,0,0,0,0,0,0,0,0,0,0,0,0,{"$f":"_xlfn.XLOOKUP(F47821,'Object Codes'!$A$18:$A$510,'Object Codes'!$H$18:$H$510)","v":"Equipment"},{"$f":"_xlfn.XLOOKUP(F47821,'Object Codes'!$A$18:$A$510,'Object Codes'!$G$18:$G$510)","v":"A"},{"$f":"_xlfn.XLOOKUP(A47821,Agencies!$A$9:$A$146,Agencies!$B$9:$B$146)","v":"Public Safety & Judicial"},{"$f":"IF(_xlfn.XLOOKUP(A47821,Agencies!A:A,Agencies!D:D)=\"Y\",IF(_xlfn.XLOOKUP(F47821,'Object Codes'!A:A,'Object Codes'!I:I)=\"Y\",\"Y\",\"N\"),\"N\")","v":"Y"},{"$f":"VLOOKUP(F47821,'Object Codes'!$A:$C,3,0)","v":"Telecommunications Equipment"},{"$f":"VLOOKUP(A47821,Agencies!A:C,3,0)","v":"Off. of Prosec. & Spec. Narc."},0]
["906",2022,"001","002","0101","314",0,0,0,10000,4817,0,0,0,0,0,4816.7299999999996,0,4816.7299999999996,4816.7299999999996,0.27,4816.7299999999996,0.27,4816.7299999999996,4816.7299999999996,0.27,{"$f":"_xlfn.XLOOKUP(F47822,'Object Codes'!$A$18:$A$510,'Object Codes'!$H$18:$H$510)","v":"Equipment"},{"$f":"_xlfn.XLOOKUP(F47822,'Object Codes'!$A$18:$A$510,'Object Codes'!$G$18:$G$510)","v":"A"},{"$f":"_xlfn.XLOOKUP(A47822,Agencies!$A$9:$A$146,Agencies!$B$9:$B$146)","v":"Public Safety & Judicial"},{"$f":"IF(_xlfn.XLOOKUP(A47822,Agencies!A:A,Agencies!D:D)=\"Y\",IF(_xlfn.XLOOKUP(F47822,'Object Codes'!A:A,'Object Codes'!I:I)=\"Y\",\"Y\",\"N\"),\"N\")","v":"Y"},{"$f":"VLOOKUP(F47822,'Object Codes'!$A:$C,3,0)","v":"Office Furniture"},{"$f":"VLOOKUP(A47822,Agencies!A:C,3,0)","v":"Off. of Prosec. & Spec. Narc."},13.196520547945203]
["906",2022,"001","002","0101","315",0,0,0,14000,2085,0,0,0,0,0,2085,0,2085,2085,0,2085,0,2085,2085,0,{"$f":"_xlfn.XLOOKUP(F47823,'Object Codes'!$A$18:$A$510,'Object Codes'!$H$18:$H$510)","v":"Equipment"},{"$f":"_xlfn.XLOOKUP(F47823,'Object Codes'!$A$18:$A$510,'Object Codes'!$G$18:$G$510)","v":"A"},{"$f":"_xlfn.XLOOKUP(A47823,Agencies!$A$9:$A$146,Agencies!$B$9:$B$146)","v":"Public Safety & Judicial"},{"$f":"IF(_xlfn.XLOOKUP(A47823,Agencies!A:A,Agencies!D:D)=\"Y\",IF(_xlfn.XLOOKUP(F47823,'Object Codes'!A:A,'Object Codes'!I:I)=\"Y\",\"Y\",\"N\"),\"N\")","v":"Y"},{"$f":"VLOOKUP(F47823,'Object Codes'!$A:$C,3,0)","v":"Office Equipment"},{"$f":"VLOOKUP(A47823,Agencies!A:C,3,0)","v":"Off. of Prosec. & Spec. Narc."},5.7123287671232879]
["906",2022,"001","002","0101","319",0,0,0,2000,0,0,0,0,0,0,0,0,0,0,0,0,0,0,0,0,{"$f":"_xlfn.XLOOKUP(F47824,'Object Codes'!$A$18:$A$510,'Object Codes'!$H$18:$H$510)","v":"Equipment"},{"$f":"_xlfn.XLOOKUP(F47824,'Object Codes'!$A$18:$A$510,'Object Codes'!$G$18:$G$510)","v":"A"},{"$f":"_xlfn.XLOOKUP(A47824,Agencies!$A$9:$A$146,Agencies!$B$9:$B$146)","v":"Public Safety & Judicial"},{"$f":"IF(_xlfn.XLOOKUP(A47824,Agencies!A:A,Agencies!D:D)=\"Y\",IF(_xlfn.XLOOKUP(F47824,'Object Codes'!A:A,'Object Codes'!I:I)=\"Y\",\"Y\",\"N\"),\"N\")","v":"Y"},{"$f":"VLOOKUP(F47824,'Object Codes'!$A:$C,3,0)","v":"Security Equipment"},{"$f":"VLOOKUP(A47824,Agencies!A:C,3,0)","v":"Off. of Prosec. & Spec. Narc."},0]
["906",2022,"001","002","0101","332",0,0,0,0,1957,0,0,0,0,0,1957,0,1957,1957,0,1957,0,1957,1957,0,{"$f":"_xlfn.XLOOKUP(F47825,'Object Codes'!$A$18:$A$510,'Object Codes'!$H$18:$H$510)","v":"Equipment"},{"$f":"_xlfn.XLOOKUP(F47825,'Object Codes'!$A$18:$A$510,'Object Codes'!$G$18:$G$510)","v":"A"},{"$f":"_xlfn.XLOOKUP(A47825,Agencies!$A$9:$A$146,Agencies!$B$9:$B$146)","v":"Public Safety & Judicial"},{"$f":"IF(_xlfn.XLOOKUP(A47825,Agencies!A:A,Agencies!D:D)=\"Y\",IF(_xlfn.XLOOKUP(F47825,'Object Codes'!A:A,'Object Codes'!I:I)=\"Y\",\"Y\",\"N\"),\"N\")","v":"Y"},{"$f":"VLOOKUP(F47825,'Object Codes'!$A:$C,3,0)","v":"Purchases of Data Processing Equipment"},{"$f":"VLOOKUP(A47825,Agencies!A:C,3,0)","v":"Off. of Prosec. & Spec. Narc."},5.3616438356164382]
["906",2022,"001","002","0101","337",0,0,0,23000,162255,0,0,0,0,0,162254.68,0,162254.68,162254.68,0.32,162254.68,0.32,162254.68,162254.68,0.32,{"$f":"_xlfn.XLOOKUP(F47826,'Object Codes'!$A$18:$A$510,'Object Codes'!$H$18:$H$510)","v":"Equipment"},{"$f":"_xlfn.XLOOKUP(F47826,'Object Codes'!$A$18:$A$510,'Object Codes'!$G$18:$G$510)","v":"A"},{"$f":"_xlfn.XLOOKUP(A47826,Agencies!$A$9:$A$146,Agencies!$B$9:$B$146)","v":"Public Safety & Judicial"},{"$f":"IF(_xlfn.XLOOKUP(A47826,Agencies!A:A,Agencies!D:D)=\"Y\",IF(_xlfn.XLOOKUP(F47826,'Object Codes'!A:A,'Object Codes'!I:I)=\"Y\",\"Y\",\"N\"),\"N\")","v":"Y"},{"$f":"VLOOKUP(F47826,'Object Codes'!$A:$C,3,0)","v":"Books - Other"},{"$f":"VLOOKUP(A47826,Agencies!A:C,3,0)","v":"Off. of Prosec. & Spec. Narc."},444.53336986301366]
["906",2022,"001","002","0101","338",0,0,0,15000,2687,0,0,0,0,0,2686.94,0,2686.94,2686.94,0.06,2686.94,0.06,2686.94,2686.94,0.06,{"$f":"_xlfn.XLOOKUP(F47827,'Object Codes'!$A$18:$A$510,'Object Codes'!$H$18:$H$510)","v":"Equipment"},{"$f":"_xlfn.XLOOKUP(F47827,'Object Codes'!$A$18:$A$510,'Object Codes'!$G$18:$G$510)","v":"A"},{"$f":"_xlfn.XLOOKUP(A47827,Agencies!$A$9:$A$146,Agencies!$B$9:$B$146)","v":"Public Safety & Judicial"},{"$f":"IF(_xlfn.XLOOKUP(A47827,Agencies!A:A,Agencies!D:D)=\"Y\",IF(_xlfn.XLOOKUP(F47827,'Object Codes'!A:A,'Object Codes'!I:I)=\"Y\",\"Y\",\"N\"),\"N\")","v":"Y"},{"$f":"VLOOKUP(F47827,'Object Codes'!$A:$C,3,0)","v":"Library Books"},{"$f":"VLOOKUP(A47827,Agencies!A:C,3,0)","v":"Off. of Prosec. & Spec. Narc."},7.3614794520547946]
["906",2022,"001","002","0101","400",0,0,0,6908,29224,0,0,0,0,0,29223.69,0,29223.69,29223.69,0.31,29223.69,0.31,29223.69,29223.69,0.31,{"$f":"_xlfn.XLOOKUP(F47828,'Object Codes'!$A$18:$A$510,'Object Codes'!$H$18:$H$510)","v":"Other Services and Charges - General"},{"$f":"_xlfn.XLOOKUP(F47828,'Object Codes'!$A$18:$A$510,'Object Codes'!$G$18:$G$510)","v":0},{"$f":"_xlfn.XLOOKUP(A47828,Agencies!$A$9:$A$146,Agencies!$B$9:$B$146)","v":"Public Safety & Judicial"},{"$f":"IF(_xlfn.XLOOKUP(A47828,Agencies!A:A,Agencies!D:D)=\"Y\",IF(_xlfn.XLOOKUP(F47828,'Object Codes'!A:A,'Object Codes'!I:I)=\"Y\",\"Y\",\"N\"),\"N\")","v":"Y"},{"$f":"VLOOKUP(F47828,'Object Codes'!$A:$C,3,0)","v":"Other Services and Charges - General"},{"$f":"VLOOKUP(A47828,Agencies!A:C,3,0)","v":"Off. of Prosec. & Spec. Narc."},80.064904109589037]
["906",2022,"001","002","0101","402",0,0,0,45751,47860,0,0,0,0,0,47859.3,0,47859.3,47859.3,0.7,47859.3,0.7,47859.3,47859.3,0.7,{"$f":"_xlfn.XLOOKUP(F47829,'Object Codes'!$A$18:$A$510,'Object Codes'!$H$18:$H$510)","v":"Other Services and Charges - General"},{"$f":"_xlfn.XLOOKUP(F47829,'Object Codes'!$A$18:$A$510,'Object Codes'!$G$18:$G$510)","v":0},{"$f":"_xlfn.XLOOKUP(A47829,Agencies!$A$9:$A$146,Agencies!$B$9:$B$146)","v":"Public Safety & Judicial"},{"$f":"IF(_xlfn.XLOOKUP(A47829,Agencies!A:A,Agencies!D:D)=\"Y\",IF(_xlfn.XLOOKUP(F47829,'Object Codes'!A:A,'Object Codes'!I:I)=\"Y\",\"Y\",\"N\"),\"N\")","v":"Y"},{"$f":"VLOOKUP(F47829,'Object Codes'!$A:$C,3,0)","v":"Telephone and Other Communications"},{"$f":"VLOOKUP(A47829,Agencies!A:C,3,0)","v":"Off. of Prosec. & Spec. Narc."},131.12136986301371]
["906",2022,"001","002","0101","403",0,0,0,6378,572,0,0,0,0,0,571.35,0,571.35,571.35,0.65,571.35,0.65,571.35,571.35,0.65,{"$f":"_xlfn.XLOOKUP(F47830,'Object Codes'!$A$18:$A$510,'Object Codes'!$H$18:$H$510)","v":"Other Services and Charges - General"},{"$f":"_xlfn.XLOOKUP(F47830,'Object Codes'!$A$18:$A$510,'Object Codes'!$G$18:$G$510)","v":0},{"$f":"_xlfn.XLOOKUP(A47830,Agencies!$A$9:$A$146,Agencies!$B$9:$B$146)","v":"Public Safety & Judicial"},{"$f":"IF(_xlfn.XLOOKUP(A47830,Agencies!A:A,Agencies!D:D)=\"Y\",IF(_xlfn.XLOOKUP(F47830,'Object Codes'!A:A,'Object Codes'!I:I)=\"Y\",\"Y\",\"N\"),\"N\")","v":"Y"},{"$f":"VLOOKUP(F47830,'Object Codes'!$A:$C,3,0)","v":"Office Services"},{"$f":"VLOOKUP(A47830,Agencies!A:C,3,0)","v":"Off. of Prosec. & Spec. Narc."},1.5653424657534247]
["906",2022,"001","002","0101","40B",0,0,0,2004,2004,0,0,0,0,0,0,0,0,0,2004,0,2004,0,0,2004,{"$f":"_xlfn.XLOOKUP(F47831,'Object Codes'!$A$18:$A$510,'Object Codes'!$H$18:$H$510)","v":"Other Services and Charges - General"},{"$f":"_xlfn.XLOOKUP(F47831,'Object Codes'!$A$18:$A$510,'Object Codes'!$G$18:$G$510)","v":0},{"$f":"_xlfn.XLOOKUP(A47831,Agencies!$A$9:$A$146,Agencies!$B$9:$B$146)","v":"Public Safety & Judicial"},{"$f":"IF(_xlfn.XLOOKUP(A47831,Agencies!A:A,Agencies!D:D)=\"Y\",IF(_xlfn.XLOOKUP(F47831,'Object Codes'!A:A,'Object Codes'!I:I)=\"Y\",\"Y\",\"N\"),\"N\")","v":"Y"},{"$f":"VLOOKUP(F47831,'Object Codes'!$A:$C,3,0)","v":"TELEPHONE & OTHER COMMUNICATNS"},{"$f":"VLOOKUP(A47831,Agencies!A:C,3,0)","v":"Off. of Prosec. & Spec. Narc."},0]
["906",2022,"001","002","0101","412",0,0,0,6000,3387,0,0,0,0,0,3386.64,0,3386.64,3386.64,0.36,3386.64,0.36,3386.64,3386.64,0.36,{"$f":"_xlfn.XLOOKUP(F47832,'Object Codes'!$A$18:$A$510,'Object Codes'!$H$18:$H$510)","v":"Other Services and Charges - General"},{"$f":"_xlfn.XLOOKUP(F47832,'Object Codes'!$A$18:$A$510,'Object Codes'!$G$18:$G$510)","v":0},{"$f":"_xlfn.XLOOKUP(A47832,Agencies!$A$9:$A$146,Agencies!$B$9:$B$146)","v":"Public Safety & Judicial"},{"$f":"IF(_xlfn.XLOOKUP(A47832,Agencies!A:A,Agencies!D:D)=\"Y\",IF(_xlfn.XLOOKUP(F47832,'Object Codes'!A:A,'Object Codes'!I:I)=\"Y\",\"Y\",\"N\"),\"N\")","v":"Y"},{"$f":"VLOOKUP(F47832,'Object Codes'!$A:$C,3,0)","v":"Rentals - Miscellaneous Equipment"},{"$f":"VLOOKUP(A47832,Agencies!A:C,3,0)","v":"Off. of Prosec. & Spec. Narc."},9.2784657534246566]
["906",2022,"001","002","0101","427",0,0,0,15000,105274,0,0,0,0,0,105273.62,0,105273.62,105273.62,0.38,105273.62,0.38,105273.62,105273.62,0.38,{"$f":"_xlfn.XLOOKUP(F47833,'Object Codes'!$A$18:$A$510,'Object Codes'!$H$18:$H$510)","v":"Other Services and Charges - General"},{"$f":"_xlfn.XLOOKUP(F47833,'Object Codes'!$A$18:$A$510,'Object Codes'!$G$18:$G$510)","v":0},{"$f":"_xlfn.XLOOKUP(A47833,Agencies!$A$9:$A$146,Agencies!$B$9:$B$146)","v":"Public Safety & Judicial"},{"$f":"IF(_xlfn.XLOOKUP(A47833,Agencies!A:A,Agencies!D:D)=\"Y\",IF(_xlfn.XLOOKUP(F47833,'Object Codes'!A:A,'Object Codes'!I:I)=\"Y\",\"Y\",\"N\"),\"N\")","v":"Y"},{"$f":"VLOOKUP(F47833,'Object Codes'!$A:$C,3,0)","v":"Data Processing Services"},{"$f":"VLOOKUP(A47833,Agencies!A:C,3,0)","v":"Off. of Prosec. & Spec. Narc."},288.42087671232878]
["906",2022,"001","002","0101","42G",0,0,0,34752,0,0,0,0,0,0,0,0,0,0,0,0,0,0,0,0,{"$f":"_xlfn.XLOOKUP(F47834,'Object Codes'!$A$18:$A$510,'Object Codes'!$H$18:$H$510)","v":"Other Services and Charges - General"},{"$f":"_xlfn.XLOOKUP(F47834,'Object Codes'!$A$18:$A$510,'Object Codes'!$G$18:$G$510)","v":0},{"$f":"_xlfn.XLOOKUP(A47834,Agencies!$A$9:$A$146,Agencies!$B$9:$B$146)","v":"Public Safety & Judicial"},{"$f":"IF(_xlfn.XLOOKUP(A47834,Agencies!A:A,Agencies!D:D)=\"Y\",IF(_xlfn.XLOOKUP(F47834,'Object Codes'!A:A,'Object Codes'!I:I)=\"Y\",\"Y\",\"N\"),\"N\")","v":"Y"},{"$f":"VLOOKUP(F47834,'Object Codes'!$A:$C,3,0)","v":"DATA PROCESSING SERVICES"},{"$f":"VLOOKUP(A47834,Agencies!A:C,3,0)","v":"Off. of Prosec. & Spec. Narc."},0]
["906",2022,"001","002","0101","431",0,0,0,3000,0,0,0,0,0,0,0,0,0,0,0,0,0,0,0,0,{"$f":"_xlfn.XLOOKUP(F47835,'Object Codes'!$A$18:$A$510,'Object Codes'!$H$18:$H$510)","v":"Other Services and Charges - General"},{"$f":"_xlfn.XLOOKUP(F47835,'Object Codes'!$A$18:$A$510,'Object Codes'!$G$18:$G$510)","v":0},{"$f":"_xlfn.XLOOKUP(A47835,Agencies!$A$9:$A$146,Agencies!$B$9:$B$146)","v":"Public Safety & Judicial"},{"$f":"IF(_xlfn.XLOOKUP(A47835,Agencies!A:A,Agencies!D:D)=\"Y\",IF(_xlfn.XLOOKUP(F47835,'Object Codes'!A:A,'Object Codes'!I:I)=\"Y\",\"Y\",\"N\"),\"N\")","v":"Y"},{"$f":"VLOOKUP(F47835,'Object Codes'!$A:$C,3,0)","v":"Leasing of Miscellaneous Equipment"},{"$f":"VLOOKUP(A47835,Agencies!A:C,3,0)","v":"Off. of Prosec. & Spec. Narc."},0]
["906",2022,"001","002","0101","432",0,0,0,0,45307,0,0,0,0,0,45306.09,0,45306.09,45306.09,0.91,45306.09,0.91,45306.09,45306.09,0.91,{"$f":"_xlfn.XLOOKUP(F47836,'Object Codes'!$A$18:$A$510,'Object Codes'!$H$18:$H$510)","v":"Other Services and Charges - General"},{"$f":"_xlfn.XLOOKUP(F47836,'Object Codes'!$A$18:$A$510,'Object Codes'!$G$18:$G$510)","v":0},{"$f":"_xlfn.XLOOKUP(A47836,Agencies!$A$9:$A$146,Agencies!$B$9:$B$146)","v":"Public Safety & Judicial"},{"$f":"IF(_xlfn.XLOOKUP(A47836,Agencies!A:A,Agencies!D:D)=\"Y\",IF(_xlfn.XLOOKUP(F47836,'Object Codes'!A:A,'Object Codes'!I:I)=\"Y\",\"Y\",\"N\"),\"N\")","v":"Y"},{"$f":"VLOOKUP(F47836,'Object Codes'!$A:$C,3,0)","v":"Leasing of Data Processing Equipment"},{"$f":"VLOOKUP(A47836,Agencies!A:C,3,0)","v":"Off. of Prosec. & Spec. Narc."},124.12627397260273]
["906",2022,"001","002","0101","451",0,0,0,4000,156,0,0,0,0,0,155.88,0,155.88,155.88,0.12,155.88,0.12,155.88,155.88,0.12,{"$f":"_xlfn.XLOOKUP(F47837,'Object Codes'!$A$18:$A$510,'Object Codes'!$H$18:$H$510)","v":"Other Services and Charges - General"},{"$f":"_xlfn.XLOOKUP(F47837,'Object Codes'!$A$18:$A$510,'Object Codes'!$G$18:$G$510)","v":0},{"$f":"_xlfn.XLOOKUP(A47837,Agencies!$A$9:$A$146,Agencies!$B$9:$B$146)","v":"Public Safety & Judicial"},{"$f":"IF(_xlfn.XLOOKUP(A47837,Agencies!A:A,Agencies!D:D)=\"Y\",IF(_xlfn.XLOOKUP(F47837,'Object Codes'!A:A,'Object Codes'!I:I)=\"Y\",\"Y\",\"N\"),\"N\")","v":"Y"},{"$f":"VLOOKUP(F47837,'Object Codes'!$A:$C,3,0)","v":"Non Overnight Travel Expenditures - General"},{"$f":"VLOOKUP(A47837,Agencies!A:C,3,0)","v":"Off. of Prosec. & Spec. Narc."},0.4270684931506849]
["906",2022,"001","002","0101","452",0,0,0,3000,8028,0,0,0,0,0,8028,0,8028,8028,0,8028,0,8028,8028,0,{"$f":"_xlfn.XLOOKUP(F47838,'Object Codes'!$A$18:$A$510,'Object Codes'!$H$18:$H$510)","v":"Other Services and Charges - General"},{"$f":"_xlfn.XLOOKUP(F47838,'Object Codes'!$A$18:$A$510,'Object Codes'!$G$18:$G$510)","v":0},{"$f":"_xlfn.XLOOKUP(A47838,Agencies!$A$9:$A$146,Agencies!$B$9:$B$146)","v":"Public Safety & Judicial"},{"$f":"IF(_xlfn.XLOOKUP(A47838,Agencies!A:A,Agencies!D:D)=\"Y\",IF(_xlfn.XLOOKUP(F47838,'Object Codes'!A:A,'Object Codes'!I:I)=\"Y\",\"Y\",\"N\"),\"N\")","v":"Y"},{"$f":"VLOOKUP(F47838,'Object Codes'!$A:$C,3,0)","v":"Non Overnight Travel Expenditures - Special"},{"$f":"VLOOKUP(A47838,Agencies!A:C,3,0)","v":"Off. of Prosec. & Spec. Narc."},21.994520547945207]
["906",2022,"001","002","0101","454",0,0,0,0,749,0,0,0,0,0,749,0,749,749,0,749,0,749,749,0,{"$f":"_xlfn.XLOOKUP(F47839,'Object Codes'!$A$18:$A$510,'Object Codes'!$H$18:$H$510)","v":"Other Services and Charges - General"},{"$f":"_xlfn.XLOOKUP(F47839,'Object Codes'!$A$18:$A$510,'Object Codes'!$G$18:$G$510)","v":0},{"$f":"_xlfn.XLOOKUP(A47839,Agencies!$A$9:$A$146,Agencies!$B$9:$B$146)","v":"Public Safety & Judicial"},{"$f":"IF(_xlfn.XLOOKUP(A47839,Agencies!A:A,Agencies!D:D)=\"Y\",IF(_xlfn.XLOOKUP(F47839,'Object Codes'!A:A,'Object Codes'!I:I)=\"Y\",\"Y\",\"N\"),\"N\")","v":"Y"},{"$f":"VLOOKUP(F47839,'Object Codes'!$A:$C,3,0)","v":"Overnight Travel Expenditures - Special"},{"$f":"VLOOKUP(A47839,Agencies!A:C,3,0)","v":"Off. of Prosec. & Spec. Narc."},2.0520547945205481]
["906",2022,"001","002","0101","460",0,0,0,42725,532993,0,0,0,0,0,532993,0,532993,532993,0,532993,0,532993,532993,0,{"$f":"_xlfn.XLOOKUP(F47840,'Object Codes'!$A$18:$A$510,'Object Codes'!$H$18:$H$510)","v":"Other Services and Charges - General"},{"$f":"_xlfn.XLOOKUP(F47840,'Object Codes'!$A$18:$A$510,'Object Codes'!$G$18:$G$510)","v":0},{"$f":"_xlfn.XLOOKUP(A47840,Agencies!$A$9:$A$146,Agencies!$B$9:$B$146)","v":"Public Safety & Judicial"},{"$f":"IF(_xlfn.XLOOKUP(A47840,Agencies!A:A,Agencies!D:D)=\"Y\",IF(_xlfn.XLOOKUP(F47840,'Object Codes'!A:A,'Object Codes'!I:I)=\"Y\",\"Y\",\"N\"),\"N\")","v":"Y"},{"$f":"VLOOKUP(F47840,'Object Codes'!$A:$C,3,0)","v":"Special Expenditures"},{"$f":"VLOOKUP(A47840,Agencies!A:C,3,0)","v":"Off. of Prosec. & Spec. Narc."},1460.2547945205479]
["906",2022,"001","002","0101","465",0,0,0,55368,7033,0,0,0,0,0,7041.3,0,7041.3,7041.3,-8.3000000000000007,7041.3,-8.3000000000000007,7041.3,7041.3,-8.3000000000000007,{"$f":"_xlfn.XLOOKUP(F47841,'Object Codes'!$A$18:$A$510,'Object Codes'!$H$18:$H$510)","v":"Other Services and Charges - General"},{"$f":"_xlfn.XLOOKUP(F47841,'Object Codes'!$A$18:$A$510,'Object Codes'!$G$18:$G$510)","v":0},{"$f":"_xlfn.XLOOKUP(A47841,Agencies!$A$9:$A$146,Agencies!$B$9:$B$146)","v":"Public Safety & Judicial"},{"$f":"IF(_xlfn.XLOOKUP(A47841,Agencies!A:A,Agencies!D:D)=\"Y\",IF(_xlfn.XLOOKUP(F47841,'Object Codes'!A:A,'Object Codes'!I:I)=\"Y\",\"Y\",\"N\"),\"N\")","v":"Y"},{"$f":"VLOOKUP(F47841,'Object Codes'!$A:$C,3,0)","v":"Obligatory County Expenditures"},{"$f":"VLOOKUP(A47841,Agencies!A:C,3,0)","v":"Off. of Prosec. & Spec. Narc."},19.291232876712328]
["906",2022,"001","002","0101","499",0,0,0,569335,0,0,0,0,0,0,0,0,0,0,0,0,0,0,0,0,{"$f":"_xlfn.XLOOKUP(F47842,'Object Codes'!$A$18:$A$510,'Object Codes'!$H$18:$H$510)","v":"Other Services and Charges - General"},{"$f":"_xlfn.XLOOKUP(F47842,'Object Codes'!$A$18:$A$510,'Object Codes'!$G$18:$G$510)","v":0},{"$f":"_xlfn.XLOOKUP(A47842,Agencies!$A$9:$A$146,Agencies!$B$9:$B$146)","v":"Public Safety & Judicial"},{"$f":"IF(_xlfn.XLOOKUP(A47842,Agencies!A:A,Agencies!D:D)=\"Y\",IF(_xlfn.XLOOKUP(F47842,'Object Codes'!A:A,'Object Codes'!I:I)=\"Y\",\"Y\",\"N\"),\"N\")","v":"Y"},{"$f":"VLOOKUP(F47842,'Object Codes'!$A:$C,3,0)","v":"Other Expenditures - General"},{"$f":"VLOOKUP(A47842,Agencies!A:C,3,0)","v":"Off. of Prosec. & Spec. Narc."},0]
["906",2022,"001","002","0101","602",0,0,0,10500,20897,0,0,0,0,0,20896.04,0,20896.04,20896.04,0.96,20896.04,0.96,20896.04,20896.04,0.96,{"$f":"_xlfn.XLOOKUP(F47843,'Object Codes'!$A$18:$A$510,'Object Codes'!$H$18:$H$510)","v":"Contractual Services"},{"$f":"_xlfn.XLOOKUP(F47843,'Object Codes'!$A$18:$A$510,'Object Codes'!$G$18:$G$510)","v":0},{"$f":"_xlfn.XLOOKUP(A47843,Agencies!$A$9:$A$146,Agencies!$B$9:$B$146)","v":"Public Safety & Judicial"},{"$f":"IF(_xlfn.XLOOKUP(A47843,Agencies!A:A,Agencies!D:D)=\"Y\",IF(_xlfn.XLOOKUP(F47843,'Object Codes'!A:A,'Object Codes'!I:I)=\"Y\",\"Y\",\"N\"),\"N\")","v":"Y"},{"$f":"VLOOKUP(F47843,'Object Codes'!$A:$C,3,0)","v":"Telecommunications Maintenance - Contractual"},{"$f":"VLOOKUP(A47843,Agencies!A:C,3,0)","v":"Off. of Prosec. & Spec. Narc."},57.249424657534249]
["906",2022,"001","002","0101","607",0,0,0,24326,0,0,0,0,0,0,0,0,0,0,0,0,0,0,0,0,{"$f":"_xlfn.XLOOKUP(F47844,'Object Codes'!$A$18:$A$510,'Object Codes'!$H$18:$H$510)","v":"Contractual Services"},{"$f":"_xlfn.XLOOKUP(F47844,'Object Codes'!$A$18:$A$510,'Object Codes'!$G$18:$G$510)","v":0},{"$f":"_xlfn.XLOOKUP(A47844,Agencies!$A$9:$A$146,Agencies!$B$9:$B$146)","v":"Public Safety & Judicial"},{"$f":"IF(_xlfn.XLOOKUP(A47844,Agencies!A:A,Agencies!D:D)=\"Y\",IF(_xlfn.XLOOKUP(F47844,'Object Codes'!A:A,'Object Codes'!I:I)=\"Y\",\"Y\",\"N\"),\"N\")","v":"Y"},{"$f":"VLOOKUP(F47844,'Object Codes'!$A:$C,3,0)","v":"Maintenance and Repairs - Motor Vehicle Equipment - Contractual"},{"$f":"VLOOKUP(A47844,Agencies!A:C,3,0)","v":"Off. of Prosec. & Spec. Narc."},0]
["906",2022,"001","002","0101","608",0,0,0,13500,47066,0,0,0,0,0,47065.77,0,47065.77,47065.77,0.23,47065.77,0.23,47065.77,47065.77,0.23,{"$f":"_xlfn.XLOOKUP(F47845,'Object Codes'!$A$18:$A$510,'Object Codes'!$H$18:$H$510)","v":"Contractual Services"},{"$f":"_xlfn.XLOOKUP(F47845,'Object Codes'!$A$18:$A$510,'Object Codes'!$G$18:$G$510)","v":0},{"$f":"_xlfn.XLOOKUP(A47845,Agencies!$A$9:$A$146,Agencies!$B$9:$B$146)","v":"Public Safety & Judicial"},{"$f":"IF(_xlfn.XLOOKUP(A47845,Agencies!A:A,Agencies!D:D)=\"Y\",IF(_xlfn.XLOOKUP(F47845,'Object Codes'!A:A,'Object Codes'!I:I)=\"Y\",\"Y\",\"N\"),\"N\")","v":"Y"},{"$f":"VLOOKUP(F47845,'Object Codes'!$A:$C,3,0)","v":"Maintenance and Repairs - General - Contractual"},{"$f":"VLOOKUP(A47845,Agencies!A:C,3,0)","v":"Off. of Prosec. & Spec. Narc."},128.94731506849314]
["906",2022,"001","002","0101","612",0,0,0,12000,11576,0,0,0,0,0,11575.76,0,11575.76,11575.76,0.24,11575.76,0.24,11575.76,11575.76,0.24,{"$f":"_xlfn.XLOOKUP(F47846,'Object Codes'!$A$18:$A$510,'Object Codes'!$H$18:$H$510)","v":"Contractual Services"},{"$f":"_xlfn.XLOOKUP(F47846,'Object Codes'!$A$18:$A$510,'Object Codes'!$G$18:$G$510)","v":0},{"$f":"_xlfn.XLOOKUP(A47846,Agencies!$A$9:$A$146,Agencies!$B$9:$B$146)","v":"Public Safety & Judicial"},{"$f":"IF(_xlfn.XLOOKUP(A47846,Agencies!A:A,Agencies!D:D)=\"Y\",IF(_xlfn.XLOOKUP(F47846,'Object Codes'!A:A,'Object Codes'!I:I)=\"Y\",\"Y\",\"N\"),\"N\")","v":"Y"},{"$f":"VLOOKUP(F47846,'Object Codes'!$A:$C,3,0)","v":"Office Equipment Maintenance - Contractual"},{"$f":"VLOOKUP(A47846,Agencies!A:C,3,0)","v":"Off. of Prosec. & Spec. Narc."},31.714410958904111]
["906",2022,"001","002","0101","613",0,0,0,5000,10503,0,0,0,0,0,10502.1,0,10502.1,10502.1,0.9,10502.1,0.9,10502.1,10502.1,0.9,{"$f":"_xlfn.XLOOKUP(F47847,'Object Codes'!$A$18:$A$510,'Object Codes'!$H$18:$H$510)","v":"Contractual Services"},{"$f":"_xlfn.XLOOKUP(F47847,'Object Codes'!$A$18:$A$510,'Object Codes'!$G$18:$G$510)","v":0},{"$f":"_xlfn.XLOOKUP(A47847,Agencies!$A$9:$A$146,Agencies!$B$9:$B$146)","v":"Public Safety & Judicial"},{"$f":"IF(_xlfn.XLOOKUP(A47847,Agencies!A:A,Agencies!D:D)=\"Y\",IF(_xlfn.XLOOKUP(F47847,'Object Codes'!A:A,'Object Codes'!I:I)=\"Y\",\"Y\",\"N\"),\"N\")","v":"Y"},{"$f":"VLOOKUP(F47847,'Object Codes'!$A:$C,3,0)","v":"Data Processing Equipment Maintenance - Contractual"},{"$f":"VLOOKUP(A47847,Agencies!A:C,3,0)","v":"Off. of Prosec. & Spec. Narc."},28.772876712328767]
["906",2022,"001","002","0101","615",0,0,0,6000,12313,0,0,0,0,0,12312.08,0,12312.08,12312.08,0.92,12312.08,0.92,12312.08,12312.08,0.92,{"$f":"_xlfn.XLOOKUP(F47848,'Object Codes'!$A$18:$A$510,'Object Codes'!$H$18:$H$510)","v":"Contractual Services"},{"$f":"_xlfn.XLOOKUP(F47848,'Object Codes'!$A$18:$A$510,'Object Codes'!$G$18:$G$510)","v":0},{"$f":"_xlfn.XLOOKUP(A47848,Agencies!$A$9:$A$146,Agencies!$B$9:$B$146)","v":"Public Safety & Judicial"},{"$f":"IF(_xlfn.XLOOKUP(A47848,Agencies!A:A,Agencies!D:D)=\"Y\",IF(_xlfn.XLOOKUP(F47848,'Object Codes'!A:A,'Object Codes'!I:I)=\"Y\",\"Y\",\"N\"),\"N\")","v":"Y"},{"$f":"VLOOKUP(F47848,'Object Codes'!$A:$C,3,0)","v":"Printing Services - Contractual"},{"$f":"VLOOKUP(A47848,Agencies!A:C,3,0)","v":"Off. of Prosec. & Spec. Narc."},33.731726027397258]
["906",2022,"001","002","0101","619",0,0,0,19000,0,0,0,0,0,0,0,0,0,0,0,0,0,0,0,0,{"$f":"_xlfn.XLOOKUP(F47849,'Object Codes'!$A$18:$A$510,'Object Codes'!$H$18:$H$510)","v":"Contractual Services"},{"$f":"_xlfn.XLOOKUP(F47849,'Object Codes'!$A$18:$A$510,'Object Codes'!$G$18:$G$510)","v":0},{"$f":"_xlfn.XLOOKUP(A47849,Agencies!$A$9:$A$146,Agencies!$B$9:$B$146)","v":"Public Safety & Judicial"},{"$f":"IF(_xlfn.XLOOKUP(A47849,Agencies!A:A,Agencies!D:D)=\"Y\",IF(_xlfn.XLOOKUP(F47849,'Object Codes'!A:A,'Object Codes'!I:I)=\"Y\",\"Y\",\"N\"),\"N\")","v":"Y"},{"$f":"VLOOKUP(F47849,'Object Codes'!$A:$C,3,0)","v":"Security Services - Contractual"},{"$f":"VLOOKUP(A47849,Agencies!A:C,3,0)","v":"Off. of Prosec. & Spec. Narc."},0]
["906",2022,"001","002","0101","622",0,0,0,12000,0,0,0,0,0,0,0,0,0,0,0,0,0,0,0,0,{"$f":"_xlfn.XLOOKUP(F47850,'Object Codes'!$A$18:$A$510,'Object Codes'!$H$18:$H$510)","v":"Contractual Services"},{"$f":"_xlfn.XLOOKUP(F47850,'Object Codes'!$A$18:$A$510,'Object Codes'!$G$18:$G$510)","v":0},{"$f":"_xlfn.XLOOKUP(A47850,Agencies!$A$9:$A$146,Agencies!$B$9:$B$146)","v":"Public Safety & Judicial"},{"$f":"IF(_xlfn.XLOOKUP(A47850,Agencies!A:A,Agencies!D:D)=\"Y\",IF(_xlfn.XLOOKUP(F47850,'Object Codes'!A:A,'Object Codes'!I:I)=\"Y\",\"Y\",\"N\"),\"N\")","v":"Y"},{"$f":"VLOOKUP(F47850,'Object Codes'!$A:$C,3,0)","v":"Temporary Services - Contractual"},{"$f":"VLOOKUP(A47850,Agencies!A:C,3,0)","v":"Off. of Prosec. & Spec. Narc."},0]
["906",2022,"001","002","0101","676",0,0,0,0,950,0,0,0,0,0,950,0,950,950,0,950,0,950,950,0,{"$f":"_xlfn.XLOOKUP(F47851,'Object Codes'!$A$18:$A$510,'Object Codes'!$H$18:$H$510)","v":"Contractual Services"},{"$f":"_xlfn.XLOOKUP(F47851,'Object Codes'!$A$18:$A$510,'Object Codes'!$G$18:$G$510)","v":0},{"$f":"_xlfn.XLOOKUP(A47851,Agencies!$A$9:$A$146,Agencies!$B$9:$B$146)","v":"Public Safety & Judicial"},{"$f":"IF(_xlfn.XLOOKUP(A47851,Agencies!A:A,Agencies!D:D)=\"Y\",IF(_xlfn.XLOOKUP(F47851,'Object Codes'!A:A,'Object Codes'!I:I)=\"Y\",\"Y\",\"N\"),\"N\")","v":"Y"},{"$f":"VLOOKUP(F47851,'Object Codes'!$A:$C,3,0)","v":"Maintenance and Operation of Infrastructure - Contractual"},{"$f":"VLOOKUP(A47851,Agencies!A:C,3,0)","v":"Off. of Prosec. & Spec. Narc."},2.6027397260273974]
["906",2022,"001","002","0101","706",0,0,0,0,0,0,0,0,0,0,50.93,0,50.93,50.93,-50.93,50.93,-50.93,50.93,50.93,-50.93,{"$f":"_xlfn.XLOOKUP(F47852,'Object Codes'!$A$18:$A$510,'Object Codes'!$H$18:$H$510)","v":"Fixed Charges"},{"$f":"_xlfn.XLOOKUP(F47852,'Object Codes'!$A$18:$A$510,'Object Codes'!$G$18:$G$510)","v":0},{"$f":"_xlfn.XLOOKUP(A47852,Agencies!$A$9:$A$146,Agencies!$B$9:$B$146)","v":"Public Safety & Judicial"},{"$f":"IF(_xlfn.XLOOKUP(A47852,Agencies!A:A,Agencies!D:D)=\"Y\",IF(_xlfn.XLOOKUP(F47852,'Object Codes'!A:A,'Object Codes'!I:I)=\"Y\",\"Y\",\"N\"),\"N\")","v":"Y"},{"$f":"VLOOKUP(F47852,'Object Codes'!$A:$C,3,0)","v":"Prompt Payments Interest"},{"$f":"VLOOKUP(A47852,Agencies!A:C,3,0)","v":"Off. of Prosec. & Spec. Narc."},0.13953424657534247]
["906",2022,"001","002","0101","732",0,0,0,0,1982,0,0,0,0,0,1981.2,0,1981.2,1981.2,0.8,1981.2,0.8,1981.2,1981.2,0.8,{"$f":"_xlfn.XLOOKUP(F47853,'Object Codes'!$A$18:$A$510,'Object Codes'!$H$18:$H$510)","v":"Fixed Charges"},{"$f":"_xlfn.XLOOKUP(F47853,'Object Codes'!$A$18:$A$510,'Object Codes'!$G$18:$G$510)","v":0},{"$f":"_xlfn.XLOOKUP(A47853,Agencies!$A$9:$A$146,Agencies!$B$9:$B$146)","v":"Public Safety & Judicial"},{"$f":"IF(_xlfn.XLOOKUP(A47853,Agencies!A:A,Agencies!D:D)=\"Y\",IF(_xlfn.XLOOKUP(F47853,'Object Codes'!A:A,'Object Codes'!I:I)=\"Y\",\"Y\",\"N\"),\"N\")","v":"Y"},{"$f":"VLOOKUP(F47853,'Object Codes'!$A:$C,3,0)","v":"Miscellaneous Awards"},{"$f":"VLOOKUP(A47853,Agencies!A:C,3,0)","v":"Off. of Prosec. & Spec. Narc."},5.4279452054794524]
["906",2022,"001","002","9001","199",0,0,0,0,1270,0,0,0,0,0,1269.73,0,1269.73,1269.73,0.27,1269.73,0.27,1269.73,1269.73,0.27,{"$f":"_xlfn.XLOOKUP(F47854,'Object Codes'!$A$18:$A$510,'Object Codes'!$H$18:$H$510)","v":"Supplies & Materials"},{"$f":"_xlfn.XLOOKUP(F47854,'Object Codes'!$A$18:$A$510,'Object Codes'!$G$18:$G$510)","v":"A"},{"$f":"_xlfn.XLOOKUP(A47854,Agencies!$A$9:$A$146,Agencies!$B$9:$B$146)","v":"Public Safety & Judicial"},{"$f":"IF(_xlfn.XLOOKUP(A47854,Agencies!A:A,Agencies!D:D)=\"Y\",IF(_xlfn.XLOOKUP(F47854,'Object Codes'!A:A,'Object Codes'!I:I)=\"Y\",\"Y\",\"N\"),\"N\")","v":"Y"},{"$f":"VLOOKUP(F47854,'Object Codes'!$A:$C,3,0)","v":"Data Processing Supplies"},{"$f":"VLOOKUP(A47854,Agencies!A:C,3,0)","v":"Off. of Prosec. & Spec. Narc."},3.4787123287671236]
["906",2022,"001","002","9001","332",0,0,0,0,6385,0,0,0,0,0,6385,0,6385,6385,0,6385,0,6385,6385,0,{"$f":"_xlfn.XLOOKUP(F47855,'Object Codes'!$A$18:$A$510,'Object Codes'!$H$18:$H$510)","v":"Equipment"},{"$f":"_xlfn.XLOOKUP(F47855,'Object Codes'!$A$18:$A$510,'Object Codes'!$G$18:$G$510)","v":"A"},{"$f":"_xlfn.XLOOKUP(A47855,Agencies!$A$9:$A$146,Agencies!$B$9:$B$146)","v":"Public Safety & Judicial"},{"$f":"IF(_xlfn.XLOOKUP(A47855,Agencies!A:A,Agencies!D:D)=\"Y\",IF(_xlfn.XLOOKUP(F47855,'Object Codes'!A:A,'Object Codes'!I:I)=\"Y\",\"Y\",\"N\"),\"N\")","v":"Y"},{"$f":"VLOOKUP(F47855,'Object Codes'!$A:$C,3,0)","v":"Purchases of Data Processing Equipment"},{"$f":"VLOOKUP(A47855,Agencies!A:C,3,0)","v":"Off. of Prosec. & Spec. Narc."},17.493150684931507]
["906",2022,"001","002","9001","402",0,0,0,0,50677,0,0,0,0,0,50676.92,0,50676.92,50676.92,0.08,50676.92,0.08,50676.92,50676.92,0.08,{"$f":"_xlfn.XLOOKUP(F47856,'Object Codes'!$A$18:$A$510,'Object Codes'!$H$18:$H$510)","v":"Other Services and Charges - General"},{"$f":"_xlfn.XLOOKUP(F47856,'Object Codes'!$A$18:$A$510,'Object Codes'!$G$18:$G$510)","v":0},{"$f":"_xlfn.XLOOKUP(A47856,Agencies!$A$9:$A$146,Agencies!$B$9:$B$146)","v":"Public Safety & Judicial"},{"$f":"IF(_xlfn.XLOOKUP(A47856,Agencies!A:A,Agencies!D:D)=\"Y\",IF(_xlfn.XLOOKUP(F47856,'Object Codes'!A:A,'Object Codes'!I:I)=\"Y\",\"Y\",\"N\"),\"N\")","v":"Y"},{"$f":"VLOOKUP(F47856,'Object Codes'!$A:$C,3,0)","v":"Telephone and Other Communications"},{"$f":"VLOOKUP(A47856,Agencies!A:C,3,0)","v":"Off. of Prosec. & Spec. Narc."},138.84087671232876]
["906",2022,"001","002","9001","427",0,0,0,0,41772,0,0,0,0,0,41771.33,0,41771.33,41771.33,0.67,41771.33,0.67,41771.33,41771.33,0.67,{"$f":"_xlfn.XLOOKUP(F47857,'Object Codes'!$A$18:$A$510,'Object Codes'!$H$18:$H$510)","v":"Other Services and Charges - General"},{"$f":"_xlfn.XLOOKUP(F47857,'Object Codes'!$A$18:$A$510,'Object Codes'!$G$18:$G$510)","v":0},{"$f":"_xlfn.XLOOKUP(A47857,Agencies!$A$9:$A$146,Agencies!$B$9:$B$146)","v":"Public Safety & Judicial"},{"$f":"IF(_xlfn.XLOOKUP(A47857,Agencies!A:A,Agencies!D:D)=\"Y\",IF(_xlfn.XLOOKUP(F47857,'Object Codes'!A:A,'Object Codes'!I:I)=\"Y\",\"Y\",\"N\"),\"N\")","v":"Y"},{"$f":"VLOOKUP(F47857,'Object Codes'!$A:$C,3,0)","v":"Data Processing Services"},{"$f":"VLOOKUP(A47857,Agencies!A:C,3,0)","v":"Off. of Prosec. & Spec. Narc."},114.44200000000001]
["906",2022,"001","002","9001","432",0,0,0,0,11963,0,0,0,0,0,11962.08,0,11962.08,11962.08,0.92,11962.08,0.92,11962.08,11962.08,0.92,{"$f":"_xlfn.XLOOKUP(F47858,'Object Codes'!$A$18:$A$510,'Object Codes'!$H$18:$H$510)","v":"Other Services and Charges - General"},{"$f":"_xlfn.XLOOKUP(F47858,'Object Codes'!$A$18:$A$510,'Object Codes'!$G$18:$G$510)","v":0},{"$f":"_xlfn.XLOOKUP(A47858,Agencies!$A$9:$A$146,Agencies!$B$9:$B$146)","v":"Public Safety & Judicial"},{"$f":"IF(_xlfn.XLOOKUP(A47858,Agencies!A:A,Agencies!D:D)=\"Y\",IF(_xlfn.XLOOKUP(F47858,'Object Codes'!A:A,'Object Codes'!I:I)=\"Y\",\"Y\",\"N\"),\"N\")","v":"Y"},{"$f":"VLOOKUP(F47858,'Object Codes'!$A:$C,3,0)","v":"Leasing of Data Processing Equipment"},{"$f":"VLOOKUP(A47858,Agencies!A:C,3,0)","v":"Off. of Prosec. & Spec. Narc."},32.772821917808216]
["906",2022,"001","002","9001","460",0,0,0,0,384711,0,0,0,0,0,381719.92,0,381719.92,381719.92,2991.08,381719.92,2991.08,381719.92,381719.92,2991.08,{"$f":"_xlfn.XLOOKUP(F47859,'Object Codes'!$A$18:$A$510,'Object Codes'!$H$18:$H$510)","v":"Other Services and Charges - General"},{"$f":"_xlfn.XLOOKUP(F47859,'Object Codes'!$A$18:$A$510,'Object Codes'!$G$18:$G$510)","v":0},{"$f":"_xlfn.XLOOKUP(A47859,Agencies!$A$9:$A$146,Agencies!$B$9:$B$146)","v":"Public Safety & Judicial"},{"$f":"IF(_xlfn.XLOOKUP(A47859,Agencies!A:A,Agencies!D:D)=\"Y\",IF(_xlfn.XLOOKUP(F47859,'Object Codes'!A:A,'Object Codes'!I:I)=\"Y\",\"Y\",\"N\"),\"N\")","v":"Y"},{"$f":"VLOOKUP(F47859,'Object Codes'!$A:$C,3,0)","v":"Special Expenditures"},{"$f":"VLOOKUP(A47859,Agencies!A:C,3,0)","v":"Off. of Prosec. & Spec. Narc."},1045.808]
["906",2022,"001","002","9001","499",0,0,0,501000,0,0,0,0,0,0,0,0,0,0,0,0,0,0,0,0,{"$f":"_xlfn.XLOOKUP(F47860,'Object Codes'!$A$18:$A$510,'Object Codes'!$H$18:$H$510)","v":"Other Services and Charges - General"},{"$f":"_xlfn.XLOOKUP(F47860,'Object Codes'!$A$18:$A$510,'Object Codes'!$G$18:$G$510)","v":0},{"$f":"_xlfn.XLOOKUP(A47860,Agencies!$A$9:$A$146,Agencies!$B$9:$B$146)","v":"Public Safety & Judicial"},{"$f":"IF(_xlfn.XLOOKUP(A47860,Agencies!A:A,Agencies!D:D)=\"Y\",IF(_xlfn.XLOOKUP(F47860,'Object Codes'!A:A,'Object Codes'!I:I)=\"Y\",\"Y\",\"N\"),\"N\")","v":"Y"},{"$f":"VLOOKUP(F47860,'Object Codes'!$A:$C,3,0)","v":"Other Expenditures - General"},{"$f":"VLOOKUP(A47860,Agencies!A:C,3,0)","v":"Off. of Prosec. & Spec. Narc."},0]
["906",2022,"001","002","9001","622",0,0,0,0,4222,0,0,0,0,0,4221.4799999999996,0,4221.4799999999996,4221.4799999999996,0.52,4221.4799999999996,0.52,4221.4799999999996,4221.4799999999996,0.52,{"$f":"_xlfn.XLOOKUP(F47861,'Object Codes'!$A$18:$A$510,'Object Codes'!$H$18:$H$510)","v":"Contractual Services"},{"$f":"_xlfn.XLOOKUP(F47861,'Object Codes'!$A$18:$A$510,'Object Codes'!$G$18:$G$510)","v":0},{"$f":"_xlfn.XLOOKUP(A47861,Agencies!$A$9:$A$146,Agencies!$B$9:$B$146)","v":"Public Safety & Judicial"},{"$f":"IF(_xlfn.XLOOKUP(A47861,Agencies!A:A,Agencies!D:D)=\"Y\",IF(_xlfn.XLOOKUP(F47861,'Object Codes'!A:A,'Object Codes'!I:I)=\"Y\",\"Y\",\"N\"),\"N\")","v":"Y"},{"$f":"VLOOKUP(F47861,'Object Codes'!$A:$C,3,0)","v":"Temporary Services - Contractual"},{"$f":"VLOOKUP(A47861,Agencies!A:C,3,0)","v":"Off. of Prosec. & Spec. Narc."},11.565698630136986]
["941",2022,"001","001","1000","001",0,13,13,828671,790671,0,0,0,0,0,703447.76,0,703447.76,703447.76,87223.24,703447.76,87223.24,703447.76,703447.76,87223.24,{"$f":"_xlfn.XLOOKUP(F47862,'Object Codes'!$A$18:$A$510,'Object Codes'!$H$18:$H$510)","v":"PS - Regular"},{"$f":"_xlfn.XLOOKUP(F47862,'Object Codes'!$A$18:$A$510,'Object Codes'!$G$18:$G$510)","v":"C"},{"$f":"_xlfn.XLOOKUP(A47862,Agencies!$A$9:$A$146,Agencies!$B$9:$B$146)","v":"Public Safety & Judicial"},{"$f":"IF(_xlfn.XLOOKUP(A47862,Agencies!A:A,Agencies!D:D)=\"Y\",IF(_xlfn.XLOOKUP(F47862,'Object Codes'!A:A,'Object Codes'!I:I)=\"Y\",\"Y\",\"N\"),\"N\")","v":"Y"},{"$f":"VLOOKUP(F47862,'Object Codes'!$A:$C,3,0)","v":"Full Year Positions"},{"$f":"VLOOKUP(A47862,Agencies!A:C,3,0)","v":"Public Administrator - N.Y."},1927.2541369863013]
["941",2022,"001","001","1000","041",0,0,0,0,0,0,0,0,0,0,3819.2,0,3819.2,3819.2,-3819.2,3819.2,-3819.2,3819.2,3819.2,-3819.2,{"$f":"_xlfn.XLOOKUP(F47863,'Object Codes'!$A$18:$A$510,'Object Codes'!$H$18:$H$510)","v":"PS - Additional Gross"},{"$f":"_xlfn.XLOOKUP(F47863,'Object Codes'!$A$18:$A$510,'Object Codes'!$G$18:$G$510)","v":"A"},{"$f":"_xlfn.XLOOKUP(A47863,Agencies!$A$9:$A$146,Agencies!$B$9:$B$146)","v":"Public Safety & Judicial"},{"$f":"IF(_xlfn.XLOOKUP(A47863,Agencies!A:A,Agencies!D:D)=\"Y\",IF(_xlfn.XLOOKUP(F47863,'Object Codes'!A:A,'Object Codes'!I:I)=\"Y\",\"Y\",\"N\"),\"N\")","v":"Y"},{"$f":"VLOOKUP(F47863,'Object Codes'!$A:$C,3,0)","v":"Assignment Differential"},{"$f":"VLOOKUP(A47863,Agencies!A:C,3,0)","v":"Public Administrator - N.Y."},10.463561643835616]
["941",2022,"001","001","1000","042",0,0,0,7450,7450,0,0,0,0,0,27175.59,0,27175.59,27175.59,-19725.59,27175.59,-19725.59,27175.59,27175.59,-19725.59,{"$f":"_xlfn.XLOOKUP(F47864,'Object Codes'!$A$18:$A$510,'Object Codes'!$H$18:$H$510)","v":"PS - Additional Gross"},{"$f":"_xlfn.XLOOKUP(F47864,'Object Codes'!$A$18:$A$510,'Object Codes'!$G$18:$G$510)","v":"A"},{"$f":"_xlfn.XLOOKUP(A47864,Agencies!$A$9:$A$146,Agencies!$B$9:$B$146)","v":"Public Safety & Judicial"},{"$f":"IF(_xlfn.XLOOKUP(A47864,Agencies!A:A,Agencies!D:D)=\"Y\",IF(_xlfn.XLOOKUP(F47864,'Object Codes'!A:A,'Object Codes'!I:I)=\"Y\",\"Y\",\"N\"),\"N\")","v":"Y"},{"$f":"VLOOKUP(F47864,'Object Codes'!$A:$C,3,0)","v":"Longevity Differential"},{"$f":"VLOOKUP(A47864,Agencies!A:C,3,0)","v":"Public Administrator - N.Y."},74.453671232876715]
["941",2022,"001","001","1000","057",0,0,0,0,500,0,0,0,0,0,500,0,500,500,0,500,0,500,500,0,{"$f":"_xlfn.XLOOKUP(F47865,'Object Codes'!$A$18:$A$510,'Object Codes'!$H$18:$H$510)","v":"PS - Additional Gross"},{"$f":"_xlfn.XLOOKUP(F47865,'Object Codes'!$A$18:$A$510,'Object Codes'!$G$18:$G$510)","v":"A"},{"$f":"_xlfn.XLOOKUP(A47865,Agencies!$A$9:$A$146,Agencies!$B$9:$B$146)","v":"Public Safety & Judicial"},{"$f":"IF(_xlfn.XLOOKUP(A47865,Agencies!A:A,Agencies!D:D)=\"Y\",IF(_xlfn.XLOOKUP(F47865,'Object Codes'!A:A,'Object Codes'!I:I)=\"Y\",\"Y\",\"N\"),\"N\")","v":"Y"},{"$f":"VLOOKUP(F47865,'Object Codes'!$A:$C,3,0)","v":"Bonus Payments"},{"$f":"VLOOKUP(A47865,Agencies!A:C,3,0)","v":"Public Administrator - N.Y."},1.3698630136986301]
["941",2022,"001","001","1000","061",0,0,0,0,0,0,0,0,0,0,91.75,0,91.75,91.75,-91.75,91.75,-91.75,91.75,91.75,-91.75,{"$f":"_xlfn.XLOOKUP(F47866,'Object Codes'!$A$18:$A$510,'Object Codes'!$H$18:$H$510)","v":"PS - Additional Gross"},{"$f":"_xlfn.XLOOKUP(F47866,'Object Codes'!$A$18:$A$510,'Object Codes'!$G$18:$G$510)","v":"A"},{"$f":"_xlfn.XLOOKUP(A47866,Agencies!$A$9:$A$146,Agencies!$B$9:$B$146)","v":"Public Safety & Judicial"},{"$f":"IF(_xlfn.XLOOKUP(A47866,Agencies!A:A,Agencies!D:D)=\"Y\",IF(_xlfn.XLOOKUP(F47866,'Object Codes'!A:A,'Object Codes'!I:I)=\"Y\",\"Y\",\"N\"),\"N\")","v":"Y"},{"$f":"VLOOKUP(F47866,'Object Codes'!$A:$C,3,0)","v":"Supper Money"},{"$f":"VLOOKUP(A47866,Agencies!A:C,3,0)","v":"Public Administrator - N.Y."},0.25136986301369862]
["941",2022,"001","001","P001","001",0,0,0,62087,62087,0,0,0,0,0,0,0,0,0,62087,0,62087,0,0,62087,{"$f":"_xlfn.XLOOKUP(F47867,'Object Codes'!$A$18:$A$510,'Object Codes'!$H$18:$H$510)","v":"PS - Regular"},{"$f":"_xlfn.XLOOKUP(F47867,'Object Codes'!$A$18:$A$510,'Object Codes'!$G$18:$G$510)","v":"C"},{"$f":"_xlfn.XLOOKUP(A47867,Agencies!$A$9:$A$146,Agencies!$B$9:$B$146)","v":"Public Safety & Judicial"},{"$f":"IF(_xlfn.XLOOKUP(A47867,Agencies!A:A,Agencies!D:D)=\"Y\",IF(_xlfn.XLOOKUP(F47867,'Object Codes'!A:A,'Object Codes'!I:I)=\"Y\",\"Y\",\"N\"),\"N\")","v":"Y"},{"$f":"VLOOKUP(F47867,'Object Codes'!$A:$C,3,0)","v":"Full Year Positions"},{"$f":"VLOOKUP(A47867,Agencies!A:C,3,0)","v":"Public Administrator - N.Y."},0]
["941",2022,"001","002","1000","100",0,0,0,5596,7272,0,0,0,0,0,4589.75,0,4589.75,4589.75,2682.25,4589.75,2682.25,4589.75,4589.75,2682.25,{"$f":"_xlfn.XLOOKUP(F47868,'Object Codes'!$A$18:$A$510,'Object Codes'!$H$18:$H$510)","v":"Supplies & Materials"},{"$f":"_xlfn.XLOOKUP(F47868,'Object Codes'!$A$18:$A$510,'Object Codes'!$G$18:$G$510)","v":"A"},{"$f":"_xlfn.XLOOKUP(A47868,Agencies!$A$9:$A$146,Agencies!$B$9:$B$146)","v":"Public Safety & Judicial"},{"$f":"IF(_xlfn.XLOOKUP(A47868,Agencies!A:A,Agencies!D:D)=\"Y\",IF(_xlfn.XLOOKUP(F47868,'Object Codes'!A:A,'Object Codes'!I:I)=\"Y\",\"Y\",\"N\"),\"N\")","v":"Y"},{"$f":"VLOOKUP(F47868,'Object Codes'!$A:$C,3,0)","v":"Supplies and Materials - General"},{"$f":"VLOOKUP(A47868,Agencies!A:C,3,0)","v":"Public Administrator - N.Y."},12.574657534246576]
["941",2022,"001","002","1000","10X",0,0,0,0,100,0,0,0,0,0,60.67,0,60.67,60.67,39.33,60.67,39.33,60.67,60.67,39.33,{"$f":"_xlfn.XLOOKUP(F47869,'Object Codes'!$A$18:$A$510,'Object Codes'!$H$18:$H$510)","v":"Supplies & Materials"},{"$f":"_xlfn.XLOOKUP(F47869,'Object Codes'!$A$18:$A$510,'Object Codes'!$G$18:$G$510)","v":"A"},{"$f":"_xlfn.XLOOKUP(A47869,Agencies!$A$9:$A$146,Agencies!$B$9:$B$146)","v":"Public Safety & Judicial"},{"$f":"IF(_xlfn.XLOOKUP(A47869,Agencies!A:A,Agencies!D:D)=\"Y\",IF(_xlfn.XLOOKUP(F47869,'Object Codes'!A:A,'Object Codes'!I:I)=\"Y\",\"Y\",\"N\"),\"N\")","v":"Y"},{"$f":"VLOOKUP(F47869,'Object Codes'!$A:$C,3,0)","v":"SUPPLIES + MATERIALS - GENERAL"},{"$f":"VLOOKUP(A47869,Agencies!A:C,3,0)","v":"Public Administrator - N.Y."},0.16621917808219178]
["941",2022,"001","002","1000","199",0,0,0,0,1750,0,0,0,0,0,1749.48,0,1749.48,1749.48,0.52,1749.48,0.52,1749.48,1749.48,0.52,{"$f":"_xlfn.XLOOKUP(F47870,'Object Codes'!$A$18:$A$510,'Object Codes'!$H$18:$H$510)","v":"Supplies & Materials"},{"$f":"_xlfn.XLOOKUP(F47870,'Object Codes'!$A$18:$A$510,'Object Codes'!$G$18:$G$510)","v":"A"},{"$f":"_xlfn.XLOOKUP(A47870,Agencies!$A$9:$A$146,Agencies!$B$9:$B$146)","v":"Public Safety & Judicial"},{"$f":"IF(_xlfn.XLOOKUP(A47870,Agencies!A:A,Agencies!D:D)=\"Y\",IF(_xlfn.XLOOKUP(F47870,'Object Codes'!A:A,'Object Codes'!I:I)=\"Y\",\"Y\",\"N\"),\"N\")","v":"Y"},{"$f":"VLOOKUP(F47870,'Object Codes'!$A:$C,3,0)","v":"Data Processing Supplies"},{"$f":"VLOOKUP(A47870,Agencies!A:C,3,0)","v":"Public Administrator - N.Y."},4.7930958904109593]
["941",2022,"001","002","1000","300",0,0,0,2690,0,0,0,0,0,0,0,0,0,0,0,0,0,0,0,0,{"$f":"_xlfn.XLOOKUP(F47871,'Object Codes'!$A$18:$A$510,'Object Codes'!$H$18:$H$510)","v":"Equipment"},{"$f":"_xlfn.XLOOKUP(F47871,'Object Codes'!$A$18:$A$510,'Object Codes'!$G$18:$G$510)","v":"A"},{"$f":"_xlfn.XLOOKUP(A47871,Agencies!$A$9:$A$146,Agencies!$B$9:$B$146)","v":"Public Safety & Judicial"},{"$f":"IF(_xlfn.XLOOKUP(A47871,Agencies!A:A,Agencies!D:D)=\"Y\",IF(_xlfn.XLOOKUP(F47871,'Object Codes'!A:A,'Object Codes'!I:I)=\"Y\",\"Y\",\"N\"),\"N\")","v":"Y"},{"$f":"VLOOKUP(F47871,'Object Codes'!$A:$C,3,0)","v":"Equipment - General"},{"$f":"VLOOKUP(A47871,Agencies!A:C,3,0)","v":"Public Administrator - N.Y."},0]
["941",2022,"001","002","1000","332",0,0,0,0,475,0,0,0,0,0,474.13,0,474.13,474.13,0.87,474.13,0.87,474.13,474.13,0.87,{"$f":"_xlfn.XLOOKUP(F47872,'Object Codes'!$A$18:$A$510,'Object Codes'!$H$18:$H$510)","v":"Equipment"},{"$f":"_xlfn.XLOOKUP(F47872,'Object Codes'!$A$18:$A$510,'Object Codes'!$G$18:$G$510)","v":"A"},{"$f":"_xlfn.XLOOKUP(A47872,Agencies!$A$9:$A$146,Agencies!$B$9:$B$146)","v":"Public Safety & Judicial"},{"$f":"IF(_xlfn.XLOOKUP(A47872,Agencies!A:A,Agencies!D:D)=\"Y\",IF(_xlfn.XLOOKUP(F47872,'Object Codes'!A:A,'Object Codes'!I:I)=\"Y\",\"Y\",\"N\"),\"N\")","v":"Y"},{"$f":"VLOOKUP(F47872,'Object Codes'!$A:$C,3,0)","v":"Purchases of Data Processing Equipment"},{"$f":"VLOOKUP(A47872,Agencies!A:C,3,0)","v":"Public Administrator - N.Y."},1.298986301369863]
["941",2022,"001","002","1000","338",0,0,0,2050,0,0,0,0,0,0,0,0,0,0,0,0,0,0,0,0,{"$f":"_xlfn.XLOOKUP(F47873,'Object Codes'!$A$18:$A$510,'Object Codes'!$H$18:$H$510)","v":"Equipment"},{"$f":"_xlfn.XLOOKUP(F47873,'Object Codes'!$A$18:$A$510,'Object Codes'!$G$18:$G$510)","v":"A"},{"$f":"_xlfn.XLOOKUP(A47873,Agencies!$A$9:$A$146,Agencies!$B$9:$B$146)","v":"Public Safety & Judicial"},{"$f":"IF(_xlfn.XLOOKUP(A47873,Agencies!A:A,Agencies!D:D)=\"Y\",IF(_xlfn.XLOOKUP(F47873,'Object Codes'!A:A,'Object Codes'!I:I)=\"Y\",\"Y\",\"N\"),\"N\")","v":"Y"},{"$f":"VLOOKUP(F47873,'Object Codes'!$A:$C,3,0)","v":"Library Books"},{"$f":"VLOOKUP(A47873,Agencies!A:C,3,0)","v":"Public Administrator - N.Y."},0]
["941",2022,"001","002","1000","400",0,0,0,4894,8925,0,0,0,0,0,8924.0499999999993,0,8924.0499999999993,8924.0499999999993,0.95,8924.0499999999993,0.95,8924.0499999999993,8924.0499999999993,0.95,{"$f":"_xlfn.XLOOKUP(F47874,'Object Codes'!$A$18:$A$510,'Object Codes'!$H$18:$H$510)","v":"Other Services and Charges - General"},{"$f":"_xlfn.XLOOKUP(F47874,'Object Codes'!$A$18:$A$510,'Object Codes'!$G$18:$G$510)","v":0},{"$f":"_xlfn.XLOOKUP(A47874,Agencies!$A$9:$A$146,Agencies!$B$9:$B$146)","v":"Public Safety & Judicial"},{"$f":"IF(_xlfn.XLOOKUP(A47874,Agencies!A:A,Agencies!D:D)=\"Y\",IF(_xlfn.XLOOKUP(F47874,'Object Codes'!A:A,'Object Codes'!I:I)=\"Y\",\"Y\",\"N\"),\"N\")","v":"Y"},{"$f":"VLOOKUP(F47874,'Object Codes'!$A:$C,3,0)","v":"Other Services and Charges - General"},{"$f":"VLOOKUP(A47874,Agencies!A:C,3,0)","v":"Public Administrator - N.Y."},24.44945205479452]
["941",2022,"001","002","1000","403",0,0,0,6316,0,0,0,0,0,0,0,0,0,0,0,0,0,0,0,0,{"$f":"_xlfn.XLOOKUP(F47875,'Object Codes'!$A$18:$A$510,'Object Codes'!$H$18:$H$510)","v":"Other Services and Charges - General"},{"$f":"_xlfn.XLOOKUP(F47875,'Object Codes'!$A$18:$A$510,'Object Codes'!$G$18:$G$510)","v":0},{"$f":"_xlfn.XLOOKUP(A47875,Agencies!$A$9:$A$146,Agencies!$B$9:$B$146)","v":"Public Safety & Judicial"},{"$f":"IF(_xlfn.XLOOKUP(A47875,Agencies!A:A,Agencies!D:D)=\"Y\",IF(_xlfn.XLOOKUP(F47875,'Object Codes'!A:A,'Object Codes'!I:I)=\"Y\",\"Y\",\"N\"),\"N\")","v":"Y"},{"$f":"VLOOKUP(F47875,'Object Codes'!$A:$C,3,0)","v":"Office Services"},{"$f":"VLOOKUP(A47875,Agencies!A:C,3,0)","v":"Public Administrator - N.Y."},0]
["941",2022,"001","002","1000","40B",0,0,0,0,17004,0,0,0,0,0,8129,0,8129,8129,8875,8129,8875,8129,8129,8875,{"$f":"_xlfn.XLOOKUP(F47876,'Object Codes'!$A$18:$A$510,'Object Codes'!$H$18:$H$510)","v":"Other Services and Charges - General"},{"$f":"_xlfn.XLOOKUP(F47876,'Object Codes'!$A$18:$A$510,'Object Codes'!$G$18:$G$510)","v":0},{"$f":"_xlfn.XLOOKUP(A47876,Agencies!$A$9:$A$146,Agencies!$B$9:$B$146)","v":"Public Safety & Judicial"},{"$f":"IF(_xlfn.XLOOKUP(A47876,Agencies!A:A,Agencies!D:D)=\"Y\",IF(_xlfn.XLOOKUP(F47876,'Object Codes'!A:A,'Object Codes'!I:I)=\"Y\",\"Y\",\"N\"),\"N\")","v":"Y"},{"$f":"VLOOKUP(F47876,'Object Codes'!$A:$C,3,0)","v":"TELEPHONE & OTHER COMMUNICATNS"},{"$f":"VLOOKUP(A47876,Agencies!A:C,3,0)","v":"Public Administrator - N.Y."},22.271232876712329]
["941",2022,"001","002","1000","40X",0,0,0,79276,79276,0,0,0,0,0,79276,0,79276,79276,0,79276,0,79276,79276,0,{"$f":"_xlfn.XLOOKUP(F47877,'Object Codes'!$A$18:$A$510,'Object Codes'!$H$18:$H$510)","v":"Other Services and Charges - General"},{"$f":"_xlfn.XLOOKUP(F47877,'Object Codes'!$A$18:$A$510,'Object Codes'!$G$18:$G$510)","v":0},{"$f":"_xlfn.XLOOKUP(A47877,Agencies!$A$9:$A$146,Agencies!$B$9:$B$146)","v":"Public Safety & Judicial"},{"$f":"IF(_xlfn.XLOOKUP(A47877,Agencies!A:A,Agencies!D:D)=\"Y\",IF(_xlfn.XLOOKUP(F47877,'Object Codes'!A:A,'Object Codes'!I:I)=\"Y\",\"Y\",\"N\"),\"N\")","v":"Y"},{"$f":"VLOOKUP(F47877,'Object Codes'!$A:$C,3,0)","v":"CONTRACTUAL SERVICES-GENERAL"},{"$f":"VLOOKUP(A47877,Agencies!A:C,3,0)","v":"Public Administrator - N.Y."},217.19452054794522]
["941",2022,"001","002","1000","414",0,0,0,192343,52343,0,0,0,0,0,0,0,0,0,52343,0,52343,0,0,52343,{"$f":"_xlfn.XLOOKUP(F47878,'Object Codes'!$A$18:$A$510,'Object Codes'!$H$18:$H$510)","v":"Leases"},{"$f":"_xlfn.XLOOKUP(F47878,'Object Codes'!$A$18:$A$510,'Object Codes'!$G$18:$G$510)","v":0},{"$f":"_xlfn.XLOOKUP(A47878,Agencies!$A$9:$A$146,Agencies!$B$9:$B$146)","v":"Public Safety & Judicial"},{"$f":"IF(_xlfn.XLOOKUP(A47878,Agencies!A:A,Agencies!D:D)=\"Y\",IF(_xlfn.XLOOKUP(F47878,'Object Codes'!A:A,'Object Codes'!I:I)=\"Y\",\"Y\",\"N\"),\"N\")","v":"Y"},{"$f":"VLOOKUP(F47878,'Object Codes'!$A:$C,3,0)","v":"Rentals - Land, Buildings and Structures"},{"$f":"VLOOKUP(A47878,Agencies!A:C,3,0)","v":"Public Administrator - N.Y."},0]
["941",2022,"001","002","1000","41D",0,0,0,0,140000,0,0,0,0,0,136395.48000000001,0,136395.48000000001,136395.48000000001,3604.52,136395.48000000001,3604.52,136395.48000000001,136395.48000000001,3604.52,{"$f":"_xlfn.XLOOKUP(F47879,'Object Codes'!$A$18:$A$510,'Object Codes'!$H$18:$H$510)","v":"Leases"},{"$f":"_xlfn.XLOOKUP(F47879,'Object Codes'!$A$18:$A$510,'Object Codes'!$G$18:$G$510)","v":0},{"$f":"_xlfn.XLOOKUP(A47879,Agencies!$A$9:$A$146,Agencies!$B$9:$B$146)","v":"Public Safety & Judicial"},{"$f":"IF(_xlfn.XLOOKUP(A47879,Agencies!A:A,Agencies!D:D)=\"Y\",IF(_xlfn.XLOOKUP(F47879,'Object Codes'!A:A,'Object Codes'!I:I)=\"Y\",\"Y\",\"N\"),\"N\")","v":"Y"},{"$f":"VLOOKUP(F47879,'Object Codes'!$A:$C,3,0)","v":"RENTALS - LAND BLDGS & STRUCTS"},{"$f":"VLOOKUP(A47879,Agencies!A:C,3,0)","v":"Public Administrator - N.Y."},373.68624657534252]
["941",2022,"001","002","1000","42C",0,0,0,13822,18028,0,0,0,0,0,15281.02,0,15281.02,15281.02,2746.98,15281.02,2746.98,15281.02,15281.02,2746.98,{"$f":"_xlfn.XLOOKUP(F47880,'Object Codes'!$A$18:$A$510,'Object Codes'!$H$18:$H$510)","v":"Heat, Light, and Power"},{"$f":"_xlfn.XLOOKUP(F47880,'Object Codes'!$A$18:$A$510,'Object Codes'!$G$18:$G$510)","v":0},{"$f":"_xlfn.XLOOKUP(A47880,Agencies!$A$9:$A$146,Agencies!$B$9:$B$146)","v":"Public Safety & Judicial"},{"$f":"IF(_xlfn.XLOOKUP(A47880,Agencies!A:A,Agencies!D:D)=\"Y\",IF(_xlfn.XLOOKUP(F47880,'Object Codes'!A:A,'Object Codes'!I:I)=\"Y\",\"Y\",\"N\"),\"N\")","v":"Y"},{"$f":"VLOOKUP(F47880,'Object Codes'!$A:$C,3,0)","v":"HEAT LIGHT & POWER"},{"$f":"VLOOKUP(A47880,Agencies!A:C,3,0)","v":"Public Administrator - N.Y."},41.865808219178085]
["941",2022,"001","002","1000","432",0,0,0,1472,4496,0,0,0,0,0,4495.26,0,4495.26,4495.26,0.74,4495.26,0.74,4495.26,4495.26,0.74,{"$f":"_xlfn.XLOOKUP(F47881,'Object Codes'!$A$18:$A$510,'Object Codes'!$H$18:$H$510)","v":"Other Services and Charges - General"},{"$f":"_xlfn.XLOOKUP(F47881,'Object Codes'!$A$18:$A$510,'Object Codes'!$G$18:$G$510)","v":0},{"$f":"_xlfn.XLOOKUP(A47881,Agencies!$A$9:$A$146,Agencies!$B$9:$B$146)","v":"Public Safety & Judicial"},{"$f":"IF(_xlfn.XLOOKUP(A47881,Agencies!A:A,Agencies!D:D)=\"Y\",IF(_xlfn.XLOOKUP(F47881,'Object Codes'!A:A,'Object Codes'!I:I)=\"Y\",\"Y\",\"N\"),\"N\")","v":"Y"},{"$f":"VLOOKUP(F47881,'Object Codes'!$A:$C,3,0)","v":"Leasing of Data Processing Equipment"},{"$f":"VLOOKUP(A47881,Agencies!A:C,3,0)","v":"Public Administrator - N.Y."},{"$f":"S47881/365","v":12.315780821917809}]
["941",2022,"001","002","P002","499",0,0,0,44486,27482,0,0,0,0,0,0,0,0,0,27482,0,27482,0,0,27482,{"$f":"_xlfn.XLOOKUP(F47882,'Object Codes'!$A$18:$A$510,'Object Codes'!$H$18:$H$510)","v":"Other Services and Charges - General"},{"$f":"_xlfn.XLOOKUP(F47882,'Object Codes'!$A$18:$A$510,'Object Codes'!$G$18:$G$510)","v":0},{"$f":"_xlfn.XLOOKUP(A47882,Agencies!$A$9:$A$146,Agencies!$B$9:$B$146)","v":"Public Safety & Judicial"},{"$f":"IF(_xlfn.XLOOKUP(A47882,Agencies!A:A,Agencies!D:D)=\"Y\",IF(_xlfn.XLOOKUP(F47882,'Object Codes'!A:A,'Object Codes'!I:I)=\"Y\",\"Y\",\"N\"),\"N\")","v":"Y"},{"$f":"VLOOKUP(F47882,'Object Codes'!$A:$C,3,0)","v":"Other Expenditures - General"},{"$f":"VLOOKUP(A47882,Agencies!A:C,3,0)","v":"Public Administrator - N.Y."},0]
["942",2022,"001","001","1000","001",0,8,8,634970,611970,0,0,0,0,0,630384.76,0,630384.76,630384.76,-18414.759999999998,630384.76,-18414.759999999998,630384.76,630384.76,-18414.759999999998,{"$f":"_xlfn.XLOOKUP(F47883,'Object Codes'!$A$18:$A$510,'Object Codes'!$H$18:$H$510)","v":"PS - Regular"},{"$f":"_xlfn.XLOOKUP(F47883,'Object Codes'!$A$18:$A$510,'Object Codes'!$G$18:$G$510)","v":"C"},{"$f":"_xlfn.XLOOKUP(A47883,Agencies!$A$9:$A$146,Agencies!$B$9:$B$146)","v":"Public Safety & Judicial"},{"$f":"IF(_xlfn.XLOOKUP(A47883,Agencies!A:A,Agencies!D:D)=\"Y\",IF(_xlfn.XLOOKUP(F47883,'Object Codes'!A:A,'Object Codes'!I:I)=\"Y\",\"Y\",\"N\"),\"N\")","v":"Y"},{"$f":"VLOOKUP(F47883,'Object Codes'!$A:$C,3,0)","v":"Full Year Positions"},{"$f":"VLOOKUP(A47883,Agencies!A:C,3,0)","v":"Public Administrator - Bronx"},1727.0815342465753]
["942",2022,"001","001","1000","041",0,0,0,0,0,0,0,0,0,0,794.29,0,794.29,794.29,-794.29,794.29,-794.29,794.29,794.29,-794.29,{"$f":"_xlfn.XLOOKUP(F47884,'Object Codes'!$A$18:$A$510,'Object Codes'!$H$18:$H$510)","v":"PS - Additional Gross"},{"$f":"_xlfn.XLOOKUP(F47884,'Object Codes'!$A$18:$A$510,'Object Codes'!$G$18:$G$510)","v":"A"},{"$f":"_xlfn.XLOOKUP(A47884,Agencies!$A$9:$A$146,Agencies!$B$9:$B$146)","v":"Public Safety & Judicial"},{"$f":"IF(_xlfn.XLOOKUP(A47884,Agencies!A:A,Agencies!D:D)=\"Y\",IF(_xlfn.XLOOKUP(F47884,'Object Codes'!A:A,'Object Codes'!I:I)=\"Y\",\"Y\",\"N\"),\"N\")","v":"Y"},{"$f":"VLOOKUP(F47884,'Object Codes'!$A:$C,3,0)","v":"Assignment Differential"},{"$f":"VLOOKUP(A47884,Agencies!A:C,3,0)","v":"Public Administrator - Bronx"},2.17613698630137]
["942",2022,"001","001","1000","042",0,0,0,1299,1299,0,0,0,0,0,307.45999999999998,0,307.45999999999998,307.45999999999998,991.54,307.45999999999998,991.54,307.45999999999998,307.45999999999998,991.54,{"$f":"_xlfn.XLOOKUP(F47885,'Object Codes'!$A$18:$A$510,'Object Codes'!$H$18:$H$510)","v":"PS - Additional Gross"},{"$f":"_xlfn.XLOOKUP(F47885,'Object Codes'!$A$18:$A$510,'Object Codes'!$G$18:$G$510)","v":"A"},{"$f":"_xlfn.XLOOKUP(A47885,Agencies!$A$9:$A$146,Agencies!$B$9:$B$146)","v":"Public Safety & Judicial"},{"$f":"IF(_xlfn.XLOOKUP(A47885,Agencies!A:A,Agencies!D:D)=\"Y\",IF(_xlfn.XLOOKUP(F47885,'Object Codes'!A:A,'Object Codes'!I:I)=\"Y\",\"Y\",\"N\"),\"N\")","v":"Y"},{"$f":"VLOOKUP(F47885,'Object Codes'!$A:$C,3,0)","v":"Longevity Differential"},{"$f":"VLOOKUP(A47885,Agencies!A:C,3,0)","v":"Public Administrator - Bronx"},0.84235616438356153]
["942",2022,"001","001","1000","049",0,0,0,0,0,0,0,0,0,0,29.43,0,29.43,29.43,-29.43,29.43,-29.43,29.43,29.43,-29.43,{"$f":"_xlfn.XLOOKUP(F47886,'Object Codes'!$A$18:$A$510,'Object Codes'!$H$18:$H$510)","v":"PS - Additional Gross"},{"$f":"_xlfn.XLOOKUP(F47886,'Object Codes'!$A$18:$A$510,'Object Codes'!$G$18:$G$510)","v":"A"},{"$f":"_xlfn.XLOOKUP(A47886,Agencies!$A$9:$A$146,Agencies!$B$9:$B$146)","v":"Public Safety & Judicial"},{"$f":"IF(_xlfn.XLOOKUP(A47886,Agencies!A:A,Agencies!D:D)=\"Y\",IF(_xlfn.XLOOKUP(F47886,'Object Codes'!A:A,'Object Codes'!I:I)=\"Y\",\"Y\",\"N\"),\"N\")","v":"Y"},{"$f":"VLOOKUP(F47886,'Object Codes'!$A:$C,3,0)","v":"Backpay"},{"$f":"VLOOKUP(A47886,Agencies!A:C,3,0)","v":"Public Administrator - Bronx"},8.0630136986301365E-2]
["942",2022,"001","001","1000","057",0,0,0,0,1000,0,0,0,0,0,1000,0,1000,1000,0,1000,0,1000,1000,0,{"$f":"_xlfn.XLOOKUP(F47887,'Object Codes'!$A$18:$A$510,'Object Codes'!$H$18:$H$510)","v":"PS - Additional Gross"},{"$f":"_xlfn.XLOOKUP(F47887,'Object Codes'!$A$18:$A$510,'Object Codes'!$G$18:$G$510)","v":"A"},{"$f":"_xlfn.XLOOKUP(A47887,Agencies!$A$9:$A$146,Agencies!$B$9:$B$146)","v":"Public Safety & Judicial"},{"$f":"IF(_xlfn.XLOOKUP(A47887,Agencies!A:A,Agencies!D:D)=\"Y\",IF(_xlfn.XLOOKUP(F47887,'Object Codes'!A:A,'Object Codes'!I:I)=\"Y\",\"Y\",\"N\"),\"N\")","v":"Y"},{"$f":"VLOOKUP(F47887,'Object Codes'!$A:$C,3,0)","v":"Bonus Payments"},{"$f":"VLOOKUP(A47887,Agencies!A:C,3,0)","v":"Public Administrator - Bronx"},2.7397260273972601]
["942",2022,"001","001","P001","001",0,0,0,52048,52048,0,0,0,0,0,0,0,0,0,52048,0,52048,0,0,52048,{"$f":"_xlfn.XLOOKUP(F47888,'Object Codes'!$A$18:$A$510,'Object Codes'!$H$18:$H$510)","v":"PS - Regular"},{"$f":"_xlfn.XLOOKUP(F47888,'Object Codes'!$A$18:$A$510,'Object Codes'!$G$18:$G$510)","v":"C"},{"$f":"_xlfn.XLOOKUP(A47888,Agencies!$A$9:$A$146,Agencies!$B$9:$B$146)","v":"Public Safety & Judicial"},{"$f":"IF(_xlfn.XLOOKUP(A47888,Agencies!A:A,Agencies!D:D)=\"Y\",IF(_xlfn.XLOOKUP(F47888,'Object Codes'!A:A,'Object Codes'!I:I)=\"Y\",\"Y\",\"N\"),\"N\")","v":"Y"},{"$f":"VLOOKUP(F47888,'Object Codes'!$A:$C,3,0)","v":"Full Year Positions"},{"$f":"VLOOKUP(A47888,Agencies!A:C,3,0)","v":"Public Administrator - Bronx"},0]
["942",2022,"001","002","1000","400",0,0,0,29174,38776,0,0,0,0,0,28675,0,28675,28675,10101,28675,10101,28675,28675,10101,{"$f":"_xlfn.XLOOKUP(F47889,'Object Codes'!$A$18:$A$510,'Object Codes'!$H$18:$H$510)","v":"Other Services and Charges - General"},{"$f":"_xlfn.XLOOKUP(F47889,'Object Codes'!$A$18:$A$510,'Object Codes'!$G$18:$G$510)","v":0},{"$f":"_xlfn.XLOOKUP(A47889,Agencies!$A$9:$A$146,Agencies!$B$9:$B$146)","v":"Public Safety & Judicial"},{"$f":"IF(_xlfn.XLOOKUP(A47889,Agencies!A:A,Agencies!D:D)=\"Y\",IF(_xlfn.XLOOKUP(F47889,'Object Codes'!A:A,'Object Codes'!I:I)=\"Y\",\"Y\",\"N\"),\"N\")","v":"Y"},{"$f":"VLOOKUP(F47889,'Object Codes'!$A:$C,3,0)","v":"Other Services and Charges - General"},{"$f":"VLOOKUP(A47889,Agencies!A:C,3,0)","v":"Public Administrator - Bronx"},78.561643835616437]
["942",2022,"001","002","1000","40B",0,0,0,0,4736,0,0,0,0,0,4372,0,4372,4372,364,4372,364,4372,4372,364,{"$f":"_xlfn.XLOOKUP(F47890,'Object Codes'!$A$18:$A$510,'Object Codes'!$H$18:$H$510)","v":"Other Services and Charges - General"},{"$f":"_xlfn.XLOOKUP(F47890,'Object Codes'!$A$18:$A$510,'Object Codes'!$G$18:$G$510)","v":0},{"$f":"_xlfn.XLOOKUP(A47890,Agencies!$A$9:$A$146,Agencies!$B$9:$B$146)","v":"Public Safety & Judicial"},{"$f":"IF(_xlfn.XLOOKUP(A47890,Agencies!A:A,Agencies!D:D)=\"Y\",IF(_xlfn.XLOOKUP(F47890,'Object Codes'!A:A,'Object Codes'!I:I)=\"Y\",\"Y\",\"N\"),\"N\")","v":"Y"},{"$f":"VLOOKUP(F47890,'Object Codes'!$A:$C,3,0)","v":"TELEPHONE & OTHER COMMUNICATNS"},{"$f":"VLOOKUP(A47890,Agencies!A:C,3,0)","v":"Public Administrator - Bronx"},11.978082191780821]
["942",2022,"001","002","1000","42C",0,0,0,20733,27043,0,0,0,0,0,22921.52,0,22921.52,22921.52,4121.4799999999996,22921.52,4121.4799999999996,22921.52,22921.52,4121.4799999999996,{"$f":"_xlfn.XLOOKUP(F47891,'Object Codes'!$A$18:$A$510,'Object Codes'!$H$18:$H$510)","v":"Heat, Light, and Power"},{"$f":"_xlfn.XLOOKUP(F47891,'Object Codes'!$A$18:$A$510,'Object Codes'!$G$18:$G$510)","v":0},{"$f":"_xlfn.XLOOKUP(A47891,Agencies!$A$9:$A$146,Agencies!$B$9:$B$146)","v":"Public Safety & Judicial"},{"$f":"IF(_xlfn.XLOOKUP(A47891,Agencies!A:A,Agencies!D:D)=\"Y\",IF(_xlfn.XLOOKUP(F47891,'Object Codes'!A:A,'Object Codes'!I:I)=\"Y\",\"Y\",\"N\"),\"N\")","v":"Y"},{"$f":"VLOOKUP(F47891,'Object Codes'!$A:$C,3,0)","v":"HEAT LIGHT & POWER"},{"$f":"VLOOKUP(A47891,Agencies!A:C,3,0)","v":"Public Administrator - Bronx"},62.798684931506848]
["942",2022,"001","002","1000","499",0,0,0,15000,662,0,0,0,0,0,0,0,0,0,662,0,662,0,0,662,{"$f":"_xlfn.XLOOKUP(F47892,'Object Codes'!$A$18:$A$510,'Object Codes'!$H$18:$H$510)","v":"Other Services and Charges - General"},{"$f":"_xlfn.XLOOKUP(F47892,'Object Codes'!$A$18:$A$510,'Object Codes'!$G$18:$G$510)","v":0},{"$f":"_xlfn.XLOOKUP(A47892,Agencies!$A$9:$A$146,Agencies!$B$9:$B$146)","v":"Public Safety & Judicial"},{"$f":"IF(_xlfn.XLOOKUP(A47892,Agencies!A:A,Agencies!D:D)=\"Y\",IF(_xlfn.XLOOKUP(F47892,'Object Codes'!A:A,'Object Codes'!I:I)=\"Y\",\"Y\",\"N\"),\"N\")","v":"Y"},{"$f":"VLOOKUP(F47892,'Object Codes'!$A:$C,3,0)","v":"Other Expenditures - General"},{"$f":"VLOOKUP(A47892,Agencies!A:C,3,0)","v":"Public Administrator - Bronx"},0]
["942",2022,"001","002","1000","706",0,0,0,0,0,0,0,0,0,0,59.92,0,59.92,59.92,-59.92,59.92,-59.92,59.92,59.92,-59.92,{"$f":"_xlfn.XLOOKUP(F47893,'Object Codes'!$A$18:$A$510,'Object Codes'!$H$18:$H$510)","v":"Fixed Charges"},{"$f":"_xlfn.XLOOKUP(F47893,'Object Codes'!$A$18:$A$510,'Object Codes'!$G$18:$G$510)","v":0},{"$f":"_xlfn.XLOOKUP(A47893,Agencies!$A$9:$A$146,Agencies!$B$9:$B$146)","v":"Public Safety & Judicial"},{"$f":"IF(_xlfn.XLOOKUP(A47893,Agencies!A:A,Agencies!D:D)=\"Y\",IF(_xlfn.XLOOKUP(F47893,'Object Codes'!A:A,'Object Codes'!I:I)=\"Y\",\"Y\",\"N\"),\"N\")","v":"Y"},{"$f":"VLOOKUP(F47893,'Object Codes'!$A:$C,3,0)","v":"Prompt Payments Interest"},{"$f":"VLOOKUP(A47893,Agencies!A:C,3,0)","v":"Public Administrator - Bronx"},0.16416438356164384]
["942",2022,"001","002","P002","499",0,0,0,2325,2325,0,0,0,0,0,0,0,0,0,2325,0,2325,0,0,2325,{"$f":"_xlfn.XLOOKUP(F47894,'Object Codes'!$A$18:$A$510,'Object Codes'!$H$18:$H$510)","v":"Other Services and Charges - General"},{"$f":"_xlfn.XLOOKUP(F47894,'Object Codes'!$A$18:$A$510,'Object Codes'!$G$18:$G$510)","v":0},{"$f":"_xlfn.XLOOKUP(A47894,Agencies!$A$9:$A$146,Agencies!$B$9:$B$146)","v":"Public Safety & Judicial"},{"$f":"IF(_xlfn.XLOOKUP(A47894,Agencies!A:A,Agencies!D:D)=\"Y\",IF(_xlfn.XLOOKUP(F47894,'Object Codes'!A:A,'Object Codes'!I:I)=\"Y\",\"Y\",\"N\"),\"N\")","v":"Y"},{"$f":"VLOOKUP(F47894,'Object Codes'!$A:$C,3,0)","v":"Other Expenditures - General"},{"$f":"VLOOKUP(A47894,Agencies!A:C,3,0)","v":"Public Administrator - Bronx"},0]
["943",2022,"001","001","1000","001",0,13,13,801905,785370,0,0,0,0,0,786291.1,0,786291.1,786291.1,-921.1,786291.1,-921.1,786291.1,786291.1,-921.1,{"$f":"_xlfn.XLOOKUP(F47895,'Object Codes'!$A$18:$A$510,'Object Codes'!$H$18:$H$510)","v":"PS - Regular"},{"$f":"_xlfn.XLOOKUP(F47895,'Object Codes'!$A$18:$A$510,'Object Codes'!$G$18:$G$510)","v":"C"},{"$f":"_xlfn.XLOOKUP(A47895,Agencies!$A$9:$A$146,Agencies!$B$9:$B$146)","v":"Public Safety & Judicial"},{"$f":"IF(_xlfn.XLOOKUP(A47895,Agencies!A:A,Agencies!D:D)=\"Y\",IF(_xlfn.XLOOKUP(F47895,'Object Codes'!A:A,'Object Codes'!I:I)=\"Y\",\"Y\",\"N\"),\"N\")","v":"Y"},{"$f":"VLOOKUP(F47895,'Object Codes'!$A:$C,3,0)","v":"Full Year Positions"},{"$f":"VLOOKUP(A47895,Agencies!A:C,3,0)","v":"Public Administrator- Brooklyn"},2154.222191780822]
["943",2022,"001","001","1000","041",0,0,0,1376,1376,0,0,0,0,0,0,0,0,0,1376,0,1376,0,0,1376,{"$f":"_xlfn.XLOOKUP(F47896,'Object Codes'!$A$18:$A$510,'Object Codes'!$H$18:$H$510)","v":"PS - Additional Gross"},{"$f":"_xlfn.XLOOKUP(F47896,'Object Codes'!$A$18:$A$510,'Object Codes'!$G$18:$G$510)","v":"A"},{"$f":"_xlfn.XLOOKUP(A47896,Agencies!$A$9:$A$146,Agencies!$B$9:$B$146)","v":"Public Safety & Judicial"},{"$f":"IF(_xlfn.XLOOKUP(A47896,Agencies!A:A,Agencies!D:D)=\"Y\",IF(_xlfn.XLOOKUP(F47896,'Object Codes'!A:A,'Object Codes'!I:I)=\"Y\",\"Y\",\"N\"),\"N\")","v":"Y"},{"$f":"VLOOKUP(F47896,'Object Codes'!$A:$C,3,0)","v":"Assignment Differential"},{"$f":"VLOOKUP(A47896,Agencies!A:C,3,0)","v":"Public Administrator- Brooklyn"},0]
["943",2022,"001","001","1000","042",0,0,0,2082,2082,0,0,0,0,0,0,0,0,0,2082,0,2082,0,0,2082,{"$f":"_xlfn.XLOOKUP(F47897,'Object Codes'!$A$18:$A$510,'Object Codes'!$H$18:$H$510)","v":"PS - Additional Gross"},{"$f":"_xlfn.XLOOKUP(F47897,'Object Codes'!$A$18:$A$510,'Object Codes'!$G$18:$G$510)","v":"A"},{"$f":"_xlfn.XLOOKUP(A47897,Agencies!$A$9:$A$146,Agencies!$B$9:$B$146)","v":"Public Safety & Judicial"},{"$f":"IF(_xlfn.XLOOKUP(A47897,Agencies!A:A,Agencies!D:D)=\"Y\",IF(_xlfn.XLOOKUP(F47897,'Object Codes'!A:A,'Object Codes'!I:I)=\"Y\",\"Y\",\"N\"),\"N\")","v":"Y"},{"$f":"VLOOKUP(F47897,'Object Codes'!$A:$C,3,0)","v":"Longevity Differential"},{"$f":"VLOOKUP(A47897,Agencies!A:C,3,0)","v":"Public Administrator- Brooklyn"},0]
["943",2022,"001","001","1000","057",0,0,0,0,44667,0,0,0,0,0,500,0,500,500,44167,500,44167,500,500,44167,{"$f":"_xlfn.XLOOKUP(F47898,'Object Codes'!$A$18:$A$510,'Object Codes'!$H$18:$H$510)","v":"PS - Additional Gross"},{"$f":"_xlfn.XLOOKUP(F47898,'Object Codes'!$A$18:$A$510,'Object Codes'!$G$18:$G$510)","v":"A"},{"$f":"_xlfn.XLOOKUP(A47898,Agencies!$A$9:$A$146,Agencies!$B$9:$B$146)","v":"Public Safety & Judicial"},{"$f":"IF(_xlfn.XLOOKUP(A47898,Agencies!A:A,Agencies!D:D)=\"Y\",IF(_xlfn.XLOOKUP(F47898,'Object Codes'!A:A,'Object Codes'!I:I)=\"Y\",\"Y\",\"N\"),\"N\")","v":"Y"},{"$f":"VLOOKUP(F47898,'Object Codes'!$A:$C,3,0)","v":"Bonus Payments"},{"$f":"VLOOKUP(A47898,Agencies!A:C,3,0)","v":"Public Administrator- Brooklyn"},1.3698630136986301]
["943",2022,"001","001","P001","001",0,0,0,55632,0,0,0,0,0,0,0,0,0,0,0,0,0,0,0,0,{"$f":"_xlfn.XLOOKUP(F47899,'Object Codes'!$A$18:$A$510,'Object Codes'!$H$18:$H$510)","v":"PS - Regular"},{"$f":"_xlfn.XLOOKUP(F47899,'Object Codes'!$A$18:$A$510,'Object Codes'!$G$18:$G$510)","v":"C"},{"$f":"_xlfn.XLOOKUP(A47899,Agencies!$A$9:$A$146,Agencies!$B$9:$B$146)","v":"Public Safety & Judicial"},{"$f":"IF(_xlfn.XLOOKUP(A47899,Agencies!A:A,Agencies!D:D)=\"Y\",IF(_xlfn.XLOOKUP(F47899,'Object Codes'!A:A,'Object Codes'!I:I)=\"Y\",\"Y\",\"N\"),\"N\")","v":"Y"},{"$f":"VLOOKUP(F47899,'Object Codes'!$A:$C,3,0)","v":"Full Year Positions"},{"$f":"VLOOKUP(A47899,Agencies!A:C,3,0)","v":"Public Administrator- Brooklyn"},0]
["943",2022,"001","002","1000","100",0,0,0,4050,10632,0,0,0,0,0,3550,0,3550,3550,7082,3550,7082,3550,3550,7082,{"$f":"_xlfn.XLOOKUP(F47900,'Object Codes'!$A$18:$A$510,'Object Codes'!$H$18:$H$510)","v":"Supplies & Materials"},{"$f":"_xlfn.XLOOKUP(F47900,'Object Codes'!$A$18:$A$510,'Object Codes'!$G$18:$G$510)","v":"A"},{"$f":"_xlfn.XLOOKUP(A47900,Agencies!$A$9:$A$146,Agencies!$B$9:$B$146)","v":"Public Safety & Judicial"},{"$f":"IF(_xlfn.XLOOKUP(A47900,Agencies!A:A,Agencies!D:D)=\"Y\",IF(_xlfn.XLOOKUP(F47900,'Object Codes'!A:A,'Object Codes'!I:I)=\"Y\",\"Y\",\"N\"),\"N\")","v":"Y"},{"$f":"VLOOKUP(F47900,'Object Codes'!$A:$C,3,0)","v":"Supplies and Materials - General"},{"$f":"VLOOKUP(A47900,Agencies!A:C,3,0)","v":"Public Administrator- Brooklyn"},9.7260273972602747]
["943",2022,"001","002","1000","400",0,0,0,18000,0,0,0,0,0,0,0,0,0,0,0,0,0,0,0,0,{"$f":"_xlfn.XLOOKUP(F47901,'Object Codes'!$A$18:$A$510,'Object Codes'!$H$18:$H$510)","v":"Other Services and Charges - General"},{"$f":"_xlfn.XLOOKUP(F47901,'Object Codes'!$A$18:$A$510,'Object Codes'!$G$18:$G$510)","v":0},{"$f":"_xlfn.XLOOKUP(A47901,Agencies!$A$9:$A$146,Agencies!$B$9:$B$146)","v":"Public Safety & Judicial"},{"$f":"IF(_xlfn.XLOOKUP(A47901,Agencies!A:A,Agencies!D:D)=\"Y\",IF(_xlfn.XLOOKUP(F47901,'Object Codes'!A:A,'Object Codes'!I:I)=\"Y\",\"Y\",\"N\"),\"N\")","v":"Y"},{"$f":"VLOOKUP(F47901,'Object Codes'!$A:$C,3,0)","v":"Other Services and Charges - General"},{"$f":"VLOOKUP(A47901,Agencies!A:C,3,0)","v":"Public Administrator- Brooklyn"},0]
["943",2022,"001","002","1000","40B",0,0,0,0,18302,0,0,0,0,0,17081,0,17081,17081,1221,17081,1221,17081,17081,1221,{"$f":"_xlfn.XLOOKUP(F47902,'Object Codes'!$A$18:$A$510,'Object Codes'!$H$18:$H$510)","v":"Other Services and Charges - General"},{"$f":"_xlfn.XLOOKUP(F47902,'Object Codes'!$A$18:$A$510,'Object Codes'!$G$18:$G$510)","v":0},{"$f":"_xlfn.XLOOKUP(A47902,Agencies!$A$9:$A$146,Agencies!$B$9:$B$146)","v":"Public Safety & Judicial"},{"$f":"IF(_xlfn.XLOOKUP(A47902,Agencies!A:A,Agencies!D:D)=\"Y\",IF(_xlfn.XLOOKUP(F47902,'Object Codes'!A:A,'Object Codes'!I:I)=\"Y\",\"Y\",\"N\"),\"N\")","v":"Y"},{"$f":"VLOOKUP(F47902,'Object Codes'!$A:$C,3,0)","v":"TELEPHONE & OTHER COMMUNICATNS"},{"$f":"VLOOKUP(A47902,Agencies!A:C,3,0)","v":"Public Administrator- Brooklyn"},46.797260273972604]
["943",2022,"001","002","1000","42C",0,0,0,10366,13520,0,0,0,0,0,11460.75,0,11460.75,11460.75,2059.25,11460.75,2059.25,11460.75,11460.75,2059.25,{"$f":"_xlfn.XLOOKUP(F47903,'Object Codes'!$A$18:$A$510,'Object Codes'!$H$18:$H$510)","v":"Heat, Light, and Power"},{"$f":"_xlfn.XLOOKUP(F47903,'Object Codes'!$A$18:$A$510,'Object Codes'!$G$18:$G$510)","v":0},{"$f":"_xlfn.XLOOKUP(A47903,Agencies!$A$9:$A$146,Agencies!$B$9:$B$146)","v":"Public Safety & Judicial"},{"$f":"IF(_xlfn.XLOOKUP(A47903,Agencies!A:A,Agencies!D:D)=\"Y\",IF(_xlfn.XLOOKUP(F47903,'Object Codes'!A:A,'Object Codes'!I:I)=\"Y\",\"Y\",\"N\"),\"N\")","v":"Y"},{"$f":"VLOOKUP(F47903,'Object Codes'!$A:$C,3,0)","v":"HEAT LIGHT & POWER"},{"$f":"VLOOKUP(A47903,Agencies!A:C,3,0)","v":"Public Administrator- Brooklyn"},31.399315068493152]
["943",2022,"001","002","1000","499",0,0,0,6000,0,0,0,0,0,0,0,0,0,0,0,0,0,0,0,0,{"$f":"_xlfn.XLOOKUP(F47904,'Object Codes'!$A$18:$A$510,'Object Codes'!$H$18:$H$510)","v":"Other Services and Charges - General"},{"$f":"_xlfn.XLOOKUP(F47904,'Object Codes'!$A$18:$A$510,'Object Codes'!$G$18:$G$510)","v":0},{"$f":"_xlfn.XLOOKUP(A47904,Agencies!$A$9:$A$146,Agencies!$B$9:$B$146)","v":"Public Safety & Judicial"},{"$f":"IF(_xlfn.XLOOKUP(A47904,Agencies!A:A,Agencies!D:D)=\"Y\",IF(_xlfn.XLOOKUP(F47904,'Object Codes'!A:A,'Object Codes'!I:I)=\"Y\",\"Y\",\"N\"),\"N\")","v":"Y"},{"$f":"VLOOKUP(F47904,'Object Codes'!$A:$C,3,0)","v":"Other Expenditures - General"},{"$f":"VLOOKUP(A47904,Agencies!A:C,3,0)","v":"Public Administrator- Brooklyn"},0]
["943",2022,"001","002","1000","633",0,0,0,7095,7095,0,0,0,0,0,5655.82,0,5655.82,5655.82,1439.18,5655.82,1439.18,5655.82,5655.82,1439.18,{"$f":"_xlfn.XLOOKUP(F47905,'Object Codes'!$A$18:$A$510,'Object Codes'!$H$18:$H$510)","v":"Contractual Services"},{"$f":"_xlfn.XLOOKUP(F47905,'Object Codes'!$A$18:$A$510,'Object Codes'!$G$18:$G$510)","v":0},{"$f":"_xlfn.XLOOKUP(A47905,Agencies!$A$9:$A$146,Agencies!$B$9:$B$146)","v":"Public Safety & Judicial"},{"$f":"IF(_xlfn.XLOOKUP(A47905,Agencies!A:A,Agencies!D:D)=\"Y\",IF(_xlfn.XLOOKUP(F47905,'Object Codes'!A:A,'Object Codes'!I:I)=\"Y\",\"Y\",\"N\"),\"N\")","v":"Y"},{"$f":"VLOOKUP(F47905,'Object Codes'!$A:$C,3,0)","v":"Transportation Services - Contractual"},{"$f":"VLOOKUP(A47905,Agencies!A:C,3,0)","v":"Public Administrator- Brooklyn"},15.495397260273972]
["943",2022,"001","002","1000","684",0,0,0,8029,9420,0,0,0,0,0,1537.75,0,1537.75,1537.75,7882.25,1537.75,7882.25,1537.75,1537.75,7882.25,{"$f":"_xlfn.XLOOKUP(F47906,'Object Codes'!$A$18:$A$510,'Object Codes'!$H$18:$H$510)","v":"Contractual Services"},{"$f":"_xlfn.XLOOKUP(F47906,'Object Codes'!$A$18:$A$510,'Object Codes'!$G$18:$G$510)","v":0},{"$f":"_xlfn.XLOOKUP(A47906,Agencies!$A$9:$A$146,Agencies!$B$9:$B$146)","v":"Public Safety & Judicial"},{"$f":"IF(_xlfn.XLOOKUP(A47906,Agencies!A:A,Agencies!D:D)=\"Y\",IF(_xlfn.XLOOKUP(F47906,'Object Codes'!A:A,'Object Codes'!I:I)=\"Y\",\"Y\",\"N\"),\"N\")","v":"Y"},{"$f":"VLOOKUP(F47906,'Object Codes'!$A:$C,3,0)","v":"Professional Services - Computer Services - Contractual"},{"$f":"VLOOKUP(A47906,Agencies!A:C,3,0)","v":"Public Administrator- Brooklyn"},4.213013698630137]
["943",2022,"001","002","P002","499",0,0,0,2275,0,0,0,0,0,0,0,0,0,0,0,0,0,0,0,0,{"$f":"_xlfn.XLOOKUP(F47907,'Object Codes'!$A$18:$A$510,'Object Codes'!$H$18:$H$510)","v":"Other Services and Charges - General"},{"$f":"_xlfn.XLOOKUP(F47907,'Object Codes'!$A$18:$A$510,'Object Codes'!$G$18:$G$510)","v":0},{"$f":"_xlfn.XLOOKUP(A47907,Agencies!$A$9:$A$146,Agencies!$B$9:$B$146)","v":"Public Safety & Judicial"},{"$f":"IF(_xlfn.XLOOKUP(A47907,Agencies!A:A,Agencies!D:D)=\"Y\",IF(_xlfn.XLOOKUP(F47907,'Object Codes'!A:A,'Object Codes'!I:I)=\"Y\",\"Y\",\"N\"),\"N\")","v":"Y"},{"$f":"VLOOKUP(F47907,'Object Codes'!$A:$C,3,0)","v":"Other Expenditures - General"},{"$f":"VLOOKUP(A47907,Agencies!A:C,3,0)","v":"Public Administrator- Brooklyn"},0]
["944",2022,"001","001","1000","001",0,8,8,610610,590610,0,0,0,0,0,580103.68000000005,0,580103.68000000005,580103.68000000005,10506.32,580103.68000000005,10506.32,580103.68000000005,580103.68000000005,10506.32,{"$f":"_xlfn.XLOOKUP(F47908,'Object Codes'!$A$18:$A$510,'Object Codes'!$H$18:$H$510)","v":"PS - Regular"},{"$f":"_xlfn.XLOOKUP(F47908,'Object Codes'!$A$18:$A$510,'Object Codes'!$G$18:$G$510)","v":"C"},{"$f":"_xlfn.XLOOKUP(A47908,Agencies!$A$9:$A$146,Agencies!$B$9:$B$146)","v":"Public Safety & Judicial"},{"$f":"IF(_xlfn.XLOOKUP(A47908,Agencies!A:A,Agencies!D:D)=\"Y\",IF(_xlfn.XLOOKUP(F47908,'Object Codes'!A:A,'Object Codes'!I:I)=\"Y\",\"Y\",\"N\"),\"N\")","v":"Y"},{"$f":"VLOOKUP(F47908,'Object Codes'!$A:$C,3,0)","v":"Full Year Positions"},{"$f":"VLOOKUP(A47908,Agencies!A:C,3,0)","v":"Public Administrator - Queens"},1589.3251506849317]
["944",2022,"001","001","1000","049",0,0,0,0,0,0,0,0,0,0,27.62,0,27.62,27.62,-27.62,27.62,-27.62,27.62,27.62,-27.62,{"$f":"_xlfn.XLOOKUP(F47909,'Object Codes'!$A$18:$A$510,'Object Codes'!$H$18:$H$510)","v":"PS - Additional Gross"},{"$f":"_xlfn.XLOOKUP(F47909,'Object Codes'!$A$18:$A$510,'Object Codes'!$G$18:$G$510)","v":"A"},{"$f":"_xlfn.XLOOKUP(A47909,Agencies!$A$9:$A$146,Agencies!$B$9:$B$146)","v":"Public Safety & Judicial"},{"$f":"IF(_xlfn.XLOOKUP(A47909,Agencies!A:A,Agencies!D:D)=\"Y\",IF(_xlfn.XLOOKUP(F47909,'Object Codes'!A:A,'Object Codes'!I:I)=\"Y\",\"Y\",\"N\"),\"N\")","v":"Y"},{"$f":"VLOOKUP(F47909,'Object Codes'!$A:$C,3,0)","v":"Backpay"},{"$f":"VLOOKUP(A47909,Agencies!A:C,3,0)","v":"Public Administrator - Queens"},7.5671232876712333E-2]
["944",2022,"001","001","1000","057",0,0,0,0,500,0,0,0,0,0,500,0,500,500,0,500,0,500,500,0,{"$f":"_xlfn.XLOOKUP(F47910,'Object Codes'!$A$18:$A$510,'Object Codes'!$H$18:$H$510)","v":"PS - Additional Gross"},{"$f":"_xlfn.XLOOKUP(F47910,'Object Codes'!$A$18:$A$510,'Object Codes'!$G$18:$G$510)","v":"A"},{"$f":"_xlfn.XLOOKUP(A47910,Agencies!$A$9:$A$146,Agencies!$B$9:$B$146)","v":"Public Safety & Judicial"},{"$f":"IF(_xlfn.XLOOKUP(A47910,Agencies!A:A,Agencies!D:D)=\"Y\",IF(_xlfn.XLOOKUP(F47910,'Object Codes'!A:A,'Object Codes'!I:I)=\"Y\",\"Y\",\"N\"),\"N\")","v":"Y"},{"$f":"VLOOKUP(F47910,'Object Codes'!$A:$C,3,0)","v":"Bonus Payments"},{"$f":"VLOOKUP(A47910,Agencies!A:C,3,0)","v":"Public Administrator - Queens"},1.3698630136986301]
["944",2022,"001","001","1000","061",0,0,0,0,0,0,0,0,0,0,6250,0,6250,6250,-6250,6250,-6250,6250,6250,-6250,{"$f":"_xlfn.XLOOKUP(F47911,'Object Codes'!$A$18:$A$510,'Object Codes'!$H$18:$H$510)","v":"PS - Additional Gross"},{"$f":"_xlfn.XLOOKUP(F47911,'Object Codes'!$A$18:$A$510,'Object Codes'!$G$18:$G$510)","v":"A"},{"$f":"_xlfn.XLOOKUP(A47911,Agencies!$A$9:$A$146,Agencies!$B$9:$B$146)","v":"Public Safety & Judicial"},{"$f":"IF(_xlfn.XLOOKUP(A47911,Agencies!A:A,Agencies!D:D)=\"Y\",IF(_xlfn.XLOOKUP(F47911,'Object Codes'!A:A,'Object Codes'!I:I)=\"Y\",\"Y\",\"N\"),\"N\")","v":"Y"},{"$f":"VLOOKUP(F47911,'Object Codes'!$A:$C,3,0)","v":"Supper Money"},{"$f":"VLOOKUP(A47911,Agencies!A:C,3,0)","v":"Public Administrator - Queens"},17.123287671232877]
["944",2022,"001","001","P001","001",0,0,0,48041,44917,0,0,0,0,0,0,0,0,0,44917,0,44917,0,0,44917,{"$f":"_xlfn.XLOOKUP(F47912,'Object Codes'!$A$18:$A$510,'Object Codes'!$H$18:$H$510)","v":"PS - Regular"},{"$f":"_xlfn.XLOOKUP(F47912,'Object Codes'!$A$18:$A$510,'Object Codes'!$G$18:$G$510)","v":"C"},{"$f":"_xlfn.XLOOKUP(A47912,Agencies!$A$9:$A$146,Agencies!$B$9:$B$146)","v":"Public Safety & Judicial"},{"$f":"IF(_xlfn.XLOOKUP(A47912,Agencies!A:A,Agencies!D:D)=\"Y\",IF(_xlfn.XLOOKUP(F47912,'Object Codes'!A:A,'Object Codes'!I:I)=\"Y\",\"Y\",\"N\"),\"N\")","v":"Y"},{"$f":"VLOOKUP(F47912,'Object Codes'!$A:$C,3,0)","v":"Full Year Positions"},{"$f":"VLOOKUP(A47912,Agencies!A:C,3,0)","v":"Public Administrator - Queens"},0]
["944",2022,"001","002","1000","100",0,0,0,196,196,0,0,0,0,0,0,0,0,0,196,0,196,0,0,196,{"$f":"_xlfn.XLOOKUP(F47913,'Object Codes'!$A$18:$A$510,'Object Codes'!$H$18:$H$510)","v":"Supplies & Materials"},{"$f":"_xlfn.XLOOKUP(F47913,'Object Codes'!$A$18:$A$510,'Object Codes'!$G$18:$G$510)","v":"A"},{"$f":"_xlfn.XLOOKUP(A47913,Agencies!$A$9:$A$146,Agencies!$B$9:$B$146)","v":"Public Safety & Judicial"},{"$f":"IF(_xlfn.XLOOKUP(A47913,Agencies!A:A,Agencies!D:D)=\"Y\",IF(_xlfn.XLOOKUP(F47913,'Object Codes'!A:A,'Object Codes'!I:I)=\"Y\",\"Y\",\"N\"),\"N\")","v":"Y"},{"$f":"VLOOKUP(F47913,'Object Codes'!$A:$C,3,0)","v":"Supplies and Materials - General"},{"$f":"VLOOKUP(A47913,Agencies!A:C,3,0)","v":"Public Administrator - Queens"},0]
["944",2022,"001","002","1000","400",0,0,0,15000,15756,0,0,0,0,0,15755.8,0,15755.8,15755.8,0.2,15755.8,0.2,15755.8,15755.8,0.2,{"$f":"_xlfn.XLOOKUP(F47914,'Object Codes'!$A$18:$A$510,'Object Codes'!$H$18:$H$510)","v":"Other Services and Charges - General"},{"$f":"_xlfn.XLOOKUP(F47914,'Object Codes'!$A$18:$A$510,'Object Codes'!$G$18:$G$510)","v":0},{"$f":"_xlfn.XLOOKUP(A47914,Agencies!$A$9:$A$146,Agencies!$B$9:$B$146)","v":"Public Safety & Judicial"},{"$f":"IF(_xlfn.XLOOKUP(A47914,Agencies!A:A,Agencies!D:D)=\"Y\",IF(_xlfn.XLOOKUP(F47914,'Object Codes'!A:A,'Object Codes'!I:I)=\"Y\",\"Y\",\"N\"),\"N\")","v":"Y"},{"$f":"VLOOKUP(F47914,'Object Codes'!$A:$C,3,0)","v":"Other Services and Charges - General"},{"$f":"VLOOKUP(A47914,Agencies!A:C,3,0)","v":"Public Administrator - Queens"},43.166575342465748]
["944",2022,"001","002","1000","402",0,0,0,517,517,0,0,0,0,0,0,0,0,0,517,0,517,0,0,517,{"$f":"_xlfn.XLOOKUP(F47915,'Object Codes'!$A$18:$A$510,'Object Codes'!$H$18:$H$510)","v":"Other Services and Charges - General"},{"$f":"_xlfn.XLOOKUP(F47915,'Object Codes'!$A$18:$A$510,'Object Codes'!$G$18:$G$510)","v":0},{"$f":"_xlfn.XLOOKUP(A47915,Agencies!$A$9:$A$146,Agencies!$B$9:$B$146)","v":"Public Safety & Judicial"},{"$f":"IF(_xlfn.XLOOKUP(A47915,Agencies!A:A,Agencies!D:D)=\"Y\",IF(_xlfn.XLOOKUP(F47915,'Object Codes'!A:A,'Object Codes'!I:I)=\"Y\",\"Y\",\"N\"),\"N\")","v":"Y"},{"$f":"VLOOKUP(F47915,'Object Codes'!$A:$C,3,0)","v":"Telephone and Other Communications"},{"$f":"VLOOKUP(A47915,Agencies!A:C,3,0)","v":"Public Administrator - Queens"},0]
["944",2022,"001","002","1000","40B",0,0,0,0,2368,0,0,0,0,0,2186,0,2186,2186,182,2186,182,2186,2186,182,{"$f":"_xlfn.XLOOKUP(F47916,'Object Codes'!$A$18:$A$510,'Object Codes'!$H$18:$H$510)","v":"Other Services and Charges - General"},{"$f":"_xlfn.XLOOKUP(F47916,'Object Codes'!$A$18:$A$510,'Object Codes'!$G$18:$G$510)","v":0},{"$f":"_xlfn.XLOOKUP(A47916,Agencies!$A$9:$A$146,Agencies!$B$9:$B$146)","v":"Public Safety & Judicial"},{"$f":"IF(_xlfn.XLOOKUP(A47916,Agencies!A:A,Agencies!D:D)=\"Y\",IF(_xlfn.XLOOKUP(F47916,'Object Codes'!A:A,'Object Codes'!I:I)=\"Y\",\"Y\",\"N\"),\"N\")","v":"Y"},{"$f":"VLOOKUP(F47916,'Object Codes'!$A:$C,3,0)","v":"TELEPHONE & OTHER COMMUNICATNS"},{"$f":"VLOOKUP(A47916,Agencies!A:C,3,0)","v":"Public Administrator - Queens"},5.9890410958904106]
["945",2022,"001","001","1000","001",0,5,5,473104,478103,0,0,0,0,0,540268.82999999996,0,540268.82999999996,540268.82999999996,-62165.83,540268.82999999996,-62165.83,540268.82999999996,540268.82999999996,-62165.83,{"$f":"_xlfn.XLOOKUP(F47917,'Object Codes'!$A$18:$A$510,'Object Codes'!$H$18:$H$510)","v":"PS - Regular"},{"$f":"_xlfn.XLOOKUP(F47917,'Object Codes'!$A$18:$A$510,'Object Codes'!$G$18:$G$510)","v":"C"},{"$f":"_xlfn.XLOOKUP(A47917,Agencies!$A$9:$A$146,Agencies!$B$9:$B$146)","v":"Public Safety & Judicial"},{"$f":"IF(_xlfn.XLOOKUP(A47917,Agencies!A:A,Agencies!D:D)=\"Y\",IF(_xlfn.XLOOKUP(F47917,'Object Codes'!A:A,'Object Codes'!I:I)=\"Y\",\"Y\",\"N\"),\"N\")","v":"Y"},{"$f":"VLOOKUP(F47917,'Object Codes'!$A:$C,3,0)","v":"Full Year Positions"},{"$f":"VLOOKUP(A47917,Agencies!A:C,3,0)","v":"Public Administrator -Richmond"},1480.1885753424656]
["945",2022,"001","001","1000","031",0,0,0,1171,1171,0,0,0,0,0,0,0,0,0,1171,0,1171,0,0,1171,{"$f":"_xlfn.XLOOKUP(F47918,'Object Codes'!$A$18:$A$510,'Object Codes'!$H$18:$H$510)","v":"PS - Regular"},{"$f":"_xlfn.XLOOKUP(F47918,'Object Codes'!$A$18:$A$510,'Object Codes'!$G$18:$G$510)","v":"C"},{"$f":"_xlfn.XLOOKUP(A47918,Agencies!$A$9:$A$146,Agencies!$B$9:$B$146)","v":"Public Safety & Judicial"},{"$f":"IF(_xlfn.XLOOKUP(A47918,Agencies!A:A,Agencies!D:D)=\"Y\",IF(_xlfn.XLOOKUP(F47918,'Object Codes'!A:A,'Object Codes'!I:I)=\"Y\",\"Y\",\"N\"),\"N\")","v":"Y"},{"$f":"VLOOKUP(F47918,'Object Codes'!$A:$C,3,0)","v":"Hourly Positions"},{"$f":"VLOOKUP(A47918,Agencies!A:C,3,0)","v":"Public Administrator -Richmond"},0]
["945",2022,"001","001","1000","041",0,0,0,609,609,0,0,0,0,0,0,0,0,0,609,0,609,0,0,609,{"$f":"_xlfn.XLOOKUP(F47919,'Object Codes'!$A$18:$A$510,'Object Codes'!$H$18:$H$510)","v":"PS - Additional Gross"},{"$f":"_xlfn.XLOOKUP(F47919,'Object Codes'!$A$18:$A$510,'Object Codes'!$G$18:$G$510)","v":"A"},{"$f":"_xlfn.XLOOKUP(A47919,Agencies!$A$9:$A$146,Agencies!$B$9:$B$146)","v":"Public Safety & Judicial"},{"$f":"IF(_xlfn.XLOOKUP(A47919,Agencies!A:A,Agencies!D:D)=\"Y\",IF(_xlfn.XLOOKUP(F47919,'Object Codes'!A:A,'Object Codes'!I:I)=\"Y\",\"Y\",\"N\"),\"N\")","v":"Y"},{"$f":"VLOOKUP(F47919,'Object Codes'!$A:$C,3,0)","v":"Assignment Differential"},{"$f":"VLOOKUP(A47919,Agencies!A:C,3,0)","v":"Public Administrator -Richmond"},0]
["945",2022,"001","001","1000","061",0,0,0,0,0,0,0,0,0,0,33,0,33,33,-33,33,-33,33,33,-33,{"$f":"_xlfn.XLOOKUP(F47920,'Object Codes'!$A$18:$A$510,'Object Codes'!$H$18:$H$510)","v":"PS - Additional Gross"},{"$f":"_xlfn.XLOOKUP(F47920,'Object Codes'!$A$18:$A$510,'Object Codes'!$G$18:$G$510)","v":"A"},{"$f":"_xlfn.XLOOKUP(A47920,Agencies!$A$9:$A$146,Agencies!$B$9:$B$146)","v":"Public Safety & Judicial"},{"$f":"IF(_xlfn.XLOOKUP(A47920,Agencies!A:A,Agencies!D:D)=\"Y\",IF(_xlfn.XLOOKUP(F47920,'Object Codes'!A:A,'Object Codes'!I:I)=\"Y\",\"Y\",\"N\"),\"N\")","v":"Y"},{"$f":"VLOOKUP(F47920,'Object Codes'!$A:$C,3,0)","v":"Supper Money"},{"$f":"VLOOKUP(A47920,Agencies!A:C,3,0)","v":"Public Administrator -Richmond"},9.0410958904109592E-2]
["945",2022,"001","001","P001","001",0,0,0,60419,60419,0,0,0,0,0,0,0,0,0,60419,0,60419,0,0,60419,{"$f":"_xlfn.XLOOKUP(F47921,'Object Codes'!$A$18:$A$510,'Object Codes'!$H$18:$H$510)","v":"PS - Regular"},{"$f":"_xlfn.XLOOKUP(F47921,'Object Codes'!$A$18:$A$510,'Object Codes'!$G$18:$G$510)","v":"C"},{"$f":"_xlfn.XLOOKUP(A47921,Agencies!$A$9:$A$146,Agencies!$B$9:$B$146)","v":"Public Safety & Judicial"},{"$f":"IF(_xlfn.XLOOKUP(A47921,Agencies!A:A,Agencies!D:D)=\"Y\",IF(_xlfn.XLOOKUP(F47921,'Object Codes'!A:A,'Object Codes'!I:I)=\"Y\",\"Y\",\"N\"),\"N\")","v":"Y"},{"$f":"VLOOKUP(F47921,'Object Codes'!$A:$C,3,0)","v":"Full Year Positions"},{"$f":"VLOOKUP(A47921,Agencies!A:C,3,0)","v":"Public Administrator -Richmond"},0]
["945",2022,"001","002","1000","100",0,0,0,3756,3756,0,0,0,0,0,3748.37,0,3748.37,3748.37,7.63,3748.37,7.63,3748.37,3748.37,7.63,{"$f":"_xlfn.XLOOKUP(F47922,'Object Codes'!$A$18:$A$510,'Object Codes'!$H$18:$H$510)","v":"Supplies & Materials"},{"$f":"_xlfn.XLOOKUP(F47922,'Object Codes'!$A$18:$A$510,'Object Codes'!$G$18:$G$510)","v":"A"},{"$f":"_xlfn.XLOOKUP(A47922,Agencies!$A$9:$A$146,Agencies!$B$9:$B$146)","v":"Public Safety & Judicial"},{"$f":"IF(_xlfn.XLOOKUP(A47922,Agencies!A:A,Agencies!D:D)=\"Y\",IF(_xlfn.XLOOKUP(F47922,'Object Codes'!A:A,'Object Codes'!I:I)=\"Y\",\"Y\",\"N\"),\"N\")","v":"Y"},{"$f":"VLOOKUP(F47922,'Object Codes'!$A:$C,3,0)","v":"Supplies and Materials - General"},{"$f":"VLOOKUP(A47922,Agencies!A:C,3,0)","v":"Public Administrator -Richmond"},10.269506849315068]
["945",2022,"001","002","1000","117",0,0,0,1606,1000,0,0,0,0,0,0,0,0,0,1000,0,1000,0,0,1000,{"$f":"_xlfn.XLOOKUP(F47923,'Object Codes'!$A$18:$A$510,'Object Codes'!$H$18:$H$510)","v":"Supplies & Materials"},{"$f":"_xlfn.XLOOKUP(F47923,'Object Codes'!$A$18:$A$510,'Object Codes'!$G$18:$G$510)","v":"A"},{"$f":"_xlfn.XLOOKUP(A47923,Agencies!$A$9:$A$146,Agencies!$B$9:$B$146)","v":"Public Safety & Judicial"},{"$f":"IF(_xlfn.XLOOKUP(A47923,Agencies!A:A,Agencies!D:D)=\"Y\",IF(_xlfn.XLOOKUP(F47923,'Object Codes'!A:A,'Object Codes'!I:I)=\"Y\",\"Y\",\"N\"),\"N\")","v":"Y"},{"$f":"VLOOKUP(F47923,'Object Codes'!$A:$C,3,0)","v":"Postage"},{"$f":"VLOOKUP(A47923,Agencies!A:C,3,0)","v":"Public Administrator -Richmond"},0]
["945",2022,"001","002","1000","315",0,0,0,1450,950,0,0,0,0,0,0,0,0,0,950,0,950,0,0,950,{"$f":"_xlfn.XLOOKUP(F47924,'Object Codes'!$A$18:$A$510,'Object Codes'!$H$18:$H$510)","v":"Equipment"},{"$f":"_xlfn.XLOOKUP(F47924,'Object Codes'!$A$18:$A$510,'Object Codes'!$G$18:$G$510)","v":"A"},{"$f":"_xlfn.XLOOKUP(A47924,Agencies!$A$9:$A$146,Agencies!$B$9:$B$146)","v":"Public Safety & Judicial"},{"$f":"IF(_xlfn.XLOOKUP(A47924,Agencies!A:A,Agencies!D:D)=\"Y\",IF(_xlfn.XLOOKUP(F47924,'Object Codes'!A:A,'Object Codes'!I:I)=\"Y\",\"Y\",\"N\"),\"N\")","v":"Y"},{"$f":"VLOOKUP(F47924,'Object Codes'!$A:$C,3,0)","v":"Office Equipment"},{"$f":"VLOOKUP(A47924,Agencies!A:C,3,0)","v":"Public Administrator -Richmond"},0]
["945",2022,"001","002","1000","400",0,0,0,0,10002,0,0,0,0,0,9500,0,9500,9500,502,9500,502,9500,9500,502,{"$f":"_xlfn.XLOOKUP(F47925,'Object Codes'!$A$18:$A$510,'Object Codes'!$H$18:$H$510)","v":"Other Services and Charges - General"},{"$f":"_xlfn.XLOOKUP(F47925,'Object Codes'!$A$18:$A$510,'Object Codes'!$G$18:$G$510)","v":0},{"$f":"_xlfn.XLOOKUP(A47925,Agencies!$A$9:$A$146,Agencies!$B$9:$B$146)","v":"Public Safety & Judicial"},{"$f":"IF(_xlfn.XLOOKUP(A47925,Agencies!A:A,Agencies!D:D)=\"Y\",IF(_xlfn.XLOOKUP(F47925,'Object Codes'!A:A,'Object Codes'!I:I)=\"Y\",\"Y\",\"N\"),\"N\")","v":"Y"},{"$f":"VLOOKUP(F47925,'Object Codes'!$A:$C,3,0)","v":"Other Services and Charges - General"},{"$f":"VLOOKUP(A47925,Agencies!A:C,3,0)","v":"Public Administrator -Richmond"},26.027397260273972]
["945",2022,"001","002","1000","402",0,0,0,11007,2628,0,0,0,0,0,289.08999999999997,0,289.08999999999997,289.08999999999997,2338.91,289.08999999999997,2338.91,289.08999999999997,289.08999999999997,2338.91,{"$f":"_xlfn.XLOOKUP(F47926,'Object Codes'!$A$18:$A$510,'Object Codes'!$H$18:$H$510)","v":"Other Services and Charges - General"},{"$f":"_xlfn.XLOOKUP(F47926,'Object Codes'!$A$18:$A$510,'Object Codes'!$G$18:$G$510)","v":0},{"$f":"_xlfn.XLOOKUP(A47926,Agencies!$A$9:$A$146,Agencies!$B$9:$B$146)","v":"Public Safety & Judicial"},{"$f":"IF(_xlfn.XLOOKUP(A47926,Agencies!A:A,Agencies!D:D)=\"Y\",IF(_xlfn.XLOOKUP(F47926,'Object Codes'!A:A,'Object Codes'!I:I)=\"Y\",\"Y\",\"N\"),\"N\")","v":"Y"},{"$f":"VLOOKUP(F47926,'Object Codes'!$A:$C,3,0)","v":"Telephone and Other Communications"},{"$f":"VLOOKUP(A47926,Agencies!A:C,3,0)","v":"Public Administrator -Richmond"},0.79202739726027394]
["945",2022,"001","002","1000","403",0,0,0,2460,2214,0,0,0,0,0,1212.99,0,1212.99,1212.99,1001.01,1212.99,1001.01,1212.99,1212.99,1001.01,{"$f":"_xlfn.XLOOKUP(F47927,'Object Codes'!$A$18:$A$510,'Object Codes'!$H$18:$H$510)","v":"Other Services and Charges - General"},{"$f":"_xlfn.XLOOKUP(F47927,'Object Codes'!$A$18:$A$510,'Object Codes'!$G$18:$G$510)","v":0},{"$f":"_xlfn.XLOOKUP(A47927,Agencies!$A$9:$A$146,Agencies!$B$9:$B$146)","v":"Public Safety & Judicial"},{"$f":"IF(_xlfn.XLOOKUP(A47927,Agencies!A:A,Agencies!D:D)=\"Y\",IF(_xlfn.XLOOKUP(F47927,'Object Codes'!A:A,'Object Codes'!I:I)=\"Y\",\"Y\",\"N\"),\"N\")","v":"Y"},{"$f":"VLOOKUP(F47927,'Object Codes'!$A:$C,3,0)","v":"Office Services"},{"$f":"VLOOKUP(A47927,Agencies!A:C,3,0)","v":"Public Administrator -Richmond"},3.3232602739726027]
["945",2022,"001","002","1000","40B",0,0,0,0,5485,0,0,0,0,0,5282,0,5282,5282,203,5282,203,5282,5282,203,{"$f":"_xlfn.XLOOKUP(F47928,'Object Codes'!$A$18:$A$510,'Object Codes'!$H$18:$H$510)","v":"Other Services and Charges - General"},{"$f":"_xlfn.XLOOKUP(F47928,'Object Codes'!$A$18:$A$510,'Object Codes'!$G$18:$G$510)","v":0},{"$f":"_xlfn.XLOOKUP(A47928,Agencies!$A$9:$A$146,Agencies!$B$9:$B$146)","v":"Public Safety & Judicial"},{"$f":"IF(_xlfn.XLOOKUP(A47928,Agencies!A:A,Agencies!D:D)=\"Y\",IF(_xlfn.XLOOKUP(F47928,'Object Codes'!A:A,'Object Codes'!I:I)=\"Y\",\"Y\",\"N\"),\"N\")","v":"Y"},{"$f":"VLOOKUP(F47928,'Object Codes'!$A:$C,3,0)","v":"TELEPHONE & OTHER COMMUNICATNS"},{"$f":"VLOOKUP(A47928,Agencies!A:C,3,0)","v":"Public Administrator -Richmond"},14.471232876712328]
["945",2022,"001","002","1000","42C",0,0,0,6911,9009,0,0,0,0,0,7640.5,0,7640.5,7640.5,1368.5,7640.5,1368.5,7640.5,7640.5,1368.5,{"$f":"_xlfn.XLOOKUP(F47929,'Object Codes'!$A$18:$A$510,'Object Codes'!$H$18:$H$510)","v":"Heat, Light, and Power"},{"$f":"_xlfn.XLOOKUP(F47929,'Object Codes'!$A$18:$A$510,'Object Codes'!$G$18:$G$510)","v":0},{"$f":"_xlfn.XLOOKUP(A47929,Agencies!$A$9:$A$146,Agencies!$B$9:$B$146)","v":"Public Safety & Judicial"},{"$f":"IF(_xlfn.XLOOKUP(A47929,Agencies!A:A,Agencies!D:D)=\"Y\",IF(_xlfn.XLOOKUP(F47929,'Object Codes'!A:A,'Object Codes'!I:I)=\"Y\",\"Y\",\"N\"),\"N\")","v":"Y"},{"$f":"VLOOKUP(F47929,'Object Codes'!$A:$C,3,0)","v":"HEAT LIGHT & POWER"},{"$f":"VLOOKUP(A47929,Agencies!A:C,3,0)","v":"Public Administrator -Richmond"},20.932876712328767]
["945",2022,"001","002","1000","499",0,0,0,8688,0,0,0,0,0,0,0,0,0,0,0,0,0,0,0,0,{"$f":"_xlfn.XLOOKUP(F47930,'Object Codes'!$A$18:$A$510,'Object Codes'!$H$18:$H$510)","v":"Other Services and Charges - General"},{"$f":"_xlfn.XLOOKUP(F47930,'Object Codes'!$A$18:$A$510,'Object Codes'!$G$18:$G$510)","v":0},{"$f":"_xlfn.XLOOKUP(A47930,Agencies!$A$9:$A$146,Agencies!$B$9:$B$146)","v":"Public Safety & Judicial"},{"$f":"IF(_xlfn.XLOOKUP(A47930,Agencies!A:A,Agencies!D:D)=\"Y\",IF(_xlfn.XLOOKUP(F47930,'Object Codes'!A:A,'Object Codes'!I:I)=\"Y\",\"Y\",\"N\"),\"N\")","v":"Y"},{"$f":"VLOOKUP(F47930,'Object Codes'!$A:$C,3,0)","v":"Other Expenditures - General"},{"$f":"VLOOKUP(A47930,Agencies!A:C,3,0)","v":"Public Administrator -Richmond"},0]
["945",2022,"001","002","1000","600",0,0,0,0,25000,0,0,0,0,0,24872.23,0,24872.23,24872.23,127.77,24872.23,127.77,24872.23,24872.23,127.77,{"$f":"_xlfn.XLOOKUP(F47931,'Object Codes'!$A$18:$A$510,'Object Codes'!$H$18:$H$510)","v":"Contractual Services"},{"$f":"_xlfn.XLOOKUP(F47931,'Object Codes'!$A$18:$A$510,'Object Codes'!$G$18:$G$510)","v":0},{"$f":"_xlfn.XLOOKUP(A47931,Agencies!$A$9:$A$146,Agencies!$B$9:$B$146)","v":"Public Safety & Judicial"},{"$f":"IF(_xlfn.XLOOKUP(A47931,Agencies!A:A,Agencies!D:D)=\"Y\",IF(_xlfn.XLOOKUP(F47931,'Object Codes'!A:A,'Object Codes'!I:I)=\"Y\",\"Y\",\"N\"),\"N\")","v":"Y"},{"$f":"VLOOKUP(F47931,'Object Codes'!$A:$C,3,0)","v":"Contractual Services - General"},{"$f":"VLOOKUP(A47931,Agencies!A:C,3,0)","v":"Public Administrator -Richmond"},68.143095890410962]
["945",2022,"001","002","P002","499",0,0,0,26314,0,0,0,0,0,0,0,0,0,0,0,0,0,0,0,0,{"$f":"_xlfn.XLOOKUP(F47932,'Object Codes'!$A$18:$A$510,'Object Codes'!$H$18:$H$510)","v":"Other Services and Charges - General"},{"$f":"_xlfn.XLOOKUP(F47932,'Object Codes'!$A$18:$A$510,'Object Codes'!$G$18:$G$510)","v":0},{"$f":"_xlfn.XLOOKUP(A47932,Agencies!$A$9:$A$146,Agencies!$B$9:$B$146)","v":"Public Safety & Judicial"},{"$f":"IF(_xlfn.XLOOKUP(A47932,Agencies!A:A,Agencies!D:D)=\"Y\",IF(_xlfn.XLOOKUP(F47932,'Object Codes'!A:A,'Object Codes'!I:I)=\"Y\",\"Y\",\"N\"),\"N\")","v":"Y"},{"$f":"VLOOKUP(F47932,'Object Codes'!$A:$C,3,0)","v":"Other Expenditures - General"},{"$f":"VLOOKUP(A47932,Agencies!A:C,3,0)","v":"Public Administrator -Richmond"},0]